{"text_format":"1","workbook":"xlsx","n_sheets":2,"sheets":["MINIMES GARCONS et FILLES","Feuil1"],"not_rendered":{"charts":0,"images":0,"macros":1,"external_links":0,"defined_names":2,"comments":1,"pivot_tables":0},"unopened":[],"bounds":{"document_bytes":16777216,"sheet_cells":100000,"rows_first":2000,"rows_last":500,"rows_between":2000,"halvings":0,"cell_chars":16384,"cell_head_chars":4096},"cells_cut":0,"cells_raw":0,"read":"whole","date_system":"1900"}

{"sheet":"MINIMES GARCONS et FILLES","index":0,"n_rows":624,"n_cols":52,"rows_kept":624,"cut":false,"hidden":false,"merged":[[0,24,1,24],[1,7,1,8],[1,9,1,11],[1,12,1,15],[1,17,1,18],[1,19,1,20],[1,21,1,23],[2,21,2,22],[0,2,0,10],[0,17,0,18],[0,19,0,20],[0,21,0,22],[113,3,113,5],[113,14,113,17],[113,20,113,22],[101,8,103,8],[104,8,106,8],[107,8,109,8],[112,3,112,5],[112,14,112,17],[112,20,112,22]]}
[null,null,"LISTING  BENJAMINS MINIMES",null,null,null,null,null,null,null,null,null," ",null,null,null,null," ",null,null,null,null,null,null,"BENJAMINSMINIMES "]
[null,null,null,null,null,null," ",null,null,"REGION :",null,null,null,null,null,null,null,"Date :"]
["SEXE"," ","REG.","LICENCE","NAT","Place","NOMS","Prénoms","CLUB","AN","POIDS",1,2,3,"ARR",1,2,3,"EP-J","TOTAL","IWF",null,null,"Catég"," ","DEP +","REG +","IRG +","FED +","NAT +","INTB +","INTA +","OLY +","NCL"]
["F",null,null,null,null,null,null,null,null,null,null,null,null,null,{"$f":"IF(MAXA(L4,M4,N4)=MAXA(L4+M4,M4+N4,L4+N4,L4,M4,N4),0,MAXA(L4+M4,M4+N4,L4+N4,L4,M4,N4))","v":0},null,null,null,{"$f":"IF(MAXA(P4,Q4,R4)=MAXA(P4+Q4,Q4+R4,P4+R4,P4,Q4,R4),0,MAXA(P4+Q4,Q4+R4,P4+R4,P4,Q4,R4))","v":0},{"$f":"IF(K4=\"\",\"\",IF(OR(O4=0,S4=0),0,O4+S4))","v":""},{"$f":"IF(K4=\"\",\"\",IF(A4=\"H\",10^(0.794358141*LOG(K4/174.393)^2)*T4,IF(A4=\"F\",10^(0.794358141 * LOG(K4/174.393)^2)*T4,\"\")))","v":""},null,null,{"$f":"IF(A4=\"F\",(IF(AND(J4>2003,J4<2007),VLOOKUP(K4,Feuil1!$H$11:$N$25,3),VLOOKUP(K4,Feuil1!$H$11:$N$25,2))),IF(A4=\"H\",(IF(AND(J4>2003,J4<2007),VLOOKUP(K4,Feuil1!$A$11:$G$29,3),VLOOKUP(K4,Feuil1!$A$11:$G$29,2)))))","v":{"$error":"#N/A"}},null,{"$f":"T4-HLOOKUP(X4,#REF!,2,FALSE)","v":{"$error":"#VALUE!"}},{"$f":"T4-HLOOKUP(X4,#REF!,3,FALSE)","v":{"$error":"#VALUE!"}},{"$f":"T4-HLOOKUP(X4,#REF!,4,FALSE)","v":{"$error":"#VALUE!"}},{"$f":"T4-HLOOKUP(X4,#REF!,5,FALSE)","v":{"$error":"#VALUE!"}},{"$f":"T4-HLOOKUP(X4,#REF!,6,FALSE)","v":{"$error":"#VALUE!"}},{"$f":"T4-HLOOKUP(X4,#REF!,7,FALSE)","v":{"$error":"#VALUE!"}},{"$f":"T4-HLOOKUP(X4,#REF!,8,FALSE)","v":{"$error":"#VALUE!"}},{"$f":"T4-HLOOKUP(X4,#REF!,9,FALSE)","v":{"$error":"#VALUE!"}},null,null,null,null,null,null,null,{"$f":"IF(AG4>=0,$AG$3,IF(AF4>=0,$AF$3,IF(AE4>=0,$AE$3,IF(AD4>=0,$AD$3,IF(AC4>=0,$AC$3,IF(AB4>=0,$AB$3,IF(AA4>=0,$AA$3,IF(Z4>=0,$Z$3,$AH$3))))))))","v":{"$error":"#VALUE!"}}]
["F",null,null,null,null,null,null,null,null,null,null,null,null,null,0,null,null,null,0,"","",null,null,{"$f":"IF(A5=\"F\",(IF(AND(J5>2003,J5<2007),VLOOKUP(K5,Feuil1!$H$11:$N$25,3),VLOOKUP(K5,Feuil1!$H$11:$N$25,2))),IF(A5=\"H\",(IF(AND(J5>2003,J5<2007),VLOOKUP(K5,Feuil1!$A$11:$G$29,3),VLOOKUP(K5,Feuil1!$A$11:$G$29,2)))))","v":{"$error":"#N/A"}},null,{"$f":"T5-HLOOKUP(X5,#REF!,2,FALSE)","v":{"$error":"#VALUE!"}},{"$f":"T5-HLOOKUP(X5,#REF!,3,FALSE)","v":{"$error":"#VALUE!"}},{"$f":"T5-HLOOKUP(X5,#REF!,4,FALSE)","v":{"$error":"#VALUE!"}},{"$f":"T5-HLOOKUP(X5,#REF!,5,FALSE)","v":{"$error":"#VALUE!"}},{"$f":"T5-HLOOKUP(X5,#REF!,6,FALSE)","v":{"$error":"#VALUE!"}},{"$f":"T5-HLOOKUP(X5,#REF!,7,FALSE)","v":{"$error":"#VALUE!"}},{"$f":"T5-HLOOKUP(X5,#REF!,8,FALSE)","v":{"$error":"#VALUE!"}},{"$f":"T5-HLOOKUP(X5,#REF!,9,FALSE)","v":{"$error":"#VALUE!"}},null,null,null,null,null,null,null,{"$error":"#VALUE!"}]
["F",null,null,null,null,null,null,null,null,null,null,null,null,null,0,null,null,null,0,"","",null,null,{"$f":"IF(A6=\"F\",(IF(AND(J6>2003,J6<2007),VLOOKUP(K6,Feuil1!$H$11:$N$25,3),VLOOKUP(K6,Feuil1!$H$11:$N$25,2))),IF(A6=\"H\",(IF(AND(J6>2003,J6<2007),VLOOKUP(K6,Feuil1!$A$11:$G$29,3),VLOOKUP(K6,Feuil1!$A$11:$G$29,2)))))","v":{"$error":"#N/A"}},null,{"$f":"T6-HLOOKUP(X6,#REF!,2,FALSE)","v":{"$error":"#VALUE!"}},{"$f":"T6-HLOOKUP(X6,#REF!,3,FALSE)","v":{"$error":"#VALUE!"}},{"$f":"T6-HLOOKUP(X6,#REF!,4,FALSE)","v":{"$error":"#VALUE!"}},{"$f":"T6-HLOOKUP(X6,#REF!,5,FALSE)","v":{"$error":"#VALUE!"}},{"$f":"T6-HLOOKUP(X6,#REF!,6,FALSE)","v":{"$error":"#VALUE!"}},{"$f":"T6-HLOOKUP(X6,#REF!,7,FALSE)","v":{"$error":"#VALUE!"}},{"$f":"T6-HLOOKUP(X6,#REF!,8,FALSE)","v":{"$error":"#VALUE!"}},{"$f":"T6-HLOOKUP(X6,#REF!,9,FALSE)","v":{"$error":"#VALUE!"}},null,null,null,null,null,null,null,{"$error":"#VALUE!"},null,null,null,null,null,null,null,null,null,null,{"$f":"#REF!","v":{"$error":"#REF!"}}]
["F",null,null,null,null,null,null,null,null,null,null,null,null,null,0,null,null,null,0,"","",null,null,{"$f":"IF(A7=\"F\",(IF(AND(J7>2003,J7<2007),VLOOKUP(K7,Feuil1!$H$11:$N$25,3),VLOOKUP(K7,Feuil1!$H$11:$N$25,2))),IF(A7=\"H\",(IF(AND(J7>2003,J7<2007),VLOOKUP(K7,Feuil1!$A$11:$G$29,3),VLOOKUP(K7,Feuil1!$A$11:$G$29,2)))))","v":{"$error":"#N/A"}},null,{"$f":"T7-HLOOKUP(X7,#REF!,2,FALSE)","v":{"$error":"#VALUE!"}},{"$f":"T7-HLOOKUP(X7,#REF!,3,FALSE)","v":{"$error":"#VALUE!"}},{"$f":"T7-HLOOKUP(X7,#REF!,4,FALSE)","v":{"$error":"#VALUE!"}},{"$f":"T7-HLOOKUP(X7,#REF!,5,FALSE)","v":{"$error":"#VALUE!"}},{"$f":"T7-HLOOKUP(X7,#REF!,6,FALSE)","v":{"$error":"#VALUE!"}},{"$f":"T7-HLOOKUP(X7,#REF!,7,FALSE)","v":{"$error":"#VALUE!"}},{"$f":"T7-HLOOKUP(X7,#REF!,8,FALSE)","v":{"$error":"#VALUE!"}},{"$f":"T7-HLOOKUP(X7,#REF!,9,FALSE)","v":{"$error":"#VALUE!"}},null,null,null,null,null,null,null,{"$error":"#VALUE!"},null,null,null,null,null,null,null,null,null,null,{"$f":"#REF!","v":{"$error":"#REF!"}}]
["F",null,null,null,null,null,null,null,null,null,null,null,null,null,0,null,null,null,0,"","",null,null,{"$f":"IF(A8=\"F\",(IF(AND(J8>2003,J8<2007),VLOOKUP(K8,Feuil1!$H$11:$N$25,3),VLOOKUP(K8,Feuil1!$H$11:$N$25,2))),IF(A8=\"H\",(IF(AND(J8>2003,J8<2007),VLOOKUP(K8,Feuil1!$A$11:$G$29,3),VLOOKUP(K8,Feuil1!$A$11:$G$29,2)))))","v":{"$error":"#N/A"}},null,{"$f":"T8-HLOOKUP(X8,#REF!,2,FALSE)","v":{"$error":"#VALUE!"}},{"$f":"T8-HLOOKUP(X8,#REF!,3,FALSE)","v":{"$error":"#VALUE!"}},{"$f":"T8-HLOOKUP(X8,#REF!,4,FALSE)","v":{"$error":"#VALUE!"}},{"$f":"T8-HLOOKUP(X8,#REF!,5,FALSE)","v":{"$error":"#VALUE!"}},{"$f":"T8-HLOOKUP(X8,#REF!,6,FALSE)","v":{"$error":"#VALUE!"}},{"$f":"T8-HLOOKUP(X8,#REF!,7,FALSE)","v":{"$error":"#VALUE!"}},{"$f":"T8-HLOOKUP(X8,#REF!,8,FALSE)","v":{"$error":"#VALUE!"}},{"$f":"T8-HLOOKUP(X8,#REF!,9,FALSE)","v":{"$error":"#VALUE!"}},null,null,null,null,null,null,null,{"$error":"#VALUE!"},null,null,null,null,null,null,null,null,null,null,{"$f":"#REF!","v":{"$error":"#REF!"}}]
["F",null,null,null,null,null,null,null,null,null,null,null,null,null,0,null,null,null,0,"","",null,null,{"$f":"IF(A9=\"F\",(IF(AND(J9>2003,J9<2007),VLOOKUP(K9,Feuil1!$H$11:$N$25,3),VLOOKUP(K9,Feuil1!$H$11:$N$25,2))),IF(A9=\"H\",(IF(AND(J9>2003,J9<2007),VLOOKUP(K9,Feuil1!$A$11:$G$29,3),VLOOKUP(K9,Feuil1!$A$11:$G$29,2)))))","v":{"$error":"#N/A"}},null,{"$f":"T9-HLOOKUP(X9,#REF!,2,FALSE)","v":{"$error":"#VALUE!"}},{"$f":"T9-HLOOKUP(X9,#REF!,3,FALSE)","v":{"$error":"#VALUE!"}},{"$f":"T9-HLOOKUP(X9,#REF!,4,FALSE)","v":{"$error":"#VALUE!"}},{"$f":"T9-HLOOKUP(X9,#REF!,5,FALSE)","v":{"$error":"#VALUE!"}},{"$f":"T9-HLOOKUP(X9,#REF!,6,FALSE)","v":{"$error":"#VALUE!"}},{"$f":"T9-HLOOKUP(X9,#REF!,7,FALSE)","v":{"$error":"#VALUE!"}},{"$f":"T9-HLOOKUP(X9,#REF!,8,FALSE)","v":{"$error":"#VALUE!"}},{"$f":"T9-HLOOKUP(X9,#REF!,9,FALSE)","v":{"$error":"#VALUE!"}},null,null,null,null,null,null,null,{"$error":"#VALUE!"},null,null,null,null,null,null,null,null,null,null,{"$f":"#REF!","v":{"$error":"#REF!"}}]
["F",null,null,null,null,null,null,null,null,null,null,null,null,null,0,null,null,null,0,"",{"$f":"IF(K10=\"\",\"\",IF(A10=\"H\",10^(0.794358141*LOG(K10/174.393)^2)*T10,IF(A10=\"F\",10^(0.794358141 * LOG(K10/174.393)^2)*T10,\"\")))","v":""},null,null,{"$f":"IF(A10=\"F\",(IF(AND(J10>2003,J10<2007),VLOOKUP(K10,Feuil1!$H$11:$N$25,3),VLOOKUP(K10,Feuil1!$H$11:$N$25,2))),IF(A10=\"H\",(IF(AND(J10>2003,J10<2007),VLOOKUP(K10,Feuil1!$A$11:$G$29,3),VLOOKUP(K10,Feuil1!$A$11:$G$29,2)))))","v":{"$error":"#N/A"}},null,{"$f":"T10-HLOOKUP(X10,#REF!,2,FALSE)","v":{"$error":"#VALUE!"}},{"$f":"T10-HLOOKUP(X10,#REF!,3,FALSE)","v":{"$error":"#VALUE!"}},{"$f":"T10-HLOOKUP(X10,#REF!,4,FALSE)","v":{"$error":"#VALUE!"}},{"$f":"T10-HLOOKUP(X10,#REF!,5,FALSE)","v":{"$error":"#VALUE!"}},{"$f":"T10-HLOOKUP(X10,#REF!,6,FALSE)","v":{"$error":"#VALUE!"}},{"$f":"T10-HLOOKUP(X10,#REF!,7,FALSE)","v":{"$error":"#VALUE!"}},{"$f":"T10-HLOOKUP(X10,#REF!,8,FALSE)","v":{"$error":"#VALUE!"}},{"$f":"T10-HLOOKUP(X10,#REF!,9,FALSE)","v":{"$error":"#VALUE!"}},null,null,null,null,null,null,null,{"$f":"IF(AG10>=0,$AG$3,IF(AF10>=0,$AF$3,IF(AE10>=0,$AE$3,IF(AD10>=0,$AD$3,IF(AC10>=0,$AC$3,IF(AB10>=0,$AB$3,IF(AA10>=0,$AA$3,IF(Z10>=0,$Z$3,$AH$3))))))))","v":{"$error":"#VALUE!"}},null,null,null,null,null,null,null,null,null,null,{"$f":"#REF!","v":{"$error":"#REF!"}}]
["F",null,null,null,null,null,null,null,null,null,null,null,null,null,0,null,null,null,0,"","",null,null,{"$f":"IF(A11=\"F\",(IF(AND(J11>2003,J11<2007),VLOOKUP(K11,Feuil1!$H$11:$N$25,3),VLOOKUP(K11,Feuil1!$H$11:$N$25,2))),IF(A11=\"H\",(IF(AND(J11>2003,J11<2007),VLOOKUP(K11,Feuil1!$A$11:$G$29,3),VLOOKUP(K11,Feuil1!$A$11:$G$29,2)))))","v":{"$error":"#N/A"}},null,{"$f":"T11-HLOOKUP(X11,#REF!,2,FALSE)","v":{"$error":"#VALUE!"}},{"$f":"T11-HLOOKUP(X11,#REF!,3,FALSE)","v":{"$error":"#VALUE!"}},{"$f":"T11-HLOOKUP(X11,#REF!,4,FALSE)","v":{"$error":"#VALUE!"}},{"$f":"T11-HLOOKUP(X11,#REF!,5,FALSE)","v":{"$error":"#VALUE!"}},{"$f":"T11-HLOOKUP(X11,#REF!,6,FALSE)","v":{"$error":"#VALUE!"}},{"$f":"T11-HLOOKUP(X11,#REF!,7,FALSE)","v":{"$error":"#VALUE!"}},{"$f":"T11-HLOOKUP(X11,#REF!,8,FALSE)","v":{"$error":"#VALUE!"}},{"$f":"T11-HLOOKUP(X11,#REF!,9,FALSE)","v":{"$error":"#VALUE!"}},null,null,null,null,null,null,null,{"$error":"#VALUE!"},null,null,null,null,null,null,null,null,null,null,{"$f":"#REF!","v":{"$error":"#REF!"}}]
["F",null,null,null,null,null,null,null,null,null,null,null,null,null,0,null,null,null,0,"","",null,null,{"$f":"IF(A12=\"F\",(IF(AND(J12>2003,J12<2007),VLOOKUP(K12,Feuil1!$H$11:$N$25,3),VLOOKUP(K12,Feuil1!$H$11:$N$25,2))),IF(A12=\"H\",(IF(AND(J12>2003,J12<2007),VLOOKUP(K12,Feuil1!$A$11:$G$29,3),VLOOKUP(K12,Feuil1!$A$11:$G$29,2)))))","v":{"$error":"#N/A"}},null,{"$f":"T12-HLOOKUP(X12,#REF!,2,FALSE)","v":{"$error":"#VALUE!"}},{"$f":"T12-HLOOKUP(X12,#REF!,3,FALSE)","v":{"$error":"#VALUE!"}},{"$f":"T12-HLOOKUP(X12,#REF!,4,FALSE)","v":{"$error":"#VALUE!"}},{"$f":"T12-HLOOKUP(X12,#REF!,5,FALSE)","v":{"$error":"#VALUE!"}},{"$f":"T12-HLOOKUP(X12,#REF!,6,FALSE)","v":{"$error":"#VALUE!"}},{"$f":"T12-HLOOKUP(X12,#REF!,7,FALSE)","v":{"$error":"#VALUE!"}},{"$f":"T12-HLOOKUP(X12,#REF!,8,FALSE)","v":{"$error":"#VALUE!"}},{"$f":"T12-HLOOKUP(X12,#REF!,9,FALSE)","v":{"$error":"#VALUE!"}},null,null,null,null,null,null,null,{"$error":"#VALUE!"},null,null,null,null,null,null,null,null,null,null,{"$f":"#REF!","v":{"$error":"#REF!"}}]
["F",null,null,null,null,null,null,null,null,null,null,null,null,null,0,null,null,null,0,"","",null,null,{"$f":"IF(A13=\"F\",(IF(AND(J13>2003,J13<2007),VLOOKUP(K13,Feuil1!$H$11:$N$25,3),VLOOKUP(K13,Feuil1!$H$11:$N$25,2))),IF(A13=\"H\",(IF(AND(J13>2003,J13<2007),VLOOKUP(K13,Feuil1!$A$11:$G$29,3),VLOOKUP(K13,Feuil1!$A$11:$G$29,2)))))","v":{"$error":"#N/A"}},null,{"$f":"T13-HLOOKUP(X13,#REF!,2,FALSE)","v":{"$error":"#VALUE!"}},{"$f":"T13-HLOOKUP(X13,#REF!,3,FALSE)","v":{"$error":"#VALUE!"}},{"$f":"T13-HLOOKUP(X13,#REF!,4,FALSE)","v":{"$error":"#VALUE!"}},{"$f":"T13-HLOOKUP(X13,#REF!,5,FALSE)","v":{"$error":"#VALUE!"}},{"$f":"T13-HLOOKUP(X13,#REF!,6,FALSE)","v":{"$error":"#VALUE!"}},{"$f":"T13-HLOOKUP(X13,#REF!,7,FALSE)","v":{"$error":"#VALUE!"}},{"$f":"T13-HLOOKUP(X13,#REF!,8,FALSE)","v":{"$error":"#VALUE!"}},{"$f":"T13-HLOOKUP(X13,#REF!,9,FALSE)","v":{"$error":"#VALUE!"}},null,null,null,null,null,null,null,{"$error":"#VALUE!"},null,null,null,null,null,null,null,null,null,null,{"$f":"#REF!","v":{"$error":"#REF!"}}]
["F",null,null,null,null,null,null,null,null,null,null,null,null,null,{"$f":"IF(MAXA(L14,M14,N14)=MAXA(L14+M14,M14+N14,L14+N14,L14,M14,N14),0,MAXA(L14+M14,M14+N14,L14+N14,L14,M14,N14))","v":0},null,null,null,{"$f":"IF(MAXA(P14,Q14,R14)=MAXA(P14+Q14,Q14+R14,P14+R14,P14,Q14,R14),0,MAXA(P14+Q14,Q14+R14,P14+R14,P14,Q14,R14))","v":0},{"$f":"IF(K14=\"\",\"\",IF(OR(O14=0,S14=0),0,O14+S14))","v":""},{"$f":"IF(K14=\"\",\"\",IF(A14=\"H\",10^(0.794358141*LOG(K14/174.393)^2)*T14,IF(A14=\"F\",10^(0.794358141 * LOG(K14/174.393)^2)*T14,\"\")))","v":""},null,null,{"$f":"IF(A14=\"F\",(IF(AND(J14>2003,J14<2007),VLOOKUP(K14,Feuil1!$H$11:$N$25,3),VLOOKUP(K14,Feuil1!$H$11:$N$25,2))),IF(A14=\"H\",(IF(AND(J14>2003,J14<2007),VLOOKUP(K14,Feuil1!$A$11:$G$29,3),VLOOKUP(K14,Feuil1!$A$11:$G$29,2)))))","v":{"$error":"#N/A"}},null,{"$f":"T14-HLOOKUP(X14,#REF!,2,FALSE)","v":{"$error":"#VALUE!"}},{"$f":"T14-HLOOKUP(X14,#REF!,3,FALSE)","v":{"$error":"#VALUE!"}},{"$f":"T14-HLOOKUP(X14,#REF!,4,FALSE)","v":{"$error":"#VALUE!"}},{"$f":"T14-HLOOKUP(X14,#REF!,5,FALSE)","v":{"$error":"#VALUE!"}},{"$f":"T14-HLOOKUP(X14,#REF!,6,FALSE)","v":{"$error":"#VALUE!"}},{"$f":"T14-HLOOKUP(X14,#REF!,7,FALSE)","v":{"$error":"#VALUE!"}},{"$f":"T14-HLOOKUP(X14,#REF!,8,FALSE)","v":{"$error":"#VALUE!"}},{"$f":"T14-HLOOKUP(X14,#REF!,9,FALSE)","v":{"$error":"#VALUE!"}},null,null,null,null,null,null,null,{"$error":"#VALUE!"}]
["F",null,null,null,null,null,null,null,null,null,null,null,null,null,{"$f":"IF(MAXA(L15,M15,N15)=MAXA(L15+M15,M15+N15,L15+N15,L15,M15,N15),0,MAXA(L15+M15,M15+N15,L15+N15,L15,M15,N15))","v":0},null,null,null,{"$f":"IF(MAXA(P15,Q15,R15)=MAXA(P15+Q15,Q15+R15,P15+R15,P15,Q15,R15),0,MAXA(P15+Q15,Q15+R15,P15+R15,P15,Q15,R15))","v":0},{"$f":"IF(K15=\"\",\"\",IF(OR(O15=0,S15=0),0,O15+S15))","v":""},"",null,null,{"$f":"IF(A15=\"F\",(IF(AND(J15>2003,J15<2007),VLOOKUP(K15,Feuil1!$H$11:$N$25,3),VLOOKUP(K15,Feuil1!$H$11:$N$25,2))),IF(A15=\"H\",(IF(AND(J15>2003,J15<2007),VLOOKUP(K15,Feuil1!$A$11:$G$29,3),VLOOKUP(K15,Feuil1!$A$11:$G$29,2)))))","v":{"$error":"#N/A"}},null,{"$f":"T15-HLOOKUP(X15,#REF!,2,FALSE)","v":{"$error":"#VALUE!"}},{"$f":"T15-HLOOKUP(X15,#REF!,3,FALSE)","v":{"$error":"#VALUE!"}},{"$f":"T15-HLOOKUP(X15,#REF!,4,FALSE)","v":{"$error":"#VALUE!"}},{"$f":"T15-HLOOKUP(X15,#REF!,5,FALSE)","v":{"$error":"#VALUE!"}},{"$f":"T15-HLOOKUP(X15,#REF!,6,FALSE)","v":{"$error":"#VALUE!"}},{"$f":"T15-HLOOKUP(X15,#REF!,7,FALSE)","v":{"$error":"#VALUE!"}},{"$f":"T15-HLOOKUP(X15,#REF!,8,FALSE)","v":{"$error":"#VALUE!"}},{"$f":"T15-HLOOKUP(X15,#REF!,9,FALSE)","v":{"$error":"#VALUE!"}},null,null,null,null,null,null,null,{"$error":"#VALUE!"}]
["H",null,null,null,null,null,null,null,null,null,null,null,null,null,0,null,null,null,0,"","",null,null,{"$f":"IF(A16=\"F\",(IF(AND(J16>2003,J16<2007),VLOOKUP(K16,Feuil1!$H$11:$N$25,3),VLOOKUP(K16,Feuil1!$H$11:$N$25,2))),IF(A16=\"H\",(IF(AND(J16>2003,J16<2007),VLOOKUP(K16,Feuil1!$A$11:$G$29,3),VLOOKUP(K16,Feuil1!$A$11:$G$29,2)))))","v":{"$error":"#N/A"}},null,{"$f":"T16-HLOOKUP(X16,#REF!,2,FALSE)","v":{"$error":"#VALUE!"}},{"$f":"T16-HLOOKUP(X16,#REF!,3,FALSE)","v":{"$error":"#VALUE!"}},{"$f":"T16-HLOOKUP(X16,#REF!,4,FALSE)","v":{"$error":"#VALUE!"}},{"$f":"T16-HLOOKUP(X16,#REF!,5,FALSE)","v":{"$error":"#VALUE!"}},{"$f":"T16-HLOOKUP(X16,#REF!,6,FALSE)","v":{"$error":"#VALUE!"}},{"$f":"T16-HLOOKUP(X16,#REF!,7,FALSE)","v":{"$error":"#VALUE!"}},{"$f":"T16-HLOOKUP(X16,#REF!,8,FALSE)","v":{"$error":"#VALUE!"}},{"$f":"T16-HLOOKUP(X16,#REF!,9,FALSE)","v":{"$error":"#VALUE!"}},null,null,null,null,null,null,null,{"$error":"#VALUE!"}]
["H",null,null,null,null,null,null,null,null,null,null,null,null,null,0,null,null,null,0,"","",null,null,{"$f":"IF(A17=\"F\",(IF(AND(J17>2003,J17<2007),VLOOKUP(K17,Feuil1!$H$11:$N$25,3),VLOOKUP(K17,Feuil1!$H$11:$N$25,2))),IF(A17=\"H\",(IF(AND(J17>2003,J17<2007),VLOOKUP(K17,Feuil1!$A$11:$G$29,3),VLOOKUP(K17,Feuil1!$A$11:$G$29,2)))))","v":{"$error":"#N/A"}},null,{"$f":"T17-HLOOKUP(X17,#REF!,2,FALSE)","v":{"$error":"#VALUE!"}},{"$f":"T17-HLOOKUP(X17,#REF!,3,FALSE)","v":{"$error":"#VALUE!"}},{"$f":"T17-HLOOKUP(X17,#REF!,4,FALSE)","v":{"$error":"#VALUE!"}},{"$f":"T17-HLOOKUP(X17,#REF!,5,FALSE)","v":{"$error":"#VALUE!"}},{"$f":"T17-HLOOKUP(X17,#REF!,6,FALSE)","v":{"$error":"#VALUE!"}},{"$f":"T17-HLOOKUP(X17,#REF!,7,FALSE)","v":{"$error":"#VALUE!"}},{"$f":"T17-HLOOKUP(X17,#REF!,8,FALSE)","v":{"$error":"#VALUE!"}},{"$f":"T17-HLOOKUP(X17,#REF!,9,FALSE)","v":{"$error":"#VALUE!"}},null,null,null,null,null,null,null,{"$error":"#VALUE!"},null,null,null,null,null,null,null,null,null,null,{"$f":"#REF!","v":{"$error":"#REF!"}}]
["H",null,null,null,null,null,null,null,null,null,null,null,null,null,0,null,null,null,0,"","",null,null,{"$f":"IF(A18=\"F\",(IF(AND(J18>2003,J18<2007),VLOOKUP(K18,Feuil1!$H$11:$N$25,3),VLOOKUP(K18,Feuil1!$H$11:$N$25,2))),IF(A18=\"H\",(IF(AND(J18>2003,J18<2007),VLOOKUP(K18,Feuil1!$A$11:$G$29,3),VLOOKUP(K18,Feuil1!$A$11:$G$29,2)))))","v":{"$error":"#N/A"}},null,{"$f":"T18-HLOOKUP(X18,#REF!,2,FALSE)","v":{"$error":"#VALUE!"}},{"$f":"T18-HLOOKUP(X18,#REF!,3,FALSE)","v":{"$error":"#VALUE!"}},{"$f":"T18-HLOOKUP(X18,#REF!,4,FALSE)","v":{"$error":"#VALUE!"}},{"$f":"T18-HLOOKUP(X18,#REF!,5,FALSE)","v":{"$error":"#VALUE!"}},{"$f":"T18-HLOOKUP(X18,#REF!,6,FALSE)","v":{"$error":"#VALUE!"}},{"$f":"T18-HLOOKUP(X18,#REF!,7,FALSE)","v":{"$error":"#VALUE!"}},{"$f":"T18-HLOOKUP(X18,#REF!,8,FALSE)","v":{"$error":"#VALUE!"}},{"$f":"T18-HLOOKUP(X18,#REF!,9,FALSE)","v":{"$error":"#VALUE!"}},null,null,null,null,null,null,null,{"$error":"#VALUE!"},null,null,null,null,null,null,null,null,null,null,{"$f":"#REF!","v":{"$error":"#REF!"}}]
["H",null,null,null,null,null,null,null,null,null,null,null,null,null,0,null,null,null,0,"","",null,null,{"$f":"IF(A19=\"F\",(IF(AND(J19>2003,J19<2007),VLOOKUP(K19,Feuil1!$H$11:$N$25,3),VLOOKUP(K19,Feuil1!$H$11:$N$25,2))),IF(A19=\"H\",(IF(AND(J19>2003,J19<2007),VLOOKUP(K19,Feuil1!$A$11:$G$29,3),VLOOKUP(K19,Feuil1!$A$11:$G$29,2)))))","v":{"$error":"#N/A"}},null,{"$f":"T19-HLOOKUP(X19,#REF!,2,FALSE)","v":{"$error":"#VALUE!"}},{"$f":"T19-HLOOKUP(X19,#REF!,3,FALSE)","v":{"$error":"#VALUE!"}},{"$f":"T19-HLOOKUP(X19,#REF!,4,FALSE)","v":{"$error":"#VALUE!"}},{"$f":"T19-HLOOKUP(X19,#REF!,5,FALSE)","v":{"$error":"#VALUE!"}},{"$f":"T19-HLOOKUP(X19,#REF!,6,FALSE)","v":{"$error":"#VALUE!"}},{"$f":"T19-HLOOKUP(X19,#REF!,7,FALSE)","v":{"$error":"#VALUE!"}},{"$f":"T19-HLOOKUP(X19,#REF!,8,FALSE)","v":{"$error":"#VALUE!"}},{"$f":"T19-HLOOKUP(X19,#REF!,9,FALSE)","v":{"$error":"#VALUE!"}},null,null,null,null,null,null,null,{"$error":"#VALUE!"},null,null,null,null,null,null,null,null,null,null,{"$f":"#REF!","v":{"$error":"#REF!"}}]
["H",null,null,null,null,null,null,null,null,null,null,null,null,null,0,null,null,null,0,"","",null,null,{"$f":"IF(A20=\"F\",(IF(AND(J20>2003,J20<2007),VLOOKUP(K20,Feuil1!$H$11:$N$25,3),VLOOKUP(K20,Feuil1!$H$11:$N$25,2))),IF(A20=\"H\",(IF(AND(J20>2003,J20<2007),VLOOKUP(K20,Feuil1!$A$11:$G$29,3),VLOOKUP(K20,Feuil1!$A$11:$G$29,2)))))","v":{"$error":"#N/A"}},null,{"$f":"T20-HLOOKUP(X20,#REF!,2,FALSE)","v":{"$error":"#VALUE!"}},{"$f":"T20-HLOOKUP(X20,#REF!,3,FALSE)","v":{"$error":"#VALUE!"}},{"$f":"T20-HLOOKUP(X20,#REF!,4,FALSE)","v":{"$error":"#VALUE!"}},{"$f":"T20-HLOOKUP(X20,#REF!,5,FALSE)","v":{"$error":"#VALUE!"}},{"$f":"T20-HLOOKUP(X20,#REF!,6,FALSE)","v":{"$error":"#VALUE!"}},{"$f":"T20-HLOOKUP(X20,#REF!,7,FALSE)","v":{"$error":"#VALUE!"}},{"$f":"T20-HLOOKUP(X20,#REF!,8,FALSE)","v":{"$error":"#VALUE!"}},{"$f":"T20-HLOOKUP(X20,#REF!,9,FALSE)","v":{"$error":"#VALUE!"}},null,null,null,null,null,null,null,{"$error":"#VALUE!"},null,null,null,null,null,null,null,null,null,null,{"$f":"#REF!","v":{"$error":"#REF!"}}]
["H",null,null,null,null,null,null,null,null,null,null,null,null,null,0,null,null,null,0,"","",null,null,{"$f":"IF(A21=\"F\",(IF(AND(J21>2003,J21<2007),VLOOKUP(K21,Feuil1!$H$11:$N$25,3),VLOOKUP(K21,Feuil1!$H$11:$N$25,2))),IF(A21=\"H\",(IF(AND(J21>2003,J21<2007),VLOOKUP(K21,Feuil1!$A$11:$G$29,3),VLOOKUP(K21,Feuil1!$A$11:$G$29,2)))))","v":{"$error":"#N/A"}},null,{"$f":"T21-HLOOKUP(X21,#REF!,2,FALSE)","v":{"$error":"#VALUE!"}},{"$f":"T21-HLOOKUP(X21,#REF!,3,FALSE)","v":{"$error":"#VALUE!"}},{"$f":"T21-HLOOKUP(X21,#REF!,4,FALSE)","v":{"$error":"#VALUE!"}},{"$f":"T21-HLOOKUP(X21,#REF!,5,FALSE)","v":{"$error":"#VALUE!"}},{"$f":"T21-HLOOKUP(X21,#REF!,6,FALSE)","v":{"$error":"#VALUE!"}},{"$f":"T21-HLOOKUP(X21,#REF!,7,FALSE)","v":{"$error":"#VALUE!"}},{"$f":"T21-HLOOKUP(X21,#REF!,8,FALSE)","v":{"$error":"#VALUE!"}},{"$f":"T21-HLOOKUP(X21,#REF!,9,FALSE)","v":{"$error":"#VALUE!"}},null,null,null,null,null,null,null,{"$error":"#VALUE!"},null,null,null,null,null,null,null,null,null,null,{"$f":"#REF!","v":{"$error":"#REF!"}}]
["H",null,null,null,null,null,null,null,null,null,null,null,null,null,0,null,null,null,0,"","",null,null,{"$f":"IF(A22=\"F\",(IF(AND(J22>2003,J22<2007),VLOOKUP(K22,Feuil1!$H$11:$N$25,3),VLOOKUP(K22,Feuil1!$H$11:$N$25,2))),IF(A22=\"H\",(IF(AND(J22>2003,J22<2007),VLOOKUP(K22,Feuil1!$A$11:$G$29,3),VLOOKUP(K22,Feuil1!$A$11:$G$29,2)))))","v":{"$error":"#N/A"}},null,{"$f":"T22-HLOOKUP(X22,#REF!,2,FALSE)","v":{"$error":"#VALUE!"}},{"$f":"T22-HLOOKUP(X22,#REF!,3,FALSE)","v":{"$error":"#VALUE!"}},{"$f":"T22-HLOOKUP(X22,#REF!,4,FALSE)","v":{"$error":"#VALUE!"}},{"$f":"T22-HLOOKUP(X22,#REF!,5,FALSE)","v":{"$error":"#VALUE!"}},{"$f":"T22-HLOOKUP(X22,#REF!,6,FALSE)","v":{"$error":"#VALUE!"}},{"$f":"T22-HLOOKUP(X22,#REF!,7,FALSE)","v":{"$error":"#VALUE!"}},{"$f":"T22-HLOOKUP(X22,#REF!,8,FALSE)","v":{"$error":"#VALUE!"}},{"$f":"T22-HLOOKUP(X22,#REF!,9,FALSE)","v":{"$error":"#VALUE!"}},null,null,null,null,null,null,null,{"$error":"#VALUE!"},null,null,null,null,null,null,null,null,null,null,{"$f":"#REF!","v":{"$error":"#REF!"}}]
["H",null,null,null,null,null,null,null,null,null,null,null,null,null,0,null,null,null,0,"","",null,null,{"$f":"IF(A23=\"F\",(IF(AND(J23>2003,J23<2007),VLOOKUP(K23,Feuil1!$H$11:$N$25,3),VLOOKUP(K23,Feuil1!$H$11:$N$25,2))),IF(A23=\"H\",(IF(AND(J23>2003,J23<2007),VLOOKUP(K23,Feuil1!$A$11:$G$29,3),VLOOKUP(K23,Feuil1!$A$11:$G$29,2)))))","v":{"$error":"#N/A"}},null,{"$f":"T23-HLOOKUP(X23,#REF!,2,FALSE)","v":{"$error":"#VALUE!"}},{"$f":"T23-HLOOKUP(X23,#REF!,3,FALSE)","v":{"$error":"#VALUE!"}},{"$f":"T23-HLOOKUP(X23,#REF!,4,FALSE)","v":{"$error":"#VALUE!"}},{"$f":"T23-HLOOKUP(X23,#REF!,5,FALSE)","v":{"$error":"#VALUE!"}},{"$f":"T23-HLOOKUP(X23,#REF!,6,FALSE)","v":{"$error":"#VALUE!"}},{"$f":"T23-HLOOKUP(X23,#REF!,7,FALSE)","v":{"$error":"#VALUE!"}},{"$f":"T23-HLOOKUP(X23,#REF!,8,FALSE)","v":{"$error":"#VALUE!"}},{"$f":"T23-HLOOKUP(X23,#REF!,9,FALSE)","v":{"$error":"#VALUE!"}},null,null,null,null,null,null,null,{"$error":"#VALUE!"},null,null,null,null,null,null,null,null,null,null,{"$f":"#REF!","v":{"$error":"#REF!"}}]
["H",null,null,null,null,null,null,null,null,null,null,null,null,null,0,null,null,null,0,"","",null,null,{"$f":"IF(A24=\"F\",(IF(AND(J24>2003,J24<2007),VLOOKUP(K24,Feuil1!$H$11:$N$25,3),VLOOKUP(K24,Feuil1!$H$11:$N$25,2))),IF(A24=\"H\",(IF(AND(J24>2003,J24<2007),VLOOKUP(K24,Feuil1!$A$11:$G$29,3),VLOOKUP(K24,Feuil1!$A$11:$G$29,2)))))","v":{"$error":"#N/A"}},null,{"$f":"T24-HLOOKUP(X24,#REF!,2,FALSE)","v":{"$error":"#VALUE!"}},{"$f":"T24-HLOOKUP(X24,#REF!,3,FALSE)","v":{"$error":"#VALUE!"}},{"$f":"T24-HLOOKUP(X24,#REF!,4,FALSE)","v":{"$error":"#VALUE!"}},{"$f":"T24-HLOOKUP(X24,#REF!,5,FALSE)","v":{"$error":"#VALUE!"}},{"$f":"T24-HLOOKUP(X24,#REF!,6,FALSE)","v":{"$error":"#VALUE!"}},{"$f":"T24-HLOOKUP(X24,#REF!,7,FALSE)","v":{"$error":"#VALUE!"}},{"$f":"T24-HLOOKUP(X24,#REF!,8,FALSE)","v":{"$error":"#VALUE!"}},{"$f":"T24-HLOOKUP(X24,#REF!,9,FALSE)","v":{"$error":"#VALUE!"}},null,null,null,null,null,null,null,{"$error":"#VALUE!"},null,null,null,null,null,null,null,null,null,null,{"$f":"#REF!","v":{"$error":"#REF!"}}]
["H",null,null,null,null,null,null,null,null,null,null,null,null,null,0,null,null,null,0,"","",null,null,{"$f":"IF(A25=\"F\",(IF(AND(J25>2003,J25<2007),VLOOKUP(K25,Feuil1!$H$11:$N$25,3),VLOOKUP(K25,Feuil1!$H$11:$N$25,2))),IF(A25=\"H\",(IF(AND(J25>2003,J25<2007),VLOOKUP(K25,Feuil1!$A$11:$G$29,3),VLOOKUP(K25,Feuil1!$A$11:$G$29,2)))))","v":{"$error":"#N/A"}},null,{"$f":"T25-HLOOKUP(X25,#REF!,2,FALSE)","v":{"$error":"#VALUE!"}},{"$f":"T25-HLOOKUP(X25,#REF!,3,FALSE)","v":{"$error":"#VALUE!"}},{"$f":"T25-HLOOKUP(X25,#REF!,4,FALSE)","v":{"$error":"#VALUE!"}},{"$f":"T25-HLOOKUP(X25,#REF!,5,FALSE)","v":{"$error":"#VALUE!"}},{"$f":"T25-HLOOKUP(X25,#REF!,6,FALSE)","v":{"$error":"#VALUE!"}},{"$f":"T25-HLOOKUP(X25,#REF!,7,FALSE)","v":{"$error":"#VALUE!"}},{"$f":"T25-HLOOKUP(X25,#REF!,8,FALSE)","v":{"$error":"#VALUE!"}},{"$f":"T25-HLOOKUP(X25,#REF!,9,FALSE)","v":{"$error":"#VALUE!"}},null,null,null,null,null,null,null,{"$error":"#VALUE!"},null,null,null,null,null,null,null,null,null,null,{"$f":"#REF!","v":{"$error":"#REF!"}}]
["H",null,null,null,null,null,null,null,null,null,null,null,null,null,0,null,null,null,0,"","",null,null,{"$f":"IF(A26=\"F\",(IF(AND(J26>2003,J26<2007),VLOOKUP(K26,Feuil1!$H$11:$N$25,3),VLOOKUP(K26,Feuil1!$H$11:$N$25,2))),IF(A26=\"H\",(IF(AND(J26>2003,J26<2007),VLOOKUP(K26,Feuil1!$A$11:$G$29,3),VLOOKUP(K26,Feuil1!$A$11:$G$29,2)))))","v":{"$error":"#N/A"}},null,{"$f":"T26-HLOOKUP(X26,#REF!,2,FALSE)","v":{"$error":"#VALUE!"}},{"$f":"T26-HLOOKUP(X26,#REF!,3,FALSE)","v":{"$error":"#VALUE!"}},{"$f":"T26-HLOOKUP(X26,#REF!,4,FALSE)","v":{"$error":"#VALUE!"}},{"$f":"T26-HLOOKUP(X26,#REF!,5,FALSE)","v":{"$error":"#VALUE!"}},{"$f":"T26-HLOOKUP(X26,#REF!,6,FALSE)","v":{"$error":"#VALUE!"}},{"$f":"T26-HLOOKUP(X26,#REF!,7,FALSE)","v":{"$error":"#VALUE!"}},{"$f":"T26-HLOOKUP(X26,#REF!,8,FALSE)","v":{"$error":"#VALUE!"}},{"$f":"T26-HLOOKUP(X26,#REF!,9,FALSE)","v":{"$error":"#VALUE!"}},null,null,null,null,null,null,null,{"$error":"#VALUE!"},null,null,null,null,null,null,null,null,null,null,{"$f":"#REF!","v":{"$error":"#REF!"}}]
["H",null,null,null,null,null,null,null,null,null,null,null,null,null,0,null,null,null,0,"","",null,null,{"$f":"IF(A27=\"F\",(IF(AND(J27>2003,J27<2007),VLOOKUP(K27,Feuil1!$H$11:$N$25,3),VLOOKUP(K27,Feuil1!$H$11:$N$25,2))),IF(A27=\"H\",(IF(AND(J27>2003,J27<2007),VLOOKUP(K27,Feuil1!$A$11:$G$29,3),VLOOKUP(K27,Feuil1!$A$11:$G$29,2)))))","v":{"$error":"#N/A"}},null,{"$f":"T27-HLOOKUP(X27,#REF!,2,FALSE)","v":{"$error":"#VALUE!"}},{"$f":"T27-HLOOKUP(X27,#REF!,3,FALSE)","v":{"$error":"#VALUE!"}},{"$f":"T27-HLOOKUP(X27,#REF!,4,FALSE)","v":{"$error":"#VALUE!"}},{"$f":"T27-HLOOKUP(X27,#REF!,5,FALSE)","v":{"$error":"#VALUE!"}},{"$f":"T27-HLOOKUP(X27,#REF!,6,FALSE)","v":{"$error":"#VALUE!"}},{"$f":"T27-HLOOKUP(X27,#REF!,7,FALSE)","v":{"$error":"#VALUE!"}},{"$f":"T27-HLOOKUP(X27,#REF!,8,FALSE)","v":{"$error":"#VALUE!"}},{"$f":"T27-HLOOKUP(X27,#REF!,9,FALSE)","v":{"$error":"#VALUE!"}},null,null,null,null,null,null,null,{"$error":"#VALUE!"},null,null,null,null,null,null,null,null,null,null,{"$f":"#REF!","v":{"$error":"#REF!"}}]
["H",null,null,null,null,null,null,null,null,null,null,null,null,null,0,null,null,null,0,"","",null,null,{"$f":"IF(A28=\"F\",(IF(AND(J28>2003,J28<2007),VLOOKUP(K28,Feuil1!$H$11:$N$25,3),VLOOKUP(K28,Feuil1!$H$11:$N$25,2))),IF(A28=\"H\",(IF(AND(J28>2003,J28<2007),VLOOKUP(K28,Feuil1!$A$11:$G$29,3),VLOOKUP(K28,Feuil1!$A$11:$G$29,2)))))","v":{"$error":"#N/A"}},null,{"$f":"T28-HLOOKUP(X28,#REF!,2,FALSE)","v":{"$error":"#VALUE!"}},{"$f":"T28-HLOOKUP(X28,#REF!,3,FALSE)","v":{"$error":"#VALUE!"}},{"$f":"T28-HLOOKUP(X28,#REF!,4,FALSE)","v":{"$error":"#VALUE!"}},{"$f":"T28-HLOOKUP(X28,#REF!,5,FALSE)","v":{"$error":"#VALUE!"}},{"$f":"T28-HLOOKUP(X28,#REF!,6,FALSE)","v":{"$error":"#VALUE!"}},{"$f":"T28-HLOOKUP(X28,#REF!,7,FALSE)","v":{"$error":"#VALUE!"}},{"$f":"T28-HLOOKUP(X28,#REF!,8,FALSE)","v":{"$error":"#VALUE!"}},{"$f":"T28-HLOOKUP(X28,#REF!,9,FALSE)","v":{"$error":"#VALUE!"}},null,null,null,null,null,null,null,{"$error":"#VALUE!"},null,null,null,null,null,null,null,null,null,null,{"$f":"#REF!","v":{"$error":"#REF!"}}]
["H",null,null,null,null,null,null,null,null,null,null,null,null,null,{"$f":"IF(MAXA(L29,M29,N29)=MAXA(L29+M29,M29+N29,L29+N29,L29,M29,N29),0,MAXA(L29+M29,M29+N29,L29+N29,L29,M29,N29))","v":0},null,null,null,{"$f":"IF(MAXA(P29,Q29,R29)=MAXA(P29+Q29,Q29+R29,P29+R29,P29,Q29,R29),0,MAXA(P29+Q29,Q29+R29,P29+R29,P29,Q29,R29))","v":0},{"$f":"IF(K29=\"\",\"\",IF(OR(O29=0,S29=0),0,O29+S29))","v":""},{"$f":"IF(K29=\"\",\"\",IF(A29=\"H\",10^(0.794358141*LOG(K29/174.393)^2)*T29,IF(A29=\"F\",10^(0.794358141 * LOG(K29/174.393)^2)*T29,\"\")))","v":""},null,null,{"$f":"IF(A29=\"F\",(IF(AND(J29>2003,J29<2007),VLOOKUP(K29,Feuil1!$H$11:$N$25,3),VLOOKUP(K29,Feuil1!$H$11:$N$25,2))),IF(A29=\"H\",(IF(AND(J29>2003,J29<2007),VLOOKUP(K29,Feuil1!$A$11:$G$29,3),VLOOKUP(K29,Feuil1!$A$11:$G$29,2)))))","v":{"$error":"#N/A"}},null,{"$f":"T29-HLOOKUP(X29,#REF!,2,FALSE)","v":{"$error":"#VALUE!"}},{"$f":"T29-HLOOKUP(X29,#REF!,3,FALSE)","v":{"$error":"#VALUE!"}},{"$f":"T29-HLOOKUP(X29,#REF!,4,FALSE)","v":{"$error":"#VALUE!"}},{"$f":"T29-HLOOKUP(X29,#REF!,5,FALSE)","v":{"$error":"#VALUE!"}},{"$f":"T29-HLOOKUP(X29,#REF!,6,FALSE)","v":{"$error":"#VALUE!"}},{"$f":"T29-HLOOKUP(X29,#REF!,7,FALSE)","v":{"$error":"#VALUE!"}},{"$f":"T29-HLOOKUP(X29,#REF!,8,FALSE)","v":{"$error":"#VALUE!"}},{"$f":"T29-HLOOKUP(X29,#REF!,9,FALSE)","v":{"$error":"#VALUE!"}},null,null,null,null,null,null,null,{"$f":"IF(AG29>=0,$AG$3,IF(AF29>=0,$AF$3,IF(AE29>=0,$AE$3,IF(AD29>=0,$AD$3,IF(AC29>=0,$AC$3,IF(AB29>=0,$AB$3,IF(AA29>=0,$AA$3,IF(Z29>=0,$Z$3,$AH$3))))))))","v":{"$error":"#VALUE!"}},null,null,null,null,null,null,null,null,null,null,{"$f":"#REF!","v":{"$error":"#REF!"}}]
["H",null,null,null,null,null,null,null,null,null,null,null,null,null,0,null,null,null,0,"","",null,null,{"$f":"IF(A30=\"F\",(IF(AND(J30>2003,J30<2007),VLOOKUP(K30,Feuil1!$H$11:$N$25,3),VLOOKUP(K30,Feuil1!$H$11:$N$25,2))),IF(A30=\"H\",(IF(AND(J30>2003,J30<2007),VLOOKUP(K30,Feuil1!$A$11:$G$29,3),VLOOKUP(K30,Feuil1!$A$11:$G$29,2)))))","v":{"$error":"#N/A"}},null,{"$f":"T30-HLOOKUP(X30,#REF!,2,FALSE)","v":{"$error":"#VALUE!"}},{"$f":"T30-HLOOKUP(X30,#REF!,3,FALSE)","v":{"$error":"#VALUE!"}},{"$f":"T30-HLOOKUP(X30,#REF!,4,FALSE)","v":{"$error":"#VALUE!"}},{"$f":"T30-HLOOKUP(X30,#REF!,5,FALSE)","v":{"$error":"#VALUE!"}},{"$f":"T30-HLOOKUP(X30,#REF!,6,FALSE)","v":{"$error":"#VALUE!"}},{"$f":"T30-HLOOKUP(X30,#REF!,7,FALSE)","v":{"$error":"#VALUE!"}},{"$f":"T30-HLOOKUP(X30,#REF!,8,FALSE)","v":{"$error":"#VALUE!"}},{"$f":"T30-HLOOKUP(X30,#REF!,9,FALSE)","v":{"$error":"#VALUE!"}},null,null,null,null,null,null,null,{"$error":"#VALUE!"},null,null,null,null,null,null,null,null,null,null,{"$f":"#REF!","v":{"$error":"#REF!"}}]
["H",null,null,null,null,null,null,null,null,null,null,null,null,null,0,null,null,null,0,"","",null,null,{"$f":"IF(A31=\"F\",(IF(AND(J31>2003,J31<2007),VLOOKUP(K31,Feuil1!$H$11:$N$25,3),VLOOKUP(K31,Feuil1!$H$11:$N$25,2))),IF(A31=\"H\",(IF(AND(J31>2003,J31<2007),VLOOKUP(K31,Feuil1!$A$11:$G$29,3),VLOOKUP(K31,Feuil1!$A$11:$G$29,2)))))","v":{"$error":"#N/A"}},null,{"$f":"T31-HLOOKUP(X31,#REF!,2,FALSE)","v":{"$error":"#VALUE!"}},{"$f":"T31-HLOOKUP(X31,#REF!,3,FALSE)","v":{"$error":"#VALUE!"}},{"$f":"T31-HLOOKUP(X31,#REF!,4,FALSE)","v":{"$error":"#VALUE!"}},{"$f":"T31-HLOOKUP(X31,#REF!,5,FALSE)","v":{"$error":"#VALUE!"}},{"$f":"T31-HLOOKUP(X31,#REF!,6,FALSE)","v":{"$error":"#VALUE!"}},{"$f":"T31-HLOOKUP(X31,#REF!,7,FALSE)","v":{"$error":"#VALUE!"}},{"$f":"T31-HLOOKUP(X31,#REF!,8,FALSE)","v":{"$error":"#VALUE!"}},{"$f":"T31-HLOOKUP(X31,#REF!,9,FALSE)","v":{"$error":"#VALUE!"}},null,null,null,null,null,null,null,{"$error":"#VALUE!"},null,null,null,null,null,null,null,null,null,null,{"$f":"#REF!","v":{"$error":"#REF!"}}]
["H",null,null,null,null,null,null,null,null,null,null,null,null,null,0,null,null,null,0,"","",null,null,{"$f":"IF(A32=\"F\",(IF(AND(J32>2003,J32<2007),VLOOKUP(K32,Feuil1!$H$11:$N$25,3),VLOOKUP(K32,Feuil1!$H$11:$N$25,2))),IF(A32=\"H\",(IF(AND(J32>2003,J32<2007),VLOOKUP(K32,Feuil1!$A$11:$G$29,3),VLOOKUP(K32,Feuil1!$A$11:$G$29,2)))))","v":{"$error":"#N/A"}},null,{"$f":"T32-HLOOKUP(X32,#REF!,2,FALSE)","v":{"$error":"#VALUE!"}},{"$f":"T32-HLOOKUP(X32,#REF!,3,FALSE)","v":{"$error":"#VALUE!"}},{"$f":"T32-HLOOKUP(X32,#REF!,4,FALSE)","v":{"$error":"#VALUE!"}},{"$f":"T32-HLOOKUP(X32,#REF!,5,FALSE)","v":{"$error":"#VALUE!"}},{"$f":"T32-HLOOKUP(X32,#REF!,6,FALSE)","v":{"$error":"#VALUE!"}},{"$f":"T32-HLOOKUP(X32,#REF!,7,FALSE)","v":{"$error":"#VALUE!"}},{"$f":"T32-HLOOKUP(X32,#REF!,8,FALSE)","v":{"$error":"#VALUE!"}},{"$f":"T32-HLOOKUP(X32,#REF!,9,FALSE)","v":{"$error":"#VALUE!"}},null,null,null,null,null,null,null,{"$error":"#VALUE!"},null,null,null,null,null,null,null,null,null,null,{"$f":"#REF!","v":{"$error":"#REF!"}}]
["H",null,null,null,null,null,null,null,null,null,null,null,null,null,0,null,null,null,0,"","",null,null,{"$f":"IF(A33=\"F\",(IF(AND(J33>2003,J33<2007),VLOOKUP(K33,Feuil1!$H$11:$N$25,3),VLOOKUP(K33,Feuil1!$H$11:$N$25,2))),IF(A33=\"H\",(IF(AND(J33>2003,J33<2007),VLOOKUP(K33,Feuil1!$A$11:$G$29,3),VLOOKUP(K33,Feuil1!$A$11:$G$29,2)))))","v":{"$error":"#N/A"}},null,{"$f":"T33-HLOOKUP(X33,#REF!,2,FALSE)","v":{"$error":"#VALUE!"}},{"$f":"T33-HLOOKUP(X33,#REF!,3,FALSE)","v":{"$error":"#VALUE!"}},{"$f":"T33-HLOOKUP(X33,#REF!,4,FALSE)","v":{"$error":"#VALUE!"}},{"$f":"T33-HLOOKUP(X33,#REF!,5,FALSE)","v":{"$error":"#VALUE!"}},{"$f":"T33-HLOOKUP(X33,#REF!,6,FALSE)","v":{"$error":"#VALUE!"}},{"$f":"T33-HLOOKUP(X33,#REF!,7,FALSE)","v":{"$error":"#VALUE!"}},{"$f":"T33-HLOOKUP(X33,#REF!,8,FALSE)","v":{"$error":"#VALUE!"}},{"$f":"T33-HLOOKUP(X33,#REF!,9,FALSE)","v":{"$error":"#VALUE!"}},null,null,null,null,null,null,null,{"$error":"#VALUE!"},null,null,null,null,null,null,null,null,null,null,{"$f":"#REF!","v":{"$error":"#REF!"}}]
["H",null,null,null,null,null,null,null,null,null,null,null,null,null,0,null,null,null,0,"","",null,null,{"$f":"IF(A34=\"F\",(IF(AND(J34>2003,J34<2007),VLOOKUP(K34,Feuil1!$H$11:$N$25,3),VLOOKUP(K34,Feuil1!$H$11:$N$25,2))),IF(A34=\"H\",(IF(AND(J34>2003,J34<2007),VLOOKUP(K34,Feuil1!$A$11:$G$29,3),VLOOKUP(K34,Feuil1!$A$11:$G$29,2)))))","v":{"$error":"#N/A"}},null,{"$f":"T34-HLOOKUP(X34,#REF!,2,FALSE)","v":{"$error":"#VALUE!"}},{"$f":"T34-HLOOKUP(X34,#REF!,3,FALSE)","v":{"$error":"#VALUE!"}},{"$f":"T34-HLOOKUP(X34,#REF!,4,FALSE)","v":{"$error":"#VALUE!"}},{"$f":"T34-HLOOKUP(X34,#REF!,5,FALSE)","v":{"$error":"#VALUE!"}},{"$f":"T34-HLOOKUP(X34,#REF!,6,FALSE)","v":{"$error":"#VALUE!"}},{"$f":"T34-HLOOKUP(X34,#REF!,7,FALSE)","v":{"$error":"#VALUE!"}},{"$f":"T34-HLOOKUP(X34,#REF!,8,FALSE)","v":{"$error":"#VALUE!"}},{"$f":"T34-HLOOKUP(X34,#REF!,9,FALSE)","v":{"$error":"#VALUE!"}},null,null,null,null,null,null,null,{"$error":"#VALUE!"},null,null,null,null,null,null,null,null,null,null,{"$f":"#REF!","v":{"$error":"#REF!"}}]
["H",null,null,null,null,null,null,null,null,null,null,null,null,null,0,null,null,null,0,"","",null,null,{"$f":"IF(A35=\"F\",(IF(AND(J35>2003,J35<2007),VLOOKUP(K35,Feuil1!$H$11:$N$25,3),VLOOKUP(K35,Feuil1!$H$11:$N$25,2))),IF(A35=\"H\",(IF(AND(J35>2003,J35<2007),VLOOKUP(K35,Feuil1!$A$11:$G$29,3),VLOOKUP(K35,Feuil1!$A$11:$G$29,2)))))","v":{"$error":"#N/A"}},null,{"$f":"T35-HLOOKUP(X35,#REF!,2,FALSE)","v":{"$error":"#VALUE!"}},{"$f":"T35-HLOOKUP(X35,#REF!,3,FALSE)","v":{"$error":"#VALUE!"}},{"$f":"T35-HLOOKUP(X35,#REF!,4,FALSE)","v":{"$error":"#VALUE!"}},{"$f":"T35-HLOOKUP(X35,#REF!,5,FALSE)","v":{"$error":"#VALUE!"}},{"$f":"T35-HLOOKUP(X35,#REF!,6,FALSE)","v":{"$error":"#VALUE!"}},{"$f":"T35-HLOOKUP(X35,#REF!,7,FALSE)","v":{"$error":"#VALUE!"}},{"$f":"T35-HLOOKUP(X35,#REF!,8,FALSE)","v":{"$error":"#VALUE!"}},{"$f":"T35-HLOOKUP(X35,#REF!,9,FALSE)","v":{"$error":"#VALUE!"}},null,null,null,null,null,null,null,{"$error":"#VALUE!"},null,null,null,null,null,null,null,null,null,null,{"$f":"#REF!","v":{"$error":"#REF!"}}]
["H",null,null,null,null,null,null,null,null,null,null,null,null,null,0,null,null,null,0,"","",null,null,{"$f":"IF(A36=\"F\",(IF(AND(J36>2003,J36<2007),VLOOKUP(K36,Feuil1!$H$11:$N$25,3),VLOOKUP(K36,Feuil1!$H$11:$N$25,2))),IF(A36=\"H\",(IF(AND(J36>2003,J36<2007),VLOOKUP(K36,Feuil1!$A$11:$G$29,3),VLOOKUP(K36,Feuil1!$A$11:$G$29,2)))))","v":{"$error":"#N/A"}},null,{"$f":"T36-HLOOKUP(X36,#REF!,2,FALSE)","v":{"$error":"#VALUE!"}},{"$f":"T36-HLOOKUP(X36,#REF!,3,FALSE)","v":{"$error":"#VALUE!"}},{"$f":"T36-HLOOKUP(X36,#REF!,4,FALSE)","v":{"$error":"#VALUE!"}},{"$f":"T36-HLOOKUP(X36,#REF!,5,FALSE)","v":{"$error":"#VALUE!"}},{"$f":"T36-HLOOKUP(X36,#REF!,6,FALSE)","v":{"$error":"#VALUE!"}},{"$f":"T36-HLOOKUP(X36,#REF!,7,FALSE)","v":{"$error":"#VALUE!"}},{"$f":"T36-HLOOKUP(X36,#REF!,8,FALSE)","v":{"$error":"#VALUE!"}},{"$f":"T36-HLOOKUP(X36,#REF!,9,FALSE)","v":{"$error":"#VALUE!"}},null,null,null,null,null,null,null,{"$error":"#VALUE!"},null,null,null,null,null,null,null,null,null,null,{"$f":"#REF!","v":{"$error":"#REF!"}}]
["H",null,null,null,null,null,null,null,null,null,null,null,null,null,0,null,null,null,0,"","",null,null,{"$f":"IF(A37=\"F\",(IF(AND(J37>2003,J37<2007),VLOOKUP(K37,Feuil1!$H$11:$N$25,3),VLOOKUP(K37,Feuil1!$H$11:$N$25,2))),IF(A37=\"H\",(IF(AND(J37>2003,J37<2007),VLOOKUP(K37,Feuil1!$A$11:$G$29,3),VLOOKUP(K37,Feuil1!$A$11:$G$29,2)))))","v":{"$error":"#N/A"}},null,{"$f":"T37-HLOOKUP(X37,#REF!,2,FALSE)","v":{"$error":"#VALUE!"}},{"$f":"T37-HLOOKUP(X37,#REF!,3,FALSE)","v":{"$error":"#VALUE!"}},{"$f":"T37-HLOOKUP(X37,#REF!,4,FALSE)","v":{"$error":"#VALUE!"}},{"$f":"T37-HLOOKUP(X37,#REF!,5,FALSE)","v":{"$error":"#VALUE!"}},{"$f":"T37-HLOOKUP(X37,#REF!,6,FALSE)","v":{"$error":"#VALUE!"}},{"$f":"T37-HLOOKUP(X37,#REF!,7,FALSE)","v":{"$error":"#VALUE!"}},{"$f":"T37-HLOOKUP(X37,#REF!,8,FALSE)","v":{"$error":"#VALUE!"}},{"$f":"T37-HLOOKUP(X37,#REF!,9,FALSE)","v":{"$error":"#VALUE!"}},null,null,null,null,null,null,null,{"$error":"#VALUE!"},null,null,null,null,null,null,null,null,null,null,{"$f":"#REF!","v":{"$error":"#REF!"}}]
["H",null,null,null,null,null,null,null,null,null,null,null,null,null,0,null,null,null,0,"","",null,null,{"$f":"IF(A38=\"F\",(IF(AND(J38>2003,J38<2007),VLOOKUP(K38,Feuil1!$H$11:$N$25,3),VLOOKUP(K38,Feuil1!$H$11:$N$25,2))),IF(A38=\"H\",(IF(AND(J38>2003,J38<2007),VLOOKUP(K38,Feuil1!$A$11:$G$29,3),VLOOKUP(K38,Feuil1!$A$11:$G$29,2)))))","v":{"$error":"#N/A"}},null,{"$f":"T38-HLOOKUP(X38,#REF!,2,FALSE)","v":{"$error":"#VALUE!"}},{"$f":"T38-HLOOKUP(X38,#REF!,3,FALSE)","v":{"$error":"#VALUE!"}},{"$f":"T38-HLOOKUP(X38,#REF!,4,FALSE)","v":{"$error":"#VALUE!"}},{"$f":"T38-HLOOKUP(X38,#REF!,5,FALSE)","v":{"$error":"#VALUE!"}},{"$f":"T38-HLOOKUP(X38,#REF!,6,FALSE)","v":{"$error":"#VALUE!"}},{"$f":"T38-HLOOKUP(X38,#REF!,7,FALSE)","v":{"$error":"#VALUE!"}},{"$f":"T38-HLOOKUP(X38,#REF!,8,FALSE)","v":{"$error":"#VALUE!"}},{"$f":"T38-HLOOKUP(X38,#REF!,9,FALSE)","v":{"$error":"#VALUE!"}},null,null,null,null,null,null,null,{"$error":"#VALUE!"},null,null,null,null,null,null,null,null,null,null,{"$f":"#REF!","v":{"$error":"#REF!"}}]
["H",null,null,null,null,null,null,null,null,null,null,null,null,null,0,null,null,null,0,"","",null,null,{"$f":"IF(A39=\"F\",(IF(AND(J39>2003,J39<2007),VLOOKUP(K39,Feuil1!$H$11:$N$25,3),VLOOKUP(K39,Feuil1!$H$11:$N$25,2))),IF(A39=\"H\",(IF(AND(J39>2003,J39<2007),VLOOKUP(K39,Feuil1!$A$11:$G$29,3),VLOOKUP(K39,Feuil1!$A$11:$G$29,2)))))","v":{"$error":"#N/A"}},null,{"$f":"T39-HLOOKUP(X39,#REF!,2,FALSE)","v":{"$error":"#VALUE!"}},{"$f":"T39-HLOOKUP(X39,#REF!,3,FALSE)","v":{"$error":"#VALUE!"}},{"$f":"T39-HLOOKUP(X39,#REF!,4,FALSE)","v":{"$error":"#VALUE!"}},{"$f":"T39-HLOOKUP(X39,#REF!,5,FALSE)","v":{"$error":"#VALUE!"}},{"$f":"T39-HLOOKUP(X39,#REF!,6,FALSE)","v":{"$error":"#VALUE!"}},{"$f":"T39-HLOOKUP(X39,#REF!,7,FALSE)","v":{"$error":"#VALUE!"}},{"$f":"T39-HLOOKUP(X39,#REF!,8,FALSE)","v":{"$error":"#VALUE!"}},{"$f":"T39-HLOOKUP(X39,#REF!,9,FALSE)","v":{"$error":"#VALUE!"}},null,null,null,null,null,null,null,{"$error":"#VALUE!"},null,null,null,null,null,null,null,null,null,null,{"$f":"#REF!","v":{"$error":"#REF!"}}]
["H",null,null,null,null,null,null,null,null,null,null,null,null,null,0,null,null,null,0,"","",null,null,{"$f":"IF(A40=\"F\",(IF(AND(J40>2003,J40<2007),VLOOKUP(K40,Feuil1!$H$11:$N$25,3),VLOOKUP(K40,Feuil1!$H$11:$N$25,2))),IF(A40=\"H\",(IF(AND(J40>2003,J40<2007),VLOOKUP(K40,Feuil1!$A$11:$G$29,3),VLOOKUP(K40,Feuil1!$A$11:$G$29,2)))))","v":{"$error":"#N/A"}},null,{"$f":"T40-HLOOKUP(X40,#REF!,2,FALSE)","v":{"$error":"#VALUE!"}},{"$f":"T40-HLOOKUP(X40,#REF!,3,FALSE)","v":{"$error":"#VALUE!"}},{"$f":"T40-HLOOKUP(X40,#REF!,4,FALSE)","v":{"$error":"#VALUE!"}},{"$f":"T40-HLOOKUP(X40,#REF!,5,FALSE)","v":{"$error":"#VALUE!"}},{"$f":"T40-HLOOKUP(X40,#REF!,6,FALSE)","v":{"$error":"#VALUE!"}},{"$f":"T40-HLOOKUP(X40,#REF!,7,FALSE)","v":{"$error":"#VALUE!"}},{"$f":"T40-HLOOKUP(X40,#REF!,8,FALSE)","v":{"$error":"#VALUE!"}},{"$f":"T40-HLOOKUP(X40,#REF!,9,FALSE)","v":{"$error":"#VALUE!"}},null,null,null,null,null,null,null,{"$error":"#VALUE!"},null,null,null,null,null,null,null,null,null,null,{"$f":"#REF!","v":{"$error":"#REF!"}}]
["H",null,null,null,null,null,null,null,null,null,null,null,null,null,0,null,null,null,0,"","",null,null,{"$f":"IF(A41=\"F\",(IF(AND(J41>2003,J41<2007),VLOOKUP(K41,Feuil1!$H$11:$N$25,3),VLOOKUP(K41,Feuil1!$H$11:$N$25,2))),IF(A41=\"H\",(IF(AND(J41>2003,J41<2007),VLOOKUP(K41,Feuil1!$A$11:$G$29,3),VLOOKUP(K41,Feuil1!$A$11:$G$29,2)))))","v":{"$error":"#N/A"}},null,{"$f":"T41-HLOOKUP(X41,#REF!,2,FALSE)","v":{"$error":"#VALUE!"}},{"$f":"T41-HLOOKUP(X41,#REF!,3,FALSE)","v":{"$error":"#VALUE!"}},{"$f":"T41-HLOOKUP(X41,#REF!,4,FALSE)","v":{"$error":"#VALUE!"}},{"$f":"T41-HLOOKUP(X41,#REF!,5,FALSE)","v":{"$error":"#VALUE!"}},{"$f":"T41-HLOOKUP(X41,#REF!,6,FALSE)","v":{"$error":"#VALUE!"}},{"$f":"T41-HLOOKUP(X41,#REF!,7,FALSE)","v":{"$error":"#VALUE!"}},{"$f":"T41-HLOOKUP(X41,#REF!,8,FALSE)","v":{"$error":"#VALUE!"}},{"$f":"T41-HLOOKUP(X41,#REF!,9,FALSE)","v":{"$error":"#VALUE!"}},null,null,null,null,null,null,null,{"$error":"#VALUE!"},null,null,null,null,null,null,null,null,null,null,{"$f":"#REF!","v":{"$error":"#REF!"}}]
["H",null,null,null,null,null,null,null,null,null,null,null,null,null,0,null,null,null,0,"","",null,null,{"$f":"IF(A42=\"F\",(IF(AND(J42>2003,J42<2007),VLOOKUP(K42,Feuil1!$H$11:$N$25,3),VLOOKUP(K42,Feuil1!$H$11:$N$25,2))),IF(A42=\"H\",(IF(AND(J42>2003,J42<2007),VLOOKUP(K42,Feuil1!$A$11:$G$29,3),VLOOKUP(K42,Feuil1!$A$11:$G$29,2)))))","v":{"$error":"#N/A"}},null,{"$f":"T42-HLOOKUP(X42,#REF!,2,FALSE)","v":{"$error":"#VALUE!"}},{"$f":"T42-HLOOKUP(X42,#REF!,3,FALSE)","v":{"$error":"#VALUE!"}},{"$f":"T42-HLOOKUP(X42,#REF!,4,FALSE)","v":{"$error":"#VALUE!"}},{"$f":"T42-HLOOKUP(X42,#REF!,5,FALSE)","v":{"$error":"#VALUE!"}},{"$f":"T42-HLOOKUP(X42,#REF!,6,FALSE)","v":{"$error":"#VALUE!"}},{"$f":"T42-HLOOKUP(X42,#REF!,7,FALSE)","v":{"$error":"#VALUE!"}},{"$f":"T42-HLOOKUP(X42,#REF!,8,FALSE)","v":{"$error":"#VALUE!"}},{"$f":"T42-HLOOKUP(X42,#REF!,9,FALSE)","v":{"$error":"#VALUE!"}},null,null,null,null,null,null,null,{"$error":"#VALUE!"},null,null,null,null,null,null,null,null,null,null,{"$f":"#REF!","v":{"$error":"#REF!"}}]
["H",null,null,null,null,null,null,null,null,null,null,null,null,null,0,null,null,null,0,"","",null,null,{"$f":"IF(A43=\"F\",(IF(AND(J43>2003,J43<2007),VLOOKUP(K43,Feuil1!$H$11:$N$25,3),VLOOKUP(K43,Feuil1!$H$11:$N$25,2))),IF(A43=\"H\",(IF(AND(J43>2003,J43<2007),VLOOKUP(K43,Feuil1!$A$11:$G$29,3),VLOOKUP(K43,Feuil1!$A$11:$G$29,2)))))","v":{"$error":"#N/A"}},null,{"$f":"T43-HLOOKUP(X43,#REF!,2,FALSE)","v":{"$error":"#VALUE!"}},{"$f":"T43-HLOOKUP(X43,#REF!,3,FALSE)","v":{"$error":"#VALUE!"}},{"$f":"T43-HLOOKUP(X43,#REF!,4,FALSE)","v":{"$error":"#VALUE!"}},{"$f":"T43-HLOOKUP(X43,#REF!,5,FALSE)","v":{"$error":"#VALUE!"}},{"$f":"T43-HLOOKUP(X43,#REF!,6,FALSE)","v":{"$error":"#VALUE!"}},{"$f":"T43-HLOOKUP(X43,#REF!,7,FALSE)","v":{"$error":"#VALUE!"}},{"$f":"T43-HLOOKUP(X43,#REF!,8,FALSE)","v":{"$error":"#VALUE!"}},{"$f":"T43-HLOOKUP(X43,#REF!,9,FALSE)","v":{"$error":"#VALUE!"}},null,null,null,null,null,null,null,{"$error":"#VALUE!"},null,null,null,null,null,null,null,null,null,null,{"$f":"#REF!","v":{"$error":"#REF!"}}]
["H",null,null,null,null,null,null,null,null,null,null,null,null,null,0,null,null,null,0,"","",null,null,{"$f":"IF(A44=\"F\",(IF(AND(J44>2003,J44<2007),VLOOKUP(K44,Feuil1!$H$11:$N$25,3),VLOOKUP(K44,Feuil1!$H$11:$N$25,2))),IF(A44=\"H\",(IF(AND(J44>2003,J44<2007),VLOOKUP(K44,Feuil1!$A$11:$G$29,3),VLOOKUP(K44,Feuil1!$A$11:$G$29,2)))))","v":{"$error":"#N/A"}},null,{"$f":"T44-HLOOKUP(X44,#REF!,2,FALSE)","v":{"$error":"#VALUE!"}},{"$f":"T44-HLOOKUP(X44,#REF!,3,FALSE)","v":{"$error":"#VALUE!"}},{"$f":"T44-HLOOKUP(X44,#REF!,4,FALSE)","v":{"$error":"#VALUE!"}},{"$f":"T44-HLOOKUP(X44,#REF!,5,FALSE)","v":{"$error":"#VALUE!"}},{"$f":"T44-HLOOKUP(X44,#REF!,6,FALSE)","v":{"$error":"#VALUE!"}},{"$f":"T44-HLOOKUP(X44,#REF!,7,FALSE)","v":{"$error":"#VALUE!"}},{"$f":"T44-HLOOKUP(X44,#REF!,8,FALSE)","v":{"$error":"#VALUE!"}},{"$f":"T44-HLOOKUP(X44,#REF!,9,FALSE)","v":{"$error":"#VALUE!"}},null,null,null,null,null,null,null,{"$error":"#VALUE!"},null,null,null,null,null,null,null,null,null,null,{"$f":"#REF!","v":{"$error":"#REF!"}}]
["H",null,null,null,null,null,null,null,null,null,null,null,null,null,0,null,null,null,0,"","",null,null,{"$f":"IF(A45=\"F\",(IF(AND(J45>2003,J45<2007),VLOOKUP(K45,Feuil1!$H$11:$N$25,3),VLOOKUP(K45,Feuil1!$H$11:$N$25,2))),IF(A45=\"H\",(IF(AND(J45>2003,J45<2007),VLOOKUP(K45,Feuil1!$A$11:$G$29,3),VLOOKUP(K45,Feuil1!$A$11:$G$29,2)))))","v":{"$error":"#N/A"}},null,{"$f":"T45-HLOOKUP(X45,#REF!,2,FALSE)","v":{"$error":"#VALUE!"}},{"$f":"T45-HLOOKUP(X45,#REF!,3,FALSE)","v":{"$error":"#VALUE!"}},{"$f":"T45-HLOOKUP(X45,#REF!,4,FALSE)","v":{"$error":"#VALUE!"}},{"$f":"T45-HLOOKUP(X45,#REF!,5,FALSE)","v":{"$error":"#VALUE!"}},{"$f":"T45-HLOOKUP(X45,#REF!,6,FALSE)","v":{"$error":"#VALUE!"}},{"$f":"T45-HLOOKUP(X45,#REF!,7,FALSE)","v":{"$error":"#VALUE!"}},{"$f":"T45-HLOOKUP(X45,#REF!,8,FALSE)","v":{"$error":"#VALUE!"}},{"$f":"T45-HLOOKUP(X45,#REF!,9,FALSE)","v":{"$error":"#VALUE!"}},null,null,null,null,null,null,null,{"$error":"#VALUE!"},null,null,null,null,null,null,null,null,null,null,{"$f":"#REF!","v":{"$error":"#REF!"}}]
["H",null,null,null,null,null,null,null,null,null,null,null,null,null,0,null,null,null,0,"","",null,null,{"$f":"IF(A46=\"F\",(IF(AND(J46>2003,J46<2007),VLOOKUP(K46,Feuil1!$H$11:$N$25,3),VLOOKUP(K46,Feuil1!$H$11:$N$25,2))),IF(A46=\"H\",(IF(AND(J46>2003,J46<2007),VLOOKUP(K46,Feuil1!$A$11:$G$29,3),VLOOKUP(K46,Feuil1!$A$11:$G$29,2)))))","v":{"$error":"#N/A"}},null,{"$f":"T46-HLOOKUP(X46,#REF!,2,FALSE)","v":{"$error":"#VALUE!"}},{"$f":"T46-HLOOKUP(X46,#REF!,3,FALSE)","v":{"$error":"#VALUE!"}},{"$f":"T46-HLOOKUP(X46,#REF!,4,FALSE)","v":{"$error":"#VALUE!"}},{"$f":"T46-HLOOKUP(X46,#REF!,5,FALSE)","v":{"$error":"#VALUE!"}},{"$f":"T46-HLOOKUP(X46,#REF!,6,FALSE)","v":{"$error":"#VALUE!"}},{"$f":"T46-HLOOKUP(X46,#REF!,7,FALSE)","v":{"$error":"#VALUE!"}},{"$f":"T46-HLOOKUP(X46,#REF!,8,FALSE)","v":{"$error":"#VALUE!"}},{"$f":"T46-HLOOKUP(X46,#REF!,9,FALSE)","v":{"$error":"#VALUE!"}},null,null,null,null,null,null,null,{"$error":"#VALUE!"},null,null,null,null,null,null,null,null,null,null,{"$f":"#REF!","v":{"$error":"#REF!"}}]
["H",null,null,null,null,null,null,null,null,null,null,null,null,null,0,null,null,null,0,"","",null,null,{"$f":"IF(A47=\"F\",(IF(AND(J47>2003,J47<2007),VLOOKUP(K47,Feuil1!$H$11:$N$25,3),VLOOKUP(K47,Feuil1!$H$11:$N$25,2))),IF(A47=\"H\",(IF(AND(J47>2003,J47<2007),VLOOKUP(K47,Feuil1!$A$11:$G$29,3),VLOOKUP(K47,Feuil1!$A$11:$G$29,2)))))","v":{"$error":"#N/A"}},null,{"$f":"T47-HLOOKUP(X47,#REF!,2,FALSE)","v":{"$error":"#VALUE!"}},{"$f":"T47-HLOOKUP(X47,#REF!,3,FALSE)","v":{"$error":"#VALUE!"}},{"$f":"T47-HLOOKUP(X47,#REF!,4,FALSE)","v":{"$error":"#VALUE!"}},{"$f":"T47-HLOOKUP(X47,#REF!,5,FALSE)","v":{"$error":"#VALUE!"}},{"$f":"T47-HLOOKUP(X47,#REF!,6,FALSE)","v":{"$error":"#VALUE!"}},{"$f":"T47-HLOOKUP(X47,#REF!,7,FALSE)","v":{"$error":"#VALUE!"}},{"$f":"T47-HLOOKUP(X47,#REF!,8,FALSE)","v":{"$error":"#VALUE!"}},{"$f":"T47-HLOOKUP(X47,#REF!,9,FALSE)","v":{"$error":"#VALUE!"}},null,null,null,null,null,null,null,{"$error":"#VALUE!"},null,null,null,null,null,null,null,null,null,null,{"$f":"#REF!","v":{"$error":"#REF!"}}]
["H",null,null,null,null,null,null,null,null,null,null,null,null,null,0,null,null,null,0,"","",null,null,{"$f":"IF(A48=\"F\",(IF(AND(J48>2003,J48<2007),VLOOKUP(K48,Feuil1!$H$11:$N$25,3),VLOOKUP(K48,Feuil1!$H$11:$N$25,2))),IF(A48=\"H\",(IF(AND(J48>2003,J48<2007),VLOOKUP(K48,Feuil1!$A$11:$G$29,3),VLOOKUP(K48,Feuil1!$A$11:$G$29,2)))))","v":{"$error":"#N/A"}},null,{"$f":"T48-HLOOKUP(X48,#REF!,2,FALSE)","v":{"$error":"#VALUE!"}},{"$f":"T48-HLOOKUP(X48,#REF!,3,FALSE)","v":{"$error":"#VALUE!"}},{"$f":"T48-HLOOKUP(X48,#REF!,4,FALSE)","v":{"$error":"#VALUE!"}},{"$f":"T48-HLOOKUP(X48,#REF!,5,FALSE)","v":{"$error":"#VALUE!"}},{"$f":"T48-HLOOKUP(X48,#REF!,6,FALSE)","v":{"$error":"#VALUE!"}},{"$f":"T48-HLOOKUP(X48,#REF!,7,FALSE)","v":{"$error":"#VALUE!"}},{"$f":"T48-HLOOKUP(X48,#REF!,8,FALSE)","v":{"$error":"#VALUE!"}},{"$f":"T48-HLOOKUP(X48,#REF!,9,FALSE)","v":{"$error":"#VALUE!"}},null,null,null,null,null,null,null,{"$error":"#VALUE!"},null,null,null,null,null,null,null,null,null,null,{"$f":"#REF!","v":{"$error":"#REF!"}}]
["H",null,null,null,null,null,null,null,null,null,null,null,null,null,0,null,null,null,0,"","",null,null,{"$f":"IF(A49=\"F\",(IF(AND(J49>2003,J49<2007),VLOOKUP(K49,Feuil1!$H$11:$N$25,3),VLOOKUP(K49,Feuil1!$H$11:$N$25,2))),IF(A49=\"H\",(IF(AND(J49>2003,J49<2007),VLOOKUP(K49,Feuil1!$A$11:$G$29,3),VLOOKUP(K49,Feuil1!$A$11:$G$29,2)))))","v":{"$error":"#N/A"}},null,{"$f":"T49-HLOOKUP(X49,#REF!,2,FALSE)","v":{"$error":"#VALUE!"}},{"$f":"T49-HLOOKUP(X49,#REF!,3,FALSE)","v":{"$error":"#VALUE!"}},{"$f":"T49-HLOOKUP(X49,#REF!,4,FALSE)","v":{"$error":"#VALUE!"}},{"$f":"T49-HLOOKUP(X49,#REF!,5,FALSE)","v":{"$error":"#VALUE!"}},{"$f":"T49-HLOOKUP(X49,#REF!,6,FALSE)","v":{"$error":"#VALUE!"}},{"$f":"T49-HLOOKUP(X49,#REF!,7,FALSE)","v":{"$error":"#VALUE!"}},{"$f":"T49-HLOOKUP(X49,#REF!,8,FALSE)","v":{"$error":"#VALUE!"}},{"$f":"T49-HLOOKUP(X49,#REF!,9,FALSE)","v":{"$error":"#VALUE!"}},null,null,null,null,null,null,null,{"$error":"#VALUE!"},null,null,null,null,null,null,null,null,null,null,{"$f":"#REF!","v":{"$error":"#REF!"}}]
["H",null,null,null,null,null,null,null,null,null,null,null,null,null,0,null,null,null,0,"","",null,null,{"$f":"IF(A50=\"F\",(IF(AND(J50>2003,J50<2007),VLOOKUP(K50,Feuil1!$H$11:$N$25,3),VLOOKUP(K50,Feuil1!$H$11:$N$25,2))),IF(A50=\"H\",(IF(AND(J50>2003,J50<2007),VLOOKUP(K50,Feuil1!$A$11:$G$29,3),VLOOKUP(K50,Feuil1!$A$11:$G$29,2)))))","v":{"$error":"#N/A"}},null,{"$f":"T50-HLOOKUP(X50,#REF!,2,FALSE)","v":{"$error":"#VALUE!"}},{"$f":"T50-HLOOKUP(X50,#REF!,3,FALSE)","v":{"$error":"#VALUE!"}},{"$f":"T50-HLOOKUP(X50,#REF!,4,FALSE)","v":{"$error":"#VALUE!"}},{"$f":"T50-HLOOKUP(X50,#REF!,5,FALSE)","v":{"$error":"#VALUE!"}},{"$f":"T50-HLOOKUP(X50,#REF!,6,FALSE)","v":{"$error":"#VALUE!"}},{"$f":"T50-HLOOKUP(X50,#REF!,7,FALSE)","v":{"$error":"#VALUE!"}},{"$f":"T50-HLOOKUP(X50,#REF!,8,FALSE)","v":{"$error":"#VALUE!"}},{"$f":"T50-HLOOKUP(X50,#REF!,9,FALSE)","v":{"$error":"#VALUE!"}},null,null,null,null,null,null,null,{"$error":"#VALUE!"},null,null,null,null,null,null,null,null,null,null,{"$f":"#REF!","v":{"$error":"#REF!"}}]
["H",null,null,null,null,null,null,null,null,null,null,null,null,null,0,null,null,null,0,"","",null,null,{"$f":"IF(A51=\"F\",(IF(AND(J51>2003,J51<2007),VLOOKUP(K51,Feuil1!$H$11:$N$25,3),VLOOKUP(K51,Feuil1!$H$11:$N$25,2))),IF(A51=\"H\",(IF(AND(J51>2003,J51<2007),VLOOKUP(K51,Feuil1!$A$11:$G$29,3),VLOOKUP(K51,Feuil1!$A$11:$G$29,2)))))","v":{"$error":"#N/A"}},null,{"$f":"T51-HLOOKUP(X51,#REF!,2,FALSE)","v":{"$error":"#VALUE!"}},{"$f":"T51-HLOOKUP(X51,#REF!,3,FALSE)","v":{"$error":"#VALUE!"}},{"$f":"T51-HLOOKUP(X51,#REF!,4,FALSE)","v":{"$error":"#VALUE!"}},{"$f":"T51-HLOOKUP(X51,#REF!,5,FALSE)","v":{"$error":"#VALUE!"}},{"$f":"T51-HLOOKUP(X51,#REF!,6,FALSE)","v":{"$error":"#VALUE!"}},{"$f":"T51-HLOOKUP(X51,#REF!,7,FALSE)","v":{"$error":"#VALUE!"}},{"$f":"T51-HLOOKUP(X51,#REF!,8,FALSE)","v":{"$error":"#VALUE!"}},{"$f":"T51-HLOOKUP(X51,#REF!,9,FALSE)","v":{"$error":"#VALUE!"}},null,null,null,null,null,null,null,{"$error":"#VALUE!"},null,null,null,null,null,null,null,null,null,null,{"$f":"#REF!","v":{"$error":"#REF!"}}]
["H",null,null,null,null,null,null,null,null,null,null,null,null,null,0,null,null,null,0,"","",null,null,{"$f":"IF(A52=\"F\",(IF(AND(J52>2003,J52<2007),VLOOKUP(K52,Feuil1!$H$11:$N$25,3),VLOOKUP(K52,Feuil1!$H$11:$N$25,2))),IF(A52=\"H\",(IF(AND(J52>2003,J52<2007),VLOOKUP(K52,Feuil1!$A$11:$G$29,3),VLOOKUP(K52,Feuil1!$A$11:$G$29,2)))))","v":{"$error":"#N/A"}},null,{"$f":"T52-HLOOKUP(X52,#REF!,2,FALSE)","v":{"$error":"#VALUE!"}},{"$f":"T52-HLOOKUP(X52,#REF!,3,FALSE)","v":{"$error":"#VALUE!"}},{"$f":"T52-HLOOKUP(X52,#REF!,4,FALSE)","v":{"$error":"#VALUE!"}},{"$f":"T52-HLOOKUP(X52,#REF!,5,FALSE)","v":{"$error":"#VALUE!"}},{"$f":"T52-HLOOKUP(X52,#REF!,6,FALSE)","v":{"$error":"#VALUE!"}},{"$f":"T52-HLOOKUP(X52,#REF!,7,FALSE)","v":{"$error":"#VALUE!"}},{"$f":"T52-HLOOKUP(X52,#REF!,8,FALSE)","v":{"$error":"#VALUE!"}},{"$f":"T52-HLOOKUP(X52,#REF!,9,FALSE)","v":{"$error":"#VALUE!"}},null,null,null,null,null,null,null,{"$error":"#VALUE!"},null,null,null,null,null,null,null,null,null,null,{"$f":"#REF!","v":{"$error":"#REF!"}}]
["H",null,null,null,null,null,null,null,null,null,null,null,null,null,0,null,null,null,0,"","",null,null,{"$f":"IF(A53=\"F\",(IF(AND(J53>2003,J53<2007),VLOOKUP(K53,Feuil1!$H$11:$N$25,3),VLOOKUP(K53,Feuil1!$H$11:$N$25,2))),IF(A53=\"H\",(IF(AND(J53>2003,J53<2007),VLOOKUP(K53,Feuil1!$A$11:$G$29,3),VLOOKUP(K53,Feuil1!$A$11:$G$29,2)))))","v":{"$error":"#N/A"}},null,{"$f":"T53-HLOOKUP(X53,#REF!,2,FALSE)","v":{"$error":"#VALUE!"}},{"$f":"T53-HLOOKUP(X53,#REF!,3,FALSE)","v":{"$error":"#VALUE!"}},{"$f":"T53-HLOOKUP(X53,#REF!,4,FALSE)","v":{"$error":"#VALUE!"}},{"$f":"T53-HLOOKUP(X53,#REF!,5,FALSE)","v":{"$error":"#VALUE!"}},{"$f":"T53-HLOOKUP(X53,#REF!,6,FALSE)","v":{"$error":"#VALUE!"}},{"$f":"T53-HLOOKUP(X53,#REF!,7,FALSE)","v":{"$error":"#VALUE!"}},{"$f":"T53-HLOOKUP(X53,#REF!,8,FALSE)","v":{"$error":"#VALUE!"}},{"$f":"T53-HLOOKUP(X53,#REF!,9,FALSE)","v":{"$error":"#VALUE!"}},null,null,null,null,null,null,null,{"$error":"#VALUE!"},null,null,null,null,null,null,null,null,null,null,{"$f":"#REF!","v":{"$error":"#REF!"}}]
["H",null,null,null,null,null,null,null,null,null,null,null,null,null,0,null,null,null,0,"","",null,null,{"$f":"IF(A54=\"F\",(IF(AND(J54>2003,J54<2007),VLOOKUP(K54,Feuil1!$H$11:$N$25,3),VLOOKUP(K54,Feuil1!$H$11:$N$25,2))),IF(A54=\"H\",(IF(AND(J54>2003,J54<2007),VLOOKUP(K54,Feuil1!$A$11:$G$29,3),VLOOKUP(K54,Feuil1!$A$11:$G$29,2)))))","v":{"$error":"#N/A"}},null,{"$f":"T54-HLOOKUP(X54,#REF!,2,FALSE)","v":{"$error":"#VALUE!"}},{"$f":"T54-HLOOKUP(X54,#REF!,3,FALSE)","v":{"$error":"#VALUE!"}},{"$f":"T54-HLOOKUP(X54,#REF!,4,FALSE)","v":{"$error":"#VALUE!"}},{"$f":"T54-HLOOKUP(X54,#REF!,5,FALSE)","v":{"$error":"#VALUE!"}},{"$f":"T54-HLOOKUP(X54,#REF!,6,FALSE)","v":{"$error":"#VALUE!"}},{"$f":"T54-HLOOKUP(X54,#REF!,7,FALSE)","v":{"$error":"#VALUE!"}},{"$f":"T54-HLOOKUP(X54,#REF!,8,FALSE)","v":{"$error":"#VALUE!"}},{"$f":"T54-HLOOKUP(X54,#REF!,9,FALSE)","v":{"$error":"#VALUE!"}},null,null,null,null,null,null,null,{"$error":"#VALUE!"},null,null,null,null,null,null,null,null,null,null,{"$f":"#REF!","v":{"$error":"#REF!"}}]
["H",null,null,null,null,null,null,null,null,null,null,null,null,null,0,null,null,null,0,"","",null,null,{"$f":"IF(A55=\"F\",(IF(AND(J55>2003,J55<2007),VLOOKUP(K55,Feuil1!$H$11:$N$25,3),VLOOKUP(K55,Feuil1!$H$11:$N$25,2))),IF(A55=\"H\",(IF(AND(J55>2003,J55<2007),VLOOKUP(K55,Feuil1!$A$11:$G$29,3),VLOOKUP(K55,Feuil1!$A$11:$G$29,2)))))","v":{"$error":"#N/A"}},null,{"$f":"T55-HLOOKUP(X55,#REF!,2,FALSE)","v":{"$error":"#VALUE!"}},{"$f":"T55-HLOOKUP(X55,#REF!,3,FALSE)","v":{"$error":"#VALUE!"}},{"$f":"T55-HLOOKUP(X55,#REF!,4,FALSE)","v":{"$error":"#VALUE!"}},{"$f":"T55-HLOOKUP(X55,#REF!,5,FALSE)","v":{"$error":"#VALUE!"}},{"$f":"T55-HLOOKUP(X55,#REF!,6,FALSE)","v":{"$error":"#VALUE!"}},{"$f":"T55-HLOOKUP(X55,#REF!,7,FALSE)","v":{"$error":"#VALUE!"}},{"$f":"T55-HLOOKUP(X55,#REF!,8,FALSE)","v":{"$error":"#VALUE!"}},{"$f":"T55-HLOOKUP(X55,#REF!,9,FALSE)","v":{"$error":"#VALUE!"}},null,null,null,null,null,null,null,{"$error":"#VALUE!"},null,null,null,null,null,null,null,null,null,null,{"$f":"#REF!","v":{"$error":"#REF!"}}]
["H",null,null,null,null,null,null,null,null,null,null,null,null,null,0,null,null,null,0,"","",null,null,{"$f":"IF(A56=\"F\",(IF(AND(J56>2003,J56<2007),VLOOKUP(K56,Feuil1!$H$11:$N$25,3),VLOOKUP(K56,Feuil1!$H$11:$N$25,2))),IF(A56=\"H\",(IF(AND(J56>2003,J56<2007),VLOOKUP(K56,Feuil1!$A$11:$G$29,3),VLOOKUP(K56,Feuil1!$A$11:$G$29,2)))))","v":{"$error":"#N/A"}},null,{"$f":"T56-HLOOKUP(X56,#REF!,2,FALSE)","v":{"$error":"#VALUE!"}},{"$f":"T56-HLOOKUP(X56,#REF!,3,FALSE)","v":{"$error":"#VALUE!"}},{"$f":"T56-HLOOKUP(X56,#REF!,4,FALSE)","v":{"$error":"#VALUE!"}},{"$f":"T56-HLOOKUP(X56,#REF!,5,FALSE)","v":{"$error":"#VALUE!"}},{"$f":"T56-HLOOKUP(X56,#REF!,6,FALSE)","v":{"$error":"#VALUE!"}},{"$f":"T56-HLOOKUP(X56,#REF!,7,FALSE)","v":{"$error":"#VALUE!"}},{"$f":"T56-HLOOKUP(X56,#REF!,8,FALSE)","v":{"$error":"#VALUE!"}},{"$f":"T56-HLOOKUP(X56,#REF!,9,FALSE)","v":{"$error":"#VALUE!"}},null,null,null,null,null,null,null,{"$error":"#VALUE!"},null,null,null,null,null,null,null,null,null,null,{"$f":"#REF!","v":{"$error":"#REF!"}}]
["H",null,null,null,null,null,null,null,null,null,null,null,null,null,0,null,null,null,0,"","",null,null,{"$f":"IF(A57=\"F\",(IF(AND(J57>2003,J57<2007),VLOOKUP(K57,Feuil1!$H$11:$N$25,3),VLOOKUP(K57,Feuil1!$H$11:$N$25,2))),IF(A57=\"H\",(IF(AND(J57>2003,J57<2007),VLOOKUP(K57,Feuil1!$A$11:$G$29,3),VLOOKUP(K57,Feuil1!$A$11:$G$29,2)))))","v":{"$error":"#N/A"}},null,{"$f":"T57-HLOOKUP(X57,#REF!,2,FALSE)","v":{"$error":"#VALUE!"}},{"$f":"T57-HLOOKUP(X57,#REF!,3,FALSE)","v":{"$error":"#VALUE!"}},{"$f":"T57-HLOOKUP(X57,#REF!,4,FALSE)","v":{"$error":"#VALUE!"}},{"$f":"T57-HLOOKUP(X57,#REF!,5,FALSE)","v":{"$error":"#VALUE!"}},{"$f":"T57-HLOOKUP(X57,#REF!,6,FALSE)","v":{"$error":"#VALUE!"}},{"$f":"T57-HLOOKUP(X57,#REF!,7,FALSE)","v":{"$error":"#VALUE!"}},{"$f":"T57-HLOOKUP(X57,#REF!,8,FALSE)","v":{"$error":"#VALUE!"}},{"$f":"T57-HLOOKUP(X57,#REF!,9,FALSE)","v":{"$error":"#VALUE!"}},null,null,null,null,null,null,null,{"$error":"#VALUE!"},null,null,null,null,null,null,null,null,null,null,{"$f":"#REF!","v":{"$error":"#REF!"}}]
["H",null,null,null,null,null,null,null,null,null,null,null,null,null,0,null,null,null,0,"","",null,null,{"$f":"IF(A58=\"F\",(IF(AND(J58>2003,J58<2007),VLOOKUP(K58,Feuil1!$H$11:$N$25,3),VLOOKUP(K58,Feuil1!$H$11:$N$25,2))),IF(A58=\"H\",(IF(AND(J58>2003,J58<2007),VLOOKUP(K58,Feuil1!$A$11:$G$29,3),VLOOKUP(K58,Feuil1!$A$11:$G$29,2)))))","v":{"$error":"#N/A"}},null,{"$f":"T58-HLOOKUP(X58,#REF!,2,FALSE)","v":{"$error":"#VALUE!"}},{"$f":"T58-HLOOKUP(X58,#REF!,3,FALSE)","v":{"$error":"#VALUE!"}},{"$f":"T58-HLOOKUP(X58,#REF!,4,FALSE)","v":{"$error":"#VALUE!"}},{"$f":"T58-HLOOKUP(X58,#REF!,5,FALSE)","v":{"$error":"#VALUE!"}},{"$f":"T58-HLOOKUP(X58,#REF!,6,FALSE)","v":{"$error":"#VALUE!"}},{"$f":"T58-HLOOKUP(X58,#REF!,7,FALSE)","v":{"$error":"#VALUE!"}},{"$f":"T58-HLOOKUP(X58,#REF!,8,FALSE)","v":{"$error":"#VALUE!"}},{"$f":"T58-HLOOKUP(X58,#REF!,9,FALSE)","v":{"$error":"#VALUE!"}},null,null,null,null,null,null,null,{"$error":"#VALUE!"},null,null,null,null,null,null,null,null,null,null,{"$f":"#REF!","v":{"$error":"#REF!"}}]
["H",null,null,null,null,null,null,null,null,null,null,null,null,null,0,null,null,null,0,"","",null,null,{"$f":"IF(A59=\"F\",(IF(AND(J59>2003,J59<2007),VLOOKUP(K59,Feuil1!$H$11:$N$25,3),VLOOKUP(K59,Feuil1!$H$11:$N$25,2))),IF(A59=\"H\",(IF(AND(J59>2003,J59<2007),VLOOKUP(K59,Feuil1!$A$11:$G$29,3),VLOOKUP(K59,Feuil1!$A$11:$G$29,2)))))","v":{"$error":"#N/A"}},null,{"$f":"T59-HLOOKUP(X59,#REF!,2,FALSE)","v":{"$error":"#VALUE!"}},{"$f":"T59-HLOOKUP(X59,#REF!,3,FALSE)","v":{"$error":"#VALUE!"}},{"$f":"T59-HLOOKUP(X59,#REF!,4,FALSE)","v":{"$error":"#VALUE!"}},{"$f":"T59-HLOOKUP(X59,#REF!,5,FALSE)","v":{"$error":"#VALUE!"}},{"$f":"T59-HLOOKUP(X59,#REF!,6,FALSE)","v":{"$error":"#VALUE!"}},{"$f":"T59-HLOOKUP(X59,#REF!,7,FALSE)","v":{"$error":"#VALUE!"}},{"$f":"T59-HLOOKUP(X59,#REF!,8,FALSE)","v":{"$error":"#VALUE!"}},{"$f":"T59-HLOOKUP(X59,#REF!,9,FALSE)","v":{"$error":"#VALUE!"}},null,null,null,null,null,null,null,{"$error":"#VALUE!"},null,null,null,null,null,null,null,null,null,null,{"$f":"#REF!","v":{"$error":"#REF!"}}]
["H",null,null,null,null,null,null,null,null,null,null,null,null,null,0,null,null,null,0,"","",null,null,{"$f":"IF(A60=\"F\",(IF(AND(J60>2003,J60<2007),VLOOKUP(K60,Feuil1!$H$11:$N$25,3),VLOOKUP(K60,Feuil1!$H$11:$N$25,2))),IF(A60=\"H\",(IF(AND(J60>2003,J60<2007),VLOOKUP(K60,Feuil1!$A$11:$G$29,3),VLOOKUP(K60,Feuil1!$A$11:$G$29,2)))))","v":{"$error":"#N/A"}},null,{"$f":"T60-HLOOKUP(X60,#REF!,2,FALSE)","v":{"$error":"#VALUE!"}},{"$f":"T60-HLOOKUP(X60,#REF!,3,FALSE)","v":{"$error":"#VALUE!"}},{"$f":"T60-HLOOKUP(X60,#REF!,4,FALSE)","v":{"$error":"#VALUE!"}},{"$f":"T60-HLOOKUP(X60,#REF!,5,FALSE)","v":{"$error":"#VALUE!"}},{"$f":"T60-HLOOKUP(X60,#REF!,6,FALSE)","v":{"$error":"#VALUE!"}},{"$f":"T60-HLOOKUP(X60,#REF!,7,FALSE)","v":{"$error":"#VALUE!"}},{"$f":"T60-HLOOKUP(X60,#REF!,8,FALSE)","v":{"$error":"#VALUE!"}},{"$f":"T60-HLOOKUP(X60,#REF!,9,FALSE)","v":{"$error":"#VALUE!"}},null,null,null,null,null,null,null,{"$error":"#VALUE!"},null,null,null,null,null,null,null,null,null,null,{"$f":"#REF!","v":{"$error":"#REF!"}}]
["H",null,null,null,null,null,null,null,null,null,null,null,null,null,0,null,null,null,0,"","",null,null,{"$f":"IF(A61=\"F\",(IF(AND(J61>2003,J61<2007),VLOOKUP(K61,Feuil1!$H$11:$N$25,3),VLOOKUP(K61,Feuil1!$H$11:$N$25,2))),IF(A61=\"H\",(IF(AND(J61>2003,J61<2007),VLOOKUP(K61,Feuil1!$A$11:$G$29,3),VLOOKUP(K61,Feuil1!$A$11:$G$29,2)))))","v":{"$error":"#N/A"}},null,{"$f":"T61-HLOOKUP(X61,#REF!,2,FALSE)","v":{"$error":"#VALUE!"}},{"$f":"T61-HLOOKUP(X61,#REF!,3,FALSE)","v":{"$error":"#VALUE!"}},{"$f":"T61-HLOOKUP(X61,#REF!,4,FALSE)","v":{"$error":"#VALUE!"}},{"$f":"T61-HLOOKUP(X61,#REF!,5,FALSE)","v":{"$error":"#VALUE!"}},{"$f":"T61-HLOOKUP(X61,#REF!,6,FALSE)","v":{"$error":"#VALUE!"}},{"$f":"T61-HLOOKUP(X61,#REF!,7,FALSE)","v":{"$error":"#VALUE!"}},{"$f":"T61-HLOOKUP(X61,#REF!,8,FALSE)","v":{"$error":"#VALUE!"}},{"$f":"T61-HLOOKUP(X61,#REF!,9,FALSE)","v":{"$error":"#VALUE!"}},null,null,null,null,null,null,null,{"$error":"#VALUE!"},null,null,null,null,null,null,null,null,null,null,{"$f":"#REF!","v":{"$error":"#REF!"}}]
["H",null,null,null,null,null,null,null,null,null,null,null,null,null,0,null,null,null,0,"","",null,null,{"$f":"IF(A62=\"F\",(IF(AND(J62>2003,J62<2007),VLOOKUP(K62,Feuil1!$H$11:$N$25,3),VLOOKUP(K62,Feuil1!$H$11:$N$25,2))),IF(A62=\"H\",(IF(AND(J62>2003,J62<2007),VLOOKUP(K62,Feuil1!$A$11:$G$29,3),VLOOKUP(K62,Feuil1!$A$11:$G$29,2)))))","v":{"$error":"#N/A"}},null,{"$f":"T62-HLOOKUP(X62,#REF!,2,FALSE)","v":{"$error":"#VALUE!"}},{"$f":"T62-HLOOKUP(X62,#REF!,3,FALSE)","v":{"$error":"#VALUE!"}},{"$f":"T62-HLOOKUP(X62,#REF!,4,FALSE)","v":{"$error":"#VALUE!"}},{"$f":"T62-HLOOKUP(X62,#REF!,5,FALSE)","v":{"$error":"#VALUE!"}},{"$f":"T62-HLOOKUP(X62,#REF!,6,FALSE)","v":{"$error":"#VALUE!"}},{"$f":"T62-HLOOKUP(X62,#REF!,7,FALSE)","v":{"$error":"#VALUE!"}},{"$f":"T62-HLOOKUP(X62,#REF!,8,FALSE)","v":{"$error":"#VALUE!"}},{"$f":"T62-HLOOKUP(X62,#REF!,9,FALSE)","v":{"$error":"#VALUE!"}},null,null,null,null,null,null,null,{"$error":"#VALUE!"},null,null,null,null,null,null,null,null,null,null,{"$f":"#REF!","v":{"$error":"#REF!"}}]
["H",null,null,null,null,null,null,null,null,null,null,null,null,null,0,null,null,null,0,"","",null,null,{"$f":"IF(A63=\"F\",(IF(AND(J63>2003,J63<2007),VLOOKUP(K63,Feuil1!$H$11:$N$25,3),VLOOKUP(K63,Feuil1!$H$11:$N$25,2))),IF(A63=\"H\",(IF(AND(J63>2003,J63<2007),VLOOKUP(K63,Feuil1!$A$11:$G$29,3),VLOOKUP(K63,Feuil1!$A$11:$G$29,2)))))","v":{"$error":"#N/A"}},null,{"$f":"T63-HLOOKUP(X63,#REF!,2,FALSE)","v":{"$error":"#VALUE!"}},{"$f":"T63-HLOOKUP(X63,#REF!,3,FALSE)","v":{"$error":"#VALUE!"}},{"$f":"T63-HLOOKUP(X63,#REF!,4,FALSE)","v":{"$error":"#VALUE!"}},{"$f":"T63-HLOOKUP(X63,#REF!,5,FALSE)","v":{"$error":"#VALUE!"}},{"$f":"T63-HLOOKUP(X63,#REF!,6,FALSE)","v":{"$error":"#VALUE!"}},{"$f":"T63-HLOOKUP(X63,#REF!,7,FALSE)","v":{"$error":"#VALUE!"}},{"$f":"T63-HLOOKUP(X63,#REF!,8,FALSE)","v":{"$error":"#VALUE!"}},{"$f":"T63-HLOOKUP(X63,#REF!,9,FALSE)","v":{"$error":"#VALUE!"}},null,null,null,null,null,null,null,{"$error":"#VALUE!"},null,null,null,null,null,null,null,null,null,null,{"$f":"#REF!","v":{"$error":"#REF!"}}]
["H",null,null,null,null,null,null,null,null,null,null,null,null,null,0,null,null,null,0,"","",null,null,{"$f":"IF(A64=\"F\",(IF(AND(J64>2003,J64<2007),VLOOKUP(K64,Feuil1!$H$11:$N$25,3),VLOOKUP(K64,Feuil1!$H$11:$N$25,2))),IF(A64=\"H\",(IF(AND(J64>2003,J64<2007),VLOOKUP(K64,Feuil1!$A$11:$G$29,3),VLOOKUP(K64,Feuil1!$A$11:$G$29,2)))))","v":{"$error":"#N/A"}},null,{"$f":"T64-HLOOKUP(X64,#REF!,2,FALSE)","v":{"$error":"#VALUE!"}},{"$f":"T64-HLOOKUP(X64,#REF!,3,FALSE)","v":{"$error":"#VALUE!"}},{"$f":"T64-HLOOKUP(X64,#REF!,4,FALSE)","v":{"$error":"#VALUE!"}},{"$f":"T64-HLOOKUP(X64,#REF!,5,FALSE)","v":{"$error":"#VALUE!"}},{"$f":"T64-HLOOKUP(X64,#REF!,6,FALSE)","v":{"$error":"#VALUE!"}},{"$f":"T64-HLOOKUP(X64,#REF!,7,FALSE)","v":{"$error":"#VALUE!"}},{"$f":"T64-HLOOKUP(X64,#REF!,8,FALSE)","v":{"$error":"#VALUE!"}},{"$f":"T64-HLOOKUP(X64,#REF!,9,FALSE)","v":{"$error":"#VALUE!"}},null,null,null,null,null,null,null,{"$error":"#VALUE!"},null,null,null,null,null,null,null,null,null,null,{"$f":"#REF!","v":{"$error":"#REF!"}}]
["H",null,null,null,null,null,null,null,null,null,null,null,null,null,0,null,null,null,0,"","",null,null,{"$f":"IF(A65=\"F\",(IF(AND(J65>2003,J65<2007),VLOOKUP(K65,Feuil1!$H$11:$N$25,3),VLOOKUP(K65,Feuil1!$H$11:$N$25,2))),IF(A65=\"H\",(IF(AND(J65>2003,J65<2007),VLOOKUP(K65,Feuil1!$A$11:$G$29,3),VLOOKUP(K65,Feuil1!$A$11:$G$29,2)))))","v":{"$error":"#N/A"}},null,{"$f":"T65-HLOOKUP(X65,#REF!,2,FALSE)","v":{"$error":"#VALUE!"}},{"$f":"T65-HLOOKUP(X65,#REF!,3,FALSE)","v":{"$error":"#VALUE!"}},{"$f":"T65-HLOOKUP(X65,#REF!,4,FALSE)","v":{"$error":"#VALUE!"}},{"$f":"T65-HLOOKUP(X65,#REF!,5,FALSE)","v":{"$error":"#VALUE!"}},{"$f":"T65-HLOOKUP(X65,#REF!,6,FALSE)","v":{"$error":"#VALUE!"}},{"$f":"T65-HLOOKUP(X65,#REF!,7,FALSE)","v":{"$error":"#VALUE!"}},{"$f":"T65-HLOOKUP(X65,#REF!,8,FALSE)","v":{"$error":"#VALUE!"}},{"$f":"T65-HLOOKUP(X65,#REF!,9,FALSE)","v":{"$error":"#VALUE!"}},null,null,null,null,null,null,null,{"$error":"#VALUE!"},null,null,null,null,null,null,null,null,null,null,{"$f":"#REF!","v":{"$error":"#REF!"}}]
["H",null,null,null,null,null,null,null,null,null,null,null,null,null,0,null,null,null,0,"","",null,null,{"$f":"IF(A66=\"F\",(IF(AND(J66>2003,J66<2007),VLOOKUP(K66,Feuil1!$H$11:$N$25,3),VLOOKUP(K66,Feuil1!$H$11:$N$25,2))),IF(A66=\"H\",(IF(AND(J66>2003,J66<2007),VLOOKUP(K66,Feuil1!$A$11:$G$29,3),VLOOKUP(K66,Feuil1!$A$11:$G$29,2)))))","v":{"$error":"#N/A"}},null,{"$f":"T66-HLOOKUP(X66,#REF!,2,FALSE)","v":{"$error":"#VALUE!"}},{"$f":"T66-HLOOKUP(X66,#REF!,3,FALSE)","v":{"$error":"#VALUE!"}},{"$f":"T66-HLOOKUP(X66,#REF!,4,FALSE)","v":{"$error":"#VALUE!"}},{"$f":"T66-HLOOKUP(X66,#REF!,5,FALSE)","v":{"$error":"#VALUE!"}},{"$f":"T66-HLOOKUP(X66,#REF!,6,FALSE)","v":{"$error":"#VALUE!"}},{"$f":"T66-HLOOKUP(X66,#REF!,7,FALSE)","v":{"$error":"#VALUE!"}},{"$f":"T66-HLOOKUP(X66,#REF!,8,FALSE)","v":{"$error":"#VALUE!"}},{"$f":"T66-HLOOKUP(X66,#REF!,9,FALSE)","v":{"$error":"#VALUE!"}},null,null,null,null,null,null,null,{"$error":"#VALUE!"},null,null,null,null,null,null,null,null,null,null,{"$f":"#REF!","v":{"$error":"#REF!"}}]
["H",null,null,null,null,null,null,null,null,null,null,null,null,null,0,null,null,null,0,"","",null,null,{"$f":"IF(A67=\"F\",(IF(AND(J67>2003,J67<2007),VLOOKUP(K67,Feuil1!$H$11:$N$25,3),VLOOKUP(K67,Feuil1!$H$11:$N$25,2))),IF(A67=\"H\",(IF(AND(J67>2003,J67<2007),VLOOKUP(K67,Feuil1!$A$11:$G$29,3),VLOOKUP(K67,Feuil1!$A$11:$G$29,2)))))","v":{"$error":"#N/A"}},null,{"$f":"T67-HLOOKUP(X67,#REF!,2,FALSE)","v":{"$error":"#VALUE!"}},{"$f":"T67-HLOOKUP(X67,#REF!,3,FALSE)","v":{"$error":"#VALUE!"}},{"$f":"T67-HLOOKUP(X67,#REF!,4,FALSE)","v":{"$error":"#VALUE!"}},{"$f":"T67-HLOOKUP(X67,#REF!,5,FALSE)","v":{"$error":"#VALUE!"}},{"$f":"T67-HLOOKUP(X67,#REF!,6,FALSE)","v":{"$error":"#VALUE!"}},{"$f":"T67-HLOOKUP(X67,#REF!,7,FALSE)","v":{"$error":"#VALUE!"}},{"$f":"T67-HLOOKUP(X67,#REF!,8,FALSE)","v":{"$error":"#VALUE!"}},{"$f":"T67-HLOOKUP(X67,#REF!,9,FALSE)","v":{"$error":"#VALUE!"}},null,null,null,null,null,null,null,{"$error":"#VALUE!"},null,null,null,null,null,null,null,null,null,null,{"$f":"#REF!","v":{"$error":"#REF!"}}]
["H",null,null,null,null,null,null,null,null,null,null,null,null,null,0,null,null,null,0,"","",null,null,{"$f":"IF(A68=\"F\",(IF(AND(J68>2003,J68<2007),VLOOKUP(K68,Feuil1!$H$11:$N$25,3),VLOOKUP(K68,Feuil1!$H$11:$N$25,2))),IF(A68=\"H\",(IF(AND(J68>2003,J68<2007),VLOOKUP(K68,Feuil1!$A$11:$G$29,3),VLOOKUP(K68,Feuil1!$A$11:$G$29,2)))))","v":{"$error":"#N/A"}},null,{"$f":"T68-HLOOKUP(X68,#REF!,2,FALSE)","v":{"$error":"#VALUE!"}},{"$f":"T68-HLOOKUP(X68,#REF!,3,FALSE)","v":{"$error":"#VALUE!"}},{"$f":"T68-HLOOKUP(X68,#REF!,4,FALSE)","v":{"$error":"#VALUE!"}},{"$f":"T68-HLOOKUP(X68,#REF!,5,FALSE)","v":{"$error":"#VALUE!"}},{"$f":"T68-HLOOKUP(X68,#REF!,6,FALSE)","v":{"$error":"#VALUE!"}},{"$f":"T68-HLOOKUP(X68,#REF!,7,FALSE)","v":{"$error":"#VALUE!"}},{"$f":"T68-HLOOKUP(X68,#REF!,8,FALSE)","v":{"$error":"#VALUE!"}},{"$f":"T68-HLOOKUP(X68,#REF!,9,FALSE)","v":{"$error":"#VALUE!"}},null,null,null,null,null,null,null,{"$error":"#VALUE!"},null,null,null,null,null,null,null,null,null,null,{"$f":"#REF!","v":{"$error":"#REF!"}}]
["H",null,null,null,null,null,null,null,null,null,null,null,null,null,0,null,null,null,0,"","",null,null,{"$f":"IF(A69=\"F\",(IF(AND(J69>2003,J69<2007),VLOOKUP(K69,Feuil1!$H$11:$N$25,3),VLOOKUP(K69,Feuil1!$H$11:$N$25,2))),IF(A69=\"H\",(IF(AND(J69>2003,J69<2007),VLOOKUP(K69,Feuil1!$A$11:$G$29,3),VLOOKUP(K69,Feuil1!$A$11:$G$29,2)))))","v":{"$error":"#N/A"}},null,{"$f":"T69-HLOOKUP(X69,#REF!,2,FALSE)","v":{"$error":"#VALUE!"}},{"$f":"T69-HLOOKUP(X69,#REF!,3,FALSE)","v":{"$error":"#VALUE!"}},{"$f":"T69-HLOOKUP(X69,#REF!,4,FALSE)","v":{"$error":"#VALUE!"}},{"$f":"T69-HLOOKUP(X69,#REF!,5,FALSE)","v":{"$error":"#VALUE!"}},{"$f":"T69-HLOOKUP(X69,#REF!,6,FALSE)","v":{"$error":"#VALUE!"}},{"$f":"T69-HLOOKUP(X69,#REF!,7,FALSE)","v":{"$error":"#VALUE!"}},{"$f":"T69-HLOOKUP(X69,#REF!,8,FALSE)","v":{"$error":"#VALUE!"}},{"$f":"T69-HLOOKUP(X69,#REF!,9,FALSE)","v":{"$error":"#VALUE!"}},null,null,null,null,null,null,null,{"$error":"#VALUE!"},null,null,null,null,null,null,null,null,null,null,{"$f":"#REF!","v":{"$error":"#REF!"}}]
["H",null,null,null,null,null,null,null,null,null,null,null,null,null,0,null,null,null,0,"","",null,null,{"$f":"IF(A70=\"F\",(IF(AND(J70>2003,J70<2007),VLOOKUP(K70,Feuil1!$H$11:$N$25,3),VLOOKUP(K70,Feuil1!$H$11:$N$25,2))),IF(A70=\"H\",(IF(AND(J70>2003,J70<2007),VLOOKUP(K70,Feuil1!$A$11:$G$29,3),VLOOKUP(K70,Feuil1!$A$11:$G$29,2)))))","v":{"$error":"#N/A"}},null,{"$f":"T70-HLOOKUP(X70,#REF!,2,FALSE)","v":{"$error":"#VALUE!"}},{"$f":"T70-HLOOKUP(X70,#REF!,3,FALSE)","v":{"$error":"#VALUE!"}},{"$f":"T70-HLOOKUP(X70,#REF!,4,FALSE)","v":{"$error":"#VALUE!"}},{"$f":"T70-HLOOKUP(X70,#REF!,5,FALSE)","v":{"$error":"#VALUE!"}},{"$f":"T70-HLOOKUP(X70,#REF!,6,FALSE)","v":{"$error":"#VALUE!"}},{"$f":"T70-HLOOKUP(X70,#REF!,7,FALSE)","v":{"$error":"#VALUE!"}},{"$f":"T70-HLOOKUP(X70,#REF!,8,FALSE)","v":{"$error":"#VALUE!"}},{"$f":"T70-HLOOKUP(X70,#REF!,9,FALSE)","v":{"$error":"#VALUE!"}},null,null,null,null,null,null,null,{"$error":"#VALUE!"},null,null,null,null,null,null,null,null,null,null,{"$f":"#REF!","v":{"$error":"#REF!"}}]
["H",null,null,null,null,null,null,null,null,null,null,null,null,null,0,null,null,null,0,"","",null,null,{"$f":"IF(A71=\"F\",(IF(AND(J71>2003,J71<2007),VLOOKUP(K71,Feuil1!$H$11:$N$25,3),VLOOKUP(K71,Feuil1!$H$11:$N$25,2))),IF(A71=\"H\",(IF(AND(J71>2003,J71<2007),VLOOKUP(K71,Feuil1!$A$11:$G$29,3),VLOOKUP(K71,Feuil1!$A$11:$G$29,2)))))","v":{"$error":"#N/A"}},null,{"$f":"T71-HLOOKUP(X71,#REF!,2,FALSE)","v":{"$error":"#VALUE!"}},{"$f":"T71-HLOOKUP(X71,#REF!,3,FALSE)","v":{"$error":"#VALUE!"}},{"$f":"T71-HLOOKUP(X71,#REF!,4,FALSE)","v":{"$error":"#VALUE!"}},{"$f":"T71-HLOOKUP(X71,#REF!,5,FALSE)","v":{"$error":"#VALUE!"}},{"$f":"T71-HLOOKUP(X71,#REF!,6,FALSE)","v":{"$error":"#VALUE!"}},{"$f":"T71-HLOOKUP(X71,#REF!,7,FALSE)","v":{"$error":"#VALUE!"}},{"$f":"T71-HLOOKUP(X71,#REF!,8,FALSE)","v":{"$error":"#VALUE!"}},{"$f":"T71-HLOOKUP(X71,#REF!,9,FALSE)","v":{"$error":"#VALUE!"}},null,null,null,null,null,null,null,{"$error":"#VALUE!"},null,null,null,null,null,null,null,null,null,null,{"$f":"#REF!","v":{"$error":"#REF!"}}]
["H",null,null,null,null,null,null,null,null,null,null,null,null,null,0,null,null,null,0,"","",null,null,{"$f":"IF(A72=\"F\",(IF(AND(J72>2003,J72<2007),VLOOKUP(K72,Feuil1!$H$11:$N$25,3),VLOOKUP(K72,Feuil1!$H$11:$N$25,2))),IF(A72=\"H\",(IF(AND(J72>2003,J72<2007),VLOOKUP(K72,Feuil1!$A$11:$G$29,3),VLOOKUP(K72,Feuil1!$A$11:$G$29,2)))))","v":{"$error":"#N/A"}},null,{"$f":"T72-HLOOKUP(X72,#REF!,2,FALSE)","v":{"$error":"#VALUE!"}},{"$f":"T72-HLOOKUP(X72,#REF!,3,FALSE)","v":{"$error":"#VALUE!"}},{"$f":"T72-HLOOKUP(X72,#REF!,4,FALSE)","v":{"$error":"#VALUE!"}},{"$f":"T72-HLOOKUP(X72,#REF!,5,FALSE)","v":{"$error":"#VALUE!"}},{"$f":"T72-HLOOKUP(X72,#REF!,6,FALSE)","v":{"$error":"#VALUE!"}},{"$f":"T72-HLOOKUP(X72,#REF!,7,FALSE)","v":{"$error":"#VALUE!"}},{"$f":"T72-HLOOKUP(X72,#REF!,8,FALSE)","v":{"$error":"#VALUE!"}},{"$f":"T72-HLOOKUP(X72,#REF!,9,FALSE)","v":{"$error":"#VALUE!"}},null,null,null,null,null,null,null,{"$error":"#VALUE!"},null,null,null,null,null,null,null,null,null,null,{"$f":"#REF!","v":{"$error":"#REF!"}}]
["H",null,null,null,null,null,null,null,null,null,null,null,null,null,0,null,null,null,0,"","",null,null,{"$f":"IF(A73=\"F\",(IF(AND(J73>2003,J73<2007),VLOOKUP(K73,Feuil1!$H$11:$N$25,3),VLOOKUP(K73,Feuil1!$H$11:$N$25,2))),IF(A73=\"H\",(IF(AND(J73>2003,J73<2007),VLOOKUP(K73,Feuil1!$A$11:$G$29,3),VLOOKUP(K73,Feuil1!$A$11:$G$29,2)))))","v":{"$error":"#N/A"}},null,{"$f":"T73-HLOOKUP(X73,#REF!,2,FALSE)","v":{"$error":"#VALUE!"}},{"$f":"T73-HLOOKUP(X73,#REF!,3,FALSE)","v":{"$error":"#VALUE!"}},{"$f":"T73-HLOOKUP(X73,#REF!,4,FALSE)","v":{"$error":"#VALUE!"}},{"$f":"T73-HLOOKUP(X73,#REF!,5,FALSE)","v":{"$error":"#VALUE!"}},{"$f":"T73-HLOOKUP(X73,#REF!,6,FALSE)","v":{"$error":"#VALUE!"}},{"$f":"T73-HLOOKUP(X73,#REF!,7,FALSE)","v":{"$error":"#VALUE!"}},{"$f":"T73-HLOOKUP(X73,#REF!,8,FALSE)","v":{"$error":"#VALUE!"}},{"$f":"T73-HLOOKUP(X73,#REF!,9,FALSE)","v":{"$error":"#VALUE!"}},null,null,null,null,null,null,null,{"$error":"#VALUE!"},null,null,null,null,null,null,null,null,null,null,{"$f":"#REF!","v":{"$error":"#REF!"}}]
["H",null,null,null,null,null,null,null,null,null,null,null,null,null,0,null,null,null,0,"","",null,null,{"$f":"IF(A74=\"F\",(IF(AND(J74>2003,J74<2007),VLOOKUP(K74,Feuil1!$H$11:$N$25,3),VLOOKUP(K74,Feuil1!$H$11:$N$25,2))),IF(A74=\"H\",(IF(AND(J74>2003,J74<2007),VLOOKUP(K74,Feuil1!$A$11:$G$29,3),VLOOKUP(K74,Feuil1!$A$11:$G$29,2)))))","v":{"$error":"#N/A"}},null,{"$f":"T74-HLOOKUP(X74,#REF!,2,FALSE)","v":{"$error":"#VALUE!"}},{"$f":"T74-HLOOKUP(X74,#REF!,3,FALSE)","v":{"$error":"#VALUE!"}},{"$f":"T74-HLOOKUP(X74,#REF!,4,FALSE)","v":{"$error":"#VALUE!"}},{"$f":"T74-HLOOKUP(X74,#REF!,5,FALSE)","v":{"$error":"#VALUE!"}},{"$f":"T74-HLOOKUP(X74,#REF!,6,FALSE)","v":{"$error":"#VALUE!"}},{"$f":"T74-HLOOKUP(X74,#REF!,7,FALSE)","v":{"$error":"#VALUE!"}},{"$f":"T74-HLOOKUP(X74,#REF!,8,FALSE)","v":{"$error":"#VALUE!"}},{"$f":"T74-HLOOKUP(X74,#REF!,9,FALSE)","v":{"$error":"#VALUE!"}},null,null,null,null,null,null,null,{"$error":"#VALUE!"},null,null,null,null,null,null,null,null,null,null,{"$f":"#REF!","v":{"$error":"#REF!"}}]
["H",null,null,null,null,null,null,null,null,null,null,null,null,null,0,null,null,null,0,"","",null,null,{"$f":"IF(A75=\"F\",(IF(AND(J75>2003,J75<2007),VLOOKUP(K75,Feuil1!$H$11:$N$25,3),VLOOKUP(K75,Feuil1!$H$11:$N$25,2))),IF(A75=\"H\",(IF(AND(J75>2003,J75<2007),VLOOKUP(K75,Feuil1!$A$11:$G$29,3),VLOOKUP(K75,Feuil1!$A$11:$G$29,2)))))","v":{"$error":"#N/A"}},null,{"$f":"T75-HLOOKUP(X75,#REF!,2,FALSE)","v":{"$error":"#VALUE!"}},{"$f":"T75-HLOOKUP(X75,#REF!,3,FALSE)","v":{"$error":"#VALUE!"}},{"$f":"T75-HLOOKUP(X75,#REF!,4,FALSE)","v":{"$error":"#VALUE!"}},{"$f":"T75-HLOOKUP(X75,#REF!,5,FALSE)","v":{"$error":"#VALUE!"}},{"$f":"T75-HLOOKUP(X75,#REF!,6,FALSE)","v":{"$error":"#VALUE!"}},{"$f":"T75-HLOOKUP(X75,#REF!,7,FALSE)","v":{"$error":"#VALUE!"}},{"$f":"T75-HLOOKUP(X75,#REF!,8,FALSE)","v":{"$error":"#VALUE!"}},{"$f":"T75-HLOOKUP(X75,#REF!,9,FALSE)","v":{"$error":"#VALUE!"}},null,null,null,null,null,null,null,{"$error":"#VALUE!"},null,null,null,null,null,null,null,null,null,null,{"$f":"#REF!","v":{"$error":"#REF!"}}]
["H",null,null,null,null,null,null,null,null,null,null,null,null,null,0,null,null,null,0,"","",null,null,{"$f":"IF(A76=\"F\",(IF(AND(J76>2003,J76<2007),VLOOKUP(K76,Feuil1!$H$11:$N$25,3),VLOOKUP(K76,Feuil1!$H$11:$N$25,2))),IF(A76=\"H\",(IF(AND(J76>2003,J76<2007),VLOOKUP(K76,Feuil1!$A$11:$G$29,3),VLOOKUP(K76,Feuil1!$A$11:$G$29,2)))))","v":{"$error":"#N/A"}},null,{"$f":"T76-HLOOKUP(X76,#REF!,2,FALSE)","v":{"$error":"#VALUE!"}},{"$f":"T76-HLOOKUP(X76,#REF!,3,FALSE)","v":{"$error":"#VALUE!"}},{"$f":"T76-HLOOKUP(X76,#REF!,4,FALSE)","v":{"$error":"#VALUE!"}},{"$f":"T76-HLOOKUP(X76,#REF!,5,FALSE)","v":{"$error":"#VALUE!"}},{"$f":"T76-HLOOKUP(X76,#REF!,6,FALSE)","v":{"$error":"#VALUE!"}},{"$f":"T76-HLOOKUP(X76,#REF!,7,FALSE)","v":{"$error":"#VALUE!"}},{"$f":"T76-HLOOKUP(X76,#REF!,8,FALSE)","v":{"$error":"#VALUE!"}},{"$f":"T76-HLOOKUP(X76,#REF!,9,FALSE)","v":{"$error":"#VALUE!"}},null,null,null,null,null,null,null,{"$error":"#VALUE!"},null,null,null,null,null,null,null,null,null,null,{"$f":"#REF!","v":{"$error":"#REF!"}}]
["H",null,null,null,null,null,null,null,null,null,null,null,null,null,0,null,null,null,0,"","",null,null,{"$f":"IF(A77=\"F\",(IF(AND(J77>2003,J77<2007),VLOOKUP(K77,Feuil1!$H$11:$N$25,3),VLOOKUP(K77,Feuil1!$H$11:$N$25,2))),IF(A77=\"H\",(IF(AND(J77>2003,J77<2007),VLOOKUP(K77,Feuil1!$A$11:$G$29,3),VLOOKUP(K77,Feuil1!$A$11:$G$29,2)))))","v":{"$error":"#N/A"}},null,{"$f":"T77-HLOOKUP(X77,#REF!,2,FALSE)","v":{"$error":"#VALUE!"}},{"$f":"T77-HLOOKUP(X77,#REF!,3,FALSE)","v":{"$error":"#VALUE!"}},{"$f":"T77-HLOOKUP(X77,#REF!,4,FALSE)","v":{"$error":"#VALUE!"}},{"$f":"T77-HLOOKUP(X77,#REF!,5,FALSE)","v":{"$error":"#VALUE!"}},{"$f":"T77-HLOOKUP(X77,#REF!,6,FALSE)","v":{"$error":"#VALUE!"}},{"$f":"T77-HLOOKUP(X77,#REF!,7,FALSE)","v":{"$error":"#VALUE!"}},{"$f":"T77-HLOOKUP(X77,#REF!,8,FALSE)","v":{"$error":"#VALUE!"}},{"$f":"T77-HLOOKUP(X77,#REF!,9,FALSE)","v":{"$error":"#VALUE!"}},null,null,null,null,null,null,null,{"$error":"#VALUE!"},null,null,null,null,null,null,null,null,null,null,{"$f":"#REF!","v":{"$error":"#REF!"}}]
["H",null,null,null,null,null,null,null,null,null,null,null,null,null,0,null,null,null,0,"","",null,null,{"$f":"IF(A78=\"F\",(IF(AND(J78>2003,J78<2007),VLOOKUP(K78,Feuil1!$H$11:$N$25,3),VLOOKUP(K78,Feuil1!$H$11:$N$25,2))),IF(A78=\"H\",(IF(AND(J78>2003,J78<2007),VLOOKUP(K78,Feuil1!$A$11:$G$29,3),VLOOKUP(K78,Feuil1!$A$11:$G$29,2)))))","v":{"$error":"#N/A"}},null,{"$f":"T78-HLOOKUP(X78,#REF!,2,FALSE)","v":{"$error":"#VALUE!"}},{"$f":"T78-HLOOKUP(X78,#REF!,3,FALSE)","v":{"$error":"#VALUE!"}},{"$f":"T78-HLOOKUP(X78,#REF!,4,FALSE)","v":{"$error":"#VALUE!"}},{"$f":"T78-HLOOKUP(X78,#REF!,5,FALSE)","v":{"$error":"#VALUE!"}},{"$f":"T78-HLOOKUP(X78,#REF!,6,FALSE)","v":{"$error":"#VALUE!"}},{"$f":"T78-HLOOKUP(X78,#REF!,7,FALSE)","v":{"$error":"#VALUE!"}},{"$f":"T78-HLOOKUP(X78,#REF!,8,FALSE)","v":{"$error":"#VALUE!"}},{"$f":"T78-HLOOKUP(X78,#REF!,9,FALSE)","v":{"$error":"#VALUE!"}},null,null,null,null,null,null,null,{"$error":"#VALUE!"},null,null,null,null,null,null,null,null,null,null,{"$f":"#REF!","v":{"$error":"#REF!"}}]
["H",null,null,null,null,null,null,null,null,null,null,null,null,null,0,null,null,null,0,"","",null,null,{"$f":"IF(A79=\"F\",(IF(AND(J79>2003,J79<2007),VLOOKUP(K79,Feuil1!$H$11:$N$25,3),VLOOKUP(K79,Feuil1!$H$11:$N$25,2))),IF(A79=\"H\",(IF(AND(J79>2003,J79<2007),VLOOKUP(K79,Feuil1!$A$11:$G$29,3),VLOOKUP(K79,Feuil1!$A$11:$G$29,2)))))","v":{"$error":"#N/A"}},null,{"$f":"T79-HLOOKUP(X79,#REF!,2,FALSE)","v":{"$error":"#VALUE!"}},{"$f":"T79-HLOOKUP(X79,#REF!,3,FALSE)","v":{"$error":"#VALUE!"}},{"$f":"T79-HLOOKUP(X79,#REF!,4,FALSE)","v":{"$error":"#VALUE!"}},{"$f":"T79-HLOOKUP(X79,#REF!,5,FALSE)","v":{"$error":"#VALUE!"}},{"$f":"T79-HLOOKUP(X79,#REF!,6,FALSE)","v":{"$error":"#VALUE!"}},{"$f":"T79-HLOOKUP(X79,#REF!,7,FALSE)","v":{"$error":"#VALUE!"}},{"$f":"T79-HLOOKUP(X79,#REF!,8,FALSE)","v":{"$error":"#VALUE!"}},{"$f":"T79-HLOOKUP(X79,#REF!,9,FALSE)","v":{"$error":"#VALUE!"}},null,null,null,null,null,null,null,{"$error":"#VALUE!"},null,null,null,null,null,null,null,null,null,null,{"$f":"#REF!","v":{"$error":"#REF!"}}]
["H",null,null,null,null,null,null,null,null,null,null,null,null,null,{"$f":"IF(MAXA(L80,M80,N80)=MAXA(L80+M80,M80+N80,L80+N80,L80,M80,N80),0,MAXA(L80+M80,M80+N80,L80+N80,L80,M80,N80))","v":0},null,null,null,{"$f":"IF(MAXA(P80,Q80,R80)=MAXA(P80+Q80,Q80+R80,P80+R80,P80,Q80,R80),0,MAXA(P80+Q80,Q80+R80,P80+R80,P80,Q80,R80))","v":0},{"$f":"IF(K80=\"\",\"\",IF(OR(O80=0,S80=0),0,O80+S80))","v":""},"",null,null,{"$f":"IF(A80=\"F\",(IF(AND(J80>2003,J80<2007),VLOOKUP(K80,Feuil1!$H$11:$N$25,3),VLOOKUP(K80,Feuil1!$H$11:$N$25,2))),IF(A80=\"H\",(IF(AND(J80>2003,J80<2007),VLOOKUP(K80,Feuil1!$A$11:$G$29,3),VLOOKUP(K80,Feuil1!$A$11:$G$29,2)))))","v":{"$error":"#N/A"}},null,{"$f":"T80-HLOOKUP(X80,#REF!,2,FALSE)","v":{"$error":"#VALUE!"}},{"$f":"T80-HLOOKUP(X80,#REF!,3,FALSE)","v":{"$error":"#VALUE!"}},{"$f":"T80-HLOOKUP(X80,#REF!,4,FALSE)","v":{"$error":"#VALUE!"}},{"$f":"T80-HLOOKUP(X80,#REF!,5,FALSE)","v":{"$error":"#VALUE!"}},{"$f":"T80-HLOOKUP(X80,#REF!,6,FALSE)","v":{"$error":"#VALUE!"}},{"$f":"T80-HLOOKUP(X80,#REF!,7,FALSE)","v":{"$error":"#VALUE!"}},{"$f":"T80-HLOOKUP(X80,#REF!,8,FALSE)","v":{"$error":"#VALUE!"}},{"$f":"T80-HLOOKUP(X80,#REF!,9,FALSE)","v":{"$error":"#VALUE!"}},null,null,null,null,null,null,null,{"$error":"#VALUE!"},null,null,null,null,null,null,null,null,null,null,{"$f":"#REF!","v":{"$error":"#REF!"}}]
["H",null,null,null,null,null,null,null,null,null,null,null,null,null,0,null,null,null,0,"","",null,null,{"$f":"IF(A81=\"F\",(IF(AND(J81>2003,J81<2007),VLOOKUP(K81,Feuil1!$H$11:$N$25,3),VLOOKUP(K81,Feuil1!$H$11:$N$25,2))),IF(A81=\"H\",(IF(AND(J81>2003,J81<2007),VLOOKUP(K81,Feuil1!$A$11:$G$29,3),VLOOKUP(K81,Feuil1!$A$11:$G$29,2)))))","v":{"$error":"#N/A"}},null,{"$f":"T81-HLOOKUP(X81,#REF!,2,FALSE)","v":{"$error":"#VALUE!"}},{"$f":"T81-HLOOKUP(X81,#REF!,3,FALSE)","v":{"$error":"#VALUE!"}},{"$f":"T81-HLOOKUP(X81,#REF!,4,FALSE)","v":{"$error":"#VALUE!"}},{"$f":"T81-HLOOKUP(X81,#REF!,5,FALSE)","v":{"$error":"#VALUE!"}},{"$f":"T81-HLOOKUP(X81,#REF!,6,FALSE)","v":{"$error":"#VALUE!"}},{"$f":"T81-HLOOKUP(X81,#REF!,7,FALSE)","v":{"$error":"#VALUE!"}},{"$f":"T81-HLOOKUP(X81,#REF!,8,FALSE)","v":{"$error":"#VALUE!"}},{"$f":"T81-HLOOKUP(X81,#REF!,9,FALSE)","v":{"$error":"#VALUE!"}},null,null,null,null,null,null,null,{"$error":"#VALUE!"},null,null,null,null,null,null,null,null,null,null,{"$f":"#REF!","v":{"$error":"#REF!"}}]
["H",null,null,null,null,null,null,null,null,null,null,null,null,null,0,null,null,null,0,"","",null,null,{"$f":"IF(A82=\"F\",(IF(AND(J82>2003,J82<2007),VLOOKUP(K82,Feuil1!$H$11:$N$25,3),VLOOKUP(K82,Feuil1!$H$11:$N$25,2))),IF(A82=\"H\",(IF(AND(J82>2003,J82<2007),VLOOKUP(K82,Feuil1!$A$11:$G$29,3),VLOOKUP(K82,Feuil1!$A$11:$G$29,2)))))","v":{"$error":"#N/A"}},null,{"$f":"T82-HLOOKUP(X82,#REF!,2,FALSE)","v":{"$error":"#VALUE!"}},{"$f":"T82-HLOOKUP(X82,#REF!,3,FALSE)","v":{"$error":"#VALUE!"}},{"$f":"T82-HLOOKUP(X82,#REF!,4,FALSE)","v":{"$error":"#VALUE!"}},{"$f":"T82-HLOOKUP(X82,#REF!,5,FALSE)","v":{"$error":"#VALUE!"}},{"$f":"T82-HLOOKUP(X82,#REF!,6,FALSE)","v":{"$error":"#VALUE!"}},{"$f":"T82-HLOOKUP(X82,#REF!,7,FALSE)","v":{"$error":"#VALUE!"}},{"$f":"T82-HLOOKUP(X82,#REF!,8,FALSE)","v":{"$error":"#VALUE!"}},{"$f":"T82-HLOOKUP(X82,#REF!,9,FALSE)","v":{"$error":"#VALUE!"}},null,null,null,null,null,null,null,{"$error":"#VALUE!"},null,null,null,null,null,null,null,null,null,null,{"$f":"#REF!","v":{"$error":"#REF!"}}]
["H",null,null,null,null,null,null,null,null,null,null,null,null,null,0,null,null,null,0,"","",null,null,{"$f":"IF(A83=\"F\",(IF(AND(J83>2003,J83<2007),VLOOKUP(K83,Feuil1!$H$11:$N$25,3),VLOOKUP(K83,Feuil1!$H$11:$N$25,2))),IF(A83=\"H\",(IF(AND(J83>2003,J83<2007),VLOOKUP(K83,Feuil1!$A$11:$G$29,3),VLOOKUP(K83,Feuil1!$A$11:$G$29,2)))))","v":{"$error":"#N/A"}},null,{"$f":"T83-HLOOKUP(X83,#REF!,2,FALSE)","v":{"$error":"#VALUE!"}},{"$f":"T83-HLOOKUP(X83,#REF!,3,FALSE)","v":{"$error":"#VALUE!"}},{"$f":"T83-HLOOKUP(X83,#REF!,4,FALSE)","v":{"$error":"#VALUE!"}},{"$f":"T83-HLOOKUP(X83,#REF!,5,FALSE)","v":{"$error":"#VALUE!"}},{"$f":"T83-HLOOKUP(X83,#REF!,6,FALSE)","v":{"$error":"#VALUE!"}},{"$f":"T83-HLOOKUP(X83,#REF!,7,FALSE)","v":{"$error":"#VALUE!"}},{"$f":"T83-HLOOKUP(X83,#REF!,8,FALSE)","v":{"$error":"#VALUE!"}},{"$f":"T83-HLOOKUP(X83,#REF!,9,FALSE)","v":{"$error":"#VALUE!"}},null,null,null,null,null,null,null,{"$error":"#VALUE!"},null,null,null,null,null,null,null,null,null,null,{"$f":"#REF!","v":{"$error":"#REF!"}}]
["H",null,null,null,null,null,null,null,null,null,null,null,null,null,0,null,null,null,0,"","",null,null,{"$f":"IF(A84=\"F\",(IF(AND(J84>2003,J84<2007),VLOOKUP(K84,Feuil1!$H$11:$N$25,3),VLOOKUP(K84,Feuil1!$H$11:$N$25,2))),IF(A84=\"H\",(IF(AND(J84>2003,J84<2007),VLOOKUP(K84,Feuil1!$A$11:$G$29,3),VLOOKUP(K84,Feuil1!$A$11:$G$29,2)))))","v":{"$error":"#N/A"}},null,{"$f":"T84-HLOOKUP(X84,#REF!,2,FALSE)","v":{"$error":"#VALUE!"}},{"$f":"T84-HLOOKUP(X84,#REF!,3,FALSE)","v":{"$error":"#VALUE!"}},{"$f":"T84-HLOOKUP(X84,#REF!,4,FALSE)","v":{"$error":"#VALUE!"}},{"$f":"T84-HLOOKUP(X84,#REF!,5,FALSE)","v":{"$error":"#VALUE!"}},{"$f":"T84-HLOOKUP(X84,#REF!,6,FALSE)","v":{"$error":"#VALUE!"}},{"$f":"T84-HLOOKUP(X84,#REF!,7,FALSE)","v":{"$error":"#VALUE!"}},{"$f":"T84-HLOOKUP(X84,#REF!,8,FALSE)","v":{"$error":"#VALUE!"}},{"$f":"T84-HLOOKUP(X84,#REF!,9,FALSE)","v":{"$error":"#VALUE!"}},null,null,null,null,null,null,null,{"$error":"#VALUE!"},null,null,null,null,null,null,null,null,null,null,{"$f":"#REF!","v":{"$error":"#REF!"}}]
["H",null,null,null,null,null,null,null,null,null,null,null,null,null,0,null,null,null,0,"","",null,null,{"$f":"IF(A85=\"F\",(IF(AND(J85>2003,J85<2007),VLOOKUP(K85,Feuil1!$H$11:$N$25,3),VLOOKUP(K85,Feuil1!$H$11:$N$25,2))),IF(A85=\"H\",(IF(AND(J85>2003,J85<2007),VLOOKUP(K85,Feuil1!$A$11:$G$29,3),VLOOKUP(K85,Feuil1!$A$11:$G$29,2)))))","v":{"$error":"#N/A"}},null,{"$f":"T85-HLOOKUP(X85,#REF!,2,FALSE)","v":{"$error":"#VALUE!"}},{"$f":"T85-HLOOKUP(X85,#REF!,3,FALSE)","v":{"$error":"#VALUE!"}},{"$f":"T85-HLOOKUP(X85,#REF!,4,FALSE)","v":{"$error":"#VALUE!"}},{"$f":"T85-HLOOKUP(X85,#REF!,5,FALSE)","v":{"$error":"#VALUE!"}},{"$f":"T85-HLOOKUP(X85,#REF!,6,FALSE)","v":{"$error":"#VALUE!"}},{"$f":"T85-HLOOKUP(X85,#REF!,7,FALSE)","v":{"$error":"#VALUE!"}},{"$f":"T85-HLOOKUP(X85,#REF!,8,FALSE)","v":{"$error":"#VALUE!"}},{"$f":"T85-HLOOKUP(X85,#REF!,9,FALSE)","v":{"$error":"#VALUE!"}},null,null,null,null,null,null,null,{"$error":"#VALUE!"},null,null,null,null,null,null,null,null,null,null,{"$f":"#REF!","v":{"$error":"#REF!"}}]
["H",null,null,null,null,null,null,null,null,null,null,null,null,null,0,null,null,null,0,"","",null,null,{"$f":"IF(A86=\"F\",(IF(AND(J86>2003,J86<2007),VLOOKUP(K86,Feuil1!$H$11:$N$25,3),VLOOKUP(K86,Feuil1!$H$11:$N$25,2))),IF(A86=\"H\",(IF(AND(J86>2003,J86<2007),VLOOKUP(K86,Feuil1!$A$11:$G$29,3),VLOOKUP(K86,Feuil1!$A$11:$G$29,2)))))","v":{"$error":"#N/A"}},null,{"$f":"T86-HLOOKUP(X86,#REF!,2,FALSE)","v":{"$error":"#VALUE!"}},{"$f":"T86-HLOOKUP(X86,#REF!,3,FALSE)","v":{"$error":"#VALUE!"}},{"$f":"T86-HLOOKUP(X86,#REF!,4,FALSE)","v":{"$error":"#VALUE!"}},{"$f":"T86-HLOOKUP(X86,#REF!,5,FALSE)","v":{"$error":"#VALUE!"}},{"$f":"T86-HLOOKUP(X86,#REF!,6,FALSE)","v":{"$error":"#VALUE!"}},{"$f":"T86-HLOOKUP(X86,#REF!,7,FALSE)","v":{"$error":"#VALUE!"}},{"$f":"T86-HLOOKUP(X86,#REF!,8,FALSE)","v":{"$error":"#VALUE!"}},{"$f":"T86-HLOOKUP(X86,#REF!,9,FALSE)","v":{"$error":"#VALUE!"}},null,null,null,null,null,null,null,{"$error":"#VALUE!"},null,null,null,null,null,null,null,null,null,null,{"$f":"#REF!","v":{"$error":"#REF!"}}]
["H",null,null,null,null,null,null,null,null,null,null,null,null,null,0,null,null,null,0,"","",null,null,{"$f":"IF(A87=\"F\",(IF(AND(J87>2003,J87<2007),VLOOKUP(K87,Feuil1!$H$11:$N$25,3),VLOOKUP(K87,Feuil1!$H$11:$N$25,2))),IF(A87=\"H\",(IF(AND(J87>2003,J87<2007),VLOOKUP(K87,Feuil1!$A$11:$G$29,3),VLOOKUP(K87,Feuil1!$A$11:$G$29,2)))))","v":{"$error":"#N/A"}},null,{"$f":"T87-HLOOKUP(X87,#REF!,2,FALSE)","v":{"$error":"#VALUE!"}},{"$f":"T87-HLOOKUP(X87,#REF!,3,FALSE)","v":{"$error":"#VALUE!"}},{"$f":"T87-HLOOKUP(X87,#REF!,4,FALSE)","v":{"$error":"#VALUE!"}},{"$f":"T87-HLOOKUP(X87,#REF!,5,FALSE)","v":{"$error":"#VALUE!"}},{"$f":"T87-HLOOKUP(X87,#REF!,6,FALSE)","v":{"$error":"#VALUE!"}},{"$f":"T87-HLOOKUP(X87,#REF!,7,FALSE)","v":{"$error":"#VALUE!"}},{"$f":"T87-HLOOKUP(X87,#REF!,8,FALSE)","v":{"$error":"#VALUE!"}},{"$f":"T87-HLOOKUP(X87,#REF!,9,FALSE)","v":{"$error":"#VALUE!"}},null,null,null,null,null,null,null,{"$error":"#VALUE!"},null,null,null,null,null,null,null,null,null,null,{"$f":"#REF!","v":{"$error":"#REF!"}}]
["H",null,null,null,null,null,null,null,null,null,null,null,null,null,0,null,null,null,0,"","",null,null,{"$f":"IF(A88=\"F\",(IF(AND(J88>2003,J88<2007),VLOOKUP(K88,Feuil1!$H$11:$N$25,3),VLOOKUP(K88,Feuil1!$H$11:$N$25,2))),IF(A88=\"H\",(IF(AND(J88>2003,J88<2007),VLOOKUP(K88,Feuil1!$A$11:$G$29,3),VLOOKUP(K88,Feuil1!$A$11:$G$29,2)))))","v":{"$error":"#N/A"}},null,{"$f":"T88-HLOOKUP(X88,#REF!,2,FALSE)","v":{"$error":"#VALUE!"}},{"$f":"T88-HLOOKUP(X88,#REF!,3,FALSE)","v":{"$error":"#VALUE!"}},{"$f":"T88-HLOOKUP(X88,#REF!,4,FALSE)","v":{"$error":"#VALUE!"}},{"$f":"T88-HLOOKUP(X88,#REF!,5,FALSE)","v":{"$error":"#VALUE!"}},{"$f":"T88-HLOOKUP(X88,#REF!,6,FALSE)","v":{"$error":"#VALUE!"}},{"$f":"T88-HLOOKUP(X88,#REF!,7,FALSE)","v":{"$error":"#VALUE!"}},{"$f":"T88-HLOOKUP(X88,#REF!,8,FALSE)","v":{"$error":"#VALUE!"}},{"$f":"T88-HLOOKUP(X88,#REF!,9,FALSE)","v":{"$error":"#VALUE!"}},null,null,null,null,null,null,null,{"$error":"#VALUE!"},null,null,null,null,null,null,null,null,null,null,{"$f":"#REF!","v":{"$error":"#REF!"}}]
["H",null,null,null,null,null,null,null,null,null,null,null,null,null,0,null,null,null,0,"","",null,null,{"$f":"IF(A89=\"F\",(IF(AND(J89>2003,J89<2007),VLOOKUP(K89,Feuil1!$H$11:$N$25,3),VLOOKUP(K89,Feuil1!$H$11:$N$25,2))),IF(A89=\"H\",(IF(AND(J89>2003,J89<2007),VLOOKUP(K89,Feuil1!$A$11:$G$29,3),VLOOKUP(K89,Feuil1!$A$11:$G$29,2)))))","v":{"$error":"#N/A"}},null,{"$f":"T89-HLOOKUP(X89,#REF!,2,FALSE)","v":{"$error":"#VALUE!"}},{"$f":"T89-HLOOKUP(X89,#REF!,3,FALSE)","v":{"$error":"#VALUE!"}},{"$f":"T89-HLOOKUP(X89,#REF!,4,FALSE)","v":{"$error":"#VALUE!"}},{"$f":"T89-HLOOKUP(X89,#REF!,5,FALSE)","v":{"$error":"#VALUE!"}},{"$f":"T89-HLOOKUP(X89,#REF!,6,FALSE)","v":{"$error":"#VALUE!"}},{"$f":"T89-HLOOKUP(X89,#REF!,7,FALSE)","v":{"$error":"#VALUE!"}},{"$f":"T89-HLOOKUP(X89,#REF!,8,FALSE)","v":{"$error":"#VALUE!"}},{"$f":"T89-HLOOKUP(X89,#REF!,9,FALSE)","v":{"$error":"#VALUE!"}},null,null,null,null,null,null,null,{"$error":"#VALUE!"},null,null,null,null,null,null,null,null,null,null,{"$f":"#REF!","v":{"$error":"#REF!"}}]
["H",null,null,null,null,null,null,null,null,null,null,null,null,null,0,null,null,null,0,"","",null,null,{"$f":"IF(A90=\"F\",(IF(AND(J90>2003,J90<2007),VLOOKUP(K90,Feuil1!$H$11:$N$25,3),VLOOKUP(K90,Feuil1!$H$11:$N$25,2))),IF(A90=\"H\",(IF(AND(J90>2003,J90<2007),VLOOKUP(K90,Feuil1!$A$11:$G$29,3),VLOOKUP(K90,Feuil1!$A$11:$G$29,2)))))","v":{"$error":"#N/A"}},null,{"$f":"T90-HLOOKUP(X90,#REF!,2,FALSE)","v":{"$error":"#VALUE!"}},{"$f":"T90-HLOOKUP(X90,#REF!,3,FALSE)","v":{"$error":"#VALUE!"}},{"$f":"T90-HLOOKUP(X90,#REF!,4,FALSE)","v":{"$error":"#VALUE!"}},{"$f":"T90-HLOOKUP(X90,#REF!,5,FALSE)","v":{"$error":"#VALUE!"}},{"$f":"T90-HLOOKUP(X90,#REF!,6,FALSE)","v":{"$error":"#VALUE!"}},{"$f":"T90-HLOOKUP(X90,#REF!,7,FALSE)","v":{"$error":"#VALUE!"}},{"$f":"T90-HLOOKUP(X90,#REF!,8,FALSE)","v":{"$error":"#VALUE!"}},{"$f":"T90-HLOOKUP(X90,#REF!,9,FALSE)","v":{"$error":"#VALUE!"}},null,null,null,null,null,null,null,{"$error":"#VALUE!"},null,null,null,null,null,null,null,null,null,null,{"$f":"#REF!","v":{"$error":"#REF!"}}]
["H",null,null,null,null,null,null,null,null,null,null,null,null,null,0,null,null,null,0,"","",null,null,{"$f":"IF(A91=\"F\",(IF(AND(J91>2003,J91<2007),VLOOKUP(K91,Feuil1!$H$11:$N$25,3),VLOOKUP(K91,Feuil1!$H$11:$N$25,2))),IF(A91=\"H\",(IF(AND(J91>2003,J91<2007),VLOOKUP(K91,Feuil1!$A$11:$G$29,3),VLOOKUP(K91,Feuil1!$A$11:$G$29,2)))))","v":{"$error":"#N/A"}},null,{"$f":"T91-HLOOKUP(X91,#REF!,2,FALSE)","v":{"$error":"#VALUE!"}},{"$f":"T91-HLOOKUP(X91,#REF!,3,FALSE)","v":{"$error":"#VALUE!"}},{"$f":"T91-HLOOKUP(X91,#REF!,4,FALSE)","v":{"$error":"#VALUE!"}},{"$f":"T91-HLOOKUP(X91,#REF!,5,FALSE)","v":{"$error":"#VALUE!"}},{"$f":"T91-HLOOKUP(X91,#REF!,6,FALSE)","v":{"$error":"#VALUE!"}},{"$f":"T91-HLOOKUP(X91,#REF!,7,FALSE)","v":{"$error":"#VALUE!"}},{"$f":"T91-HLOOKUP(X91,#REF!,8,FALSE)","v":{"$error":"#VALUE!"}},{"$f":"T91-HLOOKUP(X91,#REF!,9,FALSE)","v":{"$error":"#VALUE!"}},null,null,null,null,null,null,null,{"$error":"#VALUE!"},null,null,null,null,null,null,null,null,null,null,{"$f":"#REF!","v":{"$error":"#REF!"}}]
["H",null,null,null,null,null,null,null,null,null,null,null,null,null,0,null,null,null,0,"","",null,null,{"$f":"IF(A92=\"F\",(IF(AND(J92>2003,J92<2007),VLOOKUP(K92,Feuil1!$H$11:$N$25,3),VLOOKUP(K92,Feuil1!$H$11:$N$25,2))),IF(A92=\"H\",(IF(AND(J92>2003,J92<2007),VLOOKUP(K92,Feuil1!$A$11:$G$29,3),VLOOKUP(K92,Feuil1!$A$11:$G$29,2)))))","v":{"$error":"#N/A"}},null,{"$f":"T92-HLOOKUP(X92,#REF!,2,FALSE)","v":{"$error":"#VALUE!"}},{"$f":"T92-HLOOKUP(X92,#REF!,3,FALSE)","v":{"$error":"#VALUE!"}},{"$f":"T92-HLOOKUP(X92,#REF!,4,FALSE)","v":{"$error":"#VALUE!"}},{"$f":"T92-HLOOKUP(X92,#REF!,5,FALSE)","v":{"$error":"#VALUE!"}},{"$f":"T92-HLOOKUP(X92,#REF!,6,FALSE)","v":{"$error":"#VALUE!"}},{"$f":"T92-HLOOKUP(X92,#REF!,7,FALSE)","v":{"$error":"#VALUE!"}},{"$f":"T92-HLOOKUP(X92,#REF!,8,FALSE)","v":{"$error":"#VALUE!"}},{"$f":"T92-HLOOKUP(X92,#REF!,9,FALSE)","v":{"$error":"#VALUE!"}},null,null,null,null,null,null,null,{"$error":"#VALUE!"},null,null,null,null,null,null,null,null,null,null,{"$f":"#REF!","v":{"$error":"#REF!"}}]
["H",null,null,null,null,null,null,null,null,null,null,null,null,null,0,null,null,null,0,"","",null,null,{"$f":"IF(A93=\"F\",(IF(AND(J93>2003,J93<2007),VLOOKUP(K93,Feuil1!$H$11:$N$25,3),VLOOKUP(K93,Feuil1!$H$11:$N$25,2))),IF(A93=\"H\",(IF(AND(J93>2003,J93<2007),VLOOKUP(K93,Feuil1!$A$11:$G$29,3),VLOOKUP(K93,Feuil1!$A$11:$G$29,2)))))","v":{"$error":"#N/A"}},null,{"$f":"T93-HLOOKUP(X93,#REF!,2,FALSE)","v":{"$error":"#VALUE!"}},{"$f":"T93-HLOOKUP(X93,#REF!,3,FALSE)","v":{"$error":"#VALUE!"}},{"$f":"T93-HLOOKUP(X93,#REF!,4,FALSE)","v":{"$error":"#VALUE!"}},{"$f":"T93-HLOOKUP(X93,#REF!,5,FALSE)","v":{"$error":"#VALUE!"}},{"$f":"T93-HLOOKUP(X93,#REF!,6,FALSE)","v":{"$error":"#VALUE!"}},{"$f":"T93-HLOOKUP(X93,#REF!,7,FALSE)","v":{"$error":"#VALUE!"}},{"$f":"T93-HLOOKUP(X93,#REF!,8,FALSE)","v":{"$error":"#VALUE!"}},{"$f":"T93-HLOOKUP(X93,#REF!,9,FALSE)","v":{"$error":"#VALUE!"}},null,null,null,null,null,null,null,{"$error":"#VALUE!"},null,null,null,null,null,null,null,null,null,null,{"$f":"#REF!","v":{"$error":"#REF!"}}]
["H",null,null,null,null,null,null,null,null,null,null,null,null,null,0,null,null,null,0,"","",null,null,{"$f":"IF(A94=\"F\",(IF(AND(J94>2003,J94<2007),VLOOKUP(K94,Feuil1!$H$11:$N$25,3),VLOOKUP(K94,Feuil1!$H$11:$N$25,2))),IF(A94=\"H\",(IF(AND(J94>2003,J94<2007),VLOOKUP(K94,Feuil1!$A$11:$G$29,3),VLOOKUP(K94,Feuil1!$A$11:$G$29,2)))))","v":{"$error":"#N/A"}},null,{"$f":"T94-HLOOKUP(X94,#REF!,2,FALSE)","v":{"$error":"#VALUE!"}},{"$f":"T94-HLOOKUP(X94,#REF!,3,FALSE)","v":{"$error":"#VALUE!"}},{"$f":"T94-HLOOKUP(X94,#REF!,4,FALSE)","v":{"$error":"#VALUE!"}},{"$f":"T94-HLOOKUP(X94,#REF!,5,FALSE)","v":{"$error":"#VALUE!"}},{"$f":"T94-HLOOKUP(X94,#REF!,6,FALSE)","v":{"$error":"#VALUE!"}},{"$f":"T94-HLOOKUP(X94,#REF!,7,FALSE)","v":{"$error":"#VALUE!"}},{"$f":"T94-HLOOKUP(X94,#REF!,8,FALSE)","v":{"$error":"#VALUE!"}},{"$f":"T94-HLOOKUP(X94,#REF!,9,FALSE)","v":{"$error":"#VALUE!"}},null,null,null,null,null,null,null,{"$error":"#VALUE!"},null,null,null,null,null,null,null,null,null,null,{"$f":"#REF!","v":{"$error":"#REF!"}}]
["H",null,null,null,null,null,null,null,null,null,null,null,null,null,0,null,null,null,0,"","",null,null,{"$f":"IF(A95=\"F\",(IF(AND(J95>2003,J95<2007),VLOOKUP(K95,Feuil1!$H$11:$N$25,3),VLOOKUP(K95,Feuil1!$H$11:$N$25,2))),IF(A95=\"H\",(IF(AND(J95>2003,J95<2007),VLOOKUP(K95,Feuil1!$A$11:$G$29,3),VLOOKUP(K95,Feuil1!$A$11:$G$29,2)))))","v":{"$error":"#N/A"}},null,{"$f":"T95-HLOOKUP(X95,#REF!,2,FALSE)","v":{"$error":"#VALUE!"}},{"$f":"T95-HLOOKUP(X95,#REF!,3,FALSE)","v":{"$error":"#VALUE!"}},{"$f":"T95-HLOOKUP(X95,#REF!,4,FALSE)","v":{"$error":"#VALUE!"}},{"$f":"T95-HLOOKUP(X95,#REF!,5,FALSE)","v":{"$error":"#VALUE!"}},{"$f":"T95-HLOOKUP(X95,#REF!,6,FALSE)","v":{"$error":"#VALUE!"}},{"$f":"T95-HLOOKUP(X95,#REF!,7,FALSE)","v":{"$error":"#VALUE!"}},{"$f":"T95-HLOOKUP(X95,#REF!,8,FALSE)","v":{"$error":"#VALUE!"}},{"$f":"T95-HLOOKUP(X95,#REF!,9,FALSE)","v":{"$error":"#VALUE!"}},null,null,null,null,null,null,null,{"$error":"#VALUE!"},null,null,null,null,null,null,null,null,null,null,{"$f":"#REF!","v":{"$error":"#REF!"}}]
["H",null,null,null,null,null,null,null,null,null,null,null,null,null,0,null,null,null,0,"","",null,null,{"$f":"IF(A96=\"F\",(IF(AND(J96>2003,J96<2007),VLOOKUP(K96,Feuil1!$H$11:$N$25,3),VLOOKUP(K96,Feuil1!$H$11:$N$25,2))),IF(A96=\"H\",(IF(AND(J96>2003,J96<2007),VLOOKUP(K96,Feuil1!$A$11:$G$29,3),VLOOKUP(K96,Feuil1!$A$11:$G$29,2)))))","v":{"$error":"#N/A"}},null,{"$f":"T96-HLOOKUP(X96,#REF!,2,FALSE)","v":{"$error":"#VALUE!"}},{"$f":"T96-HLOOKUP(X96,#REF!,3,FALSE)","v":{"$error":"#VALUE!"}},{"$f":"T96-HLOOKUP(X96,#REF!,4,FALSE)","v":{"$error":"#VALUE!"}},{"$f":"T96-HLOOKUP(X96,#REF!,5,FALSE)","v":{"$error":"#VALUE!"}},{"$f":"T96-HLOOKUP(X96,#REF!,6,FALSE)","v":{"$error":"#VALUE!"}},{"$f":"T96-HLOOKUP(X96,#REF!,7,FALSE)","v":{"$error":"#VALUE!"}},{"$f":"T96-HLOOKUP(X96,#REF!,8,FALSE)","v":{"$error":"#VALUE!"}},{"$f":"T96-HLOOKUP(X96,#REF!,9,FALSE)","v":{"$error":"#VALUE!"}},null,null,null,null,null,null,null,{"$error":"#VALUE!"},null,null,null,null,null,null,null,null,null,null,{"$f":"#REF!","v":{"$error":"#REF!"}}]
["H",null,null,null,null,null,null,null,null,null,null,null,null,null,0,null,null,null,0,"","",null,null,{"$f":"IF(A97=\"F\",(IF(AND(J97>2003,J97<2007),VLOOKUP(K97,Feuil1!$H$11:$N$25,3),VLOOKUP(K97,Feuil1!$H$11:$N$25,2))),IF(A97=\"H\",(IF(AND(J97>2003,J97<2007),VLOOKUP(K97,Feuil1!$A$11:$G$29,3),VLOOKUP(K97,Feuil1!$A$11:$G$29,2)))))","v":{"$error":"#N/A"}},null,{"$f":"T97-HLOOKUP(X97,#REF!,2,FALSE)","v":{"$error":"#VALUE!"}},{"$f":"T97-HLOOKUP(X97,#REF!,3,FALSE)","v":{"$error":"#VALUE!"}},{"$f":"T97-HLOOKUP(X97,#REF!,4,FALSE)","v":{"$error":"#VALUE!"}},{"$f":"T97-HLOOKUP(X97,#REF!,5,FALSE)","v":{"$error":"#VALUE!"}},{"$f":"T97-HLOOKUP(X97,#REF!,6,FALSE)","v":{"$error":"#VALUE!"}},{"$f":"T97-HLOOKUP(X97,#REF!,7,FALSE)","v":{"$error":"#VALUE!"}},{"$f":"T97-HLOOKUP(X97,#REF!,8,FALSE)","v":{"$error":"#VALUE!"}},{"$f":"T97-HLOOKUP(X97,#REF!,9,FALSE)","v":{"$error":"#VALUE!"}},null,null,null,null,null,null,null,{"$error":"#VALUE!"},null,null,null,null,null,null,null,null,null,null,{"$f":"#REF!","v":{"$error":"#REF!"}}]
["H",null,null,null,null,null,null,null,null,null,null,null,null,null,0,null,null,null,0,"","",null,null,{"$f":"IF(A98=\"F\",(IF(AND(J98>2003,J98<2007),VLOOKUP(K98,Feuil1!$H$11:$N$25,3),VLOOKUP(K98,Feuil1!$H$11:$N$25,2))),IF(A98=\"H\",(IF(AND(J98>2003,J98<2007),VLOOKUP(K98,Feuil1!$A$11:$G$29,3),VLOOKUP(K98,Feuil1!$A$11:$G$29,2)))))","v":{"$error":"#N/A"}},null,{"$f":"T98-HLOOKUP(X98,#REF!,2,FALSE)","v":{"$error":"#VALUE!"}},{"$f":"T98-HLOOKUP(X98,#REF!,3,FALSE)","v":{"$error":"#VALUE!"}},{"$f":"T98-HLOOKUP(X98,#REF!,4,FALSE)","v":{"$error":"#VALUE!"}},{"$f":"T98-HLOOKUP(X98,#REF!,5,FALSE)","v":{"$error":"#VALUE!"}},{"$f":"T98-HLOOKUP(X98,#REF!,6,FALSE)","v":{"$error":"#VALUE!"}},{"$f":"T98-HLOOKUP(X98,#REF!,7,FALSE)","v":{"$error":"#VALUE!"}},{"$f":"T98-HLOOKUP(X98,#REF!,8,FALSE)","v":{"$error":"#VALUE!"}},{"$f":"T98-HLOOKUP(X98,#REF!,9,FALSE)","v":{"$error":"#VALUE!"}},null,null,null,null,null,null,null,{"$error":"#VALUE!"},null,null,null,null,null,null,null,null,null,null,{"$f":"#REF!","v":{"$error":"#REF!"}}]
["H",null,null,null,null,null,null,null,null,null,null,null,null,null,0,null,null,null,0,"","",null,null,{"$f":"IF(A99=\"F\",(IF(AND(J99>2003,J99<2007),VLOOKUP(K99,Feuil1!$H$11:$N$25,3),VLOOKUP(K99,Feuil1!$H$11:$N$25,2))),IF(A99=\"H\",(IF(AND(J99>2003,J99<2007),VLOOKUP(K99,Feuil1!$A$11:$G$29,3),VLOOKUP(K99,Feuil1!$A$11:$G$29,2)))))","v":{"$error":"#N/A"}},null,{"$f":"T99-HLOOKUP(X99,#REF!,2,FALSE)","v":{"$error":"#VALUE!"}},{"$f":"T99-HLOOKUP(X99,#REF!,3,FALSE)","v":{"$error":"#VALUE!"}},{"$f":"T99-HLOOKUP(X99,#REF!,4,FALSE)","v":{"$error":"#VALUE!"}},{"$f":"T99-HLOOKUP(X99,#REF!,5,FALSE)","v":{"$error":"#VALUE!"}},{"$f":"T99-HLOOKUP(X99,#REF!,6,FALSE)","v":{"$error":"#VALUE!"}},{"$f":"T99-HLOOKUP(X99,#REF!,7,FALSE)","v":{"$error":"#VALUE!"}},{"$f":"T99-HLOOKUP(X99,#REF!,8,FALSE)","v":{"$error":"#VALUE!"}},{"$f":"T99-HLOOKUP(X99,#REF!,9,FALSE)","v":{"$error":"#VALUE!"}},null,null,null,null,null,null,null,{"$error":"#VALUE!"},null,null,null,null,null,null,null,null,null,null,{"$f":"#REF!","v":{"$error":"#REF!"}}]
["H",null,null,null,null,null,null,null,null,null,null,null,null,null,0,null,null,null,0,"","",null,null,{"$f":"IF(A100=\"F\",(IF(AND(J100>2003,J100<2007),VLOOKUP(K100,Feuil1!$H$11:$N$25,3),VLOOKUP(K100,Feuil1!$H$11:$N$25,2))),IF(A100=\"H\",(IF(AND(J100>2003,J100<2007),VLOOKUP(K100,Feuil1!$A$11:$G$29,3),VLOOKUP(K100,Feuil1!$A$11:$G$29,2)))))","v":{"$error":"#N/A"}},null,{"$f":"T100-HLOOKUP(X100,#REF!,2,FALSE)","v":{"$error":"#VALUE!"}},{"$f":"T100-HLOOKUP(X100,#REF!,3,FALSE)","v":{"$error":"#VALUE!"}},{"$f":"T100-HLOOKUP(X100,#REF!,4,FALSE)","v":{"$error":"#VALUE!"}},{"$f":"T100-HLOOKUP(X100,#REF!,5,FALSE)","v":{"$error":"#VALUE!"}},{"$f":"T100-HLOOKUP(X100,#REF!,6,FALSE)","v":{"$error":"#VALUE!"}},{"$f":"T100-HLOOKUP(X100,#REF!,7,FALSE)","v":{"$error":"#VALUE!"}},{"$f":"T100-HLOOKUP(X100,#REF!,8,FALSE)","v":{"$error":"#VALUE!"}},{"$f":"T100-HLOOKUP(X100,#REF!,9,FALSE)","v":{"$error":"#VALUE!"}},null,null,null,null,null,null,null,{"$error":"#VALUE!"},null,null,null,null,null,null,null,null,null,null,{"$f":"#REF!","v":{"$error":"#REF!"}}]
["H",null,null,null,null,null,null,null,null,null,null,null,null,null,0,null,null,null,0,"","",null,null,{"$f":"IF(A101=\"F\",(IF(AND(J101>2003,J101<2007),VLOOKUP(K101,Feuil1!$H$11:$N$25,3),VLOOKUP(K101,Feuil1!$H$11:$N$25,2))),IF(A101=\"H\",(IF(AND(J101>2003,J101<2007),VLOOKUP(K101,Feuil1!$A$11:$G$29,3),VLOOKUP(K101,Feuil1!$A$11:$G$29,2)))))","v":{"$error":"#N/A"}},null,{"$f":"T101-HLOOKUP(X101,#REF!,2,FALSE)","v":{"$error":"#VALUE!"}},{"$f":"T101-HLOOKUP(X101,#REF!,3,FALSE)","v":{"$error":"#VALUE!"}},{"$f":"T101-HLOOKUP(X101,#REF!,4,FALSE)","v":{"$error":"#VALUE!"}},{"$f":"T101-HLOOKUP(X101,#REF!,5,FALSE)","v":{"$error":"#VALUE!"}},{"$f":"T101-HLOOKUP(X101,#REF!,6,FALSE)","v":{"$error":"#VALUE!"}},{"$f":"T101-HLOOKUP(X101,#REF!,7,FALSE)","v":{"$error":"#VALUE!"}},{"$f":"T101-HLOOKUP(X101,#REF!,8,FALSE)","v":{"$error":"#VALUE!"}},{"$f":"T101-HLOOKUP(X101,#REF!,9,FALSE)","v":{"$error":"#VALUE!"}},null,null,null,null,null,null,null,{"$error":"#VALUE!"},null,null,null,null,null,null,null,null,null,null,{"$f":"#REF!","v":{"$error":"#REF!"}}]
["F",null,null,null,null,null,null,null,null,null,null,null,null,null,0,null,null,null,0,"","",null,null,{"$f":"IF(A102=\"F\",(IF(AND(J102>2003,J102<2007),VLOOKUP(K102,Feuil1!$H$11:$N$25,3),VLOOKUP(K102,Feuil1!$H$11:$N$25,2))),IF(A102=\"H\",(IF(AND(J102>2003,J102<2007),VLOOKUP(K102,Feuil1!$A$11:$G$29,3),VLOOKUP(K102,Feuil1!$A$11:$G$29,2)))))","v":{"$error":"#N/A"}},null,{"$f":"T102-HLOOKUP(X102,#REF!,2,FALSE)","v":{"$error":"#VALUE!"}},{"$f":"T102-HLOOKUP(X102,#REF!,3,FALSE)","v":{"$error":"#VALUE!"}},{"$f":"T102-HLOOKUP(X102,#REF!,4,FALSE)","v":{"$error":"#VALUE!"}},{"$f":"T102-HLOOKUP(X102,#REF!,5,FALSE)","v":{"$error":"#VALUE!"}},{"$f":"T102-HLOOKUP(X102,#REF!,6,FALSE)","v":{"$error":"#VALUE!"}},{"$f":"T102-HLOOKUP(X102,#REF!,7,FALSE)","v":{"$error":"#VALUE!"}},{"$f":"T102-HLOOKUP(X102,#REF!,8,FALSE)","v":{"$error":"#VALUE!"}},{"$f":"T102-HLOOKUP(X102,#REF!,9,FALSE)","v":{"$error":"#VALUE!"}},null,null,null,null,null,null,null,{"$error":"#VALUE!"}]
["F",null,null,null,null,null,null,null,null,null,null,null,null,null,0,null,null,null,0,"","",null,null,{"$f":"IF(A103=\"F\",(IF(AND(J103>2003,J103<2007),VLOOKUP(K103,Feuil1!$H$11:$N$25,3),VLOOKUP(K103,Feuil1!$H$11:$N$25,2))),IF(A103=\"H\",(IF(AND(J103>2003,J103<2007),VLOOKUP(K103,Feuil1!$A$11:$G$29,3),VLOOKUP(K103,Feuil1!$A$11:$G$29,2)))))","v":{"$error":"#N/A"}},null,{"$f":"T103-HLOOKUP(X103,#REF!,2,FALSE)","v":{"$error":"#VALUE!"}},{"$f":"T103-HLOOKUP(X103,#REF!,3,FALSE)","v":{"$error":"#VALUE!"}},{"$f":"T103-HLOOKUP(X103,#REF!,4,FALSE)","v":{"$error":"#VALUE!"}},{"$f":"T103-HLOOKUP(X103,#REF!,5,FALSE)","v":{"$error":"#VALUE!"}},{"$f":"T103-HLOOKUP(X103,#REF!,6,FALSE)","v":{"$error":"#VALUE!"}},{"$f":"T103-HLOOKUP(X103,#REF!,7,FALSE)","v":{"$error":"#VALUE!"}},{"$f":"T103-HLOOKUP(X103,#REF!,8,FALSE)","v":{"$error":"#VALUE!"}},{"$f":"T103-HLOOKUP(X103,#REF!,9,FALSE)","v":{"$error":"#VALUE!"}},null,null,null,null,null,null,null,{"$error":"#VALUE!"}]
["F",null,null,null,null,null,null,null,null,null,null,null,null,null,0,null,null,null,0,"","",null,null,{"$f":"IF(A104=\"F\",(IF(AND(J104>2003,J104<2007),VLOOKUP(K104,Feuil1!$H$11:$N$25,3),VLOOKUP(K104,Feuil1!$H$11:$N$25,2))),IF(A104=\"H\",(IF(AND(J104>2003,J104<2007),VLOOKUP(K104,Feuil1!$A$11:$G$29,3),VLOOKUP(K104,Feuil1!$A$11:$G$29,2)))))","v":{"$error":"#N/A"}},null,{"$f":"T104-HLOOKUP(X104,#REF!,2,FALSE)","v":{"$error":"#VALUE!"}},{"$f":"T104-HLOOKUP(X104,#REF!,3,FALSE)","v":{"$error":"#VALUE!"}},{"$f":"T104-HLOOKUP(X104,#REF!,4,FALSE)","v":{"$error":"#VALUE!"}},{"$f":"T104-HLOOKUP(X104,#REF!,5,FALSE)","v":{"$error":"#VALUE!"}},{"$f":"T104-HLOOKUP(X104,#REF!,6,FALSE)","v":{"$error":"#VALUE!"}},{"$f":"T104-HLOOKUP(X104,#REF!,7,FALSE)","v":{"$error":"#VALUE!"}},{"$f":"T104-HLOOKUP(X104,#REF!,8,FALSE)","v":{"$error":"#VALUE!"}},{"$f":"T104-HLOOKUP(X104,#REF!,9,FALSE)","v":{"$error":"#VALUE!"}},null,null,null,null,null,null,null,{"$error":"#VALUE!"}]
["F",null,null,null,null,null,null,null,null,null,null,null,null,null,0,null,null,null,0,"","",null,null,{"$f":"IF(A105=\"F\",(IF(AND(J105>2003,J105<2007),VLOOKUP(K105,Feuil1!$H$11:$N$25,3),VLOOKUP(K105,Feuil1!$H$11:$N$25,2))),IF(A105=\"H\",(IF(AND(J105>2003,J105<2007),VLOOKUP(K105,Feuil1!$A$11:$G$29,3),VLOOKUP(K105,Feuil1!$A$11:$G$29,2)))))","v":{"$error":"#N/A"}},null,{"$f":"T105-HLOOKUP(X105,#REF!,2,FALSE)","v":{"$error":"#VALUE!"}},{"$f":"T105-HLOOKUP(X105,#REF!,3,FALSE)","v":{"$error":"#VALUE!"}},{"$f":"T105-HLOOKUP(X105,#REF!,4,FALSE)","v":{"$error":"#VALUE!"}},{"$f":"T105-HLOOKUP(X105,#REF!,5,FALSE)","v":{"$error":"#VALUE!"}},{"$f":"T105-HLOOKUP(X105,#REF!,6,FALSE)","v":{"$error":"#VALUE!"}},{"$f":"T105-HLOOKUP(X105,#REF!,7,FALSE)","v":{"$error":"#VALUE!"}},{"$f":"T105-HLOOKUP(X105,#REF!,8,FALSE)","v":{"$error":"#VALUE!"}},{"$f":"T105-HLOOKUP(X105,#REF!,9,FALSE)","v":{"$error":"#VALUE!"}},null,null,null,null,null,null,null,{"$error":"#VALUE!"}]
["H",null,null,null,null,null,null,null,null,null,null,null,null,null,0,null,null,null,0,"","",null,null,{"$f":"IF(A106=\"F\",(IF(AND(J106>2003,J106<2007),VLOOKUP(K106,Feuil1!$H$11:$N$25,3),VLOOKUP(K106,Feuil1!$H$11:$N$25,2))),IF(A106=\"H\",(IF(AND(J106>2003,J106<2007),VLOOKUP(K106,Feuil1!$A$11:$G$29,3),VLOOKUP(K106,Feuil1!$A$11:$G$29,2)))))","v":{"$error":"#N/A"}},null,{"$f":"T106-HLOOKUP(X106,#REF!,2,FALSE)","v":{"$error":"#VALUE!"}},{"$f":"T106-HLOOKUP(X106,#REF!,3,FALSE)","v":{"$error":"#VALUE!"}},{"$f":"T106-HLOOKUP(X106,#REF!,4,FALSE)","v":{"$error":"#VALUE!"}},{"$f":"T106-HLOOKUP(X106,#REF!,5,FALSE)","v":{"$error":"#VALUE!"}},{"$f":"T106-HLOOKUP(X106,#REF!,6,FALSE)","v":{"$error":"#VALUE!"}},{"$f":"T106-HLOOKUP(X106,#REF!,7,FALSE)","v":{"$error":"#VALUE!"}},{"$f":"T106-HLOOKUP(X106,#REF!,8,FALSE)","v":{"$error":"#VALUE!"}},{"$f":"T106-HLOOKUP(X106,#REF!,9,FALSE)","v":{"$error":"#VALUE!"}},null,null,null,null,null,null,null,{"$error":"#VALUE!"}]
["H",null,null,null,null,null,null,null,null,null,null,null,null,null,0,null,null,null,0,"","",null,null,{"$f":"IF(A107=\"F\",(IF(AND(J107>2003,J107<2007),VLOOKUP(K107,Feuil1!$H$11:$N$25,3),VLOOKUP(K107,Feuil1!$H$11:$N$25,2))),IF(A107=\"H\",(IF(AND(J107>2003,J107<2007),VLOOKUP(K107,Feuil1!$A$11:$G$29,3),VLOOKUP(K107,Feuil1!$A$11:$G$29,2)))))","v":{"$error":"#N/A"}},null,{"$f":"T107-HLOOKUP(X107,#REF!,2,FALSE)","v":{"$error":"#VALUE!"}},{"$f":"T107-HLOOKUP(X107,#REF!,3,FALSE)","v":{"$error":"#VALUE!"}},{"$f":"T107-HLOOKUP(X107,#REF!,4,FALSE)","v":{"$error":"#VALUE!"}},{"$f":"T107-HLOOKUP(X107,#REF!,5,FALSE)","v":{"$error":"#VALUE!"}},{"$f":"T107-HLOOKUP(X107,#REF!,6,FALSE)","v":{"$error":"#VALUE!"}},{"$f":"T107-HLOOKUP(X107,#REF!,7,FALSE)","v":{"$error":"#VALUE!"}},{"$f":"T107-HLOOKUP(X107,#REF!,8,FALSE)","v":{"$error":"#VALUE!"}},{"$f":"T107-HLOOKUP(X107,#REF!,9,FALSE)","v":{"$error":"#VALUE!"}},null,null,null,null,null,null,null,{"$error":"#VALUE!"}]
["H",null,null,null,null,null,null,null,null,null,null,null,null,null,0,null,null,null,0,"","",null,null,{"$f":"IF(A108=\"F\",(IF(AND(J108>2003,J108<2007),VLOOKUP(K108,Feuil1!$H$11:$N$25,3),VLOOKUP(K108,Feuil1!$H$11:$N$25,2))),IF(A108=\"H\",(IF(AND(J108>2003,J108<2007),VLOOKUP(K108,Feuil1!$A$11:$G$29,3),VLOOKUP(K108,Feuil1!$A$11:$G$29,2)))))","v":{"$error":"#N/A"}},null,{"$f":"T108-HLOOKUP(X108,#REF!,2,FALSE)","v":{"$error":"#VALUE!"}},{"$f":"T108-HLOOKUP(X108,#REF!,3,FALSE)","v":{"$error":"#VALUE!"}},{"$f":"T108-HLOOKUP(X108,#REF!,4,FALSE)","v":{"$error":"#VALUE!"}},{"$f":"T108-HLOOKUP(X108,#REF!,5,FALSE)","v":{"$error":"#VALUE!"}},{"$f":"T108-HLOOKUP(X108,#REF!,6,FALSE)","v":{"$error":"#VALUE!"}},{"$f":"T108-HLOOKUP(X108,#REF!,7,FALSE)","v":{"$error":"#VALUE!"}},{"$f":"T108-HLOOKUP(X108,#REF!,8,FALSE)","v":{"$error":"#VALUE!"}},{"$f":"T108-HLOOKUP(X108,#REF!,9,FALSE)","v":{"$error":"#VALUE!"}},null,null,null,null,null,null,null,{"$error":"#VALUE!"}]
["F",null,null,null,null,null,null,null,null,null,null,null,null,null,0,null,null,null,0,"","",null,null,{"$f":"IF(A109=\"F\",(IF(AND(J109>2003,J109<2007),VLOOKUP(K109,Feuil1!$H$11:$N$25,3),VLOOKUP(K109,Feuil1!$H$11:$N$25,2))),IF(A109=\"H\",(IF(AND(J109>2003,J109<2007),VLOOKUP(K109,Feuil1!$A$11:$G$29,3),VLOOKUP(K109,Feuil1!$A$11:$G$29,2)))))","v":{"$error":"#N/A"}},null,{"$f":"T109-HLOOKUP(X109,#REF!,2,FALSE)","v":{"$error":"#VALUE!"}},{"$f":"T109-HLOOKUP(X109,#REF!,3,FALSE)","v":{"$error":"#VALUE!"}},{"$f":"T109-HLOOKUP(X109,#REF!,4,FALSE)","v":{"$error":"#VALUE!"}},{"$f":"T109-HLOOKUP(X109,#REF!,5,FALSE)","v":{"$error":"#VALUE!"}},{"$f":"T109-HLOOKUP(X109,#REF!,6,FALSE)","v":{"$error":"#VALUE!"}},{"$f":"T109-HLOOKUP(X109,#REF!,7,FALSE)","v":{"$error":"#VALUE!"}},{"$f":"T109-HLOOKUP(X109,#REF!,8,FALSE)","v":{"$error":"#VALUE!"}},{"$f":"T109-HLOOKUP(X109,#REF!,9,FALSE)","v":{"$error":"#VALUE!"}},null,null,null,null,null,null,null,{"$error":"#VALUE!"}]
["H",null,null,null,null,null,null,null,null,null,null,null,null,null,0,null,null,null,0,"","",null,null,{"$f":"IF(A110=\"F\",(IF(AND(J110>2003,J110<2007),VLOOKUP(K110,Feuil1!$H$11:$N$25,3),VLOOKUP(K110,Feuil1!$H$11:$N$25,2))),IF(A110=\"H\",(IF(AND(J110>2003,J110<2007),VLOOKUP(K110,Feuil1!$A$11:$G$29,3),VLOOKUP(K110,Feuil1!$A$11:$G$29,2)))))","v":{"$error":"#N/A"}},null,{"$f":"T110-HLOOKUP(X110,#REF!,2,FALSE)","v":{"$error":"#VALUE!"}},{"$f":"T110-HLOOKUP(X110,#REF!,3,FALSE)","v":{"$error":"#VALUE!"}},{"$f":"T110-HLOOKUP(X110,#REF!,4,FALSE)","v":{"$error":"#VALUE!"}},{"$f":"T110-HLOOKUP(X110,#REF!,5,FALSE)","v":{"$error":"#VALUE!"}},{"$f":"T110-HLOOKUP(X110,#REF!,6,FALSE)","v":{"$error":"#VALUE!"}},{"$f":"T110-HLOOKUP(X110,#REF!,7,FALSE)","v":{"$error":"#VALUE!"}},{"$f":"T110-HLOOKUP(X110,#REF!,8,FALSE)","v":{"$error":"#VALUE!"}},{"$f":"T110-HLOOKUP(X110,#REF!,9,FALSE)","v":{"$error":"#VALUE!"}},null,null,null,null,null,null,null,{"$error":"#VALUE!"}]
[]
[]
[]
[]
[]
[]
[]
[]
[]
[]
[]
[]
[]
[]
[]
[]
[]
[]
[]
[]
[]
[]
[]
[]
[]
[]
[]
[]
[]
[]
[]
[]
[]
[]
[]
[]
[]
[]
[]
[]
[]
[]
[]
[]
[]
[]
[]
[]
[]
[]
[]
[]
[]
[]
[]
[]
[]
[]
[]
[]
[]
[]
[]
[]
[]
[]
[]
[]
[]
[]
[]
[]
[]
[]
[]
[]
[]
[]
[]
[]
[]
[]
[]
[]
[]
[]
[]
[]
[]
[]
[]
[]
[]
[]
[]
[]
[]
[]
[]
[]
[]
[]
[]
[]
[]
[]
[]
[]
[]
[]
[]
[]
[]
[]
[]
[]
[]
[]
[]
[]
[]
[]
[]
[]
[]
[]
[]
[]
[]
[]
[]
[]
[]
[]
[]
[]
[]
[]
[]
[]
[]
[]
[]
[]
[]
[]
[]
[]
[]
[]
[]
[]
[]
[]
[]
[]
[]
[]
[]
[]
[]
[]
[]
[]
[]
[]
[]
[]
[]
[]
[]
[]
[]
[]
[]
[]
[]
[]
[]
[]
[]
[]
[]
[]
[]
[]
[]
[]
[]
[]
[]
[]
[]
[]
[]
[]
[]
[]
[]
[]
[]
[]
[]
[]
[]
[]
[]
[]
[]
[]
[]
[]
[]
[]
[]
[]
[]
[]
[]
[]
[]
[]
[]
[]
[]
[]
[]
[]
[]
[]
[]
[]
[]
[]
[]
[]
[]
[]
[]
[]
[]
[]
[]
[]
[]
[]
[]
[]
[]
[]
[]
[]
[]
[]
[]
[]
[]
[]
[]
[]
[]
[]
[]
[]
[]
[]
[]
[]
[]
[]
[]
[]
[]
[]
[]
[]
[]
[]
[]
[]
[]
[]
[]
[]
[]
[]
[]
[]
[]
[]
[]
[]
[]
[]
[]
[]
[]
[]
[]
[]
[]
[]
[]
[]
[]
[]
[]
[]
[]
[]
[]
[]
[]
[]
[]
[]
[]
[]
[]
[]
[]
[]
[]
[]
[]
[]
[]
[]
[]
[]
[]
[]
[]
[]
[]
[]
[]
[]
[]
[]
[]
[]
[]
[]
[]
[]
[]
[]
[]
[]
[]
[]
[]
[]
[]
[]
[]
[]
[]
[]
[]
[]
[]
[]
[]
[]
[]
[]
[]
[]
[]
[]
[]
[]
[]
[]
[]
[]
[]
[]
[]
[]
[]
[]
[]
[]
[]
[]
[]
[]
[]
[]
[]
[]
[]
[]
[]
[]
[]
[]
[]
[]
[]
[]
[]
[]
[]
[]
[]
[]
[]
[]
[]
[]
[]
[]
[]
[]
[]
[]
[]
[]
[]
[]
[]
[]
[]
[]
[]
[]
[]
[]
[]
[]
[]
[]
[]
[]
[]
[]
[]
[]
[]
[]
[]
[]
[]
[]
[]
[]
[]
[]
[]
[]
[]
[]
[]
[]
[]
[]
[]
[]
[]
[]
[]
[]
[]
[]
[]
[]
[]
[]
[]
[]
[]
[]
[]
[]
[]
[]
[]
[]
[]
[]
[]
[]
[]
[]
[]
[]
[]
[]
[]
[]
[]
[]
[]
[]
[]
[]
[]
[]
[]
[]
[]
[]
[null,null,null,null,null,null,null,null,null,null,null,null,null,null,null,null,null,null,null,null,null,null,null,null,"J69","J77","J85","J94","J105","J+105",null,"J56","J62","J69","J77","J85","J94","J105","J+105",null,"S56","S62","S69","S77","S85","S94","S105","S+105"]
[null,null,null,null,null,null,null,null,null,null,null,null,null,null,null,null,null,null,null,null,null,null,null,null,130,145,160,170,180,190,null,100,115,130,145,160,170,180,190,null,115,135,150,165,180,190,200,210]
[null,null,null,null,null,null,null,null,null,null,null,null,null,null,null,null,null,null,null,null,null,null,null,null,150,165,180,190,200,210,null,115,135,150,165,180,190,200,210,null,130,150,165,185,200,210,220,230]
[null,null,null,null,null,null,null,null,null,null,null,null,null,null,null,null,null,null,null,null,null,null,null,null,165,185,200,210,220,230,null,130,150,165,185,200,210,220,230,null,145,165,180,200,220,230,240,250]
[null,null,null,null,null,null,null,null,null,null,null,null,null,null,null,null,null,null,null,null,null,null,null,null,180,200,220,230,240,250,null,145,165,180,200,220,230,240,250,null,175,195,215,235,250,260,275,280]
[null,null,null,null,null,null,null,null,null,null,null,null,null,null,null,null,null,null,null,null,null,null,null,null,215,235,250,260,275,280,null,175,195,215,235,250,260,275,280,null,210,230,250,270,290,300,310,325]
[null,null,null,null,null,null,null,null,null,null,null,null,null,null,null,null,null,null,null,null,null,null,null,null,250,270,290,300,310,325,null,210,230,250,270,290,300,310,325,null,230,255,275,300,315,335,345,355]
[null,null,null,null,null,null,null,null,null,null,null,null,null,null,null,null,null,null,null,null,null,null,null,null,295,320,335,355,370,380,null,245,270,295,320,335,355,370,380,null,245,270,295,320,335,355,370,380]

{"sheet":"Feuil1","index":1,"n_rows":29,"n_cols":64,"rows_kept":29,"cut":false,"hidden":true,"merged":[]}
[null,null,"FC1 40","FC1 44","FC1 48","FC1 53","FC1 58","FC1 63","FC1 69","FC1 +69","FC2 44","FC2 48","FC2 53","FC2 58","FC2 63","FC2 69","FC2 +69","FJ48","FJ53","FJ58","FJ63","FJ69","FJ75","FJ+75","FS48","FS53","FS58","FS63","FS69","FS75","FS+75","C1 45","C1 50","C1 56","C1 62","C1 69","C1 77","C1 85","C1 94","C1 +94","C2 50","C2 56","C2 62","C2 69","C2 77","C2 85","C2 94","C2 +94","J56","J62","J69","J77","J85","J94","J105","J+105","S56","S62","S69","S77","S85","S94","S105","S+105"]
[null,"DEBUTANT",20,25,30,35,40,45,50,60,30,35,45,50,55,60,70,45,55,60,65,70,80,90,55,65,70,75,80,95,100,35,40,50,75,85,90,100,110,120,45,65,85,95,110,120,125,135,80,90,110,130,145,150,155,165,95,120,130,150,165,170,175,185]
[null,"DEPARTEMENTAL",25,30,35,45,50,55,60,70,40,45,55,60,65,70,80,55,65,70,75,80,95,100,65,75,80,85,90,105,110,50,55,70,95,105,110,120,130,140,65,85,105,115,130,140,145,155,100,120,130,150,165,170,175,185,115,135,150,170,185,190,195,205]
[null,"REGIONAL",35,40,45,55,60,65,70,80,50,55,65,70,75,80,95,65,75,80,85,90,105,110,75,85,90,95,105,115,125,60,65,85,105,115,130,140,145,155,80,100,120,130,150,160,165,175,115,135,150,170,185,190,195,205,130,150,170,190,205,215,220,225]
[null,"INTERREGIONAL",45,50,55,65,70,75,80,95,60,65,75,80,85,90,105,75,85,90,95,105,115,125,85,95,100,110,120,130,140,75,80,100,120,130,150,160,165,175,95,115,135,150,170,180,185,195,130,150,170,190,205,215,220,225,145,170,190,210,225,235,245,250]
[null,"FEDERAL",50,60,65,75,80,85,90,105,70,75,85,90,95,105,115,85,95,100,110,120,130,140,95,105,115,125,135,145,150,90,95,115,135,150,170,180,185,195,110,130,150,170,185,200,210,220,145,170,190,210,225,235,245,250,170,190,210,240,250,260,270,280]
[null,"NATIONAL",60,70,75,85,90,95,105,115,80,85,95,100,110,120,130,95,105,115,125,135,145,150,110,120,130,140,150,160,170,105,110,130,150,170,185,200,210,220,120,145,170,190,200,220,225,235,170,190,220,240,250,260,270,280,190,210,240,265,280,290,300,310]
[null,"INTERNATIONAL B",70,80,85,95,100,110,120,130,90,95,105,115,125,135,145,110,120,130,140,150,160,170,125,140,150,160,170,180,190,115,120,145,170,190,200,220,225,235,135,170,190,210,220,240,250,260,190,210,240,260,280,290,300,310,210,230,260,285,300,310,325,330]
[null,"INTERNATIONAL A",80,90,95,105,115,125,135,145,100,110,120,130,140,150,160,125,135,150,160,170,180,190,140,160,170,180,190,195,210,130,135,170,190,210,220,240,250,260,150,190,210,230,250,260,280,280,210,230,250,285,300,310,325,330,225,255,275,305,325,330,345,355]
[null,"OLYMPIQUE",1000,1000,1000,1000,1000,1000,1000,1000,1000,1000,1000,1000,1000,1000,1000,1000,1000,1000,1000,1000,1000,1000,155,175,190,200,205,210,225,1000,1000,1000,1000,1000,1000,10000,1000,1000,1000,1000,1000,1000,1000,10000,1000,1000,1000,1000,1000,10000,1000,1000,1000,10000,240,270,290,320,345,355,365,375]
[null,"BENJAMIN","MINIME","CADET","CADET","JUNIOR","SENIOR",null,"BENJAMIN","MINIME","CADETTE","CADETTE","JUNIOR","SENIOR"]
[20.010000000000002,"BENJ ","M35","C1 50","C2 50","J56","S56",20.010000000000002,"BENJ ","FM36","FC1 44","FC2 44","FJ48","FS48"]
[20.010000000000002,"BENJ ","M35","C1 50","C2 50","J56","S56",30.01,"BENJ ","FM36","FC1 44","FC2 44","FJ48","FS48"]
[35.01,"BENJ ","M40","C1 50","C2 50","J56","S56",30.01,"BENJ ","FM36","FC1 44","FC2 44","FJ48","FS48"]
[40.01,"BENJ ","M45","C1 50","C2 50","J56","S56",36.01,"BENJ ","FM40","FC1 44","FC2 44","FJ48","FS48"]
[45.01,"BENJ ","M50","C1 50","C2 50","J56","S56",40.01,"BENJ ","FM44","FC1 44","FC2 44","FJ48","FS48"]
[50.01,"BENJ ","M56","C1 56","C2 56","J56","S56",44.01,"BENJ ","FM48","FC1 48","FC2 48","FJ48","FS48"]
[56.01,"BENJ ","M62","C1 62","C2 62","J62","S62",48.01,"BENJ ","FM53","FC1 53","FC2 53","FJ53","FS53"]
[62.01,"BENJ ","M69","C1 69","C2 69","J69","S69",53.01,"BENJ ","FM58","FC1 58","FC2 58","FJ58","FS58"]
[69.010000000000005,"BENJ ","M+69","C1 77","C2 77","J77","S77",58.01,"BENJ ","FM+58","FC1 63","FC2 63","FJ63","FS63"]
[77.010000000000005,"BENJ ","M+69","C1 85","C2 85","J85","S85",63.01,"BENJ ","FM+58","FC1 69","FC2 69","FJ69","FS69"]
[85.01,"BENJ ","M+69","C1 94","C2 94","J94","S94",69.010000000000005,"BENJ ","FM+58","FC1 +69","FC2 +69","FJ75","FS75"]
[94.01,"BENJ ","M+69","C1 +94","C2 +94","J105","S105",75.010000000000005,"BENJ ","FM+58","FC1 +69","FC2 +69","FJ+75","FS+75"]
[105.01,"BENJ ","M+69","C1 +94","C2 +94","J+105","S+105",110,"BENJ ","FM+58","FC1 +69","FC2 +69","FJ+75","FS+75"]
[110,"BENJ ","M+69","C1 +94","C2 +94","J+105","S+105",140,"BENJ ","FM+58","FC1 +69","FC2 +69","FJ+75","FS+75"]
[120,"BENJ ","M+69","C1 +94","C2 +94","J+105","S+105"]
[130,"BENJ ","M+69","C1 +94","C2 +94","J+105","S+105"]
[140,"BENJ ","M+69","C1 +94","C2 +94","J+105","S+105"]
[150,"BENJ ","M+69","C1 +94","C2 +94","J+105","S+105",null,null,null,null,null,null,null,null,null,null,null,null,null,null,null,null,null,null,null,null,null,null,null,null,null,null," "]