{"text_format":"1","workbook":"xlsx","n_sheets":2,"sheets":["Feuil1","MATCH"],"not_rendered":{"charts":0,"images":1,"macros":1,"external_links":0,"defined_names":2,"comments":1,"pivot_tables":0},"unopened":[],"bounds":{"document_bytes":16777216,"sheet_cells":100000,"rows_first":2000,"rows_last":500,"rows_between":2000,"halvings":0,"cell_chars":16384,"cell_head_chars":4096},"cells_cut":0,"cells_raw":0,"read":"whole","date_system":"1900"}

{"sheet":"Feuil1","index":0,"n_rows":29,"n_cols":64,"rows_kept":29,"cut":false,"hidden":true,"merged":[]}
[null,null,"FC1 40","FC1 44","FC1 48","FC1 53","FC1 58","FC1 63","FC1 69","FC1 +69","FC2 44","FC2 48","FC2 53","FC2 58","FC2 63","FC2 69","FC2 +69","FJ48","FJ53","FJ58","FJ63","FJ69","FJ75","FJ+75","FS48","FS53","FS58","FS63","FS69","FS75","FS+75","C1 45","C1 50","C1 56","C1 62","C1 69","C1 77","C1 85","C1 94","C1 +94","C2 50","C2 56","C2 62","C2 69","C2 77","C2 85","C2 94","C2 +94","J56","J62","J69","J77","J85","J94","J105","J+105","S56","S62","S69","S77","S85","S94","S105","S+105"]
[null,"DEBUTANT",20,25,30,35,40,45,50,60,30,35,45,50,55,60,70,45,55,60,65,70,80,90,55,65,70,75,80,95,100,35,40,50,75,85,90,100,110,120,45,65,85,95,110,120,125,135,80,90,110,130,145,150,155,165,95,120,130,150,165,170,175,185]
[null,"DEPARTEMENTAL",25,30,35,45,50,55,60,70,40,45,55,60,65,70,80,55,65,70,75,80,95,100,65,75,80,85,90,105,110,50,55,70,95,105,110,120,130,140,65,85,105,115,130,140,145,155,100,120,130,150,165,170,175,185,115,135,150,170,185,190,195,205]
[null,"REGIONAL",35,40,45,55,60,65,70,80,50,55,65,70,75,80,95,65,75,80,85,90,105,110,75,85,90,95,105,115,125,60,65,85,105,115,130,140,145,155,80,100,120,130,150,160,165,175,115,135,150,170,185,190,195,205,130,150,170,190,205,215,220,225]
[null,"INTERREGIONAL",45,50,55,65,70,75,80,95,60,65,75,80,85,90,105,75,85,90,95,105,115,125,85,95,100,110,120,130,140,75,80,100,120,130,150,160,165,175,95,115,135,150,170,180,185,195,130,150,170,190,205,215,220,225,145,170,190,210,225,235,245,250]
[null,"FEDERAL",50,60,65,75,80,85,90,105,70,75,85,90,95,105,115,85,95,100,110,120,130,140,95,105,115,125,135,145,150,90,95,115,135,150,170,180,185,195,110,130,150,170,185,200,210,220,145,170,190,210,225,235,245,250,170,190,220,240,250,260,270,280]
[null,"NATIONAL",60,70,75,85,90,95,105,115,80,85,95,100,110,120,130,95,105,115,125,135,145,150,110,120,130,140,150,160,170,105,110,130,150,170,185,200,210,220,120,145,170,190,200,220,225,235,170,190,220,240,250,260,270,280,190,210,240,265,280,290,300,310]
[null,"INTERNATIONAL B",70,80,85,95,100,110,120,130,90,95,105,115,125,135,145,110,120,130,140,150,160,170,125,140,150,160,170,180,190,115,120,145,170,190,200,220,225,235,135,170,190,210,220,240,250,260,190,210,240,260,280,290,300,310,210,230,260,285,300,310,325,330]
[null,"INTERNATIONAL A",80,90,95,105,115,125,135,145,100,110,120,130,140,150,160,125,135,150,160,170,180,190,140,160,170,180,190,195,210,130,135,170,190,210,220,240,250,260,150,190,210,230,250,260,280,280,210,230,250,285,300,310,325,330,225,255,275,305,325,330,345,355]
[null,"OLYMPIQUE",1000,1000,1000,1000,1000,1000,1000,1000,1000,1000,1000,1000,1000,1000,1000,1000,1000,1000,1000,1000,1000,1000,155,175,190,200,205,210,225,1000,1000,1000,1000,1000,1000,10000,1000,1000,1000,1000,1000,1000,1000,10000,1000,1000,1000,1000,1000,10000,1000,1000,1000,10000,240,270,290,320,345,355,365,375]
[null,"MINIME","CADET","CADET","JUNIOR","SENIOR",null,"MINIME","CADETTE","CADETTE","JUNIOR","SENIOR"]
[20.010000000000002,"NON","C1 45","C2 50","J56","S56",20.010000000000002,"NON","FC1 40","FC2 44","FJ48","FS48"]
[34.01,"NON","C1 45","C2 50","J56","S56",30.01,"NON","FC1 40","FC2 44","FJ48","FS48"]
[38.01,"NON","C1 45","C2 50","J56","S56",35.01,"NON","FC1 40","FC2 44","FJ48","FS48"]
[40.01,"NON","C1 45","C2 50","J56","S56",36.01,"NON","FC1 40","FC2 44","FJ48","FS48"]
[45.01,"NON","C1 50","C2 50","J56","S56",40.01,"NON","FC1 44","FC2 44","FJ48","FS48"]
[50.01,"NON","C1 56","C2 56","J56","S56",44.01,"NON","FC1 48","FC2 48","FJ48","FS48"]
[52.05,"NON","C1 56","C2 56","J56","S56",48.01,"NON","FC1 53","FC2 53","FJ53","FS53"]
[56.01,"NON","C1 62","C2 62","J62","S62",53.01,"NON","FC1 58","FC2 58","FJ58","FS58"]
[62.01,"NON","C1 69","C2 69","J69","S69",58.01,"NON","FC1 63","FC2 63","FJ63","FS63"]
[69.010000000000005,"NON","C1 77","C2 77","J77","S77",63.01,"NON","FC1 69","FC2 69","FJ69","FS69"]
[77.010000000000005,"NON","C1 85","C2 85","J85","S85",69.010000000000005,"NON","FC1 +69","FC2 +69","FJ75","FS75"]
[85.01,"NON","C1 94","C2 94","J94","S94",75.010000000000005,"NON","FC1 +69","FC2 +69","FJ+75","FS+75"]
[94.01,"NON","C1 +94","C2 +94","J105","S105",110,"NON","FC1 +69","FC2 +69","FJ+75","FS+75"]
[105.01,"NON","C1 +94","C2 +94","J+105","S+105",140,"NON","FC1 +69","FC2 +69","FJ+75","FS+75"]
[110,"NON","C1 +94","C2 +94","J+105","S+105"]
[120,"NON","C1 +94","C2 +94","J+105","S+105"]
[130,"NON","C1 +94","C2 +94","J+105","S+105"]
[140,"NON","C1 +94","C2 +94","J+105","S+105",null,null,null,null,null,null,null,null,null,null,null,null,null,null,null,null,null,null,null,null,null,null,null,null,null,null,null," "]

{"sheet":"MATCH","index":1,"n_rows":844,"n_cols":50,"rows_kept":844,"cut":false,"hidden":false,"merged":[[335,21,335,23],[333,1,333,4],[333,5,333,6],[333,10,333,15],[334,1,334,4],[334,5,334,6],[335,1,335,4],[335,5,335,6],[335,10,335,13],[335,15,335,18],[3,21,3,22],[331,1,331,4],[331,5,331,6],[331,10,331,15],[331,19,331,23],[332,1,332,4],[332,5,332,6],[332,8,332,9],[332,10,332,15],[332,17,332,18],[0,18,0,21],[1,6,1,10],[1,11,1,13],[1,14,1,17],[1,18,1,19],[1,21,1,22],[0,7,0,14]]}
[null,null,null,null,null,"LISTING REGIONAL",null,"MASCULINS et FEMININES",null,null,null,null,null,null,null,null,"DATE :"]
[null,null,null,null,null," ",null,null,null,null,null,"REGION :",null,null,null,null,null,null," "]
[]
["SEXE","ZONE","REG.","CL.","LICENCE","NOMS","Prénoms","AN","POIDS","CLUB","NAT",1,2,3,"ARR",1,2,3,"EP-J","Total",null,"SERIE",null,"Catég","IWF",null," ","DEB ","DEP +","REG +","IRG +","FED +","NAT +","INTB +","INTA +","OLY +"]
["F","SEST","RAL",1,null,null,null,1993,77,null,null,105,null,null,{"$f":"IF(H5=\"\",\"\",IF(MAXA(L5:N5)<=0,0,MAXA(L5:N5)))","v":105},135," ",null,{"$f":"IF(H5=\"\",\"\",IF(MAXA(P5:R5)<=0,0,MAXA(P5:R5)))","v":135},{"$f":"IF(H5=\"\",\"\",IF(OR(O5=0,S5=0),0,O5+S5))","v":240},null,{"$f":"IF(H5=\"\",\"\",AQ5)","v":"OLY +"},{"$f":"IF(AJ5>=0,AJ5,IF(AI5>=0,AI5,IF(AH5>=0,AH5,IF(AG5>=0,AG5,IF(AF5>=0,AF5,IF(AE5>=0,AE5,IF(AD5>=0,AD5,IF(AC5>=0,AC5,AB5))))))))","v":15},{"$f":"IF(I5=\"\",\"\",IF(A5=\"H\",IF(OR(H5=\"SEN\",H5<1997),VLOOKUP(I5,Feuil1!$A$11:$G$29,6),IF(AND(H5>1996,H5<2000),VLOOKUP(I5,Feuil1!$A$11:$G$29,5),IF(AND(H5>1999,H5<2002),VLOOKUP(I5,Feuil1!$A$11:$G$29,4),IF(AND(H5>2001,H5<2004),VLOOKUP(I5,Feuil1!$A$11:$G$29,3),VLOOKUP(I5,Feuil1!$A$11:$G$29,2))))),IF(OR(H5=\"SEN\",H5<1997),VLOOKUP(I5,Feuil1!$G$11:$L$25,6),IF(AND(H5>1996,H5<2000),VLOOKUP(I5,Feuil1!$G$11:$L$25,5),IF(AND(H5>1999,H5<2002),VLOOKUP(I5,Feuil1!$G$11:$L$25,4),IF(AND(H5>2001,H5<2004),VLOOKUP(I5,Feuil1!$G$11:$L$25,3),VLOOKUP(I5,Feuil1!$G$11:$L$25,2)))))))","v":"FS+75"},{"$f":"IF(I5=\"\",\"\",IF(A5=\"H\",10^(0.794358141*LOG(I5/174.393)^2)*T5,IF(A5=\"F\",10^(0.89726074*LOG(I5/148.026)^2)*T5,\"\")))","v":283.46725049767059},null," ",{"$f":"T5-HLOOKUP(X5,Feuil1!$C$1:$BL$10,2,FALSE)","v":140},{"$f":"T5-HLOOKUP(X5,Feuil1!$C$1:$BL$10,3,FALSE)","v":130},{"$f":"T5-HLOOKUP(X5,Feuil1!$C$1:$BL$10,4,FALSE)","v":115},{"$f":"T5-HLOOKUP(X5,Feuil1!$C$1:$BL$10,5,FALSE)","v":100},{"$f":"T5-HLOOKUP(X5,Feuil1!$C$1:$BL$10,6,FALSE)","v":90},{"$f":"T5-HLOOKUP(X5,Feuil1!$C$1:$BL$10,7,FALSE)","v":70},{"$f":"T5-HLOOKUP(X5,Feuil1!$C$1:$BL$10,8,FALSE)","v":50},{"$f":"T5-HLOOKUP(X5,Feuil1!$C$1:$BL$10,9,FALSE)","v":30},{"$f":"T5-HLOOKUP(X5,Feuil1!$C$1:$BL$10,10,FALSE)","v":15},null,null,null,null,null,null,{"$f":"IF(AJ5>=0,$AJ$4,IF(AI5>=0,$AI$4,IF(AH5>=0,$AH$4,IF(AG5>=0,$AG$4,IF(AF5>=0,$AF$4,IF(AE5>=0,$AE$4,IF(AD5>=0,$AD$4,IF(AC5>=0,$AC$4,$AB$4))))))))","v":"OLY +"}]
["F","SEST","CAZ",null,null,null,null,1994,48,null,null,80,null,null,{"$f":"IF(H6=\"\",\"\",IF(MAXA(L6:N6)<=0,0,MAXA(L6:N6)))","v":80},100,null,null,{"$f":"IF(H6=\"\",\"\",IF(MAXA(P6:R6)<=0,0,MAXA(P6:R6)))","v":100},{"$f":"IF(H6=\"\",\"\",IF(OR(O6=0,S6=0),0,O6+S6))","v":180},null,"OLY +",25,{"$f":"IF(I6=\"\",\"\",IF(A6=\"H\",IF(OR(H6=\"SEN\",H6<1997),VLOOKUP(I6,Feuil1!$A$11:$G$29,6),IF(AND(H6>1996,H6<2000),VLOOKUP(I6,Feuil1!$A$11:$G$29,5),IF(AND(H6>1999,H6<2002),VLOOKUP(I6,Feuil1!$A$11:$G$29,4),IF(AND(H6>2001,H6<2004),VLOOKUP(I6,Feuil1!$A$11:$G$29,3),VLOOKUP(I6,Feuil1!$A$11:$G$29,2))))),IF(OR(H6=\"SEN\",H6<1997),VLOOKUP(I6,Feuil1!$G$11:$L$25,6),IF(AND(H6>1996,H6<2000),VLOOKUP(I6,Feuil1!$G$11:$L$25,5),IF(AND(H6>1999,H6<2002),VLOOKUP(I6,Feuil1!$G$11:$L$25,4),IF(AND(H6>2001,H6<2004),VLOOKUP(I6,Feuil1!$G$11:$L$25,3),VLOOKUP(I6,Feuil1!$G$11:$L$25,2)))))))","v":"FS48"},295.06066261577558,null," ",{"$f":"T6-HLOOKUP(X6,Feuil1!$C$1:$BL$10,2,FALSE)","v":125},{"$f":"T6-HLOOKUP(X6,Feuil1!$C$1:$BL$10,3,FALSE)","v":115},{"$f":"T6-HLOOKUP(X6,Feuil1!$C$1:$BL$10,4,FALSE)","v":105},{"$f":"T6-HLOOKUP(X6,Feuil1!$C$1:$BL$10,5,FALSE)","v":95},{"$f":"T6-HLOOKUP(X6,Feuil1!$C$1:$BL$10,6,FALSE)","v":85},{"$f":"T6-HLOOKUP(X6,Feuil1!$C$1:$BL$10,7,FALSE)","v":70},{"$f":"T6-HLOOKUP(X6,Feuil1!$C$1:$BL$10,8,FALSE)","v":55},{"$f":"T6-HLOOKUP(X6,Feuil1!$C$1:$BL$10,9,FALSE)","v":40},{"$f":"T6-HLOOKUP(X6,Feuil1!$C$1:$BL$10,10,FALSE)","v":25},null,null,null,null,null,null,"OLY +"]
["F","SEST","LAN",null,null,null,null,1995,53,null,null,80,null,null,80,100,null,null,100,180,null,"OLY +",5,{"$f":"IF(I7=\"\",\"\",IF(A7=\"H\",IF(OR(H7=\"SEN\",H7<1997),VLOOKUP(I7,Feuil1!$A$11:$G$29,6),IF(AND(H7>1996,H7<2000),VLOOKUP(I7,Feuil1!$A$11:$G$29,5),IF(AND(H7>1999,H7<2002),VLOOKUP(I7,Feuil1!$A$11:$G$29,4),IF(AND(H7>2001,H7<2004),VLOOKUP(I7,Feuil1!$A$11:$G$29,3),VLOOKUP(I7,Feuil1!$A$11:$G$29,2))))),IF(OR(H7=\"SEN\",H7<1997),VLOOKUP(I7,Feuil1!$G$11:$L$25,6),IF(AND(H7>1996,H7<2000),VLOOKUP(I7,Feuil1!$G$11:$L$25,5),IF(AND(H7>1999,H7<2002),VLOOKUP(I7,Feuil1!$G$11:$L$25,4),IF(AND(H7>2001,H7<2004),VLOOKUP(I7,Feuil1!$G$11:$L$25,3),VLOOKUP(I7,Feuil1!$G$11:$L$25,2)))))))","v":"FS53"},271.51995646325616,null," ",{"$f":"T7-HLOOKUP(X7,Feuil1!$C$1:$BL$10,2,FALSE)","v":115},{"$f":"T7-HLOOKUP(X7,Feuil1!$C$1:$BL$10,3,FALSE)","v":105},{"$f":"T7-HLOOKUP(X7,Feuil1!$C$1:$BL$10,4,FALSE)","v":95},{"$f":"T7-HLOOKUP(X7,Feuil1!$C$1:$BL$10,5,FALSE)","v":85},{"$f":"T7-HLOOKUP(X7,Feuil1!$C$1:$BL$10,6,FALSE)","v":75},{"$f":"T7-HLOOKUP(X7,Feuil1!$C$1:$BL$10,7,FALSE)","v":60},{"$f":"T7-HLOOKUP(X7,Feuil1!$C$1:$BL$10,8,FALSE)","v":40},{"$f":"T7-HLOOKUP(X7,Feuil1!$C$1:$BL$10,9,FALSE)","v":20},{"$f":"T7-HLOOKUP(X7,Feuil1!$C$1:$BL$10,10,FALSE)","v":5},null,null,null,null,null,null,"OLY +"]
["F","SEST","PRO",null,null,null,null,1996,69,null,null,70,null,null,70,95,null,null,95,165,null,"NAT +",15,{"$f":"IF(I8=\"\",\"\",IF(A8=\"H\",IF(OR(H8=\"SEN\",H8<1997),VLOOKUP(I8,Feuil1!$A$11:$G$29,6),IF(AND(H8>1996,H8<2000),VLOOKUP(I8,Feuil1!$A$11:$G$29,5),IF(AND(H8>1999,H8<2002),VLOOKUP(I8,Feuil1!$A$11:$G$29,4),IF(AND(H8>2001,H8<2004),VLOOKUP(I8,Feuil1!$A$11:$G$29,3),VLOOKUP(I8,Feuil1!$A$11:$G$29,2))))),IF(OR(H8=\"SEN\",H8<1997),VLOOKUP(I8,Feuil1!$G$11:$L$25,6),IF(AND(H8>1996,H8<2000),VLOOKUP(I8,Feuil1!$G$11:$L$25,5),IF(AND(H8>1999,H8<2002),VLOOKUP(I8,Feuil1!$G$11:$L$25,4),IF(AND(H8>2001,H8<2004),VLOOKUP(I8,Feuil1!$G$11:$L$25,3),VLOOKUP(I8,Feuil1!$G$11:$L$25,2)))))))","v":"FS69"},207.05196208636886,null," ",{"$f":"T8-HLOOKUP(X8,Feuil1!$C$1:$BL$10,2,FALSE)","v":85},{"$f":"T8-HLOOKUP(X8,Feuil1!$C$1:$BL$10,3,FALSE)","v":75},{"$f":"T8-HLOOKUP(X8,Feuil1!$C$1:$BL$10,4,FALSE)","v":60},{"$f":"T8-HLOOKUP(X8,Feuil1!$C$1:$BL$10,5,FALSE)","v":45},{"$f":"T8-HLOOKUP(X8,Feuil1!$C$1:$BL$10,6,FALSE)","v":30},{"$f":"T8-HLOOKUP(X8,Feuil1!$C$1:$BL$10,7,FALSE)","v":15},{"$f":"T8-HLOOKUP(X8,Feuil1!$C$1:$BL$10,8,FALSE)","v":-5},{"$f":"T8-HLOOKUP(X8,Feuil1!$C$1:$BL$10,9,FALSE)","v":-25},{"$f":"T8-HLOOKUP(X8,Feuil1!$C$1:$BL$10,10,FALSE)","v":-40},null,null,null,null,null,null,"NAT +"]
["F","SEST","AUV",null,null,null,null,1997,75,null,null,70,null,null,70,85,null,null,85,155,null,"NAT +",10,{"$f":"IF(I9=\"\",\"\",IF(A9=\"H\",IF(OR(H9=\"SEN\",H9<1997),VLOOKUP(I9,Feuil1!$A$11:$G$29,6),IF(AND(H9>1996,H9<2000),VLOOKUP(I9,Feuil1!$A$11:$G$29,5),IF(AND(H9>1999,H9<2002),VLOOKUP(I9,Feuil1!$A$11:$G$29,4),IF(AND(H9>2001,H9<2004),VLOOKUP(I9,Feuil1!$A$11:$G$29,3),VLOOKUP(I9,Feuil1!$A$11:$G$29,2))))),IF(OR(H9=\"SEN\",H9<1997),VLOOKUP(I9,Feuil1!$G$11:$L$25,6),IF(AND(H9>1996,H9<2000),VLOOKUP(I9,Feuil1!$G$11:$L$25,5),IF(AND(H9>1999,H9<2002),VLOOKUP(I9,Feuil1!$G$11:$L$25,4),IF(AND(H9>2001,H9<2004),VLOOKUP(I9,Feuil1!$G$11:$L$25,3),VLOOKUP(I9,Feuil1!$G$11:$L$25,2)))))))","v":"FJ75"},185.59333874853755,null," ",{"$f":"T9-HLOOKUP(X9,Feuil1!$C$1:$BL$10,2,FALSE)","v":75},{"$f":"T9-HLOOKUP(X9,Feuil1!$C$1:$BL$10,3,FALSE)","v":60},{"$f":"T9-HLOOKUP(X9,Feuil1!$C$1:$BL$10,4,FALSE)","v":50},{"$f":"T9-HLOOKUP(X9,Feuil1!$C$1:$BL$10,5,FALSE)","v":40},{"$f":"T9-HLOOKUP(X9,Feuil1!$C$1:$BL$10,6,FALSE)","v":25},{"$f":"T9-HLOOKUP(X9,Feuil1!$C$1:$BL$10,7,FALSE)","v":10},{"$f":"T9-HLOOKUP(X9,Feuil1!$C$1:$BL$10,8,FALSE)","v":-5},{"$f":"T9-HLOOKUP(X9,Feuil1!$C$1:$BL$10,9,FALSE)","v":-25},{"$f":"T9-HLOOKUP(X9,Feuil1!$C$1:$BL$10,10,FALSE)","v":-845},null,null,null,null,null,null,"NAT +"]
["F",null,null,null,null,null,null,1998,75,null,null,75,null,null,75,90,null,null,90,165,null,"INTB +",5,{"$f":"IF(I10=\"\",\"\",IF(A10=\"H\",IF(OR(H10=\"SEN\",H10<1997),VLOOKUP(I10,Feuil1!$A$11:$G$29,6),IF(AND(H10>1996,H10<2000),VLOOKUP(I10,Feuil1!$A$11:$G$29,5),IF(AND(H10>1999,H10<2002),VLOOKUP(I10,Feuil1!$A$11:$G$29,4),IF(AND(H10>2001,H10<2004),VLOOKUP(I10,Feuil1!$A$11:$G$29,3),VLOOKUP(I10,Feuil1!$A$11:$G$29,2))))),IF(OR(H10=\"SEN\",H10<1997),VLOOKUP(I10,Feuil1!$G$11:$L$25,6),IF(AND(H10>1996,H10<2000),VLOOKUP(I10,Feuil1!$G$11:$L$25,5),IF(AND(H10>1999,H10<2002),VLOOKUP(I10,Feuil1!$G$11:$L$25,4),IF(AND(H10>2001,H10<2004),VLOOKUP(I10,Feuil1!$G$11:$L$25,3),VLOOKUP(I10,Feuil1!$G$11:$L$25,2)))))))","v":"FJ75"},197.56710253876577,null," ",{"$f":"T10-HLOOKUP(X10,Feuil1!$C$1:$BL$10,2,FALSE)","v":85},{"$f":"T10-HLOOKUP(X10,Feuil1!$C$1:$BL$10,3,FALSE)","v":70},{"$f":"T10-HLOOKUP(X10,Feuil1!$C$1:$BL$10,4,FALSE)","v":60},{"$f":"T10-HLOOKUP(X10,Feuil1!$C$1:$BL$10,5,FALSE)","v":50},{"$f":"T10-HLOOKUP(X10,Feuil1!$C$1:$BL$10,6,FALSE)","v":35},{"$f":"T10-HLOOKUP(X10,Feuil1!$C$1:$BL$10,7,FALSE)","v":20},{"$f":"T10-HLOOKUP(X10,Feuil1!$C$1:$BL$10,8,FALSE)","v":5},{"$f":"T10-HLOOKUP(X10,Feuil1!$C$1:$BL$10,9,FALSE)","v":-15},{"$f":"T10-HLOOKUP(X10,Feuil1!$C$1:$BL$10,10,FALSE)","v":-835},null,null,null,null,null,null,"INTB +"]
["F",null,null,null,null,null,null,1999,75,null,null,55,null,null,55,75,null,null,75,130,null,"FED +",0,{"$f":"IF(I11=\"\",\"\",IF(A11=\"H\",IF(OR(H11=\"SEN\",H11<1997),VLOOKUP(I11,Feuil1!$A$11:$G$29,6),IF(AND(H11>1996,H11<2000),VLOOKUP(I11,Feuil1!$A$11:$G$29,5),IF(AND(H11>1999,H11<2002),VLOOKUP(I11,Feuil1!$A$11:$G$29,4),IF(AND(H11>2001,H11<2004),VLOOKUP(I11,Feuil1!$A$11:$G$29,3),VLOOKUP(I11,Feuil1!$A$11:$G$29,2))))),IF(OR(H11=\"SEN\",H11<1997),VLOOKUP(I11,Feuil1!$G$11:$L$25,6),IF(AND(H11>1996,H11<2000),VLOOKUP(I11,Feuil1!$G$11:$L$25,5),IF(AND(H11>1999,H11<2002),VLOOKUP(I11,Feuil1!$G$11:$L$25,4),IF(AND(H11>2001,H11<2004),VLOOKUP(I11,Feuil1!$G$11:$L$25,3),VLOOKUP(I11,Feuil1!$G$11:$L$25,2)))))))","v":"FJ75"},155.65892927296699,null," ",{"$f":"T11-HLOOKUP(X11,Feuil1!$C$1:$BL$10,2,FALSE)","v":50},{"$f":"T11-HLOOKUP(X11,Feuil1!$C$1:$BL$10,3,FALSE)","v":35},{"$f":"T11-HLOOKUP(X11,Feuil1!$C$1:$BL$10,4,FALSE)","v":25},{"$f":"T11-HLOOKUP(X11,Feuil1!$C$1:$BL$10,5,FALSE)","v":15},{"$f":"T11-HLOOKUP(X11,Feuil1!$C$1:$BL$10,6,FALSE)","v":0},{"$f":"T11-HLOOKUP(X11,Feuil1!$C$1:$BL$10,7,FALSE)","v":-15},{"$f":"T11-HLOOKUP(X11,Feuil1!$C$1:$BL$10,8,FALSE)","v":-30},{"$f":"T11-HLOOKUP(X11,Feuil1!$C$1:$BL$10,9,FALSE)","v":-50},{"$f":"T11-HLOOKUP(X11,Feuil1!$C$1:$BL$10,10,FALSE)","v":-870},null,null,null,null,null,null,"FED +"]
["F",null,null,null,null,null,null,2000,58,null,null,52,null,null,52,64,null,null,64,116,null,"INTB +",1,{"$f":"IF(I12=\"\",\"\",IF(A12=\"H\",IF(OR(H12=\"SEN\",H12<1997),VLOOKUP(I12,Feuil1!$A$11:$G$29,6),IF(AND(H12>1996,H12<2000),VLOOKUP(I12,Feuil1!$A$11:$G$29,5),IF(AND(H12>1999,H12<2002),VLOOKUP(I12,Feuil1!$A$11:$G$29,4),IF(AND(H12>2001,H12<2004),VLOOKUP(I12,Feuil1!$A$11:$G$29,3),VLOOKUP(I12,Feuil1!$A$11:$G$29,2))))),IF(OR(H12=\"SEN\",H12<1997),VLOOKUP(I12,Feuil1!$G$11:$L$25,6),IF(AND(H12>1996,H12<2000),VLOOKUP(I12,Feuil1!$G$11:$L$25,5),IF(AND(H12>1999,H12<2002),VLOOKUP(I12,Feuil1!$G$11:$L$25,4),IF(AND(H12>2001,H12<2004),VLOOKUP(I12,Feuil1!$G$11:$L$25,3),VLOOKUP(I12,Feuil1!$G$11:$L$25,2)))))))","v":"FC2 58"},163.31369874863211,null," ",{"$f":"T12-HLOOKUP(X12,Feuil1!$C$1:$BL$10,2,FALSE)","v":66},{"$f":"T12-HLOOKUP(X12,Feuil1!$C$1:$BL$10,3,FALSE)","v":56},{"$f":"T12-HLOOKUP(X12,Feuil1!$C$1:$BL$10,4,FALSE)","v":46},{"$f":"T12-HLOOKUP(X12,Feuil1!$C$1:$BL$10,5,FALSE)","v":36},{"$f":"T12-HLOOKUP(X12,Feuil1!$C$1:$BL$10,6,FALSE)","v":26},{"$f":"T12-HLOOKUP(X12,Feuil1!$C$1:$BL$10,7,FALSE)","v":16},{"$f":"T12-HLOOKUP(X12,Feuil1!$C$1:$BL$10,8,FALSE)","v":1},{"$f":"T12-HLOOKUP(X12,Feuil1!$C$1:$BL$10,9,FALSE)","v":-14},{"$f":"T12-HLOOKUP(X12,Feuil1!$C$1:$BL$10,10,FALSE)","v":-884},null,null,null,null,null,null,"INTB +"]
["F",null,null,null,null,null,null,2001,44,null,null,40,null,null,40,52,null,null,52,92,null,"INTB +",2,{"$f":"IF(I13=\"\",\"\",IF(A13=\"H\",IF(OR(H13=\"SEN\",H13<1997),VLOOKUP(I13,Feuil1!$A$11:$G$29,6),IF(AND(H13>1996,H13<2000),VLOOKUP(I13,Feuil1!$A$11:$G$29,5),IF(AND(H13>1999,H13<2002),VLOOKUP(I13,Feuil1!$A$11:$G$29,4),IF(AND(H13>2001,H13<2004),VLOOKUP(I13,Feuil1!$A$11:$G$29,3),VLOOKUP(I13,Feuil1!$A$11:$G$29,2))))),IF(OR(H13=\"SEN\",H13<1997),VLOOKUP(I13,Feuil1!$G$11:$L$25,6),IF(AND(H13>1996,H13<2000),VLOOKUP(I13,Feuil1!$G$11:$L$25,5),IF(AND(H13>1999,H13<2002),VLOOKUP(I13,Feuil1!$G$11:$L$25,4),IF(AND(H13>2001,H13<2004),VLOOKUP(I13,Feuil1!$G$11:$L$25,3),VLOOKUP(I13,Feuil1!$G$11:$L$25,2)))))))","v":"FC2 44"},163.25809315249666,null," ",{"$f":"T13-HLOOKUP(X13,Feuil1!$C$1:$BL$10,2,FALSE)","v":62},{"$f":"T13-HLOOKUP(X13,Feuil1!$C$1:$BL$10,3,FALSE)","v":52},{"$f":"T13-HLOOKUP(X13,Feuil1!$C$1:$BL$10,4,FALSE)","v":42},{"$f":"T13-HLOOKUP(X13,Feuil1!$C$1:$BL$10,5,FALSE)","v":32},{"$f":"T13-HLOOKUP(X13,Feuil1!$C$1:$BL$10,6,FALSE)","v":22},{"$f":"T13-HLOOKUP(X13,Feuil1!$C$1:$BL$10,7,FALSE)","v":12},{"$f":"T13-HLOOKUP(X13,Feuil1!$C$1:$BL$10,8,FALSE)","v":2},{"$f":"T13-HLOOKUP(X13,Feuil1!$C$1:$BL$10,9,FALSE)","v":-8},{"$f":"T13-HLOOKUP(X13,Feuil1!$C$1:$BL$10,10,FALSE)","v":-908},null,null,null,null,null,null,"INTB +"]
["F",null,null,null,null,null,null,2002,75,null,null,85,null,null,{"$f":"IF(H14=\"\",\"\",IF(MAXA(L14:N14)<=0,0,MAXA(L14:N14)))","v":85},105,null,null,{"$f":"IF(H14=\"\",\"\",IF(MAXA(P14:R14)<=0,0,MAXA(P14:R14)))","v":105},{"$f":"IF(H14=\"\",\"\",IF(OR(O14=0,S14=0),0,O14+S14))","v":190},null,"INTA +",45,{"$f":"IF(I14=\"\",\"\",IF(A14=\"H\",IF(OR(H14=\"SEN\",H14<1997),VLOOKUP(I14,Feuil1!$A$11:$G$29,6),IF(AND(H14>1996,H14<2000),VLOOKUP(I14,Feuil1!$A$11:$G$29,5),IF(AND(H14>1999,H14<2002),VLOOKUP(I14,Feuil1!$A$11:$G$29,4),IF(AND(H14>2001,H14<2004),VLOOKUP(I14,Feuil1!$A$11:$G$29,3),VLOOKUP(I14,Feuil1!$A$11:$G$29,2))))),IF(OR(H14=\"SEN\",H14<1997),VLOOKUP(I14,Feuil1!$G$11:$L$25,6),IF(AND(H14>1996,H14<2000),VLOOKUP(I14,Feuil1!$G$11:$L$25,5),IF(AND(H14>1999,H14<2002),VLOOKUP(I14,Feuil1!$G$11:$L$25,4),IF(AND(H14>2001,H14<2004),VLOOKUP(I14,Feuil1!$G$11:$L$25,3),VLOOKUP(I14,Feuil1!$G$11:$L$25,2)))))))","v":"FC1 +69"},227.50151201433636,null," ",{"$f":"T14-HLOOKUP(X14,Feuil1!$C$1:$BL$10,2,FALSE)","v":130},{"$f":"T14-HLOOKUP(X14,Feuil1!$C$1:$BL$10,3,FALSE)","v":120},{"$f":"T14-HLOOKUP(X14,Feuil1!$C$1:$BL$10,4,FALSE)","v":110},{"$f":"T14-HLOOKUP(X14,Feuil1!$C$1:$BL$10,5,FALSE)","v":95},{"$f":"T14-HLOOKUP(X14,Feuil1!$C$1:$BL$10,6,FALSE)","v":85},{"$f":"T14-HLOOKUP(X14,Feuil1!$C$1:$BL$10,7,FALSE)","v":75},{"$f":"T14-HLOOKUP(X14,Feuil1!$C$1:$BL$10,8,FALSE)","v":60},{"$f":"T14-HLOOKUP(X14,Feuil1!$C$1:$BL$10,9,FALSE)","v":45},{"$f":"T14-HLOOKUP(X14,Feuil1!$C$1:$BL$10,10,FALSE)","v":-810},null,null,null,null,null,null,"INTA +"]
["F",null,null,null,null,null,null,2003,75,null,null,100,null,null,100,120,null,null,120,220,null,"INTA +",75,{"$f":"IF(I15=\"\",\"\",IF(A15=\"H\",IF(OR(H15=\"SEN\",H15<1997),VLOOKUP(I15,Feuil1!$A$11:$G$29,6),IF(AND(H15>1996,H15<2000),VLOOKUP(I15,Feuil1!$A$11:$G$29,5),IF(AND(H15>1999,H15<2002),VLOOKUP(I15,Feuil1!$A$11:$G$29,4),IF(AND(H15>2001,H15<2004),VLOOKUP(I15,Feuil1!$A$11:$G$29,3),VLOOKUP(I15,Feuil1!$A$11:$G$29,2))))),IF(OR(H15=\"SEN\",H15<1997),VLOOKUP(I15,Feuil1!$G$11:$L$25,6),IF(AND(H15>1996,H15<2000),VLOOKUP(I15,Feuil1!$G$11:$L$25,5),IF(AND(H15>1999,H15<2002),VLOOKUP(I15,Feuil1!$G$11:$L$25,4),IF(AND(H15>2001,H15<2004),VLOOKUP(I15,Feuil1!$G$11:$L$25,3),VLOOKUP(I15,Feuil1!$G$11:$L$25,2)))))))","v":"FC1 +69"},263.42280338502104,null," ",{"$f":"T15-HLOOKUP(X15,Feuil1!$C$1:$BL$10,2,FALSE)","v":160},{"$f":"T15-HLOOKUP(X15,Feuil1!$C$1:$BL$10,3,FALSE)","v":150},{"$f":"T15-HLOOKUP(X15,Feuil1!$C$1:$BL$10,4,FALSE)","v":140},{"$f":"T15-HLOOKUP(X15,Feuil1!$C$1:$BL$10,5,FALSE)","v":125},{"$f":"T15-HLOOKUP(X15,Feuil1!$C$1:$BL$10,6,FALSE)","v":115},{"$f":"T15-HLOOKUP(X15,Feuil1!$C$1:$BL$10,7,FALSE)","v":105},{"$f":"T15-HLOOKUP(X15,Feuil1!$C$1:$BL$10,8,FALSE)","v":90},{"$f":"T15-HLOOKUP(X15,Feuil1!$C$1:$BL$10,9,FALSE)","v":75},{"$f":"T15-HLOOKUP(X15,Feuil1!$C$1:$BL$10,10,FALSE)","v":-780},null,null,null,null,null,null,"INTA +"]
["F",null,null,null,null,null,null,2004,75,null,null,100,null,null,100,120,null,null,120,220,null,{"$error":"#N/A"},{"$error":"#N/A"},{"$f":"IF(I16=\"\",\"\",IF(A16=\"H\",IF(OR(H16=\"SEN\",H16<1997),VLOOKUP(I16,Feuil1!$A$11:$G$29,6),IF(AND(H16>1996,H16<2000),VLOOKUP(I16,Feuil1!$A$11:$G$29,5),IF(AND(H16>1999,H16<2002),VLOOKUP(I16,Feuil1!$A$11:$G$29,4),IF(AND(H16>2001,H16<2004),VLOOKUP(I16,Feuil1!$A$11:$G$29,3),VLOOKUP(I16,Feuil1!$A$11:$G$29,2))))),IF(OR(H16=\"SEN\",H16<1997),VLOOKUP(I16,Feuil1!$G$11:$L$25,6),IF(AND(H16>1996,H16<2000),VLOOKUP(I16,Feuil1!$G$11:$L$25,5),IF(AND(H16>1999,H16<2002),VLOOKUP(I16,Feuil1!$G$11:$L$25,4),IF(AND(H16>2001,H16<2004),VLOOKUP(I16,Feuil1!$G$11:$L$25,3),VLOOKUP(I16,Feuil1!$G$11:$L$25,2)))))))","v":"NON"},263.42280338502104,null," ",{"$f":"T16-HLOOKUP(X16,Feuil1!$C$1:$BL$10,2,FALSE)","v":{"$error":"#N/A"}},{"$f":"T16-HLOOKUP(X16,Feuil1!$C$1:$BL$10,3,FALSE)","v":{"$error":"#N/A"}},{"$f":"T16-HLOOKUP(X16,Feuil1!$C$1:$BL$10,4,FALSE)","v":{"$error":"#N/A"}},{"$f":"T16-HLOOKUP(X16,Feuil1!$C$1:$BL$10,5,FALSE)","v":{"$error":"#N/A"}},{"$f":"T16-HLOOKUP(X16,Feuil1!$C$1:$BL$10,6,FALSE)","v":{"$error":"#N/A"}},{"$f":"T16-HLOOKUP(X16,Feuil1!$C$1:$BL$10,7,FALSE)","v":{"$error":"#N/A"}},{"$f":"T16-HLOOKUP(X16,Feuil1!$C$1:$BL$10,8,FALSE)","v":{"$error":"#N/A"}},{"$f":"T16-HLOOKUP(X16,Feuil1!$C$1:$BL$10,9,FALSE)","v":{"$error":"#N/A"}},{"$f":"T16-HLOOKUP(X16,Feuil1!$C$1:$BL$10,10,FALSE)","v":{"$error":"#N/A"}},null,null,null,null,null,null,{"$error":"#N/A"}]
["F",null,null,null,null,null,null,2005,75,null,null,80,null,null,80,100,null,null,100,180,null,{"$error":"#N/A"},{"$error":"#N/A"},{"$f":"IF(I17=\"\",\"\",IF(A17=\"H\",IF(OR(H17=\"SEN\",H17<1997),VLOOKUP(I17,Feuil1!$A$11:$G$29,6),IF(AND(H17>1996,H17<2000),VLOOKUP(I17,Feuil1!$A$11:$G$29,5),IF(AND(H17>1999,H17<2002),VLOOKUP(I17,Feuil1!$A$11:$G$29,4),IF(AND(H17>2001,H17<2004),VLOOKUP(I17,Feuil1!$A$11:$G$29,3),VLOOKUP(I17,Feuil1!$A$11:$G$29,2))))),IF(OR(H17=\"SEN\",H17<1997),VLOOKUP(I17,Feuil1!$G$11:$L$25,6),IF(AND(H17>1996,H17<2000),VLOOKUP(I17,Feuil1!$G$11:$L$25,5),IF(AND(H17>1999,H17<2002),VLOOKUP(I17,Feuil1!$G$11:$L$25,4),IF(AND(H17>2001,H17<2004),VLOOKUP(I17,Feuil1!$G$11:$L$25,3),VLOOKUP(I17,Feuil1!$G$11:$L$25,2)))))))","v":"NON"},215.52774822410811,null," ",{"$f":"T17-HLOOKUP(X17,Feuil1!$C$1:$BL$10,2,FALSE)","v":{"$error":"#N/A"}},{"$f":"T17-HLOOKUP(X17,Feuil1!$C$1:$BL$10,3,FALSE)","v":{"$error":"#N/A"}},{"$f":"T17-HLOOKUP(X17,Feuil1!$C$1:$BL$10,4,FALSE)","v":{"$error":"#N/A"}},{"$f":"T17-HLOOKUP(X17,Feuil1!$C$1:$BL$10,5,FALSE)","v":{"$error":"#N/A"}},{"$f":"T17-HLOOKUP(X17,Feuil1!$C$1:$BL$10,6,FALSE)","v":{"$error":"#N/A"}},{"$f":"T17-HLOOKUP(X17,Feuil1!$C$1:$BL$10,7,FALSE)","v":{"$error":"#N/A"}},{"$f":"T17-HLOOKUP(X17,Feuil1!$C$1:$BL$10,8,FALSE)","v":{"$error":"#N/A"}},{"$f":"T17-HLOOKUP(X17,Feuil1!$C$1:$BL$10,9,FALSE)","v":{"$error":"#N/A"}},{"$f":"T17-HLOOKUP(X17,Feuil1!$C$1:$BL$10,10,FALSE)","v":{"$error":"#N/A"}},null,null,null,null,null,null,{"$error":"#N/A"}]
["F",null,null,null,null,null,null,2006,58,null,null,52,null,null,{"$f":"IF(H18=\"\",\"\",IF(MAXA(L18:N18)<=0,0,MAXA(L18:N18)))","v":52},64,null,null,{"$f":"IF(H18=\"\",\"\",IF(MAXA(P18:R18)<=0,0,MAXA(P18:R18)))","v":64},{"$f":"IF(H18=\"\",\"\",IF(OR(O18=0,S18=0),0,O18+S18))","v":116},null,{"$f":"IF(H18=\"\",\"\",AQ18)","v":{"$error":"#N/A"}},{"$f":"IF(AJ18>=0,AJ18,IF(AI18>=0,AI18,IF(AH18>=0,AH18,IF(AG18>=0,AG18,IF(AF18>=0,AF18,IF(AE18>=0,AE18,IF(AD18>=0,AD18,IF(AC18>=0,AC18,AB18))))))))","v":{"$error":"#N/A"}},{"$f":"IF(I18=\"\",\"\",IF(A18=\"H\",IF(OR(H18=\"SEN\",H18<1997),VLOOKUP(I18,Feuil1!$A$11:$G$29,6),IF(AND(H18>1996,H18<2000),VLOOKUP(I18,Feuil1!$A$11:$G$29,5),IF(AND(H18>1999,H18<2002),VLOOKUP(I18,Feuil1!$A$11:$G$29,4),IF(AND(H18>2001,H18<2004),VLOOKUP(I18,Feuil1!$A$11:$G$29,3),VLOOKUP(I18,Feuil1!$A$11:$G$29,2))))),IF(OR(H18=\"SEN\",H18<1997),VLOOKUP(I18,Feuil1!$G$11:$L$25,6),IF(AND(H18>1996,H18<2000),VLOOKUP(I18,Feuil1!$G$11:$L$25,5),IF(AND(H18>1999,H18<2002),VLOOKUP(I18,Feuil1!$G$11:$L$25,4),IF(AND(H18>2001,H18<2004),VLOOKUP(I18,Feuil1!$G$11:$L$25,3),VLOOKUP(I18,Feuil1!$G$11:$L$25,2)))))))","v":"NON"},{"$f":"IF(I18=\"\",\"\",IF(A18=\"H\",10^(0.794358141*LOG(I18/174.393)^2)*T18,IF(A18=\"F\",10^(0.89726074*LOG(I18/148.026)^2)*T18,\"\")))","v":163.31369874863211},null," ",{"$f":"T18-HLOOKUP(X18,Feuil1!$C$1:$BL$10,2,FALSE)","v":{"$error":"#N/A"}},{"$f":"T18-HLOOKUP(X18,Feuil1!$C$1:$BL$10,3,FALSE)","v":{"$error":"#N/A"}},{"$f":"T18-HLOOKUP(X18,Feuil1!$C$1:$BL$10,4,FALSE)","v":{"$error":"#N/A"}},{"$f":"T18-HLOOKUP(X18,Feuil1!$C$1:$BL$10,5,FALSE)","v":{"$error":"#N/A"}},{"$f":"T18-HLOOKUP(X18,Feuil1!$C$1:$BL$10,6,FALSE)","v":{"$error":"#N/A"}},{"$f":"T18-HLOOKUP(X18,Feuil1!$C$1:$BL$10,7,FALSE)","v":{"$error":"#N/A"}},{"$f":"T18-HLOOKUP(X18,Feuil1!$C$1:$BL$10,8,FALSE)","v":{"$error":"#N/A"}},{"$f":"T18-HLOOKUP(X18,Feuil1!$C$1:$BL$10,9,FALSE)","v":{"$error":"#N/A"}},{"$f":"T18-HLOOKUP(X18,Feuil1!$C$1:$BL$10,10,FALSE)","v":{"$error":"#N/A"}},null,null,null,null,null,null,{"$f":"IF(AJ18>=0,$AJ$4,IF(AI18>=0,$AI$4,IF(AH18>=0,$AH$4,IF(AG18>=0,$AG$4,IF(AF18>=0,$AF$4,IF(AE18>=0,$AE$4,IF(AD18>=0,$AD$4,IF(AC18>=0,$AC$4,$AB$4))))))))","v":{"$error":"#N/A"}}]
["F",null,null,null,null,null,null,2007,58,null,null,52,null,null,52,64,null,null,64,116,null,{"$error":"#N/A"},{"$error":"#N/A"},{"$f":"IF(I19=\"\",\"\",IF(A19=\"H\",IF(OR(H19=\"SEN\",H19<1997),VLOOKUP(I19,Feuil1!$A$11:$G$29,6),IF(AND(H19>1996,H19<2000),VLOOKUP(I19,Feuil1!$A$11:$G$29,5),IF(AND(H19>1999,H19<2002),VLOOKUP(I19,Feuil1!$A$11:$G$29,4),IF(AND(H19>2001,H19<2004),VLOOKUP(I19,Feuil1!$A$11:$G$29,3),VLOOKUP(I19,Feuil1!$A$11:$G$29,2))))),IF(OR(H19=\"SEN\",H19<1997),VLOOKUP(I19,Feuil1!$G$11:$L$25,6),IF(AND(H19>1996,H19<2000),VLOOKUP(I19,Feuil1!$G$11:$L$25,5),IF(AND(H19>1999,H19<2002),VLOOKUP(I19,Feuil1!$G$11:$L$25,4),IF(AND(H19>2001,H19<2004),VLOOKUP(I19,Feuil1!$G$11:$L$25,3),VLOOKUP(I19,Feuil1!$G$11:$L$25,2)))))))","v":"NON"},163.31369874863211,null," ",{"$f":"T19-HLOOKUP(X19,Feuil1!$C$1:$BL$10,2,FALSE)","v":{"$error":"#N/A"}},{"$f":"T19-HLOOKUP(X19,Feuil1!$C$1:$BL$10,3,FALSE)","v":{"$error":"#N/A"}},{"$f":"T19-HLOOKUP(X19,Feuil1!$C$1:$BL$10,4,FALSE)","v":{"$error":"#N/A"}},{"$f":"T19-HLOOKUP(X19,Feuil1!$C$1:$BL$10,5,FALSE)","v":{"$error":"#N/A"}},{"$f":"T19-HLOOKUP(X19,Feuil1!$C$1:$BL$10,6,FALSE)","v":{"$error":"#N/A"}},{"$f":"T19-HLOOKUP(X19,Feuil1!$C$1:$BL$10,7,FALSE)","v":{"$error":"#N/A"}},{"$f":"T19-HLOOKUP(X19,Feuil1!$C$1:$BL$10,8,FALSE)","v":{"$error":"#N/A"}},{"$f":"T19-HLOOKUP(X19,Feuil1!$C$1:$BL$10,9,FALSE)","v":{"$error":"#N/A"}},{"$f":"T19-HLOOKUP(X19,Feuil1!$C$1:$BL$10,10,FALSE)","v":{"$error":"#N/A"}},null,null,null,null,null,null,{"$error":"#N/A"}]
["H",null,null,null,null,null,null,2008,58,null,null,52,null,null,52,64,null,null,64,116,null,{"$error":"#N/A"},{"$error":"#N/A"},{"$f":"IF(I20=\"\",\"\",IF(A20=\"H\",IF(OR(H20=\"SEN\",H20<1997),VLOOKUP(I20,Feuil1!$A$11:$G$29,6),IF(AND(H20>1996,H20<2000),VLOOKUP(I20,Feuil1!$A$11:$G$29,5),IF(AND(H20>1999,H20<2002),VLOOKUP(I20,Feuil1!$A$11:$G$29,4),IF(AND(H20>2001,H20<2004),VLOOKUP(I20,Feuil1!$A$11:$G$29,3),VLOOKUP(I20,Feuil1!$A$11:$G$29,2))))),IF(OR(H20=\"SEN\",H20<1997),VLOOKUP(I20,Feuil1!$G$11:$L$25,6),IF(AND(H20>1996,H20<2000),VLOOKUP(I20,Feuil1!$G$11:$L$25,5),IF(AND(H20>1999,H20<2002),VLOOKUP(I20,Feuil1!$G$11:$L$25,4),IF(AND(H20>2001,H20<2004),VLOOKUP(I20,Feuil1!$G$11:$L$25,3),VLOOKUP(I20,Feuil1!$G$11:$L$25,2)))))))","v":"NON"},176.21093870063601,null," ",{"$f":"T20-HLOOKUP(X20,Feuil1!$C$1:$BL$10,2,FALSE)","v":{"$error":"#N/A"}},{"$f":"T20-HLOOKUP(X20,Feuil1!$C$1:$BL$10,3,FALSE)","v":{"$error":"#N/A"}},{"$f":"T20-HLOOKUP(X20,Feuil1!$C$1:$BL$10,4,FALSE)","v":{"$error":"#N/A"}},{"$f":"T20-HLOOKUP(X20,Feuil1!$C$1:$BL$10,5,FALSE)","v":{"$error":"#N/A"}},{"$f":"T20-HLOOKUP(X20,Feuil1!$C$1:$BL$10,6,FALSE)","v":{"$error":"#N/A"}},{"$f":"T20-HLOOKUP(X20,Feuil1!$C$1:$BL$10,7,FALSE)","v":{"$error":"#N/A"}},{"$f":"T20-HLOOKUP(X20,Feuil1!$C$1:$BL$10,8,FALSE)","v":{"$error":"#N/A"}},{"$f":"T20-HLOOKUP(X20,Feuil1!$C$1:$BL$10,9,FALSE)","v":{"$error":"#N/A"}},{"$f":"T20-HLOOKUP(X20,Feuil1!$C$1:$BL$10,10,FALSE)","v":{"$error":"#N/A"}},null,null,null,null,null,null,{"$error":"#N/A"}]
["F",null,null,null,null,null,null,2000,58,null,null,52,null,null,52,64,null,null,64,116,null,"INTB +",1,{"$f":"IF(I21=\"\",\"\",IF(A21=\"H\",IF(OR(H21=\"SEN\",H21<1997),VLOOKUP(I21,Feuil1!$A$11:$G$29,6),IF(AND(H21>1996,H21<2000),VLOOKUP(I21,Feuil1!$A$11:$G$29,5),IF(AND(H21>1999,H21<2002),VLOOKUP(I21,Feuil1!$A$11:$G$29,4),IF(AND(H21>2001,H21<2004),VLOOKUP(I21,Feuil1!$A$11:$G$29,3),VLOOKUP(I21,Feuil1!$A$11:$G$29,2))))),IF(OR(H21=\"SEN\",H21<1997),VLOOKUP(I21,Feuil1!$G$11:$L$25,6),IF(AND(H21>1996,H21<2000),VLOOKUP(I21,Feuil1!$G$11:$L$25,5),IF(AND(H21>1999,H21<2002),VLOOKUP(I21,Feuil1!$G$11:$L$25,4),IF(AND(H21>2001,H21<2004),VLOOKUP(I21,Feuil1!$G$11:$L$25,3),VLOOKUP(I21,Feuil1!$G$11:$L$25,2)))))))","v":"FC2 58"},163.31369874863211,null," ",{"$f":"T21-HLOOKUP(X21,Feuil1!$C$1:$BL$10,2,FALSE)","v":66},{"$f":"T21-HLOOKUP(X21,Feuil1!$C$1:$BL$10,3,FALSE)","v":56},{"$f":"T21-HLOOKUP(X21,Feuil1!$C$1:$BL$10,4,FALSE)","v":46},{"$f":"T21-HLOOKUP(X21,Feuil1!$C$1:$BL$10,5,FALSE)","v":36},{"$f":"T21-HLOOKUP(X21,Feuil1!$C$1:$BL$10,6,FALSE)","v":26},{"$f":"T21-HLOOKUP(X21,Feuil1!$C$1:$BL$10,7,FALSE)","v":16},{"$f":"T21-HLOOKUP(X21,Feuil1!$C$1:$BL$10,8,FALSE)","v":1},{"$f":"T21-HLOOKUP(X21,Feuil1!$C$1:$BL$10,9,FALSE)","v":-14},{"$f":"T21-HLOOKUP(X21,Feuil1!$C$1:$BL$10,10,FALSE)","v":-884},null,null,null,null,null,null,"INTB +"]
["F",null,null,null,null,null,null,2000,58,null,null,52,null,null,52,64,null,null,64,116,null,"INTB +",1,{"$f":"IF(I22=\"\",\"\",IF(A22=\"H\",IF(OR(H22=\"SEN\",H22<1997),VLOOKUP(I22,Feuil1!$A$11:$G$29,6),IF(AND(H22>1996,H22<2000),VLOOKUP(I22,Feuil1!$A$11:$G$29,5),IF(AND(H22>1999,H22<2002),VLOOKUP(I22,Feuil1!$A$11:$G$29,4),IF(AND(H22>2001,H22<2004),VLOOKUP(I22,Feuil1!$A$11:$G$29,3),VLOOKUP(I22,Feuil1!$A$11:$G$29,2))))),IF(OR(H22=\"SEN\",H22<1997),VLOOKUP(I22,Feuil1!$G$11:$L$25,6),IF(AND(H22>1996,H22<2000),VLOOKUP(I22,Feuil1!$G$11:$L$25,5),IF(AND(H22>1999,H22<2002),VLOOKUP(I22,Feuil1!$G$11:$L$25,4),IF(AND(H22>2001,H22<2004),VLOOKUP(I22,Feuil1!$G$11:$L$25,3),VLOOKUP(I22,Feuil1!$G$11:$L$25,2)))))))","v":"FC2 58"},163.31369874863211,null," ",{"$f":"T22-HLOOKUP(X22,Feuil1!$C$1:$BL$10,2,FALSE)","v":66},{"$f":"T22-HLOOKUP(X22,Feuil1!$C$1:$BL$10,3,FALSE)","v":56},{"$f":"T22-HLOOKUP(X22,Feuil1!$C$1:$BL$10,4,FALSE)","v":46},{"$f":"T22-HLOOKUP(X22,Feuil1!$C$1:$BL$10,5,FALSE)","v":36},{"$f":"T22-HLOOKUP(X22,Feuil1!$C$1:$BL$10,6,FALSE)","v":26},{"$f":"T22-HLOOKUP(X22,Feuil1!$C$1:$BL$10,7,FALSE)","v":16},{"$f":"T22-HLOOKUP(X22,Feuil1!$C$1:$BL$10,8,FALSE)","v":1},{"$f":"T22-HLOOKUP(X22,Feuil1!$C$1:$BL$10,9,FALSE)","v":-14},{"$f":"T22-HLOOKUP(X22,Feuil1!$C$1:$BL$10,10,FALSE)","v":-884},null,null,null,null,null,null,"INTB +"]
["F",null,null,null,null,null,null,2000,58,null,null,52,null,null,52,64,null,null,64,116,null,"INTB +",1,{"$f":"IF(I23=\"\",\"\",IF(A23=\"H\",IF(OR(H23=\"SEN\",H23<1997),VLOOKUP(I23,Feuil1!$A$11:$G$29,6),IF(AND(H23>1996,H23<2000),VLOOKUP(I23,Feuil1!$A$11:$G$29,5),IF(AND(H23>1999,H23<2002),VLOOKUP(I23,Feuil1!$A$11:$G$29,4),IF(AND(H23>2001,H23<2004),VLOOKUP(I23,Feuil1!$A$11:$G$29,3),VLOOKUP(I23,Feuil1!$A$11:$G$29,2))))),IF(OR(H23=\"SEN\",H23<1997),VLOOKUP(I23,Feuil1!$G$11:$L$25,6),IF(AND(H23>1996,H23<2000),VLOOKUP(I23,Feuil1!$G$11:$L$25,5),IF(AND(H23>1999,H23<2002),VLOOKUP(I23,Feuil1!$G$11:$L$25,4),IF(AND(H23>2001,H23<2004),VLOOKUP(I23,Feuil1!$G$11:$L$25,3),VLOOKUP(I23,Feuil1!$G$11:$L$25,2)))))))","v":"FC2 58"},163.31369874863211,null," ",{"$f":"T23-HLOOKUP(X23,Feuil1!$C$1:$BL$10,2,FALSE)","v":66},{"$f":"T23-HLOOKUP(X23,Feuil1!$C$1:$BL$10,3,FALSE)","v":56},{"$f":"T23-HLOOKUP(X23,Feuil1!$C$1:$BL$10,4,FALSE)","v":46},{"$f":"T23-HLOOKUP(X23,Feuil1!$C$1:$BL$10,5,FALSE)","v":36},{"$f":"T23-HLOOKUP(X23,Feuil1!$C$1:$BL$10,6,FALSE)","v":26},{"$f":"T23-HLOOKUP(X23,Feuil1!$C$1:$BL$10,7,FALSE)","v":16},{"$f":"T23-HLOOKUP(X23,Feuil1!$C$1:$BL$10,8,FALSE)","v":1},{"$f":"T23-HLOOKUP(X23,Feuil1!$C$1:$BL$10,9,FALSE)","v":-14},{"$f":"T23-HLOOKUP(X23,Feuil1!$C$1:$BL$10,10,FALSE)","v":-884},null,null,null,null,null,null,"INTB +"]
["F",null,null,null,null,null,null,2000,58,null,null,52,null,null,52,64,null,null,64,116,null,"INTB +",1,{"$f":"IF(I24=\"\",\"\",IF(A24=\"H\",IF(OR(H24=\"SEN\",H24<1997),VLOOKUP(I24,Feuil1!$A$11:$G$29,6),IF(AND(H24>1996,H24<2000),VLOOKUP(I24,Feuil1!$A$11:$G$29,5),IF(AND(H24>1999,H24<2002),VLOOKUP(I24,Feuil1!$A$11:$G$29,4),IF(AND(H24>2001,H24<2004),VLOOKUP(I24,Feuil1!$A$11:$G$29,3),VLOOKUP(I24,Feuil1!$A$11:$G$29,2))))),IF(OR(H24=\"SEN\",H24<1997),VLOOKUP(I24,Feuil1!$G$11:$L$25,6),IF(AND(H24>1996,H24<2000),VLOOKUP(I24,Feuil1!$G$11:$L$25,5),IF(AND(H24>1999,H24<2002),VLOOKUP(I24,Feuil1!$G$11:$L$25,4),IF(AND(H24>2001,H24<2004),VLOOKUP(I24,Feuil1!$G$11:$L$25,3),VLOOKUP(I24,Feuil1!$G$11:$L$25,2)))))))","v":"FC2 58"},163.31369874863211,null," ",{"$f":"T24-HLOOKUP(X24,Feuil1!$C$1:$BL$10,2,FALSE)","v":66},{"$f":"T24-HLOOKUP(X24,Feuil1!$C$1:$BL$10,3,FALSE)","v":56},{"$f":"T24-HLOOKUP(X24,Feuil1!$C$1:$BL$10,4,FALSE)","v":46},{"$f":"T24-HLOOKUP(X24,Feuil1!$C$1:$BL$10,5,FALSE)","v":36},{"$f":"T24-HLOOKUP(X24,Feuil1!$C$1:$BL$10,6,FALSE)","v":26},{"$f":"T24-HLOOKUP(X24,Feuil1!$C$1:$BL$10,7,FALSE)","v":16},{"$f":"T24-HLOOKUP(X24,Feuil1!$C$1:$BL$10,8,FALSE)","v":1},{"$f":"T24-HLOOKUP(X24,Feuil1!$C$1:$BL$10,9,FALSE)","v":-14},{"$f":"T24-HLOOKUP(X24,Feuil1!$C$1:$BL$10,10,FALSE)","v":-884},null,null,null,null,null,null,"INTB +"]
["F",null,null,null,null,null,null,2000,58,null,null,52,null,null,52,64,null,null,64,116,null,"INTB +",1,{"$f":"IF(I25=\"\",\"\",IF(A25=\"H\",IF(OR(H25=\"SEN\",H25<1997),VLOOKUP(I25,Feuil1!$A$11:$G$29,6),IF(AND(H25>1996,H25<2000),VLOOKUP(I25,Feuil1!$A$11:$G$29,5),IF(AND(H25>1999,H25<2002),VLOOKUP(I25,Feuil1!$A$11:$G$29,4),IF(AND(H25>2001,H25<2004),VLOOKUP(I25,Feuil1!$A$11:$G$29,3),VLOOKUP(I25,Feuil1!$A$11:$G$29,2))))),IF(OR(H25=\"SEN\",H25<1997),VLOOKUP(I25,Feuil1!$G$11:$L$25,6),IF(AND(H25>1996,H25<2000),VLOOKUP(I25,Feuil1!$G$11:$L$25,5),IF(AND(H25>1999,H25<2002),VLOOKUP(I25,Feuil1!$G$11:$L$25,4),IF(AND(H25>2001,H25<2004),VLOOKUP(I25,Feuil1!$G$11:$L$25,3),VLOOKUP(I25,Feuil1!$G$11:$L$25,2)))))))","v":"FC2 58"},163.31369874863211,null," ",{"$f":"T25-HLOOKUP(X25,Feuil1!$C$1:$BL$10,2,FALSE)","v":66},{"$f":"T25-HLOOKUP(X25,Feuil1!$C$1:$BL$10,3,FALSE)","v":56},{"$f":"T25-HLOOKUP(X25,Feuil1!$C$1:$BL$10,4,FALSE)","v":46},{"$f":"T25-HLOOKUP(X25,Feuil1!$C$1:$BL$10,5,FALSE)","v":36},{"$f":"T25-HLOOKUP(X25,Feuil1!$C$1:$BL$10,6,FALSE)","v":26},{"$f":"T25-HLOOKUP(X25,Feuil1!$C$1:$BL$10,7,FALSE)","v":16},{"$f":"T25-HLOOKUP(X25,Feuil1!$C$1:$BL$10,8,FALSE)","v":1},{"$f":"T25-HLOOKUP(X25,Feuil1!$C$1:$BL$10,9,FALSE)","v":-14},{"$f":"T25-HLOOKUP(X25,Feuil1!$C$1:$BL$10,10,FALSE)","v":-884},null,null,null,null,null,null,"INTB +"]
["F",null,null,null,null,null,null,2000,58,null,null,52,null,null,52,64,null,null,64,116,null,"INTB +",1,{"$f":"IF(I26=\"\",\"\",IF(A26=\"H\",IF(OR(H26=\"SEN\",H26<1997),VLOOKUP(I26,Feuil1!$A$11:$G$29,6),IF(AND(H26>1996,H26<2000),VLOOKUP(I26,Feuil1!$A$11:$G$29,5),IF(AND(H26>1999,H26<2002),VLOOKUP(I26,Feuil1!$A$11:$G$29,4),IF(AND(H26>2001,H26<2004),VLOOKUP(I26,Feuil1!$A$11:$G$29,3),VLOOKUP(I26,Feuil1!$A$11:$G$29,2))))),IF(OR(H26=\"SEN\",H26<1997),VLOOKUP(I26,Feuil1!$G$11:$L$25,6),IF(AND(H26>1996,H26<2000),VLOOKUP(I26,Feuil1!$G$11:$L$25,5),IF(AND(H26>1999,H26<2002),VLOOKUP(I26,Feuil1!$G$11:$L$25,4),IF(AND(H26>2001,H26<2004),VLOOKUP(I26,Feuil1!$G$11:$L$25,3),VLOOKUP(I26,Feuil1!$G$11:$L$25,2)))))))","v":"FC2 58"},163.31369874863211,null," ",{"$f":"T26-HLOOKUP(X26,Feuil1!$C$1:$BL$10,2,FALSE)","v":66},{"$f":"T26-HLOOKUP(X26,Feuil1!$C$1:$BL$10,3,FALSE)","v":56},{"$f":"T26-HLOOKUP(X26,Feuil1!$C$1:$BL$10,4,FALSE)","v":46},{"$f":"T26-HLOOKUP(X26,Feuil1!$C$1:$BL$10,5,FALSE)","v":36},{"$f":"T26-HLOOKUP(X26,Feuil1!$C$1:$BL$10,6,FALSE)","v":26},{"$f":"T26-HLOOKUP(X26,Feuil1!$C$1:$BL$10,7,FALSE)","v":16},{"$f":"T26-HLOOKUP(X26,Feuil1!$C$1:$BL$10,8,FALSE)","v":1},{"$f":"T26-HLOOKUP(X26,Feuil1!$C$1:$BL$10,9,FALSE)","v":-14},{"$f":"T26-HLOOKUP(X26,Feuil1!$C$1:$BL$10,10,FALSE)","v":-884},null,null,null,null,null,null,"INTB +"]
["F",null,null,null,null,null,null,2000,58,null,null,52,null,null,52,64,null,null,64,116,null,"INTB +",1,{"$f":"IF(I27=\"\",\"\",IF(A27=\"H\",IF(OR(H27=\"SEN\",H27<1997),VLOOKUP(I27,Feuil1!$A$11:$G$29,6),IF(AND(H27>1996,H27<2000),VLOOKUP(I27,Feuil1!$A$11:$G$29,5),IF(AND(H27>1999,H27<2002),VLOOKUP(I27,Feuil1!$A$11:$G$29,4),IF(AND(H27>2001,H27<2004),VLOOKUP(I27,Feuil1!$A$11:$G$29,3),VLOOKUP(I27,Feuil1!$A$11:$G$29,2))))),IF(OR(H27=\"SEN\",H27<1997),VLOOKUP(I27,Feuil1!$G$11:$L$25,6),IF(AND(H27>1996,H27<2000),VLOOKUP(I27,Feuil1!$G$11:$L$25,5),IF(AND(H27>1999,H27<2002),VLOOKUP(I27,Feuil1!$G$11:$L$25,4),IF(AND(H27>2001,H27<2004),VLOOKUP(I27,Feuil1!$G$11:$L$25,3),VLOOKUP(I27,Feuil1!$G$11:$L$25,2)))))))","v":"FC2 58"},163.31369874863211,null," ",{"$f":"T27-HLOOKUP(X27,Feuil1!$C$1:$BL$10,2,FALSE)","v":66},{"$f":"T27-HLOOKUP(X27,Feuil1!$C$1:$BL$10,3,FALSE)","v":56},{"$f":"T27-HLOOKUP(X27,Feuil1!$C$1:$BL$10,4,FALSE)","v":46},{"$f":"T27-HLOOKUP(X27,Feuil1!$C$1:$BL$10,5,FALSE)","v":36},{"$f":"T27-HLOOKUP(X27,Feuil1!$C$1:$BL$10,6,FALSE)","v":26},{"$f":"T27-HLOOKUP(X27,Feuil1!$C$1:$BL$10,7,FALSE)","v":16},{"$f":"T27-HLOOKUP(X27,Feuil1!$C$1:$BL$10,8,FALSE)","v":1},{"$f":"T27-HLOOKUP(X27,Feuil1!$C$1:$BL$10,9,FALSE)","v":-14},{"$f":"T27-HLOOKUP(X27,Feuil1!$C$1:$BL$10,10,FALSE)","v":-884},null,null,null,null,null,null,"INTB +"]
["F",null,null,null,null,null,null,2000,58,null,null,52,null,null,52,64,null,null,64,116,null,"INTB +",1,{"$f":"IF(I28=\"\",\"\",IF(A28=\"H\",IF(OR(H28=\"SEN\",H28<1997),VLOOKUP(I28,Feuil1!$A$11:$G$29,6),IF(AND(H28>1996,H28<2000),VLOOKUP(I28,Feuil1!$A$11:$G$29,5),IF(AND(H28>1999,H28<2002),VLOOKUP(I28,Feuil1!$A$11:$G$29,4),IF(AND(H28>2001,H28<2004),VLOOKUP(I28,Feuil1!$A$11:$G$29,3),VLOOKUP(I28,Feuil1!$A$11:$G$29,2))))),IF(OR(H28=\"SEN\",H28<1997),VLOOKUP(I28,Feuil1!$G$11:$L$25,6),IF(AND(H28>1996,H28<2000),VLOOKUP(I28,Feuil1!$G$11:$L$25,5),IF(AND(H28>1999,H28<2002),VLOOKUP(I28,Feuil1!$G$11:$L$25,4),IF(AND(H28>2001,H28<2004),VLOOKUP(I28,Feuil1!$G$11:$L$25,3),VLOOKUP(I28,Feuil1!$G$11:$L$25,2)))))))","v":"FC2 58"},163.31369874863211,null," ",{"$f":"T28-HLOOKUP(X28,Feuil1!$C$1:$BL$10,2,FALSE)","v":66},{"$f":"T28-HLOOKUP(X28,Feuil1!$C$1:$BL$10,3,FALSE)","v":56},{"$f":"T28-HLOOKUP(X28,Feuil1!$C$1:$BL$10,4,FALSE)","v":46},{"$f":"T28-HLOOKUP(X28,Feuil1!$C$1:$BL$10,5,FALSE)","v":36},{"$f":"T28-HLOOKUP(X28,Feuil1!$C$1:$BL$10,6,FALSE)","v":26},{"$f":"T28-HLOOKUP(X28,Feuil1!$C$1:$BL$10,7,FALSE)","v":16},{"$f":"T28-HLOOKUP(X28,Feuil1!$C$1:$BL$10,8,FALSE)","v":1},{"$f":"T28-HLOOKUP(X28,Feuil1!$C$1:$BL$10,9,FALSE)","v":-14},{"$f":"T28-HLOOKUP(X28,Feuil1!$C$1:$BL$10,10,FALSE)","v":-884},null,null,null,null,null,null,"INTB +"]
["F",null,null,null,null,null,null,2000,58,null,null,52,null,null,52,64,null,null,64,116,null,"INTB +",1,{"$f":"IF(I29=\"\",\"\",IF(A29=\"H\",IF(OR(H29=\"SEN\",H29<1997),VLOOKUP(I29,Feuil1!$A$11:$G$29,6),IF(AND(H29>1996,H29<2000),VLOOKUP(I29,Feuil1!$A$11:$G$29,5),IF(AND(H29>1999,H29<2002),VLOOKUP(I29,Feuil1!$A$11:$G$29,4),IF(AND(H29>2001,H29<2004),VLOOKUP(I29,Feuil1!$A$11:$G$29,3),VLOOKUP(I29,Feuil1!$A$11:$G$29,2))))),IF(OR(H29=\"SEN\",H29<1997),VLOOKUP(I29,Feuil1!$G$11:$L$25,6),IF(AND(H29>1996,H29<2000),VLOOKUP(I29,Feuil1!$G$11:$L$25,5),IF(AND(H29>1999,H29<2002),VLOOKUP(I29,Feuil1!$G$11:$L$25,4),IF(AND(H29>2001,H29<2004),VLOOKUP(I29,Feuil1!$G$11:$L$25,3),VLOOKUP(I29,Feuil1!$G$11:$L$25,2)))))))","v":"FC2 58"},163.31369874863211,null," ",{"$f":"T29-HLOOKUP(X29,Feuil1!$C$1:$BL$10,2,FALSE)","v":66},{"$f":"T29-HLOOKUP(X29,Feuil1!$C$1:$BL$10,3,FALSE)","v":56},{"$f":"T29-HLOOKUP(X29,Feuil1!$C$1:$BL$10,4,FALSE)","v":46},{"$f":"T29-HLOOKUP(X29,Feuil1!$C$1:$BL$10,5,FALSE)","v":36},{"$f":"T29-HLOOKUP(X29,Feuil1!$C$1:$BL$10,6,FALSE)","v":26},{"$f":"T29-HLOOKUP(X29,Feuil1!$C$1:$BL$10,7,FALSE)","v":16},{"$f":"T29-HLOOKUP(X29,Feuil1!$C$1:$BL$10,8,FALSE)","v":1},{"$f":"T29-HLOOKUP(X29,Feuil1!$C$1:$BL$10,9,FALSE)","v":-14},{"$f":"T29-HLOOKUP(X29,Feuil1!$C$1:$BL$10,10,FALSE)","v":-884},null,null,null,null,null,null,"INTB +"]
["F",null,null,null,null,null,null,2000,58,null,null,52,null,null,52,64,null,null,64,116,null,"INTB +",1,{"$f":"IF(I30=\"\",\"\",IF(A30=\"H\",IF(OR(H30=\"SEN\",H30<1997),VLOOKUP(I30,Feuil1!$A$11:$G$29,6),IF(AND(H30>1996,H30<2000),VLOOKUP(I30,Feuil1!$A$11:$G$29,5),IF(AND(H30>1999,H30<2002),VLOOKUP(I30,Feuil1!$A$11:$G$29,4),IF(AND(H30>2001,H30<2004),VLOOKUP(I30,Feuil1!$A$11:$G$29,3),VLOOKUP(I30,Feuil1!$A$11:$G$29,2))))),IF(OR(H30=\"SEN\",H30<1997),VLOOKUP(I30,Feuil1!$G$11:$L$25,6),IF(AND(H30>1996,H30<2000),VLOOKUP(I30,Feuil1!$G$11:$L$25,5),IF(AND(H30>1999,H30<2002),VLOOKUP(I30,Feuil1!$G$11:$L$25,4),IF(AND(H30>2001,H30<2004),VLOOKUP(I30,Feuil1!$G$11:$L$25,3),VLOOKUP(I30,Feuil1!$G$11:$L$25,2)))))))","v":"FC2 58"},163.31369874863211,null," ",{"$f":"T30-HLOOKUP(X30,Feuil1!$C$1:$BL$10,2,FALSE)","v":66},{"$f":"T30-HLOOKUP(X30,Feuil1!$C$1:$BL$10,3,FALSE)","v":56},{"$f":"T30-HLOOKUP(X30,Feuil1!$C$1:$BL$10,4,FALSE)","v":46},{"$f":"T30-HLOOKUP(X30,Feuil1!$C$1:$BL$10,5,FALSE)","v":36},{"$f":"T30-HLOOKUP(X30,Feuil1!$C$1:$BL$10,6,FALSE)","v":26},{"$f":"T30-HLOOKUP(X30,Feuil1!$C$1:$BL$10,7,FALSE)","v":16},{"$f":"T30-HLOOKUP(X30,Feuil1!$C$1:$BL$10,8,FALSE)","v":1},{"$f":"T30-HLOOKUP(X30,Feuil1!$C$1:$BL$10,9,FALSE)","v":-14},{"$f":"T30-HLOOKUP(X30,Feuil1!$C$1:$BL$10,10,FALSE)","v":-884},null,null,null,null,null,null,"INTB +"]
["F",null,null,null,null,null,null,2000,58,null,null,52,null,null,52,64,null,null,64,116,null,"INTB +",1,{"$f":"IF(I31=\"\",\"\",IF(A31=\"H\",IF(OR(H31=\"SEN\",H31<1997),VLOOKUP(I31,Feuil1!$A$11:$G$29,6),IF(AND(H31>1996,H31<2000),VLOOKUP(I31,Feuil1!$A$11:$G$29,5),IF(AND(H31>1999,H31<2002),VLOOKUP(I31,Feuil1!$A$11:$G$29,4),IF(AND(H31>2001,H31<2004),VLOOKUP(I31,Feuil1!$A$11:$G$29,3),VLOOKUP(I31,Feuil1!$A$11:$G$29,2))))),IF(OR(H31=\"SEN\",H31<1997),VLOOKUP(I31,Feuil1!$G$11:$L$25,6),IF(AND(H31>1996,H31<2000),VLOOKUP(I31,Feuil1!$G$11:$L$25,5),IF(AND(H31>1999,H31<2002),VLOOKUP(I31,Feuil1!$G$11:$L$25,4),IF(AND(H31>2001,H31<2004),VLOOKUP(I31,Feuil1!$G$11:$L$25,3),VLOOKUP(I31,Feuil1!$G$11:$L$25,2)))))))","v":"FC2 58"},163.31369874863211,null," ",{"$f":"T31-HLOOKUP(X31,Feuil1!$C$1:$BL$10,2,FALSE)","v":66},{"$f":"T31-HLOOKUP(X31,Feuil1!$C$1:$BL$10,3,FALSE)","v":56},{"$f":"T31-HLOOKUP(X31,Feuil1!$C$1:$BL$10,4,FALSE)","v":46},{"$f":"T31-HLOOKUP(X31,Feuil1!$C$1:$BL$10,5,FALSE)","v":36},{"$f":"T31-HLOOKUP(X31,Feuil1!$C$1:$BL$10,6,FALSE)","v":26},{"$f":"T31-HLOOKUP(X31,Feuil1!$C$1:$BL$10,7,FALSE)","v":16},{"$f":"T31-HLOOKUP(X31,Feuil1!$C$1:$BL$10,8,FALSE)","v":1},{"$f":"T31-HLOOKUP(X31,Feuil1!$C$1:$BL$10,9,FALSE)","v":-14},{"$f":"T31-HLOOKUP(X31,Feuil1!$C$1:$BL$10,10,FALSE)","v":-884},null,null,null,null,null,null,"INTB +"]
["F",null,null,null,null,null,null,2000,58,null,null,52,null,null,52,64,null,null,64,116,null,"INTB +",1,{"$f":"IF(I32=\"\",\"\",IF(A32=\"H\",IF(OR(H32=\"SEN\",H32<1997),VLOOKUP(I32,Feuil1!$A$11:$G$29,6),IF(AND(H32>1996,H32<2000),VLOOKUP(I32,Feuil1!$A$11:$G$29,5),IF(AND(H32>1999,H32<2002),VLOOKUP(I32,Feuil1!$A$11:$G$29,4),IF(AND(H32>2001,H32<2004),VLOOKUP(I32,Feuil1!$A$11:$G$29,3),VLOOKUP(I32,Feuil1!$A$11:$G$29,2))))),IF(OR(H32=\"SEN\",H32<1997),VLOOKUP(I32,Feuil1!$G$11:$L$25,6),IF(AND(H32>1996,H32<2000),VLOOKUP(I32,Feuil1!$G$11:$L$25,5),IF(AND(H32>1999,H32<2002),VLOOKUP(I32,Feuil1!$G$11:$L$25,4),IF(AND(H32>2001,H32<2004),VLOOKUP(I32,Feuil1!$G$11:$L$25,3),VLOOKUP(I32,Feuil1!$G$11:$L$25,2)))))))","v":"FC2 58"},163.31369874863211,null," ",{"$f":"T32-HLOOKUP(X32,Feuil1!$C$1:$BL$10,2,FALSE)","v":66},{"$f":"T32-HLOOKUP(X32,Feuil1!$C$1:$BL$10,3,FALSE)","v":56},{"$f":"T32-HLOOKUP(X32,Feuil1!$C$1:$BL$10,4,FALSE)","v":46},{"$f":"T32-HLOOKUP(X32,Feuil1!$C$1:$BL$10,5,FALSE)","v":36},{"$f":"T32-HLOOKUP(X32,Feuil1!$C$1:$BL$10,6,FALSE)","v":26},{"$f":"T32-HLOOKUP(X32,Feuil1!$C$1:$BL$10,7,FALSE)","v":16},{"$f":"T32-HLOOKUP(X32,Feuil1!$C$1:$BL$10,8,FALSE)","v":1},{"$f":"T32-HLOOKUP(X32,Feuil1!$C$1:$BL$10,9,FALSE)","v":-14},{"$f":"T32-HLOOKUP(X32,Feuil1!$C$1:$BL$10,10,FALSE)","v":-884},null,null,null,null,null,null,"INTB +"]
["F",null,null,null,null,null,null,2000,58,null,null,52,null,null,52,64,null,null,64,116,null,"INTB +",1,{"$f":"IF(I33=\"\",\"\",IF(A33=\"H\",IF(OR(H33=\"SEN\",H33<1997),VLOOKUP(I33,Feuil1!$A$11:$G$29,6),IF(AND(H33>1996,H33<2000),VLOOKUP(I33,Feuil1!$A$11:$G$29,5),IF(AND(H33>1999,H33<2002),VLOOKUP(I33,Feuil1!$A$11:$G$29,4),IF(AND(H33>2001,H33<2004),VLOOKUP(I33,Feuil1!$A$11:$G$29,3),VLOOKUP(I33,Feuil1!$A$11:$G$29,2))))),IF(OR(H33=\"SEN\",H33<1997),VLOOKUP(I33,Feuil1!$G$11:$L$25,6),IF(AND(H33>1996,H33<2000),VLOOKUP(I33,Feuil1!$G$11:$L$25,5),IF(AND(H33>1999,H33<2002),VLOOKUP(I33,Feuil1!$G$11:$L$25,4),IF(AND(H33>2001,H33<2004),VLOOKUP(I33,Feuil1!$G$11:$L$25,3),VLOOKUP(I33,Feuil1!$G$11:$L$25,2)))))))","v":"FC2 58"},163.31369874863211,null," ",{"$f":"T33-HLOOKUP(X33,Feuil1!$C$1:$BL$10,2,FALSE)","v":66},{"$f":"T33-HLOOKUP(X33,Feuil1!$C$1:$BL$10,3,FALSE)","v":56},{"$f":"T33-HLOOKUP(X33,Feuil1!$C$1:$BL$10,4,FALSE)","v":46},{"$f":"T33-HLOOKUP(X33,Feuil1!$C$1:$BL$10,5,FALSE)","v":36},{"$f":"T33-HLOOKUP(X33,Feuil1!$C$1:$BL$10,6,FALSE)","v":26},{"$f":"T33-HLOOKUP(X33,Feuil1!$C$1:$BL$10,7,FALSE)","v":16},{"$f":"T33-HLOOKUP(X33,Feuil1!$C$1:$BL$10,8,FALSE)","v":1},{"$f":"T33-HLOOKUP(X33,Feuil1!$C$1:$BL$10,9,FALSE)","v":-14},{"$f":"T33-HLOOKUP(X33,Feuil1!$C$1:$BL$10,10,FALSE)","v":-884},null,null,null,null,null,null,"INTB +"]
["F",null,null,null,null,null,null,2000,58,null,null,52,null,null,52,64,null,null,64,116,null,"INTB +",1,{"$f":"IF(I34=\"\",\"\",IF(A34=\"H\",IF(OR(H34=\"SEN\",H34<1997),VLOOKUP(I34,Feuil1!$A$11:$G$29,6),IF(AND(H34>1996,H34<2000),VLOOKUP(I34,Feuil1!$A$11:$G$29,5),IF(AND(H34>1999,H34<2002),VLOOKUP(I34,Feuil1!$A$11:$G$29,4),IF(AND(H34>2001,H34<2004),VLOOKUP(I34,Feuil1!$A$11:$G$29,3),VLOOKUP(I34,Feuil1!$A$11:$G$29,2))))),IF(OR(H34=\"SEN\",H34<1997),VLOOKUP(I34,Feuil1!$G$11:$L$25,6),IF(AND(H34>1996,H34<2000),VLOOKUP(I34,Feuil1!$G$11:$L$25,5),IF(AND(H34>1999,H34<2002),VLOOKUP(I34,Feuil1!$G$11:$L$25,4),IF(AND(H34>2001,H34<2004),VLOOKUP(I34,Feuil1!$G$11:$L$25,3),VLOOKUP(I34,Feuil1!$G$11:$L$25,2)))))))","v":"FC2 58"},163.31369874863211,null," ",{"$f":"T34-HLOOKUP(X34,Feuil1!$C$1:$BL$10,2,FALSE)","v":66},{"$f":"T34-HLOOKUP(X34,Feuil1!$C$1:$BL$10,3,FALSE)","v":56},{"$f":"T34-HLOOKUP(X34,Feuil1!$C$1:$BL$10,4,FALSE)","v":46},{"$f":"T34-HLOOKUP(X34,Feuil1!$C$1:$BL$10,5,FALSE)","v":36},{"$f":"T34-HLOOKUP(X34,Feuil1!$C$1:$BL$10,6,FALSE)","v":26},{"$f":"T34-HLOOKUP(X34,Feuil1!$C$1:$BL$10,7,FALSE)","v":16},{"$f":"T34-HLOOKUP(X34,Feuil1!$C$1:$BL$10,8,FALSE)","v":1},{"$f":"T34-HLOOKUP(X34,Feuil1!$C$1:$BL$10,9,FALSE)","v":-14},{"$f":"T34-HLOOKUP(X34,Feuil1!$C$1:$BL$10,10,FALSE)","v":-884},null,null,null,null,null,null,"INTB +"]
["F",null,null,null,null,null,null,2000,58,null,null,52,null,null,52,64,null,null,64,116,null,"INTB +",1,{"$f":"IF(I35=\"\",\"\",IF(A35=\"H\",IF(OR(H35=\"SEN\",H35<1997),VLOOKUP(I35,Feuil1!$A$11:$G$29,6),IF(AND(H35>1996,H35<2000),VLOOKUP(I35,Feuil1!$A$11:$G$29,5),IF(AND(H35>1999,H35<2002),VLOOKUP(I35,Feuil1!$A$11:$G$29,4),IF(AND(H35>2001,H35<2004),VLOOKUP(I35,Feuil1!$A$11:$G$29,3),VLOOKUP(I35,Feuil1!$A$11:$G$29,2))))),IF(OR(H35=\"SEN\",H35<1997),VLOOKUP(I35,Feuil1!$G$11:$L$25,6),IF(AND(H35>1996,H35<2000),VLOOKUP(I35,Feuil1!$G$11:$L$25,5),IF(AND(H35>1999,H35<2002),VLOOKUP(I35,Feuil1!$G$11:$L$25,4),IF(AND(H35>2001,H35<2004),VLOOKUP(I35,Feuil1!$G$11:$L$25,3),VLOOKUP(I35,Feuil1!$G$11:$L$25,2)))))))","v":"FC2 58"},163.31369874863211,null," ",{"$f":"T35-HLOOKUP(X35,Feuil1!$C$1:$BL$10,2,FALSE)","v":66},{"$f":"T35-HLOOKUP(X35,Feuil1!$C$1:$BL$10,3,FALSE)","v":56},{"$f":"T35-HLOOKUP(X35,Feuil1!$C$1:$BL$10,4,FALSE)","v":46},{"$f":"T35-HLOOKUP(X35,Feuil1!$C$1:$BL$10,5,FALSE)","v":36},{"$f":"T35-HLOOKUP(X35,Feuil1!$C$1:$BL$10,6,FALSE)","v":26},{"$f":"T35-HLOOKUP(X35,Feuil1!$C$1:$BL$10,7,FALSE)","v":16},{"$f":"T35-HLOOKUP(X35,Feuil1!$C$1:$BL$10,8,FALSE)","v":1},{"$f":"T35-HLOOKUP(X35,Feuil1!$C$1:$BL$10,9,FALSE)","v":-14},{"$f":"T35-HLOOKUP(X35,Feuil1!$C$1:$BL$10,10,FALSE)","v":-884},null,null,null,null,null,null,"INTB +"]
["F",null,null,null,null,null,null,2000,58,null,null,52,null,null,52,64,null,null,64,116,null,"INTB +",1,{"$f":"IF(I36=\"\",\"\",IF(A36=\"H\",IF(OR(H36=\"SEN\",H36<1997),VLOOKUP(I36,Feuil1!$A$11:$G$29,6),IF(AND(H36>1996,H36<2000),VLOOKUP(I36,Feuil1!$A$11:$G$29,5),IF(AND(H36>1999,H36<2002),VLOOKUP(I36,Feuil1!$A$11:$G$29,4),IF(AND(H36>2001,H36<2004),VLOOKUP(I36,Feuil1!$A$11:$G$29,3),VLOOKUP(I36,Feuil1!$A$11:$G$29,2))))),IF(OR(H36=\"SEN\",H36<1997),VLOOKUP(I36,Feuil1!$G$11:$L$25,6),IF(AND(H36>1996,H36<2000),VLOOKUP(I36,Feuil1!$G$11:$L$25,5),IF(AND(H36>1999,H36<2002),VLOOKUP(I36,Feuil1!$G$11:$L$25,4),IF(AND(H36>2001,H36<2004),VLOOKUP(I36,Feuil1!$G$11:$L$25,3),VLOOKUP(I36,Feuil1!$G$11:$L$25,2)))))))","v":"FC2 58"},163.31369874863211,null," ",{"$f":"T36-HLOOKUP(X36,Feuil1!$C$1:$BL$10,2,FALSE)","v":66},{"$f":"T36-HLOOKUP(X36,Feuil1!$C$1:$BL$10,3,FALSE)","v":56},{"$f":"T36-HLOOKUP(X36,Feuil1!$C$1:$BL$10,4,FALSE)","v":46},{"$f":"T36-HLOOKUP(X36,Feuil1!$C$1:$BL$10,5,FALSE)","v":36},{"$f":"T36-HLOOKUP(X36,Feuil1!$C$1:$BL$10,6,FALSE)","v":26},{"$f":"T36-HLOOKUP(X36,Feuil1!$C$1:$BL$10,7,FALSE)","v":16},{"$f":"T36-HLOOKUP(X36,Feuil1!$C$1:$BL$10,8,FALSE)","v":1},{"$f":"T36-HLOOKUP(X36,Feuil1!$C$1:$BL$10,9,FALSE)","v":-14},{"$f":"T36-HLOOKUP(X36,Feuil1!$C$1:$BL$10,10,FALSE)","v":-884},null,null,null,null,null,null,"INTB +"]
["F",null,null,null,null,null,null,2000,58,null,null,52,null,null,52,64,null,null,64,116,null,"INTB +",1,{"$f":"IF(I37=\"\",\"\",IF(A37=\"H\",IF(OR(H37=\"SEN\",H37<1997),VLOOKUP(I37,Feuil1!$A$11:$G$29,6),IF(AND(H37>1996,H37<2000),VLOOKUP(I37,Feuil1!$A$11:$G$29,5),IF(AND(H37>1999,H37<2002),VLOOKUP(I37,Feuil1!$A$11:$G$29,4),IF(AND(H37>2001,H37<2004),VLOOKUP(I37,Feuil1!$A$11:$G$29,3),VLOOKUP(I37,Feuil1!$A$11:$G$29,2))))),IF(OR(H37=\"SEN\",H37<1997),VLOOKUP(I37,Feuil1!$G$11:$L$25,6),IF(AND(H37>1996,H37<2000),VLOOKUP(I37,Feuil1!$G$11:$L$25,5),IF(AND(H37>1999,H37<2002),VLOOKUP(I37,Feuil1!$G$11:$L$25,4),IF(AND(H37>2001,H37<2004),VLOOKUP(I37,Feuil1!$G$11:$L$25,3),VLOOKUP(I37,Feuil1!$G$11:$L$25,2)))))))","v":"FC2 58"},163.31369874863211,null," ",{"$f":"T37-HLOOKUP(X37,Feuil1!$C$1:$BL$10,2,FALSE)","v":66},{"$f":"T37-HLOOKUP(X37,Feuil1!$C$1:$BL$10,3,FALSE)","v":56},{"$f":"T37-HLOOKUP(X37,Feuil1!$C$1:$BL$10,4,FALSE)","v":46},{"$f":"T37-HLOOKUP(X37,Feuil1!$C$1:$BL$10,5,FALSE)","v":36},{"$f":"T37-HLOOKUP(X37,Feuil1!$C$1:$BL$10,6,FALSE)","v":26},{"$f":"T37-HLOOKUP(X37,Feuil1!$C$1:$BL$10,7,FALSE)","v":16},{"$f":"T37-HLOOKUP(X37,Feuil1!$C$1:$BL$10,8,FALSE)","v":1},{"$f":"T37-HLOOKUP(X37,Feuil1!$C$1:$BL$10,9,FALSE)","v":-14},{"$f":"T37-HLOOKUP(X37,Feuil1!$C$1:$BL$10,10,FALSE)","v":-884},null,null,null,null,null,null,"INTB +"]
["F",null,null,null,null,null,null,2000,58,null,null,52,null,null,52,64,null,null,64,116,null,"INTB +",1,{"$f":"IF(I38=\"\",\"\",IF(A38=\"H\",IF(OR(H38=\"SEN\",H38<1997),VLOOKUP(I38,Feuil1!$A$11:$G$29,6),IF(AND(H38>1996,H38<2000),VLOOKUP(I38,Feuil1!$A$11:$G$29,5),IF(AND(H38>1999,H38<2002),VLOOKUP(I38,Feuil1!$A$11:$G$29,4),IF(AND(H38>2001,H38<2004),VLOOKUP(I38,Feuil1!$A$11:$G$29,3),VLOOKUP(I38,Feuil1!$A$11:$G$29,2))))),IF(OR(H38=\"SEN\",H38<1997),VLOOKUP(I38,Feuil1!$G$11:$L$25,6),IF(AND(H38>1996,H38<2000),VLOOKUP(I38,Feuil1!$G$11:$L$25,5),IF(AND(H38>1999,H38<2002),VLOOKUP(I38,Feuil1!$G$11:$L$25,4),IF(AND(H38>2001,H38<2004),VLOOKUP(I38,Feuil1!$G$11:$L$25,3),VLOOKUP(I38,Feuil1!$G$11:$L$25,2)))))))","v":"FC2 58"},163.31369874863211,null," ",{"$f":"T38-HLOOKUP(X38,Feuil1!$C$1:$BL$10,2,FALSE)","v":66},{"$f":"T38-HLOOKUP(X38,Feuil1!$C$1:$BL$10,3,FALSE)","v":56},{"$f":"T38-HLOOKUP(X38,Feuil1!$C$1:$BL$10,4,FALSE)","v":46},{"$f":"T38-HLOOKUP(X38,Feuil1!$C$1:$BL$10,5,FALSE)","v":36},{"$f":"T38-HLOOKUP(X38,Feuil1!$C$1:$BL$10,6,FALSE)","v":26},{"$f":"T38-HLOOKUP(X38,Feuil1!$C$1:$BL$10,7,FALSE)","v":16},{"$f":"T38-HLOOKUP(X38,Feuil1!$C$1:$BL$10,8,FALSE)","v":1},{"$f":"T38-HLOOKUP(X38,Feuil1!$C$1:$BL$10,9,FALSE)","v":-14},{"$f":"T38-HLOOKUP(X38,Feuil1!$C$1:$BL$10,10,FALSE)","v":-884},null,null,null,null,null,null,"INTB +"]
["F",null,null,null,null,null,null,2000,58,null,null,52,null,null,52,64,null,null,64,116,null,"INTB +",1,{"$f":"IF(I39=\"\",\"\",IF(A39=\"H\",IF(OR(H39=\"SEN\",H39<1997),VLOOKUP(I39,Feuil1!$A$11:$G$29,6),IF(AND(H39>1996,H39<2000),VLOOKUP(I39,Feuil1!$A$11:$G$29,5),IF(AND(H39>1999,H39<2002),VLOOKUP(I39,Feuil1!$A$11:$G$29,4),IF(AND(H39>2001,H39<2004),VLOOKUP(I39,Feuil1!$A$11:$G$29,3),VLOOKUP(I39,Feuil1!$A$11:$G$29,2))))),IF(OR(H39=\"SEN\",H39<1997),VLOOKUP(I39,Feuil1!$G$11:$L$25,6),IF(AND(H39>1996,H39<2000),VLOOKUP(I39,Feuil1!$G$11:$L$25,5),IF(AND(H39>1999,H39<2002),VLOOKUP(I39,Feuil1!$G$11:$L$25,4),IF(AND(H39>2001,H39<2004),VLOOKUP(I39,Feuil1!$G$11:$L$25,3),VLOOKUP(I39,Feuil1!$G$11:$L$25,2)))))))","v":"FC2 58"},163.31369874863211,null," ",{"$f":"T39-HLOOKUP(X39,Feuil1!$C$1:$BL$10,2,FALSE)","v":66},{"$f":"T39-HLOOKUP(X39,Feuil1!$C$1:$BL$10,3,FALSE)","v":56},{"$f":"T39-HLOOKUP(X39,Feuil1!$C$1:$BL$10,4,FALSE)","v":46},{"$f":"T39-HLOOKUP(X39,Feuil1!$C$1:$BL$10,5,FALSE)","v":36},{"$f":"T39-HLOOKUP(X39,Feuil1!$C$1:$BL$10,6,FALSE)","v":26},{"$f":"T39-HLOOKUP(X39,Feuil1!$C$1:$BL$10,7,FALSE)","v":16},{"$f":"T39-HLOOKUP(X39,Feuil1!$C$1:$BL$10,8,FALSE)","v":1},{"$f":"T39-HLOOKUP(X39,Feuil1!$C$1:$BL$10,9,FALSE)","v":-14},{"$f":"T39-HLOOKUP(X39,Feuil1!$C$1:$BL$10,10,FALSE)","v":-884},null,null,null,null,null,null,"INTB +"]
["F",null,null,null,null,null,null,2000,58,null,null,52,null,null,52,64,null,null,64,116,null,"INTB +",1,{"$f":"IF(I40=\"\",\"\",IF(A40=\"H\",IF(OR(H40=\"SEN\",H40<1997),VLOOKUP(I40,Feuil1!$A$11:$G$29,6),IF(AND(H40>1996,H40<2000),VLOOKUP(I40,Feuil1!$A$11:$G$29,5),IF(AND(H40>1999,H40<2002),VLOOKUP(I40,Feuil1!$A$11:$G$29,4),IF(AND(H40>2001,H40<2004),VLOOKUP(I40,Feuil1!$A$11:$G$29,3),VLOOKUP(I40,Feuil1!$A$11:$G$29,2))))),IF(OR(H40=\"SEN\",H40<1997),VLOOKUP(I40,Feuil1!$G$11:$L$25,6),IF(AND(H40>1996,H40<2000),VLOOKUP(I40,Feuil1!$G$11:$L$25,5),IF(AND(H40>1999,H40<2002),VLOOKUP(I40,Feuil1!$G$11:$L$25,4),IF(AND(H40>2001,H40<2004),VLOOKUP(I40,Feuil1!$G$11:$L$25,3),VLOOKUP(I40,Feuil1!$G$11:$L$25,2)))))))","v":"FC2 58"},163.31369874863211,null," ",{"$f":"T40-HLOOKUP(X40,Feuil1!$C$1:$BL$10,2,FALSE)","v":66},{"$f":"T40-HLOOKUP(X40,Feuil1!$C$1:$BL$10,3,FALSE)","v":56},{"$f":"T40-HLOOKUP(X40,Feuil1!$C$1:$BL$10,4,FALSE)","v":46},{"$f":"T40-HLOOKUP(X40,Feuil1!$C$1:$BL$10,5,FALSE)","v":36},{"$f":"T40-HLOOKUP(X40,Feuil1!$C$1:$BL$10,6,FALSE)","v":26},{"$f":"T40-HLOOKUP(X40,Feuil1!$C$1:$BL$10,7,FALSE)","v":16},{"$f":"T40-HLOOKUP(X40,Feuil1!$C$1:$BL$10,8,FALSE)","v":1},{"$f":"T40-HLOOKUP(X40,Feuil1!$C$1:$BL$10,9,FALSE)","v":-14},{"$f":"T40-HLOOKUP(X40,Feuil1!$C$1:$BL$10,10,FALSE)","v":-884},null,null,null,null,null,null,"INTB +"]
["F",null,null,null,null,null,null,2000,58,null,null,52,null,null,52,64,null,null,64,116,null,"INTB +",1,{"$f":"IF(I41=\"\",\"\",IF(A41=\"H\",IF(OR(H41=\"SEN\",H41<1997),VLOOKUP(I41,Feuil1!$A$11:$G$29,6),IF(AND(H41>1996,H41<2000),VLOOKUP(I41,Feuil1!$A$11:$G$29,5),IF(AND(H41>1999,H41<2002),VLOOKUP(I41,Feuil1!$A$11:$G$29,4),IF(AND(H41>2001,H41<2004),VLOOKUP(I41,Feuil1!$A$11:$G$29,3),VLOOKUP(I41,Feuil1!$A$11:$G$29,2))))),IF(OR(H41=\"SEN\",H41<1997),VLOOKUP(I41,Feuil1!$G$11:$L$25,6),IF(AND(H41>1996,H41<2000),VLOOKUP(I41,Feuil1!$G$11:$L$25,5),IF(AND(H41>1999,H41<2002),VLOOKUP(I41,Feuil1!$G$11:$L$25,4),IF(AND(H41>2001,H41<2004),VLOOKUP(I41,Feuil1!$G$11:$L$25,3),VLOOKUP(I41,Feuil1!$G$11:$L$25,2)))))))","v":"FC2 58"},163.31369874863211,null," ",{"$f":"T41-HLOOKUP(X41,Feuil1!$C$1:$BL$10,2,FALSE)","v":66},{"$f":"T41-HLOOKUP(X41,Feuil1!$C$1:$BL$10,3,FALSE)","v":56},{"$f":"T41-HLOOKUP(X41,Feuil1!$C$1:$BL$10,4,FALSE)","v":46},{"$f":"T41-HLOOKUP(X41,Feuil1!$C$1:$BL$10,5,FALSE)","v":36},{"$f":"T41-HLOOKUP(X41,Feuil1!$C$1:$BL$10,6,FALSE)","v":26},{"$f":"T41-HLOOKUP(X41,Feuil1!$C$1:$BL$10,7,FALSE)","v":16},{"$f":"T41-HLOOKUP(X41,Feuil1!$C$1:$BL$10,8,FALSE)","v":1},{"$f":"T41-HLOOKUP(X41,Feuil1!$C$1:$BL$10,9,FALSE)","v":-14},{"$f":"T41-HLOOKUP(X41,Feuil1!$C$1:$BL$10,10,FALSE)","v":-884},null,null,null,null,null,null,"INTB +"]
["F",null,null,null,null,null,null,2000,58,null,null,52,null,null,52,64,null,null,64,116,null,"INTB +",1,{"$f":"IF(I42=\"\",\"\",IF(A42=\"H\",IF(OR(H42=\"SEN\",H42<1997),VLOOKUP(I42,Feuil1!$A$11:$G$29,6),IF(AND(H42>1996,H42<2000),VLOOKUP(I42,Feuil1!$A$11:$G$29,5),IF(AND(H42>1999,H42<2002),VLOOKUP(I42,Feuil1!$A$11:$G$29,4),IF(AND(H42>2001,H42<2004),VLOOKUP(I42,Feuil1!$A$11:$G$29,3),VLOOKUP(I42,Feuil1!$A$11:$G$29,2))))),IF(OR(H42=\"SEN\",H42<1997),VLOOKUP(I42,Feuil1!$G$11:$L$25,6),IF(AND(H42>1996,H42<2000),VLOOKUP(I42,Feuil1!$G$11:$L$25,5),IF(AND(H42>1999,H42<2002),VLOOKUP(I42,Feuil1!$G$11:$L$25,4),IF(AND(H42>2001,H42<2004),VLOOKUP(I42,Feuil1!$G$11:$L$25,3),VLOOKUP(I42,Feuil1!$G$11:$L$25,2)))))))","v":"FC2 58"},163.31369874863211,null," ",{"$f":"T42-HLOOKUP(X42,Feuil1!$C$1:$BL$10,2,FALSE)","v":66},{"$f":"T42-HLOOKUP(X42,Feuil1!$C$1:$BL$10,3,FALSE)","v":56},{"$f":"T42-HLOOKUP(X42,Feuil1!$C$1:$BL$10,4,FALSE)","v":46},{"$f":"T42-HLOOKUP(X42,Feuil1!$C$1:$BL$10,5,FALSE)","v":36},{"$f":"T42-HLOOKUP(X42,Feuil1!$C$1:$BL$10,6,FALSE)","v":26},{"$f":"T42-HLOOKUP(X42,Feuil1!$C$1:$BL$10,7,FALSE)","v":16},{"$f":"T42-HLOOKUP(X42,Feuil1!$C$1:$BL$10,8,FALSE)","v":1},{"$f":"T42-HLOOKUP(X42,Feuil1!$C$1:$BL$10,9,FALSE)","v":-14},{"$f":"T42-HLOOKUP(X42,Feuil1!$C$1:$BL$10,10,FALSE)","v":-884},null,null,null,null,null,null,"INTB +"]
["F",null,null,null,null,null,null,2000,58,null,null,52,null,null,52,64,null,null,64,116,null,"INTB +",1,{"$f":"IF(I43=\"\",\"\",IF(A43=\"H\",IF(OR(H43=\"SEN\",H43<1997),VLOOKUP(I43,Feuil1!$A$11:$G$29,6),IF(AND(H43>1996,H43<2000),VLOOKUP(I43,Feuil1!$A$11:$G$29,5),IF(AND(H43>1999,H43<2002),VLOOKUP(I43,Feuil1!$A$11:$G$29,4),IF(AND(H43>2001,H43<2004),VLOOKUP(I43,Feuil1!$A$11:$G$29,3),VLOOKUP(I43,Feuil1!$A$11:$G$29,2))))),IF(OR(H43=\"SEN\",H43<1997),VLOOKUP(I43,Feuil1!$G$11:$L$25,6),IF(AND(H43>1996,H43<2000),VLOOKUP(I43,Feuil1!$G$11:$L$25,5),IF(AND(H43>1999,H43<2002),VLOOKUP(I43,Feuil1!$G$11:$L$25,4),IF(AND(H43>2001,H43<2004),VLOOKUP(I43,Feuil1!$G$11:$L$25,3),VLOOKUP(I43,Feuil1!$G$11:$L$25,2)))))))","v":"FC2 58"},163.31369874863211,null," ",{"$f":"T43-HLOOKUP(X43,Feuil1!$C$1:$BL$10,2,FALSE)","v":66},{"$f":"T43-HLOOKUP(X43,Feuil1!$C$1:$BL$10,3,FALSE)","v":56},{"$f":"T43-HLOOKUP(X43,Feuil1!$C$1:$BL$10,4,FALSE)","v":46},{"$f":"T43-HLOOKUP(X43,Feuil1!$C$1:$BL$10,5,FALSE)","v":36},{"$f":"T43-HLOOKUP(X43,Feuil1!$C$1:$BL$10,6,FALSE)","v":26},{"$f":"T43-HLOOKUP(X43,Feuil1!$C$1:$BL$10,7,FALSE)","v":16},{"$f":"T43-HLOOKUP(X43,Feuil1!$C$1:$BL$10,8,FALSE)","v":1},{"$f":"T43-HLOOKUP(X43,Feuil1!$C$1:$BL$10,9,FALSE)","v":-14},{"$f":"T43-HLOOKUP(X43,Feuil1!$C$1:$BL$10,10,FALSE)","v":-884},null,null,null,null,null,null,"INTB +"]
["F",null,null,null,null,null,null,2000,58,null,null,52,null,null,52,64,null,null,64,116,null,"INTB +",1,{"$f":"IF(I44=\"\",\"\",IF(A44=\"H\",IF(OR(H44=\"SEN\",H44<1997),VLOOKUP(I44,Feuil1!$A$11:$G$29,6),IF(AND(H44>1996,H44<2000),VLOOKUP(I44,Feuil1!$A$11:$G$29,5),IF(AND(H44>1999,H44<2002),VLOOKUP(I44,Feuil1!$A$11:$G$29,4),IF(AND(H44>2001,H44<2004),VLOOKUP(I44,Feuil1!$A$11:$G$29,3),VLOOKUP(I44,Feuil1!$A$11:$G$29,2))))),IF(OR(H44=\"SEN\",H44<1997),VLOOKUP(I44,Feuil1!$G$11:$L$25,6),IF(AND(H44>1996,H44<2000),VLOOKUP(I44,Feuil1!$G$11:$L$25,5),IF(AND(H44>1999,H44<2002),VLOOKUP(I44,Feuil1!$G$11:$L$25,4),IF(AND(H44>2001,H44<2004),VLOOKUP(I44,Feuil1!$G$11:$L$25,3),VLOOKUP(I44,Feuil1!$G$11:$L$25,2)))))))","v":"FC2 58"},163.31369874863211,null," ",{"$f":"T44-HLOOKUP(X44,Feuil1!$C$1:$BL$10,2,FALSE)","v":66},{"$f":"T44-HLOOKUP(X44,Feuil1!$C$1:$BL$10,3,FALSE)","v":56},{"$f":"T44-HLOOKUP(X44,Feuil1!$C$1:$BL$10,4,FALSE)","v":46},{"$f":"T44-HLOOKUP(X44,Feuil1!$C$1:$BL$10,5,FALSE)","v":36},{"$f":"T44-HLOOKUP(X44,Feuil1!$C$1:$BL$10,6,FALSE)","v":26},{"$f":"T44-HLOOKUP(X44,Feuil1!$C$1:$BL$10,7,FALSE)","v":16},{"$f":"T44-HLOOKUP(X44,Feuil1!$C$1:$BL$10,8,FALSE)","v":1},{"$f":"T44-HLOOKUP(X44,Feuil1!$C$1:$BL$10,9,FALSE)","v":-14},{"$f":"T44-HLOOKUP(X44,Feuil1!$C$1:$BL$10,10,FALSE)","v":-884},null,null,null,null,null,null,"INTB +"]
["F",null,null,null,null,null,null,2000,58,null,null,52,null,null,52,64,null,null,64,116,null,"INTB +",1,{"$f":"IF(I45=\"\",\"\",IF(A45=\"H\",IF(OR(H45=\"SEN\",H45<1997),VLOOKUP(I45,Feuil1!$A$11:$G$29,6),IF(AND(H45>1996,H45<2000),VLOOKUP(I45,Feuil1!$A$11:$G$29,5),IF(AND(H45>1999,H45<2002),VLOOKUP(I45,Feuil1!$A$11:$G$29,4),IF(AND(H45>2001,H45<2004),VLOOKUP(I45,Feuil1!$A$11:$G$29,3),VLOOKUP(I45,Feuil1!$A$11:$G$29,2))))),IF(OR(H45=\"SEN\",H45<1997),VLOOKUP(I45,Feuil1!$G$11:$L$25,6),IF(AND(H45>1996,H45<2000),VLOOKUP(I45,Feuil1!$G$11:$L$25,5),IF(AND(H45>1999,H45<2002),VLOOKUP(I45,Feuil1!$G$11:$L$25,4),IF(AND(H45>2001,H45<2004),VLOOKUP(I45,Feuil1!$G$11:$L$25,3),VLOOKUP(I45,Feuil1!$G$11:$L$25,2)))))))","v":"FC2 58"},163.31369874863211,null," ",{"$f":"T45-HLOOKUP(X45,Feuil1!$C$1:$BL$10,2,FALSE)","v":66},{"$f":"T45-HLOOKUP(X45,Feuil1!$C$1:$BL$10,3,FALSE)","v":56},{"$f":"T45-HLOOKUP(X45,Feuil1!$C$1:$BL$10,4,FALSE)","v":46},{"$f":"T45-HLOOKUP(X45,Feuil1!$C$1:$BL$10,5,FALSE)","v":36},{"$f":"T45-HLOOKUP(X45,Feuil1!$C$1:$BL$10,6,FALSE)","v":26},{"$f":"T45-HLOOKUP(X45,Feuil1!$C$1:$BL$10,7,FALSE)","v":16},{"$f":"T45-HLOOKUP(X45,Feuil1!$C$1:$BL$10,8,FALSE)","v":1},{"$f":"T45-HLOOKUP(X45,Feuil1!$C$1:$BL$10,9,FALSE)","v":-14},{"$f":"T45-HLOOKUP(X45,Feuil1!$C$1:$BL$10,10,FALSE)","v":-884},null,null,null,null,null,null,"INTB +"]
["F",null,null,null,null,null,null,2000,58,null,null,52,null,null,52,64,null,null,64,116,null,"INTB +",1,{"$f":"IF(I46=\"\",\"\",IF(A46=\"H\",IF(OR(H46=\"SEN\",H46<1997),VLOOKUP(I46,Feuil1!$A$11:$G$29,6),IF(AND(H46>1996,H46<2000),VLOOKUP(I46,Feuil1!$A$11:$G$29,5),IF(AND(H46>1999,H46<2002),VLOOKUP(I46,Feuil1!$A$11:$G$29,4),IF(AND(H46>2001,H46<2004),VLOOKUP(I46,Feuil1!$A$11:$G$29,3),VLOOKUP(I46,Feuil1!$A$11:$G$29,2))))),IF(OR(H46=\"SEN\",H46<1997),VLOOKUP(I46,Feuil1!$G$11:$L$25,6),IF(AND(H46>1996,H46<2000),VLOOKUP(I46,Feuil1!$G$11:$L$25,5),IF(AND(H46>1999,H46<2002),VLOOKUP(I46,Feuil1!$G$11:$L$25,4),IF(AND(H46>2001,H46<2004),VLOOKUP(I46,Feuil1!$G$11:$L$25,3),VLOOKUP(I46,Feuil1!$G$11:$L$25,2)))))))","v":"FC2 58"},163.31369874863211,null," ",{"$f":"T46-HLOOKUP(X46,Feuil1!$C$1:$BL$10,2,FALSE)","v":66},{"$f":"T46-HLOOKUP(X46,Feuil1!$C$1:$BL$10,3,FALSE)","v":56},{"$f":"T46-HLOOKUP(X46,Feuil1!$C$1:$BL$10,4,FALSE)","v":46},{"$f":"T46-HLOOKUP(X46,Feuil1!$C$1:$BL$10,5,FALSE)","v":36},{"$f":"T46-HLOOKUP(X46,Feuil1!$C$1:$BL$10,6,FALSE)","v":26},{"$f":"T46-HLOOKUP(X46,Feuil1!$C$1:$BL$10,7,FALSE)","v":16},{"$f":"T46-HLOOKUP(X46,Feuil1!$C$1:$BL$10,8,FALSE)","v":1},{"$f":"T46-HLOOKUP(X46,Feuil1!$C$1:$BL$10,9,FALSE)","v":-14},{"$f":"T46-HLOOKUP(X46,Feuil1!$C$1:$BL$10,10,FALSE)","v":-884},null,null,null,null,null,null,"INTB +"]
["F",null,null,null,null,null,null,2000,58,null,null,52,null,null,52,64,null,null,64,116,null,"INTB +",1,{"$f":"IF(I47=\"\",\"\",IF(A47=\"H\",IF(OR(H47=\"SEN\",H47<1997),VLOOKUP(I47,Feuil1!$A$11:$G$29,6),IF(AND(H47>1996,H47<2000),VLOOKUP(I47,Feuil1!$A$11:$G$29,5),IF(AND(H47>1999,H47<2002),VLOOKUP(I47,Feuil1!$A$11:$G$29,4),IF(AND(H47>2001,H47<2004),VLOOKUP(I47,Feuil1!$A$11:$G$29,3),VLOOKUP(I47,Feuil1!$A$11:$G$29,2))))),IF(OR(H47=\"SEN\",H47<1997),VLOOKUP(I47,Feuil1!$G$11:$L$25,6),IF(AND(H47>1996,H47<2000),VLOOKUP(I47,Feuil1!$G$11:$L$25,5),IF(AND(H47>1999,H47<2002),VLOOKUP(I47,Feuil1!$G$11:$L$25,4),IF(AND(H47>2001,H47<2004),VLOOKUP(I47,Feuil1!$G$11:$L$25,3),VLOOKUP(I47,Feuil1!$G$11:$L$25,2)))))))","v":"FC2 58"},163.31369874863211,null," ",{"$f":"T47-HLOOKUP(X47,Feuil1!$C$1:$BL$10,2,FALSE)","v":66},{"$f":"T47-HLOOKUP(X47,Feuil1!$C$1:$BL$10,3,FALSE)","v":56},{"$f":"T47-HLOOKUP(X47,Feuil1!$C$1:$BL$10,4,FALSE)","v":46},{"$f":"T47-HLOOKUP(X47,Feuil1!$C$1:$BL$10,5,FALSE)","v":36},{"$f":"T47-HLOOKUP(X47,Feuil1!$C$1:$BL$10,6,FALSE)","v":26},{"$f":"T47-HLOOKUP(X47,Feuil1!$C$1:$BL$10,7,FALSE)","v":16},{"$f":"T47-HLOOKUP(X47,Feuil1!$C$1:$BL$10,8,FALSE)","v":1},{"$f":"T47-HLOOKUP(X47,Feuil1!$C$1:$BL$10,9,FALSE)","v":-14},{"$f":"T47-HLOOKUP(X47,Feuil1!$C$1:$BL$10,10,FALSE)","v":-884},null,null,null,null,null,null,"INTB +"]
["F",null,null,null,null,null,null,2000,58,null,null,52,null,null,52,64,null,null,64,116,null,"INTB +",1,{"$f":"IF(I48=\"\",\"\",IF(A48=\"H\",IF(OR(H48=\"SEN\",H48<1997),VLOOKUP(I48,Feuil1!$A$11:$G$29,6),IF(AND(H48>1996,H48<2000),VLOOKUP(I48,Feuil1!$A$11:$G$29,5),IF(AND(H48>1999,H48<2002),VLOOKUP(I48,Feuil1!$A$11:$G$29,4),IF(AND(H48>2001,H48<2004),VLOOKUP(I48,Feuil1!$A$11:$G$29,3),VLOOKUP(I48,Feuil1!$A$11:$G$29,2))))),IF(OR(H48=\"SEN\",H48<1997),VLOOKUP(I48,Feuil1!$G$11:$L$25,6),IF(AND(H48>1996,H48<2000),VLOOKUP(I48,Feuil1!$G$11:$L$25,5),IF(AND(H48>1999,H48<2002),VLOOKUP(I48,Feuil1!$G$11:$L$25,4),IF(AND(H48>2001,H48<2004),VLOOKUP(I48,Feuil1!$G$11:$L$25,3),VLOOKUP(I48,Feuil1!$G$11:$L$25,2)))))))","v":"FC2 58"},163.31369874863211,null," ",{"$f":"T48-HLOOKUP(X48,Feuil1!$C$1:$BL$10,2,FALSE)","v":66},{"$f":"T48-HLOOKUP(X48,Feuil1!$C$1:$BL$10,3,FALSE)","v":56},{"$f":"T48-HLOOKUP(X48,Feuil1!$C$1:$BL$10,4,FALSE)","v":46},{"$f":"T48-HLOOKUP(X48,Feuil1!$C$1:$BL$10,5,FALSE)","v":36},{"$f":"T48-HLOOKUP(X48,Feuil1!$C$1:$BL$10,6,FALSE)","v":26},{"$f":"T48-HLOOKUP(X48,Feuil1!$C$1:$BL$10,7,FALSE)","v":16},{"$f":"T48-HLOOKUP(X48,Feuil1!$C$1:$BL$10,8,FALSE)","v":1},{"$f":"T48-HLOOKUP(X48,Feuil1!$C$1:$BL$10,9,FALSE)","v":-14},{"$f":"T48-HLOOKUP(X48,Feuil1!$C$1:$BL$10,10,FALSE)","v":-884},null,null,null,null,null,null,"INTB +"]
["F",null,null,null,null,null,null,2000,58,null,null,52,null,null,52,64,null,null,64,116,null,"INTB +",1,{"$f":"IF(I49=\"\",\"\",IF(A49=\"H\",IF(OR(H49=\"SEN\",H49<1997),VLOOKUP(I49,Feuil1!$A$11:$G$29,6),IF(AND(H49>1996,H49<2000),VLOOKUP(I49,Feuil1!$A$11:$G$29,5),IF(AND(H49>1999,H49<2002),VLOOKUP(I49,Feuil1!$A$11:$G$29,4),IF(AND(H49>2001,H49<2004),VLOOKUP(I49,Feuil1!$A$11:$G$29,3),VLOOKUP(I49,Feuil1!$A$11:$G$29,2))))),IF(OR(H49=\"SEN\",H49<1997),VLOOKUP(I49,Feuil1!$G$11:$L$25,6),IF(AND(H49>1996,H49<2000),VLOOKUP(I49,Feuil1!$G$11:$L$25,5),IF(AND(H49>1999,H49<2002),VLOOKUP(I49,Feuil1!$G$11:$L$25,4),IF(AND(H49>2001,H49<2004),VLOOKUP(I49,Feuil1!$G$11:$L$25,3),VLOOKUP(I49,Feuil1!$G$11:$L$25,2)))))))","v":"FC2 58"},163.31369874863211,null," ",{"$f":"T49-HLOOKUP(X49,Feuil1!$C$1:$BL$10,2,FALSE)","v":66},{"$f":"T49-HLOOKUP(X49,Feuil1!$C$1:$BL$10,3,FALSE)","v":56},{"$f":"T49-HLOOKUP(X49,Feuil1!$C$1:$BL$10,4,FALSE)","v":46},{"$f":"T49-HLOOKUP(X49,Feuil1!$C$1:$BL$10,5,FALSE)","v":36},{"$f":"T49-HLOOKUP(X49,Feuil1!$C$1:$BL$10,6,FALSE)","v":26},{"$f":"T49-HLOOKUP(X49,Feuil1!$C$1:$BL$10,7,FALSE)","v":16},{"$f":"T49-HLOOKUP(X49,Feuil1!$C$1:$BL$10,8,FALSE)","v":1},{"$f":"T49-HLOOKUP(X49,Feuil1!$C$1:$BL$10,9,FALSE)","v":-14},{"$f":"T49-HLOOKUP(X49,Feuil1!$C$1:$BL$10,10,FALSE)","v":-884},null,null,null,null,null,null,"INTB +"]
["F",null,null,null,null,null,null,2000,58,null,null,52,null,null,52,64,null,null,64,116,null,"INTB +",1,{"$f":"IF(I50=\"\",\"\",IF(A50=\"H\",IF(OR(H50=\"SEN\",H50<1997),VLOOKUP(I50,Feuil1!$A$11:$G$29,6),IF(AND(H50>1996,H50<2000),VLOOKUP(I50,Feuil1!$A$11:$G$29,5),IF(AND(H50>1999,H50<2002),VLOOKUP(I50,Feuil1!$A$11:$G$29,4),IF(AND(H50>2001,H50<2004),VLOOKUP(I50,Feuil1!$A$11:$G$29,3),VLOOKUP(I50,Feuil1!$A$11:$G$29,2))))),IF(OR(H50=\"SEN\",H50<1997),VLOOKUP(I50,Feuil1!$G$11:$L$25,6),IF(AND(H50>1996,H50<2000),VLOOKUP(I50,Feuil1!$G$11:$L$25,5),IF(AND(H50>1999,H50<2002),VLOOKUP(I50,Feuil1!$G$11:$L$25,4),IF(AND(H50>2001,H50<2004),VLOOKUP(I50,Feuil1!$G$11:$L$25,3),VLOOKUP(I50,Feuil1!$G$11:$L$25,2)))))))","v":"FC2 58"},163.31369874863211,null," ",{"$f":"T50-HLOOKUP(X50,Feuil1!$C$1:$BL$10,2,FALSE)","v":66},{"$f":"T50-HLOOKUP(X50,Feuil1!$C$1:$BL$10,3,FALSE)","v":56},{"$f":"T50-HLOOKUP(X50,Feuil1!$C$1:$BL$10,4,FALSE)","v":46},{"$f":"T50-HLOOKUP(X50,Feuil1!$C$1:$BL$10,5,FALSE)","v":36},{"$f":"T50-HLOOKUP(X50,Feuil1!$C$1:$BL$10,6,FALSE)","v":26},{"$f":"T50-HLOOKUP(X50,Feuil1!$C$1:$BL$10,7,FALSE)","v":16},{"$f":"T50-HLOOKUP(X50,Feuil1!$C$1:$BL$10,8,FALSE)","v":1},{"$f":"T50-HLOOKUP(X50,Feuil1!$C$1:$BL$10,9,FALSE)","v":-14},{"$f":"T50-HLOOKUP(X50,Feuil1!$C$1:$BL$10,10,FALSE)","v":-884},null,null,null,null,null,null,"INTB +"]
["F",null,null,null,null,null,null,2000,58,null,null,52,null,null,52,64,null,null,64,116,null,"INTB +",1,{"$f":"IF(I51=\"\",\"\",IF(A51=\"H\",IF(OR(H51=\"SEN\",H51<1997),VLOOKUP(I51,Feuil1!$A$11:$G$29,6),IF(AND(H51>1996,H51<2000),VLOOKUP(I51,Feuil1!$A$11:$G$29,5),IF(AND(H51>1999,H51<2002),VLOOKUP(I51,Feuil1!$A$11:$G$29,4),IF(AND(H51>2001,H51<2004),VLOOKUP(I51,Feuil1!$A$11:$G$29,3),VLOOKUP(I51,Feuil1!$A$11:$G$29,2))))),IF(OR(H51=\"SEN\",H51<1997),VLOOKUP(I51,Feuil1!$G$11:$L$25,6),IF(AND(H51>1996,H51<2000),VLOOKUP(I51,Feuil1!$G$11:$L$25,5),IF(AND(H51>1999,H51<2002),VLOOKUP(I51,Feuil1!$G$11:$L$25,4),IF(AND(H51>2001,H51<2004),VLOOKUP(I51,Feuil1!$G$11:$L$25,3),VLOOKUP(I51,Feuil1!$G$11:$L$25,2)))))))","v":"FC2 58"},163.31369874863211,null," ",{"$f":"T51-HLOOKUP(X51,Feuil1!$C$1:$BL$10,2,FALSE)","v":66},{"$f":"T51-HLOOKUP(X51,Feuil1!$C$1:$BL$10,3,FALSE)","v":56},{"$f":"T51-HLOOKUP(X51,Feuil1!$C$1:$BL$10,4,FALSE)","v":46},{"$f":"T51-HLOOKUP(X51,Feuil1!$C$1:$BL$10,5,FALSE)","v":36},{"$f":"T51-HLOOKUP(X51,Feuil1!$C$1:$BL$10,6,FALSE)","v":26},{"$f":"T51-HLOOKUP(X51,Feuil1!$C$1:$BL$10,7,FALSE)","v":16},{"$f":"T51-HLOOKUP(X51,Feuil1!$C$1:$BL$10,8,FALSE)","v":1},{"$f":"T51-HLOOKUP(X51,Feuil1!$C$1:$BL$10,9,FALSE)","v":-14},{"$f":"T51-HLOOKUP(X51,Feuil1!$C$1:$BL$10,10,FALSE)","v":-884},null,null,null,null,null,null,"INTB +"]
["F",null,null,null,null,null,null,2000,58,null,null,52,null,null,52,64,null,null,64,116,null,"INTB +",1,{"$f":"IF(I52=\"\",\"\",IF(A52=\"H\",IF(OR(H52=\"SEN\",H52<1997),VLOOKUP(I52,Feuil1!$A$11:$G$29,6),IF(AND(H52>1996,H52<2000),VLOOKUP(I52,Feuil1!$A$11:$G$29,5),IF(AND(H52>1999,H52<2002),VLOOKUP(I52,Feuil1!$A$11:$G$29,4),IF(AND(H52>2001,H52<2004),VLOOKUP(I52,Feuil1!$A$11:$G$29,3),VLOOKUP(I52,Feuil1!$A$11:$G$29,2))))),IF(OR(H52=\"SEN\",H52<1997),VLOOKUP(I52,Feuil1!$G$11:$L$25,6),IF(AND(H52>1996,H52<2000),VLOOKUP(I52,Feuil1!$G$11:$L$25,5),IF(AND(H52>1999,H52<2002),VLOOKUP(I52,Feuil1!$G$11:$L$25,4),IF(AND(H52>2001,H52<2004),VLOOKUP(I52,Feuil1!$G$11:$L$25,3),VLOOKUP(I52,Feuil1!$G$11:$L$25,2)))))))","v":"FC2 58"},163.31369874863211,null," ",{"$f":"T52-HLOOKUP(X52,Feuil1!$C$1:$BL$10,2,FALSE)","v":66},{"$f":"T52-HLOOKUP(X52,Feuil1!$C$1:$BL$10,3,FALSE)","v":56},{"$f":"T52-HLOOKUP(X52,Feuil1!$C$1:$BL$10,4,FALSE)","v":46},{"$f":"T52-HLOOKUP(X52,Feuil1!$C$1:$BL$10,5,FALSE)","v":36},{"$f":"T52-HLOOKUP(X52,Feuil1!$C$1:$BL$10,6,FALSE)","v":26},{"$f":"T52-HLOOKUP(X52,Feuil1!$C$1:$BL$10,7,FALSE)","v":16},{"$f":"T52-HLOOKUP(X52,Feuil1!$C$1:$BL$10,8,FALSE)","v":1},{"$f":"T52-HLOOKUP(X52,Feuil1!$C$1:$BL$10,9,FALSE)","v":-14},{"$f":"T52-HLOOKUP(X52,Feuil1!$C$1:$BL$10,10,FALSE)","v":-884},null,null,null,null,null,null,"INTB +"]
["F",null,null,null,null,null,null,2000,58,null,null,52,null,null,52,64,null,null,64,116,null,"INTB +",1,{"$f":"IF(I53=\"\",\"\",IF(A53=\"H\",IF(OR(H53=\"SEN\",H53<1997),VLOOKUP(I53,Feuil1!$A$11:$G$29,6),IF(AND(H53>1996,H53<2000),VLOOKUP(I53,Feuil1!$A$11:$G$29,5),IF(AND(H53>1999,H53<2002),VLOOKUP(I53,Feuil1!$A$11:$G$29,4),IF(AND(H53>2001,H53<2004),VLOOKUP(I53,Feuil1!$A$11:$G$29,3),VLOOKUP(I53,Feuil1!$A$11:$G$29,2))))),IF(OR(H53=\"SEN\",H53<1997),VLOOKUP(I53,Feuil1!$G$11:$L$25,6),IF(AND(H53>1996,H53<2000),VLOOKUP(I53,Feuil1!$G$11:$L$25,5),IF(AND(H53>1999,H53<2002),VLOOKUP(I53,Feuil1!$G$11:$L$25,4),IF(AND(H53>2001,H53<2004),VLOOKUP(I53,Feuil1!$G$11:$L$25,3),VLOOKUP(I53,Feuil1!$G$11:$L$25,2)))))))","v":"FC2 58"},163.31369874863211,null," ",{"$f":"T53-HLOOKUP(X53,Feuil1!$C$1:$BL$10,2,FALSE)","v":66},{"$f":"T53-HLOOKUP(X53,Feuil1!$C$1:$BL$10,3,FALSE)","v":56},{"$f":"T53-HLOOKUP(X53,Feuil1!$C$1:$BL$10,4,FALSE)","v":46},{"$f":"T53-HLOOKUP(X53,Feuil1!$C$1:$BL$10,5,FALSE)","v":36},{"$f":"T53-HLOOKUP(X53,Feuil1!$C$1:$BL$10,6,FALSE)","v":26},{"$f":"T53-HLOOKUP(X53,Feuil1!$C$1:$BL$10,7,FALSE)","v":16},{"$f":"T53-HLOOKUP(X53,Feuil1!$C$1:$BL$10,8,FALSE)","v":1},{"$f":"T53-HLOOKUP(X53,Feuil1!$C$1:$BL$10,9,FALSE)","v":-14},{"$f":"T53-HLOOKUP(X53,Feuil1!$C$1:$BL$10,10,FALSE)","v":-884},null,null,null,null,null,null,"INTB +"]
["F",null,null,null,null,null,null,2000,58,null,null,52,null,null,52,64,null,null,64,116,null,"INTB +",1,{"$f":"IF(I54=\"\",\"\",IF(A54=\"H\",IF(OR(H54=\"SEN\",H54<1997),VLOOKUP(I54,Feuil1!$A$11:$G$29,6),IF(AND(H54>1996,H54<2000),VLOOKUP(I54,Feuil1!$A$11:$G$29,5),IF(AND(H54>1999,H54<2002),VLOOKUP(I54,Feuil1!$A$11:$G$29,4),IF(AND(H54>2001,H54<2004),VLOOKUP(I54,Feuil1!$A$11:$G$29,3),VLOOKUP(I54,Feuil1!$A$11:$G$29,2))))),IF(OR(H54=\"SEN\",H54<1997),VLOOKUP(I54,Feuil1!$G$11:$L$25,6),IF(AND(H54>1996,H54<2000),VLOOKUP(I54,Feuil1!$G$11:$L$25,5),IF(AND(H54>1999,H54<2002),VLOOKUP(I54,Feuil1!$G$11:$L$25,4),IF(AND(H54>2001,H54<2004),VLOOKUP(I54,Feuil1!$G$11:$L$25,3),VLOOKUP(I54,Feuil1!$G$11:$L$25,2)))))))","v":"FC2 58"},163.31369874863211,null," ",{"$f":"T54-HLOOKUP(X54,Feuil1!$C$1:$BL$10,2,FALSE)","v":66},{"$f":"T54-HLOOKUP(X54,Feuil1!$C$1:$BL$10,3,FALSE)","v":56},{"$f":"T54-HLOOKUP(X54,Feuil1!$C$1:$BL$10,4,FALSE)","v":46},{"$f":"T54-HLOOKUP(X54,Feuil1!$C$1:$BL$10,5,FALSE)","v":36},{"$f":"T54-HLOOKUP(X54,Feuil1!$C$1:$BL$10,6,FALSE)","v":26},{"$f":"T54-HLOOKUP(X54,Feuil1!$C$1:$BL$10,7,FALSE)","v":16},{"$f":"T54-HLOOKUP(X54,Feuil1!$C$1:$BL$10,8,FALSE)","v":1},{"$f":"T54-HLOOKUP(X54,Feuil1!$C$1:$BL$10,9,FALSE)","v":-14},{"$f":"T54-HLOOKUP(X54,Feuil1!$C$1:$BL$10,10,FALSE)","v":-884},null,null,null,null,null,null,"INTB +"]
["F",null,null,null,null,null,null,2000,58,null,null,52,null,null,52,64,null,null,64,116,null,"INTB +",1,{"$f":"IF(I55=\"\",\"\",IF(A55=\"H\",IF(OR(H55=\"SEN\",H55<1997),VLOOKUP(I55,Feuil1!$A$11:$G$29,6),IF(AND(H55>1996,H55<2000),VLOOKUP(I55,Feuil1!$A$11:$G$29,5),IF(AND(H55>1999,H55<2002),VLOOKUP(I55,Feuil1!$A$11:$G$29,4),IF(AND(H55>2001,H55<2004),VLOOKUP(I55,Feuil1!$A$11:$G$29,3),VLOOKUP(I55,Feuil1!$A$11:$G$29,2))))),IF(OR(H55=\"SEN\",H55<1997),VLOOKUP(I55,Feuil1!$G$11:$L$25,6),IF(AND(H55>1996,H55<2000),VLOOKUP(I55,Feuil1!$G$11:$L$25,5),IF(AND(H55>1999,H55<2002),VLOOKUP(I55,Feuil1!$G$11:$L$25,4),IF(AND(H55>2001,H55<2004),VLOOKUP(I55,Feuil1!$G$11:$L$25,3),VLOOKUP(I55,Feuil1!$G$11:$L$25,2)))))))","v":"FC2 58"},163.31369874863211,null," ",{"$f":"T55-HLOOKUP(X55,Feuil1!$C$1:$BL$10,2,FALSE)","v":66},{"$f":"T55-HLOOKUP(X55,Feuil1!$C$1:$BL$10,3,FALSE)","v":56},{"$f":"T55-HLOOKUP(X55,Feuil1!$C$1:$BL$10,4,FALSE)","v":46},{"$f":"T55-HLOOKUP(X55,Feuil1!$C$1:$BL$10,5,FALSE)","v":36},{"$f":"T55-HLOOKUP(X55,Feuil1!$C$1:$BL$10,6,FALSE)","v":26},{"$f":"T55-HLOOKUP(X55,Feuil1!$C$1:$BL$10,7,FALSE)","v":16},{"$f":"T55-HLOOKUP(X55,Feuil1!$C$1:$BL$10,8,FALSE)","v":1},{"$f":"T55-HLOOKUP(X55,Feuil1!$C$1:$BL$10,9,FALSE)","v":-14},{"$f":"T55-HLOOKUP(X55,Feuil1!$C$1:$BL$10,10,FALSE)","v":-884},null,null,null,null,null,null,"INTB +"]
["F",null,null,null,null,null,null,2000,58,null,null,52,null,null,52,64,null,null,64,116,null,"INTB +",1,{"$f":"IF(I56=\"\",\"\",IF(A56=\"H\",IF(OR(H56=\"SEN\",H56<1997),VLOOKUP(I56,Feuil1!$A$11:$G$29,6),IF(AND(H56>1996,H56<2000),VLOOKUP(I56,Feuil1!$A$11:$G$29,5),IF(AND(H56>1999,H56<2002),VLOOKUP(I56,Feuil1!$A$11:$G$29,4),IF(AND(H56>2001,H56<2004),VLOOKUP(I56,Feuil1!$A$11:$G$29,3),VLOOKUP(I56,Feuil1!$A$11:$G$29,2))))),IF(OR(H56=\"SEN\",H56<1997),VLOOKUP(I56,Feuil1!$G$11:$L$25,6),IF(AND(H56>1996,H56<2000),VLOOKUP(I56,Feuil1!$G$11:$L$25,5),IF(AND(H56>1999,H56<2002),VLOOKUP(I56,Feuil1!$G$11:$L$25,4),IF(AND(H56>2001,H56<2004),VLOOKUP(I56,Feuil1!$G$11:$L$25,3),VLOOKUP(I56,Feuil1!$G$11:$L$25,2)))))))","v":"FC2 58"},163.31369874863211,null," ",{"$f":"T56-HLOOKUP(X56,Feuil1!$C$1:$BL$10,2,FALSE)","v":66},{"$f":"T56-HLOOKUP(X56,Feuil1!$C$1:$BL$10,3,FALSE)","v":56},{"$f":"T56-HLOOKUP(X56,Feuil1!$C$1:$BL$10,4,FALSE)","v":46},{"$f":"T56-HLOOKUP(X56,Feuil1!$C$1:$BL$10,5,FALSE)","v":36},{"$f":"T56-HLOOKUP(X56,Feuil1!$C$1:$BL$10,6,FALSE)","v":26},{"$f":"T56-HLOOKUP(X56,Feuil1!$C$1:$BL$10,7,FALSE)","v":16},{"$f":"T56-HLOOKUP(X56,Feuil1!$C$1:$BL$10,8,FALSE)","v":1},{"$f":"T56-HLOOKUP(X56,Feuil1!$C$1:$BL$10,9,FALSE)","v":-14},{"$f":"T56-HLOOKUP(X56,Feuil1!$C$1:$BL$10,10,FALSE)","v":-884},null,null,null,null,null,null,"INTB +"]
["F",null,null,null,null,null,null,2000,58,null,null,52,null,null,52,64,null,null,64,116,null,"INTB +",1,{"$f":"IF(I57=\"\",\"\",IF(A57=\"H\",IF(OR(H57=\"SEN\",H57<1997),VLOOKUP(I57,Feuil1!$A$11:$G$29,6),IF(AND(H57>1996,H57<2000),VLOOKUP(I57,Feuil1!$A$11:$G$29,5),IF(AND(H57>1999,H57<2002),VLOOKUP(I57,Feuil1!$A$11:$G$29,4),IF(AND(H57>2001,H57<2004),VLOOKUP(I57,Feuil1!$A$11:$G$29,3),VLOOKUP(I57,Feuil1!$A$11:$G$29,2))))),IF(OR(H57=\"SEN\",H57<1997),VLOOKUP(I57,Feuil1!$G$11:$L$25,6),IF(AND(H57>1996,H57<2000),VLOOKUP(I57,Feuil1!$G$11:$L$25,5),IF(AND(H57>1999,H57<2002),VLOOKUP(I57,Feuil1!$G$11:$L$25,4),IF(AND(H57>2001,H57<2004),VLOOKUP(I57,Feuil1!$G$11:$L$25,3),VLOOKUP(I57,Feuil1!$G$11:$L$25,2)))))))","v":"FC2 58"},163.31369874863211,null," ",{"$f":"T57-HLOOKUP(X57,Feuil1!$C$1:$BL$10,2,FALSE)","v":66},{"$f":"T57-HLOOKUP(X57,Feuil1!$C$1:$BL$10,3,FALSE)","v":56},{"$f":"T57-HLOOKUP(X57,Feuil1!$C$1:$BL$10,4,FALSE)","v":46},{"$f":"T57-HLOOKUP(X57,Feuil1!$C$1:$BL$10,5,FALSE)","v":36},{"$f":"T57-HLOOKUP(X57,Feuil1!$C$1:$BL$10,6,FALSE)","v":26},{"$f":"T57-HLOOKUP(X57,Feuil1!$C$1:$BL$10,7,FALSE)","v":16},{"$f":"T57-HLOOKUP(X57,Feuil1!$C$1:$BL$10,8,FALSE)","v":1},{"$f":"T57-HLOOKUP(X57,Feuil1!$C$1:$BL$10,9,FALSE)","v":-14},{"$f":"T57-HLOOKUP(X57,Feuil1!$C$1:$BL$10,10,FALSE)","v":-884},null,null,null,null,null,null,"INTB +"]
["F",null,null,null,null,null,null,2000,58,null,null,52,null,null,52,64,null,null,64,116,null,"INTB +",1,{"$f":"IF(I58=\"\",\"\",IF(A58=\"H\",IF(OR(H58=\"SEN\",H58<1997),VLOOKUP(I58,Feuil1!$A$11:$G$29,6),IF(AND(H58>1996,H58<2000),VLOOKUP(I58,Feuil1!$A$11:$G$29,5),IF(AND(H58>1999,H58<2002),VLOOKUP(I58,Feuil1!$A$11:$G$29,4),IF(AND(H58>2001,H58<2004),VLOOKUP(I58,Feuil1!$A$11:$G$29,3),VLOOKUP(I58,Feuil1!$A$11:$G$29,2))))),IF(OR(H58=\"SEN\",H58<1997),VLOOKUP(I58,Feuil1!$G$11:$L$25,6),IF(AND(H58>1996,H58<2000),VLOOKUP(I58,Feuil1!$G$11:$L$25,5),IF(AND(H58>1999,H58<2002),VLOOKUP(I58,Feuil1!$G$11:$L$25,4),IF(AND(H58>2001,H58<2004),VLOOKUP(I58,Feuil1!$G$11:$L$25,3),VLOOKUP(I58,Feuil1!$G$11:$L$25,2)))))))","v":"FC2 58"},163.31369874863211,null," ",{"$f":"T58-HLOOKUP(X58,Feuil1!$C$1:$BL$10,2,FALSE)","v":66},{"$f":"T58-HLOOKUP(X58,Feuil1!$C$1:$BL$10,3,FALSE)","v":56},{"$f":"T58-HLOOKUP(X58,Feuil1!$C$1:$BL$10,4,FALSE)","v":46},{"$f":"T58-HLOOKUP(X58,Feuil1!$C$1:$BL$10,5,FALSE)","v":36},{"$f":"T58-HLOOKUP(X58,Feuil1!$C$1:$BL$10,6,FALSE)","v":26},{"$f":"T58-HLOOKUP(X58,Feuil1!$C$1:$BL$10,7,FALSE)","v":16},{"$f":"T58-HLOOKUP(X58,Feuil1!$C$1:$BL$10,8,FALSE)","v":1},{"$f":"T58-HLOOKUP(X58,Feuil1!$C$1:$BL$10,9,FALSE)","v":-14},{"$f":"T58-HLOOKUP(X58,Feuil1!$C$1:$BL$10,10,FALSE)","v":-884},null,null,null,null,null,null,"INTB +"]
["F",null,null,null,null,null,null,2000,58,null,null,52,null,null,52,64,null,null,64,116,null,"INTB +",1,{"$f":"IF(I59=\"\",\"\",IF(A59=\"H\",IF(OR(H59=\"SEN\",H59<1997),VLOOKUP(I59,Feuil1!$A$11:$G$29,6),IF(AND(H59>1996,H59<2000),VLOOKUP(I59,Feuil1!$A$11:$G$29,5),IF(AND(H59>1999,H59<2002),VLOOKUP(I59,Feuil1!$A$11:$G$29,4),IF(AND(H59>2001,H59<2004),VLOOKUP(I59,Feuil1!$A$11:$G$29,3),VLOOKUP(I59,Feuil1!$A$11:$G$29,2))))),IF(OR(H59=\"SEN\",H59<1997),VLOOKUP(I59,Feuil1!$G$11:$L$25,6),IF(AND(H59>1996,H59<2000),VLOOKUP(I59,Feuil1!$G$11:$L$25,5),IF(AND(H59>1999,H59<2002),VLOOKUP(I59,Feuil1!$G$11:$L$25,4),IF(AND(H59>2001,H59<2004),VLOOKUP(I59,Feuil1!$G$11:$L$25,3),VLOOKUP(I59,Feuil1!$G$11:$L$25,2)))))))","v":"FC2 58"},163.31369874863211,null," ",{"$f":"T59-HLOOKUP(X59,Feuil1!$C$1:$BL$10,2,FALSE)","v":66},{"$f":"T59-HLOOKUP(X59,Feuil1!$C$1:$BL$10,3,FALSE)","v":56},{"$f":"T59-HLOOKUP(X59,Feuil1!$C$1:$BL$10,4,FALSE)","v":46},{"$f":"T59-HLOOKUP(X59,Feuil1!$C$1:$BL$10,5,FALSE)","v":36},{"$f":"T59-HLOOKUP(X59,Feuil1!$C$1:$BL$10,6,FALSE)","v":26},{"$f":"T59-HLOOKUP(X59,Feuil1!$C$1:$BL$10,7,FALSE)","v":16},{"$f":"T59-HLOOKUP(X59,Feuil1!$C$1:$BL$10,8,FALSE)","v":1},{"$f":"T59-HLOOKUP(X59,Feuil1!$C$1:$BL$10,9,FALSE)","v":-14},{"$f":"T59-HLOOKUP(X59,Feuil1!$C$1:$BL$10,10,FALSE)","v":-884},null,null,null,null,null,null,"INTB +"]
["F",null,null,null,null,null,null,2000,58,null,null,52,null,null,52,64,null,null,64,116,null,"INTB +",1,{"$f":"IF(I60=\"\",\"\",IF(A60=\"H\",IF(OR(H60=\"SEN\",H60<1997),VLOOKUP(I60,Feuil1!$A$11:$G$29,6),IF(AND(H60>1996,H60<2000),VLOOKUP(I60,Feuil1!$A$11:$G$29,5),IF(AND(H60>1999,H60<2002),VLOOKUP(I60,Feuil1!$A$11:$G$29,4),IF(AND(H60>2001,H60<2004),VLOOKUP(I60,Feuil1!$A$11:$G$29,3),VLOOKUP(I60,Feuil1!$A$11:$G$29,2))))),IF(OR(H60=\"SEN\",H60<1997),VLOOKUP(I60,Feuil1!$G$11:$L$25,6),IF(AND(H60>1996,H60<2000),VLOOKUP(I60,Feuil1!$G$11:$L$25,5),IF(AND(H60>1999,H60<2002),VLOOKUP(I60,Feuil1!$G$11:$L$25,4),IF(AND(H60>2001,H60<2004),VLOOKUP(I60,Feuil1!$G$11:$L$25,3),VLOOKUP(I60,Feuil1!$G$11:$L$25,2)))))))","v":"FC2 58"},163.31369874863211,null," ",{"$f":"T60-HLOOKUP(X60,Feuil1!$C$1:$BL$10,2,FALSE)","v":66},{"$f":"T60-HLOOKUP(X60,Feuil1!$C$1:$BL$10,3,FALSE)","v":56},{"$f":"T60-HLOOKUP(X60,Feuil1!$C$1:$BL$10,4,FALSE)","v":46},{"$f":"T60-HLOOKUP(X60,Feuil1!$C$1:$BL$10,5,FALSE)","v":36},{"$f":"T60-HLOOKUP(X60,Feuil1!$C$1:$BL$10,6,FALSE)","v":26},{"$f":"T60-HLOOKUP(X60,Feuil1!$C$1:$BL$10,7,FALSE)","v":16},{"$f":"T60-HLOOKUP(X60,Feuil1!$C$1:$BL$10,8,FALSE)","v":1},{"$f":"T60-HLOOKUP(X60,Feuil1!$C$1:$BL$10,9,FALSE)","v":-14},{"$f":"T60-HLOOKUP(X60,Feuil1!$C$1:$BL$10,10,FALSE)","v":-884},null,null,null,null,null,null,"INTB +"]
["F",null,null,null,null,null,null,2000,58,null,null,52,null,null,52,64,null,null,64,116,null,"INTB +",1,{"$f":"IF(I61=\"\",\"\",IF(A61=\"H\",IF(OR(H61=\"SEN\",H61<1997),VLOOKUP(I61,Feuil1!$A$11:$G$29,6),IF(AND(H61>1996,H61<2000),VLOOKUP(I61,Feuil1!$A$11:$G$29,5),IF(AND(H61>1999,H61<2002),VLOOKUP(I61,Feuil1!$A$11:$G$29,4),IF(AND(H61>2001,H61<2004),VLOOKUP(I61,Feuil1!$A$11:$G$29,3),VLOOKUP(I61,Feuil1!$A$11:$G$29,2))))),IF(OR(H61=\"SEN\",H61<1997),VLOOKUP(I61,Feuil1!$G$11:$L$25,6),IF(AND(H61>1996,H61<2000),VLOOKUP(I61,Feuil1!$G$11:$L$25,5),IF(AND(H61>1999,H61<2002),VLOOKUP(I61,Feuil1!$G$11:$L$25,4),IF(AND(H61>2001,H61<2004),VLOOKUP(I61,Feuil1!$G$11:$L$25,3),VLOOKUP(I61,Feuil1!$G$11:$L$25,2)))))))","v":"FC2 58"},163.31369874863211,null," ",{"$f":"T61-HLOOKUP(X61,Feuil1!$C$1:$BL$10,2,FALSE)","v":66},{"$f":"T61-HLOOKUP(X61,Feuil1!$C$1:$BL$10,3,FALSE)","v":56},{"$f":"T61-HLOOKUP(X61,Feuil1!$C$1:$BL$10,4,FALSE)","v":46},{"$f":"T61-HLOOKUP(X61,Feuil1!$C$1:$BL$10,5,FALSE)","v":36},{"$f":"T61-HLOOKUP(X61,Feuil1!$C$1:$BL$10,6,FALSE)","v":26},{"$f":"T61-HLOOKUP(X61,Feuil1!$C$1:$BL$10,7,FALSE)","v":16},{"$f":"T61-HLOOKUP(X61,Feuil1!$C$1:$BL$10,8,FALSE)","v":1},{"$f":"T61-HLOOKUP(X61,Feuil1!$C$1:$BL$10,9,FALSE)","v":-14},{"$f":"T61-HLOOKUP(X61,Feuil1!$C$1:$BL$10,10,FALSE)","v":-884},null,null,null,null,null,null,"INTB +"]
["F",null,null,null,null,null,null,2000,58,null,null,52,null,null,52,64,null,null,64,116,null,"INTB +",1,{"$f":"IF(I62=\"\",\"\",IF(A62=\"H\",IF(OR(H62=\"SEN\",H62<1997),VLOOKUP(I62,Feuil1!$A$11:$G$29,6),IF(AND(H62>1996,H62<2000),VLOOKUP(I62,Feuil1!$A$11:$G$29,5),IF(AND(H62>1999,H62<2002),VLOOKUP(I62,Feuil1!$A$11:$G$29,4),IF(AND(H62>2001,H62<2004),VLOOKUP(I62,Feuil1!$A$11:$G$29,3),VLOOKUP(I62,Feuil1!$A$11:$G$29,2))))),IF(OR(H62=\"SEN\",H62<1997),VLOOKUP(I62,Feuil1!$G$11:$L$25,6),IF(AND(H62>1996,H62<2000),VLOOKUP(I62,Feuil1!$G$11:$L$25,5),IF(AND(H62>1999,H62<2002),VLOOKUP(I62,Feuil1!$G$11:$L$25,4),IF(AND(H62>2001,H62<2004),VLOOKUP(I62,Feuil1!$G$11:$L$25,3),VLOOKUP(I62,Feuil1!$G$11:$L$25,2)))))))","v":"FC2 58"},163.31369874863211,null," ",{"$f":"T62-HLOOKUP(X62,Feuil1!$C$1:$BL$10,2,FALSE)","v":66},{"$f":"T62-HLOOKUP(X62,Feuil1!$C$1:$BL$10,3,FALSE)","v":56},{"$f":"T62-HLOOKUP(X62,Feuil1!$C$1:$BL$10,4,FALSE)","v":46},{"$f":"T62-HLOOKUP(X62,Feuil1!$C$1:$BL$10,5,FALSE)","v":36},{"$f":"T62-HLOOKUP(X62,Feuil1!$C$1:$BL$10,6,FALSE)","v":26},{"$f":"T62-HLOOKUP(X62,Feuil1!$C$1:$BL$10,7,FALSE)","v":16},{"$f":"T62-HLOOKUP(X62,Feuil1!$C$1:$BL$10,8,FALSE)","v":1},{"$f":"T62-HLOOKUP(X62,Feuil1!$C$1:$BL$10,9,FALSE)","v":-14},{"$f":"T62-HLOOKUP(X62,Feuil1!$C$1:$BL$10,10,FALSE)","v":-884},null,null,null,null,null,null,"INTB +"]
["F",null,null,null,null,null,null,2000,58,null,null,52,null,null,52,64,null,null,64,116,null,"INTB +",1,{"$f":"IF(I63=\"\",\"\",IF(A63=\"H\",IF(OR(H63=\"SEN\",H63<1997),VLOOKUP(I63,Feuil1!$A$11:$G$29,6),IF(AND(H63>1996,H63<2000),VLOOKUP(I63,Feuil1!$A$11:$G$29,5),IF(AND(H63>1999,H63<2002),VLOOKUP(I63,Feuil1!$A$11:$G$29,4),IF(AND(H63>2001,H63<2004),VLOOKUP(I63,Feuil1!$A$11:$G$29,3),VLOOKUP(I63,Feuil1!$A$11:$G$29,2))))),IF(OR(H63=\"SEN\",H63<1997),VLOOKUP(I63,Feuil1!$G$11:$L$25,6),IF(AND(H63>1996,H63<2000),VLOOKUP(I63,Feuil1!$G$11:$L$25,5),IF(AND(H63>1999,H63<2002),VLOOKUP(I63,Feuil1!$G$11:$L$25,4),IF(AND(H63>2001,H63<2004),VLOOKUP(I63,Feuil1!$G$11:$L$25,3),VLOOKUP(I63,Feuil1!$G$11:$L$25,2)))))))","v":"FC2 58"},163.31369874863211,null," ",{"$f":"T63-HLOOKUP(X63,Feuil1!$C$1:$BL$10,2,FALSE)","v":66},{"$f":"T63-HLOOKUP(X63,Feuil1!$C$1:$BL$10,3,FALSE)","v":56},{"$f":"T63-HLOOKUP(X63,Feuil1!$C$1:$BL$10,4,FALSE)","v":46},{"$f":"T63-HLOOKUP(X63,Feuil1!$C$1:$BL$10,5,FALSE)","v":36},{"$f":"T63-HLOOKUP(X63,Feuil1!$C$1:$BL$10,6,FALSE)","v":26},{"$f":"T63-HLOOKUP(X63,Feuil1!$C$1:$BL$10,7,FALSE)","v":16},{"$f":"T63-HLOOKUP(X63,Feuil1!$C$1:$BL$10,8,FALSE)","v":1},{"$f":"T63-HLOOKUP(X63,Feuil1!$C$1:$BL$10,9,FALSE)","v":-14},{"$f":"T63-HLOOKUP(X63,Feuil1!$C$1:$BL$10,10,FALSE)","v":-884},null,null,null,null,null,null,"INTB +"]
["F",null,null,null,null,null,null,2000,58,null,null,52,null,null,52,64,null,null,64,116,null,"INTB +",1,{"$f":"IF(I64=\"\",\"\",IF(A64=\"H\",IF(OR(H64=\"SEN\",H64<1997),VLOOKUP(I64,Feuil1!$A$11:$G$29,6),IF(AND(H64>1996,H64<2000),VLOOKUP(I64,Feuil1!$A$11:$G$29,5),IF(AND(H64>1999,H64<2002),VLOOKUP(I64,Feuil1!$A$11:$G$29,4),IF(AND(H64>2001,H64<2004),VLOOKUP(I64,Feuil1!$A$11:$G$29,3),VLOOKUP(I64,Feuil1!$A$11:$G$29,2))))),IF(OR(H64=\"SEN\",H64<1997),VLOOKUP(I64,Feuil1!$G$11:$L$25,6),IF(AND(H64>1996,H64<2000),VLOOKUP(I64,Feuil1!$G$11:$L$25,5),IF(AND(H64>1999,H64<2002),VLOOKUP(I64,Feuil1!$G$11:$L$25,4),IF(AND(H64>2001,H64<2004),VLOOKUP(I64,Feuil1!$G$11:$L$25,3),VLOOKUP(I64,Feuil1!$G$11:$L$25,2)))))))","v":"FC2 58"},163.31369874863211,null," ",{"$f":"T64-HLOOKUP(X64,Feuil1!$C$1:$BL$10,2,FALSE)","v":66},{"$f":"T64-HLOOKUP(X64,Feuil1!$C$1:$BL$10,3,FALSE)","v":56},{"$f":"T64-HLOOKUP(X64,Feuil1!$C$1:$BL$10,4,FALSE)","v":46},{"$f":"T64-HLOOKUP(X64,Feuil1!$C$1:$BL$10,5,FALSE)","v":36},{"$f":"T64-HLOOKUP(X64,Feuil1!$C$1:$BL$10,6,FALSE)","v":26},{"$f":"T64-HLOOKUP(X64,Feuil1!$C$1:$BL$10,7,FALSE)","v":16},{"$f":"T64-HLOOKUP(X64,Feuil1!$C$1:$BL$10,8,FALSE)","v":1},{"$f":"T64-HLOOKUP(X64,Feuil1!$C$1:$BL$10,9,FALSE)","v":-14},{"$f":"T64-HLOOKUP(X64,Feuil1!$C$1:$BL$10,10,FALSE)","v":-884},null,null,null,null,null,null,"INTB +"]
["F",null,null,null,null,null,null,2000,58,null,null,52,null,null,52,64,null,null,64,116,null,"INTB +",1,{"$f":"IF(I65=\"\",\"\",IF(A65=\"H\",IF(OR(H65=\"SEN\",H65<1997),VLOOKUP(I65,Feuil1!$A$11:$G$29,6),IF(AND(H65>1996,H65<2000),VLOOKUP(I65,Feuil1!$A$11:$G$29,5),IF(AND(H65>1999,H65<2002),VLOOKUP(I65,Feuil1!$A$11:$G$29,4),IF(AND(H65>2001,H65<2004),VLOOKUP(I65,Feuil1!$A$11:$G$29,3),VLOOKUP(I65,Feuil1!$A$11:$G$29,2))))),IF(OR(H65=\"SEN\",H65<1997),VLOOKUP(I65,Feuil1!$G$11:$L$25,6),IF(AND(H65>1996,H65<2000),VLOOKUP(I65,Feuil1!$G$11:$L$25,5),IF(AND(H65>1999,H65<2002),VLOOKUP(I65,Feuil1!$G$11:$L$25,4),IF(AND(H65>2001,H65<2004),VLOOKUP(I65,Feuil1!$G$11:$L$25,3),VLOOKUP(I65,Feuil1!$G$11:$L$25,2)))))))","v":"FC2 58"},163.31369874863211,null," ",{"$f":"T65-HLOOKUP(X65,Feuil1!$C$1:$BL$10,2,FALSE)","v":66},{"$f":"T65-HLOOKUP(X65,Feuil1!$C$1:$BL$10,3,FALSE)","v":56},{"$f":"T65-HLOOKUP(X65,Feuil1!$C$1:$BL$10,4,FALSE)","v":46},{"$f":"T65-HLOOKUP(X65,Feuil1!$C$1:$BL$10,5,FALSE)","v":36},{"$f":"T65-HLOOKUP(X65,Feuil1!$C$1:$BL$10,6,FALSE)","v":26},{"$f":"T65-HLOOKUP(X65,Feuil1!$C$1:$BL$10,7,FALSE)","v":16},{"$f":"T65-HLOOKUP(X65,Feuil1!$C$1:$BL$10,8,FALSE)","v":1},{"$f":"T65-HLOOKUP(X65,Feuil1!$C$1:$BL$10,9,FALSE)","v":-14},{"$f":"T65-HLOOKUP(X65,Feuil1!$C$1:$BL$10,10,FALSE)","v":-884},null,null,null,null,null,null,"INTB +"]
["F",null,null,null,null,null,null,2000,58,null,null,52,null,null,52,64,null,null,64,116,null,"INTB +",1,{"$f":"IF(I66=\"\",\"\",IF(A66=\"H\",IF(OR(H66=\"SEN\",H66<1997),VLOOKUP(I66,Feuil1!$A$11:$G$29,6),IF(AND(H66>1996,H66<2000),VLOOKUP(I66,Feuil1!$A$11:$G$29,5),IF(AND(H66>1999,H66<2002),VLOOKUP(I66,Feuil1!$A$11:$G$29,4),IF(AND(H66>2001,H66<2004),VLOOKUP(I66,Feuil1!$A$11:$G$29,3),VLOOKUP(I66,Feuil1!$A$11:$G$29,2))))),IF(OR(H66=\"SEN\",H66<1997),VLOOKUP(I66,Feuil1!$G$11:$L$25,6),IF(AND(H66>1996,H66<2000),VLOOKUP(I66,Feuil1!$G$11:$L$25,5),IF(AND(H66>1999,H66<2002),VLOOKUP(I66,Feuil1!$G$11:$L$25,4),IF(AND(H66>2001,H66<2004),VLOOKUP(I66,Feuil1!$G$11:$L$25,3),VLOOKUP(I66,Feuil1!$G$11:$L$25,2)))))))","v":"FC2 58"},163.31369874863211,null," ",{"$f":"T66-HLOOKUP(X66,Feuil1!$C$1:$BL$10,2,FALSE)","v":66},{"$f":"T66-HLOOKUP(X66,Feuil1!$C$1:$BL$10,3,FALSE)","v":56},{"$f":"T66-HLOOKUP(X66,Feuil1!$C$1:$BL$10,4,FALSE)","v":46},{"$f":"T66-HLOOKUP(X66,Feuil1!$C$1:$BL$10,5,FALSE)","v":36},{"$f":"T66-HLOOKUP(X66,Feuil1!$C$1:$BL$10,6,FALSE)","v":26},{"$f":"T66-HLOOKUP(X66,Feuil1!$C$1:$BL$10,7,FALSE)","v":16},{"$f":"T66-HLOOKUP(X66,Feuil1!$C$1:$BL$10,8,FALSE)","v":1},{"$f":"T66-HLOOKUP(X66,Feuil1!$C$1:$BL$10,9,FALSE)","v":-14},{"$f":"T66-HLOOKUP(X66,Feuil1!$C$1:$BL$10,10,FALSE)","v":-884},null,null,null,null,null,null,"INTB +"]
["F",null,null,null,null,null,null,2000,58,null,null,52,null,null,52,64,null,null,64,116,null,"INTB +",1,{"$f":"IF(I67=\"\",\"\",IF(A67=\"H\",IF(OR(H67=\"SEN\",H67<1997),VLOOKUP(I67,Feuil1!$A$11:$G$29,6),IF(AND(H67>1996,H67<2000),VLOOKUP(I67,Feuil1!$A$11:$G$29,5),IF(AND(H67>1999,H67<2002),VLOOKUP(I67,Feuil1!$A$11:$G$29,4),IF(AND(H67>2001,H67<2004),VLOOKUP(I67,Feuil1!$A$11:$G$29,3),VLOOKUP(I67,Feuil1!$A$11:$G$29,2))))),IF(OR(H67=\"SEN\",H67<1997),VLOOKUP(I67,Feuil1!$G$11:$L$25,6),IF(AND(H67>1996,H67<2000),VLOOKUP(I67,Feuil1!$G$11:$L$25,5),IF(AND(H67>1999,H67<2002),VLOOKUP(I67,Feuil1!$G$11:$L$25,4),IF(AND(H67>2001,H67<2004),VLOOKUP(I67,Feuil1!$G$11:$L$25,3),VLOOKUP(I67,Feuil1!$G$11:$L$25,2)))))))","v":"FC2 58"},163.31369874863211,null," ",{"$f":"T67-HLOOKUP(X67,Feuil1!$C$1:$BL$10,2,FALSE)","v":66},{"$f":"T67-HLOOKUP(X67,Feuil1!$C$1:$BL$10,3,FALSE)","v":56},{"$f":"T67-HLOOKUP(X67,Feuil1!$C$1:$BL$10,4,FALSE)","v":46},{"$f":"T67-HLOOKUP(X67,Feuil1!$C$1:$BL$10,5,FALSE)","v":36},{"$f":"T67-HLOOKUP(X67,Feuil1!$C$1:$BL$10,6,FALSE)","v":26},{"$f":"T67-HLOOKUP(X67,Feuil1!$C$1:$BL$10,7,FALSE)","v":16},{"$f":"T67-HLOOKUP(X67,Feuil1!$C$1:$BL$10,8,FALSE)","v":1},{"$f":"T67-HLOOKUP(X67,Feuil1!$C$1:$BL$10,9,FALSE)","v":-14},{"$f":"T67-HLOOKUP(X67,Feuil1!$C$1:$BL$10,10,FALSE)","v":-884},null,null,null,null,null,null,"INTB +"]
["F",null,null,null,null,null,null,2000,58,null,null,52,null,null,52,64,null,null,64,116,null,"INTB +",1,{"$f":"IF(I68=\"\",\"\",IF(A68=\"H\",IF(OR(H68=\"SEN\",H68<1997),VLOOKUP(I68,Feuil1!$A$11:$G$29,6),IF(AND(H68>1996,H68<2000),VLOOKUP(I68,Feuil1!$A$11:$G$29,5),IF(AND(H68>1999,H68<2002),VLOOKUP(I68,Feuil1!$A$11:$G$29,4),IF(AND(H68>2001,H68<2004),VLOOKUP(I68,Feuil1!$A$11:$G$29,3),VLOOKUP(I68,Feuil1!$A$11:$G$29,2))))),IF(OR(H68=\"SEN\",H68<1997),VLOOKUP(I68,Feuil1!$G$11:$L$25,6),IF(AND(H68>1996,H68<2000),VLOOKUP(I68,Feuil1!$G$11:$L$25,5),IF(AND(H68>1999,H68<2002),VLOOKUP(I68,Feuil1!$G$11:$L$25,4),IF(AND(H68>2001,H68<2004),VLOOKUP(I68,Feuil1!$G$11:$L$25,3),VLOOKUP(I68,Feuil1!$G$11:$L$25,2)))))))","v":"FC2 58"},163.31369874863211,null," ",{"$f":"T68-HLOOKUP(X68,Feuil1!$C$1:$BL$10,2,FALSE)","v":66},{"$f":"T68-HLOOKUP(X68,Feuil1!$C$1:$BL$10,3,FALSE)","v":56},{"$f":"T68-HLOOKUP(X68,Feuil1!$C$1:$BL$10,4,FALSE)","v":46},{"$f":"T68-HLOOKUP(X68,Feuil1!$C$1:$BL$10,5,FALSE)","v":36},{"$f":"T68-HLOOKUP(X68,Feuil1!$C$1:$BL$10,6,FALSE)","v":26},{"$f":"T68-HLOOKUP(X68,Feuil1!$C$1:$BL$10,7,FALSE)","v":16},{"$f":"T68-HLOOKUP(X68,Feuil1!$C$1:$BL$10,8,FALSE)","v":1},{"$f":"T68-HLOOKUP(X68,Feuil1!$C$1:$BL$10,9,FALSE)","v":-14},{"$f":"T68-HLOOKUP(X68,Feuil1!$C$1:$BL$10,10,FALSE)","v":-884},null,null,null,null,null,null,"INTB +"]
["F",null,null,null,null,null,null,2000,58,null,null,52,null,null,52,64,null,null,64,116,null,"INTB +",1,{"$f":"IF(I69=\"\",\"\",IF(A69=\"H\",IF(OR(H69=\"SEN\",H69<1997),VLOOKUP(I69,Feuil1!$A$11:$G$29,6),IF(AND(H69>1996,H69<2000),VLOOKUP(I69,Feuil1!$A$11:$G$29,5),IF(AND(H69>1999,H69<2002),VLOOKUP(I69,Feuil1!$A$11:$G$29,4),IF(AND(H69>2001,H69<2004),VLOOKUP(I69,Feuil1!$A$11:$G$29,3),VLOOKUP(I69,Feuil1!$A$11:$G$29,2))))),IF(OR(H69=\"SEN\",H69<1997),VLOOKUP(I69,Feuil1!$G$11:$L$25,6),IF(AND(H69>1996,H69<2000),VLOOKUP(I69,Feuil1!$G$11:$L$25,5),IF(AND(H69>1999,H69<2002),VLOOKUP(I69,Feuil1!$G$11:$L$25,4),IF(AND(H69>2001,H69<2004),VLOOKUP(I69,Feuil1!$G$11:$L$25,3),VLOOKUP(I69,Feuil1!$G$11:$L$25,2)))))))","v":"FC2 58"},163.31369874863211,null," ",{"$f":"T69-HLOOKUP(X69,Feuil1!$C$1:$BL$10,2,FALSE)","v":66},{"$f":"T69-HLOOKUP(X69,Feuil1!$C$1:$BL$10,3,FALSE)","v":56},{"$f":"T69-HLOOKUP(X69,Feuil1!$C$1:$BL$10,4,FALSE)","v":46},{"$f":"T69-HLOOKUP(X69,Feuil1!$C$1:$BL$10,5,FALSE)","v":36},{"$f":"T69-HLOOKUP(X69,Feuil1!$C$1:$BL$10,6,FALSE)","v":26},{"$f":"T69-HLOOKUP(X69,Feuil1!$C$1:$BL$10,7,FALSE)","v":16},{"$f":"T69-HLOOKUP(X69,Feuil1!$C$1:$BL$10,8,FALSE)","v":1},{"$f":"T69-HLOOKUP(X69,Feuil1!$C$1:$BL$10,9,FALSE)","v":-14},{"$f":"T69-HLOOKUP(X69,Feuil1!$C$1:$BL$10,10,FALSE)","v":-884},null,null,null,null,null,null,"INTB +"]
["F",null,null,null,null,null,null,2000,58,null,null,52,null,null,52,64,null,null,64,116,null,"INTB +",1,{"$f":"IF(I70=\"\",\"\",IF(A70=\"H\",IF(OR(H70=\"SEN\",H70<1997),VLOOKUP(I70,Feuil1!$A$11:$G$29,6),IF(AND(H70>1996,H70<2000),VLOOKUP(I70,Feuil1!$A$11:$G$29,5),IF(AND(H70>1999,H70<2002),VLOOKUP(I70,Feuil1!$A$11:$G$29,4),IF(AND(H70>2001,H70<2004),VLOOKUP(I70,Feuil1!$A$11:$G$29,3),VLOOKUP(I70,Feuil1!$A$11:$G$29,2))))),IF(OR(H70=\"SEN\",H70<1997),VLOOKUP(I70,Feuil1!$G$11:$L$25,6),IF(AND(H70>1996,H70<2000),VLOOKUP(I70,Feuil1!$G$11:$L$25,5),IF(AND(H70>1999,H70<2002),VLOOKUP(I70,Feuil1!$G$11:$L$25,4),IF(AND(H70>2001,H70<2004),VLOOKUP(I70,Feuil1!$G$11:$L$25,3),VLOOKUP(I70,Feuil1!$G$11:$L$25,2)))))))","v":"FC2 58"},163.31369874863211,null," ",{"$f":"T70-HLOOKUP(X70,Feuil1!$C$1:$BL$10,2,FALSE)","v":66},{"$f":"T70-HLOOKUP(X70,Feuil1!$C$1:$BL$10,3,FALSE)","v":56},{"$f":"T70-HLOOKUP(X70,Feuil1!$C$1:$BL$10,4,FALSE)","v":46},{"$f":"T70-HLOOKUP(X70,Feuil1!$C$1:$BL$10,5,FALSE)","v":36},{"$f":"T70-HLOOKUP(X70,Feuil1!$C$1:$BL$10,6,FALSE)","v":26},{"$f":"T70-HLOOKUP(X70,Feuil1!$C$1:$BL$10,7,FALSE)","v":16},{"$f":"T70-HLOOKUP(X70,Feuil1!$C$1:$BL$10,8,FALSE)","v":1},{"$f":"T70-HLOOKUP(X70,Feuil1!$C$1:$BL$10,9,FALSE)","v":-14},{"$f":"T70-HLOOKUP(X70,Feuil1!$C$1:$BL$10,10,FALSE)","v":-884},null,null,null,null,null,null,"INTB +"]
["F",null,null,null,null,null,null,2000,58,null,null,52,null,null,52,64,null,null,64,116,null,"INTB +",1,{"$f":"IF(I71=\"\",\"\",IF(A71=\"H\",IF(OR(H71=\"SEN\",H71<1997),VLOOKUP(I71,Feuil1!$A$11:$G$29,6),IF(AND(H71>1996,H71<2000),VLOOKUP(I71,Feuil1!$A$11:$G$29,5),IF(AND(H71>1999,H71<2002),VLOOKUP(I71,Feuil1!$A$11:$G$29,4),IF(AND(H71>2001,H71<2004),VLOOKUP(I71,Feuil1!$A$11:$G$29,3),VLOOKUP(I71,Feuil1!$A$11:$G$29,2))))),IF(OR(H71=\"SEN\",H71<1997),VLOOKUP(I71,Feuil1!$G$11:$L$25,6),IF(AND(H71>1996,H71<2000),VLOOKUP(I71,Feuil1!$G$11:$L$25,5),IF(AND(H71>1999,H71<2002),VLOOKUP(I71,Feuil1!$G$11:$L$25,4),IF(AND(H71>2001,H71<2004),VLOOKUP(I71,Feuil1!$G$11:$L$25,3),VLOOKUP(I71,Feuil1!$G$11:$L$25,2)))))))","v":"FC2 58"},163.31369874863211,null," ",{"$f":"T71-HLOOKUP(X71,Feuil1!$C$1:$BL$10,2,FALSE)","v":66},{"$f":"T71-HLOOKUP(X71,Feuil1!$C$1:$BL$10,3,FALSE)","v":56},{"$f":"T71-HLOOKUP(X71,Feuil1!$C$1:$BL$10,4,FALSE)","v":46},{"$f":"T71-HLOOKUP(X71,Feuil1!$C$1:$BL$10,5,FALSE)","v":36},{"$f":"T71-HLOOKUP(X71,Feuil1!$C$1:$BL$10,6,FALSE)","v":26},{"$f":"T71-HLOOKUP(X71,Feuil1!$C$1:$BL$10,7,FALSE)","v":16},{"$f":"T71-HLOOKUP(X71,Feuil1!$C$1:$BL$10,8,FALSE)","v":1},{"$f":"T71-HLOOKUP(X71,Feuil1!$C$1:$BL$10,9,FALSE)","v":-14},{"$f":"T71-HLOOKUP(X71,Feuil1!$C$1:$BL$10,10,FALSE)","v":-884},null,null,null,null,null,null,"INTB +"]
["F",null,null,null,null,null,null,2000,58,null,null,52,null,null,52,64,null,null,64,116,null,"INTB +",1,{"$f":"IF(I72=\"\",\"\",IF(A72=\"H\",IF(OR(H72=\"SEN\",H72<1997),VLOOKUP(I72,Feuil1!$A$11:$G$29,6),IF(AND(H72>1996,H72<2000),VLOOKUP(I72,Feuil1!$A$11:$G$29,5),IF(AND(H72>1999,H72<2002),VLOOKUP(I72,Feuil1!$A$11:$G$29,4),IF(AND(H72>2001,H72<2004),VLOOKUP(I72,Feuil1!$A$11:$G$29,3),VLOOKUP(I72,Feuil1!$A$11:$G$29,2))))),IF(OR(H72=\"SEN\",H72<1997),VLOOKUP(I72,Feuil1!$G$11:$L$25,6),IF(AND(H72>1996,H72<2000),VLOOKUP(I72,Feuil1!$G$11:$L$25,5),IF(AND(H72>1999,H72<2002),VLOOKUP(I72,Feuil1!$G$11:$L$25,4),IF(AND(H72>2001,H72<2004),VLOOKUP(I72,Feuil1!$G$11:$L$25,3),VLOOKUP(I72,Feuil1!$G$11:$L$25,2)))))))","v":"FC2 58"},163.31369874863211,null," ",{"$f":"T72-HLOOKUP(X72,Feuil1!$C$1:$BL$10,2,FALSE)","v":66},{"$f":"T72-HLOOKUP(X72,Feuil1!$C$1:$BL$10,3,FALSE)","v":56},{"$f":"T72-HLOOKUP(X72,Feuil1!$C$1:$BL$10,4,FALSE)","v":46},{"$f":"T72-HLOOKUP(X72,Feuil1!$C$1:$BL$10,5,FALSE)","v":36},{"$f":"T72-HLOOKUP(X72,Feuil1!$C$1:$BL$10,6,FALSE)","v":26},{"$f":"T72-HLOOKUP(X72,Feuil1!$C$1:$BL$10,7,FALSE)","v":16},{"$f":"T72-HLOOKUP(X72,Feuil1!$C$1:$BL$10,8,FALSE)","v":1},{"$f":"T72-HLOOKUP(X72,Feuil1!$C$1:$BL$10,9,FALSE)","v":-14},{"$f":"T72-HLOOKUP(X72,Feuil1!$C$1:$BL$10,10,FALSE)","v":-884},null,null,null,null,null,null,"INTB +"]
["F",null,null,null,null,null,null,2000,58,null,null,52,null,null,52,64,null,null,64,116,null,"INTB +",1,{"$f":"IF(I73=\"\",\"\",IF(A73=\"H\",IF(OR(H73=\"SEN\",H73<1997),VLOOKUP(I73,Feuil1!$A$11:$G$29,6),IF(AND(H73>1996,H73<2000),VLOOKUP(I73,Feuil1!$A$11:$G$29,5),IF(AND(H73>1999,H73<2002),VLOOKUP(I73,Feuil1!$A$11:$G$29,4),IF(AND(H73>2001,H73<2004),VLOOKUP(I73,Feuil1!$A$11:$G$29,3),VLOOKUP(I73,Feuil1!$A$11:$G$29,2))))),IF(OR(H73=\"SEN\",H73<1997),VLOOKUP(I73,Feuil1!$G$11:$L$25,6),IF(AND(H73>1996,H73<2000),VLOOKUP(I73,Feuil1!$G$11:$L$25,5),IF(AND(H73>1999,H73<2002),VLOOKUP(I73,Feuil1!$G$11:$L$25,4),IF(AND(H73>2001,H73<2004),VLOOKUP(I73,Feuil1!$G$11:$L$25,3),VLOOKUP(I73,Feuil1!$G$11:$L$25,2)))))))","v":"FC2 58"},163.31369874863211,null," ",{"$f":"T73-HLOOKUP(X73,Feuil1!$C$1:$BL$10,2,FALSE)","v":66},{"$f":"T73-HLOOKUP(X73,Feuil1!$C$1:$BL$10,3,FALSE)","v":56},{"$f":"T73-HLOOKUP(X73,Feuil1!$C$1:$BL$10,4,FALSE)","v":46},{"$f":"T73-HLOOKUP(X73,Feuil1!$C$1:$BL$10,5,FALSE)","v":36},{"$f":"T73-HLOOKUP(X73,Feuil1!$C$1:$BL$10,6,FALSE)","v":26},{"$f":"T73-HLOOKUP(X73,Feuil1!$C$1:$BL$10,7,FALSE)","v":16},{"$f":"T73-HLOOKUP(X73,Feuil1!$C$1:$BL$10,8,FALSE)","v":1},{"$f":"T73-HLOOKUP(X73,Feuil1!$C$1:$BL$10,9,FALSE)","v":-14},{"$f":"T73-HLOOKUP(X73,Feuil1!$C$1:$BL$10,10,FALSE)","v":-884},null,null,null,null,null,null,"INTB +"]
["F",null,null,null,null,null,null,2000,58,null,null,52,null,null,52,64,null,null,64,116,null,"INTB +",1,{"$f":"IF(I74=\"\",\"\",IF(A74=\"H\",IF(OR(H74=\"SEN\",H74<1997),VLOOKUP(I74,Feuil1!$A$11:$G$29,6),IF(AND(H74>1996,H74<2000),VLOOKUP(I74,Feuil1!$A$11:$G$29,5),IF(AND(H74>1999,H74<2002),VLOOKUP(I74,Feuil1!$A$11:$G$29,4),IF(AND(H74>2001,H74<2004),VLOOKUP(I74,Feuil1!$A$11:$G$29,3),VLOOKUP(I74,Feuil1!$A$11:$G$29,2))))),IF(OR(H74=\"SEN\",H74<1997),VLOOKUP(I74,Feuil1!$G$11:$L$25,6),IF(AND(H74>1996,H74<2000),VLOOKUP(I74,Feuil1!$G$11:$L$25,5),IF(AND(H74>1999,H74<2002),VLOOKUP(I74,Feuil1!$G$11:$L$25,4),IF(AND(H74>2001,H74<2004),VLOOKUP(I74,Feuil1!$G$11:$L$25,3),VLOOKUP(I74,Feuil1!$G$11:$L$25,2)))))))","v":"FC2 58"},163.31369874863211,null," ",{"$f":"T74-HLOOKUP(X74,Feuil1!$C$1:$BL$10,2,FALSE)","v":66},{"$f":"T74-HLOOKUP(X74,Feuil1!$C$1:$BL$10,3,FALSE)","v":56},{"$f":"T74-HLOOKUP(X74,Feuil1!$C$1:$BL$10,4,FALSE)","v":46},{"$f":"T74-HLOOKUP(X74,Feuil1!$C$1:$BL$10,5,FALSE)","v":36},{"$f":"T74-HLOOKUP(X74,Feuil1!$C$1:$BL$10,6,FALSE)","v":26},{"$f":"T74-HLOOKUP(X74,Feuil1!$C$1:$BL$10,7,FALSE)","v":16},{"$f":"T74-HLOOKUP(X74,Feuil1!$C$1:$BL$10,8,FALSE)","v":1},{"$f":"T74-HLOOKUP(X74,Feuil1!$C$1:$BL$10,9,FALSE)","v":-14},{"$f":"T74-HLOOKUP(X74,Feuil1!$C$1:$BL$10,10,FALSE)","v":-884},null,null,null,null,null,null,"INTB +"]
["F",null,null,null,null,null,null,2000,58,null,null,52,null,null,52,64,null,null,64,116,null,"INTB +",1,{"$f":"IF(I75=\"\",\"\",IF(A75=\"H\",IF(OR(H75=\"SEN\",H75<1997),VLOOKUP(I75,Feuil1!$A$11:$G$29,6),IF(AND(H75>1996,H75<2000),VLOOKUP(I75,Feuil1!$A$11:$G$29,5),IF(AND(H75>1999,H75<2002),VLOOKUP(I75,Feuil1!$A$11:$G$29,4),IF(AND(H75>2001,H75<2004),VLOOKUP(I75,Feuil1!$A$11:$G$29,3),VLOOKUP(I75,Feuil1!$A$11:$G$29,2))))),IF(OR(H75=\"SEN\",H75<1997),VLOOKUP(I75,Feuil1!$G$11:$L$25,6),IF(AND(H75>1996,H75<2000),VLOOKUP(I75,Feuil1!$G$11:$L$25,5),IF(AND(H75>1999,H75<2002),VLOOKUP(I75,Feuil1!$G$11:$L$25,4),IF(AND(H75>2001,H75<2004),VLOOKUP(I75,Feuil1!$G$11:$L$25,3),VLOOKUP(I75,Feuil1!$G$11:$L$25,2)))))))","v":"FC2 58"},163.31369874863211,null," ",{"$f":"T75-HLOOKUP(X75,Feuil1!$C$1:$BL$10,2,FALSE)","v":66},{"$f":"T75-HLOOKUP(X75,Feuil1!$C$1:$BL$10,3,FALSE)","v":56},{"$f":"T75-HLOOKUP(X75,Feuil1!$C$1:$BL$10,4,FALSE)","v":46},{"$f":"T75-HLOOKUP(X75,Feuil1!$C$1:$BL$10,5,FALSE)","v":36},{"$f":"T75-HLOOKUP(X75,Feuil1!$C$1:$BL$10,6,FALSE)","v":26},{"$f":"T75-HLOOKUP(X75,Feuil1!$C$1:$BL$10,7,FALSE)","v":16},{"$f":"T75-HLOOKUP(X75,Feuil1!$C$1:$BL$10,8,FALSE)","v":1},{"$f":"T75-HLOOKUP(X75,Feuil1!$C$1:$BL$10,9,FALSE)","v":-14},{"$f":"T75-HLOOKUP(X75,Feuil1!$C$1:$BL$10,10,FALSE)","v":-884},null,null,null,null,null,null,"INTB +"]
["F",null,null,null,null,null,null,2000,58,null,null,52,null,null,52,64,null,null,64,116,null,"INTB +",1,{"$f":"IF(I76=\"\",\"\",IF(A76=\"H\",IF(OR(H76=\"SEN\",H76<1997),VLOOKUP(I76,Feuil1!$A$11:$G$29,6),IF(AND(H76>1996,H76<2000),VLOOKUP(I76,Feuil1!$A$11:$G$29,5),IF(AND(H76>1999,H76<2002),VLOOKUP(I76,Feuil1!$A$11:$G$29,4),IF(AND(H76>2001,H76<2004),VLOOKUP(I76,Feuil1!$A$11:$G$29,3),VLOOKUP(I76,Feuil1!$A$11:$G$29,2))))),IF(OR(H76=\"SEN\",H76<1997),VLOOKUP(I76,Feuil1!$G$11:$L$25,6),IF(AND(H76>1996,H76<2000),VLOOKUP(I76,Feuil1!$G$11:$L$25,5),IF(AND(H76>1999,H76<2002),VLOOKUP(I76,Feuil1!$G$11:$L$25,4),IF(AND(H76>2001,H76<2004),VLOOKUP(I76,Feuil1!$G$11:$L$25,3),VLOOKUP(I76,Feuil1!$G$11:$L$25,2)))))))","v":"FC2 58"},163.31369874863211,null," ",{"$f":"T76-HLOOKUP(X76,Feuil1!$C$1:$BL$10,2,FALSE)","v":66},{"$f":"T76-HLOOKUP(X76,Feuil1!$C$1:$BL$10,3,FALSE)","v":56},{"$f":"T76-HLOOKUP(X76,Feuil1!$C$1:$BL$10,4,FALSE)","v":46},{"$f":"T76-HLOOKUP(X76,Feuil1!$C$1:$BL$10,5,FALSE)","v":36},{"$f":"T76-HLOOKUP(X76,Feuil1!$C$1:$BL$10,6,FALSE)","v":26},{"$f":"T76-HLOOKUP(X76,Feuil1!$C$1:$BL$10,7,FALSE)","v":16},{"$f":"T76-HLOOKUP(X76,Feuil1!$C$1:$BL$10,8,FALSE)","v":1},{"$f":"T76-HLOOKUP(X76,Feuil1!$C$1:$BL$10,9,FALSE)","v":-14},{"$f":"T76-HLOOKUP(X76,Feuil1!$C$1:$BL$10,10,FALSE)","v":-884},null,null,null,null,null,null,"INTB +"]
["F",null,null,null,null,null,null,2000,58,null,null,52,null,null,52,64,null,null,64,116,null,"INTB +",1,{"$f":"IF(I77=\"\",\"\",IF(A77=\"H\",IF(OR(H77=\"SEN\",H77<1997),VLOOKUP(I77,Feuil1!$A$11:$G$29,6),IF(AND(H77>1996,H77<2000),VLOOKUP(I77,Feuil1!$A$11:$G$29,5),IF(AND(H77>1999,H77<2002),VLOOKUP(I77,Feuil1!$A$11:$G$29,4),IF(AND(H77>2001,H77<2004),VLOOKUP(I77,Feuil1!$A$11:$G$29,3),VLOOKUP(I77,Feuil1!$A$11:$G$29,2))))),IF(OR(H77=\"SEN\",H77<1997),VLOOKUP(I77,Feuil1!$G$11:$L$25,6),IF(AND(H77>1996,H77<2000),VLOOKUP(I77,Feuil1!$G$11:$L$25,5),IF(AND(H77>1999,H77<2002),VLOOKUP(I77,Feuil1!$G$11:$L$25,4),IF(AND(H77>2001,H77<2004),VLOOKUP(I77,Feuil1!$G$11:$L$25,3),VLOOKUP(I77,Feuil1!$G$11:$L$25,2)))))))","v":"FC2 58"},163.31369874863211,null," ",{"$f":"T77-HLOOKUP(X77,Feuil1!$C$1:$BL$10,2,FALSE)","v":66},{"$f":"T77-HLOOKUP(X77,Feuil1!$C$1:$BL$10,3,FALSE)","v":56},{"$f":"T77-HLOOKUP(X77,Feuil1!$C$1:$BL$10,4,FALSE)","v":46},{"$f":"T77-HLOOKUP(X77,Feuil1!$C$1:$BL$10,5,FALSE)","v":36},{"$f":"T77-HLOOKUP(X77,Feuil1!$C$1:$BL$10,6,FALSE)","v":26},{"$f":"T77-HLOOKUP(X77,Feuil1!$C$1:$BL$10,7,FALSE)","v":16},{"$f":"T77-HLOOKUP(X77,Feuil1!$C$1:$BL$10,8,FALSE)","v":1},{"$f":"T77-HLOOKUP(X77,Feuil1!$C$1:$BL$10,9,FALSE)","v":-14},{"$f":"T77-HLOOKUP(X77,Feuil1!$C$1:$BL$10,10,FALSE)","v":-884},null,null,null,null,null,null,"INTB +"]
["F",null,null,null,null,null,null,2000,58,null,null,52,null,null,52,64,null,null,64,116,null,"INTB +",1,{"$f":"IF(I78=\"\",\"\",IF(A78=\"H\",IF(OR(H78=\"SEN\",H78<1997),VLOOKUP(I78,Feuil1!$A$11:$G$29,6),IF(AND(H78>1996,H78<2000),VLOOKUP(I78,Feuil1!$A$11:$G$29,5),IF(AND(H78>1999,H78<2002),VLOOKUP(I78,Feuil1!$A$11:$G$29,4),IF(AND(H78>2001,H78<2004),VLOOKUP(I78,Feuil1!$A$11:$G$29,3),VLOOKUP(I78,Feuil1!$A$11:$G$29,2))))),IF(OR(H78=\"SEN\",H78<1997),VLOOKUP(I78,Feuil1!$G$11:$L$25,6),IF(AND(H78>1996,H78<2000),VLOOKUP(I78,Feuil1!$G$11:$L$25,5),IF(AND(H78>1999,H78<2002),VLOOKUP(I78,Feuil1!$G$11:$L$25,4),IF(AND(H78>2001,H78<2004),VLOOKUP(I78,Feuil1!$G$11:$L$25,3),VLOOKUP(I78,Feuil1!$G$11:$L$25,2)))))))","v":"FC2 58"},163.31369874863211,null," ",{"$f":"T78-HLOOKUP(X78,Feuil1!$C$1:$BL$10,2,FALSE)","v":66},{"$f":"T78-HLOOKUP(X78,Feuil1!$C$1:$BL$10,3,FALSE)","v":56},{"$f":"T78-HLOOKUP(X78,Feuil1!$C$1:$BL$10,4,FALSE)","v":46},{"$f":"T78-HLOOKUP(X78,Feuil1!$C$1:$BL$10,5,FALSE)","v":36},{"$f":"T78-HLOOKUP(X78,Feuil1!$C$1:$BL$10,6,FALSE)","v":26},{"$f":"T78-HLOOKUP(X78,Feuil1!$C$1:$BL$10,7,FALSE)","v":16},{"$f":"T78-HLOOKUP(X78,Feuil1!$C$1:$BL$10,8,FALSE)","v":1},{"$f":"T78-HLOOKUP(X78,Feuil1!$C$1:$BL$10,9,FALSE)","v":-14},{"$f":"T78-HLOOKUP(X78,Feuil1!$C$1:$BL$10,10,FALSE)","v":-884},null,null,null,null,null,null,"INTB +"]
["F",null,null,null,null,null,null,2000,58,null,null,52,null,null,52,64,null,null,64,116,null,"INTB +",1,{"$f":"IF(I79=\"\",\"\",IF(A79=\"H\",IF(OR(H79=\"SEN\",H79<1997),VLOOKUP(I79,Feuil1!$A$11:$G$29,6),IF(AND(H79>1996,H79<2000),VLOOKUP(I79,Feuil1!$A$11:$G$29,5),IF(AND(H79>1999,H79<2002),VLOOKUP(I79,Feuil1!$A$11:$G$29,4),IF(AND(H79>2001,H79<2004),VLOOKUP(I79,Feuil1!$A$11:$G$29,3),VLOOKUP(I79,Feuil1!$A$11:$G$29,2))))),IF(OR(H79=\"SEN\",H79<1997),VLOOKUP(I79,Feuil1!$G$11:$L$25,6),IF(AND(H79>1996,H79<2000),VLOOKUP(I79,Feuil1!$G$11:$L$25,5),IF(AND(H79>1999,H79<2002),VLOOKUP(I79,Feuil1!$G$11:$L$25,4),IF(AND(H79>2001,H79<2004),VLOOKUP(I79,Feuil1!$G$11:$L$25,3),VLOOKUP(I79,Feuil1!$G$11:$L$25,2)))))))","v":"FC2 58"},163.31369874863211,null," ",{"$f":"T79-HLOOKUP(X79,Feuil1!$C$1:$BL$10,2,FALSE)","v":66},{"$f":"T79-HLOOKUP(X79,Feuil1!$C$1:$BL$10,3,FALSE)","v":56},{"$f":"T79-HLOOKUP(X79,Feuil1!$C$1:$BL$10,4,FALSE)","v":46},{"$f":"T79-HLOOKUP(X79,Feuil1!$C$1:$BL$10,5,FALSE)","v":36},{"$f":"T79-HLOOKUP(X79,Feuil1!$C$1:$BL$10,6,FALSE)","v":26},{"$f":"T79-HLOOKUP(X79,Feuil1!$C$1:$BL$10,7,FALSE)","v":16},{"$f":"T79-HLOOKUP(X79,Feuil1!$C$1:$BL$10,8,FALSE)","v":1},{"$f":"T79-HLOOKUP(X79,Feuil1!$C$1:$BL$10,9,FALSE)","v":-14},{"$f":"T79-HLOOKUP(X79,Feuil1!$C$1:$BL$10,10,FALSE)","v":-884},null,null,null,null,null,null,"INTB +"]
["F",null,null,null,null,null,null,2000,58,null,null,52,null,null,52,64,null,null,64,116,null,"INTB +",1,{"$f":"IF(I80=\"\",\"\",IF(A80=\"H\",IF(OR(H80=\"SEN\",H80<1997),VLOOKUP(I80,Feuil1!$A$11:$G$29,6),IF(AND(H80>1996,H80<2000),VLOOKUP(I80,Feuil1!$A$11:$G$29,5),IF(AND(H80>1999,H80<2002),VLOOKUP(I80,Feuil1!$A$11:$G$29,4),IF(AND(H80>2001,H80<2004),VLOOKUP(I80,Feuil1!$A$11:$G$29,3),VLOOKUP(I80,Feuil1!$A$11:$G$29,2))))),IF(OR(H80=\"SEN\",H80<1997),VLOOKUP(I80,Feuil1!$G$11:$L$25,6),IF(AND(H80>1996,H80<2000),VLOOKUP(I80,Feuil1!$G$11:$L$25,5),IF(AND(H80>1999,H80<2002),VLOOKUP(I80,Feuil1!$G$11:$L$25,4),IF(AND(H80>2001,H80<2004),VLOOKUP(I80,Feuil1!$G$11:$L$25,3),VLOOKUP(I80,Feuil1!$G$11:$L$25,2)))))))","v":"FC2 58"},163.31369874863211,null," ",{"$f":"T80-HLOOKUP(X80,Feuil1!$C$1:$BL$10,2,FALSE)","v":66},{"$f":"T80-HLOOKUP(X80,Feuil1!$C$1:$BL$10,3,FALSE)","v":56},{"$f":"T80-HLOOKUP(X80,Feuil1!$C$1:$BL$10,4,FALSE)","v":46},{"$f":"T80-HLOOKUP(X80,Feuil1!$C$1:$BL$10,5,FALSE)","v":36},{"$f":"T80-HLOOKUP(X80,Feuil1!$C$1:$BL$10,6,FALSE)","v":26},{"$f":"T80-HLOOKUP(X80,Feuil1!$C$1:$BL$10,7,FALSE)","v":16},{"$f":"T80-HLOOKUP(X80,Feuil1!$C$1:$BL$10,8,FALSE)","v":1},{"$f":"T80-HLOOKUP(X80,Feuil1!$C$1:$BL$10,9,FALSE)","v":-14},{"$f":"T80-HLOOKUP(X80,Feuil1!$C$1:$BL$10,10,FALSE)","v":-884},null,null,null,null,null,null,"INTB +"]
["F",null,null,null,null,null,null,2000,58,null,null,52,null,null,52,64,null,null,64,116,null,"INTB +",1,{"$f":"IF(I81=\"\",\"\",IF(A81=\"H\",IF(OR(H81=\"SEN\",H81<1997),VLOOKUP(I81,Feuil1!$A$11:$G$29,6),IF(AND(H81>1996,H81<2000),VLOOKUP(I81,Feuil1!$A$11:$G$29,5),IF(AND(H81>1999,H81<2002),VLOOKUP(I81,Feuil1!$A$11:$G$29,4),IF(AND(H81>2001,H81<2004),VLOOKUP(I81,Feuil1!$A$11:$G$29,3),VLOOKUP(I81,Feuil1!$A$11:$G$29,2))))),IF(OR(H81=\"SEN\",H81<1997),VLOOKUP(I81,Feuil1!$G$11:$L$25,6),IF(AND(H81>1996,H81<2000),VLOOKUP(I81,Feuil1!$G$11:$L$25,5),IF(AND(H81>1999,H81<2002),VLOOKUP(I81,Feuil1!$G$11:$L$25,4),IF(AND(H81>2001,H81<2004),VLOOKUP(I81,Feuil1!$G$11:$L$25,3),VLOOKUP(I81,Feuil1!$G$11:$L$25,2)))))))","v":"FC2 58"},163.31369874863211,null," ",{"$f":"T81-HLOOKUP(X81,Feuil1!$C$1:$BL$10,2,FALSE)","v":66},{"$f":"T81-HLOOKUP(X81,Feuil1!$C$1:$BL$10,3,FALSE)","v":56},{"$f":"T81-HLOOKUP(X81,Feuil1!$C$1:$BL$10,4,FALSE)","v":46},{"$f":"T81-HLOOKUP(X81,Feuil1!$C$1:$BL$10,5,FALSE)","v":36},{"$f":"T81-HLOOKUP(X81,Feuil1!$C$1:$BL$10,6,FALSE)","v":26},{"$f":"T81-HLOOKUP(X81,Feuil1!$C$1:$BL$10,7,FALSE)","v":16},{"$f":"T81-HLOOKUP(X81,Feuil1!$C$1:$BL$10,8,FALSE)","v":1},{"$f":"T81-HLOOKUP(X81,Feuil1!$C$1:$BL$10,9,FALSE)","v":-14},{"$f":"T81-HLOOKUP(X81,Feuil1!$C$1:$BL$10,10,FALSE)","v":-884},null,null,null,null,null,null,"INTB +"]
["F",null,null,null,null,null,null,2000,58,null,null,52,null,null,{"$f":"IF(H82=\"\",\"\",IF(MAXA(L82:N82)<=0,0,MAXA(L82:N82)))","v":52},64,null,null,{"$f":"IF(H82=\"\",\"\",IF(MAXA(P82:R82)<=0,0,MAXA(P82:R82)))","v":64},{"$f":"IF(H82=\"\",\"\",IF(OR(O82=0,S82=0),0,O82+S82))","v":116},null,{"$f":"IF(H82=\"\",\"\",AQ82)","v":"INTB +"},{"$f":"IF(AJ82>=0,AJ82,IF(AI82>=0,AI82,IF(AH82>=0,AH82,IF(AG82>=0,AG82,IF(AF82>=0,AF82,IF(AE82>=0,AE82,IF(AD82>=0,AD82,IF(AC82>=0,AC82,AB82))))))))","v":1},{"$f":"IF(I82=\"\",\"\",IF(A82=\"H\",IF(OR(H82=\"SEN\",H82<1997),VLOOKUP(I82,Feuil1!$A$11:$G$29,6),IF(AND(H82>1996,H82<2000),VLOOKUP(I82,Feuil1!$A$11:$G$29,5),IF(AND(H82>1999,H82<2002),VLOOKUP(I82,Feuil1!$A$11:$G$29,4),IF(AND(H82>2001,H82<2004),VLOOKUP(I82,Feuil1!$A$11:$G$29,3),VLOOKUP(I82,Feuil1!$A$11:$G$29,2))))),IF(OR(H82=\"SEN\",H82<1997),VLOOKUP(I82,Feuil1!$G$11:$L$25,6),IF(AND(H82>1996,H82<2000),VLOOKUP(I82,Feuil1!$G$11:$L$25,5),IF(AND(H82>1999,H82<2002),VLOOKUP(I82,Feuil1!$G$11:$L$25,4),IF(AND(H82>2001,H82<2004),VLOOKUP(I82,Feuil1!$G$11:$L$25,3),VLOOKUP(I82,Feuil1!$G$11:$L$25,2)))))))","v":"FC2 58"},{"$f":"IF(I82=\"\",\"\",IF(A82=\"H\",10^(0.794358141*LOG(I82/174.393)^2)*T82,IF(A82=\"F\",10^(0.89726074*LOG(I82/148.026)^2)*T82,\"\")))","v":163.31369874863211},null," ",{"$f":"T82-HLOOKUP(X82,Feuil1!$C$1:$BL$10,2,FALSE)","v":66},{"$f":"T82-HLOOKUP(X82,Feuil1!$C$1:$BL$10,3,FALSE)","v":56},{"$f":"T82-HLOOKUP(X82,Feuil1!$C$1:$BL$10,4,FALSE)","v":46},{"$f":"T82-HLOOKUP(X82,Feuil1!$C$1:$BL$10,5,FALSE)","v":36},{"$f":"T82-HLOOKUP(X82,Feuil1!$C$1:$BL$10,6,FALSE)","v":26},{"$f":"T82-HLOOKUP(X82,Feuil1!$C$1:$BL$10,7,FALSE)","v":16},{"$f":"T82-HLOOKUP(X82,Feuil1!$C$1:$BL$10,8,FALSE)","v":1},{"$f":"T82-HLOOKUP(X82,Feuil1!$C$1:$BL$10,9,FALSE)","v":-14},{"$f":"T82-HLOOKUP(X82,Feuil1!$C$1:$BL$10,10,FALSE)","v":-884},null,null,null,null,null,null,{"$f":"IF(AJ82>=0,$AJ$4,IF(AI82>=0,$AI$4,IF(AH82>=0,$AH$4,IF(AG82>=0,$AG$4,IF(AF82>=0,$AF$4,IF(AE82>=0,$AE$4,IF(AD82>=0,$AD$4,IF(AC82>=0,$AC$4,$AB$4))))))))","v":"INTB +"}]
["F",null,null,null,null,null,null,2000,58,null,null,52,null,null,52,64,null,null,64,116,null,"INTB +",1,{"$f":"IF(I83=\"\",\"\",IF(A83=\"H\",IF(OR(H83=\"SEN\",H83<1997),VLOOKUP(I83,Feuil1!$A$11:$G$29,6),IF(AND(H83>1996,H83<2000),VLOOKUP(I83,Feuil1!$A$11:$G$29,5),IF(AND(H83>1999,H83<2002),VLOOKUP(I83,Feuil1!$A$11:$G$29,4),IF(AND(H83>2001,H83<2004),VLOOKUP(I83,Feuil1!$A$11:$G$29,3),VLOOKUP(I83,Feuil1!$A$11:$G$29,2))))),IF(OR(H83=\"SEN\",H83<1997),VLOOKUP(I83,Feuil1!$G$11:$L$25,6),IF(AND(H83>1996,H83<2000),VLOOKUP(I83,Feuil1!$G$11:$L$25,5),IF(AND(H83>1999,H83<2002),VLOOKUP(I83,Feuil1!$G$11:$L$25,4),IF(AND(H83>2001,H83<2004),VLOOKUP(I83,Feuil1!$G$11:$L$25,3),VLOOKUP(I83,Feuil1!$G$11:$L$25,2)))))))","v":"FC2 58"},163.31369874863211,null," ",{"$f":"T83-HLOOKUP(X83,Feuil1!$C$1:$BL$10,2,FALSE)","v":66},{"$f":"T83-HLOOKUP(X83,Feuil1!$C$1:$BL$10,3,FALSE)","v":56},{"$f":"T83-HLOOKUP(X83,Feuil1!$C$1:$BL$10,4,FALSE)","v":46},{"$f":"T83-HLOOKUP(X83,Feuil1!$C$1:$BL$10,5,FALSE)","v":36},{"$f":"T83-HLOOKUP(X83,Feuil1!$C$1:$BL$10,6,FALSE)","v":26},{"$f":"T83-HLOOKUP(X83,Feuil1!$C$1:$BL$10,7,FALSE)","v":16},{"$f":"T83-HLOOKUP(X83,Feuil1!$C$1:$BL$10,8,FALSE)","v":1},{"$f":"T83-HLOOKUP(X83,Feuil1!$C$1:$BL$10,9,FALSE)","v":-14},{"$f":"T83-HLOOKUP(X83,Feuil1!$C$1:$BL$10,10,FALSE)","v":-884},null,null,null,null,null,null,"INTB +"]
["F",null,null,null,null,null,null,2000,58,null,null,52,null,null,52,64,null,null,64,116,null,"INTB +",1,{"$f":"IF(I84=\"\",\"\",IF(A84=\"H\",IF(OR(H84=\"SEN\",H84<1997),VLOOKUP(I84,Feuil1!$A$11:$G$29,6),IF(AND(H84>1996,H84<2000),VLOOKUP(I84,Feuil1!$A$11:$G$29,5),IF(AND(H84>1999,H84<2002),VLOOKUP(I84,Feuil1!$A$11:$G$29,4),IF(AND(H84>2001,H84<2004),VLOOKUP(I84,Feuil1!$A$11:$G$29,3),VLOOKUP(I84,Feuil1!$A$11:$G$29,2))))),IF(OR(H84=\"SEN\",H84<1997),VLOOKUP(I84,Feuil1!$G$11:$L$25,6),IF(AND(H84>1996,H84<2000),VLOOKUP(I84,Feuil1!$G$11:$L$25,5),IF(AND(H84>1999,H84<2002),VLOOKUP(I84,Feuil1!$G$11:$L$25,4),IF(AND(H84>2001,H84<2004),VLOOKUP(I84,Feuil1!$G$11:$L$25,3),VLOOKUP(I84,Feuil1!$G$11:$L$25,2)))))))","v":"FC2 58"},163.31369874863211,null," ",{"$f":"T84-HLOOKUP(X84,Feuil1!$C$1:$BL$10,2,FALSE)","v":66},{"$f":"T84-HLOOKUP(X84,Feuil1!$C$1:$BL$10,3,FALSE)","v":56},{"$f":"T84-HLOOKUP(X84,Feuil1!$C$1:$BL$10,4,FALSE)","v":46},{"$f":"T84-HLOOKUP(X84,Feuil1!$C$1:$BL$10,5,FALSE)","v":36},{"$f":"T84-HLOOKUP(X84,Feuil1!$C$1:$BL$10,6,FALSE)","v":26},{"$f":"T84-HLOOKUP(X84,Feuil1!$C$1:$BL$10,7,FALSE)","v":16},{"$f":"T84-HLOOKUP(X84,Feuil1!$C$1:$BL$10,8,FALSE)","v":1},{"$f":"T84-HLOOKUP(X84,Feuil1!$C$1:$BL$10,9,FALSE)","v":-14},{"$f":"T84-HLOOKUP(X84,Feuil1!$C$1:$BL$10,10,FALSE)","v":-884},null,null,null,null,null,null,"INTB +"]
["F",null,null,null,null,null,null,2000,58,null,null,52,null,null,52,64,null,null,64,116,null,"INTB +",1,{"$f":"IF(I85=\"\",\"\",IF(A85=\"H\",IF(OR(H85=\"SEN\",H85<1997),VLOOKUP(I85,Feuil1!$A$11:$G$29,6),IF(AND(H85>1996,H85<2000),VLOOKUP(I85,Feuil1!$A$11:$G$29,5),IF(AND(H85>1999,H85<2002),VLOOKUP(I85,Feuil1!$A$11:$G$29,4),IF(AND(H85>2001,H85<2004),VLOOKUP(I85,Feuil1!$A$11:$G$29,3),VLOOKUP(I85,Feuil1!$A$11:$G$29,2))))),IF(OR(H85=\"SEN\",H85<1997),VLOOKUP(I85,Feuil1!$G$11:$L$25,6),IF(AND(H85>1996,H85<2000),VLOOKUP(I85,Feuil1!$G$11:$L$25,5),IF(AND(H85>1999,H85<2002),VLOOKUP(I85,Feuil1!$G$11:$L$25,4),IF(AND(H85>2001,H85<2004),VLOOKUP(I85,Feuil1!$G$11:$L$25,3),VLOOKUP(I85,Feuil1!$G$11:$L$25,2)))))))","v":"FC2 58"},163.31369874863211,null," ",{"$f":"T85-HLOOKUP(X85,Feuil1!$C$1:$BL$10,2,FALSE)","v":66},{"$f":"T85-HLOOKUP(X85,Feuil1!$C$1:$BL$10,3,FALSE)","v":56},{"$f":"T85-HLOOKUP(X85,Feuil1!$C$1:$BL$10,4,FALSE)","v":46},{"$f":"T85-HLOOKUP(X85,Feuil1!$C$1:$BL$10,5,FALSE)","v":36},{"$f":"T85-HLOOKUP(X85,Feuil1!$C$1:$BL$10,6,FALSE)","v":26},{"$f":"T85-HLOOKUP(X85,Feuil1!$C$1:$BL$10,7,FALSE)","v":16},{"$f":"T85-HLOOKUP(X85,Feuil1!$C$1:$BL$10,8,FALSE)","v":1},{"$f":"T85-HLOOKUP(X85,Feuil1!$C$1:$BL$10,9,FALSE)","v":-14},{"$f":"T85-HLOOKUP(X85,Feuil1!$C$1:$BL$10,10,FALSE)","v":-884},null,null,null,null,null,null,"INTB +"]
["F",null,null,null,null,null,null,2000,58,null,null,52,null,null,52,64,null,null,64,116,null,"INTB +",1,{"$f":"IF(I86=\"\",\"\",IF(A86=\"H\",IF(OR(H86=\"SEN\",H86<1997),VLOOKUP(I86,Feuil1!$A$11:$G$29,6),IF(AND(H86>1996,H86<2000),VLOOKUP(I86,Feuil1!$A$11:$G$29,5),IF(AND(H86>1999,H86<2002),VLOOKUP(I86,Feuil1!$A$11:$G$29,4),IF(AND(H86>2001,H86<2004),VLOOKUP(I86,Feuil1!$A$11:$G$29,3),VLOOKUP(I86,Feuil1!$A$11:$G$29,2))))),IF(OR(H86=\"SEN\",H86<1997),VLOOKUP(I86,Feuil1!$G$11:$L$25,6),IF(AND(H86>1996,H86<2000),VLOOKUP(I86,Feuil1!$G$11:$L$25,5),IF(AND(H86>1999,H86<2002),VLOOKUP(I86,Feuil1!$G$11:$L$25,4),IF(AND(H86>2001,H86<2004),VLOOKUP(I86,Feuil1!$G$11:$L$25,3),VLOOKUP(I86,Feuil1!$G$11:$L$25,2)))))))","v":"FC2 58"},163.31369874863211,null," ",{"$f":"T86-HLOOKUP(X86,Feuil1!$C$1:$BL$10,2,FALSE)","v":66},{"$f":"T86-HLOOKUP(X86,Feuil1!$C$1:$BL$10,3,FALSE)","v":56},{"$f":"T86-HLOOKUP(X86,Feuil1!$C$1:$BL$10,4,FALSE)","v":46},{"$f":"T86-HLOOKUP(X86,Feuil1!$C$1:$BL$10,5,FALSE)","v":36},{"$f":"T86-HLOOKUP(X86,Feuil1!$C$1:$BL$10,6,FALSE)","v":26},{"$f":"T86-HLOOKUP(X86,Feuil1!$C$1:$BL$10,7,FALSE)","v":16},{"$f":"T86-HLOOKUP(X86,Feuil1!$C$1:$BL$10,8,FALSE)","v":1},{"$f":"T86-HLOOKUP(X86,Feuil1!$C$1:$BL$10,9,FALSE)","v":-14},{"$f":"T86-HLOOKUP(X86,Feuil1!$C$1:$BL$10,10,FALSE)","v":-884},null,null,null,null,null,null,"INTB +"]
["F",null,null,null,null,null,null,2000,58,null,null,52,null,null,52,64,null,null,64,116,null,"INTB +",1,{"$f":"IF(I87=\"\",\"\",IF(A87=\"H\",IF(OR(H87=\"SEN\",H87<1997),VLOOKUP(I87,Feuil1!$A$11:$G$29,6),IF(AND(H87>1996,H87<2000),VLOOKUP(I87,Feuil1!$A$11:$G$29,5),IF(AND(H87>1999,H87<2002),VLOOKUP(I87,Feuil1!$A$11:$G$29,4),IF(AND(H87>2001,H87<2004),VLOOKUP(I87,Feuil1!$A$11:$G$29,3),VLOOKUP(I87,Feuil1!$A$11:$G$29,2))))),IF(OR(H87=\"SEN\",H87<1997),VLOOKUP(I87,Feuil1!$G$11:$L$25,6),IF(AND(H87>1996,H87<2000),VLOOKUP(I87,Feuil1!$G$11:$L$25,5),IF(AND(H87>1999,H87<2002),VLOOKUP(I87,Feuil1!$G$11:$L$25,4),IF(AND(H87>2001,H87<2004),VLOOKUP(I87,Feuil1!$G$11:$L$25,3),VLOOKUP(I87,Feuil1!$G$11:$L$25,2)))))))","v":"FC2 58"},163.31369874863211,null," ",{"$f":"T87-HLOOKUP(X87,Feuil1!$C$1:$BL$10,2,FALSE)","v":66},{"$f":"T87-HLOOKUP(X87,Feuil1!$C$1:$BL$10,3,FALSE)","v":56},{"$f":"T87-HLOOKUP(X87,Feuil1!$C$1:$BL$10,4,FALSE)","v":46},{"$f":"T87-HLOOKUP(X87,Feuil1!$C$1:$BL$10,5,FALSE)","v":36},{"$f":"T87-HLOOKUP(X87,Feuil1!$C$1:$BL$10,6,FALSE)","v":26},{"$f":"T87-HLOOKUP(X87,Feuil1!$C$1:$BL$10,7,FALSE)","v":16},{"$f":"T87-HLOOKUP(X87,Feuil1!$C$1:$BL$10,8,FALSE)","v":1},{"$f":"T87-HLOOKUP(X87,Feuil1!$C$1:$BL$10,9,FALSE)","v":-14},{"$f":"T87-HLOOKUP(X87,Feuil1!$C$1:$BL$10,10,FALSE)","v":-884},null,null,null,null,null,null,"INTB +"]
["F",null,null,null,null,null,null,2000,58,null,null,52,null,null,52,64,null,null,64,116,null,"INTB +",1,{"$f":"IF(I88=\"\",\"\",IF(A88=\"H\",IF(OR(H88=\"SEN\",H88<1997),VLOOKUP(I88,Feuil1!$A$11:$G$29,6),IF(AND(H88>1996,H88<2000),VLOOKUP(I88,Feuil1!$A$11:$G$29,5),IF(AND(H88>1999,H88<2002),VLOOKUP(I88,Feuil1!$A$11:$G$29,4),IF(AND(H88>2001,H88<2004),VLOOKUP(I88,Feuil1!$A$11:$G$29,3),VLOOKUP(I88,Feuil1!$A$11:$G$29,2))))),IF(OR(H88=\"SEN\",H88<1997),VLOOKUP(I88,Feuil1!$G$11:$L$25,6),IF(AND(H88>1996,H88<2000),VLOOKUP(I88,Feuil1!$G$11:$L$25,5),IF(AND(H88>1999,H88<2002),VLOOKUP(I88,Feuil1!$G$11:$L$25,4),IF(AND(H88>2001,H88<2004),VLOOKUP(I88,Feuil1!$G$11:$L$25,3),VLOOKUP(I88,Feuil1!$G$11:$L$25,2)))))))","v":"FC2 58"},163.31369874863211,null," ",{"$f":"T88-HLOOKUP(X88,Feuil1!$C$1:$BL$10,2,FALSE)","v":66},{"$f":"T88-HLOOKUP(X88,Feuil1!$C$1:$BL$10,3,FALSE)","v":56},{"$f":"T88-HLOOKUP(X88,Feuil1!$C$1:$BL$10,4,FALSE)","v":46},{"$f":"T88-HLOOKUP(X88,Feuil1!$C$1:$BL$10,5,FALSE)","v":36},{"$f":"T88-HLOOKUP(X88,Feuil1!$C$1:$BL$10,6,FALSE)","v":26},{"$f":"T88-HLOOKUP(X88,Feuil1!$C$1:$BL$10,7,FALSE)","v":16},{"$f":"T88-HLOOKUP(X88,Feuil1!$C$1:$BL$10,8,FALSE)","v":1},{"$f":"T88-HLOOKUP(X88,Feuil1!$C$1:$BL$10,9,FALSE)","v":-14},{"$f":"T88-HLOOKUP(X88,Feuil1!$C$1:$BL$10,10,FALSE)","v":-884},null,null,null,null,null,null,"INTB +"]
["F",null,null,null,null,null,null,2000,58,null,null,52,null,null,52,64,null,null,64,116,null,"INTB +",1,{"$f":"IF(I89=\"\",\"\",IF(A89=\"H\",IF(OR(H89=\"SEN\",H89<1997),VLOOKUP(I89,Feuil1!$A$11:$G$29,6),IF(AND(H89>1996,H89<2000),VLOOKUP(I89,Feuil1!$A$11:$G$29,5),IF(AND(H89>1999,H89<2002),VLOOKUP(I89,Feuil1!$A$11:$G$29,4),IF(AND(H89>2001,H89<2004),VLOOKUP(I89,Feuil1!$A$11:$G$29,3),VLOOKUP(I89,Feuil1!$A$11:$G$29,2))))),IF(OR(H89=\"SEN\",H89<1997),VLOOKUP(I89,Feuil1!$G$11:$L$25,6),IF(AND(H89>1996,H89<2000),VLOOKUP(I89,Feuil1!$G$11:$L$25,5),IF(AND(H89>1999,H89<2002),VLOOKUP(I89,Feuil1!$G$11:$L$25,4),IF(AND(H89>2001,H89<2004),VLOOKUP(I89,Feuil1!$G$11:$L$25,3),VLOOKUP(I89,Feuil1!$G$11:$L$25,2)))))))","v":"FC2 58"},163.31369874863211,null," ",{"$f":"T89-HLOOKUP(X89,Feuil1!$C$1:$BL$10,2,FALSE)","v":66},{"$f":"T89-HLOOKUP(X89,Feuil1!$C$1:$BL$10,3,FALSE)","v":56},{"$f":"T89-HLOOKUP(X89,Feuil1!$C$1:$BL$10,4,FALSE)","v":46},{"$f":"T89-HLOOKUP(X89,Feuil1!$C$1:$BL$10,5,FALSE)","v":36},{"$f":"T89-HLOOKUP(X89,Feuil1!$C$1:$BL$10,6,FALSE)","v":26},{"$f":"T89-HLOOKUP(X89,Feuil1!$C$1:$BL$10,7,FALSE)","v":16},{"$f":"T89-HLOOKUP(X89,Feuil1!$C$1:$BL$10,8,FALSE)","v":1},{"$f":"T89-HLOOKUP(X89,Feuil1!$C$1:$BL$10,9,FALSE)","v":-14},{"$f":"T89-HLOOKUP(X89,Feuil1!$C$1:$BL$10,10,FALSE)","v":-884},null,null,null,null,null,null,"INTB +"]
["F",null,null,null,null,null,null,2000,58,null,null,52,null,null,52,64,null,null,64,116,null,"INTB +",1,{"$f":"IF(I90=\"\",\"\",IF(A90=\"H\",IF(OR(H90=\"SEN\",H90<1997),VLOOKUP(I90,Feuil1!$A$11:$G$29,6),IF(AND(H90>1996,H90<2000),VLOOKUP(I90,Feuil1!$A$11:$G$29,5),IF(AND(H90>1999,H90<2002),VLOOKUP(I90,Feuil1!$A$11:$G$29,4),IF(AND(H90>2001,H90<2004),VLOOKUP(I90,Feuil1!$A$11:$G$29,3),VLOOKUP(I90,Feuil1!$A$11:$G$29,2))))),IF(OR(H90=\"SEN\",H90<1997),VLOOKUP(I90,Feuil1!$G$11:$L$25,6),IF(AND(H90>1996,H90<2000),VLOOKUP(I90,Feuil1!$G$11:$L$25,5),IF(AND(H90>1999,H90<2002),VLOOKUP(I90,Feuil1!$G$11:$L$25,4),IF(AND(H90>2001,H90<2004),VLOOKUP(I90,Feuil1!$G$11:$L$25,3),VLOOKUP(I90,Feuil1!$G$11:$L$25,2)))))))","v":"FC2 58"},163.31369874863211,null," ",{"$f":"T90-HLOOKUP(X90,Feuil1!$C$1:$BL$10,2,FALSE)","v":66},{"$f":"T90-HLOOKUP(X90,Feuil1!$C$1:$BL$10,3,FALSE)","v":56},{"$f":"T90-HLOOKUP(X90,Feuil1!$C$1:$BL$10,4,FALSE)","v":46},{"$f":"T90-HLOOKUP(X90,Feuil1!$C$1:$BL$10,5,FALSE)","v":36},{"$f":"T90-HLOOKUP(X90,Feuil1!$C$1:$BL$10,6,FALSE)","v":26},{"$f":"T90-HLOOKUP(X90,Feuil1!$C$1:$BL$10,7,FALSE)","v":16},{"$f":"T90-HLOOKUP(X90,Feuil1!$C$1:$BL$10,8,FALSE)","v":1},{"$f":"T90-HLOOKUP(X90,Feuil1!$C$1:$BL$10,9,FALSE)","v":-14},{"$f":"T90-HLOOKUP(X90,Feuil1!$C$1:$BL$10,10,FALSE)","v":-884},null,null,null,null,null,null,"INTB +"]
["F",null,null,null,null,null,null,2000,58,null,null,52,null,null,52,64,null,null,64,116,null,"INTB +",1,{"$f":"IF(I91=\"\",\"\",IF(A91=\"H\",IF(OR(H91=\"SEN\",H91<1997),VLOOKUP(I91,Feuil1!$A$11:$G$29,6),IF(AND(H91>1996,H91<2000),VLOOKUP(I91,Feuil1!$A$11:$G$29,5),IF(AND(H91>1999,H91<2002),VLOOKUP(I91,Feuil1!$A$11:$G$29,4),IF(AND(H91>2001,H91<2004),VLOOKUP(I91,Feuil1!$A$11:$G$29,3),VLOOKUP(I91,Feuil1!$A$11:$G$29,2))))),IF(OR(H91=\"SEN\",H91<1997),VLOOKUP(I91,Feuil1!$G$11:$L$25,6),IF(AND(H91>1996,H91<2000),VLOOKUP(I91,Feuil1!$G$11:$L$25,5),IF(AND(H91>1999,H91<2002),VLOOKUP(I91,Feuil1!$G$11:$L$25,4),IF(AND(H91>2001,H91<2004),VLOOKUP(I91,Feuil1!$G$11:$L$25,3),VLOOKUP(I91,Feuil1!$G$11:$L$25,2)))))))","v":"FC2 58"},163.31369874863211,null," ",{"$f":"T91-HLOOKUP(X91,Feuil1!$C$1:$BL$10,2,FALSE)","v":66},{"$f":"T91-HLOOKUP(X91,Feuil1!$C$1:$BL$10,3,FALSE)","v":56},{"$f":"T91-HLOOKUP(X91,Feuil1!$C$1:$BL$10,4,FALSE)","v":46},{"$f":"T91-HLOOKUP(X91,Feuil1!$C$1:$BL$10,5,FALSE)","v":36},{"$f":"T91-HLOOKUP(X91,Feuil1!$C$1:$BL$10,6,FALSE)","v":26},{"$f":"T91-HLOOKUP(X91,Feuil1!$C$1:$BL$10,7,FALSE)","v":16},{"$f":"T91-HLOOKUP(X91,Feuil1!$C$1:$BL$10,8,FALSE)","v":1},{"$f":"T91-HLOOKUP(X91,Feuil1!$C$1:$BL$10,9,FALSE)","v":-14},{"$f":"T91-HLOOKUP(X91,Feuil1!$C$1:$BL$10,10,FALSE)","v":-884},null,null,null,null,null,null,"INTB +"]
["F",null,null,null,null,null,null,2000,58,null,null,52,null,null,52,64,null,null,64,116,null,"INTB +",1,{"$f":"IF(I92=\"\",\"\",IF(A92=\"H\",IF(OR(H92=\"SEN\",H92<1997),VLOOKUP(I92,Feuil1!$A$11:$G$29,6),IF(AND(H92>1996,H92<2000),VLOOKUP(I92,Feuil1!$A$11:$G$29,5),IF(AND(H92>1999,H92<2002),VLOOKUP(I92,Feuil1!$A$11:$G$29,4),IF(AND(H92>2001,H92<2004),VLOOKUP(I92,Feuil1!$A$11:$G$29,3),VLOOKUP(I92,Feuil1!$A$11:$G$29,2))))),IF(OR(H92=\"SEN\",H92<1997),VLOOKUP(I92,Feuil1!$G$11:$L$25,6),IF(AND(H92>1996,H92<2000),VLOOKUP(I92,Feuil1!$G$11:$L$25,5),IF(AND(H92>1999,H92<2002),VLOOKUP(I92,Feuil1!$G$11:$L$25,4),IF(AND(H92>2001,H92<2004),VLOOKUP(I92,Feuil1!$G$11:$L$25,3),VLOOKUP(I92,Feuil1!$G$11:$L$25,2)))))))","v":"FC2 58"},163.31369874863211,null," ",{"$f":"T92-HLOOKUP(X92,Feuil1!$C$1:$BL$10,2,FALSE)","v":66},{"$f":"T92-HLOOKUP(X92,Feuil1!$C$1:$BL$10,3,FALSE)","v":56},{"$f":"T92-HLOOKUP(X92,Feuil1!$C$1:$BL$10,4,FALSE)","v":46},{"$f":"T92-HLOOKUP(X92,Feuil1!$C$1:$BL$10,5,FALSE)","v":36},{"$f":"T92-HLOOKUP(X92,Feuil1!$C$1:$BL$10,6,FALSE)","v":26},{"$f":"T92-HLOOKUP(X92,Feuil1!$C$1:$BL$10,7,FALSE)","v":16},{"$f":"T92-HLOOKUP(X92,Feuil1!$C$1:$BL$10,8,FALSE)","v":1},{"$f":"T92-HLOOKUP(X92,Feuil1!$C$1:$BL$10,9,FALSE)","v":-14},{"$f":"T92-HLOOKUP(X92,Feuil1!$C$1:$BL$10,10,FALSE)","v":-884},null,null,null,null,null,null,"INTB +"]
["F",null,null,null,null,null,null,2000,58,null,null,52,null,null,52,64,null,null,64,116,null,"INTB +",1,{"$f":"IF(I93=\"\",\"\",IF(A93=\"H\",IF(OR(H93=\"SEN\",H93<1997),VLOOKUP(I93,Feuil1!$A$11:$G$29,6),IF(AND(H93>1996,H93<2000),VLOOKUP(I93,Feuil1!$A$11:$G$29,5),IF(AND(H93>1999,H93<2002),VLOOKUP(I93,Feuil1!$A$11:$G$29,4),IF(AND(H93>2001,H93<2004),VLOOKUP(I93,Feuil1!$A$11:$G$29,3),VLOOKUP(I93,Feuil1!$A$11:$G$29,2))))),IF(OR(H93=\"SEN\",H93<1997),VLOOKUP(I93,Feuil1!$G$11:$L$25,6),IF(AND(H93>1996,H93<2000),VLOOKUP(I93,Feuil1!$G$11:$L$25,5),IF(AND(H93>1999,H93<2002),VLOOKUP(I93,Feuil1!$G$11:$L$25,4),IF(AND(H93>2001,H93<2004),VLOOKUP(I93,Feuil1!$G$11:$L$25,3),VLOOKUP(I93,Feuil1!$G$11:$L$25,2)))))))","v":"FC2 58"},163.31369874863211,null," ",{"$f":"T93-HLOOKUP(X93,Feuil1!$C$1:$BL$10,2,FALSE)","v":66},{"$f":"T93-HLOOKUP(X93,Feuil1!$C$1:$BL$10,3,FALSE)","v":56},{"$f":"T93-HLOOKUP(X93,Feuil1!$C$1:$BL$10,4,FALSE)","v":46},{"$f":"T93-HLOOKUP(X93,Feuil1!$C$1:$BL$10,5,FALSE)","v":36},{"$f":"T93-HLOOKUP(X93,Feuil1!$C$1:$BL$10,6,FALSE)","v":26},{"$f":"T93-HLOOKUP(X93,Feuil1!$C$1:$BL$10,7,FALSE)","v":16},{"$f":"T93-HLOOKUP(X93,Feuil1!$C$1:$BL$10,8,FALSE)","v":1},{"$f":"T93-HLOOKUP(X93,Feuil1!$C$1:$BL$10,9,FALSE)","v":-14},{"$f":"T93-HLOOKUP(X93,Feuil1!$C$1:$BL$10,10,FALSE)","v":-884},null,null,null,null,null,null,"INTB +"]
["F",null,null,null,null,null,null,2000,58,null,null,52,null,null,52,64,null,null,64,116,null,"INTB +",1,{"$f":"IF(I94=\"\",\"\",IF(A94=\"H\",IF(OR(H94=\"SEN\",H94<1997),VLOOKUP(I94,Feuil1!$A$11:$G$29,6),IF(AND(H94>1996,H94<2000),VLOOKUP(I94,Feuil1!$A$11:$G$29,5),IF(AND(H94>1999,H94<2002),VLOOKUP(I94,Feuil1!$A$11:$G$29,4),IF(AND(H94>2001,H94<2004),VLOOKUP(I94,Feuil1!$A$11:$G$29,3),VLOOKUP(I94,Feuil1!$A$11:$G$29,2))))),IF(OR(H94=\"SEN\",H94<1997),VLOOKUP(I94,Feuil1!$G$11:$L$25,6),IF(AND(H94>1996,H94<2000),VLOOKUP(I94,Feuil1!$G$11:$L$25,5),IF(AND(H94>1999,H94<2002),VLOOKUP(I94,Feuil1!$G$11:$L$25,4),IF(AND(H94>2001,H94<2004),VLOOKUP(I94,Feuil1!$G$11:$L$25,3),VLOOKUP(I94,Feuil1!$G$11:$L$25,2)))))))","v":"FC2 58"},163.31369874863211,null," ",{"$f":"T94-HLOOKUP(X94,Feuil1!$C$1:$BL$10,2,FALSE)","v":66},{"$f":"T94-HLOOKUP(X94,Feuil1!$C$1:$BL$10,3,FALSE)","v":56},{"$f":"T94-HLOOKUP(X94,Feuil1!$C$1:$BL$10,4,FALSE)","v":46},{"$f":"T94-HLOOKUP(X94,Feuil1!$C$1:$BL$10,5,FALSE)","v":36},{"$f":"T94-HLOOKUP(X94,Feuil1!$C$1:$BL$10,6,FALSE)","v":26},{"$f":"T94-HLOOKUP(X94,Feuil1!$C$1:$BL$10,7,FALSE)","v":16},{"$f":"T94-HLOOKUP(X94,Feuil1!$C$1:$BL$10,8,FALSE)","v":1},{"$f":"T94-HLOOKUP(X94,Feuil1!$C$1:$BL$10,9,FALSE)","v":-14},{"$f":"T94-HLOOKUP(X94,Feuil1!$C$1:$BL$10,10,FALSE)","v":-884},null,null,null,null,null,null,"INTB +"]
["F",null,null,null,null,null,null,2000,58,null,null,52,null,null,52,64,null,null,64,116,null,"INTB +",1,{"$f":"IF(I95=\"\",\"\",IF(A95=\"H\",IF(OR(H95=\"SEN\",H95<1997),VLOOKUP(I95,Feuil1!$A$11:$G$29,6),IF(AND(H95>1996,H95<2000),VLOOKUP(I95,Feuil1!$A$11:$G$29,5),IF(AND(H95>1999,H95<2002),VLOOKUP(I95,Feuil1!$A$11:$G$29,4),IF(AND(H95>2001,H95<2004),VLOOKUP(I95,Feuil1!$A$11:$G$29,3),VLOOKUP(I95,Feuil1!$A$11:$G$29,2))))),IF(OR(H95=\"SEN\",H95<1997),VLOOKUP(I95,Feuil1!$G$11:$L$25,6),IF(AND(H95>1996,H95<2000),VLOOKUP(I95,Feuil1!$G$11:$L$25,5),IF(AND(H95>1999,H95<2002),VLOOKUP(I95,Feuil1!$G$11:$L$25,4),IF(AND(H95>2001,H95<2004),VLOOKUP(I95,Feuil1!$G$11:$L$25,3),VLOOKUP(I95,Feuil1!$G$11:$L$25,2)))))))","v":"FC2 58"},163.31369874863211,null," ",{"$f":"T95-HLOOKUP(X95,Feuil1!$C$1:$BL$10,2,FALSE)","v":66},{"$f":"T95-HLOOKUP(X95,Feuil1!$C$1:$BL$10,3,FALSE)","v":56},{"$f":"T95-HLOOKUP(X95,Feuil1!$C$1:$BL$10,4,FALSE)","v":46},{"$f":"T95-HLOOKUP(X95,Feuil1!$C$1:$BL$10,5,FALSE)","v":36},{"$f":"T95-HLOOKUP(X95,Feuil1!$C$1:$BL$10,6,FALSE)","v":26},{"$f":"T95-HLOOKUP(X95,Feuil1!$C$1:$BL$10,7,FALSE)","v":16},{"$f":"T95-HLOOKUP(X95,Feuil1!$C$1:$BL$10,8,FALSE)","v":1},{"$f":"T95-HLOOKUP(X95,Feuil1!$C$1:$BL$10,9,FALSE)","v":-14},{"$f":"T95-HLOOKUP(X95,Feuil1!$C$1:$BL$10,10,FALSE)","v":-884},null,null,null,null,null,null,"INTB +"]
["F",null,null,null,null,null,null,2000,58,null,null,52,null,null,52,64,null,null,64,116,null,"INTB +",1,{"$f":"IF(I96=\"\",\"\",IF(A96=\"H\",IF(OR(H96=\"SEN\",H96<1997),VLOOKUP(I96,Feuil1!$A$11:$G$29,6),IF(AND(H96>1996,H96<2000),VLOOKUP(I96,Feuil1!$A$11:$G$29,5),IF(AND(H96>1999,H96<2002),VLOOKUP(I96,Feuil1!$A$11:$G$29,4),IF(AND(H96>2001,H96<2004),VLOOKUP(I96,Feuil1!$A$11:$G$29,3),VLOOKUP(I96,Feuil1!$A$11:$G$29,2))))),IF(OR(H96=\"SEN\",H96<1997),VLOOKUP(I96,Feuil1!$G$11:$L$25,6),IF(AND(H96>1996,H96<2000),VLOOKUP(I96,Feuil1!$G$11:$L$25,5),IF(AND(H96>1999,H96<2002),VLOOKUP(I96,Feuil1!$G$11:$L$25,4),IF(AND(H96>2001,H96<2004),VLOOKUP(I96,Feuil1!$G$11:$L$25,3),VLOOKUP(I96,Feuil1!$G$11:$L$25,2)))))))","v":"FC2 58"},163.31369874863211,null," ",{"$f":"T96-HLOOKUP(X96,Feuil1!$C$1:$BL$10,2,FALSE)","v":66},{"$f":"T96-HLOOKUP(X96,Feuil1!$C$1:$BL$10,3,FALSE)","v":56},{"$f":"T96-HLOOKUP(X96,Feuil1!$C$1:$BL$10,4,FALSE)","v":46},{"$f":"T96-HLOOKUP(X96,Feuil1!$C$1:$BL$10,5,FALSE)","v":36},{"$f":"T96-HLOOKUP(X96,Feuil1!$C$1:$BL$10,6,FALSE)","v":26},{"$f":"T96-HLOOKUP(X96,Feuil1!$C$1:$BL$10,7,FALSE)","v":16},{"$f":"T96-HLOOKUP(X96,Feuil1!$C$1:$BL$10,8,FALSE)","v":1},{"$f":"T96-HLOOKUP(X96,Feuil1!$C$1:$BL$10,9,FALSE)","v":-14},{"$f":"T96-HLOOKUP(X96,Feuil1!$C$1:$BL$10,10,FALSE)","v":-884},null,null,null,null,null,null,"INTB +"]
["F",null,null,null,null,null,null,2000,58,null,null,52,null,null,52,64,null,null,64,116,null,"INTB +",1,{"$f":"IF(I97=\"\",\"\",IF(A97=\"H\",IF(OR(H97=\"SEN\",H97<1997),VLOOKUP(I97,Feuil1!$A$11:$G$29,6),IF(AND(H97>1996,H97<2000),VLOOKUP(I97,Feuil1!$A$11:$G$29,5),IF(AND(H97>1999,H97<2002),VLOOKUP(I97,Feuil1!$A$11:$G$29,4),IF(AND(H97>2001,H97<2004),VLOOKUP(I97,Feuil1!$A$11:$G$29,3),VLOOKUP(I97,Feuil1!$A$11:$G$29,2))))),IF(OR(H97=\"SEN\",H97<1997),VLOOKUP(I97,Feuil1!$G$11:$L$25,6),IF(AND(H97>1996,H97<2000),VLOOKUP(I97,Feuil1!$G$11:$L$25,5),IF(AND(H97>1999,H97<2002),VLOOKUP(I97,Feuil1!$G$11:$L$25,4),IF(AND(H97>2001,H97<2004),VLOOKUP(I97,Feuil1!$G$11:$L$25,3),VLOOKUP(I97,Feuil1!$G$11:$L$25,2)))))))","v":"FC2 58"},163.31369874863211,null," ",{"$f":"T97-HLOOKUP(X97,Feuil1!$C$1:$BL$10,2,FALSE)","v":66},{"$f":"T97-HLOOKUP(X97,Feuil1!$C$1:$BL$10,3,FALSE)","v":56},{"$f":"T97-HLOOKUP(X97,Feuil1!$C$1:$BL$10,4,FALSE)","v":46},{"$f":"T97-HLOOKUP(X97,Feuil1!$C$1:$BL$10,5,FALSE)","v":36},{"$f":"T97-HLOOKUP(X97,Feuil1!$C$1:$BL$10,6,FALSE)","v":26},{"$f":"T97-HLOOKUP(X97,Feuil1!$C$1:$BL$10,7,FALSE)","v":16},{"$f":"T97-HLOOKUP(X97,Feuil1!$C$1:$BL$10,8,FALSE)","v":1},{"$f":"T97-HLOOKUP(X97,Feuil1!$C$1:$BL$10,9,FALSE)","v":-14},{"$f":"T97-HLOOKUP(X97,Feuil1!$C$1:$BL$10,10,FALSE)","v":-884},null,null,null,null,null,null,"INTB +"]
["F",null,null,null,null,null,null,2000,58,null,null,52,null,null,52,64,null,null,64,116,null,"INTB +",1,{"$f":"IF(I98=\"\",\"\",IF(A98=\"H\",IF(OR(H98=\"SEN\",H98<1997),VLOOKUP(I98,Feuil1!$A$11:$G$29,6),IF(AND(H98>1996,H98<2000),VLOOKUP(I98,Feuil1!$A$11:$G$29,5),IF(AND(H98>1999,H98<2002),VLOOKUP(I98,Feuil1!$A$11:$G$29,4),IF(AND(H98>2001,H98<2004),VLOOKUP(I98,Feuil1!$A$11:$G$29,3),VLOOKUP(I98,Feuil1!$A$11:$G$29,2))))),IF(OR(H98=\"SEN\",H98<1997),VLOOKUP(I98,Feuil1!$G$11:$L$25,6),IF(AND(H98>1996,H98<2000),VLOOKUP(I98,Feuil1!$G$11:$L$25,5),IF(AND(H98>1999,H98<2002),VLOOKUP(I98,Feuil1!$G$11:$L$25,4),IF(AND(H98>2001,H98<2004),VLOOKUP(I98,Feuil1!$G$11:$L$25,3),VLOOKUP(I98,Feuil1!$G$11:$L$25,2)))))))","v":"FC2 58"},163.31369874863211,null," ",{"$f":"T98-HLOOKUP(X98,Feuil1!$C$1:$BL$10,2,FALSE)","v":66},{"$f":"T98-HLOOKUP(X98,Feuil1!$C$1:$BL$10,3,FALSE)","v":56},{"$f":"T98-HLOOKUP(X98,Feuil1!$C$1:$BL$10,4,FALSE)","v":46},{"$f":"T98-HLOOKUP(X98,Feuil1!$C$1:$BL$10,5,FALSE)","v":36},{"$f":"T98-HLOOKUP(X98,Feuil1!$C$1:$BL$10,6,FALSE)","v":26},{"$f":"T98-HLOOKUP(X98,Feuil1!$C$1:$BL$10,7,FALSE)","v":16},{"$f":"T98-HLOOKUP(X98,Feuil1!$C$1:$BL$10,8,FALSE)","v":1},{"$f":"T98-HLOOKUP(X98,Feuil1!$C$1:$BL$10,9,FALSE)","v":-14},{"$f":"T98-HLOOKUP(X98,Feuil1!$C$1:$BL$10,10,FALSE)","v":-884},null,null,null,null,null,null,"INTB +"]
["F",null,null,null,null,null,null,2000,58,null,null,52,null,null,52,64,null,null,64,116,null,"INTB +",1,{"$f":"IF(I99=\"\",\"\",IF(A99=\"H\",IF(OR(H99=\"SEN\",H99<1997),VLOOKUP(I99,Feuil1!$A$11:$G$29,6),IF(AND(H99>1996,H99<2000),VLOOKUP(I99,Feuil1!$A$11:$G$29,5),IF(AND(H99>1999,H99<2002),VLOOKUP(I99,Feuil1!$A$11:$G$29,4),IF(AND(H99>2001,H99<2004),VLOOKUP(I99,Feuil1!$A$11:$G$29,3),VLOOKUP(I99,Feuil1!$A$11:$G$29,2))))),IF(OR(H99=\"SEN\",H99<1997),VLOOKUP(I99,Feuil1!$G$11:$L$25,6),IF(AND(H99>1996,H99<2000),VLOOKUP(I99,Feuil1!$G$11:$L$25,5),IF(AND(H99>1999,H99<2002),VLOOKUP(I99,Feuil1!$G$11:$L$25,4),IF(AND(H99>2001,H99<2004),VLOOKUP(I99,Feuil1!$G$11:$L$25,3),VLOOKUP(I99,Feuil1!$G$11:$L$25,2)))))))","v":"FC2 58"},163.31369874863211,null," ",{"$f":"T99-HLOOKUP(X99,Feuil1!$C$1:$BL$10,2,FALSE)","v":66},{"$f":"T99-HLOOKUP(X99,Feuil1!$C$1:$BL$10,3,FALSE)","v":56},{"$f":"T99-HLOOKUP(X99,Feuil1!$C$1:$BL$10,4,FALSE)","v":46},{"$f":"T99-HLOOKUP(X99,Feuil1!$C$1:$BL$10,5,FALSE)","v":36},{"$f":"T99-HLOOKUP(X99,Feuil1!$C$1:$BL$10,6,FALSE)","v":26},{"$f":"T99-HLOOKUP(X99,Feuil1!$C$1:$BL$10,7,FALSE)","v":16},{"$f":"T99-HLOOKUP(X99,Feuil1!$C$1:$BL$10,8,FALSE)","v":1},{"$f":"T99-HLOOKUP(X99,Feuil1!$C$1:$BL$10,9,FALSE)","v":-14},{"$f":"T99-HLOOKUP(X99,Feuil1!$C$1:$BL$10,10,FALSE)","v":-884},null,null,null,null,null,null,"INTB +"]
["F",null,null,null,null,null,null,2000,58,null,null,52,null,null,52,64,null,null,64,116,null,"INTB +",1,{"$f":"IF(I100=\"\",\"\",IF(A100=\"H\",IF(OR(H100=\"SEN\",H100<1997),VLOOKUP(I100,Feuil1!$A$11:$G$29,6),IF(AND(H100>1996,H100<2000),VLOOKUP(I100,Feuil1!$A$11:$G$29,5),IF(AND(H100>1999,H100<2002),VLOOKUP(I100,Feuil1!$A$11:$G$29,4),IF(AND(H100>2001,H100<2004),VLOOKUP(I100,Feuil1!$A$11:$G$29,3),VLOOKUP(I100,Feuil1!$A$11:$G$29,2))))),IF(OR(H100=\"SEN\",H100<1997),VLOOKUP(I100,Feuil1!$G$11:$L$25,6),IF(AND(H100>1996,H100<2000),VLOOKUP(I100,Feuil1!$G$11:$L$25,5),IF(AND(H100>1999,H100<2002),VLOOKUP(I100,Feuil1!$G$11:$L$25,4),IF(AND(H100>2001,H100<2004),VLOOKUP(I100,Feuil1!$G$11:$L$25,3),VLOOKUP(I100,Feuil1!$G$11:$L$25,2)))))))","v":"FC2 58"},163.31369874863211,null," ",{"$f":"T100-HLOOKUP(X100,Feuil1!$C$1:$BL$10,2,FALSE)","v":66},{"$f":"T100-HLOOKUP(X100,Feuil1!$C$1:$BL$10,3,FALSE)","v":56},{"$f":"T100-HLOOKUP(X100,Feuil1!$C$1:$BL$10,4,FALSE)","v":46},{"$f":"T100-HLOOKUP(X100,Feuil1!$C$1:$BL$10,5,FALSE)","v":36},{"$f":"T100-HLOOKUP(X100,Feuil1!$C$1:$BL$10,6,FALSE)","v":26},{"$f":"T100-HLOOKUP(X100,Feuil1!$C$1:$BL$10,7,FALSE)","v":16},{"$f":"T100-HLOOKUP(X100,Feuil1!$C$1:$BL$10,8,FALSE)","v":1},{"$f":"T100-HLOOKUP(X100,Feuil1!$C$1:$BL$10,9,FALSE)","v":-14},{"$f":"T100-HLOOKUP(X100,Feuil1!$C$1:$BL$10,10,FALSE)","v":-884},null,null,null,null,null,null,"INTB +"]
["F",null,null,null,null,null,null,2000,58,null,null,52,null,null,52,64,null,null,64,116,null,"INTB +",1,{"$f":"IF(I101=\"\",\"\",IF(A101=\"H\",IF(OR(H101=\"SEN\",H101<1997),VLOOKUP(I101,Feuil1!$A$11:$G$29,6),IF(AND(H101>1996,H101<2000),VLOOKUP(I101,Feuil1!$A$11:$G$29,5),IF(AND(H101>1999,H101<2002),VLOOKUP(I101,Feuil1!$A$11:$G$29,4),IF(AND(H101>2001,H101<2004),VLOOKUP(I101,Feuil1!$A$11:$G$29,3),VLOOKUP(I101,Feuil1!$A$11:$G$29,2))))),IF(OR(H101=\"SEN\",H101<1997),VLOOKUP(I101,Feuil1!$G$11:$L$25,6),IF(AND(H101>1996,H101<2000),VLOOKUP(I101,Feuil1!$G$11:$L$25,5),IF(AND(H101>1999,H101<2002),VLOOKUP(I101,Feuil1!$G$11:$L$25,4),IF(AND(H101>2001,H101<2004),VLOOKUP(I101,Feuil1!$G$11:$L$25,3),VLOOKUP(I101,Feuil1!$G$11:$L$25,2)))))))","v":"FC2 58"},163.31369874863211,null," ",{"$f":"T101-HLOOKUP(X101,Feuil1!$C$1:$BL$10,2,FALSE)","v":66},{"$f":"T101-HLOOKUP(X101,Feuil1!$C$1:$BL$10,3,FALSE)","v":56},{"$f":"T101-HLOOKUP(X101,Feuil1!$C$1:$BL$10,4,FALSE)","v":46},{"$f":"T101-HLOOKUP(X101,Feuil1!$C$1:$BL$10,5,FALSE)","v":36},{"$f":"T101-HLOOKUP(X101,Feuil1!$C$1:$BL$10,6,FALSE)","v":26},{"$f":"T101-HLOOKUP(X101,Feuil1!$C$1:$BL$10,7,FALSE)","v":16},{"$f":"T101-HLOOKUP(X101,Feuil1!$C$1:$BL$10,8,FALSE)","v":1},{"$f":"T101-HLOOKUP(X101,Feuil1!$C$1:$BL$10,9,FALSE)","v":-14},{"$f":"T101-HLOOKUP(X101,Feuil1!$C$1:$BL$10,10,FALSE)","v":-884},null,null,null,null,null,null,"INTB +"]
["F",null,null,null,null,null,null,2000,58,null,null,52,null,null,52,64,null,null,64,116,null,"INTB +",1,{"$f":"IF(I102=\"\",\"\",IF(A102=\"H\",IF(OR(H102=\"SEN\",H102<1997),VLOOKUP(I102,Feuil1!$A$11:$G$29,6),IF(AND(H102>1996,H102<2000),VLOOKUP(I102,Feuil1!$A$11:$G$29,5),IF(AND(H102>1999,H102<2002),VLOOKUP(I102,Feuil1!$A$11:$G$29,4),IF(AND(H102>2001,H102<2004),VLOOKUP(I102,Feuil1!$A$11:$G$29,3),VLOOKUP(I102,Feuil1!$A$11:$G$29,2))))),IF(OR(H102=\"SEN\",H102<1997),VLOOKUP(I102,Feuil1!$G$11:$L$25,6),IF(AND(H102>1996,H102<2000),VLOOKUP(I102,Feuil1!$G$11:$L$25,5),IF(AND(H102>1999,H102<2002),VLOOKUP(I102,Feuil1!$G$11:$L$25,4),IF(AND(H102>2001,H102<2004),VLOOKUP(I102,Feuil1!$G$11:$L$25,3),VLOOKUP(I102,Feuil1!$G$11:$L$25,2)))))))","v":"FC2 58"},163.31369874863211,null," ",{"$f":"T102-HLOOKUP(X102,Feuil1!$C$1:$BL$10,2,FALSE)","v":66},{"$f":"T102-HLOOKUP(X102,Feuil1!$C$1:$BL$10,3,FALSE)","v":56},{"$f":"T102-HLOOKUP(X102,Feuil1!$C$1:$BL$10,4,FALSE)","v":46},{"$f":"T102-HLOOKUP(X102,Feuil1!$C$1:$BL$10,5,FALSE)","v":36},{"$f":"T102-HLOOKUP(X102,Feuil1!$C$1:$BL$10,6,FALSE)","v":26},{"$f":"T102-HLOOKUP(X102,Feuil1!$C$1:$BL$10,7,FALSE)","v":16},{"$f":"T102-HLOOKUP(X102,Feuil1!$C$1:$BL$10,8,FALSE)","v":1},{"$f":"T102-HLOOKUP(X102,Feuil1!$C$1:$BL$10,9,FALSE)","v":-14},{"$f":"T102-HLOOKUP(X102,Feuil1!$C$1:$BL$10,10,FALSE)","v":-884},null,null,null,null,null,null,"INTB +"]
["F",null,null,null,null,null,null,2000,58,null,null,52,null,null,52,64,null,null,64,116,null,"INTB +",1,{"$f":"IF(I103=\"\",\"\",IF(A103=\"H\",IF(OR(H103=\"SEN\",H103<1997),VLOOKUP(I103,Feuil1!$A$11:$G$29,6),IF(AND(H103>1996,H103<2000),VLOOKUP(I103,Feuil1!$A$11:$G$29,5),IF(AND(H103>1999,H103<2002),VLOOKUP(I103,Feuil1!$A$11:$G$29,4),IF(AND(H103>2001,H103<2004),VLOOKUP(I103,Feuil1!$A$11:$G$29,3),VLOOKUP(I103,Feuil1!$A$11:$G$29,2))))),IF(OR(H103=\"SEN\",H103<1997),VLOOKUP(I103,Feuil1!$G$11:$L$25,6),IF(AND(H103>1996,H103<2000),VLOOKUP(I103,Feuil1!$G$11:$L$25,5),IF(AND(H103>1999,H103<2002),VLOOKUP(I103,Feuil1!$G$11:$L$25,4),IF(AND(H103>2001,H103<2004),VLOOKUP(I103,Feuil1!$G$11:$L$25,3),VLOOKUP(I103,Feuil1!$G$11:$L$25,2)))))))","v":"FC2 58"},163.31369874863211,null," ",{"$f":"T103-HLOOKUP(X103,Feuil1!$C$1:$BL$10,2,FALSE)","v":66},{"$f":"T103-HLOOKUP(X103,Feuil1!$C$1:$BL$10,3,FALSE)","v":56},{"$f":"T103-HLOOKUP(X103,Feuil1!$C$1:$BL$10,4,FALSE)","v":46},{"$f":"T103-HLOOKUP(X103,Feuil1!$C$1:$BL$10,5,FALSE)","v":36},{"$f":"T103-HLOOKUP(X103,Feuil1!$C$1:$BL$10,6,FALSE)","v":26},{"$f":"T103-HLOOKUP(X103,Feuil1!$C$1:$BL$10,7,FALSE)","v":16},{"$f":"T103-HLOOKUP(X103,Feuil1!$C$1:$BL$10,8,FALSE)","v":1},{"$f":"T103-HLOOKUP(X103,Feuil1!$C$1:$BL$10,9,FALSE)","v":-14},{"$f":"T103-HLOOKUP(X103,Feuil1!$C$1:$BL$10,10,FALSE)","v":-884},null,null,null,null,null,null,"INTB +"]
["F",null,null,null,null,null,null,2000,58,null,null,52,null,null,52,64,null,null,64,116,null,"INTB +",1,{"$f":"IF(I104=\"\",\"\",IF(A104=\"H\",IF(OR(H104=\"SEN\",H104<1997),VLOOKUP(I104,Feuil1!$A$11:$G$29,6),IF(AND(H104>1996,H104<2000),VLOOKUP(I104,Feuil1!$A$11:$G$29,5),IF(AND(H104>1999,H104<2002),VLOOKUP(I104,Feuil1!$A$11:$G$29,4),IF(AND(H104>2001,H104<2004),VLOOKUP(I104,Feuil1!$A$11:$G$29,3),VLOOKUP(I104,Feuil1!$A$11:$G$29,2))))),IF(OR(H104=\"SEN\",H104<1997),VLOOKUP(I104,Feuil1!$G$11:$L$25,6),IF(AND(H104>1996,H104<2000),VLOOKUP(I104,Feuil1!$G$11:$L$25,5),IF(AND(H104>1999,H104<2002),VLOOKUP(I104,Feuil1!$G$11:$L$25,4),IF(AND(H104>2001,H104<2004),VLOOKUP(I104,Feuil1!$G$11:$L$25,3),VLOOKUP(I104,Feuil1!$G$11:$L$25,2)))))))","v":"FC2 58"},163.31369874863211,null," ",{"$f":"T104-HLOOKUP(X104,Feuil1!$C$1:$BL$10,2,FALSE)","v":66},{"$f":"T104-HLOOKUP(X104,Feuil1!$C$1:$BL$10,3,FALSE)","v":56},{"$f":"T104-HLOOKUP(X104,Feuil1!$C$1:$BL$10,4,FALSE)","v":46},{"$f":"T104-HLOOKUP(X104,Feuil1!$C$1:$BL$10,5,FALSE)","v":36},{"$f":"T104-HLOOKUP(X104,Feuil1!$C$1:$BL$10,6,FALSE)","v":26},{"$f":"T104-HLOOKUP(X104,Feuil1!$C$1:$BL$10,7,FALSE)","v":16},{"$f":"T104-HLOOKUP(X104,Feuil1!$C$1:$BL$10,8,FALSE)","v":1},{"$f":"T104-HLOOKUP(X104,Feuil1!$C$1:$BL$10,9,FALSE)","v":-14},{"$f":"T104-HLOOKUP(X104,Feuil1!$C$1:$BL$10,10,FALSE)","v":-884},null,null,null,null,null,null,"INTB +"]
["F",null,null,null,null,null,null,2000,58,null,null,52,null,null,52,64,null,null,64,116,null,"INTB +",1,{"$f":"IF(I105=\"\",\"\",IF(A105=\"H\",IF(OR(H105=\"SEN\",H105<1997),VLOOKUP(I105,Feuil1!$A$11:$G$29,6),IF(AND(H105>1996,H105<2000),VLOOKUP(I105,Feuil1!$A$11:$G$29,5),IF(AND(H105>1999,H105<2002),VLOOKUP(I105,Feuil1!$A$11:$G$29,4),IF(AND(H105>2001,H105<2004),VLOOKUP(I105,Feuil1!$A$11:$G$29,3),VLOOKUP(I105,Feuil1!$A$11:$G$29,2))))),IF(OR(H105=\"SEN\",H105<1997),VLOOKUP(I105,Feuil1!$G$11:$L$25,6),IF(AND(H105>1996,H105<2000),VLOOKUP(I105,Feuil1!$G$11:$L$25,5),IF(AND(H105>1999,H105<2002),VLOOKUP(I105,Feuil1!$G$11:$L$25,4),IF(AND(H105>2001,H105<2004),VLOOKUP(I105,Feuil1!$G$11:$L$25,3),VLOOKUP(I105,Feuil1!$G$11:$L$25,2)))))))","v":"FC2 58"},163.31369874863211,null," ",{"$f":"T105-HLOOKUP(X105,Feuil1!$C$1:$BL$10,2,FALSE)","v":66},{"$f":"T105-HLOOKUP(X105,Feuil1!$C$1:$BL$10,3,FALSE)","v":56},{"$f":"T105-HLOOKUP(X105,Feuil1!$C$1:$BL$10,4,FALSE)","v":46},{"$f":"T105-HLOOKUP(X105,Feuil1!$C$1:$BL$10,5,FALSE)","v":36},{"$f":"T105-HLOOKUP(X105,Feuil1!$C$1:$BL$10,6,FALSE)","v":26},{"$f":"T105-HLOOKUP(X105,Feuil1!$C$1:$BL$10,7,FALSE)","v":16},{"$f":"T105-HLOOKUP(X105,Feuil1!$C$1:$BL$10,8,FALSE)","v":1},{"$f":"T105-HLOOKUP(X105,Feuil1!$C$1:$BL$10,9,FALSE)","v":-14},{"$f":"T105-HLOOKUP(X105,Feuil1!$C$1:$BL$10,10,FALSE)","v":-884},null,null,null,null,null,null,"INTB +"]
["F",null,null,null,null,null,null,2000,58,null,null,52,null,null,52,64,null,null,64,116,null,"INTB +",1,{"$f":"IF(I106=\"\",\"\",IF(A106=\"H\",IF(OR(H106=\"SEN\",H106<1997),VLOOKUP(I106,Feuil1!$A$11:$G$29,6),IF(AND(H106>1996,H106<2000),VLOOKUP(I106,Feuil1!$A$11:$G$29,5),IF(AND(H106>1999,H106<2002),VLOOKUP(I106,Feuil1!$A$11:$G$29,4),IF(AND(H106>2001,H106<2004),VLOOKUP(I106,Feuil1!$A$11:$G$29,3),VLOOKUP(I106,Feuil1!$A$11:$G$29,2))))),IF(OR(H106=\"SEN\",H106<1997),VLOOKUP(I106,Feuil1!$G$11:$L$25,6),IF(AND(H106>1996,H106<2000),VLOOKUP(I106,Feuil1!$G$11:$L$25,5),IF(AND(H106>1999,H106<2002),VLOOKUP(I106,Feuil1!$G$11:$L$25,4),IF(AND(H106>2001,H106<2004),VLOOKUP(I106,Feuil1!$G$11:$L$25,3),VLOOKUP(I106,Feuil1!$G$11:$L$25,2)))))))","v":"FC2 58"},163.31369874863211,null," ",{"$f":"T106-HLOOKUP(X106,Feuil1!$C$1:$BL$10,2,FALSE)","v":66},{"$f":"T106-HLOOKUP(X106,Feuil1!$C$1:$BL$10,3,FALSE)","v":56},{"$f":"T106-HLOOKUP(X106,Feuil1!$C$1:$BL$10,4,FALSE)","v":46},{"$f":"T106-HLOOKUP(X106,Feuil1!$C$1:$BL$10,5,FALSE)","v":36},{"$f":"T106-HLOOKUP(X106,Feuil1!$C$1:$BL$10,6,FALSE)","v":26},{"$f":"T106-HLOOKUP(X106,Feuil1!$C$1:$BL$10,7,FALSE)","v":16},{"$f":"T106-HLOOKUP(X106,Feuil1!$C$1:$BL$10,8,FALSE)","v":1},{"$f":"T106-HLOOKUP(X106,Feuil1!$C$1:$BL$10,9,FALSE)","v":-14},{"$f":"T106-HLOOKUP(X106,Feuil1!$C$1:$BL$10,10,FALSE)","v":-884},null,null,null,null,null,null,"INTB +"]
["F",null,null,null,null,null,null,2000,58,null,null,52,null,null,52,64,null,null,64,116,null,"INTB +",1,{"$f":"IF(I107=\"\",\"\",IF(A107=\"H\",IF(OR(H107=\"SEN\",H107<1997),VLOOKUP(I107,Feuil1!$A$11:$G$29,6),IF(AND(H107>1996,H107<2000),VLOOKUP(I107,Feuil1!$A$11:$G$29,5),IF(AND(H107>1999,H107<2002),VLOOKUP(I107,Feuil1!$A$11:$G$29,4),IF(AND(H107>2001,H107<2004),VLOOKUP(I107,Feuil1!$A$11:$G$29,3),VLOOKUP(I107,Feuil1!$A$11:$G$29,2))))),IF(OR(H107=\"SEN\",H107<1997),VLOOKUP(I107,Feuil1!$G$11:$L$25,6),IF(AND(H107>1996,H107<2000),VLOOKUP(I107,Feuil1!$G$11:$L$25,5),IF(AND(H107>1999,H107<2002),VLOOKUP(I107,Feuil1!$G$11:$L$25,4),IF(AND(H107>2001,H107<2004),VLOOKUP(I107,Feuil1!$G$11:$L$25,3),VLOOKUP(I107,Feuil1!$G$11:$L$25,2)))))))","v":"FC2 58"},163.31369874863211,null," ",{"$f":"T107-HLOOKUP(X107,Feuil1!$C$1:$BL$10,2,FALSE)","v":66},{"$f":"T107-HLOOKUP(X107,Feuil1!$C$1:$BL$10,3,FALSE)","v":56},{"$f":"T107-HLOOKUP(X107,Feuil1!$C$1:$BL$10,4,FALSE)","v":46},{"$f":"T107-HLOOKUP(X107,Feuil1!$C$1:$BL$10,5,FALSE)","v":36},{"$f":"T107-HLOOKUP(X107,Feuil1!$C$1:$BL$10,6,FALSE)","v":26},{"$f":"T107-HLOOKUP(X107,Feuil1!$C$1:$BL$10,7,FALSE)","v":16},{"$f":"T107-HLOOKUP(X107,Feuil1!$C$1:$BL$10,8,FALSE)","v":1},{"$f":"T107-HLOOKUP(X107,Feuil1!$C$1:$BL$10,9,FALSE)","v":-14},{"$f":"T107-HLOOKUP(X107,Feuil1!$C$1:$BL$10,10,FALSE)","v":-884},null,null,null,null,null,null,"INTB +"]
["F",null,null,null,null,null,null,2000,58,null,null,52,null,null,52,64,null,null,64,116,null,"INTB +",1,{"$f":"IF(I108=\"\",\"\",IF(A108=\"H\",IF(OR(H108=\"SEN\",H108<1997),VLOOKUP(I108,Feuil1!$A$11:$G$29,6),IF(AND(H108>1996,H108<2000),VLOOKUP(I108,Feuil1!$A$11:$G$29,5),IF(AND(H108>1999,H108<2002),VLOOKUP(I108,Feuil1!$A$11:$G$29,4),IF(AND(H108>2001,H108<2004),VLOOKUP(I108,Feuil1!$A$11:$G$29,3),VLOOKUP(I108,Feuil1!$A$11:$G$29,2))))),IF(OR(H108=\"SEN\",H108<1997),VLOOKUP(I108,Feuil1!$G$11:$L$25,6),IF(AND(H108>1996,H108<2000),VLOOKUP(I108,Feuil1!$G$11:$L$25,5),IF(AND(H108>1999,H108<2002),VLOOKUP(I108,Feuil1!$G$11:$L$25,4),IF(AND(H108>2001,H108<2004),VLOOKUP(I108,Feuil1!$G$11:$L$25,3),VLOOKUP(I108,Feuil1!$G$11:$L$25,2)))))))","v":"FC2 58"},163.31369874863211,null," ",{"$f":"T108-HLOOKUP(X108,Feuil1!$C$1:$BL$10,2,FALSE)","v":66},{"$f":"T108-HLOOKUP(X108,Feuil1!$C$1:$BL$10,3,FALSE)","v":56},{"$f":"T108-HLOOKUP(X108,Feuil1!$C$1:$BL$10,4,FALSE)","v":46},{"$f":"T108-HLOOKUP(X108,Feuil1!$C$1:$BL$10,5,FALSE)","v":36},{"$f":"T108-HLOOKUP(X108,Feuil1!$C$1:$BL$10,6,FALSE)","v":26},{"$f":"T108-HLOOKUP(X108,Feuil1!$C$1:$BL$10,7,FALSE)","v":16},{"$f":"T108-HLOOKUP(X108,Feuil1!$C$1:$BL$10,8,FALSE)","v":1},{"$f":"T108-HLOOKUP(X108,Feuil1!$C$1:$BL$10,9,FALSE)","v":-14},{"$f":"T108-HLOOKUP(X108,Feuil1!$C$1:$BL$10,10,FALSE)","v":-884},null,null,null,null,null,null,"INTB +"]
["F",null,null,null,null,null,null,2000,58,null,null,52,null,null,52,64,null,null,64,116,null,"INTB +",1,{"$f":"IF(I109=\"\",\"\",IF(A109=\"H\",IF(OR(H109=\"SEN\",H109<1997),VLOOKUP(I109,Feuil1!$A$11:$G$29,6),IF(AND(H109>1996,H109<2000),VLOOKUP(I109,Feuil1!$A$11:$G$29,5),IF(AND(H109>1999,H109<2002),VLOOKUP(I109,Feuil1!$A$11:$G$29,4),IF(AND(H109>2001,H109<2004),VLOOKUP(I109,Feuil1!$A$11:$G$29,3),VLOOKUP(I109,Feuil1!$A$11:$G$29,2))))),IF(OR(H109=\"SEN\",H109<1997),VLOOKUP(I109,Feuil1!$G$11:$L$25,6),IF(AND(H109>1996,H109<2000),VLOOKUP(I109,Feuil1!$G$11:$L$25,5),IF(AND(H109>1999,H109<2002),VLOOKUP(I109,Feuil1!$G$11:$L$25,4),IF(AND(H109>2001,H109<2004),VLOOKUP(I109,Feuil1!$G$11:$L$25,3),VLOOKUP(I109,Feuil1!$G$11:$L$25,2)))))))","v":"FC2 58"},163.31369874863211,null," ",{"$f":"T109-HLOOKUP(X109,Feuil1!$C$1:$BL$10,2,FALSE)","v":66},{"$f":"T109-HLOOKUP(X109,Feuil1!$C$1:$BL$10,3,FALSE)","v":56},{"$f":"T109-HLOOKUP(X109,Feuil1!$C$1:$BL$10,4,FALSE)","v":46},{"$f":"T109-HLOOKUP(X109,Feuil1!$C$1:$BL$10,5,FALSE)","v":36},{"$f":"T109-HLOOKUP(X109,Feuil1!$C$1:$BL$10,6,FALSE)","v":26},{"$f":"T109-HLOOKUP(X109,Feuil1!$C$1:$BL$10,7,FALSE)","v":16},{"$f":"T109-HLOOKUP(X109,Feuil1!$C$1:$BL$10,8,FALSE)","v":1},{"$f":"T109-HLOOKUP(X109,Feuil1!$C$1:$BL$10,9,FALSE)","v":-14},{"$f":"T109-HLOOKUP(X109,Feuil1!$C$1:$BL$10,10,FALSE)","v":-884},null,null,null,null,null,null,"INTB +"]
["F",null,null,null,null,null,null,2000,58,null,null,52,null,null,52,64,null,null,64,116,null,"INTB +",1,{"$f":"IF(I110=\"\",\"\",IF(A110=\"H\",IF(OR(H110=\"SEN\",H110<1997),VLOOKUP(I110,Feuil1!$A$11:$G$29,6),IF(AND(H110>1996,H110<2000),VLOOKUP(I110,Feuil1!$A$11:$G$29,5),IF(AND(H110>1999,H110<2002),VLOOKUP(I110,Feuil1!$A$11:$G$29,4),IF(AND(H110>2001,H110<2004),VLOOKUP(I110,Feuil1!$A$11:$G$29,3),VLOOKUP(I110,Feuil1!$A$11:$G$29,2))))),IF(OR(H110=\"SEN\",H110<1997),VLOOKUP(I110,Feuil1!$G$11:$L$25,6),IF(AND(H110>1996,H110<2000),VLOOKUP(I110,Feuil1!$G$11:$L$25,5),IF(AND(H110>1999,H110<2002),VLOOKUP(I110,Feuil1!$G$11:$L$25,4),IF(AND(H110>2001,H110<2004),VLOOKUP(I110,Feuil1!$G$11:$L$25,3),VLOOKUP(I110,Feuil1!$G$11:$L$25,2)))))))","v":"FC2 58"},163.31369874863211,null," ",{"$f":"T110-HLOOKUP(X110,Feuil1!$C$1:$BL$10,2,FALSE)","v":66},{"$f":"T110-HLOOKUP(X110,Feuil1!$C$1:$BL$10,3,FALSE)","v":56},{"$f":"T110-HLOOKUP(X110,Feuil1!$C$1:$BL$10,4,FALSE)","v":46},{"$f":"T110-HLOOKUP(X110,Feuil1!$C$1:$BL$10,5,FALSE)","v":36},{"$f":"T110-HLOOKUP(X110,Feuil1!$C$1:$BL$10,6,FALSE)","v":26},{"$f":"T110-HLOOKUP(X110,Feuil1!$C$1:$BL$10,7,FALSE)","v":16},{"$f":"T110-HLOOKUP(X110,Feuil1!$C$1:$BL$10,8,FALSE)","v":1},{"$f":"T110-HLOOKUP(X110,Feuil1!$C$1:$BL$10,9,FALSE)","v":-14},{"$f":"T110-HLOOKUP(X110,Feuil1!$C$1:$BL$10,10,FALSE)","v":-884},null,null,null,null,null,null,"INTB +"]
["F",null,null,null,null,null,null,2000,58,null,null,52,null,null,52,64,null,null,64,116,null,"INTB +",1,{"$f":"IF(I111=\"\",\"\",IF(A111=\"H\",IF(OR(H111=\"SEN\",H111<1997),VLOOKUP(I111,Feuil1!$A$11:$G$29,6),IF(AND(H111>1996,H111<2000),VLOOKUP(I111,Feuil1!$A$11:$G$29,5),IF(AND(H111>1999,H111<2002),VLOOKUP(I111,Feuil1!$A$11:$G$29,4),IF(AND(H111>2001,H111<2004),VLOOKUP(I111,Feuil1!$A$11:$G$29,3),VLOOKUP(I111,Feuil1!$A$11:$G$29,2))))),IF(OR(H111=\"SEN\",H111<1997),VLOOKUP(I111,Feuil1!$G$11:$L$25,6),IF(AND(H111>1996,H111<2000),VLOOKUP(I111,Feuil1!$G$11:$L$25,5),IF(AND(H111>1999,H111<2002),VLOOKUP(I111,Feuil1!$G$11:$L$25,4),IF(AND(H111>2001,H111<2004),VLOOKUP(I111,Feuil1!$G$11:$L$25,3),VLOOKUP(I111,Feuil1!$G$11:$L$25,2)))))))","v":"FC2 58"},163.31369874863211,null," ",{"$f":"T111-HLOOKUP(X111,Feuil1!$C$1:$BL$10,2,FALSE)","v":66},{"$f":"T111-HLOOKUP(X111,Feuil1!$C$1:$BL$10,3,FALSE)","v":56},{"$f":"T111-HLOOKUP(X111,Feuil1!$C$1:$BL$10,4,FALSE)","v":46},{"$f":"T111-HLOOKUP(X111,Feuil1!$C$1:$BL$10,5,FALSE)","v":36},{"$f":"T111-HLOOKUP(X111,Feuil1!$C$1:$BL$10,6,FALSE)","v":26},{"$f":"T111-HLOOKUP(X111,Feuil1!$C$1:$BL$10,7,FALSE)","v":16},{"$f":"T111-HLOOKUP(X111,Feuil1!$C$1:$BL$10,8,FALSE)","v":1},{"$f":"T111-HLOOKUP(X111,Feuil1!$C$1:$BL$10,9,FALSE)","v":-14},{"$f":"T111-HLOOKUP(X111,Feuil1!$C$1:$BL$10,10,FALSE)","v":-884},null,null,null,null,null,null,"INTB +"]
["F",null,null,null,null,null,null,2000,58,null,null,52,null,null,52,64,null,null,64,116,null,"INTB +",1,{"$f":"IF(I112=\"\",\"\",IF(A112=\"H\",IF(OR(H112=\"SEN\",H112<1997),VLOOKUP(I112,Feuil1!$A$11:$G$29,6),IF(AND(H112>1996,H112<2000),VLOOKUP(I112,Feuil1!$A$11:$G$29,5),IF(AND(H112>1999,H112<2002),VLOOKUP(I112,Feuil1!$A$11:$G$29,4),IF(AND(H112>2001,H112<2004),VLOOKUP(I112,Feuil1!$A$11:$G$29,3),VLOOKUP(I112,Feuil1!$A$11:$G$29,2))))),IF(OR(H112=\"SEN\",H112<1997),VLOOKUP(I112,Feuil1!$G$11:$L$25,6),IF(AND(H112>1996,H112<2000),VLOOKUP(I112,Feuil1!$G$11:$L$25,5),IF(AND(H112>1999,H112<2002),VLOOKUP(I112,Feuil1!$G$11:$L$25,4),IF(AND(H112>2001,H112<2004),VLOOKUP(I112,Feuil1!$G$11:$L$25,3),VLOOKUP(I112,Feuil1!$G$11:$L$25,2)))))))","v":"FC2 58"},163.31369874863211,null," ",{"$f":"T112-HLOOKUP(X112,Feuil1!$C$1:$BL$10,2,FALSE)","v":66},{"$f":"T112-HLOOKUP(X112,Feuil1!$C$1:$BL$10,3,FALSE)","v":56},{"$f":"T112-HLOOKUP(X112,Feuil1!$C$1:$BL$10,4,FALSE)","v":46},{"$f":"T112-HLOOKUP(X112,Feuil1!$C$1:$BL$10,5,FALSE)","v":36},{"$f":"T112-HLOOKUP(X112,Feuil1!$C$1:$BL$10,6,FALSE)","v":26},{"$f":"T112-HLOOKUP(X112,Feuil1!$C$1:$BL$10,7,FALSE)","v":16},{"$f":"T112-HLOOKUP(X112,Feuil1!$C$1:$BL$10,8,FALSE)","v":1},{"$f":"T112-HLOOKUP(X112,Feuil1!$C$1:$BL$10,9,FALSE)","v":-14},{"$f":"T112-HLOOKUP(X112,Feuil1!$C$1:$BL$10,10,FALSE)","v":-884},null,null,null,null,null,null,"INTB +"]
["F",null,null,null,null,null,null,2000,58,null,null,52,null,null,52,64,null,null,64,116,null,"INTB +",1,{"$f":"IF(I113=\"\",\"\",IF(A113=\"H\",IF(OR(H113=\"SEN\",H113<1997),VLOOKUP(I113,Feuil1!$A$11:$G$29,6),IF(AND(H113>1996,H113<2000),VLOOKUP(I113,Feuil1!$A$11:$G$29,5),IF(AND(H113>1999,H113<2002),VLOOKUP(I113,Feuil1!$A$11:$G$29,4),IF(AND(H113>2001,H113<2004),VLOOKUP(I113,Feuil1!$A$11:$G$29,3),VLOOKUP(I113,Feuil1!$A$11:$G$29,2))))),IF(OR(H113=\"SEN\",H113<1997),VLOOKUP(I113,Feuil1!$G$11:$L$25,6),IF(AND(H113>1996,H113<2000),VLOOKUP(I113,Feuil1!$G$11:$L$25,5),IF(AND(H113>1999,H113<2002),VLOOKUP(I113,Feuil1!$G$11:$L$25,4),IF(AND(H113>2001,H113<2004),VLOOKUP(I113,Feuil1!$G$11:$L$25,3),VLOOKUP(I113,Feuil1!$G$11:$L$25,2)))))))","v":"FC2 58"},163.31369874863211,null," ",{"$f":"T113-HLOOKUP(X113,Feuil1!$C$1:$BL$10,2,FALSE)","v":66},{"$f":"T113-HLOOKUP(X113,Feuil1!$C$1:$BL$10,3,FALSE)","v":56},{"$f":"T113-HLOOKUP(X113,Feuil1!$C$1:$BL$10,4,FALSE)","v":46},{"$f":"T113-HLOOKUP(X113,Feuil1!$C$1:$BL$10,5,FALSE)","v":36},{"$f":"T113-HLOOKUP(X113,Feuil1!$C$1:$BL$10,6,FALSE)","v":26},{"$f":"T113-HLOOKUP(X113,Feuil1!$C$1:$BL$10,7,FALSE)","v":16},{"$f":"T113-HLOOKUP(X113,Feuil1!$C$1:$BL$10,8,FALSE)","v":1},{"$f":"T113-HLOOKUP(X113,Feuil1!$C$1:$BL$10,9,FALSE)","v":-14},{"$f":"T113-HLOOKUP(X113,Feuil1!$C$1:$BL$10,10,FALSE)","v":-884},null,null,null,null,null,null,"INTB +"]
["F",null,null,null,null,null,null,2000,58,null,null,52,null,null,52,64,null,null,64,116,null,"INTB +",1,{"$f":"IF(I114=\"\",\"\",IF(A114=\"H\",IF(OR(H114=\"SEN\",H114<1997),VLOOKUP(I114,Feuil1!$A$11:$G$29,6),IF(AND(H114>1996,H114<2000),VLOOKUP(I114,Feuil1!$A$11:$G$29,5),IF(AND(H114>1999,H114<2002),VLOOKUP(I114,Feuil1!$A$11:$G$29,4),IF(AND(H114>2001,H114<2004),VLOOKUP(I114,Feuil1!$A$11:$G$29,3),VLOOKUP(I114,Feuil1!$A$11:$G$29,2))))),IF(OR(H114=\"SEN\",H114<1997),VLOOKUP(I114,Feuil1!$G$11:$L$25,6),IF(AND(H114>1996,H114<2000),VLOOKUP(I114,Feuil1!$G$11:$L$25,5),IF(AND(H114>1999,H114<2002),VLOOKUP(I114,Feuil1!$G$11:$L$25,4),IF(AND(H114>2001,H114<2004),VLOOKUP(I114,Feuil1!$G$11:$L$25,3),VLOOKUP(I114,Feuil1!$G$11:$L$25,2)))))))","v":"FC2 58"},163.31369874863211,null," ",{"$f":"T114-HLOOKUP(X114,Feuil1!$C$1:$BL$10,2,FALSE)","v":66},{"$f":"T114-HLOOKUP(X114,Feuil1!$C$1:$BL$10,3,FALSE)","v":56},{"$f":"T114-HLOOKUP(X114,Feuil1!$C$1:$BL$10,4,FALSE)","v":46},{"$f":"T114-HLOOKUP(X114,Feuil1!$C$1:$BL$10,5,FALSE)","v":36},{"$f":"T114-HLOOKUP(X114,Feuil1!$C$1:$BL$10,6,FALSE)","v":26},{"$f":"T114-HLOOKUP(X114,Feuil1!$C$1:$BL$10,7,FALSE)","v":16},{"$f":"T114-HLOOKUP(X114,Feuil1!$C$1:$BL$10,8,FALSE)","v":1},{"$f":"T114-HLOOKUP(X114,Feuil1!$C$1:$BL$10,9,FALSE)","v":-14},{"$f":"T114-HLOOKUP(X114,Feuil1!$C$1:$BL$10,10,FALSE)","v":-884},null,null,null,null,null,null,"INTB +"]
["F",null,null,null,null,null,null,2000,58,null,null,52,null,null,52,64,null,null,64,116,null,"INTB +",1,{"$f":"IF(I115=\"\",\"\",IF(A115=\"H\",IF(OR(H115=\"SEN\",H115<1997),VLOOKUP(I115,Feuil1!$A$11:$G$29,6),IF(AND(H115>1996,H115<2000),VLOOKUP(I115,Feuil1!$A$11:$G$29,5),IF(AND(H115>1999,H115<2002),VLOOKUP(I115,Feuil1!$A$11:$G$29,4),IF(AND(H115>2001,H115<2004),VLOOKUP(I115,Feuil1!$A$11:$G$29,3),VLOOKUP(I115,Feuil1!$A$11:$G$29,2))))),IF(OR(H115=\"SEN\",H115<1997),VLOOKUP(I115,Feuil1!$G$11:$L$25,6),IF(AND(H115>1996,H115<2000),VLOOKUP(I115,Feuil1!$G$11:$L$25,5),IF(AND(H115>1999,H115<2002),VLOOKUP(I115,Feuil1!$G$11:$L$25,4),IF(AND(H115>2001,H115<2004),VLOOKUP(I115,Feuil1!$G$11:$L$25,3),VLOOKUP(I115,Feuil1!$G$11:$L$25,2)))))))","v":"FC2 58"},163.31369874863211,null," ",{"$f":"T115-HLOOKUP(X115,Feuil1!$C$1:$BL$10,2,FALSE)","v":66},{"$f":"T115-HLOOKUP(X115,Feuil1!$C$1:$BL$10,3,FALSE)","v":56},{"$f":"T115-HLOOKUP(X115,Feuil1!$C$1:$BL$10,4,FALSE)","v":46},{"$f":"T115-HLOOKUP(X115,Feuil1!$C$1:$BL$10,5,FALSE)","v":36},{"$f":"T115-HLOOKUP(X115,Feuil1!$C$1:$BL$10,6,FALSE)","v":26},{"$f":"T115-HLOOKUP(X115,Feuil1!$C$1:$BL$10,7,FALSE)","v":16},{"$f":"T115-HLOOKUP(X115,Feuil1!$C$1:$BL$10,8,FALSE)","v":1},{"$f":"T115-HLOOKUP(X115,Feuil1!$C$1:$BL$10,9,FALSE)","v":-14},{"$f":"T115-HLOOKUP(X115,Feuil1!$C$1:$BL$10,10,FALSE)","v":-884},null,null,null,null,null,null,"INTB +"]
["F",null,null,null,null,null,null,2000,58,null,null,52,null,null,52,64,null,null,64,116,null,"INTB +",1,{"$f":"IF(I116=\"\",\"\",IF(A116=\"H\",IF(OR(H116=\"SEN\",H116<1997),VLOOKUP(I116,Feuil1!$A$11:$G$29,6),IF(AND(H116>1996,H116<2000),VLOOKUP(I116,Feuil1!$A$11:$G$29,5),IF(AND(H116>1999,H116<2002),VLOOKUP(I116,Feuil1!$A$11:$G$29,4),IF(AND(H116>2001,H116<2004),VLOOKUP(I116,Feuil1!$A$11:$G$29,3),VLOOKUP(I116,Feuil1!$A$11:$G$29,2))))),IF(OR(H116=\"SEN\",H116<1997),VLOOKUP(I116,Feuil1!$G$11:$L$25,6),IF(AND(H116>1996,H116<2000),VLOOKUP(I116,Feuil1!$G$11:$L$25,5),IF(AND(H116>1999,H116<2002),VLOOKUP(I116,Feuil1!$G$11:$L$25,4),IF(AND(H116>2001,H116<2004),VLOOKUP(I116,Feuil1!$G$11:$L$25,3),VLOOKUP(I116,Feuil1!$G$11:$L$25,2)))))))","v":"FC2 58"},163.31369874863211,null," ",{"$f":"T116-HLOOKUP(X116,Feuil1!$C$1:$BL$10,2,FALSE)","v":66},{"$f":"T116-HLOOKUP(X116,Feuil1!$C$1:$BL$10,3,FALSE)","v":56},{"$f":"T116-HLOOKUP(X116,Feuil1!$C$1:$BL$10,4,FALSE)","v":46},{"$f":"T116-HLOOKUP(X116,Feuil1!$C$1:$BL$10,5,FALSE)","v":36},{"$f":"T116-HLOOKUP(X116,Feuil1!$C$1:$BL$10,6,FALSE)","v":26},{"$f":"T116-HLOOKUP(X116,Feuil1!$C$1:$BL$10,7,FALSE)","v":16},{"$f":"T116-HLOOKUP(X116,Feuil1!$C$1:$BL$10,8,FALSE)","v":1},{"$f":"T116-HLOOKUP(X116,Feuil1!$C$1:$BL$10,9,FALSE)","v":-14},{"$f":"T116-HLOOKUP(X116,Feuil1!$C$1:$BL$10,10,FALSE)","v":-884},null,null,null,null,null,null,"INTB +"]
["F",null,null,null,null,null,null,2000,58,null,null,52,null,null,52,64,null,null,64,116,null,"INTB +",1,{"$f":"IF(I117=\"\",\"\",IF(A117=\"H\",IF(OR(H117=\"SEN\",H117<1997),VLOOKUP(I117,Feuil1!$A$11:$G$29,6),IF(AND(H117>1996,H117<2000),VLOOKUP(I117,Feuil1!$A$11:$G$29,5),IF(AND(H117>1999,H117<2002),VLOOKUP(I117,Feuil1!$A$11:$G$29,4),IF(AND(H117>2001,H117<2004),VLOOKUP(I117,Feuil1!$A$11:$G$29,3),VLOOKUP(I117,Feuil1!$A$11:$G$29,2))))),IF(OR(H117=\"SEN\",H117<1997),VLOOKUP(I117,Feuil1!$G$11:$L$25,6),IF(AND(H117>1996,H117<2000),VLOOKUP(I117,Feuil1!$G$11:$L$25,5),IF(AND(H117>1999,H117<2002),VLOOKUP(I117,Feuil1!$G$11:$L$25,4),IF(AND(H117>2001,H117<2004),VLOOKUP(I117,Feuil1!$G$11:$L$25,3),VLOOKUP(I117,Feuil1!$G$11:$L$25,2)))))))","v":"FC2 58"},163.31369874863211,null," ",{"$f":"T117-HLOOKUP(X117,Feuil1!$C$1:$BL$10,2,FALSE)","v":66},{"$f":"T117-HLOOKUP(X117,Feuil1!$C$1:$BL$10,3,FALSE)","v":56},{"$f":"T117-HLOOKUP(X117,Feuil1!$C$1:$BL$10,4,FALSE)","v":46},{"$f":"T117-HLOOKUP(X117,Feuil1!$C$1:$BL$10,5,FALSE)","v":36},{"$f":"T117-HLOOKUP(X117,Feuil1!$C$1:$BL$10,6,FALSE)","v":26},{"$f":"T117-HLOOKUP(X117,Feuil1!$C$1:$BL$10,7,FALSE)","v":16},{"$f":"T117-HLOOKUP(X117,Feuil1!$C$1:$BL$10,8,FALSE)","v":1},{"$f":"T117-HLOOKUP(X117,Feuil1!$C$1:$BL$10,9,FALSE)","v":-14},{"$f":"T117-HLOOKUP(X117,Feuil1!$C$1:$BL$10,10,FALSE)","v":-884},null,null,null,null,null,null,"INTB +"]
["F",null,null,null,null,null,null,2000,58,null,null,52,null,null,52,64,null,null,64,116,null,"INTB +",1,{"$f":"IF(I118=\"\",\"\",IF(A118=\"H\",IF(OR(H118=\"SEN\",H118<1997),VLOOKUP(I118,Feuil1!$A$11:$G$29,6),IF(AND(H118>1996,H118<2000),VLOOKUP(I118,Feuil1!$A$11:$G$29,5),IF(AND(H118>1999,H118<2002),VLOOKUP(I118,Feuil1!$A$11:$G$29,4),IF(AND(H118>2001,H118<2004),VLOOKUP(I118,Feuil1!$A$11:$G$29,3),VLOOKUP(I118,Feuil1!$A$11:$G$29,2))))),IF(OR(H118=\"SEN\",H118<1997),VLOOKUP(I118,Feuil1!$G$11:$L$25,6),IF(AND(H118>1996,H118<2000),VLOOKUP(I118,Feuil1!$G$11:$L$25,5),IF(AND(H118>1999,H118<2002),VLOOKUP(I118,Feuil1!$G$11:$L$25,4),IF(AND(H118>2001,H118<2004),VLOOKUP(I118,Feuil1!$G$11:$L$25,3),VLOOKUP(I118,Feuil1!$G$11:$L$25,2)))))))","v":"FC2 58"},163.31369874863211,null," ",{"$f":"T118-HLOOKUP(X118,Feuil1!$C$1:$BL$10,2,FALSE)","v":66},{"$f":"T118-HLOOKUP(X118,Feuil1!$C$1:$BL$10,3,FALSE)","v":56},{"$f":"T118-HLOOKUP(X118,Feuil1!$C$1:$BL$10,4,FALSE)","v":46},{"$f":"T118-HLOOKUP(X118,Feuil1!$C$1:$BL$10,5,FALSE)","v":36},{"$f":"T118-HLOOKUP(X118,Feuil1!$C$1:$BL$10,6,FALSE)","v":26},{"$f":"T118-HLOOKUP(X118,Feuil1!$C$1:$BL$10,7,FALSE)","v":16},{"$f":"T118-HLOOKUP(X118,Feuil1!$C$1:$BL$10,8,FALSE)","v":1},{"$f":"T118-HLOOKUP(X118,Feuil1!$C$1:$BL$10,9,FALSE)","v":-14},{"$f":"T118-HLOOKUP(X118,Feuil1!$C$1:$BL$10,10,FALSE)","v":-884},null,null,null,null,null,null,"INTB +"]
["F",null,null,null,null,null,null,2000,58,null,null,52,null,null,52,64,null,null,64,116,null,"INTB +",1,{"$f":"IF(I119=\"\",\"\",IF(A119=\"H\",IF(OR(H119=\"SEN\",H119<1997),VLOOKUP(I119,Feuil1!$A$11:$G$29,6),IF(AND(H119>1996,H119<2000),VLOOKUP(I119,Feuil1!$A$11:$G$29,5),IF(AND(H119>1999,H119<2002),VLOOKUP(I119,Feuil1!$A$11:$G$29,4),IF(AND(H119>2001,H119<2004),VLOOKUP(I119,Feuil1!$A$11:$G$29,3),VLOOKUP(I119,Feuil1!$A$11:$G$29,2))))),IF(OR(H119=\"SEN\",H119<1997),VLOOKUP(I119,Feuil1!$G$11:$L$25,6),IF(AND(H119>1996,H119<2000),VLOOKUP(I119,Feuil1!$G$11:$L$25,5),IF(AND(H119>1999,H119<2002),VLOOKUP(I119,Feuil1!$G$11:$L$25,4),IF(AND(H119>2001,H119<2004),VLOOKUP(I119,Feuil1!$G$11:$L$25,3),VLOOKUP(I119,Feuil1!$G$11:$L$25,2)))))))","v":"FC2 58"},163.31369874863211,null," ",{"$f":"T119-HLOOKUP(X119,Feuil1!$C$1:$BL$10,2,FALSE)","v":66},{"$f":"T119-HLOOKUP(X119,Feuil1!$C$1:$BL$10,3,FALSE)","v":56},{"$f":"T119-HLOOKUP(X119,Feuil1!$C$1:$BL$10,4,FALSE)","v":46},{"$f":"T119-HLOOKUP(X119,Feuil1!$C$1:$BL$10,5,FALSE)","v":36},{"$f":"T119-HLOOKUP(X119,Feuil1!$C$1:$BL$10,6,FALSE)","v":26},{"$f":"T119-HLOOKUP(X119,Feuil1!$C$1:$BL$10,7,FALSE)","v":16},{"$f":"T119-HLOOKUP(X119,Feuil1!$C$1:$BL$10,8,FALSE)","v":1},{"$f":"T119-HLOOKUP(X119,Feuil1!$C$1:$BL$10,9,FALSE)","v":-14},{"$f":"T119-HLOOKUP(X119,Feuil1!$C$1:$BL$10,10,FALSE)","v":-884},null,null,null,null,null,null,"INTB +"]
["F",null,null,null,null,null,null,2000,58,null,null,52,null,null,52,64,null,null,64,116,null,"INTB +",1,{"$f":"IF(I120=\"\",\"\",IF(A120=\"H\",IF(OR(H120=\"SEN\",H120<1997),VLOOKUP(I120,Feuil1!$A$11:$G$29,6),IF(AND(H120>1996,H120<2000),VLOOKUP(I120,Feuil1!$A$11:$G$29,5),IF(AND(H120>1999,H120<2002),VLOOKUP(I120,Feuil1!$A$11:$G$29,4),IF(AND(H120>2001,H120<2004),VLOOKUP(I120,Feuil1!$A$11:$G$29,3),VLOOKUP(I120,Feuil1!$A$11:$G$29,2))))),IF(OR(H120=\"SEN\",H120<1997),VLOOKUP(I120,Feuil1!$G$11:$L$25,6),IF(AND(H120>1996,H120<2000),VLOOKUP(I120,Feuil1!$G$11:$L$25,5),IF(AND(H120>1999,H120<2002),VLOOKUP(I120,Feuil1!$G$11:$L$25,4),IF(AND(H120>2001,H120<2004),VLOOKUP(I120,Feuil1!$G$11:$L$25,3),VLOOKUP(I120,Feuil1!$G$11:$L$25,2)))))))","v":"FC2 58"},163.31369874863211,null," ",{"$f":"T120-HLOOKUP(X120,Feuil1!$C$1:$BL$10,2,FALSE)","v":66},{"$f":"T120-HLOOKUP(X120,Feuil1!$C$1:$BL$10,3,FALSE)","v":56},{"$f":"T120-HLOOKUP(X120,Feuil1!$C$1:$BL$10,4,FALSE)","v":46},{"$f":"T120-HLOOKUP(X120,Feuil1!$C$1:$BL$10,5,FALSE)","v":36},{"$f":"T120-HLOOKUP(X120,Feuil1!$C$1:$BL$10,6,FALSE)","v":26},{"$f":"T120-HLOOKUP(X120,Feuil1!$C$1:$BL$10,7,FALSE)","v":16},{"$f":"T120-HLOOKUP(X120,Feuil1!$C$1:$BL$10,8,FALSE)","v":1},{"$f":"T120-HLOOKUP(X120,Feuil1!$C$1:$BL$10,9,FALSE)","v":-14},{"$f":"T120-HLOOKUP(X120,Feuil1!$C$1:$BL$10,10,FALSE)","v":-884},null,null,null,null,null,null,"INTB +"]
["F",null,null,null,null,null,null,2000,58,null,null,52,null,null,52,64,null,null,64,116,null,"INTB +",1,{"$f":"IF(I121=\"\",\"\",IF(A121=\"H\",IF(OR(H121=\"SEN\",H121<1997),VLOOKUP(I121,Feuil1!$A$11:$G$29,6),IF(AND(H121>1996,H121<2000),VLOOKUP(I121,Feuil1!$A$11:$G$29,5),IF(AND(H121>1999,H121<2002),VLOOKUP(I121,Feuil1!$A$11:$G$29,4),IF(AND(H121>2001,H121<2004),VLOOKUP(I121,Feuil1!$A$11:$G$29,3),VLOOKUP(I121,Feuil1!$A$11:$G$29,2))))),IF(OR(H121=\"SEN\",H121<1997),VLOOKUP(I121,Feuil1!$G$11:$L$25,6),IF(AND(H121>1996,H121<2000),VLOOKUP(I121,Feuil1!$G$11:$L$25,5),IF(AND(H121>1999,H121<2002),VLOOKUP(I121,Feuil1!$G$11:$L$25,4),IF(AND(H121>2001,H121<2004),VLOOKUP(I121,Feuil1!$G$11:$L$25,3),VLOOKUP(I121,Feuil1!$G$11:$L$25,2)))))))","v":"FC2 58"},163.31369874863211,null," ",{"$f":"T121-HLOOKUP(X121,Feuil1!$C$1:$BL$10,2,FALSE)","v":66},{"$f":"T121-HLOOKUP(X121,Feuil1!$C$1:$BL$10,3,FALSE)","v":56},{"$f":"T121-HLOOKUP(X121,Feuil1!$C$1:$BL$10,4,FALSE)","v":46},{"$f":"T121-HLOOKUP(X121,Feuil1!$C$1:$BL$10,5,FALSE)","v":36},{"$f":"T121-HLOOKUP(X121,Feuil1!$C$1:$BL$10,6,FALSE)","v":26},{"$f":"T121-HLOOKUP(X121,Feuil1!$C$1:$BL$10,7,FALSE)","v":16},{"$f":"T121-HLOOKUP(X121,Feuil1!$C$1:$BL$10,8,FALSE)","v":1},{"$f":"T121-HLOOKUP(X121,Feuil1!$C$1:$BL$10,9,FALSE)","v":-14},{"$f":"T121-HLOOKUP(X121,Feuil1!$C$1:$BL$10,10,FALSE)","v":-884},null,null,null,null,null,null,"INTB +"]
["F",null,null,null,null,null,null,2000,58,null,null,52,null,null,52,64,null,null,64,116,null,"INTB +",1,{"$f":"IF(I122=\"\",\"\",IF(A122=\"H\",IF(OR(H122=\"SEN\",H122<1997),VLOOKUP(I122,Feuil1!$A$11:$G$29,6),IF(AND(H122>1996,H122<2000),VLOOKUP(I122,Feuil1!$A$11:$G$29,5),IF(AND(H122>1999,H122<2002),VLOOKUP(I122,Feuil1!$A$11:$G$29,4),IF(AND(H122>2001,H122<2004),VLOOKUP(I122,Feuil1!$A$11:$G$29,3),VLOOKUP(I122,Feuil1!$A$11:$G$29,2))))),IF(OR(H122=\"SEN\",H122<1997),VLOOKUP(I122,Feuil1!$G$11:$L$25,6),IF(AND(H122>1996,H122<2000),VLOOKUP(I122,Feuil1!$G$11:$L$25,5),IF(AND(H122>1999,H122<2002),VLOOKUP(I122,Feuil1!$G$11:$L$25,4),IF(AND(H122>2001,H122<2004),VLOOKUP(I122,Feuil1!$G$11:$L$25,3),VLOOKUP(I122,Feuil1!$G$11:$L$25,2)))))))","v":"FC2 58"},163.31369874863211,null," ",{"$f":"T122-HLOOKUP(X122,Feuil1!$C$1:$BL$10,2,FALSE)","v":66},{"$f":"T122-HLOOKUP(X122,Feuil1!$C$1:$BL$10,3,FALSE)","v":56},{"$f":"T122-HLOOKUP(X122,Feuil1!$C$1:$BL$10,4,FALSE)","v":46},{"$f":"T122-HLOOKUP(X122,Feuil1!$C$1:$BL$10,5,FALSE)","v":36},{"$f":"T122-HLOOKUP(X122,Feuil1!$C$1:$BL$10,6,FALSE)","v":26},{"$f":"T122-HLOOKUP(X122,Feuil1!$C$1:$BL$10,7,FALSE)","v":16},{"$f":"T122-HLOOKUP(X122,Feuil1!$C$1:$BL$10,8,FALSE)","v":1},{"$f":"T122-HLOOKUP(X122,Feuil1!$C$1:$BL$10,9,FALSE)","v":-14},{"$f":"T122-HLOOKUP(X122,Feuil1!$C$1:$BL$10,10,FALSE)","v":-884},null,null,null,null,null,null,"INTB +"]
["F",null,null,null,null,null,null,2000,58,null,null,52,null,null,52,64,null,null,64,116,null,"INTB +",1,{"$f":"IF(I123=\"\",\"\",IF(A123=\"H\",IF(OR(H123=\"SEN\",H123<1997),VLOOKUP(I123,Feuil1!$A$11:$G$29,6),IF(AND(H123>1996,H123<2000),VLOOKUP(I123,Feuil1!$A$11:$G$29,5),IF(AND(H123>1999,H123<2002),VLOOKUP(I123,Feuil1!$A$11:$G$29,4),IF(AND(H123>2001,H123<2004),VLOOKUP(I123,Feuil1!$A$11:$G$29,3),VLOOKUP(I123,Feuil1!$A$11:$G$29,2))))),IF(OR(H123=\"SEN\",H123<1997),VLOOKUP(I123,Feuil1!$G$11:$L$25,6),IF(AND(H123>1996,H123<2000),VLOOKUP(I123,Feuil1!$G$11:$L$25,5),IF(AND(H123>1999,H123<2002),VLOOKUP(I123,Feuil1!$G$11:$L$25,4),IF(AND(H123>2001,H123<2004),VLOOKUP(I123,Feuil1!$G$11:$L$25,3),VLOOKUP(I123,Feuil1!$G$11:$L$25,2)))))))","v":"FC2 58"},163.31369874863211,null," ",{"$f":"T123-HLOOKUP(X123,Feuil1!$C$1:$BL$10,2,FALSE)","v":66},{"$f":"T123-HLOOKUP(X123,Feuil1!$C$1:$BL$10,3,FALSE)","v":56},{"$f":"T123-HLOOKUP(X123,Feuil1!$C$1:$BL$10,4,FALSE)","v":46},{"$f":"T123-HLOOKUP(X123,Feuil1!$C$1:$BL$10,5,FALSE)","v":36},{"$f":"T123-HLOOKUP(X123,Feuil1!$C$1:$BL$10,6,FALSE)","v":26},{"$f":"T123-HLOOKUP(X123,Feuil1!$C$1:$BL$10,7,FALSE)","v":16},{"$f":"T123-HLOOKUP(X123,Feuil1!$C$1:$BL$10,8,FALSE)","v":1},{"$f":"T123-HLOOKUP(X123,Feuil1!$C$1:$BL$10,9,FALSE)","v":-14},{"$f":"T123-HLOOKUP(X123,Feuil1!$C$1:$BL$10,10,FALSE)","v":-884},null,null,null,null,null,null,"INTB +"]
["F",null,null,null,null,null,null,2000,58,null,null,52,null,null,52,64,null,null,64,116,null,"INTB +",1,{"$f":"IF(I124=\"\",\"\",IF(A124=\"H\",IF(OR(H124=\"SEN\",H124<1997),VLOOKUP(I124,Feuil1!$A$11:$G$29,6),IF(AND(H124>1996,H124<2000),VLOOKUP(I124,Feuil1!$A$11:$G$29,5),IF(AND(H124>1999,H124<2002),VLOOKUP(I124,Feuil1!$A$11:$G$29,4),IF(AND(H124>2001,H124<2004),VLOOKUP(I124,Feuil1!$A$11:$G$29,3),VLOOKUP(I124,Feuil1!$A$11:$G$29,2))))),IF(OR(H124=\"SEN\",H124<1997),VLOOKUP(I124,Feuil1!$G$11:$L$25,6),IF(AND(H124>1996,H124<2000),VLOOKUP(I124,Feuil1!$G$11:$L$25,5),IF(AND(H124>1999,H124<2002),VLOOKUP(I124,Feuil1!$G$11:$L$25,4),IF(AND(H124>2001,H124<2004),VLOOKUP(I124,Feuil1!$G$11:$L$25,3),VLOOKUP(I124,Feuil1!$G$11:$L$25,2)))))))","v":"FC2 58"},163.31369874863211,null," ",{"$f":"T124-HLOOKUP(X124,Feuil1!$C$1:$BL$10,2,FALSE)","v":66},{"$f":"T124-HLOOKUP(X124,Feuil1!$C$1:$BL$10,3,FALSE)","v":56},{"$f":"T124-HLOOKUP(X124,Feuil1!$C$1:$BL$10,4,FALSE)","v":46},{"$f":"T124-HLOOKUP(X124,Feuil1!$C$1:$BL$10,5,FALSE)","v":36},{"$f":"T124-HLOOKUP(X124,Feuil1!$C$1:$BL$10,6,FALSE)","v":26},{"$f":"T124-HLOOKUP(X124,Feuil1!$C$1:$BL$10,7,FALSE)","v":16},{"$f":"T124-HLOOKUP(X124,Feuil1!$C$1:$BL$10,8,FALSE)","v":1},{"$f":"T124-HLOOKUP(X124,Feuil1!$C$1:$BL$10,9,FALSE)","v":-14},{"$f":"T124-HLOOKUP(X124,Feuil1!$C$1:$BL$10,10,FALSE)","v":-884},null,null,null,null,null,null,"INTB +"]
["F",null,null,null,null,null,null,2000,58,null,null,52,null,null,52,64,null,null,64,116,null,"INTB +",1,{"$f":"IF(I125=\"\",\"\",IF(A125=\"H\",IF(OR(H125=\"SEN\",H125<1997),VLOOKUP(I125,Feuil1!$A$11:$G$29,6),IF(AND(H125>1996,H125<2000),VLOOKUP(I125,Feuil1!$A$11:$G$29,5),IF(AND(H125>1999,H125<2002),VLOOKUP(I125,Feuil1!$A$11:$G$29,4),IF(AND(H125>2001,H125<2004),VLOOKUP(I125,Feuil1!$A$11:$G$29,3),VLOOKUP(I125,Feuil1!$A$11:$G$29,2))))),IF(OR(H125=\"SEN\",H125<1997),VLOOKUP(I125,Feuil1!$G$11:$L$25,6),IF(AND(H125>1996,H125<2000),VLOOKUP(I125,Feuil1!$G$11:$L$25,5),IF(AND(H125>1999,H125<2002),VLOOKUP(I125,Feuil1!$G$11:$L$25,4),IF(AND(H125>2001,H125<2004),VLOOKUP(I125,Feuil1!$G$11:$L$25,3),VLOOKUP(I125,Feuil1!$G$11:$L$25,2)))))))","v":"FC2 58"},163.31369874863211,null," ",{"$f":"T125-HLOOKUP(X125,Feuil1!$C$1:$BL$10,2,FALSE)","v":66},{"$f":"T125-HLOOKUP(X125,Feuil1!$C$1:$BL$10,3,FALSE)","v":56},{"$f":"T125-HLOOKUP(X125,Feuil1!$C$1:$BL$10,4,FALSE)","v":46},{"$f":"T125-HLOOKUP(X125,Feuil1!$C$1:$BL$10,5,FALSE)","v":36},{"$f":"T125-HLOOKUP(X125,Feuil1!$C$1:$BL$10,6,FALSE)","v":26},{"$f":"T125-HLOOKUP(X125,Feuil1!$C$1:$BL$10,7,FALSE)","v":16},{"$f":"T125-HLOOKUP(X125,Feuil1!$C$1:$BL$10,8,FALSE)","v":1},{"$f":"T125-HLOOKUP(X125,Feuil1!$C$1:$BL$10,9,FALSE)","v":-14},{"$f":"T125-HLOOKUP(X125,Feuil1!$C$1:$BL$10,10,FALSE)","v":-884},null,null,null,null,null,null,"INTB +"]
["F",null,null,null,null,null,null,2000,58,null,null,52,null,null,52,64,null,null,64,116,null,"INTB +",1,{"$f":"IF(I126=\"\",\"\",IF(A126=\"H\",IF(OR(H126=\"SEN\",H126<1997),VLOOKUP(I126,Feuil1!$A$11:$G$29,6),IF(AND(H126>1996,H126<2000),VLOOKUP(I126,Feuil1!$A$11:$G$29,5),IF(AND(H126>1999,H126<2002),VLOOKUP(I126,Feuil1!$A$11:$G$29,4),IF(AND(H126>2001,H126<2004),VLOOKUP(I126,Feuil1!$A$11:$G$29,3),VLOOKUP(I126,Feuil1!$A$11:$G$29,2))))),IF(OR(H126=\"SEN\",H126<1997),VLOOKUP(I126,Feuil1!$G$11:$L$25,6),IF(AND(H126>1996,H126<2000),VLOOKUP(I126,Feuil1!$G$11:$L$25,5),IF(AND(H126>1999,H126<2002),VLOOKUP(I126,Feuil1!$G$11:$L$25,4),IF(AND(H126>2001,H126<2004),VLOOKUP(I126,Feuil1!$G$11:$L$25,3),VLOOKUP(I126,Feuil1!$G$11:$L$25,2)))))))","v":"FC2 58"},163.31369874863211,null," ",{"$f":"T126-HLOOKUP(X126,Feuil1!$C$1:$BL$10,2,FALSE)","v":66},{"$f":"T126-HLOOKUP(X126,Feuil1!$C$1:$BL$10,3,FALSE)","v":56},{"$f":"T126-HLOOKUP(X126,Feuil1!$C$1:$BL$10,4,FALSE)","v":46},{"$f":"T126-HLOOKUP(X126,Feuil1!$C$1:$BL$10,5,FALSE)","v":36},{"$f":"T126-HLOOKUP(X126,Feuil1!$C$1:$BL$10,6,FALSE)","v":26},{"$f":"T126-HLOOKUP(X126,Feuil1!$C$1:$BL$10,7,FALSE)","v":16},{"$f":"T126-HLOOKUP(X126,Feuil1!$C$1:$BL$10,8,FALSE)","v":1},{"$f":"T126-HLOOKUP(X126,Feuil1!$C$1:$BL$10,9,FALSE)","v":-14},{"$f":"T126-HLOOKUP(X126,Feuil1!$C$1:$BL$10,10,FALSE)","v":-884},null,null,null,null,null,null,"INTB +"]
["F",null,null,null,null,null,null,2000,58,null,null,52,null,null,52,64,null,null,64,116,null,"INTB +",1,{"$f":"IF(I127=\"\",\"\",IF(A127=\"H\",IF(OR(H127=\"SEN\",H127<1997),VLOOKUP(I127,Feuil1!$A$11:$G$29,6),IF(AND(H127>1996,H127<2000),VLOOKUP(I127,Feuil1!$A$11:$G$29,5),IF(AND(H127>1999,H127<2002),VLOOKUP(I127,Feuil1!$A$11:$G$29,4),IF(AND(H127>2001,H127<2004),VLOOKUP(I127,Feuil1!$A$11:$G$29,3),VLOOKUP(I127,Feuil1!$A$11:$G$29,2))))),IF(OR(H127=\"SEN\",H127<1997),VLOOKUP(I127,Feuil1!$G$11:$L$25,6),IF(AND(H127>1996,H127<2000),VLOOKUP(I127,Feuil1!$G$11:$L$25,5),IF(AND(H127>1999,H127<2002),VLOOKUP(I127,Feuil1!$G$11:$L$25,4),IF(AND(H127>2001,H127<2004),VLOOKUP(I127,Feuil1!$G$11:$L$25,3),VLOOKUP(I127,Feuil1!$G$11:$L$25,2)))))))","v":"FC2 58"},163.31369874863211,null," ",{"$f":"T127-HLOOKUP(X127,Feuil1!$C$1:$BL$10,2,FALSE)","v":66},{"$f":"T127-HLOOKUP(X127,Feuil1!$C$1:$BL$10,3,FALSE)","v":56},{"$f":"T127-HLOOKUP(X127,Feuil1!$C$1:$BL$10,4,FALSE)","v":46},{"$f":"T127-HLOOKUP(X127,Feuil1!$C$1:$BL$10,5,FALSE)","v":36},{"$f":"T127-HLOOKUP(X127,Feuil1!$C$1:$BL$10,6,FALSE)","v":26},{"$f":"T127-HLOOKUP(X127,Feuil1!$C$1:$BL$10,7,FALSE)","v":16},{"$f":"T127-HLOOKUP(X127,Feuil1!$C$1:$BL$10,8,FALSE)","v":1},{"$f":"T127-HLOOKUP(X127,Feuil1!$C$1:$BL$10,9,FALSE)","v":-14},{"$f":"T127-HLOOKUP(X127,Feuil1!$C$1:$BL$10,10,FALSE)","v":-884},null,null,null,null,null,null,"INTB +"]
["F",null,null,null,null,null,null,2000,58,null,null,52,null,null,52,64,null,null,64,116,null,"INTB +",1,{"$f":"IF(I128=\"\",\"\",IF(A128=\"H\",IF(OR(H128=\"SEN\",H128<1997),VLOOKUP(I128,Feuil1!$A$11:$G$29,6),IF(AND(H128>1996,H128<2000),VLOOKUP(I128,Feuil1!$A$11:$G$29,5),IF(AND(H128>1999,H128<2002),VLOOKUP(I128,Feuil1!$A$11:$G$29,4),IF(AND(H128>2001,H128<2004),VLOOKUP(I128,Feuil1!$A$11:$G$29,3),VLOOKUP(I128,Feuil1!$A$11:$G$29,2))))),IF(OR(H128=\"SEN\",H128<1997),VLOOKUP(I128,Feuil1!$G$11:$L$25,6),IF(AND(H128>1996,H128<2000),VLOOKUP(I128,Feuil1!$G$11:$L$25,5),IF(AND(H128>1999,H128<2002),VLOOKUP(I128,Feuil1!$G$11:$L$25,4),IF(AND(H128>2001,H128<2004),VLOOKUP(I128,Feuil1!$G$11:$L$25,3),VLOOKUP(I128,Feuil1!$G$11:$L$25,2)))))))","v":"FC2 58"},163.31369874863211,null," ",{"$f":"T128-HLOOKUP(X128,Feuil1!$C$1:$BL$10,2,FALSE)","v":66},{"$f":"T128-HLOOKUP(X128,Feuil1!$C$1:$BL$10,3,FALSE)","v":56},{"$f":"T128-HLOOKUP(X128,Feuil1!$C$1:$BL$10,4,FALSE)","v":46},{"$f":"T128-HLOOKUP(X128,Feuil1!$C$1:$BL$10,5,FALSE)","v":36},{"$f":"T128-HLOOKUP(X128,Feuil1!$C$1:$BL$10,6,FALSE)","v":26},{"$f":"T128-HLOOKUP(X128,Feuil1!$C$1:$BL$10,7,FALSE)","v":16},{"$f":"T128-HLOOKUP(X128,Feuil1!$C$1:$BL$10,8,FALSE)","v":1},{"$f":"T128-HLOOKUP(X128,Feuil1!$C$1:$BL$10,9,FALSE)","v":-14},{"$f":"T128-HLOOKUP(X128,Feuil1!$C$1:$BL$10,10,FALSE)","v":-884},null,null,null,null,null,null,"INTB +"]
["F",null,null,null,null,null,null,2000,58,null,null,52,null,null,52,64,null,null,64,116,null,"INTB +",1,{"$f":"IF(I129=\"\",\"\",IF(A129=\"H\",IF(OR(H129=\"SEN\",H129<1997),VLOOKUP(I129,Feuil1!$A$11:$G$29,6),IF(AND(H129>1996,H129<2000),VLOOKUP(I129,Feuil1!$A$11:$G$29,5),IF(AND(H129>1999,H129<2002),VLOOKUP(I129,Feuil1!$A$11:$G$29,4),IF(AND(H129>2001,H129<2004),VLOOKUP(I129,Feuil1!$A$11:$G$29,3),VLOOKUP(I129,Feuil1!$A$11:$G$29,2))))),IF(OR(H129=\"SEN\",H129<1997),VLOOKUP(I129,Feuil1!$G$11:$L$25,6),IF(AND(H129>1996,H129<2000),VLOOKUP(I129,Feuil1!$G$11:$L$25,5),IF(AND(H129>1999,H129<2002),VLOOKUP(I129,Feuil1!$G$11:$L$25,4),IF(AND(H129>2001,H129<2004),VLOOKUP(I129,Feuil1!$G$11:$L$25,3),VLOOKUP(I129,Feuil1!$G$11:$L$25,2)))))))","v":"FC2 58"},163.31369874863211,null," ",{"$f":"T129-HLOOKUP(X129,Feuil1!$C$1:$BL$10,2,FALSE)","v":66},{"$f":"T129-HLOOKUP(X129,Feuil1!$C$1:$BL$10,3,FALSE)","v":56},{"$f":"T129-HLOOKUP(X129,Feuil1!$C$1:$BL$10,4,FALSE)","v":46},{"$f":"T129-HLOOKUP(X129,Feuil1!$C$1:$BL$10,5,FALSE)","v":36},{"$f":"T129-HLOOKUP(X129,Feuil1!$C$1:$BL$10,6,FALSE)","v":26},{"$f":"T129-HLOOKUP(X129,Feuil1!$C$1:$BL$10,7,FALSE)","v":16},{"$f":"T129-HLOOKUP(X129,Feuil1!$C$1:$BL$10,8,FALSE)","v":1},{"$f":"T129-HLOOKUP(X129,Feuil1!$C$1:$BL$10,9,FALSE)","v":-14},{"$f":"T129-HLOOKUP(X129,Feuil1!$C$1:$BL$10,10,FALSE)","v":-884},null,null,null,null,null,null,"INTB +"]
["F",null,null,null,null,null,null,2000,58,null,null,52,null,null,52,64,null,null,64,116,null,"INTB +",1,{"$f":"IF(I130=\"\",\"\",IF(A130=\"H\",IF(OR(H130=\"SEN\",H130<1997),VLOOKUP(I130,Feuil1!$A$11:$G$29,6),IF(AND(H130>1996,H130<2000),VLOOKUP(I130,Feuil1!$A$11:$G$29,5),IF(AND(H130>1999,H130<2002),VLOOKUP(I130,Feuil1!$A$11:$G$29,4),IF(AND(H130>2001,H130<2004),VLOOKUP(I130,Feuil1!$A$11:$G$29,3),VLOOKUP(I130,Feuil1!$A$11:$G$29,2))))),IF(OR(H130=\"SEN\",H130<1997),VLOOKUP(I130,Feuil1!$G$11:$L$25,6),IF(AND(H130>1996,H130<2000),VLOOKUP(I130,Feuil1!$G$11:$L$25,5),IF(AND(H130>1999,H130<2002),VLOOKUP(I130,Feuil1!$G$11:$L$25,4),IF(AND(H130>2001,H130<2004),VLOOKUP(I130,Feuil1!$G$11:$L$25,3),VLOOKUP(I130,Feuil1!$G$11:$L$25,2)))))))","v":"FC2 58"},163.31369874863211,null," ",{"$f":"T130-HLOOKUP(X130,Feuil1!$C$1:$BL$10,2,FALSE)","v":66},{"$f":"T130-HLOOKUP(X130,Feuil1!$C$1:$BL$10,3,FALSE)","v":56},{"$f":"T130-HLOOKUP(X130,Feuil1!$C$1:$BL$10,4,FALSE)","v":46},{"$f":"T130-HLOOKUP(X130,Feuil1!$C$1:$BL$10,5,FALSE)","v":36},{"$f":"T130-HLOOKUP(X130,Feuil1!$C$1:$BL$10,6,FALSE)","v":26},{"$f":"T130-HLOOKUP(X130,Feuil1!$C$1:$BL$10,7,FALSE)","v":16},{"$f":"T130-HLOOKUP(X130,Feuil1!$C$1:$BL$10,8,FALSE)","v":1},{"$f":"T130-HLOOKUP(X130,Feuil1!$C$1:$BL$10,9,FALSE)","v":-14},{"$f":"T130-HLOOKUP(X130,Feuil1!$C$1:$BL$10,10,FALSE)","v":-884},null,null,null,null,null,null,"INTB +"]
["F",null,null,null,null,null,null,2000,58,null,null,52,null,null,52,64,null,null,64,116,null,"INTB +",1,{"$f":"IF(I131=\"\",\"\",IF(A131=\"H\",IF(OR(H131=\"SEN\",H131<1997),VLOOKUP(I131,Feuil1!$A$11:$G$29,6),IF(AND(H131>1996,H131<2000),VLOOKUP(I131,Feuil1!$A$11:$G$29,5),IF(AND(H131>1999,H131<2002),VLOOKUP(I131,Feuil1!$A$11:$G$29,4),IF(AND(H131>2001,H131<2004),VLOOKUP(I131,Feuil1!$A$11:$G$29,3),VLOOKUP(I131,Feuil1!$A$11:$G$29,2))))),IF(OR(H131=\"SEN\",H131<1997),VLOOKUP(I131,Feuil1!$G$11:$L$25,6),IF(AND(H131>1996,H131<2000),VLOOKUP(I131,Feuil1!$G$11:$L$25,5),IF(AND(H131>1999,H131<2002),VLOOKUP(I131,Feuil1!$G$11:$L$25,4),IF(AND(H131>2001,H131<2004),VLOOKUP(I131,Feuil1!$G$11:$L$25,3),VLOOKUP(I131,Feuil1!$G$11:$L$25,2)))))))","v":"FC2 58"},163.31369874863211,null," ",{"$f":"T131-HLOOKUP(X131,Feuil1!$C$1:$BL$10,2,FALSE)","v":66},{"$f":"T131-HLOOKUP(X131,Feuil1!$C$1:$BL$10,3,FALSE)","v":56},{"$f":"T131-HLOOKUP(X131,Feuil1!$C$1:$BL$10,4,FALSE)","v":46},{"$f":"T131-HLOOKUP(X131,Feuil1!$C$1:$BL$10,5,FALSE)","v":36},{"$f":"T131-HLOOKUP(X131,Feuil1!$C$1:$BL$10,6,FALSE)","v":26},{"$f":"T131-HLOOKUP(X131,Feuil1!$C$1:$BL$10,7,FALSE)","v":16},{"$f":"T131-HLOOKUP(X131,Feuil1!$C$1:$BL$10,8,FALSE)","v":1},{"$f":"T131-HLOOKUP(X131,Feuil1!$C$1:$BL$10,9,FALSE)","v":-14},{"$f":"T131-HLOOKUP(X131,Feuil1!$C$1:$BL$10,10,FALSE)","v":-884},null,null,null,null,null,null,"INTB +"]
["F",null,null,null,null,null,null,2000,58,null,null,52,null,null,52,64,null,null,64,116,null,"INTB +",1,{"$f":"IF(I132=\"\",\"\",IF(A132=\"H\",IF(OR(H132=\"SEN\",H132<1997),VLOOKUP(I132,Feuil1!$A$11:$G$29,6),IF(AND(H132>1996,H132<2000),VLOOKUP(I132,Feuil1!$A$11:$G$29,5),IF(AND(H132>1999,H132<2002),VLOOKUP(I132,Feuil1!$A$11:$G$29,4),IF(AND(H132>2001,H132<2004),VLOOKUP(I132,Feuil1!$A$11:$G$29,3),VLOOKUP(I132,Feuil1!$A$11:$G$29,2))))),IF(OR(H132=\"SEN\",H132<1997),VLOOKUP(I132,Feuil1!$G$11:$L$25,6),IF(AND(H132>1996,H132<2000),VLOOKUP(I132,Feuil1!$G$11:$L$25,5),IF(AND(H132>1999,H132<2002),VLOOKUP(I132,Feuil1!$G$11:$L$25,4),IF(AND(H132>2001,H132<2004),VLOOKUP(I132,Feuil1!$G$11:$L$25,3),VLOOKUP(I132,Feuil1!$G$11:$L$25,2)))))))","v":"FC2 58"},163.31369874863211,null," ",{"$f":"T132-HLOOKUP(X132,Feuil1!$C$1:$BL$10,2,FALSE)","v":66},{"$f":"T132-HLOOKUP(X132,Feuil1!$C$1:$BL$10,3,FALSE)","v":56},{"$f":"T132-HLOOKUP(X132,Feuil1!$C$1:$BL$10,4,FALSE)","v":46},{"$f":"T132-HLOOKUP(X132,Feuil1!$C$1:$BL$10,5,FALSE)","v":36},{"$f":"T132-HLOOKUP(X132,Feuil1!$C$1:$BL$10,6,FALSE)","v":26},{"$f":"T132-HLOOKUP(X132,Feuil1!$C$1:$BL$10,7,FALSE)","v":16},{"$f":"T132-HLOOKUP(X132,Feuil1!$C$1:$BL$10,8,FALSE)","v":1},{"$f":"T132-HLOOKUP(X132,Feuil1!$C$1:$BL$10,9,FALSE)","v":-14},{"$f":"T132-HLOOKUP(X132,Feuil1!$C$1:$BL$10,10,FALSE)","v":-884},null,null,null,null,null,null,"INTB +"]
["F",null,null,null,null,null,null,2000,58,null,null,52,null,null,52,64,null,null,64,116,null,"INTB +",1,{"$f":"IF(I133=\"\",\"\",IF(A133=\"H\",IF(OR(H133=\"SEN\",H133<1997),VLOOKUP(I133,Feuil1!$A$11:$G$29,6),IF(AND(H133>1996,H133<2000),VLOOKUP(I133,Feuil1!$A$11:$G$29,5),IF(AND(H133>1999,H133<2002),VLOOKUP(I133,Feuil1!$A$11:$G$29,4),IF(AND(H133>2001,H133<2004),VLOOKUP(I133,Feuil1!$A$11:$G$29,3),VLOOKUP(I133,Feuil1!$A$11:$G$29,2))))),IF(OR(H133=\"SEN\",H133<1997),VLOOKUP(I133,Feuil1!$G$11:$L$25,6),IF(AND(H133>1996,H133<2000),VLOOKUP(I133,Feuil1!$G$11:$L$25,5),IF(AND(H133>1999,H133<2002),VLOOKUP(I133,Feuil1!$G$11:$L$25,4),IF(AND(H133>2001,H133<2004),VLOOKUP(I133,Feuil1!$G$11:$L$25,3),VLOOKUP(I133,Feuil1!$G$11:$L$25,2)))))))","v":"FC2 58"},163.31369874863211,null," ",{"$f":"T133-HLOOKUP(X133,Feuil1!$C$1:$BL$10,2,FALSE)","v":66},{"$f":"T133-HLOOKUP(X133,Feuil1!$C$1:$BL$10,3,FALSE)","v":56},{"$f":"T133-HLOOKUP(X133,Feuil1!$C$1:$BL$10,4,FALSE)","v":46},{"$f":"T133-HLOOKUP(X133,Feuil1!$C$1:$BL$10,5,FALSE)","v":36},{"$f":"T133-HLOOKUP(X133,Feuil1!$C$1:$BL$10,6,FALSE)","v":26},{"$f":"T133-HLOOKUP(X133,Feuil1!$C$1:$BL$10,7,FALSE)","v":16},{"$f":"T133-HLOOKUP(X133,Feuil1!$C$1:$BL$10,8,FALSE)","v":1},{"$f":"T133-HLOOKUP(X133,Feuil1!$C$1:$BL$10,9,FALSE)","v":-14},{"$f":"T133-HLOOKUP(X133,Feuil1!$C$1:$BL$10,10,FALSE)","v":-884},null,null,null,null,null,null,"INTB +"]
["F",null,null,null,null,null,null,2000,58,null,null,52,null,null,52,64,null,null,64,116,null,"INTB +",1,{"$f":"IF(I134=\"\",\"\",IF(A134=\"H\",IF(OR(H134=\"SEN\",H134<1997),VLOOKUP(I134,Feuil1!$A$11:$G$29,6),IF(AND(H134>1996,H134<2000),VLOOKUP(I134,Feuil1!$A$11:$G$29,5),IF(AND(H134>1999,H134<2002),VLOOKUP(I134,Feuil1!$A$11:$G$29,4),IF(AND(H134>2001,H134<2004),VLOOKUP(I134,Feuil1!$A$11:$G$29,3),VLOOKUP(I134,Feuil1!$A$11:$G$29,2))))),IF(OR(H134=\"SEN\",H134<1997),VLOOKUP(I134,Feuil1!$G$11:$L$25,6),IF(AND(H134>1996,H134<2000),VLOOKUP(I134,Feuil1!$G$11:$L$25,5),IF(AND(H134>1999,H134<2002),VLOOKUP(I134,Feuil1!$G$11:$L$25,4),IF(AND(H134>2001,H134<2004),VLOOKUP(I134,Feuil1!$G$11:$L$25,3),VLOOKUP(I134,Feuil1!$G$11:$L$25,2)))))))","v":"FC2 58"},163.31369874863211,null," ",{"$f":"T134-HLOOKUP(X134,Feuil1!$C$1:$BL$10,2,FALSE)","v":66},{"$f":"T134-HLOOKUP(X134,Feuil1!$C$1:$BL$10,3,FALSE)","v":56},{"$f":"T134-HLOOKUP(X134,Feuil1!$C$1:$BL$10,4,FALSE)","v":46},{"$f":"T134-HLOOKUP(X134,Feuil1!$C$1:$BL$10,5,FALSE)","v":36},{"$f":"T134-HLOOKUP(X134,Feuil1!$C$1:$BL$10,6,FALSE)","v":26},{"$f":"T134-HLOOKUP(X134,Feuil1!$C$1:$BL$10,7,FALSE)","v":16},{"$f":"T134-HLOOKUP(X134,Feuil1!$C$1:$BL$10,8,FALSE)","v":1},{"$f":"T134-HLOOKUP(X134,Feuil1!$C$1:$BL$10,9,FALSE)","v":-14},{"$f":"T134-HLOOKUP(X134,Feuil1!$C$1:$BL$10,10,FALSE)","v":-884},null,null,null,null,null,null,"INTB +"]
["F",null,null,null,null,null,null,2000,58,null,null,52,null,null,52,64,null,null,64,116,null,"INTB +",1,{"$f":"IF(I135=\"\",\"\",IF(A135=\"H\",IF(OR(H135=\"SEN\",H135<1997),VLOOKUP(I135,Feuil1!$A$11:$G$29,6),IF(AND(H135>1996,H135<2000),VLOOKUP(I135,Feuil1!$A$11:$G$29,5),IF(AND(H135>1999,H135<2002),VLOOKUP(I135,Feuil1!$A$11:$G$29,4),IF(AND(H135>2001,H135<2004),VLOOKUP(I135,Feuil1!$A$11:$G$29,3),VLOOKUP(I135,Feuil1!$A$11:$G$29,2))))),IF(OR(H135=\"SEN\",H135<1997),VLOOKUP(I135,Feuil1!$G$11:$L$25,6),IF(AND(H135>1996,H135<2000),VLOOKUP(I135,Feuil1!$G$11:$L$25,5),IF(AND(H135>1999,H135<2002),VLOOKUP(I135,Feuil1!$G$11:$L$25,4),IF(AND(H135>2001,H135<2004),VLOOKUP(I135,Feuil1!$G$11:$L$25,3),VLOOKUP(I135,Feuil1!$G$11:$L$25,2)))))))","v":"FC2 58"},163.31369874863211,null," ",{"$f":"T135-HLOOKUP(X135,Feuil1!$C$1:$BL$10,2,FALSE)","v":66},{"$f":"T135-HLOOKUP(X135,Feuil1!$C$1:$BL$10,3,FALSE)","v":56},{"$f":"T135-HLOOKUP(X135,Feuil1!$C$1:$BL$10,4,FALSE)","v":46},{"$f":"T135-HLOOKUP(X135,Feuil1!$C$1:$BL$10,5,FALSE)","v":36},{"$f":"T135-HLOOKUP(X135,Feuil1!$C$1:$BL$10,6,FALSE)","v":26},{"$f":"T135-HLOOKUP(X135,Feuil1!$C$1:$BL$10,7,FALSE)","v":16},{"$f":"T135-HLOOKUP(X135,Feuil1!$C$1:$BL$10,8,FALSE)","v":1},{"$f":"T135-HLOOKUP(X135,Feuil1!$C$1:$BL$10,9,FALSE)","v":-14},{"$f":"T135-HLOOKUP(X135,Feuil1!$C$1:$BL$10,10,FALSE)","v":-884},null,null,null,null,null,null,"INTB +"]
["F",null,null,null,null,null,null,2000,58,null,null,52,null,null,52,64,null,null,64,116,null,"INTB +",1,{"$f":"IF(I136=\"\",\"\",IF(A136=\"H\",IF(OR(H136=\"SEN\",H136<1997),VLOOKUP(I136,Feuil1!$A$11:$G$29,6),IF(AND(H136>1996,H136<2000),VLOOKUP(I136,Feuil1!$A$11:$G$29,5),IF(AND(H136>1999,H136<2002),VLOOKUP(I136,Feuil1!$A$11:$G$29,4),IF(AND(H136>2001,H136<2004),VLOOKUP(I136,Feuil1!$A$11:$G$29,3),VLOOKUP(I136,Feuil1!$A$11:$G$29,2))))),IF(OR(H136=\"SEN\",H136<1997),VLOOKUP(I136,Feuil1!$G$11:$L$25,6),IF(AND(H136>1996,H136<2000),VLOOKUP(I136,Feuil1!$G$11:$L$25,5),IF(AND(H136>1999,H136<2002),VLOOKUP(I136,Feuil1!$G$11:$L$25,4),IF(AND(H136>2001,H136<2004),VLOOKUP(I136,Feuil1!$G$11:$L$25,3),VLOOKUP(I136,Feuil1!$G$11:$L$25,2)))))))","v":"FC2 58"},163.31369874863211,null," ",{"$f":"T136-HLOOKUP(X136,Feuil1!$C$1:$BL$10,2,FALSE)","v":66},{"$f":"T136-HLOOKUP(X136,Feuil1!$C$1:$BL$10,3,FALSE)","v":56},{"$f":"T136-HLOOKUP(X136,Feuil1!$C$1:$BL$10,4,FALSE)","v":46},{"$f":"T136-HLOOKUP(X136,Feuil1!$C$1:$BL$10,5,FALSE)","v":36},{"$f":"T136-HLOOKUP(X136,Feuil1!$C$1:$BL$10,6,FALSE)","v":26},{"$f":"T136-HLOOKUP(X136,Feuil1!$C$1:$BL$10,7,FALSE)","v":16},{"$f":"T136-HLOOKUP(X136,Feuil1!$C$1:$BL$10,8,FALSE)","v":1},{"$f":"T136-HLOOKUP(X136,Feuil1!$C$1:$BL$10,9,FALSE)","v":-14},{"$f":"T136-HLOOKUP(X136,Feuil1!$C$1:$BL$10,10,FALSE)","v":-884},null,null,null,null,null,null,"INTB +"]
["F",null,null,null,null,null,null,2000,58,null,null,52,null,null,52,64,null,null,64,116,null,"INTB +",1,{"$f":"IF(I137=\"\",\"\",IF(A137=\"H\",IF(OR(H137=\"SEN\",H137<1997),VLOOKUP(I137,Feuil1!$A$11:$G$29,6),IF(AND(H137>1996,H137<2000),VLOOKUP(I137,Feuil1!$A$11:$G$29,5),IF(AND(H137>1999,H137<2002),VLOOKUP(I137,Feuil1!$A$11:$G$29,4),IF(AND(H137>2001,H137<2004),VLOOKUP(I137,Feuil1!$A$11:$G$29,3),VLOOKUP(I137,Feuil1!$A$11:$G$29,2))))),IF(OR(H137=\"SEN\",H137<1997),VLOOKUP(I137,Feuil1!$G$11:$L$25,6),IF(AND(H137>1996,H137<2000),VLOOKUP(I137,Feuil1!$G$11:$L$25,5),IF(AND(H137>1999,H137<2002),VLOOKUP(I137,Feuil1!$G$11:$L$25,4),IF(AND(H137>2001,H137<2004),VLOOKUP(I137,Feuil1!$G$11:$L$25,3),VLOOKUP(I137,Feuil1!$G$11:$L$25,2)))))))","v":"FC2 58"},163.31369874863211,null," ",{"$f":"T137-HLOOKUP(X137,Feuil1!$C$1:$BL$10,2,FALSE)","v":66},{"$f":"T137-HLOOKUP(X137,Feuil1!$C$1:$BL$10,3,FALSE)","v":56},{"$f":"T137-HLOOKUP(X137,Feuil1!$C$1:$BL$10,4,FALSE)","v":46},{"$f":"T137-HLOOKUP(X137,Feuil1!$C$1:$BL$10,5,FALSE)","v":36},{"$f":"T137-HLOOKUP(X137,Feuil1!$C$1:$BL$10,6,FALSE)","v":26},{"$f":"T137-HLOOKUP(X137,Feuil1!$C$1:$BL$10,7,FALSE)","v":16},{"$f":"T137-HLOOKUP(X137,Feuil1!$C$1:$BL$10,8,FALSE)","v":1},{"$f":"T137-HLOOKUP(X137,Feuil1!$C$1:$BL$10,9,FALSE)","v":-14},{"$f":"T137-HLOOKUP(X137,Feuil1!$C$1:$BL$10,10,FALSE)","v":-884},null,null,null,null,null,null,"INTB +"]
["F",null,null,null,null,null,null,2000,58,null,null,52,null,null,52,64,null,null,64,116,null,"INTB +",1,{"$f":"IF(I138=\"\",\"\",IF(A138=\"H\",IF(OR(H138=\"SEN\",H138<1997),VLOOKUP(I138,Feuil1!$A$11:$G$29,6),IF(AND(H138>1996,H138<2000),VLOOKUP(I138,Feuil1!$A$11:$G$29,5),IF(AND(H138>1999,H138<2002),VLOOKUP(I138,Feuil1!$A$11:$G$29,4),IF(AND(H138>2001,H138<2004),VLOOKUP(I138,Feuil1!$A$11:$G$29,3),VLOOKUP(I138,Feuil1!$A$11:$G$29,2))))),IF(OR(H138=\"SEN\",H138<1997),VLOOKUP(I138,Feuil1!$G$11:$L$25,6),IF(AND(H138>1996,H138<2000),VLOOKUP(I138,Feuil1!$G$11:$L$25,5),IF(AND(H138>1999,H138<2002),VLOOKUP(I138,Feuil1!$G$11:$L$25,4),IF(AND(H138>2001,H138<2004),VLOOKUP(I138,Feuil1!$G$11:$L$25,3),VLOOKUP(I138,Feuil1!$G$11:$L$25,2)))))))","v":"FC2 58"},163.31369874863211,null," ",{"$f":"T138-HLOOKUP(X138,Feuil1!$C$1:$BL$10,2,FALSE)","v":66},{"$f":"T138-HLOOKUP(X138,Feuil1!$C$1:$BL$10,3,FALSE)","v":56},{"$f":"T138-HLOOKUP(X138,Feuil1!$C$1:$BL$10,4,FALSE)","v":46},{"$f":"T138-HLOOKUP(X138,Feuil1!$C$1:$BL$10,5,FALSE)","v":36},{"$f":"T138-HLOOKUP(X138,Feuil1!$C$1:$BL$10,6,FALSE)","v":26},{"$f":"T138-HLOOKUP(X138,Feuil1!$C$1:$BL$10,7,FALSE)","v":16},{"$f":"T138-HLOOKUP(X138,Feuil1!$C$1:$BL$10,8,FALSE)","v":1},{"$f":"T138-HLOOKUP(X138,Feuil1!$C$1:$BL$10,9,FALSE)","v":-14},{"$f":"T138-HLOOKUP(X138,Feuil1!$C$1:$BL$10,10,FALSE)","v":-884},null,null,null,null,null,null,"INTB +"]
["F",null,null,null,null,null,null,2000,58,null,null,52,null,null,52,64,null,null,64,116,null,"INTB +",1,{"$f":"IF(I139=\"\",\"\",IF(A139=\"H\",IF(OR(H139=\"SEN\",H139<1997),VLOOKUP(I139,Feuil1!$A$11:$G$29,6),IF(AND(H139>1996,H139<2000),VLOOKUP(I139,Feuil1!$A$11:$G$29,5),IF(AND(H139>1999,H139<2002),VLOOKUP(I139,Feuil1!$A$11:$G$29,4),IF(AND(H139>2001,H139<2004),VLOOKUP(I139,Feuil1!$A$11:$G$29,3),VLOOKUP(I139,Feuil1!$A$11:$G$29,2))))),IF(OR(H139=\"SEN\",H139<1997),VLOOKUP(I139,Feuil1!$G$11:$L$25,6),IF(AND(H139>1996,H139<2000),VLOOKUP(I139,Feuil1!$G$11:$L$25,5),IF(AND(H139>1999,H139<2002),VLOOKUP(I139,Feuil1!$G$11:$L$25,4),IF(AND(H139>2001,H139<2004),VLOOKUP(I139,Feuil1!$G$11:$L$25,3),VLOOKUP(I139,Feuil1!$G$11:$L$25,2)))))))","v":"FC2 58"},163.31369874863211,null," ",{"$f":"T139-HLOOKUP(X139,Feuil1!$C$1:$BL$10,2,FALSE)","v":66},{"$f":"T139-HLOOKUP(X139,Feuil1!$C$1:$BL$10,3,FALSE)","v":56},{"$f":"T139-HLOOKUP(X139,Feuil1!$C$1:$BL$10,4,FALSE)","v":46},{"$f":"T139-HLOOKUP(X139,Feuil1!$C$1:$BL$10,5,FALSE)","v":36},{"$f":"T139-HLOOKUP(X139,Feuil1!$C$1:$BL$10,6,FALSE)","v":26},{"$f":"T139-HLOOKUP(X139,Feuil1!$C$1:$BL$10,7,FALSE)","v":16},{"$f":"T139-HLOOKUP(X139,Feuil1!$C$1:$BL$10,8,FALSE)","v":1},{"$f":"T139-HLOOKUP(X139,Feuil1!$C$1:$BL$10,9,FALSE)","v":-14},{"$f":"T139-HLOOKUP(X139,Feuil1!$C$1:$BL$10,10,FALSE)","v":-884},null,null,null,null,null,null,"INTB +"]
["F",null,null,null,null,null,null,2000,58,null,null,52,null,null,52,64,null,null,64,116,null,"INTB +",1,{"$f":"IF(I140=\"\",\"\",IF(A140=\"H\",IF(OR(H140=\"SEN\",H140<1997),VLOOKUP(I140,Feuil1!$A$11:$G$29,6),IF(AND(H140>1996,H140<2000),VLOOKUP(I140,Feuil1!$A$11:$G$29,5),IF(AND(H140>1999,H140<2002),VLOOKUP(I140,Feuil1!$A$11:$G$29,4),IF(AND(H140>2001,H140<2004),VLOOKUP(I140,Feuil1!$A$11:$G$29,3),VLOOKUP(I140,Feuil1!$A$11:$G$29,2))))),IF(OR(H140=\"SEN\",H140<1997),VLOOKUP(I140,Feuil1!$G$11:$L$25,6),IF(AND(H140>1996,H140<2000),VLOOKUP(I140,Feuil1!$G$11:$L$25,5),IF(AND(H140>1999,H140<2002),VLOOKUP(I140,Feuil1!$G$11:$L$25,4),IF(AND(H140>2001,H140<2004),VLOOKUP(I140,Feuil1!$G$11:$L$25,3),VLOOKUP(I140,Feuil1!$G$11:$L$25,2)))))))","v":"FC2 58"},163.31369874863211,null," ",{"$f":"T140-HLOOKUP(X140,Feuil1!$C$1:$BL$10,2,FALSE)","v":66},{"$f":"T140-HLOOKUP(X140,Feuil1!$C$1:$BL$10,3,FALSE)","v":56},{"$f":"T140-HLOOKUP(X140,Feuil1!$C$1:$BL$10,4,FALSE)","v":46},{"$f":"T140-HLOOKUP(X140,Feuil1!$C$1:$BL$10,5,FALSE)","v":36},{"$f":"T140-HLOOKUP(X140,Feuil1!$C$1:$BL$10,6,FALSE)","v":26},{"$f":"T140-HLOOKUP(X140,Feuil1!$C$1:$BL$10,7,FALSE)","v":16},{"$f":"T140-HLOOKUP(X140,Feuil1!$C$1:$BL$10,8,FALSE)","v":1},{"$f":"T140-HLOOKUP(X140,Feuil1!$C$1:$BL$10,9,FALSE)","v":-14},{"$f":"T140-HLOOKUP(X140,Feuil1!$C$1:$BL$10,10,FALSE)","v":-884},null,null,null,null,null,null,"INTB +"]
["F",null,null,null,null,null,null,2000,58,null,null,52,null,null,52,64,null,null,64,116,null,"INTB +",1,{"$f":"IF(I141=\"\",\"\",IF(A141=\"H\",IF(OR(H141=\"SEN\",H141<1997),VLOOKUP(I141,Feuil1!$A$11:$G$29,6),IF(AND(H141>1996,H141<2000),VLOOKUP(I141,Feuil1!$A$11:$G$29,5),IF(AND(H141>1999,H141<2002),VLOOKUP(I141,Feuil1!$A$11:$G$29,4),IF(AND(H141>2001,H141<2004),VLOOKUP(I141,Feuil1!$A$11:$G$29,3),VLOOKUP(I141,Feuil1!$A$11:$G$29,2))))),IF(OR(H141=\"SEN\",H141<1997),VLOOKUP(I141,Feuil1!$G$11:$L$25,6),IF(AND(H141>1996,H141<2000),VLOOKUP(I141,Feuil1!$G$11:$L$25,5),IF(AND(H141>1999,H141<2002),VLOOKUP(I141,Feuil1!$G$11:$L$25,4),IF(AND(H141>2001,H141<2004),VLOOKUP(I141,Feuil1!$G$11:$L$25,3),VLOOKUP(I141,Feuil1!$G$11:$L$25,2)))))))","v":"FC2 58"},163.31369874863211,null," ",{"$f":"T141-HLOOKUP(X141,Feuil1!$C$1:$BL$10,2,FALSE)","v":66},{"$f":"T141-HLOOKUP(X141,Feuil1!$C$1:$BL$10,3,FALSE)","v":56},{"$f":"T141-HLOOKUP(X141,Feuil1!$C$1:$BL$10,4,FALSE)","v":46},{"$f":"T141-HLOOKUP(X141,Feuil1!$C$1:$BL$10,5,FALSE)","v":36},{"$f":"T141-HLOOKUP(X141,Feuil1!$C$1:$BL$10,6,FALSE)","v":26},{"$f":"T141-HLOOKUP(X141,Feuil1!$C$1:$BL$10,7,FALSE)","v":16},{"$f":"T141-HLOOKUP(X141,Feuil1!$C$1:$BL$10,8,FALSE)","v":1},{"$f":"T141-HLOOKUP(X141,Feuil1!$C$1:$BL$10,9,FALSE)","v":-14},{"$f":"T141-HLOOKUP(X141,Feuil1!$C$1:$BL$10,10,FALSE)","v":-884},null,null,null,null,null,null,"INTB +"]
["F",null,null,null,null,null,null,2000,58,null,null,52,null,null,52,64,null,null,64,116,null,"INTB +",1,{"$f":"IF(I142=\"\",\"\",IF(A142=\"H\",IF(OR(H142=\"SEN\",H142<1997),VLOOKUP(I142,Feuil1!$A$11:$G$29,6),IF(AND(H142>1996,H142<2000),VLOOKUP(I142,Feuil1!$A$11:$G$29,5),IF(AND(H142>1999,H142<2002),VLOOKUP(I142,Feuil1!$A$11:$G$29,4),IF(AND(H142>2001,H142<2004),VLOOKUP(I142,Feuil1!$A$11:$G$29,3),VLOOKUP(I142,Feuil1!$A$11:$G$29,2))))),IF(OR(H142=\"SEN\",H142<1997),VLOOKUP(I142,Feuil1!$G$11:$L$25,6),IF(AND(H142>1996,H142<2000),VLOOKUP(I142,Feuil1!$G$11:$L$25,5),IF(AND(H142>1999,H142<2002),VLOOKUP(I142,Feuil1!$G$11:$L$25,4),IF(AND(H142>2001,H142<2004),VLOOKUP(I142,Feuil1!$G$11:$L$25,3),VLOOKUP(I142,Feuil1!$G$11:$L$25,2)))))))","v":"FC2 58"},163.31369874863211,null," ",{"$f":"T142-HLOOKUP(X142,Feuil1!$C$1:$BL$10,2,FALSE)","v":66},{"$f":"T142-HLOOKUP(X142,Feuil1!$C$1:$BL$10,3,FALSE)","v":56},{"$f":"T142-HLOOKUP(X142,Feuil1!$C$1:$BL$10,4,FALSE)","v":46},{"$f":"T142-HLOOKUP(X142,Feuil1!$C$1:$BL$10,5,FALSE)","v":36},{"$f":"T142-HLOOKUP(X142,Feuil1!$C$1:$BL$10,6,FALSE)","v":26},{"$f":"T142-HLOOKUP(X142,Feuil1!$C$1:$BL$10,7,FALSE)","v":16},{"$f":"T142-HLOOKUP(X142,Feuil1!$C$1:$BL$10,8,FALSE)","v":1},{"$f":"T142-HLOOKUP(X142,Feuil1!$C$1:$BL$10,9,FALSE)","v":-14},{"$f":"T142-HLOOKUP(X142,Feuil1!$C$1:$BL$10,10,FALSE)","v":-884},null,null,null,null,null,null,"INTB +"]
["F",null,null,null,null,null,null,2000,58,null,null,52,null,null,52,64,null,null,64,116,null,"INTB +",1,{"$f":"IF(I143=\"\",\"\",IF(A143=\"H\",IF(OR(H143=\"SEN\",H143<1997),VLOOKUP(I143,Feuil1!$A$11:$G$29,6),IF(AND(H143>1996,H143<2000),VLOOKUP(I143,Feuil1!$A$11:$G$29,5),IF(AND(H143>1999,H143<2002),VLOOKUP(I143,Feuil1!$A$11:$G$29,4),IF(AND(H143>2001,H143<2004),VLOOKUP(I143,Feuil1!$A$11:$G$29,3),VLOOKUP(I143,Feuil1!$A$11:$G$29,2))))),IF(OR(H143=\"SEN\",H143<1997),VLOOKUP(I143,Feuil1!$G$11:$L$25,6),IF(AND(H143>1996,H143<2000),VLOOKUP(I143,Feuil1!$G$11:$L$25,5),IF(AND(H143>1999,H143<2002),VLOOKUP(I143,Feuil1!$G$11:$L$25,4),IF(AND(H143>2001,H143<2004),VLOOKUP(I143,Feuil1!$G$11:$L$25,3),VLOOKUP(I143,Feuil1!$G$11:$L$25,2)))))))","v":"FC2 58"},163.31369874863211,null," ",{"$f":"T143-HLOOKUP(X143,Feuil1!$C$1:$BL$10,2,FALSE)","v":66},{"$f":"T143-HLOOKUP(X143,Feuil1!$C$1:$BL$10,3,FALSE)","v":56},{"$f":"T143-HLOOKUP(X143,Feuil1!$C$1:$BL$10,4,FALSE)","v":46},{"$f":"T143-HLOOKUP(X143,Feuil1!$C$1:$BL$10,5,FALSE)","v":36},{"$f":"T143-HLOOKUP(X143,Feuil1!$C$1:$BL$10,6,FALSE)","v":26},{"$f":"T143-HLOOKUP(X143,Feuil1!$C$1:$BL$10,7,FALSE)","v":16},{"$f":"T143-HLOOKUP(X143,Feuil1!$C$1:$BL$10,8,FALSE)","v":1},{"$f":"T143-HLOOKUP(X143,Feuil1!$C$1:$BL$10,9,FALSE)","v":-14},{"$f":"T143-HLOOKUP(X143,Feuil1!$C$1:$BL$10,10,FALSE)","v":-884},null,null,null,null,null,null,"INTB +"]
["F",null,null,null,null,null,null,2000,58,null,null,52,null,null,52,64,null,null,64,116,null,"INTB +",1,{"$f":"IF(I144=\"\",\"\",IF(A144=\"H\",IF(OR(H144=\"SEN\",H144<1997),VLOOKUP(I144,Feuil1!$A$11:$G$29,6),IF(AND(H144>1996,H144<2000),VLOOKUP(I144,Feuil1!$A$11:$G$29,5),IF(AND(H144>1999,H144<2002),VLOOKUP(I144,Feuil1!$A$11:$G$29,4),IF(AND(H144>2001,H144<2004),VLOOKUP(I144,Feuil1!$A$11:$G$29,3),VLOOKUP(I144,Feuil1!$A$11:$G$29,2))))),IF(OR(H144=\"SEN\",H144<1997),VLOOKUP(I144,Feuil1!$G$11:$L$25,6),IF(AND(H144>1996,H144<2000),VLOOKUP(I144,Feuil1!$G$11:$L$25,5),IF(AND(H144>1999,H144<2002),VLOOKUP(I144,Feuil1!$G$11:$L$25,4),IF(AND(H144>2001,H144<2004),VLOOKUP(I144,Feuil1!$G$11:$L$25,3),VLOOKUP(I144,Feuil1!$G$11:$L$25,2)))))))","v":"FC2 58"},163.31369874863211,null," ",{"$f":"T144-HLOOKUP(X144,Feuil1!$C$1:$BL$10,2,FALSE)","v":66},{"$f":"T144-HLOOKUP(X144,Feuil1!$C$1:$BL$10,3,FALSE)","v":56},{"$f":"T144-HLOOKUP(X144,Feuil1!$C$1:$BL$10,4,FALSE)","v":46},{"$f":"T144-HLOOKUP(X144,Feuil1!$C$1:$BL$10,5,FALSE)","v":36},{"$f":"T144-HLOOKUP(X144,Feuil1!$C$1:$BL$10,6,FALSE)","v":26},{"$f":"T144-HLOOKUP(X144,Feuil1!$C$1:$BL$10,7,FALSE)","v":16},{"$f":"T144-HLOOKUP(X144,Feuil1!$C$1:$BL$10,8,FALSE)","v":1},{"$f":"T144-HLOOKUP(X144,Feuil1!$C$1:$BL$10,9,FALSE)","v":-14},{"$f":"T144-HLOOKUP(X144,Feuil1!$C$1:$BL$10,10,FALSE)","v":-884},null,null,null,null,null,null,"INTB +"]
["F",null,null,null,null,null,null,2000,58,null,null,52,null,null,52,64,null,null,64,116,null,"INTB +",1,{"$f":"IF(I145=\"\",\"\",IF(A145=\"H\",IF(OR(H145=\"SEN\",H145<1997),VLOOKUP(I145,Feuil1!$A$11:$G$29,6),IF(AND(H145>1996,H145<2000),VLOOKUP(I145,Feuil1!$A$11:$G$29,5),IF(AND(H145>1999,H145<2002),VLOOKUP(I145,Feuil1!$A$11:$G$29,4),IF(AND(H145>2001,H145<2004),VLOOKUP(I145,Feuil1!$A$11:$G$29,3),VLOOKUP(I145,Feuil1!$A$11:$G$29,2))))),IF(OR(H145=\"SEN\",H145<1997),VLOOKUP(I145,Feuil1!$G$11:$L$25,6),IF(AND(H145>1996,H145<2000),VLOOKUP(I145,Feuil1!$G$11:$L$25,5),IF(AND(H145>1999,H145<2002),VLOOKUP(I145,Feuil1!$G$11:$L$25,4),IF(AND(H145>2001,H145<2004),VLOOKUP(I145,Feuil1!$G$11:$L$25,3),VLOOKUP(I145,Feuil1!$G$11:$L$25,2)))))))","v":"FC2 58"},163.31369874863211,null," ",{"$f":"T145-HLOOKUP(X145,Feuil1!$C$1:$BL$10,2,FALSE)","v":66},{"$f":"T145-HLOOKUP(X145,Feuil1!$C$1:$BL$10,3,FALSE)","v":56},{"$f":"T145-HLOOKUP(X145,Feuil1!$C$1:$BL$10,4,FALSE)","v":46},{"$f":"T145-HLOOKUP(X145,Feuil1!$C$1:$BL$10,5,FALSE)","v":36},{"$f":"T145-HLOOKUP(X145,Feuil1!$C$1:$BL$10,6,FALSE)","v":26},{"$f":"T145-HLOOKUP(X145,Feuil1!$C$1:$BL$10,7,FALSE)","v":16},{"$f":"T145-HLOOKUP(X145,Feuil1!$C$1:$BL$10,8,FALSE)","v":1},{"$f":"T145-HLOOKUP(X145,Feuil1!$C$1:$BL$10,9,FALSE)","v":-14},{"$f":"T145-HLOOKUP(X145,Feuil1!$C$1:$BL$10,10,FALSE)","v":-884},null,null,null,null,null,null,"INTB +"]
["F",null,null,null,null,null,null,2000,58,null,null,52,null,null,{"$f":"IF(H146=\"\",\"\",IF(MAXA(L146:N146)<=0,0,MAXA(L146:N146)))","v":52},64,null,null,{"$f":"IF(H146=\"\",\"\",IF(MAXA(P146:R146)<=0,0,MAXA(P146:R146)))","v":64},{"$f":"IF(H146=\"\",\"\",IF(OR(O146=0,S146=0),0,O146+S146))","v":116},null,{"$f":"IF(H146=\"\",\"\",AQ146)","v":"INTB +"},{"$f":"IF(AJ146>=0,AJ146,IF(AI146>=0,AI146,IF(AH146>=0,AH146,IF(AG146>=0,AG146,IF(AF146>=0,AF146,IF(AE146>=0,AE146,IF(AD146>=0,AD146,IF(AC146>=0,AC146,AB146))))))))","v":1},{"$f":"IF(I146=\"\",\"\",IF(A146=\"H\",IF(OR(H146=\"SEN\",H146<1997),VLOOKUP(I146,Feuil1!$A$11:$G$29,6),IF(AND(H146>1996,H146<2000),VLOOKUP(I146,Feuil1!$A$11:$G$29,5),IF(AND(H146>1999,H146<2002),VLOOKUP(I146,Feuil1!$A$11:$G$29,4),IF(AND(H146>2001,H146<2004),VLOOKUP(I146,Feuil1!$A$11:$G$29,3),VLOOKUP(I146,Feuil1!$A$11:$G$29,2))))),IF(OR(H146=\"SEN\",H146<1997),VLOOKUP(I146,Feuil1!$G$11:$L$25,6),IF(AND(H146>1996,H146<2000),VLOOKUP(I146,Feuil1!$G$11:$L$25,5),IF(AND(H146>1999,H146<2002),VLOOKUP(I146,Feuil1!$G$11:$L$25,4),IF(AND(H146>2001,H146<2004),VLOOKUP(I146,Feuil1!$G$11:$L$25,3),VLOOKUP(I146,Feuil1!$G$11:$L$25,2)))))))","v":"FC2 58"},{"$f":"IF(I146=\"\",\"\",IF(A146=\"H\",10^(0.794358141*LOG(I146/174.393)^2)*T146,IF(A146=\"F\",10^(0.89726074*LOG(I146/148.026)^2)*T146,\"\")))","v":163.31369874863211},null," ",{"$f":"T146-HLOOKUP(X146,Feuil1!$C$1:$BL$10,2,FALSE)","v":66},{"$f":"T146-HLOOKUP(X146,Feuil1!$C$1:$BL$10,3,FALSE)","v":56},{"$f":"T146-HLOOKUP(X146,Feuil1!$C$1:$BL$10,4,FALSE)","v":46},{"$f":"T146-HLOOKUP(X146,Feuil1!$C$1:$BL$10,5,FALSE)","v":36},{"$f":"T146-HLOOKUP(X146,Feuil1!$C$1:$BL$10,6,FALSE)","v":26},{"$f":"T146-HLOOKUP(X146,Feuil1!$C$1:$BL$10,7,FALSE)","v":16},{"$f":"T146-HLOOKUP(X146,Feuil1!$C$1:$BL$10,8,FALSE)","v":1},{"$f":"T146-HLOOKUP(X146,Feuil1!$C$1:$BL$10,9,FALSE)","v":-14},{"$f":"T146-HLOOKUP(X146,Feuil1!$C$1:$BL$10,10,FALSE)","v":-884},null,null,null,null,null,null,{"$f":"IF(AJ146>=0,$AJ$4,IF(AI146>=0,$AI$4,IF(AH146>=0,$AH$4,IF(AG146>=0,$AG$4,IF(AF146>=0,$AF$4,IF(AE146>=0,$AE$4,IF(AD146>=0,$AD$4,IF(AC146>=0,$AC$4,$AB$4))))))))","v":"INTB +"}]
["F",null,null,null,null,null,null,2000,58,null,null,52,null,null,52,64,null,null,64,116,null,"INTB +",1,{"$f":"IF(I147=\"\",\"\",IF(A147=\"H\",IF(OR(H147=\"SEN\",H147<1997),VLOOKUP(I147,Feuil1!$A$11:$G$29,6),IF(AND(H147>1996,H147<2000),VLOOKUP(I147,Feuil1!$A$11:$G$29,5),IF(AND(H147>1999,H147<2002),VLOOKUP(I147,Feuil1!$A$11:$G$29,4),IF(AND(H147>2001,H147<2004),VLOOKUP(I147,Feuil1!$A$11:$G$29,3),VLOOKUP(I147,Feuil1!$A$11:$G$29,2))))),IF(OR(H147=\"SEN\",H147<1997),VLOOKUP(I147,Feuil1!$G$11:$L$25,6),IF(AND(H147>1996,H147<2000),VLOOKUP(I147,Feuil1!$G$11:$L$25,5),IF(AND(H147>1999,H147<2002),VLOOKUP(I147,Feuil1!$G$11:$L$25,4),IF(AND(H147>2001,H147<2004),VLOOKUP(I147,Feuil1!$G$11:$L$25,3),VLOOKUP(I147,Feuil1!$G$11:$L$25,2)))))))","v":"FC2 58"},163.31369874863211,null," ",{"$f":"T147-HLOOKUP(X147,Feuil1!$C$1:$BL$10,2,FALSE)","v":66},{"$f":"T147-HLOOKUP(X147,Feuil1!$C$1:$BL$10,3,FALSE)","v":56},{"$f":"T147-HLOOKUP(X147,Feuil1!$C$1:$BL$10,4,FALSE)","v":46},{"$f":"T147-HLOOKUP(X147,Feuil1!$C$1:$BL$10,5,FALSE)","v":36},{"$f":"T147-HLOOKUP(X147,Feuil1!$C$1:$BL$10,6,FALSE)","v":26},{"$f":"T147-HLOOKUP(X147,Feuil1!$C$1:$BL$10,7,FALSE)","v":16},{"$f":"T147-HLOOKUP(X147,Feuil1!$C$1:$BL$10,8,FALSE)","v":1},{"$f":"T147-HLOOKUP(X147,Feuil1!$C$1:$BL$10,9,FALSE)","v":-14},{"$f":"T147-HLOOKUP(X147,Feuil1!$C$1:$BL$10,10,FALSE)","v":-884},null,null,null,null,null,null,"INTB +"]
["F",null,null,null,null,null,null,2000,58,null,null,52,null,null,52,64,null,null,64,116,null,"INTB +",1,{"$f":"IF(I148=\"\",\"\",IF(A148=\"H\",IF(OR(H148=\"SEN\",H148<1997),VLOOKUP(I148,Feuil1!$A$11:$G$29,6),IF(AND(H148>1996,H148<2000),VLOOKUP(I148,Feuil1!$A$11:$G$29,5),IF(AND(H148>1999,H148<2002),VLOOKUP(I148,Feuil1!$A$11:$G$29,4),IF(AND(H148>2001,H148<2004),VLOOKUP(I148,Feuil1!$A$11:$G$29,3),VLOOKUP(I148,Feuil1!$A$11:$G$29,2))))),IF(OR(H148=\"SEN\",H148<1997),VLOOKUP(I148,Feuil1!$G$11:$L$25,6),IF(AND(H148>1996,H148<2000),VLOOKUP(I148,Feuil1!$G$11:$L$25,5),IF(AND(H148>1999,H148<2002),VLOOKUP(I148,Feuil1!$G$11:$L$25,4),IF(AND(H148>2001,H148<2004),VLOOKUP(I148,Feuil1!$G$11:$L$25,3),VLOOKUP(I148,Feuil1!$G$11:$L$25,2)))))))","v":"FC2 58"},163.31369874863211,null," ",{"$f":"T148-HLOOKUP(X148,Feuil1!$C$1:$BL$10,2,FALSE)","v":66},{"$f":"T148-HLOOKUP(X148,Feuil1!$C$1:$BL$10,3,FALSE)","v":56},{"$f":"T148-HLOOKUP(X148,Feuil1!$C$1:$BL$10,4,FALSE)","v":46},{"$f":"T148-HLOOKUP(X148,Feuil1!$C$1:$BL$10,5,FALSE)","v":36},{"$f":"T148-HLOOKUP(X148,Feuil1!$C$1:$BL$10,6,FALSE)","v":26},{"$f":"T148-HLOOKUP(X148,Feuil1!$C$1:$BL$10,7,FALSE)","v":16},{"$f":"T148-HLOOKUP(X148,Feuil1!$C$1:$BL$10,8,FALSE)","v":1},{"$f":"T148-HLOOKUP(X148,Feuil1!$C$1:$BL$10,9,FALSE)","v":-14},{"$f":"T148-HLOOKUP(X148,Feuil1!$C$1:$BL$10,10,FALSE)","v":-884},null,null,null,null,null,null,"INTB +"]
["F",null,null,null,null,null,null,2000,58,null,null,52,null,null,52,64,null,null,64,116,null,"INTB +",1,{"$f":"IF(I149=\"\",\"\",IF(A149=\"H\",IF(OR(H149=\"SEN\",H149<1997),VLOOKUP(I149,Feuil1!$A$11:$G$29,6),IF(AND(H149>1996,H149<2000),VLOOKUP(I149,Feuil1!$A$11:$G$29,5),IF(AND(H149>1999,H149<2002),VLOOKUP(I149,Feuil1!$A$11:$G$29,4),IF(AND(H149>2001,H149<2004),VLOOKUP(I149,Feuil1!$A$11:$G$29,3),VLOOKUP(I149,Feuil1!$A$11:$G$29,2))))),IF(OR(H149=\"SEN\",H149<1997),VLOOKUP(I149,Feuil1!$G$11:$L$25,6),IF(AND(H149>1996,H149<2000),VLOOKUP(I149,Feuil1!$G$11:$L$25,5),IF(AND(H149>1999,H149<2002),VLOOKUP(I149,Feuil1!$G$11:$L$25,4),IF(AND(H149>2001,H149<2004),VLOOKUP(I149,Feuil1!$G$11:$L$25,3),VLOOKUP(I149,Feuil1!$G$11:$L$25,2)))))))","v":"FC2 58"},163.31369874863211,null," ",{"$f":"T149-HLOOKUP(X149,Feuil1!$C$1:$BL$10,2,FALSE)","v":66},{"$f":"T149-HLOOKUP(X149,Feuil1!$C$1:$BL$10,3,FALSE)","v":56},{"$f":"T149-HLOOKUP(X149,Feuil1!$C$1:$BL$10,4,FALSE)","v":46},{"$f":"T149-HLOOKUP(X149,Feuil1!$C$1:$BL$10,5,FALSE)","v":36},{"$f":"T149-HLOOKUP(X149,Feuil1!$C$1:$BL$10,6,FALSE)","v":26},{"$f":"T149-HLOOKUP(X149,Feuil1!$C$1:$BL$10,7,FALSE)","v":16},{"$f":"T149-HLOOKUP(X149,Feuil1!$C$1:$BL$10,8,FALSE)","v":1},{"$f":"T149-HLOOKUP(X149,Feuil1!$C$1:$BL$10,9,FALSE)","v":-14},{"$f":"T149-HLOOKUP(X149,Feuil1!$C$1:$BL$10,10,FALSE)","v":-884},null,null,null,null,null,null,"INTB +"]
["F",null,null,null,null,null,null,2000,58,null,null,52,null,null,52,64,null,null,64,116,null,"INTB +",1,{"$f":"IF(I150=\"\",\"\",IF(A150=\"H\",IF(OR(H150=\"SEN\",H150<1997),VLOOKUP(I150,Feuil1!$A$11:$G$29,6),IF(AND(H150>1996,H150<2000),VLOOKUP(I150,Feuil1!$A$11:$G$29,5),IF(AND(H150>1999,H150<2002),VLOOKUP(I150,Feuil1!$A$11:$G$29,4),IF(AND(H150>2001,H150<2004),VLOOKUP(I150,Feuil1!$A$11:$G$29,3),VLOOKUP(I150,Feuil1!$A$11:$G$29,2))))),IF(OR(H150=\"SEN\",H150<1997),VLOOKUP(I150,Feuil1!$G$11:$L$25,6),IF(AND(H150>1996,H150<2000),VLOOKUP(I150,Feuil1!$G$11:$L$25,5),IF(AND(H150>1999,H150<2002),VLOOKUP(I150,Feuil1!$G$11:$L$25,4),IF(AND(H150>2001,H150<2004),VLOOKUP(I150,Feuil1!$G$11:$L$25,3),VLOOKUP(I150,Feuil1!$G$11:$L$25,2)))))))","v":"FC2 58"},163.31369874863211,null," ",{"$f":"T150-HLOOKUP(X150,Feuil1!$C$1:$BL$10,2,FALSE)","v":66},{"$f":"T150-HLOOKUP(X150,Feuil1!$C$1:$BL$10,3,FALSE)","v":56},{"$f":"T150-HLOOKUP(X150,Feuil1!$C$1:$BL$10,4,FALSE)","v":46},{"$f":"T150-HLOOKUP(X150,Feuil1!$C$1:$BL$10,5,FALSE)","v":36},{"$f":"T150-HLOOKUP(X150,Feuil1!$C$1:$BL$10,6,FALSE)","v":26},{"$f":"T150-HLOOKUP(X150,Feuil1!$C$1:$BL$10,7,FALSE)","v":16},{"$f":"T150-HLOOKUP(X150,Feuil1!$C$1:$BL$10,8,FALSE)","v":1},{"$f":"T150-HLOOKUP(X150,Feuil1!$C$1:$BL$10,9,FALSE)","v":-14},{"$f":"T150-HLOOKUP(X150,Feuil1!$C$1:$BL$10,10,FALSE)","v":-884},null,null,null,null,null,null,"INTB +"]
["F",null,null,null,null,null,null,2000,58,null,null,52,null,null,52,64,null,null,64,116,null,"INTB +",1,{"$f":"IF(I151=\"\",\"\",IF(A151=\"H\",IF(OR(H151=\"SEN\",H151<1997),VLOOKUP(I151,Feuil1!$A$11:$G$29,6),IF(AND(H151>1996,H151<2000),VLOOKUP(I151,Feuil1!$A$11:$G$29,5),IF(AND(H151>1999,H151<2002),VLOOKUP(I151,Feuil1!$A$11:$G$29,4),IF(AND(H151>2001,H151<2004),VLOOKUP(I151,Feuil1!$A$11:$G$29,3),VLOOKUP(I151,Feuil1!$A$11:$G$29,2))))),IF(OR(H151=\"SEN\",H151<1997),VLOOKUP(I151,Feuil1!$G$11:$L$25,6),IF(AND(H151>1996,H151<2000),VLOOKUP(I151,Feuil1!$G$11:$L$25,5),IF(AND(H151>1999,H151<2002),VLOOKUP(I151,Feuil1!$G$11:$L$25,4),IF(AND(H151>2001,H151<2004),VLOOKUP(I151,Feuil1!$G$11:$L$25,3),VLOOKUP(I151,Feuil1!$G$11:$L$25,2)))))))","v":"FC2 58"},163.31369874863211,null," ",{"$f":"T151-HLOOKUP(X151,Feuil1!$C$1:$BL$10,2,FALSE)","v":66},{"$f":"T151-HLOOKUP(X151,Feuil1!$C$1:$BL$10,3,FALSE)","v":56},{"$f":"T151-HLOOKUP(X151,Feuil1!$C$1:$BL$10,4,FALSE)","v":46},{"$f":"T151-HLOOKUP(X151,Feuil1!$C$1:$BL$10,5,FALSE)","v":36},{"$f":"T151-HLOOKUP(X151,Feuil1!$C$1:$BL$10,6,FALSE)","v":26},{"$f":"T151-HLOOKUP(X151,Feuil1!$C$1:$BL$10,7,FALSE)","v":16},{"$f":"T151-HLOOKUP(X151,Feuil1!$C$1:$BL$10,8,FALSE)","v":1},{"$f":"T151-HLOOKUP(X151,Feuil1!$C$1:$BL$10,9,FALSE)","v":-14},{"$f":"T151-HLOOKUP(X151,Feuil1!$C$1:$BL$10,10,FALSE)","v":-884},null,null,null,null,null,null,"INTB +"]
["F",null,null,null,null,null,null,2000,58,null,null,52,null,null,52,64,null,null,64,116,null,"INTB +",1,{"$f":"IF(I152=\"\",\"\",IF(A152=\"H\",IF(OR(H152=\"SEN\",H152<1997),VLOOKUP(I152,Feuil1!$A$11:$G$29,6),IF(AND(H152>1996,H152<2000),VLOOKUP(I152,Feuil1!$A$11:$G$29,5),IF(AND(H152>1999,H152<2002),VLOOKUP(I152,Feuil1!$A$11:$G$29,4),IF(AND(H152>2001,H152<2004),VLOOKUP(I152,Feuil1!$A$11:$G$29,3),VLOOKUP(I152,Feuil1!$A$11:$G$29,2))))),IF(OR(H152=\"SEN\",H152<1997),VLOOKUP(I152,Feuil1!$G$11:$L$25,6),IF(AND(H152>1996,H152<2000),VLOOKUP(I152,Feuil1!$G$11:$L$25,5),IF(AND(H152>1999,H152<2002),VLOOKUP(I152,Feuil1!$G$11:$L$25,4),IF(AND(H152>2001,H152<2004),VLOOKUP(I152,Feuil1!$G$11:$L$25,3),VLOOKUP(I152,Feuil1!$G$11:$L$25,2)))))))","v":"FC2 58"},163.31369874863211,null," ",{"$f":"T152-HLOOKUP(X152,Feuil1!$C$1:$BL$10,2,FALSE)","v":66},{"$f":"T152-HLOOKUP(X152,Feuil1!$C$1:$BL$10,3,FALSE)","v":56},{"$f":"T152-HLOOKUP(X152,Feuil1!$C$1:$BL$10,4,FALSE)","v":46},{"$f":"T152-HLOOKUP(X152,Feuil1!$C$1:$BL$10,5,FALSE)","v":36},{"$f":"T152-HLOOKUP(X152,Feuil1!$C$1:$BL$10,6,FALSE)","v":26},{"$f":"T152-HLOOKUP(X152,Feuil1!$C$1:$BL$10,7,FALSE)","v":16},{"$f":"T152-HLOOKUP(X152,Feuil1!$C$1:$BL$10,8,FALSE)","v":1},{"$f":"T152-HLOOKUP(X152,Feuil1!$C$1:$BL$10,9,FALSE)","v":-14},{"$f":"T152-HLOOKUP(X152,Feuil1!$C$1:$BL$10,10,FALSE)","v":-884},null,null,null,null,null,null,"INTB +"]
["F",null,null,null,null,null,null,2000,58,null,null,52,null,null,52,64,null,null,64,116,null,"INTB +",1,{"$f":"IF(I153=\"\",\"\",IF(A153=\"H\",IF(OR(H153=\"SEN\",H153<1997),VLOOKUP(I153,Feuil1!$A$11:$G$29,6),IF(AND(H153>1996,H153<2000),VLOOKUP(I153,Feuil1!$A$11:$G$29,5),IF(AND(H153>1999,H153<2002),VLOOKUP(I153,Feuil1!$A$11:$G$29,4),IF(AND(H153>2001,H153<2004),VLOOKUP(I153,Feuil1!$A$11:$G$29,3),VLOOKUP(I153,Feuil1!$A$11:$G$29,2))))),IF(OR(H153=\"SEN\",H153<1997),VLOOKUP(I153,Feuil1!$G$11:$L$25,6),IF(AND(H153>1996,H153<2000),VLOOKUP(I153,Feuil1!$G$11:$L$25,5),IF(AND(H153>1999,H153<2002),VLOOKUP(I153,Feuil1!$G$11:$L$25,4),IF(AND(H153>2001,H153<2004),VLOOKUP(I153,Feuil1!$G$11:$L$25,3),VLOOKUP(I153,Feuil1!$G$11:$L$25,2)))))))","v":"FC2 58"},163.31369874863211,null," ",{"$f":"T153-HLOOKUP(X153,Feuil1!$C$1:$BL$10,2,FALSE)","v":66},{"$f":"T153-HLOOKUP(X153,Feuil1!$C$1:$BL$10,3,FALSE)","v":56},{"$f":"T153-HLOOKUP(X153,Feuil1!$C$1:$BL$10,4,FALSE)","v":46},{"$f":"T153-HLOOKUP(X153,Feuil1!$C$1:$BL$10,5,FALSE)","v":36},{"$f":"T153-HLOOKUP(X153,Feuil1!$C$1:$BL$10,6,FALSE)","v":26},{"$f":"T153-HLOOKUP(X153,Feuil1!$C$1:$BL$10,7,FALSE)","v":16},{"$f":"T153-HLOOKUP(X153,Feuil1!$C$1:$BL$10,8,FALSE)","v":1},{"$f":"T153-HLOOKUP(X153,Feuil1!$C$1:$BL$10,9,FALSE)","v":-14},{"$f":"T153-HLOOKUP(X153,Feuil1!$C$1:$BL$10,10,FALSE)","v":-884},null,null,null,null,null,null,"INTB +"]
["F",null,null,null,null,null,null,2000,58,null,null,52,null,null,52,64,null,null,64,116,null,"INTB +",1,{"$f":"IF(I154=\"\",\"\",IF(A154=\"H\",IF(OR(H154=\"SEN\",H154<1997),VLOOKUP(I154,Feuil1!$A$11:$G$29,6),IF(AND(H154>1996,H154<2000),VLOOKUP(I154,Feuil1!$A$11:$G$29,5),IF(AND(H154>1999,H154<2002),VLOOKUP(I154,Feuil1!$A$11:$G$29,4),IF(AND(H154>2001,H154<2004),VLOOKUP(I154,Feuil1!$A$11:$G$29,3),VLOOKUP(I154,Feuil1!$A$11:$G$29,2))))),IF(OR(H154=\"SEN\",H154<1997),VLOOKUP(I154,Feuil1!$G$11:$L$25,6),IF(AND(H154>1996,H154<2000),VLOOKUP(I154,Feuil1!$G$11:$L$25,5),IF(AND(H154>1999,H154<2002),VLOOKUP(I154,Feuil1!$G$11:$L$25,4),IF(AND(H154>2001,H154<2004),VLOOKUP(I154,Feuil1!$G$11:$L$25,3),VLOOKUP(I154,Feuil1!$G$11:$L$25,2)))))))","v":"FC2 58"},163.31369874863211,null," ",{"$f":"T154-HLOOKUP(X154,Feuil1!$C$1:$BL$10,2,FALSE)","v":66},{"$f":"T154-HLOOKUP(X154,Feuil1!$C$1:$BL$10,3,FALSE)","v":56},{"$f":"T154-HLOOKUP(X154,Feuil1!$C$1:$BL$10,4,FALSE)","v":46},{"$f":"T154-HLOOKUP(X154,Feuil1!$C$1:$BL$10,5,FALSE)","v":36},{"$f":"T154-HLOOKUP(X154,Feuil1!$C$1:$BL$10,6,FALSE)","v":26},{"$f":"T154-HLOOKUP(X154,Feuil1!$C$1:$BL$10,7,FALSE)","v":16},{"$f":"T154-HLOOKUP(X154,Feuil1!$C$1:$BL$10,8,FALSE)","v":1},{"$f":"T154-HLOOKUP(X154,Feuil1!$C$1:$BL$10,9,FALSE)","v":-14},{"$f":"T154-HLOOKUP(X154,Feuil1!$C$1:$BL$10,10,FALSE)","v":-884},null,null,null,null,null,null,"INTB +"]
["F",null,null,null,null,null,null,2000,58,null,null,52,null,null,52,64,null,null,64,116,null,"INTB +",1,{"$f":"IF(I155=\"\",\"\",IF(A155=\"H\",IF(OR(H155=\"SEN\",H155<1997),VLOOKUP(I155,Feuil1!$A$11:$G$29,6),IF(AND(H155>1996,H155<2000),VLOOKUP(I155,Feuil1!$A$11:$G$29,5),IF(AND(H155>1999,H155<2002),VLOOKUP(I155,Feuil1!$A$11:$G$29,4),IF(AND(H155>2001,H155<2004),VLOOKUP(I155,Feuil1!$A$11:$G$29,3),VLOOKUP(I155,Feuil1!$A$11:$G$29,2))))),IF(OR(H155=\"SEN\",H155<1997),VLOOKUP(I155,Feuil1!$G$11:$L$25,6),IF(AND(H155>1996,H155<2000),VLOOKUP(I155,Feuil1!$G$11:$L$25,5),IF(AND(H155>1999,H155<2002),VLOOKUP(I155,Feuil1!$G$11:$L$25,4),IF(AND(H155>2001,H155<2004),VLOOKUP(I155,Feuil1!$G$11:$L$25,3),VLOOKUP(I155,Feuil1!$G$11:$L$25,2)))))))","v":"FC2 58"},163.31369874863211,null," ",{"$f":"T155-HLOOKUP(X155,Feuil1!$C$1:$BL$10,2,FALSE)","v":66},{"$f":"T155-HLOOKUP(X155,Feuil1!$C$1:$BL$10,3,FALSE)","v":56},{"$f":"T155-HLOOKUP(X155,Feuil1!$C$1:$BL$10,4,FALSE)","v":46},{"$f":"T155-HLOOKUP(X155,Feuil1!$C$1:$BL$10,5,FALSE)","v":36},{"$f":"T155-HLOOKUP(X155,Feuil1!$C$1:$BL$10,6,FALSE)","v":26},{"$f":"T155-HLOOKUP(X155,Feuil1!$C$1:$BL$10,7,FALSE)","v":16},{"$f":"T155-HLOOKUP(X155,Feuil1!$C$1:$BL$10,8,FALSE)","v":1},{"$f":"T155-HLOOKUP(X155,Feuil1!$C$1:$BL$10,9,FALSE)","v":-14},{"$f":"T155-HLOOKUP(X155,Feuil1!$C$1:$BL$10,10,FALSE)","v":-884},null,null,null,null,null,null,"INTB +"]
["F",null,null,null,null,null,null,2000,58,null,null,52,null,null,52,64,null,null,64,116,null,"INTB +",1,{"$f":"IF(I156=\"\",\"\",IF(A156=\"H\",IF(OR(H156=\"SEN\",H156<1997),VLOOKUP(I156,Feuil1!$A$11:$G$29,6),IF(AND(H156>1996,H156<2000),VLOOKUP(I156,Feuil1!$A$11:$G$29,5),IF(AND(H156>1999,H156<2002),VLOOKUP(I156,Feuil1!$A$11:$G$29,4),IF(AND(H156>2001,H156<2004),VLOOKUP(I156,Feuil1!$A$11:$G$29,3),VLOOKUP(I156,Feuil1!$A$11:$G$29,2))))),IF(OR(H156=\"SEN\",H156<1997),VLOOKUP(I156,Feuil1!$G$11:$L$25,6),IF(AND(H156>1996,H156<2000),VLOOKUP(I156,Feuil1!$G$11:$L$25,5),IF(AND(H156>1999,H156<2002),VLOOKUP(I156,Feuil1!$G$11:$L$25,4),IF(AND(H156>2001,H156<2004),VLOOKUP(I156,Feuil1!$G$11:$L$25,3),VLOOKUP(I156,Feuil1!$G$11:$L$25,2)))))))","v":"FC2 58"},163.31369874863211,null," ",{"$f":"T156-HLOOKUP(X156,Feuil1!$C$1:$BL$10,2,FALSE)","v":66},{"$f":"T156-HLOOKUP(X156,Feuil1!$C$1:$BL$10,3,FALSE)","v":56},{"$f":"T156-HLOOKUP(X156,Feuil1!$C$1:$BL$10,4,FALSE)","v":46},{"$f":"T156-HLOOKUP(X156,Feuil1!$C$1:$BL$10,5,FALSE)","v":36},{"$f":"T156-HLOOKUP(X156,Feuil1!$C$1:$BL$10,6,FALSE)","v":26},{"$f":"T156-HLOOKUP(X156,Feuil1!$C$1:$BL$10,7,FALSE)","v":16},{"$f":"T156-HLOOKUP(X156,Feuil1!$C$1:$BL$10,8,FALSE)","v":1},{"$f":"T156-HLOOKUP(X156,Feuil1!$C$1:$BL$10,9,FALSE)","v":-14},{"$f":"T156-HLOOKUP(X156,Feuil1!$C$1:$BL$10,10,FALSE)","v":-884},null,null,null,null,null,null,"INTB +"]
["F",null,null,null,null,null,null,2000,58,null,null,52,null,null,52,64,null,null,64,116,null,"INTB +",1,{"$f":"IF(I157=\"\",\"\",IF(A157=\"H\",IF(OR(H157=\"SEN\",H157<1997),VLOOKUP(I157,Feuil1!$A$11:$G$29,6),IF(AND(H157>1996,H157<2000),VLOOKUP(I157,Feuil1!$A$11:$G$29,5),IF(AND(H157>1999,H157<2002),VLOOKUP(I157,Feuil1!$A$11:$G$29,4),IF(AND(H157>2001,H157<2004),VLOOKUP(I157,Feuil1!$A$11:$G$29,3),VLOOKUP(I157,Feuil1!$A$11:$G$29,2))))),IF(OR(H157=\"SEN\",H157<1997),VLOOKUP(I157,Feuil1!$G$11:$L$25,6),IF(AND(H157>1996,H157<2000),VLOOKUP(I157,Feuil1!$G$11:$L$25,5),IF(AND(H157>1999,H157<2002),VLOOKUP(I157,Feuil1!$G$11:$L$25,4),IF(AND(H157>2001,H157<2004),VLOOKUP(I157,Feuil1!$G$11:$L$25,3),VLOOKUP(I157,Feuil1!$G$11:$L$25,2)))))))","v":"FC2 58"},163.31369874863211,null," ",{"$f":"T157-HLOOKUP(X157,Feuil1!$C$1:$BL$10,2,FALSE)","v":66},{"$f":"T157-HLOOKUP(X157,Feuil1!$C$1:$BL$10,3,FALSE)","v":56},{"$f":"T157-HLOOKUP(X157,Feuil1!$C$1:$BL$10,4,FALSE)","v":46},{"$f":"T157-HLOOKUP(X157,Feuil1!$C$1:$BL$10,5,FALSE)","v":36},{"$f":"T157-HLOOKUP(X157,Feuil1!$C$1:$BL$10,6,FALSE)","v":26},{"$f":"T157-HLOOKUP(X157,Feuil1!$C$1:$BL$10,7,FALSE)","v":16},{"$f":"T157-HLOOKUP(X157,Feuil1!$C$1:$BL$10,8,FALSE)","v":1},{"$f":"T157-HLOOKUP(X157,Feuil1!$C$1:$BL$10,9,FALSE)","v":-14},{"$f":"T157-HLOOKUP(X157,Feuil1!$C$1:$BL$10,10,FALSE)","v":-884},null,null,null,null,null,null,"INTB +"]
["F",null,null,null,null,null,null,2000,58,null,null,52,null,null,52,64,null,null,64,116,null,"INTB +",1,{"$f":"IF(I158=\"\",\"\",IF(A158=\"H\",IF(OR(H158=\"SEN\",H158<1997),VLOOKUP(I158,Feuil1!$A$11:$G$29,6),IF(AND(H158>1996,H158<2000),VLOOKUP(I158,Feuil1!$A$11:$G$29,5),IF(AND(H158>1999,H158<2002),VLOOKUP(I158,Feuil1!$A$11:$G$29,4),IF(AND(H158>2001,H158<2004),VLOOKUP(I158,Feuil1!$A$11:$G$29,3),VLOOKUP(I158,Feuil1!$A$11:$G$29,2))))),IF(OR(H158=\"SEN\",H158<1997),VLOOKUP(I158,Feuil1!$G$11:$L$25,6),IF(AND(H158>1996,H158<2000),VLOOKUP(I158,Feuil1!$G$11:$L$25,5),IF(AND(H158>1999,H158<2002),VLOOKUP(I158,Feuil1!$G$11:$L$25,4),IF(AND(H158>2001,H158<2004),VLOOKUP(I158,Feuil1!$G$11:$L$25,3),VLOOKUP(I158,Feuil1!$G$11:$L$25,2)))))))","v":"FC2 58"},163.31369874863211,null," ",{"$f":"T158-HLOOKUP(X158,Feuil1!$C$1:$BL$10,2,FALSE)","v":66},{"$f":"T158-HLOOKUP(X158,Feuil1!$C$1:$BL$10,3,FALSE)","v":56},{"$f":"T158-HLOOKUP(X158,Feuil1!$C$1:$BL$10,4,FALSE)","v":46},{"$f":"T158-HLOOKUP(X158,Feuil1!$C$1:$BL$10,5,FALSE)","v":36},{"$f":"T158-HLOOKUP(X158,Feuil1!$C$1:$BL$10,6,FALSE)","v":26},{"$f":"T158-HLOOKUP(X158,Feuil1!$C$1:$BL$10,7,FALSE)","v":16},{"$f":"T158-HLOOKUP(X158,Feuil1!$C$1:$BL$10,8,FALSE)","v":1},{"$f":"T158-HLOOKUP(X158,Feuil1!$C$1:$BL$10,9,FALSE)","v":-14},{"$f":"T158-HLOOKUP(X158,Feuil1!$C$1:$BL$10,10,FALSE)","v":-884},null,null,null,null,null,null,"INTB +"]
["F",null,null,null,null,null,null,2000,58,null,null,52,null,null,52,64,null,null,64,116,null,"INTB +",1,{"$f":"IF(I159=\"\",\"\",IF(A159=\"H\",IF(OR(H159=\"SEN\",H159<1997),VLOOKUP(I159,Feuil1!$A$11:$G$29,6),IF(AND(H159>1996,H159<2000),VLOOKUP(I159,Feuil1!$A$11:$G$29,5),IF(AND(H159>1999,H159<2002),VLOOKUP(I159,Feuil1!$A$11:$G$29,4),IF(AND(H159>2001,H159<2004),VLOOKUP(I159,Feuil1!$A$11:$G$29,3),VLOOKUP(I159,Feuil1!$A$11:$G$29,2))))),IF(OR(H159=\"SEN\",H159<1997),VLOOKUP(I159,Feuil1!$G$11:$L$25,6),IF(AND(H159>1996,H159<2000),VLOOKUP(I159,Feuil1!$G$11:$L$25,5),IF(AND(H159>1999,H159<2002),VLOOKUP(I159,Feuil1!$G$11:$L$25,4),IF(AND(H159>2001,H159<2004),VLOOKUP(I159,Feuil1!$G$11:$L$25,3),VLOOKUP(I159,Feuil1!$G$11:$L$25,2)))))))","v":"FC2 58"},163.31369874863211,null," ",{"$f":"T159-HLOOKUP(X159,Feuil1!$C$1:$BL$10,2,FALSE)","v":66},{"$f":"T159-HLOOKUP(X159,Feuil1!$C$1:$BL$10,3,FALSE)","v":56},{"$f":"T159-HLOOKUP(X159,Feuil1!$C$1:$BL$10,4,FALSE)","v":46},{"$f":"T159-HLOOKUP(X159,Feuil1!$C$1:$BL$10,5,FALSE)","v":36},{"$f":"T159-HLOOKUP(X159,Feuil1!$C$1:$BL$10,6,FALSE)","v":26},{"$f":"T159-HLOOKUP(X159,Feuil1!$C$1:$BL$10,7,FALSE)","v":16},{"$f":"T159-HLOOKUP(X159,Feuil1!$C$1:$BL$10,8,FALSE)","v":1},{"$f":"T159-HLOOKUP(X159,Feuil1!$C$1:$BL$10,9,FALSE)","v":-14},{"$f":"T159-HLOOKUP(X159,Feuil1!$C$1:$BL$10,10,FALSE)","v":-884},null,null,null,null,null,null,"INTB +"]
["F",null,null,null,null,null,null,2000,58,null,null,52,null,null,52,64,null,null,64,116,null,"INTB +",1,{"$f":"IF(I160=\"\",\"\",IF(A160=\"H\",IF(OR(H160=\"SEN\",H160<1997),VLOOKUP(I160,Feuil1!$A$11:$G$29,6),IF(AND(H160>1996,H160<2000),VLOOKUP(I160,Feuil1!$A$11:$G$29,5),IF(AND(H160>1999,H160<2002),VLOOKUP(I160,Feuil1!$A$11:$G$29,4),IF(AND(H160>2001,H160<2004),VLOOKUP(I160,Feuil1!$A$11:$G$29,3),VLOOKUP(I160,Feuil1!$A$11:$G$29,2))))),IF(OR(H160=\"SEN\",H160<1997),VLOOKUP(I160,Feuil1!$G$11:$L$25,6),IF(AND(H160>1996,H160<2000),VLOOKUP(I160,Feuil1!$G$11:$L$25,5),IF(AND(H160>1999,H160<2002),VLOOKUP(I160,Feuil1!$G$11:$L$25,4),IF(AND(H160>2001,H160<2004),VLOOKUP(I160,Feuil1!$G$11:$L$25,3),VLOOKUP(I160,Feuil1!$G$11:$L$25,2)))))))","v":"FC2 58"},163.31369874863211,null," ",{"$f":"T160-HLOOKUP(X160,Feuil1!$C$1:$BL$10,2,FALSE)","v":66},{"$f":"T160-HLOOKUP(X160,Feuil1!$C$1:$BL$10,3,FALSE)","v":56},{"$f":"T160-HLOOKUP(X160,Feuil1!$C$1:$BL$10,4,FALSE)","v":46},{"$f":"T160-HLOOKUP(X160,Feuil1!$C$1:$BL$10,5,FALSE)","v":36},{"$f":"T160-HLOOKUP(X160,Feuil1!$C$1:$BL$10,6,FALSE)","v":26},{"$f":"T160-HLOOKUP(X160,Feuil1!$C$1:$BL$10,7,FALSE)","v":16},{"$f":"T160-HLOOKUP(X160,Feuil1!$C$1:$BL$10,8,FALSE)","v":1},{"$f":"T160-HLOOKUP(X160,Feuil1!$C$1:$BL$10,9,FALSE)","v":-14},{"$f":"T160-HLOOKUP(X160,Feuil1!$C$1:$BL$10,10,FALSE)","v":-884},null,null,null,null,null,null,"INTB +"]
["F",null,null,null,null,null,null,2000,58,null,null,52,null,null,52,64,null,null,64,116,null,"INTB +",1,{"$f":"IF(I161=\"\",\"\",IF(A161=\"H\",IF(OR(H161=\"SEN\",H161<1997),VLOOKUP(I161,Feuil1!$A$11:$G$29,6),IF(AND(H161>1996,H161<2000),VLOOKUP(I161,Feuil1!$A$11:$G$29,5),IF(AND(H161>1999,H161<2002),VLOOKUP(I161,Feuil1!$A$11:$G$29,4),IF(AND(H161>2001,H161<2004),VLOOKUP(I161,Feuil1!$A$11:$G$29,3),VLOOKUP(I161,Feuil1!$A$11:$G$29,2))))),IF(OR(H161=\"SEN\",H161<1997),VLOOKUP(I161,Feuil1!$G$11:$L$25,6),IF(AND(H161>1996,H161<2000),VLOOKUP(I161,Feuil1!$G$11:$L$25,5),IF(AND(H161>1999,H161<2002),VLOOKUP(I161,Feuil1!$G$11:$L$25,4),IF(AND(H161>2001,H161<2004),VLOOKUP(I161,Feuil1!$G$11:$L$25,3),VLOOKUP(I161,Feuil1!$G$11:$L$25,2)))))))","v":"FC2 58"},163.31369874863211,null," ",{"$f":"T161-HLOOKUP(X161,Feuil1!$C$1:$BL$10,2,FALSE)","v":66},{"$f":"T161-HLOOKUP(X161,Feuil1!$C$1:$BL$10,3,FALSE)","v":56},{"$f":"T161-HLOOKUP(X161,Feuil1!$C$1:$BL$10,4,FALSE)","v":46},{"$f":"T161-HLOOKUP(X161,Feuil1!$C$1:$BL$10,5,FALSE)","v":36},{"$f":"T161-HLOOKUP(X161,Feuil1!$C$1:$BL$10,6,FALSE)","v":26},{"$f":"T161-HLOOKUP(X161,Feuil1!$C$1:$BL$10,7,FALSE)","v":16},{"$f":"T161-HLOOKUP(X161,Feuil1!$C$1:$BL$10,8,FALSE)","v":1},{"$f":"T161-HLOOKUP(X161,Feuil1!$C$1:$BL$10,9,FALSE)","v":-14},{"$f":"T161-HLOOKUP(X161,Feuil1!$C$1:$BL$10,10,FALSE)","v":-884},null,null,null,null,null,null,"INTB +"]
["F",null,null,null,null,null,null,2000,58,null,null,52,null,null,52,64,null,null,64,116,null,"INTB +",1,{"$f":"IF(I162=\"\",\"\",IF(A162=\"H\",IF(OR(H162=\"SEN\",H162<1997),VLOOKUP(I162,Feuil1!$A$11:$G$29,6),IF(AND(H162>1996,H162<2000),VLOOKUP(I162,Feuil1!$A$11:$G$29,5),IF(AND(H162>1999,H162<2002),VLOOKUP(I162,Feuil1!$A$11:$G$29,4),IF(AND(H162>2001,H162<2004),VLOOKUP(I162,Feuil1!$A$11:$G$29,3),VLOOKUP(I162,Feuil1!$A$11:$G$29,2))))),IF(OR(H162=\"SEN\",H162<1997),VLOOKUP(I162,Feuil1!$G$11:$L$25,6),IF(AND(H162>1996,H162<2000),VLOOKUP(I162,Feuil1!$G$11:$L$25,5),IF(AND(H162>1999,H162<2002),VLOOKUP(I162,Feuil1!$G$11:$L$25,4),IF(AND(H162>2001,H162<2004),VLOOKUP(I162,Feuil1!$G$11:$L$25,3),VLOOKUP(I162,Feuil1!$G$11:$L$25,2)))))))","v":"FC2 58"},163.31369874863211,null," ",{"$f":"T162-HLOOKUP(X162,Feuil1!$C$1:$BL$10,2,FALSE)","v":66},{"$f":"T162-HLOOKUP(X162,Feuil1!$C$1:$BL$10,3,FALSE)","v":56},{"$f":"T162-HLOOKUP(X162,Feuil1!$C$1:$BL$10,4,FALSE)","v":46},{"$f":"T162-HLOOKUP(X162,Feuil1!$C$1:$BL$10,5,FALSE)","v":36},{"$f":"T162-HLOOKUP(X162,Feuil1!$C$1:$BL$10,6,FALSE)","v":26},{"$f":"T162-HLOOKUP(X162,Feuil1!$C$1:$BL$10,7,FALSE)","v":16},{"$f":"T162-HLOOKUP(X162,Feuil1!$C$1:$BL$10,8,FALSE)","v":1},{"$f":"T162-HLOOKUP(X162,Feuil1!$C$1:$BL$10,9,FALSE)","v":-14},{"$f":"T162-HLOOKUP(X162,Feuil1!$C$1:$BL$10,10,FALSE)","v":-884},null,null,null,null,null,null,"INTB +"]
["F",null,null,null,null,null,null,2000,58,null,null,52,null,null,52,64,null,null,64,116,null,"INTB +",1,{"$f":"IF(I163=\"\",\"\",IF(A163=\"H\",IF(OR(H163=\"SEN\",H163<1997),VLOOKUP(I163,Feuil1!$A$11:$G$29,6),IF(AND(H163>1996,H163<2000),VLOOKUP(I163,Feuil1!$A$11:$G$29,5),IF(AND(H163>1999,H163<2002),VLOOKUP(I163,Feuil1!$A$11:$G$29,4),IF(AND(H163>2001,H163<2004),VLOOKUP(I163,Feuil1!$A$11:$G$29,3),VLOOKUP(I163,Feuil1!$A$11:$G$29,2))))),IF(OR(H163=\"SEN\",H163<1997),VLOOKUP(I163,Feuil1!$G$11:$L$25,6),IF(AND(H163>1996,H163<2000),VLOOKUP(I163,Feuil1!$G$11:$L$25,5),IF(AND(H163>1999,H163<2002),VLOOKUP(I163,Feuil1!$G$11:$L$25,4),IF(AND(H163>2001,H163<2004),VLOOKUP(I163,Feuil1!$G$11:$L$25,3),VLOOKUP(I163,Feuil1!$G$11:$L$25,2)))))))","v":"FC2 58"},163.31369874863211,null," ",{"$f":"T163-HLOOKUP(X163,Feuil1!$C$1:$BL$10,2,FALSE)","v":66},{"$f":"T163-HLOOKUP(X163,Feuil1!$C$1:$BL$10,3,FALSE)","v":56},{"$f":"T163-HLOOKUP(X163,Feuil1!$C$1:$BL$10,4,FALSE)","v":46},{"$f":"T163-HLOOKUP(X163,Feuil1!$C$1:$BL$10,5,FALSE)","v":36},{"$f":"T163-HLOOKUP(X163,Feuil1!$C$1:$BL$10,6,FALSE)","v":26},{"$f":"T163-HLOOKUP(X163,Feuil1!$C$1:$BL$10,7,FALSE)","v":16},{"$f":"T163-HLOOKUP(X163,Feuil1!$C$1:$BL$10,8,FALSE)","v":1},{"$f":"T163-HLOOKUP(X163,Feuil1!$C$1:$BL$10,9,FALSE)","v":-14},{"$f":"T163-HLOOKUP(X163,Feuil1!$C$1:$BL$10,10,FALSE)","v":-884},null,null,null,null,null,null,"INTB +"]
["F",null,null,null,null,null,null,2000,58,null,null,52,null,null,52,64,null,null,64,116,null,"INTB +",1,{"$f":"IF(I164=\"\",\"\",IF(A164=\"H\",IF(OR(H164=\"SEN\",H164<1997),VLOOKUP(I164,Feuil1!$A$11:$G$29,6),IF(AND(H164>1996,H164<2000),VLOOKUP(I164,Feuil1!$A$11:$G$29,5),IF(AND(H164>1999,H164<2002),VLOOKUP(I164,Feuil1!$A$11:$G$29,4),IF(AND(H164>2001,H164<2004),VLOOKUP(I164,Feuil1!$A$11:$G$29,3),VLOOKUP(I164,Feuil1!$A$11:$G$29,2))))),IF(OR(H164=\"SEN\",H164<1997),VLOOKUP(I164,Feuil1!$G$11:$L$25,6),IF(AND(H164>1996,H164<2000),VLOOKUP(I164,Feuil1!$G$11:$L$25,5),IF(AND(H164>1999,H164<2002),VLOOKUP(I164,Feuil1!$G$11:$L$25,4),IF(AND(H164>2001,H164<2004),VLOOKUP(I164,Feuil1!$G$11:$L$25,3),VLOOKUP(I164,Feuil1!$G$11:$L$25,2)))))))","v":"FC2 58"},163.31369874863211,null," ",{"$f":"T164-HLOOKUP(X164,Feuil1!$C$1:$BL$10,2,FALSE)","v":66},{"$f":"T164-HLOOKUP(X164,Feuil1!$C$1:$BL$10,3,FALSE)","v":56},{"$f":"T164-HLOOKUP(X164,Feuil1!$C$1:$BL$10,4,FALSE)","v":46},{"$f":"T164-HLOOKUP(X164,Feuil1!$C$1:$BL$10,5,FALSE)","v":36},{"$f":"T164-HLOOKUP(X164,Feuil1!$C$1:$BL$10,6,FALSE)","v":26},{"$f":"T164-HLOOKUP(X164,Feuil1!$C$1:$BL$10,7,FALSE)","v":16},{"$f":"T164-HLOOKUP(X164,Feuil1!$C$1:$BL$10,8,FALSE)","v":1},{"$f":"T164-HLOOKUP(X164,Feuil1!$C$1:$BL$10,9,FALSE)","v":-14},{"$f":"T164-HLOOKUP(X164,Feuil1!$C$1:$BL$10,10,FALSE)","v":-884},null,null,null,null,null,null,"INTB +"]
["F",null,null,null,null,null,null,2000,58,null,null,52,null,null,52,64,null,null,64,116,null,"INTB +",1,{"$f":"IF(I165=\"\",\"\",IF(A165=\"H\",IF(OR(H165=\"SEN\",H165<1997),VLOOKUP(I165,Feuil1!$A$11:$G$29,6),IF(AND(H165>1996,H165<2000),VLOOKUP(I165,Feuil1!$A$11:$G$29,5),IF(AND(H165>1999,H165<2002),VLOOKUP(I165,Feuil1!$A$11:$G$29,4),IF(AND(H165>2001,H165<2004),VLOOKUP(I165,Feuil1!$A$11:$G$29,3),VLOOKUP(I165,Feuil1!$A$11:$G$29,2))))),IF(OR(H165=\"SEN\",H165<1997),VLOOKUP(I165,Feuil1!$G$11:$L$25,6),IF(AND(H165>1996,H165<2000),VLOOKUP(I165,Feuil1!$G$11:$L$25,5),IF(AND(H165>1999,H165<2002),VLOOKUP(I165,Feuil1!$G$11:$L$25,4),IF(AND(H165>2001,H165<2004),VLOOKUP(I165,Feuil1!$G$11:$L$25,3),VLOOKUP(I165,Feuil1!$G$11:$L$25,2)))))))","v":"FC2 58"},163.31369874863211,null," ",{"$f":"T165-HLOOKUP(X165,Feuil1!$C$1:$BL$10,2,FALSE)","v":66},{"$f":"T165-HLOOKUP(X165,Feuil1!$C$1:$BL$10,3,FALSE)","v":56},{"$f":"T165-HLOOKUP(X165,Feuil1!$C$1:$BL$10,4,FALSE)","v":46},{"$f":"T165-HLOOKUP(X165,Feuil1!$C$1:$BL$10,5,FALSE)","v":36},{"$f":"T165-HLOOKUP(X165,Feuil1!$C$1:$BL$10,6,FALSE)","v":26},{"$f":"T165-HLOOKUP(X165,Feuil1!$C$1:$BL$10,7,FALSE)","v":16},{"$f":"T165-HLOOKUP(X165,Feuil1!$C$1:$BL$10,8,FALSE)","v":1},{"$f":"T165-HLOOKUP(X165,Feuil1!$C$1:$BL$10,9,FALSE)","v":-14},{"$f":"T165-HLOOKUP(X165,Feuil1!$C$1:$BL$10,10,FALSE)","v":-884},null,null,null,null,null,null,"INTB +"]
["F",null,null,null,null,null,null,2000,58,null,null,52,null,null,52,64,null,null,64,116,null,"INTB +",1,{"$f":"IF(I166=\"\",\"\",IF(A166=\"H\",IF(OR(H166=\"SEN\",H166<1997),VLOOKUP(I166,Feuil1!$A$11:$G$29,6),IF(AND(H166>1996,H166<2000),VLOOKUP(I166,Feuil1!$A$11:$G$29,5),IF(AND(H166>1999,H166<2002),VLOOKUP(I166,Feuil1!$A$11:$G$29,4),IF(AND(H166>2001,H166<2004),VLOOKUP(I166,Feuil1!$A$11:$G$29,3),VLOOKUP(I166,Feuil1!$A$11:$G$29,2))))),IF(OR(H166=\"SEN\",H166<1997),VLOOKUP(I166,Feuil1!$G$11:$L$25,6),IF(AND(H166>1996,H166<2000),VLOOKUP(I166,Feuil1!$G$11:$L$25,5),IF(AND(H166>1999,H166<2002),VLOOKUP(I166,Feuil1!$G$11:$L$25,4),IF(AND(H166>2001,H166<2004),VLOOKUP(I166,Feuil1!$G$11:$L$25,3),VLOOKUP(I166,Feuil1!$G$11:$L$25,2)))))))","v":"FC2 58"},163.31369874863211,null," ",{"$f":"T166-HLOOKUP(X166,Feuil1!$C$1:$BL$10,2,FALSE)","v":66},{"$f":"T166-HLOOKUP(X166,Feuil1!$C$1:$BL$10,3,FALSE)","v":56},{"$f":"T166-HLOOKUP(X166,Feuil1!$C$1:$BL$10,4,FALSE)","v":46},{"$f":"T166-HLOOKUP(X166,Feuil1!$C$1:$BL$10,5,FALSE)","v":36},{"$f":"T166-HLOOKUP(X166,Feuil1!$C$1:$BL$10,6,FALSE)","v":26},{"$f":"T166-HLOOKUP(X166,Feuil1!$C$1:$BL$10,7,FALSE)","v":16},{"$f":"T166-HLOOKUP(X166,Feuil1!$C$1:$BL$10,8,FALSE)","v":1},{"$f":"T166-HLOOKUP(X166,Feuil1!$C$1:$BL$10,9,FALSE)","v":-14},{"$f":"T166-HLOOKUP(X166,Feuil1!$C$1:$BL$10,10,FALSE)","v":-884},null,null,null,null,null,null,"INTB +"]
["F",null,null,null,null,null,null,2000,58,null,null,52,null,null,52,64,null,null,64,116,null,"INTB +",1,{"$f":"IF(I167=\"\",\"\",IF(A167=\"H\",IF(OR(H167=\"SEN\",H167<1997),VLOOKUP(I167,Feuil1!$A$11:$G$29,6),IF(AND(H167>1996,H167<2000),VLOOKUP(I167,Feuil1!$A$11:$G$29,5),IF(AND(H167>1999,H167<2002),VLOOKUP(I167,Feuil1!$A$11:$G$29,4),IF(AND(H167>2001,H167<2004),VLOOKUP(I167,Feuil1!$A$11:$G$29,3),VLOOKUP(I167,Feuil1!$A$11:$G$29,2))))),IF(OR(H167=\"SEN\",H167<1997),VLOOKUP(I167,Feuil1!$G$11:$L$25,6),IF(AND(H167>1996,H167<2000),VLOOKUP(I167,Feuil1!$G$11:$L$25,5),IF(AND(H167>1999,H167<2002),VLOOKUP(I167,Feuil1!$G$11:$L$25,4),IF(AND(H167>2001,H167<2004),VLOOKUP(I167,Feuil1!$G$11:$L$25,3),VLOOKUP(I167,Feuil1!$G$11:$L$25,2)))))))","v":"FC2 58"},163.31369874863211,null," ",{"$f":"T167-HLOOKUP(X167,Feuil1!$C$1:$BL$10,2,FALSE)","v":66},{"$f":"T167-HLOOKUP(X167,Feuil1!$C$1:$BL$10,3,FALSE)","v":56},{"$f":"T167-HLOOKUP(X167,Feuil1!$C$1:$BL$10,4,FALSE)","v":46},{"$f":"T167-HLOOKUP(X167,Feuil1!$C$1:$BL$10,5,FALSE)","v":36},{"$f":"T167-HLOOKUP(X167,Feuil1!$C$1:$BL$10,6,FALSE)","v":26},{"$f":"T167-HLOOKUP(X167,Feuil1!$C$1:$BL$10,7,FALSE)","v":16},{"$f":"T167-HLOOKUP(X167,Feuil1!$C$1:$BL$10,8,FALSE)","v":1},{"$f":"T167-HLOOKUP(X167,Feuil1!$C$1:$BL$10,9,FALSE)","v":-14},{"$f":"T167-HLOOKUP(X167,Feuil1!$C$1:$BL$10,10,FALSE)","v":-884},null,null,null,null,null,null,"INTB +"]
["F",null,null,null,null,null,null,2000,58,null,null,52,null,null,52,64,null,null,64,116,null,"INTB +",1,{"$f":"IF(I168=\"\",\"\",IF(A168=\"H\",IF(OR(H168=\"SEN\",H168<1997),VLOOKUP(I168,Feuil1!$A$11:$G$29,6),IF(AND(H168>1996,H168<2000),VLOOKUP(I168,Feuil1!$A$11:$G$29,5),IF(AND(H168>1999,H168<2002),VLOOKUP(I168,Feuil1!$A$11:$G$29,4),IF(AND(H168>2001,H168<2004),VLOOKUP(I168,Feuil1!$A$11:$G$29,3),VLOOKUP(I168,Feuil1!$A$11:$G$29,2))))),IF(OR(H168=\"SEN\",H168<1997),VLOOKUP(I168,Feuil1!$G$11:$L$25,6),IF(AND(H168>1996,H168<2000),VLOOKUP(I168,Feuil1!$G$11:$L$25,5),IF(AND(H168>1999,H168<2002),VLOOKUP(I168,Feuil1!$G$11:$L$25,4),IF(AND(H168>2001,H168<2004),VLOOKUP(I168,Feuil1!$G$11:$L$25,3),VLOOKUP(I168,Feuil1!$G$11:$L$25,2)))))))","v":"FC2 58"},163.31369874863211,null," ",{"$f":"T168-HLOOKUP(X168,Feuil1!$C$1:$BL$10,2,FALSE)","v":66},{"$f":"T168-HLOOKUP(X168,Feuil1!$C$1:$BL$10,3,FALSE)","v":56},{"$f":"T168-HLOOKUP(X168,Feuil1!$C$1:$BL$10,4,FALSE)","v":46},{"$f":"T168-HLOOKUP(X168,Feuil1!$C$1:$BL$10,5,FALSE)","v":36},{"$f":"T168-HLOOKUP(X168,Feuil1!$C$1:$BL$10,6,FALSE)","v":26},{"$f":"T168-HLOOKUP(X168,Feuil1!$C$1:$BL$10,7,FALSE)","v":16},{"$f":"T168-HLOOKUP(X168,Feuil1!$C$1:$BL$10,8,FALSE)","v":1},{"$f":"T168-HLOOKUP(X168,Feuil1!$C$1:$BL$10,9,FALSE)","v":-14},{"$f":"T168-HLOOKUP(X168,Feuil1!$C$1:$BL$10,10,FALSE)","v":-884},null,null,null,null,null,null,"INTB +"]
["F",null,null,null,null,null,null,2000,58,null,null,52,null,null,52,64,null,null,64,116,null,"INTB +",1,{"$f":"IF(I169=\"\",\"\",IF(A169=\"H\",IF(OR(H169=\"SEN\",H169<1997),VLOOKUP(I169,Feuil1!$A$11:$G$29,6),IF(AND(H169>1996,H169<2000),VLOOKUP(I169,Feuil1!$A$11:$G$29,5),IF(AND(H169>1999,H169<2002),VLOOKUP(I169,Feuil1!$A$11:$G$29,4),IF(AND(H169>2001,H169<2004),VLOOKUP(I169,Feuil1!$A$11:$G$29,3),VLOOKUP(I169,Feuil1!$A$11:$G$29,2))))),IF(OR(H169=\"SEN\",H169<1997),VLOOKUP(I169,Feuil1!$G$11:$L$25,6),IF(AND(H169>1996,H169<2000),VLOOKUP(I169,Feuil1!$G$11:$L$25,5),IF(AND(H169>1999,H169<2002),VLOOKUP(I169,Feuil1!$G$11:$L$25,4),IF(AND(H169>2001,H169<2004),VLOOKUP(I169,Feuil1!$G$11:$L$25,3),VLOOKUP(I169,Feuil1!$G$11:$L$25,2)))))))","v":"FC2 58"},163.31369874863211,null," ",{"$f":"T169-HLOOKUP(X169,Feuil1!$C$1:$BL$10,2,FALSE)","v":66},{"$f":"T169-HLOOKUP(X169,Feuil1!$C$1:$BL$10,3,FALSE)","v":56},{"$f":"T169-HLOOKUP(X169,Feuil1!$C$1:$BL$10,4,FALSE)","v":46},{"$f":"T169-HLOOKUP(X169,Feuil1!$C$1:$BL$10,5,FALSE)","v":36},{"$f":"T169-HLOOKUP(X169,Feuil1!$C$1:$BL$10,6,FALSE)","v":26},{"$f":"T169-HLOOKUP(X169,Feuil1!$C$1:$BL$10,7,FALSE)","v":16},{"$f":"T169-HLOOKUP(X169,Feuil1!$C$1:$BL$10,8,FALSE)","v":1},{"$f":"T169-HLOOKUP(X169,Feuil1!$C$1:$BL$10,9,FALSE)","v":-14},{"$f":"T169-HLOOKUP(X169,Feuil1!$C$1:$BL$10,10,FALSE)","v":-884},null,null,null,null,null,null,"INTB +"]
["F",null,null,null,null,null,null,2000,58,null,null,52,null,null,52,64,null,null,64,116,null,"INTB +",1,{"$f":"IF(I170=\"\",\"\",IF(A170=\"H\",IF(OR(H170=\"SEN\",H170<1997),VLOOKUP(I170,Feuil1!$A$11:$G$29,6),IF(AND(H170>1996,H170<2000),VLOOKUP(I170,Feuil1!$A$11:$G$29,5),IF(AND(H170>1999,H170<2002),VLOOKUP(I170,Feuil1!$A$11:$G$29,4),IF(AND(H170>2001,H170<2004),VLOOKUP(I170,Feuil1!$A$11:$G$29,3),VLOOKUP(I170,Feuil1!$A$11:$G$29,2))))),IF(OR(H170=\"SEN\",H170<1997),VLOOKUP(I170,Feuil1!$G$11:$L$25,6),IF(AND(H170>1996,H170<2000),VLOOKUP(I170,Feuil1!$G$11:$L$25,5),IF(AND(H170>1999,H170<2002),VLOOKUP(I170,Feuil1!$G$11:$L$25,4),IF(AND(H170>2001,H170<2004),VLOOKUP(I170,Feuil1!$G$11:$L$25,3),VLOOKUP(I170,Feuil1!$G$11:$L$25,2)))))))","v":"FC2 58"},163.31369874863211,null," ",{"$f":"T170-HLOOKUP(X170,Feuil1!$C$1:$BL$10,2,FALSE)","v":66},{"$f":"T170-HLOOKUP(X170,Feuil1!$C$1:$BL$10,3,FALSE)","v":56},{"$f":"T170-HLOOKUP(X170,Feuil1!$C$1:$BL$10,4,FALSE)","v":46},{"$f":"T170-HLOOKUP(X170,Feuil1!$C$1:$BL$10,5,FALSE)","v":36},{"$f":"T170-HLOOKUP(X170,Feuil1!$C$1:$BL$10,6,FALSE)","v":26},{"$f":"T170-HLOOKUP(X170,Feuil1!$C$1:$BL$10,7,FALSE)","v":16},{"$f":"T170-HLOOKUP(X170,Feuil1!$C$1:$BL$10,8,FALSE)","v":1},{"$f":"T170-HLOOKUP(X170,Feuil1!$C$1:$BL$10,9,FALSE)","v":-14},{"$f":"T170-HLOOKUP(X170,Feuil1!$C$1:$BL$10,10,FALSE)","v":-884},null,null,null,null,null,null,"INTB +"]
["F",null,null,null,null,null,null,2000,58,null,null,52,null,null,52,64,null,null,64,116,null,"INTB +",1,{"$f":"IF(I171=\"\",\"\",IF(A171=\"H\",IF(OR(H171=\"SEN\",H171<1997),VLOOKUP(I171,Feuil1!$A$11:$G$29,6),IF(AND(H171>1996,H171<2000),VLOOKUP(I171,Feuil1!$A$11:$G$29,5),IF(AND(H171>1999,H171<2002),VLOOKUP(I171,Feuil1!$A$11:$G$29,4),IF(AND(H171>2001,H171<2004),VLOOKUP(I171,Feuil1!$A$11:$G$29,3),VLOOKUP(I171,Feuil1!$A$11:$G$29,2))))),IF(OR(H171=\"SEN\",H171<1997),VLOOKUP(I171,Feuil1!$G$11:$L$25,6),IF(AND(H171>1996,H171<2000),VLOOKUP(I171,Feuil1!$G$11:$L$25,5),IF(AND(H171>1999,H171<2002),VLOOKUP(I171,Feuil1!$G$11:$L$25,4),IF(AND(H171>2001,H171<2004),VLOOKUP(I171,Feuil1!$G$11:$L$25,3),VLOOKUP(I171,Feuil1!$G$11:$L$25,2)))))))","v":"FC2 58"},163.31369874863211,null," ",{"$f":"T171-HLOOKUP(X171,Feuil1!$C$1:$BL$10,2,FALSE)","v":66},{"$f":"T171-HLOOKUP(X171,Feuil1!$C$1:$BL$10,3,FALSE)","v":56},{"$f":"T171-HLOOKUP(X171,Feuil1!$C$1:$BL$10,4,FALSE)","v":46},{"$f":"T171-HLOOKUP(X171,Feuil1!$C$1:$BL$10,5,FALSE)","v":36},{"$f":"T171-HLOOKUP(X171,Feuil1!$C$1:$BL$10,6,FALSE)","v":26},{"$f":"T171-HLOOKUP(X171,Feuil1!$C$1:$BL$10,7,FALSE)","v":16},{"$f":"T171-HLOOKUP(X171,Feuil1!$C$1:$BL$10,8,FALSE)","v":1},{"$f":"T171-HLOOKUP(X171,Feuil1!$C$1:$BL$10,9,FALSE)","v":-14},{"$f":"T171-HLOOKUP(X171,Feuil1!$C$1:$BL$10,10,FALSE)","v":-884},null,null,null,null,null,null,"INTB +"]
["F",null,null,null,null,null,null,2000,58,null,null,52,null,null,52,64,null,null,64,116,null,"INTB +",1,{"$f":"IF(I172=\"\",\"\",IF(A172=\"H\",IF(OR(H172=\"SEN\",H172<1997),VLOOKUP(I172,Feuil1!$A$11:$G$29,6),IF(AND(H172>1996,H172<2000),VLOOKUP(I172,Feuil1!$A$11:$G$29,5),IF(AND(H172>1999,H172<2002),VLOOKUP(I172,Feuil1!$A$11:$G$29,4),IF(AND(H172>2001,H172<2004),VLOOKUP(I172,Feuil1!$A$11:$G$29,3),VLOOKUP(I172,Feuil1!$A$11:$G$29,2))))),IF(OR(H172=\"SEN\",H172<1997),VLOOKUP(I172,Feuil1!$G$11:$L$25,6),IF(AND(H172>1996,H172<2000),VLOOKUP(I172,Feuil1!$G$11:$L$25,5),IF(AND(H172>1999,H172<2002),VLOOKUP(I172,Feuil1!$G$11:$L$25,4),IF(AND(H172>2001,H172<2004),VLOOKUP(I172,Feuil1!$G$11:$L$25,3),VLOOKUP(I172,Feuil1!$G$11:$L$25,2)))))))","v":"FC2 58"},163.31369874863211,null," ",{"$f":"T172-HLOOKUP(X172,Feuil1!$C$1:$BL$10,2,FALSE)","v":66},{"$f":"T172-HLOOKUP(X172,Feuil1!$C$1:$BL$10,3,FALSE)","v":56},{"$f":"T172-HLOOKUP(X172,Feuil1!$C$1:$BL$10,4,FALSE)","v":46},{"$f":"T172-HLOOKUP(X172,Feuil1!$C$1:$BL$10,5,FALSE)","v":36},{"$f":"T172-HLOOKUP(X172,Feuil1!$C$1:$BL$10,6,FALSE)","v":26},{"$f":"T172-HLOOKUP(X172,Feuil1!$C$1:$BL$10,7,FALSE)","v":16},{"$f":"T172-HLOOKUP(X172,Feuil1!$C$1:$BL$10,8,FALSE)","v":1},{"$f":"T172-HLOOKUP(X172,Feuil1!$C$1:$BL$10,9,FALSE)","v":-14},{"$f":"T172-HLOOKUP(X172,Feuil1!$C$1:$BL$10,10,FALSE)","v":-884},null,null,null,null,null,null,"INTB +"]
["F",null,null,null,null,null,null,2000,58,null,null,52,null,null,52,64,null,null,64,116,null,"INTB +",1,{"$f":"IF(I173=\"\",\"\",IF(A173=\"H\",IF(OR(H173=\"SEN\",H173<1997),VLOOKUP(I173,Feuil1!$A$11:$G$29,6),IF(AND(H173>1996,H173<2000),VLOOKUP(I173,Feuil1!$A$11:$G$29,5),IF(AND(H173>1999,H173<2002),VLOOKUP(I173,Feuil1!$A$11:$G$29,4),IF(AND(H173>2001,H173<2004),VLOOKUP(I173,Feuil1!$A$11:$G$29,3),VLOOKUP(I173,Feuil1!$A$11:$G$29,2))))),IF(OR(H173=\"SEN\",H173<1997),VLOOKUP(I173,Feuil1!$G$11:$L$25,6),IF(AND(H173>1996,H173<2000),VLOOKUP(I173,Feuil1!$G$11:$L$25,5),IF(AND(H173>1999,H173<2002),VLOOKUP(I173,Feuil1!$G$11:$L$25,4),IF(AND(H173>2001,H173<2004),VLOOKUP(I173,Feuil1!$G$11:$L$25,3),VLOOKUP(I173,Feuil1!$G$11:$L$25,2)))))))","v":"FC2 58"},163.31369874863211,null," ",{"$f":"T173-HLOOKUP(X173,Feuil1!$C$1:$BL$10,2,FALSE)","v":66},{"$f":"T173-HLOOKUP(X173,Feuil1!$C$1:$BL$10,3,FALSE)","v":56},{"$f":"T173-HLOOKUP(X173,Feuil1!$C$1:$BL$10,4,FALSE)","v":46},{"$f":"T173-HLOOKUP(X173,Feuil1!$C$1:$BL$10,5,FALSE)","v":36},{"$f":"T173-HLOOKUP(X173,Feuil1!$C$1:$BL$10,6,FALSE)","v":26},{"$f":"T173-HLOOKUP(X173,Feuil1!$C$1:$BL$10,7,FALSE)","v":16},{"$f":"T173-HLOOKUP(X173,Feuil1!$C$1:$BL$10,8,FALSE)","v":1},{"$f":"T173-HLOOKUP(X173,Feuil1!$C$1:$BL$10,9,FALSE)","v":-14},{"$f":"T173-HLOOKUP(X173,Feuil1!$C$1:$BL$10,10,FALSE)","v":-884},null,null,null,null,null,null,"INTB +"]
["F",null,null,null,null,null,null,2000,58,null,null,52,null,null,52,64,null,null,64,116,null,"INTB +",1,{"$f":"IF(I174=\"\",\"\",IF(A174=\"H\",IF(OR(H174=\"SEN\",H174<1997),VLOOKUP(I174,Feuil1!$A$11:$G$29,6),IF(AND(H174>1996,H174<2000),VLOOKUP(I174,Feuil1!$A$11:$G$29,5),IF(AND(H174>1999,H174<2002),VLOOKUP(I174,Feuil1!$A$11:$G$29,4),IF(AND(H174>2001,H174<2004),VLOOKUP(I174,Feuil1!$A$11:$G$29,3),VLOOKUP(I174,Feuil1!$A$11:$G$29,2))))),IF(OR(H174=\"SEN\",H174<1997),VLOOKUP(I174,Feuil1!$G$11:$L$25,6),IF(AND(H174>1996,H174<2000),VLOOKUP(I174,Feuil1!$G$11:$L$25,5),IF(AND(H174>1999,H174<2002),VLOOKUP(I174,Feuil1!$G$11:$L$25,4),IF(AND(H174>2001,H174<2004),VLOOKUP(I174,Feuil1!$G$11:$L$25,3),VLOOKUP(I174,Feuil1!$G$11:$L$25,2)))))))","v":"FC2 58"},163.31369874863211,null," ",{"$f":"T174-HLOOKUP(X174,Feuil1!$C$1:$BL$10,2,FALSE)","v":66},{"$f":"T174-HLOOKUP(X174,Feuil1!$C$1:$BL$10,3,FALSE)","v":56},{"$f":"T174-HLOOKUP(X174,Feuil1!$C$1:$BL$10,4,FALSE)","v":46},{"$f":"T174-HLOOKUP(X174,Feuil1!$C$1:$BL$10,5,FALSE)","v":36},{"$f":"T174-HLOOKUP(X174,Feuil1!$C$1:$BL$10,6,FALSE)","v":26},{"$f":"T174-HLOOKUP(X174,Feuil1!$C$1:$BL$10,7,FALSE)","v":16},{"$f":"T174-HLOOKUP(X174,Feuil1!$C$1:$BL$10,8,FALSE)","v":1},{"$f":"T174-HLOOKUP(X174,Feuil1!$C$1:$BL$10,9,FALSE)","v":-14},{"$f":"T174-HLOOKUP(X174,Feuil1!$C$1:$BL$10,10,FALSE)","v":-884},null,null,null,null,null,null,"INTB +"]
["F",null,null,null,null,null,null,2000,58,null,null,52,null,null,52,64,null,null,64,116,null,"INTB +",1,{"$f":"IF(I175=\"\",\"\",IF(A175=\"H\",IF(OR(H175=\"SEN\",H175<1997),VLOOKUP(I175,Feuil1!$A$11:$G$29,6),IF(AND(H175>1996,H175<2000),VLOOKUP(I175,Feuil1!$A$11:$G$29,5),IF(AND(H175>1999,H175<2002),VLOOKUP(I175,Feuil1!$A$11:$G$29,4),IF(AND(H175>2001,H175<2004),VLOOKUP(I175,Feuil1!$A$11:$G$29,3),VLOOKUP(I175,Feuil1!$A$11:$G$29,2))))),IF(OR(H175=\"SEN\",H175<1997),VLOOKUP(I175,Feuil1!$G$11:$L$25,6),IF(AND(H175>1996,H175<2000),VLOOKUP(I175,Feuil1!$G$11:$L$25,5),IF(AND(H175>1999,H175<2002),VLOOKUP(I175,Feuil1!$G$11:$L$25,4),IF(AND(H175>2001,H175<2004),VLOOKUP(I175,Feuil1!$G$11:$L$25,3),VLOOKUP(I175,Feuil1!$G$11:$L$25,2)))))))","v":"FC2 58"},163.31369874863211,null," ",{"$f":"T175-HLOOKUP(X175,Feuil1!$C$1:$BL$10,2,FALSE)","v":66},{"$f":"T175-HLOOKUP(X175,Feuil1!$C$1:$BL$10,3,FALSE)","v":56},{"$f":"T175-HLOOKUP(X175,Feuil1!$C$1:$BL$10,4,FALSE)","v":46},{"$f":"T175-HLOOKUP(X175,Feuil1!$C$1:$BL$10,5,FALSE)","v":36},{"$f":"T175-HLOOKUP(X175,Feuil1!$C$1:$BL$10,6,FALSE)","v":26},{"$f":"T175-HLOOKUP(X175,Feuil1!$C$1:$BL$10,7,FALSE)","v":16},{"$f":"T175-HLOOKUP(X175,Feuil1!$C$1:$BL$10,8,FALSE)","v":1},{"$f":"T175-HLOOKUP(X175,Feuil1!$C$1:$BL$10,9,FALSE)","v":-14},{"$f":"T175-HLOOKUP(X175,Feuil1!$C$1:$BL$10,10,FALSE)","v":-884},null,null,null,null,null,null,"INTB +"]
["F",null,null,null,null,null,null,2000,58,null,null,52,null,null,52,64,null,null,64,116,null,"INTB +",1,{"$f":"IF(I176=\"\",\"\",IF(A176=\"H\",IF(OR(H176=\"SEN\",H176<1997),VLOOKUP(I176,Feuil1!$A$11:$G$29,6),IF(AND(H176>1996,H176<2000),VLOOKUP(I176,Feuil1!$A$11:$G$29,5),IF(AND(H176>1999,H176<2002),VLOOKUP(I176,Feuil1!$A$11:$G$29,4),IF(AND(H176>2001,H176<2004),VLOOKUP(I176,Feuil1!$A$11:$G$29,3),VLOOKUP(I176,Feuil1!$A$11:$G$29,2))))),IF(OR(H176=\"SEN\",H176<1997),VLOOKUP(I176,Feuil1!$G$11:$L$25,6),IF(AND(H176>1996,H176<2000),VLOOKUP(I176,Feuil1!$G$11:$L$25,5),IF(AND(H176>1999,H176<2002),VLOOKUP(I176,Feuil1!$G$11:$L$25,4),IF(AND(H176>2001,H176<2004),VLOOKUP(I176,Feuil1!$G$11:$L$25,3),VLOOKUP(I176,Feuil1!$G$11:$L$25,2)))))))","v":"FC2 58"},163.31369874863211,null," ",{"$f":"T176-HLOOKUP(X176,Feuil1!$C$1:$BL$10,2,FALSE)","v":66},{"$f":"T176-HLOOKUP(X176,Feuil1!$C$1:$BL$10,3,FALSE)","v":56},{"$f":"T176-HLOOKUP(X176,Feuil1!$C$1:$BL$10,4,FALSE)","v":46},{"$f":"T176-HLOOKUP(X176,Feuil1!$C$1:$BL$10,5,FALSE)","v":36},{"$f":"T176-HLOOKUP(X176,Feuil1!$C$1:$BL$10,6,FALSE)","v":26},{"$f":"T176-HLOOKUP(X176,Feuil1!$C$1:$BL$10,7,FALSE)","v":16},{"$f":"T176-HLOOKUP(X176,Feuil1!$C$1:$BL$10,8,FALSE)","v":1},{"$f":"T176-HLOOKUP(X176,Feuil1!$C$1:$BL$10,9,FALSE)","v":-14},{"$f":"T176-HLOOKUP(X176,Feuil1!$C$1:$BL$10,10,FALSE)","v":-884},null,null,null,null,null,null,"INTB +"]
["F",null,null,null,null,null,null,2000,58,null,null,52,null,null,52,64,null,null,64,116,null,"INTB +",1,{"$f":"IF(I177=\"\",\"\",IF(A177=\"H\",IF(OR(H177=\"SEN\",H177<1997),VLOOKUP(I177,Feuil1!$A$11:$G$29,6),IF(AND(H177>1996,H177<2000),VLOOKUP(I177,Feuil1!$A$11:$G$29,5),IF(AND(H177>1999,H177<2002),VLOOKUP(I177,Feuil1!$A$11:$G$29,4),IF(AND(H177>2001,H177<2004),VLOOKUP(I177,Feuil1!$A$11:$G$29,3),VLOOKUP(I177,Feuil1!$A$11:$G$29,2))))),IF(OR(H177=\"SEN\",H177<1997),VLOOKUP(I177,Feuil1!$G$11:$L$25,6),IF(AND(H177>1996,H177<2000),VLOOKUP(I177,Feuil1!$G$11:$L$25,5),IF(AND(H177>1999,H177<2002),VLOOKUP(I177,Feuil1!$G$11:$L$25,4),IF(AND(H177>2001,H177<2004),VLOOKUP(I177,Feuil1!$G$11:$L$25,3),VLOOKUP(I177,Feuil1!$G$11:$L$25,2)))))))","v":"FC2 58"},163.31369874863211,null," ",{"$f":"T177-HLOOKUP(X177,Feuil1!$C$1:$BL$10,2,FALSE)","v":66},{"$f":"T177-HLOOKUP(X177,Feuil1!$C$1:$BL$10,3,FALSE)","v":56},{"$f":"T177-HLOOKUP(X177,Feuil1!$C$1:$BL$10,4,FALSE)","v":46},{"$f":"T177-HLOOKUP(X177,Feuil1!$C$1:$BL$10,5,FALSE)","v":36},{"$f":"T177-HLOOKUP(X177,Feuil1!$C$1:$BL$10,6,FALSE)","v":26},{"$f":"T177-HLOOKUP(X177,Feuil1!$C$1:$BL$10,7,FALSE)","v":16},{"$f":"T177-HLOOKUP(X177,Feuil1!$C$1:$BL$10,8,FALSE)","v":1},{"$f":"T177-HLOOKUP(X177,Feuil1!$C$1:$BL$10,9,FALSE)","v":-14},{"$f":"T177-HLOOKUP(X177,Feuil1!$C$1:$BL$10,10,FALSE)","v":-884},null,null,null,null,null,null,"INTB +"]
["F",null,null,null,null,null,null,2000,58,null,null,52,null,null,52,64,null,null,64,116,null,"INTB +",1,{"$f":"IF(I178=\"\",\"\",IF(A178=\"H\",IF(OR(H178=\"SEN\",H178<1997),VLOOKUP(I178,Feuil1!$A$11:$G$29,6),IF(AND(H178>1996,H178<2000),VLOOKUP(I178,Feuil1!$A$11:$G$29,5),IF(AND(H178>1999,H178<2002),VLOOKUP(I178,Feuil1!$A$11:$G$29,4),IF(AND(H178>2001,H178<2004),VLOOKUP(I178,Feuil1!$A$11:$G$29,3),VLOOKUP(I178,Feuil1!$A$11:$G$29,2))))),IF(OR(H178=\"SEN\",H178<1997),VLOOKUP(I178,Feuil1!$G$11:$L$25,6),IF(AND(H178>1996,H178<2000),VLOOKUP(I178,Feuil1!$G$11:$L$25,5),IF(AND(H178>1999,H178<2002),VLOOKUP(I178,Feuil1!$G$11:$L$25,4),IF(AND(H178>2001,H178<2004),VLOOKUP(I178,Feuil1!$G$11:$L$25,3),VLOOKUP(I178,Feuil1!$G$11:$L$25,2)))))))","v":"FC2 58"},163.31369874863211,null," ",{"$f":"T178-HLOOKUP(X178,Feuil1!$C$1:$BL$10,2,FALSE)","v":66},{"$f":"T178-HLOOKUP(X178,Feuil1!$C$1:$BL$10,3,FALSE)","v":56},{"$f":"T178-HLOOKUP(X178,Feuil1!$C$1:$BL$10,4,FALSE)","v":46},{"$f":"T178-HLOOKUP(X178,Feuil1!$C$1:$BL$10,5,FALSE)","v":36},{"$f":"T178-HLOOKUP(X178,Feuil1!$C$1:$BL$10,6,FALSE)","v":26},{"$f":"T178-HLOOKUP(X178,Feuil1!$C$1:$BL$10,7,FALSE)","v":16},{"$f":"T178-HLOOKUP(X178,Feuil1!$C$1:$BL$10,8,FALSE)","v":1},{"$f":"T178-HLOOKUP(X178,Feuil1!$C$1:$BL$10,9,FALSE)","v":-14},{"$f":"T178-HLOOKUP(X178,Feuil1!$C$1:$BL$10,10,FALSE)","v":-884},null,null,null,null,null,null,"INTB +"]
["F",null,null,null,null,null,null,2000,58,null,null,52,null,null,52,64,null,null,64,116,null,"INTB +",1,{"$f":"IF(I179=\"\",\"\",IF(A179=\"H\",IF(OR(H179=\"SEN\",H179<1997),VLOOKUP(I179,Feuil1!$A$11:$G$29,6),IF(AND(H179>1996,H179<2000),VLOOKUP(I179,Feuil1!$A$11:$G$29,5),IF(AND(H179>1999,H179<2002),VLOOKUP(I179,Feuil1!$A$11:$G$29,4),IF(AND(H179>2001,H179<2004),VLOOKUP(I179,Feuil1!$A$11:$G$29,3),VLOOKUP(I179,Feuil1!$A$11:$G$29,2))))),IF(OR(H179=\"SEN\",H179<1997),VLOOKUP(I179,Feuil1!$G$11:$L$25,6),IF(AND(H179>1996,H179<2000),VLOOKUP(I179,Feuil1!$G$11:$L$25,5),IF(AND(H179>1999,H179<2002),VLOOKUP(I179,Feuil1!$G$11:$L$25,4),IF(AND(H179>2001,H179<2004),VLOOKUP(I179,Feuil1!$G$11:$L$25,3),VLOOKUP(I179,Feuil1!$G$11:$L$25,2)))))))","v":"FC2 58"},163.31369874863211,null," ",{"$f":"T179-HLOOKUP(X179,Feuil1!$C$1:$BL$10,2,FALSE)","v":66},{"$f":"T179-HLOOKUP(X179,Feuil1!$C$1:$BL$10,3,FALSE)","v":56},{"$f":"T179-HLOOKUP(X179,Feuil1!$C$1:$BL$10,4,FALSE)","v":46},{"$f":"T179-HLOOKUP(X179,Feuil1!$C$1:$BL$10,5,FALSE)","v":36},{"$f":"T179-HLOOKUP(X179,Feuil1!$C$1:$BL$10,6,FALSE)","v":26},{"$f":"T179-HLOOKUP(X179,Feuil1!$C$1:$BL$10,7,FALSE)","v":16},{"$f":"T179-HLOOKUP(X179,Feuil1!$C$1:$BL$10,8,FALSE)","v":1},{"$f":"T179-HLOOKUP(X179,Feuil1!$C$1:$BL$10,9,FALSE)","v":-14},{"$f":"T179-HLOOKUP(X179,Feuil1!$C$1:$BL$10,10,FALSE)","v":-884},null,null,null,null,null,null,"INTB +"]
["F",null,null,null,null,null,null,2000,58,null,null,52,null,null,52,64,null,null,64,116,null,"INTB +",1,{"$f":"IF(I180=\"\",\"\",IF(A180=\"H\",IF(OR(H180=\"SEN\",H180<1997),VLOOKUP(I180,Feuil1!$A$11:$G$29,6),IF(AND(H180>1996,H180<2000),VLOOKUP(I180,Feuil1!$A$11:$G$29,5),IF(AND(H180>1999,H180<2002),VLOOKUP(I180,Feuil1!$A$11:$G$29,4),IF(AND(H180>2001,H180<2004),VLOOKUP(I180,Feuil1!$A$11:$G$29,3),VLOOKUP(I180,Feuil1!$A$11:$G$29,2))))),IF(OR(H180=\"SEN\",H180<1997),VLOOKUP(I180,Feuil1!$G$11:$L$25,6),IF(AND(H180>1996,H180<2000),VLOOKUP(I180,Feuil1!$G$11:$L$25,5),IF(AND(H180>1999,H180<2002),VLOOKUP(I180,Feuil1!$G$11:$L$25,4),IF(AND(H180>2001,H180<2004),VLOOKUP(I180,Feuil1!$G$11:$L$25,3),VLOOKUP(I180,Feuil1!$G$11:$L$25,2)))))))","v":"FC2 58"},163.31369874863211,null," ",{"$f":"T180-HLOOKUP(X180,Feuil1!$C$1:$BL$10,2,FALSE)","v":66},{"$f":"T180-HLOOKUP(X180,Feuil1!$C$1:$BL$10,3,FALSE)","v":56},{"$f":"T180-HLOOKUP(X180,Feuil1!$C$1:$BL$10,4,FALSE)","v":46},{"$f":"T180-HLOOKUP(X180,Feuil1!$C$1:$BL$10,5,FALSE)","v":36},{"$f":"T180-HLOOKUP(X180,Feuil1!$C$1:$BL$10,6,FALSE)","v":26},{"$f":"T180-HLOOKUP(X180,Feuil1!$C$1:$BL$10,7,FALSE)","v":16},{"$f":"T180-HLOOKUP(X180,Feuil1!$C$1:$BL$10,8,FALSE)","v":1},{"$f":"T180-HLOOKUP(X180,Feuil1!$C$1:$BL$10,9,FALSE)","v":-14},{"$f":"T180-HLOOKUP(X180,Feuil1!$C$1:$BL$10,10,FALSE)","v":-884},null,null,null,null,null,null,"INTB +"]
["F",null,null,null,null,null,null,2000,58,null,null,52,null,null,52,64,null,null,64,116,null,"INTB +",1,{"$f":"IF(I181=\"\",\"\",IF(A181=\"H\",IF(OR(H181=\"SEN\",H181<1997),VLOOKUP(I181,Feuil1!$A$11:$G$29,6),IF(AND(H181>1996,H181<2000),VLOOKUP(I181,Feuil1!$A$11:$G$29,5),IF(AND(H181>1999,H181<2002),VLOOKUP(I181,Feuil1!$A$11:$G$29,4),IF(AND(H181>2001,H181<2004),VLOOKUP(I181,Feuil1!$A$11:$G$29,3),VLOOKUP(I181,Feuil1!$A$11:$G$29,2))))),IF(OR(H181=\"SEN\",H181<1997),VLOOKUP(I181,Feuil1!$G$11:$L$25,6),IF(AND(H181>1996,H181<2000),VLOOKUP(I181,Feuil1!$G$11:$L$25,5),IF(AND(H181>1999,H181<2002),VLOOKUP(I181,Feuil1!$G$11:$L$25,4),IF(AND(H181>2001,H181<2004),VLOOKUP(I181,Feuil1!$G$11:$L$25,3),VLOOKUP(I181,Feuil1!$G$11:$L$25,2)))))))","v":"FC2 58"},163.31369874863211,null," ",{"$f":"T181-HLOOKUP(X181,Feuil1!$C$1:$BL$10,2,FALSE)","v":66},{"$f":"T181-HLOOKUP(X181,Feuil1!$C$1:$BL$10,3,FALSE)","v":56},{"$f":"T181-HLOOKUP(X181,Feuil1!$C$1:$BL$10,4,FALSE)","v":46},{"$f":"T181-HLOOKUP(X181,Feuil1!$C$1:$BL$10,5,FALSE)","v":36},{"$f":"T181-HLOOKUP(X181,Feuil1!$C$1:$BL$10,6,FALSE)","v":26},{"$f":"T181-HLOOKUP(X181,Feuil1!$C$1:$BL$10,7,FALSE)","v":16},{"$f":"T181-HLOOKUP(X181,Feuil1!$C$1:$BL$10,8,FALSE)","v":1},{"$f":"T181-HLOOKUP(X181,Feuil1!$C$1:$BL$10,9,FALSE)","v":-14},{"$f":"T181-HLOOKUP(X181,Feuil1!$C$1:$BL$10,10,FALSE)","v":-884},null,null,null,null,null,null,"INTB +"]
["F",null,null,null,null,null,null,2000,58,null,null,52,null,null,52,64,null,null,64,116,null,"INTB +",1,{"$f":"IF(I182=\"\",\"\",IF(A182=\"H\",IF(OR(H182=\"SEN\",H182<1997),VLOOKUP(I182,Feuil1!$A$11:$G$29,6),IF(AND(H182>1996,H182<2000),VLOOKUP(I182,Feuil1!$A$11:$G$29,5),IF(AND(H182>1999,H182<2002),VLOOKUP(I182,Feuil1!$A$11:$G$29,4),IF(AND(H182>2001,H182<2004),VLOOKUP(I182,Feuil1!$A$11:$G$29,3),VLOOKUP(I182,Feuil1!$A$11:$G$29,2))))),IF(OR(H182=\"SEN\",H182<1997),VLOOKUP(I182,Feuil1!$G$11:$L$25,6),IF(AND(H182>1996,H182<2000),VLOOKUP(I182,Feuil1!$G$11:$L$25,5),IF(AND(H182>1999,H182<2002),VLOOKUP(I182,Feuil1!$G$11:$L$25,4),IF(AND(H182>2001,H182<2004),VLOOKUP(I182,Feuil1!$G$11:$L$25,3),VLOOKUP(I182,Feuil1!$G$11:$L$25,2)))))))","v":"FC2 58"},163.31369874863211,null," ",{"$f":"T182-HLOOKUP(X182,Feuil1!$C$1:$BL$10,2,FALSE)","v":66},{"$f":"T182-HLOOKUP(X182,Feuil1!$C$1:$BL$10,3,FALSE)","v":56},{"$f":"T182-HLOOKUP(X182,Feuil1!$C$1:$BL$10,4,FALSE)","v":46},{"$f":"T182-HLOOKUP(X182,Feuil1!$C$1:$BL$10,5,FALSE)","v":36},{"$f":"T182-HLOOKUP(X182,Feuil1!$C$1:$BL$10,6,FALSE)","v":26},{"$f":"T182-HLOOKUP(X182,Feuil1!$C$1:$BL$10,7,FALSE)","v":16},{"$f":"T182-HLOOKUP(X182,Feuil1!$C$1:$BL$10,8,FALSE)","v":1},{"$f":"T182-HLOOKUP(X182,Feuil1!$C$1:$BL$10,9,FALSE)","v":-14},{"$f":"T182-HLOOKUP(X182,Feuil1!$C$1:$BL$10,10,FALSE)","v":-884},null,null,null,null,null,null,"INTB +"]
["F",null,null,null,null,null,null,2000,58,null,null,52,null,null,52,64,null,null,64,116,null,"INTB +",1,{"$f":"IF(I183=\"\",\"\",IF(A183=\"H\",IF(OR(H183=\"SEN\",H183<1997),VLOOKUP(I183,Feuil1!$A$11:$G$29,6),IF(AND(H183>1996,H183<2000),VLOOKUP(I183,Feuil1!$A$11:$G$29,5),IF(AND(H183>1999,H183<2002),VLOOKUP(I183,Feuil1!$A$11:$G$29,4),IF(AND(H183>2001,H183<2004),VLOOKUP(I183,Feuil1!$A$11:$G$29,3),VLOOKUP(I183,Feuil1!$A$11:$G$29,2))))),IF(OR(H183=\"SEN\",H183<1997),VLOOKUP(I183,Feuil1!$G$11:$L$25,6),IF(AND(H183>1996,H183<2000),VLOOKUP(I183,Feuil1!$G$11:$L$25,5),IF(AND(H183>1999,H183<2002),VLOOKUP(I183,Feuil1!$G$11:$L$25,4),IF(AND(H183>2001,H183<2004),VLOOKUP(I183,Feuil1!$G$11:$L$25,3),VLOOKUP(I183,Feuil1!$G$11:$L$25,2)))))))","v":"FC2 58"},163.31369874863211,null," ",{"$f":"T183-HLOOKUP(X183,Feuil1!$C$1:$BL$10,2,FALSE)","v":66},{"$f":"T183-HLOOKUP(X183,Feuil1!$C$1:$BL$10,3,FALSE)","v":56},{"$f":"T183-HLOOKUP(X183,Feuil1!$C$1:$BL$10,4,FALSE)","v":46},{"$f":"T183-HLOOKUP(X183,Feuil1!$C$1:$BL$10,5,FALSE)","v":36},{"$f":"T183-HLOOKUP(X183,Feuil1!$C$1:$BL$10,6,FALSE)","v":26},{"$f":"T183-HLOOKUP(X183,Feuil1!$C$1:$BL$10,7,FALSE)","v":16},{"$f":"T183-HLOOKUP(X183,Feuil1!$C$1:$BL$10,8,FALSE)","v":1},{"$f":"T183-HLOOKUP(X183,Feuil1!$C$1:$BL$10,9,FALSE)","v":-14},{"$f":"T183-HLOOKUP(X183,Feuil1!$C$1:$BL$10,10,FALSE)","v":-884},null,null,null,null,null,null,"INTB +"]
["F",null,null,null,null,null,null,2000,58,null,null,52,null,null,52,64,null,null,64,116,null,"INTB +",1,{"$f":"IF(I184=\"\",\"\",IF(A184=\"H\",IF(OR(H184=\"SEN\",H184<1997),VLOOKUP(I184,Feuil1!$A$11:$G$29,6),IF(AND(H184>1996,H184<2000),VLOOKUP(I184,Feuil1!$A$11:$G$29,5),IF(AND(H184>1999,H184<2002),VLOOKUP(I184,Feuil1!$A$11:$G$29,4),IF(AND(H184>2001,H184<2004),VLOOKUP(I184,Feuil1!$A$11:$G$29,3),VLOOKUP(I184,Feuil1!$A$11:$G$29,2))))),IF(OR(H184=\"SEN\",H184<1997),VLOOKUP(I184,Feuil1!$G$11:$L$25,6),IF(AND(H184>1996,H184<2000),VLOOKUP(I184,Feuil1!$G$11:$L$25,5),IF(AND(H184>1999,H184<2002),VLOOKUP(I184,Feuil1!$G$11:$L$25,4),IF(AND(H184>2001,H184<2004),VLOOKUP(I184,Feuil1!$G$11:$L$25,3),VLOOKUP(I184,Feuil1!$G$11:$L$25,2)))))))","v":"FC2 58"},163.31369874863211,null," ",{"$f":"T184-HLOOKUP(X184,Feuil1!$C$1:$BL$10,2,FALSE)","v":66},{"$f":"T184-HLOOKUP(X184,Feuil1!$C$1:$BL$10,3,FALSE)","v":56},{"$f":"T184-HLOOKUP(X184,Feuil1!$C$1:$BL$10,4,FALSE)","v":46},{"$f":"T184-HLOOKUP(X184,Feuil1!$C$1:$BL$10,5,FALSE)","v":36},{"$f":"T184-HLOOKUP(X184,Feuil1!$C$1:$BL$10,6,FALSE)","v":26},{"$f":"T184-HLOOKUP(X184,Feuil1!$C$1:$BL$10,7,FALSE)","v":16},{"$f":"T184-HLOOKUP(X184,Feuil1!$C$1:$BL$10,8,FALSE)","v":1},{"$f":"T184-HLOOKUP(X184,Feuil1!$C$1:$BL$10,9,FALSE)","v":-14},{"$f":"T184-HLOOKUP(X184,Feuil1!$C$1:$BL$10,10,FALSE)","v":-884},null,null,null,null,null,null,"INTB +"]
["F",null,null,null,null,null,null,2000,58,null,null,52,null,null,52,64,null,null,64,116,null,"INTB +",1,{"$f":"IF(I185=\"\",\"\",IF(A185=\"H\",IF(OR(H185=\"SEN\",H185<1997),VLOOKUP(I185,Feuil1!$A$11:$G$29,6),IF(AND(H185>1996,H185<2000),VLOOKUP(I185,Feuil1!$A$11:$G$29,5),IF(AND(H185>1999,H185<2002),VLOOKUP(I185,Feuil1!$A$11:$G$29,4),IF(AND(H185>2001,H185<2004),VLOOKUP(I185,Feuil1!$A$11:$G$29,3),VLOOKUP(I185,Feuil1!$A$11:$G$29,2))))),IF(OR(H185=\"SEN\",H185<1997),VLOOKUP(I185,Feuil1!$G$11:$L$25,6),IF(AND(H185>1996,H185<2000),VLOOKUP(I185,Feuil1!$G$11:$L$25,5),IF(AND(H185>1999,H185<2002),VLOOKUP(I185,Feuil1!$G$11:$L$25,4),IF(AND(H185>2001,H185<2004),VLOOKUP(I185,Feuil1!$G$11:$L$25,3),VLOOKUP(I185,Feuil1!$G$11:$L$25,2)))))))","v":"FC2 58"},163.31369874863211,null," ",{"$f":"T185-HLOOKUP(X185,Feuil1!$C$1:$BL$10,2,FALSE)","v":66},{"$f":"T185-HLOOKUP(X185,Feuil1!$C$1:$BL$10,3,FALSE)","v":56},{"$f":"T185-HLOOKUP(X185,Feuil1!$C$1:$BL$10,4,FALSE)","v":46},{"$f":"T185-HLOOKUP(X185,Feuil1!$C$1:$BL$10,5,FALSE)","v":36},{"$f":"T185-HLOOKUP(X185,Feuil1!$C$1:$BL$10,6,FALSE)","v":26},{"$f":"T185-HLOOKUP(X185,Feuil1!$C$1:$BL$10,7,FALSE)","v":16},{"$f":"T185-HLOOKUP(X185,Feuil1!$C$1:$BL$10,8,FALSE)","v":1},{"$f":"T185-HLOOKUP(X185,Feuil1!$C$1:$BL$10,9,FALSE)","v":-14},{"$f":"T185-HLOOKUP(X185,Feuil1!$C$1:$BL$10,10,FALSE)","v":-884},null,null,null,null,null,null,"INTB +"]
["F",null,null,null,null,null,null,2000,58,null,null,52,null,null,52,64,null,null,64,116,null,"INTB +",1,{"$f":"IF(I186=\"\",\"\",IF(A186=\"H\",IF(OR(H186=\"SEN\",H186<1997),VLOOKUP(I186,Feuil1!$A$11:$G$29,6),IF(AND(H186>1996,H186<2000),VLOOKUP(I186,Feuil1!$A$11:$G$29,5),IF(AND(H186>1999,H186<2002),VLOOKUP(I186,Feuil1!$A$11:$G$29,4),IF(AND(H186>2001,H186<2004),VLOOKUP(I186,Feuil1!$A$11:$G$29,3),VLOOKUP(I186,Feuil1!$A$11:$G$29,2))))),IF(OR(H186=\"SEN\",H186<1997),VLOOKUP(I186,Feuil1!$G$11:$L$25,6),IF(AND(H186>1996,H186<2000),VLOOKUP(I186,Feuil1!$G$11:$L$25,5),IF(AND(H186>1999,H186<2002),VLOOKUP(I186,Feuil1!$G$11:$L$25,4),IF(AND(H186>2001,H186<2004),VLOOKUP(I186,Feuil1!$G$11:$L$25,3),VLOOKUP(I186,Feuil1!$G$11:$L$25,2)))))))","v":"FC2 58"},163.31369874863211,null," ",{"$f":"T186-HLOOKUP(X186,Feuil1!$C$1:$BL$10,2,FALSE)","v":66},{"$f":"T186-HLOOKUP(X186,Feuil1!$C$1:$BL$10,3,FALSE)","v":56},{"$f":"T186-HLOOKUP(X186,Feuil1!$C$1:$BL$10,4,FALSE)","v":46},{"$f":"T186-HLOOKUP(X186,Feuil1!$C$1:$BL$10,5,FALSE)","v":36},{"$f":"T186-HLOOKUP(X186,Feuil1!$C$1:$BL$10,6,FALSE)","v":26},{"$f":"T186-HLOOKUP(X186,Feuil1!$C$1:$BL$10,7,FALSE)","v":16},{"$f":"T186-HLOOKUP(X186,Feuil1!$C$1:$BL$10,8,FALSE)","v":1},{"$f":"T186-HLOOKUP(X186,Feuil1!$C$1:$BL$10,9,FALSE)","v":-14},{"$f":"T186-HLOOKUP(X186,Feuil1!$C$1:$BL$10,10,FALSE)","v":-884},null,null,null,null,null,null,"INTB +"]
["F",null,null,null,null,null,null,2000,58,null,null,52,null,null,52,64,null,null,64,116,null,"INTB +",1,{"$f":"IF(I187=\"\",\"\",IF(A187=\"H\",IF(OR(H187=\"SEN\",H187<1997),VLOOKUP(I187,Feuil1!$A$11:$G$29,6),IF(AND(H187>1996,H187<2000),VLOOKUP(I187,Feuil1!$A$11:$G$29,5),IF(AND(H187>1999,H187<2002),VLOOKUP(I187,Feuil1!$A$11:$G$29,4),IF(AND(H187>2001,H187<2004),VLOOKUP(I187,Feuil1!$A$11:$G$29,3),VLOOKUP(I187,Feuil1!$A$11:$G$29,2))))),IF(OR(H187=\"SEN\",H187<1997),VLOOKUP(I187,Feuil1!$G$11:$L$25,6),IF(AND(H187>1996,H187<2000),VLOOKUP(I187,Feuil1!$G$11:$L$25,5),IF(AND(H187>1999,H187<2002),VLOOKUP(I187,Feuil1!$G$11:$L$25,4),IF(AND(H187>2001,H187<2004),VLOOKUP(I187,Feuil1!$G$11:$L$25,3),VLOOKUP(I187,Feuil1!$G$11:$L$25,2)))))))","v":"FC2 58"},163.31369874863211,null," ",{"$f":"T187-HLOOKUP(X187,Feuil1!$C$1:$BL$10,2,FALSE)","v":66},{"$f":"T187-HLOOKUP(X187,Feuil1!$C$1:$BL$10,3,FALSE)","v":56},{"$f":"T187-HLOOKUP(X187,Feuil1!$C$1:$BL$10,4,FALSE)","v":46},{"$f":"T187-HLOOKUP(X187,Feuil1!$C$1:$BL$10,5,FALSE)","v":36},{"$f":"T187-HLOOKUP(X187,Feuil1!$C$1:$BL$10,6,FALSE)","v":26},{"$f":"T187-HLOOKUP(X187,Feuil1!$C$1:$BL$10,7,FALSE)","v":16},{"$f":"T187-HLOOKUP(X187,Feuil1!$C$1:$BL$10,8,FALSE)","v":1},{"$f":"T187-HLOOKUP(X187,Feuil1!$C$1:$BL$10,9,FALSE)","v":-14},{"$f":"T187-HLOOKUP(X187,Feuil1!$C$1:$BL$10,10,FALSE)","v":-884},null,null,null,null,null,null,"INTB +"]
["F",null,null,null,null,null,null,2000,58,null,null,52,null,null,52,64,null,null,64,116,null,"INTB +",1,{"$f":"IF(I188=\"\",\"\",IF(A188=\"H\",IF(OR(H188=\"SEN\",H188<1997),VLOOKUP(I188,Feuil1!$A$11:$G$29,6),IF(AND(H188>1996,H188<2000),VLOOKUP(I188,Feuil1!$A$11:$G$29,5),IF(AND(H188>1999,H188<2002),VLOOKUP(I188,Feuil1!$A$11:$G$29,4),IF(AND(H188>2001,H188<2004),VLOOKUP(I188,Feuil1!$A$11:$G$29,3),VLOOKUP(I188,Feuil1!$A$11:$G$29,2))))),IF(OR(H188=\"SEN\",H188<1997),VLOOKUP(I188,Feuil1!$G$11:$L$25,6),IF(AND(H188>1996,H188<2000),VLOOKUP(I188,Feuil1!$G$11:$L$25,5),IF(AND(H188>1999,H188<2002),VLOOKUP(I188,Feuil1!$G$11:$L$25,4),IF(AND(H188>2001,H188<2004),VLOOKUP(I188,Feuil1!$G$11:$L$25,3),VLOOKUP(I188,Feuil1!$G$11:$L$25,2)))))))","v":"FC2 58"},163.31369874863211,null," ",{"$f":"T188-HLOOKUP(X188,Feuil1!$C$1:$BL$10,2,FALSE)","v":66},{"$f":"T188-HLOOKUP(X188,Feuil1!$C$1:$BL$10,3,FALSE)","v":56},{"$f":"T188-HLOOKUP(X188,Feuil1!$C$1:$BL$10,4,FALSE)","v":46},{"$f":"T188-HLOOKUP(X188,Feuil1!$C$1:$BL$10,5,FALSE)","v":36},{"$f":"T188-HLOOKUP(X188,Feuil1!$C$1:$BL$10,6,FALSE)","v":26},{"$f":"T188-HLOOKUP(X188,Feuil1!$C$1:$BL$10,7,FALSE)","v":16},{"$f":"T188-HLOOKUP(X188,Feuil1!$C$1:$BL$10,8,FALSE)","v":1},{"$f":"T188-HLOOKUP(X188,Feuil1!$C$1:$BL$10,9,FALSE)","v":-14},{"$f":"T188-HLOOKUP(X188,Feuil1!$C$1:$BL$10,10,FALSE)","v":-884},null,null,null,null,null,null,"INTB +"]
["F",null,null,null,null,null,null,2000,58,null,null,52,null,null,52,64,null,null,64,116,null,"INTB +",1,{"$f":"IF(I189=\"\",\"\",IF(A189=\"H\",IF(OR(H189=\"SEN\",H189<1997),VLOOKUP(I189,Feuil1!$A$11:$G$29,6),IF(AND(H189>1996,H189<2000),VLOOKUP(I189,Feuil1!$A$11:$G$29,5),IF(AND(H189>1999,H189<2002),VLOOKUP(I189,Feuil1!$A$11:$G$29,4),IF(AND(H189>2001,H189<2004),VLOOKUP(I189,Feuil1!$A$11:$G$29,3),VLOOKUP(I189,Feuil1!$A$11:$G$29,2))))),IF(OR(H189=\"SEN\",H189<1997),VLOOKUP(I189,Feuil1!$G$11:$L$25,6),IF(AND(H189>1996,H189<2000),VLOOKUP(I189,Feuil1!$G$11:$L$25,5),IF(AND(H189>1999,H189<2002),VLOOKUP(I189,Feuil1!$G$11:$L$25,4),IF(AND(H189>2001,H189<2004),VLOOKUP(I189,Feuil1!$G$11:$L$25,3),VLOOKUP(I189,Feuil1!$G$11:$L$25,2)))))))","v":"FC2 58"},163.31369874863211,null," ",{"$f":"T189-HLOOKUP(X189,Feuil1!$C$1:$BL$10,2,FALSE)","v":66},{"$f":"T189-HLOOKUP(X189,Feuil1!$C$1:$BL$10,3,FALSE)","v":56},{"$f":"T189-HLOOKUP(X189,Feuil1!$C$1:$BL$10,4,FALSE)","v":46},{"$f":"T189-HLOOKUP(X189,Feuil1!$C$1:$BL$10,5,FALSE)","v":36},{"$f":"T189-HLOOKUP(X189,Feuil1!$C$1:$BL$10,6,FALSE)","v":26},{"$f":"T189-HLOOKUP(X189,Feuil1!$C$1:$BL$10,7,FALSE)","v":16},{"$f":"T189-HLOOKUP(X189,Feuil1!$C$1:$BL$10,8,FALSE)","v":1},{"$f":"T189-HLOOKUP(X189,Feuil1!$C$1:$BL$10,9,FALSE)","v":-14},{"$f":"T189-HLOOKUP(X189,Feuil1!$C$1:$BL$10,10,FALSE)","v":-884},null,null,null,null,null,null,"INTB +"]
["F",null,null,null,null,null,null,2000,58,null,null,52,null,null,52,64,null,null,64,116,null,"INTB +",1,{"$f":"IF(I190=\"\",\"\",IF(A190=\"H\",IF(OR(H190=\"SEN\",H190<1997),VLOOKUP(I190,Feuil1!$A$11:$G$29,6),IF(AND(H190>1996,H190<2000),VLOOKUP(I190,Feuil1!$A$11:$G$29,5),IF(AND(H190>1999,H190<2002),VLOOKUP(I190,Feuil1!$A$11:$G$29,4),IF(AND(H190>2001,H190<2004),VLOOKUP(I190,Feuil1!$A$11:$G$29,3),VLOOKUP(I190,Feuil1!$A$11:$G$29,2))))),IF(OR(H190=\"SEN\",H190<1997),VLOOKUP(I190,Feuil1!$G$11:$L$25,6),IF(AND(H190>1996,H190<2000),VLOOKUP(I190,Feuil1!$G$11:$L$25,5),IF(AND(H190>1999,H190<2002),VLOOKUP(I190,Feuil1!$G$11:$L$25,4),IF(AND(H190>2001,H190<2004),VLOOKUP(I190,Feuil1!$G$11:$L$25,3),VLOOKUP(I190,Feuil1!$G$11:$L$25,2)))))))","v":"FC2 58"},163.31369874863211,null," ",{"$f":"T190-HLOOKUP(X190,Feuil1!$C$1:$BL$10,2,FALSE)","v":66},{"$f":"T190-HLOOKUP(X190,Feuil1!$C$1:$BL$10,3,FALSE)","v":56},{"$f":"T190-HLOOKUP(X190,Feuil1!$C$1:$BL$10,4,FALSE)","v":46},{"$f":"T190-HLOOKUP(X190,Feuil1!$C$1:$BL$10,5,FALSE)","v":36},{"$f":"T190-HLOOKUP(X190,Feuil1!$C$1:$BL$10,6,FALSE)","v":26},{"$f":"T190-HLOOKUP(X190,Feuil1!$C$1:$BL$10,7,FALSE)","v":16},{"$f":"T190-HLOOKUP(X190,Feuil1!$C$1:$BL$10,8,FALSE)","v":1},{"$f":"T190-HLOOKUP(X190,Feuil1!$C$1:$BL$10,9,FALSE)","v":-14},{"$f":"T190-HLOOKUP(X190,Feuil1!$C$1:$BL$10,10,FALSE)","v":-884},null,null,null,null,null,null,"INTB +"]
["F",null,null,null,null,null,null,2000,58,null,null,52,null,null,52,64,null,null,64,116,null,"INTB +",1,{"$f":"IF(I191=\"\",\"\",IF(A191=\"H\",IF(OR(H191=\"SEN\",H191<1997),VLOOKUP(I191,Feuil1!$A$11:$G$29,6),IF(AND(H191>1996,H191<2000),VLOOKUP(I191,Feuil1!$A$11:$G$29,5),IF(AND(H191>1999,H191<2002),VLOOKUP(I191,Feuil1!$A$11:$G$29,4),IF(AND(H191>2001,H191<2004),VLOOKUP(I191,Feuil1!$A$11:$G$29,3),VLOOKUP(I191,Feuil1!$A$11:$G$29,2))))),IF(OR(H191=\"SEN\",H191<1997),VLOOKUP(I191,Feuil1!$G$11:$L$25,6),IF(AND(H191>1996,H191<2000),VLOOKUP(I191,Feuil1!$G$11:$L$25,5),IF(AND(H191>1999,H191<2002),VLOOKUP(I191,Feuil1!$G$11:$L$25,4),IF(AND(H191>2001,H191<2004),VLOOKUP(I191,Feuil1!$G$11:$L$25,3),VLOOKUP(I191,Feuil1!$G$11:$L$25,2)))))))","v":"FC2 58"},163.31369874863211,null," ",{"$f":"T191-HLOOKUP(X191,Feuil1!$C$1:$BL$10,2,FALSE)","v":66},{"$f":"T191-HLOOKUP(X191,Feuil1!$C$1:$BL$10,3,FALSE)","v":56},{"$f":"T191-HLOOKUP(X191,Feuil1!$C$1:$BL$10,4,FALSE)","v":46},{"$f":"T191-HLOOKUP(X191,Feuil1!$C$1:$BL$10,5,FALSE)","v":36},{"$f":"T191-HLOOKUP(X191,Feuil1!$C$1:$BL$10,6,FALSE)","v":26},{"$f":"T191-HLOOKUP(X191,Feuil1!$C$1:$BL$10,7,FALSE)","v":16},{"$f":"T191-HLOOKUP(X191,Feuil1!$C$1:$BL$10,8,FALSE)","v":1},{"$f":"T191-HLOOKUP(X191,Feuil1!$C$1:$BL$10,9,FALSE)","v":-14},{"$f":"T191-HLOOKUP(X191,Feuil1!$C$1:$BL$10,10,FALSE)","v":-884},null,null,null,null,null,null,"INTB +"]
["F",null,null,null,null,null,null,2000,58,null,null,52,null,null,52,64,null,null,64,116,null,"INTB +",1,{"$f":"IF(I192=\"\",\"\",IF(A192=\"H\",IF(OR(H192=\"SEN\",H192<1997),VLOOKUP(I192,Feuil1!$A$11:$G$29,6),IF(AND(H192>1996,H192<2000),VLOOKUP(I192,Feuil1!$A$11:$G$29,5),IF(AND(H192>1999,H192<2002),VLOOKUP(I192,Feuil1!$A$11:$G$29,4),IF(AND(H192>2001,H192<2004),VLOOKUP(I192,Feuil1!$A$11:$G$29,3),VLOOKUP(I192,Feuil1!$A$11:$G$29,2))))),IF(OR(H192=\"SEN\",H192<1997),VLOOKUP(I192,Feuil1!$G$11:$L$25,6),IF(AND(H192>1996,H192<2000),VLOOKUP(I192,Feuil1!$G$11:$L$25,5),IF(AND(H192>1999,H192<2002),VLOOKUP(I192,Feuil1!$G$11:$L$25,4),IF(AND(H192>2001,H192<2004),VLOOKUP(I192,Feuil1!$G$11:$L$25,3),VLOOKUP(I192,Feuil1!$G$11:$L$25,2)))))))","v":"FC2 58"},163.31369874863211,null," ",{"$f":"T192-HLOOKUP(X192,Feuil1!$C$1:$BL$10,2,FALSE)","v":66},{"$f":"T192-HLOOKUP(X192,Feuil1!$C$1:$BL$10,3,FALSE)","v":56},{"$f":"T192-HLOOKUP(X192,Feuil1!$C$1:$BL$10,4,FALSE)","v":46},{"$f":"T192-HLOOKUP(X192,Feuil1!$C$1:$BL$10,5,FALSE)","v":36},{"$f":"T192-HLOOKUP(X192,Feuil1!$C$1:$BL$10,6,FALSE)","v":26},{"$f":"T192-HLOOKUP(X192,Feuil1!$C$1:$BL$10,7,FALSE)","v":16},{"$f":"T192-HLOOKUP(X192,Feuil1!$C$1:$BL$10,8,FALSE)","v":1},{"$f":"T192-HLOOKUP(X192,Feuil1!$C$1:$BL$10,9,FALSE)","v":-14},{"$f":"T192-HLOOKUP(X192,Feuil1!$C$1:$BL$10,10,FALSE)","v":-884},null,null,null,null,null,null,"INTB +"]
["F",null,null,null,null,null,null,2000,58,null,null,52,null,null,52,64,null,null,64,116,null,"INTB +",1,{"$f":"IF(I193=\"\",\"\",IF(A193=\"H\",IF(OR(H193=\"SEN\",H193<1997),VLOOKUP(I193,Feuil1!$A$11:$G$29,6),IF(AND(H193>1996,H193<2000),VLOOKUP(I193,Feuil1!$A$11:$G$29,5),IF(AND(H193>1999,H193<2002),VLOOKUP(I193,Feuil1!$A$11:$G$29,4),IF(AND(H193>2001,H193<2004),VLOOKUP(I193,Feuil1!$A$11:$G$29,3),VLOOKUP(I193,Feuil1!$A$11:$G$29,2))))),IF(OR(H193=\"SEN\",H193<1997),VLOOKUP(I193,Feuil1!$G$11:$L$25,6),IF(AND(H193>1996,H193<2000),VLOOKUP(I193,Feuil1!$G$11:$L$25,5),IF(AND(H193>1999,H193<2002),VLOOKUP(I193,Feuil1!$G$11:$L$25,4),IF(AND(H193>2001,H193<2004),VLOOKUP(I193,Feuil1!$G$11:$L$25,3),VLOOKUP(I193,Feuil1!$G$11:$L$25,2)))))))","v":"FC2 58"},163.31369874863211,null," ",{"$f":"T193-HLOOKUP(X193,Feuil1!$C$1:$BL$10,2,FALSE)","v":66},{"$f":"T193-HLOOKUP(X193,Feuil1!$C$1:$BL$10,3,FALSE)","v":56},{"$f":"T193-HLOOKUP(X193,Feuil1!$C$1:$BL$10,4,FALSE)","v":46},{"$f":"T193-HLOOKUP(X193,Feuil1!$C$1:$BL$10,5,FALSE)","v":36},{"$f":"T193-HLOOKUP(X193,Feuil1!$C$1:$BL$10,6,FALSE)","v":26},{"$f":"T193-HLOOKUP(X193,Feuil1!$C$1:$BL$10,7,FALSE)","v":16},{"$f":"T193-HLOOKUP(X193,Feuil1!$C$1:$BL$10,8,FALSE)","v":1},{"$f":"T193-HLOOKUP(X193,Feuil1!$C$1:$BL$10,9,FALSE)","v":-14},{"$f":"T193-HLOOKUP(X193,Feuil1!$C$1:$BL$10,10,FALSE)","v":-884},null,null,null,null,null,null,"INTB +"]
["F",null,null,null,null,null,null,2000,58,null,null,52,null,null,52,64,null,null,64,116,null,"INTB +",1,{"$f":"IF(I194=\"\",\"\",IF(A194=\"H\",IF(OR(H194=\"SEN\",H194<1997),VLOOKUP(I194,Feuil1!$A$11:$G$29,6),IF(AND(H194>1996,H194<2000),VLOOKUP(I194,Feuil1!$A$11:$G$29,5),IF(AND(H194>1999,H194<2002),VLOOKUP(I194,Feuil1!$A$11:$G$29,4),IF(AND(H194>2001,H194<2004),VLOOKUP(I194,Feuil1!$A$11:$G$29,3),VLOOKUP(I194,Feuil1!$A$11:$G$29,2))))),IF(OR(H194=\"SEN\",H194<1997),VLOOKUP(I194,Feuil1!$G$11:$L$25,6),IF(AND(H194>1996,H194<2000),VLOOKUP(I194,Feuil1!$G$11:$L$25,5),IF(AND(H194>1999,H194<2002),VLOOKUP(I194,Feuil1!$G$11:$L$25,4),IF(AND(H194>2001,H194<2004),VLOOKUP(I194,Feuil1!$G$11:$L$25,3),VLOOKUP(I194,Feuil1!$G$11:$L$25,2)))))))","v":"FC2 58"},163.31369874863211,null," ",{"$f":"T194-HLOOKUP(X194,Feuil1!$C$1:$BL$10,2,FALSE)","v":66},{"$f":"T194-HLOOKUP(X194,Feuil1!$C$1:$BL$10,3,FALSE)","v":56},{"$f":"T194-HLOOKUP(X194,Feuil1!$C$1:$BL$10,4,FALSE)","v":46},{"$f":"T194-HLOOKUP(X194,Feuil1!$C$1:$BL$10,5,FALSE)","v":36},{"$f":"T194-HLOOKUP(X194,Feuil1!$C$1:$BL$10,6,FALSE)","v":26},{"$f":"T194-HLOOKUP(X194,Feuil1!$C$1:$BL$10,7,FALSE)","v":16},{"$f":"T194-HLOOKUP(X194,Feuil1!$C$1:$BL$10,8,FALSE)","v":1},{"$f":"T194-HLOOKUP(X194,Feuil1!$C$1:$BL$10,9,FALSE)","v":-14},{"$f":"T194-HLOOKUP(X194,Feuil1!$C$1:$BL$10,10,FALSE)","v":-884},null,null,null,null,null,null,"INTB +"]
["F",null,null,null,null,null,null,2000,58,null,null,52,null,null,52,64,null,null,64,116,null,"INTB +",1,{"$f":"IF(I195=\"\",\"\",IF(A195=\"H\",IF(OR(H195=\"SEN\",H195<1997),VLOOKUP(I195,Feuil1!$A$11:$G$29,6),IF(AND(H195>1996,H195<2000),VLOOKUP(I195,Feuil1!$A$11:$G$29,5),IF(AND(H195>1999,H195<2002),VLOOKUP(I195,Feuil1!$A$11:$G$29,4),IF(AND(H195>2001,H195<2004),VLOOKUP(I195,Feuil1!$A$11:$G$29,3),VLOOKUP(I195,Feuil1!$A$11:$G$29,2))))),IF(OR(H195=\"SEN\",H195<1997),VLOOKUP(I195,Feuil1!$G$11:$L$25,6),IF(AND(H195>1996,H195<2000),VLOOKUP(I195,Feuil1!$G$11:$L$25,5),IF(AND(H195>1999,H195<2002),VLOOKUP(I195,Feuil1!$G$11:$L$25,4),IF(AND(H195>2001,H195<2004),VLOOKUP(I195,Feuil1!$G$11:$L$25,3),VLOOKUP(I195,Feuil1!$G$11:$L$25,2)))))))","v":"FC2 58"},163.31369874863211,null," ",{"$f":"T195-HLOOKUP(X195,Feuil1!$C$1:$BL$10,2,FALSE)","v":66},{"$f":"T195-HLOOKUP(X195,Feuil1!$C$1:$BL$10,3,FALSE)","v":56},{"$f":"T195-HLOOKUP(X195,Feuil1!$C$1:$BL$10,4,FALSE)","v":46},{"$f":"T195-HLOOKUP(X195,Feuil1!$C$1:$BL$10,5,FALSE)","v":36},{"$f":"T195-HLOOKUP(X195,Feuil1!$C$1:$BL$10,6,FALSE)","v":26},{"$f":"T195-HLOOKUP(X195,Feuil1!$C$1:$BL$10,7,FALSE)","v":16},{"$f":"T195-HLOOKUP(X195,Feuil1!$C$1:$BL$10,8,FALSE)","v":1},{"$f":"T195-HLOOKUP(X195,Feuil1!$C$1:$BL$10,9,FALSE)","v":-14},{"$f":"T195-HLOOKUP(X195,Feuil1!$C$1:$BL$10,10,FALSE)","v":-884},null,null,null,null,null,null,"INTB +"]
["F",null,null,null,null,null,null,2000,58,null,null,52,null,null,52,64,null,null,64,116,null,"INTB +",1,{"$f":"IF(I196=\"\",\"\",IF(A196=\"H\",IF(OR(H196=\"SEN\",H196<1997),VLOOKUP(I196,Feuil1!$A$11:$G$29,6),IF(AND(H196>1996,H196<2000),VLOOKUP(I196,Feuil1!$A$11:$G$29,5),IF(AND(H196>1999,H196<2002),VLOOKUP(I196,Feuil1!$A$11:$G$29,4),IF(AND(H196>2001,H196<2004),VLOOKUP(I196,Feuil1!$A$11:$G$29,3),VLOOKUP(I196,Feuil1!$A$11:$G$29,2))))),IF(OR(H196=\"SEN\",H196<1997),VLOOKUP(I196,Feuil1!$G$11:$L$25,6),IF(AND(H196>1996,H196<2000),VLOOKUP(I196,Feuil1!$G$11:$L$25,5),IF(AND(H196>1999,H196<2002),VLOOKUP(I196,Feuil1!$G$11:$L$25,4),IF(AND(H196>2001,H196<2004),VLOOKUP(I196,Feuil1!$G$11:$L$25,3),VLOOKUP(I196,Feuil1!$G$11:$L$25,2)))))))","v":"FC2 58"},163.31369874863211,null," ",{"$f":"T196-HLOOKUP(X196,Feuil1!$C$1:$BL$10,2,FALSE)","v":66},{"$f":"T196-HLOOKUP(X196,Feuil1!$C$1:$BL$10,3,FALSE)","v":56},{"$f":"T196-HLOOKUP(X196,Feuil1!$C$1:$BL$10,4,FALSE)","v":46},{"$f":"T196-HLOOKUP(X196,Feuil1!$C$1:$BL$10,5,FALSE)","v":36},{"$f":"T196-HLOOKUP(X196,Feuil1!$C$1:$BL$10,6,FALSE)","v":26},{"$f":"T196-HLOOKUP(X196,Feuil1!$C$1:$BL$10,7,FALSE)","v":16},{"$f":"T196-HLOOKUP(X196,Feuil1!$C$1:$BL$10,8,FALSE)","v":1},{"$f":"T196-HLOOKUP(X196,Feuil1!$C$1:$BL$10,9,FALSE)","v":-14},{"$f":"T196-HLOOKUP(X196,Feuil1!$C$1:$BL$10,10,FALSE)","v":-884},null,null,null,null,null,null,"INTB +"]
["F",null,null,null,null,null,null,2000,58,null,null,52,null,null,52,64,null,null,64,116,null,"INTB +",1,{"$f":"IF(I197=\"\",\"\",IF(A197=\"H\",IF(OR(H197=\"SEN\",H197<1997),VLOOKUP(I197,Feuil1!$A$11:$G$29,6),IF(AND(H197>1996,H197<2000),VLOOKUP(I197,Feuil1!$A$11:$G$29,5),IF(AND(H197>1999,H197<2002),VLOOKUP(I197,Feuil1!$A$11:$G$29,4),IF(AND(H197>2001,H197<2004),VLOOKUP(I197,Feuil1!$A$11:$G$29,3),VLOOKUP(I197,Feuil1!$A$11:$G$29,2))))),IF(OR(H197=\"SEN\",H197<1997),VLOOKUP(I197,Feuil1!$G$11:$L$25,6),IF(AND(H197>1996,H197<2000),VLOOKUP(I197,Feuil1!$G$11:$L$25,5),IF(AND(H197>1999,H197<2002),VLOOKUP(I197,Feuil1!$G$11:$L$25,4),IF(AND(H197>2001,H197<2004),VLOOKUP(I197,Feuil1!$G$11:$L$25,3),VLOOKUP(I197,Feuil1!$G$11:$L$25,2)))))))","v":"FC2 58"},163.31369874863211,null," ",{"$f":"T197-HLOOKUP(X197,Feuil1!$C$1:$BL$10,2,FALSE)","v":66},{"$f":"T197-HLOOKUP(X197,Feuil1!$C$1:$BL$10,3,FALSE)","v":56},{"$f":"T197-HLOOKUP(X197,Feuil1!$C$1:$BL$10,4,FALSE)","v":46},{"$f":"T197-HLOOKUP(X197,Feuil1!$C$1:$BL$10,5,FALSE)","v":36},{"$f":"T197-HLOOKUP(X197,Feuil1!$C$1:$BL$10,6,FALSE)","v":26},{"$f":"T197-HLOOKUP(X197,Feuil1!$C$1:$BL$10,7,FALSE)","v":16},{"$f":"T197-HLOOKUP(X197,Feuil1!$C$1:$BL$10,8,FALSE)","v":1},{"$f":"T197-HLOOKUP(X197,Feuil1!$C$1:$BL$10,9,FALSE)","v":-14},{"$f":"T197-HLOOKUP(X197,Feuil1!$C$1:$BL$10,10,FALSE)","v":-884},null,null,null,null,null,null,"INTB +"]
["F",null,null,null,null,null,null,2000,58,null,null,52,null,null,52,64,null,null,64,116,null,"INTB +",1,{"$f":"IF(I198=\"\",\"\",IF(A198=\"H\",IF(OR(H198=\"SEN\",H198<1997),VLOOKUP(I198,Feuil1!$A$11:$G$29,6),IF(AND(H198>1996,H198<2000),VLOOKUP(I198,Feuil1!$A$11:$G$29,5),IF(AND(H198>1999,H198<2002),VLOOKUP(I198,Feuil1!$A$11:$G$29,4),IF(AND(H198>2001,H198<2004),VLOOKUP(I198,Feuil1!$A$11:$G$29,3),VLOOKUP(I198,Feuil1!$A$11:$G$29,2))))),IF(OR(H198=\"SEN\",H198<1997),VLOOKUP(I198,Feuil1!$G$11:$L$25,6),IF(AND(H198>1996,H198<2000),VLOOKUP(I198,Feuil1!$G$11:$L$25,5),IF(AND(H198>1999,H198<2002),VLOOKUP(I198,Feuil1!$G$11:$L$25,4),IF(AND(H198>2001,H198<2004),VLOOKUP(I198,Feuil1!$G$11:$L$25,3),VLOOKUP(I198,Feuil1!$G$11:$L$25,2)))))))","v":"FC2 58"},163.31369874863211,null," ",{"$f":"T198-HLOOKUP(X198,Feuil1!$C$1:$BL$10,2,FALSE)","v":66},{"$f":"T198-HLOOKUP(X198,Feuil1!$C$1:$BL$10,3,FALSE)","v":56},{"$f":"T198-HLOOKUP(X198,Feuil1!$C$1:$BL$10,4,FALSE)","v":46},{"$f":"T198-HLOOKUP(X198,Feuil1!$C$1:$BL$10,5,FALSE)","v":36},{"$f":"T198-HLOOKUP(X198,Feuil1!$C$1:$BL$10,6,FALSE)","v":26},{"$f":"T198-HLOOKUP(X198,Feuil1!$C$1:$BL$10,7,FALSE)","v":16},{"$f":"T198-HLOOKUP(X198,Feuil1!$C$1:$BL$10,8,FALSE)","v":1},{"$f":"T198-HLOOKUP(X198,Feuil1!$C$1:$BL$10,9,FALSE)","v":-14},{"$f":"T198-HLOOKUP(X198,Feuil1!$C$1:$BL$10,10,FALSE)","v":-884},null,null,null,null,null,null,"INTB +"]
["F",null,null,null,null,null,null,2000,58,null,null,52,null,null,52,64,null,null,64,116,null,"INTB +",1,{"$f":"IF(I199=\"\",\"\",IF(A199=\"H\",IF(OR(H199=\"SEN\",H199<1997),VLOOKUP(I199,Feuil1!$A$11:$G$29,6),IF(AND(H199>1996,H199<2000),VLOOKUP(I199,Feuil1!$A$11:$G$29,5),IF(AND(H199>1999,H199<2002),VLOOKUP(I199,Feuil1!$A$11:$G$29,4),IF(AND(H199>2001,H199<2004),VLOOKUP(I199,Feuil1!$A$11:$G$29,3),VLOOKUP(I199,Feuil1!$A$11:$G$29,2))))),IF(OR(H199=\"SEN\",H199<1997),VLOOKUP(I199,Feuil1!$G$11:$L$25,6),IF(AND(H199>1996,H199<2000),VLOOKUP(I199,Feuil1!$G$11:$L$25,5),IF(AND(H199>1999,H199<2002),VLOOKUP(I199,Feuil1!$G$11:$L$25,4),IF(AND(H199>2001,H199<2004),VLOOKUP(I199,Feuil1!$G$11:$L$25,3),VLOOKUP(I199,Feuil1!$G$11:$L$25,2)))))))","v":"FC2 58"},163.31369874863211,null," ",{"$f":"T199-HLOOKUP(X199,Feuil1!$C$1:$BL$10,2,FALSE)","v":66},{"$f":"T199-HLOOKUP(X199,Feuil1!$C$1:$BL$10,3,FALSE)","v":56},{"$f":"T199-HLOOKUP(X199,Feuil1!$C$1:$BL$10,4,FALSE)","v":46},{"$f":"T199-HLOOKUP(X199,Feuil1!$C$1:$BL$10,5,FALSE)","v":36},{"$f":"T199-HLOOKUP(X199,Feuil1!$C$1:$BL$10,6,FALSE)","v":26},{"$f":"T199-HLOOKUP(X199,Feuil1!$C$1:$BL$10,7,FALSE)","v":16},{"$f":"T199-HLOOKUP(X199,Feuil1!$C$1:$BL$10,8,FALSE)","v":1},{"$f":"T199-HLOOKUP(X199,Feuil1!$C$1:$BL$10,9,FALSE)","v":-14},{"$f":"T199-HLOOKUP(X199,Feuil1!$C$1:$BL$10,10,FALSE)","v":-884},null,null,null,null,null,null,"INTB +"]
["H",null,null,null,null,null,null,2000,58,null,null,52,null,null,52,64,null,null,64,116,null,"DEP +",11,{"$f":"IF(I200=\"\",\"\",IF(A200=\"H\",IF(OR(H200=\"SEN\",H200<1997),VLOOKUP(I200,Feuil1!$A$11:$G$29,6),IF(AND(H200>1996,H200<2000),VLOOKUP(I200,Feuil1!$A$11:$G$29,5),IF(AND(H200>1999,H200<2002),VLOOKUP(I200,Feuil1!$A$11:$G$29,4),IF(AND(H200>2001,H200<2004),VLOOKUP(I200,Feuil1!$A$11:$G$29,3),VLOOKUP(I200,Feuil1!$A$11:$G$29,2))))),IF(OR(H200=\"SEN\",H200<1997),VLOOKUP(I200,Feuil1!$G$11:$L$25,6),IF(AND(H200>1996,H200<2000),VLOOKUP(I200,Feuil1!$G$11:$L$25,5),IF(AND(H200>1999,H200<2002),VLOOKUP(I200,Feuil1!$G$11:$L$25,4),IF(AND(H200>2001,H200<2004),VLOOKUP(I200,Feuil1!$G$11:$L$25,3),VLOOKUP(I200,Feuil1!$G$11:$L$25,2)))))))","v":"C2 62"},176.21093870063601,null," ",{"$f":"T200-HLOOKUP(X200,Feuil1!$C$1:$BL$10,2,FALSE)","v":31},{"$f":"T200-HLOOKUP(X200,Feuil1!$C$1:$BL$10,3,FALSE)","v":11},{"$f":"T200-HLOOKUP(X200,Feuil1!$C$1:$BL$10,4,FALSE)","v":-4},{"$f":"T200-HLOOKUP(X200,Feuil1!$C$1:$BL$10,5,FALSE)","v":-19},{"$f":"T200-HLOOKUP(X200,Feuil1!$C$1:$BL$10,6,FALSE)","v":-34},{"$f":"T200-HLOOKUP(X200,Feuil1!$C$1:$BL$10,7,FALSE)","v":-54},{"$f":"T200-HLOOKUP(X200,Feuil1!$C$1:$BL$10,8,FALSE)","v":-74},{"$f":"T200-HLOOKUP(X200,Feuil1!$C$1:$BL$10,9,FALSE)","v":-94},{"$f":"T200-HLOOKUP(X200,Feuil1!$C$1:$BL$10,10,FALSE)","v":-884},null,null,null,null,null,null,"DEP +"]
["F",null,null,null,null,null,null,2000,58,null,null,52,null,null,52,64,null,null,64,116,null,"INTB +",1,{"$f":"IF(I201=\"\",\"\",IF(A201=\"H\",IF(OR(H201=\"SEN\",H201<1997),VLOOKUP(I201,Feuil1!$A$11:$G$29,6),IF(AND(H201>1996,H201<2000),VLOOKUP(I201,Feuil1!$A$11:$G$29,5),IF(AND(H201>1999,H201<2002),VLOOKUP(I201,Feuil1!$A$11:$G$29,4),IF(AND(H201>2001,H201<2004),VLOOKUP(I201,Feuil1!$A$11:$G$29,3),VLOOKUP(I201,Feuil1!$A$11:$G$29,2))))),IF(OR(H201=\"SEN\",H201<1997),VLOOKUP(I201,Feuil1!$G$11:$L$25,6),IF(AND(H201>1996,H201<2000),VLOOKUP(I201,Feuil1!$G$11:$L$25,5),IF(AND(H201>1999,H201<2002),VLOOKUP(I201,Feuil1!$G$11:$L$25,4),IF(AND(H201>2001,H201<2004),VLOOKUP(I201,Feuil1!$G$11:$L$25,3),VLOOKUP(I201,Feuil1!$G$11:$L$25,2)))))))","v":"FC2 58"},163.31369874863211,null," ",{"$f":"T201-HLOOKUP(X201,Feuil1!$C$1:$BL$10,2,FALSE)","v":66},{"$f":"T201-HLOOKUP(X201,Feuil1!$C$1:$BL$10,3,FALSE)","v":56},{"$f":"T201-HLOOKUP(X201,Feuil1!$C$1:$BL$10,4,FALSE)","v":46},{"$f":"T201-HLOOKUP(X201,Feuil1!$C$1:$BL$10,5,FALSE)","v":36},{"$f":"T201-HLOOKUP(X201,Feuil1!$C$1:$BL$10,6,FALSE)","v":26},{"$f":"T201-HLOOKUP(X201,Feuil1!$C$1:$BL$10,7,FALSE)","v":16},{"$f":"T201-HLOOKUP(X201,Feuil1!$C$1:$BL$10,8,FALSE)","v":1},{"$f":"T201-HLOOKUP(X201,Feuil1!$C$1:$BL$10,9,FALSE)","v":-14},{"$f":"T201-HLOOKUP(X201,Feuil1!$C$1:$BL$10,10,FALSE)","v":-884},null,null,null,null,null,null,"INTB +"]
["F",null,null,null,null,null,null,2000,58,null,null,52,null,null,52,64,null,null,64,116,null,"INTB +",1,{"$f":"IF(I202=\"\",\"\",IF(A202=\"H\",IF(OR(H202=\"SEN\",H202<1997),VLOOKUP(I202,Feuil1!$A$11:$G$29,6),IF(AND(H202>1996,H202<2000),VLOOKUP(I202,Feuil1!$A$11:$G$29,5),IF(AND(H202>1999,H202<2002),VLOOKUP(I202,Feuil1!$A$11:$G$29,4),IF(AND(H202>2001,H202<2004),VLOOKUP(I202,Feuil1!$A$11:$G$29,3),VLOOKUP(I202,Feuil1!$A$11:$G$29,2))))),IF(OR(H202=\"SEN\",H202<1997),VLOOKUP(I202,Feuil1!$G$11:$L$25,6),IF(AND(H202>1996,H202<2000),VLOOKUP(I202,Feuil1!$G$11:$L$25,5),IF(AND(H202>1999,H202<2002),VLOOKUP(I202,Feuil1!$G$11:$L$25,4),IF(AND(H202>2001,H202<2004),VLOOKUP(I202,Feuil1!$G$11:$L$25,3),VLOOKUP(I202,Feuil1!$G$11:$L$25,2)))))))","v":"FC2 58"},163.31369874863211,null," ",{"$f":"T202-HLOOKUP(X202,Feuil1!$C$1:$BL$10,2,FALSE)","v":66},{"$f":"T202-HLOOKUP(X202,Feuil1!$C$1:$BL$10,3,FALSE)","v":56},{"$f":"T202-HLOOKUP(X202,Feuil1!$C$1:$BL$10,4,FALSE)","v":46},{"$f":"T202-HLOOKUP(X202,Feuil1!$C$1:$BL$10,5,FALSE)","v":36},{"$f":"T202-HLOOKUP(X202,Feuil1!$C$1:$BL$10,6,FALSE)","v":26},{"$f":"T202-HLOOKUP(X202,Feuil1!$C$1:$BL$10,7,FALSE)","v":16},{"$f":"T202-HLOOKUP(X202,Feuil1!$C$1:$BL$10,8,FALSE)","v":1},{"$f":"T202-HLOOKUP(X202,Feuil1!$C$1:$BL$10,9,FALSE)","v":-14},{"$f":"T202-HLOOKUP(X202,Feuil1!$C$1:$BL$10,10,FALSE)","v":-884},null,null,null,null,null,null,"INTB +"]
["F",null,null,null,null,null,null,2000,58,null,null,52,null,null,52,64,null,null,64,116,null,"INTB +",1,{"$f":"IF(I203=\"\",\"\",IF(A203=\"H\",IF(OR(H203=\"SEN\",H203<1997),VLOOKUP(I203,Feuil1!$A$11:$G$29,6),IF(AND(H203>1996,H203<2000),VLOOKUP(I203,Feuil1!$A$11:$G$29,5),IF(AND(H203>1999,H203<2002),VLOOKUP(I203,Feuil1!$A$11:$G$29,4),IF(AND(H203>2001,H203<2004),VLOOKUP(I203,Feuil1!$A$11:$G$29,3),VLOOKUP(I203,Feuil1!$A$11:$G$29,2))))),IF(OR(H203=\"SEN\",H203<1997),VLOOKUP(I203,Feuil1!$G$11:$L$25,6),IF(AND(H203>1996,H203<2000),VLOOKUP(I203,Feuil1!$G$11:$L$25,5),IF(AND(H203>1999,H203<2002),VLOOKUP(I203,Feuil1!$G$11:$L$25,4),IF(AND(H203>2001,H203<2004),VLOOKUP(I203,Feuil1!$G$11:$L$25,3),VLOOKUP(I203,Feuil1!$G$11:$L$25,2)))))))","v":"FC2 58"},163.31369874863211,null," ",{"$f":"T203-HLOOKUP(X203,Feuil1!$C$1:$BL$10,2,FALSE)","v":66},{"$f":"T203-HLOOKUP(X203,Feuil1!$C$1:$BL$10,3,FALSE)","v":56},{"$f":"T203-HLOOKUP(X203,Feuil1!$C$1:$BL$10,4,FALSE)","v":46},{"$f":"T203-HLOOKUP(X203,Feuil1!$C$1:$BL$10,5,FALSE)","v":36},{"$f":"T203-HLOOKUP(X203,Feuil1!$C$1:$BL$10,6,FALSE)","v":26},{"$f":"T203-HLOOKUP(X203,Feuil1!$C$1:$BL$10,7,FALSE)","v":16},{"$f":"T203-HLOOKUP(X203,Feuil1!$C$1:$BL$10,8,FALSE)","v":1},{"$f":"T203-HLOOKUP(X203,Feuil1!$C$1:$BL$10,9,FALSE)","v":-14},{"$f":"T203-HLOOKUP(X203,Feuil1!$C$1:$BL$10,10,FALSE)","v":-884},null,null,null,null,null,null,"INTB +"]
["F",null,null,null,null,null,null,2000,58,null,null,52,null,null,52,64,null,null,64,116,null,"INTB +",1,{"$f":"IF(I204=\"\",\"\",IF(A204=\"H\",IF(OR(H204=\"SEN\",H204<1997),VLOOKUP(I204,Feuil1!$A$11:$G$29,6),IF(AND(H204>1996,H204<2000),VLOOKUP(I204,Feuil1!$A$11:$G$29,5),IF(AND(H204>1999,H204<2002),VLOOKUP(I204,Feuil1!$A$11:$G$29,4),IF(AND(H204>2001,H204<2004),VLOOKUP(I204,Feuil1!$A$11:$G$29,3),VLOOKUP(I204,Feuil1!$A$11:$G$29,2))))),IF(OR(H204=\"SEN\",H204<1997),VLOOKUP(I204,Feuil1!$G$11:$L$25,6),IF(AND(H204>1996,H204<2000),VLOOKUP(I204,Feuil1!$G$11:$L$25,5),IF(AND(H204>1999,H204<2002),VLOOKUP(I204,Feuil1!$G$11:$L$25,4),IF(AND(H204>2001,H204<2004),VLOOKUP(I204,Feuil1!$G$11:$L$25,3),VLOOKUP(I204,Feuil1!$G$11:$L$25,2)))))))","v":"FC2 58"},163.31369874863211,null," ",{"$f":"T204-HLOOKUP(X204,Feuil1!$C$1:$BL$10,2,FALSE)","v":66},{"$f":"T204-HLOOKUP(X204,Feuil1!$C$1:$BL$10,3,FALSE)","v":56},{"$f":"T204-HLOOKUP(X204,Feuil1!$C$1:$BL$10,4,FALSE)","v":46},{"$f":"T204-HLOOKUP(X204,Feuil1!$C$1:$BL$10,5,FALSE)","v":36},{"$f":"T204-HLOOKUP(X204,Feuil1!$C$1:$BL$10,6,FALSE)","v":26},{"$f":"T204-HLOOKUP(X204,Feuil1!$C$1:$BL$10,7,FALSE)","v":16},{"$f":"T204-HLOOKUP(X204,Feuil1!$C$1:$BL$10,8,FALSE)","v":1},{"$f":"T204-HLOOKUP(X204,Feuil1!$C$1:$BL$10,9,FALSE)","v":-14},{"$f":"T204-HLOOKUP(X204,Feuil1!$C$1:$BL$10,10,FALSE)","v":-884},null,null,null,null,null,null,"INTB +"]
["F",null,null,null,null,null,null,2000,58,null,null,52,null,null,52,64,null,null,64,116,null,"INTB +",1,{"$f":"IF(I205=\"\",\"\",IF(A205=\"H\",IF(OR(H205=\"SEN\",H205<1997),VLOOKUP(I205,Feuil1!$A$11:$G$29,6),IF(AND(H205>1996,H205<2000),VLOOKUP(I205,Feuil1!$A$11:$G$29,5),IF(AND(H205>1999,H205<2002),VLOOKUP(I205,Feuil1!$A$11:$G$29,4),IF(AND(H205>2001,H205<2004),VLOOKUP(I205,Feuil1!$A$11:$G$29,3),VLOOKUP(I205,Feuil1!$A$11:$G$29,2))))),IF(OR(H205=\"SEN\",H205<1997),VLOOKUP(I205,Feuil1!$G$11:$L$25,6),IF(AND(H205>1996,H205<2000),VLOOKUP(I205,Feuil1!$G$11:$L$25,5),IF(AND(H205>1999,H205<2002),VLOOKUP(I205,Feuil1!$G$11:$L$25,4),IF(AND(H205>2001,H205<2004),VLOOKUP(I205,Feuil1!$G$11:$L$25,3),VLOOKUP(I205,Feuil1!$G$11:$L$25,2)))))))","v":"FC2 58"},163.31369874863211,null," ",{"$f":"T205-HLOOKUP(X205,Feuil1!$C$1:$BL$10,2,FALSE)","v":66},{"$f":"T205-HLOOKUP(X205,Feuil1!$C$1:$BL$10,3,FALSE)","v":56},{"$f":"T205-HLOOKUP(X205,Feuil1!$C$1:$BL$10,4,FALSE)","v":46},{"$f":"T205-HLOOKUP(X205,Feuil1!$C$1:$BL$10,5,FALSE)","v":36},{"$f":"T205-HLOOKUP(X205,Feuil1!$C$1:$BL$10,6,FALSE)","v":26},{"$f":"T205-HLOOKUP(X205,Feuil1!$C$1:$BL$10,7,FALSE)","v":16},{"$f":"T205-HLOOKUP(X205,Feuil1!$C$1:$BL$10,8,FALSE)","v":1},{"$f":"T205-HLOOKUP(X205,Feuil1!$C$1:$BL$10,9,FALSE)","v":-14},{"$f":"T205-HLOOKUP(X205,Feuil1!$C$1:$BL$10,10,FALSE)","v":-884},null,null,null,null,null,null,"INTB +"]
["F",null,null,null,null,null,null,2000,58,null,null,52,null,null,52,64,null,null,64,116,null,"INTB +",1,{"$f":"IF(I206=\"\",\"\",IF(A206=\"H\",IF(OR(H206=\"SEN\",H206<1997),VLOOKUP(I206,Feuil1!$A$11:$G$29,6),IF(AND(H206>1996,H206<2000),VLOOKUP(I206,Feuil1!$A$11:$G$29,5),IF(AND(H206>1999,H206<2002),VLOOKUP(I206,Feuil1!$A$11:$G$29,4),IF(AND(H206>2001,H206<2004),VLOOKUP(I206,Feuil1!$A$11:$G$29,3),VLOOKUP(I206,Feuil1!$A$11:$G$29,2))))),IF(OR(H206=\"SEN\",H206<1997),VLOOKUP(I206,Feuil1!$G$11:$L$25,6),IF(AND(H206>1996,H206<2000),VLOOKUP(I206,Feuil1!$G$11:$L$25,5),IF(AND(H206>1999,H206<2002),VLOOKUP(I206,Feuil1!$G$11:$L$25,4),IF(AND(H206>2001,H206<2004),VLOOKUP(I206,Feuil1!$G$11:$L$25,3),VLOOKUP(I206,Feuil1!$G$11:$L$25,2)))))))","v":"FC2 58"},163.31369874863211,null," ",{"$f":"T206-HLOOKUP(X206,Feuil1!$C$1:$BL$10,2,FALSE)","v":66},{"$f":"T206-HLOOKUP(X206,Feuil1!$C$1:$BL$10,3,FALSE)","v":56},{"$f":"T206-HLOOKUP(X206,Feuil1!$C$1:$BL$10,4,FALSE)","v":46},{"$f":"T206-HLOOKUP(X206,Feuil1!$C$1:$BL$10,5,FALSE)","v":36},{"$f":"T206-HLOOKUP(X206,Feuil1!$C$1:$BL$10,6,FALSE)","v":26},{"$f":"T206-HLOOKUP(X206,Feuil1!$C$1:$BL$10,7,FALSE)","v":16},{"$f":"T206-HLOOKUP(X206,Feuil1!$C$1:$BL$10,8,FALSE)","v":1},{"$f":"T206-HLOOKUP(X206,Feuil1!$C$1:$BL$10,9,FALSE)","v":-14},{"$f":"T206-HLOOKUP(X206,Feuil1!$C$1:$BL$10,10,FALSE)","v":-884},null,null,null,null,null,null,"INTB +"]
["F",null,null,null,null,null,null,2000,58,null,null,52,null,null,52,64,null,null,64,116,null,"INTB +",1,{"$f":"IF(I207=\"\",\"\",IF(A207=\"H\",IF(OR(H207=\"SEN\",H207<1997),VLOOKUP(I207,Feuil1!$A$11:$G$29,6),IF(AND(H207>1996,H207<2000),VLOOKUP(I207,Feuil1!$A$11:$G$29,5),IF(AND(H207>1999,H207<2002),VLOOKUP(I207,Feuil1!$A$11:$G$29,4),IF(AND(H207>2001,H207<2004),VLOOKUP(I207,Feuil1!$A$11:$G$29,3),VLOOKUP(I207,Feuil1!$A$11:$G$29,2))))),IF(OR(H207=\"SEN\",H207<1997),VLOOKUP(I207,Feuil1!$G$11:$L$25,6),IF(AND(H207>1996,H207<2000),VLOOKUP(I207,Feuil1!$G$11:$L$25,5),IF(AND(H207>1999,H207<2002),VLOOKUP(I207,Feuil1!$G$11:$L$25,4),IF(AND(H207>2001,H207<2004),VLOOKUP(I207,Feuil1!$G$11:$L$25,3),VLOOKUP(I207,Feuil1!$G$11:$L$25,2)))))))","v":"FC2 58"},163.31369874863211,null," ",{"$f":"T207-HLOOKUP(X207,Feuil1!$C$1:$BL$10,2,FALSE)","v":66},{"$f":"T207-HLOOKUP(X207,Feuil1!$C$1:$BL$10,3,FALSE)","v":56},{"$f":"T207-HLOOKUP(X207,Feuil1!$C$1:$BL$10,4,FALSE)","v":46},{"$f":"T207-HLOOKUP(X207,Feuil1!$C$1:$BL$10,5,FALSE)","v":36},{"$f":"T207-HLOOKUP(X207,Feuil1!$C$1:$BL$10,6,FALSE)","v":26},{"$f":"T207-HLOOKUP(X207,Feuil1!$C$1:$BL$10,7,FALSE)","v":16},{"$f":"T207-HLOOKUP(X207,Feuil1!$C$1:$BL$10,8,FALSE)","v":1},{"$f":"T207-HLOOKUP(X207,Feuil1!$C$1:$BL$10,9,FALSE)","v":-14},{"$f":"T207-HLOOKUP(X207,Feuil1!$C$1:$BL$10,10,FALSE)","v":-884},null,null,null,null,null,null,"INTB +"]
["F",null,null,null,null,null,null,2000,58,null,null,52,null,null,52,64,null,null,64,116,null,"INTB +",1,{"$f":"IF(I208=\"\",\"\",IF(A208=\"H\",IF(OR(H208=\"SEN\",H208<1997),VLOOKUP(I208,Feuil1!$A$11:$G$29,6),IF(AND(H208>1996,H208<2000),VLOOKUP(I208,Feuil1!$A$11:$G$29,5),IF(AND(H208>1999,H208<2002),VLOOKUP(I208,Feuil1!$A$11:$G$29,4),IF(AND(H208>2001,H208<2004),VLOOKUP(I208,Feuil1!$A$11:$G$29,3),VLOOKUP(I208,Feuil1!$A$11:$G$29,2))))),IF(OR(H208=\"SEN\",H208<1997),VLOOKUP(I208,Feuil1!$G$11:$L$25,6),IF(AND(H208>1996,H208<2000),VLOOKUP(I208,Feuil1!$G$11:$L$25,5),IF(AND(H208>1999,H208<2002),VLOOKUP(I208,Feuil1!$G$11:$L$25,4),IF(AND(H208>2001,H208<2004),VLOOKUP(I208,Feuil1!$G$11:$L$25,3),VLOOKUP(I208,Feuil1!$G$11:$L$25,2)))))))","v":"FC2 58"},163.31369874863211,null," ",{"$f":"T208-HLOOKUP(X208,Feuil1!$C$1:$BL$10,2,FALSE)","v":66},{"$f":"T208-HLOOKUP(X208,Feuil1!$C$1:$BL$10,3,FALSE)","v":56},{"$f":"T208-HLOOKUP(X208,Feuil1!$C$1:$BL$10,4,FALSE)","v":46},{"$f":"T208-HLOOKUP(X208,Feuil1!$C$1:$BL$10,5,FALSE)","v":36},{"$f":"T208-HLOOKUP(X208,Feuil1!$C$1:$BL$10,6,FALSE)","v":26},{"$f":"T208-HLOOKUP(X208,Feuil1!$C$1:$BL$10,7,FALSE)","v":16},{"$f":"T208-HLOOKUP(X208,Feuil1!$C$1:$BL$10,8,FALSE)","v":1},{"$f":"T208-HLOOKUP(X208,Feuil1!$C$1:$BL$10,9,FALSE)","v":-14},{"$f":"T208-HLOOKUP(X208,Feuil1!$C$1:$BL$10,10,FALSE)","v":-884},null,null,null,null,null,null,"INTB +"]
["F",null,null,null,null,null,null,2000,58,null,null,52,null,null,52,64,null,null,64,116,null,"INTB +",1,{"$f":"IF(I209=\"\",\"\",IF(A209=\"H\",IF(OR(H209=\"SEN\",H209<1997),VLOOKUP(I209,Feuil1!$A$11:$G$29,6),IF(AND(H209>1996,H209<2000),VLOOKUP(I209,Feuil1!$A$11:$G$29,5),IF(AND(H209>1999,H209<2002),VLOOKUP(I209,Feuil1!$A$11:$G$29,4),IF(AND(H209>2001,H209<2004),VLOOKUP(I209,Feuil1!$A$11:$G$29,3),VLOOKUP(I209,Feuil1!$A$11:$G$29,2))))),IF(OR(H209=\"SEN\",H209<1997),VLOOKUP(I209,Feuil1!$G$11:$L$25,6),IF(AND(H209>1996,H209<2000),VLOOKUP(I209,Feuil1!$G$11:$L$25,5),IF(AND(H209>1999,H209<2002),VLOOKUP(I209,Feuil1!$G$11:$L$25,4),IF(AND(H209>2001,H209<2004),VLOOKUP(I209,Feuil1!$G$11:$L$25,3),VLOOKUP(I209,Feuil1!$G$11:$L$25,2)))))))","v":"FC2 58"},163.31369874863211,null," ",{"$f":"T209-HLOOKUP(X209,Feuil1!$C$1:$BL$10,2,FALSE)","v":66},{"$f":"T209-HLOOKUP(X209,Feuil1!$C$1:$BL$10,3,FALSE)","v":56},{"$f":"T209-HLOOKUP(X209,Feuil1!$C$1:$BL$10,4,FALSE)","v":46},{"$f":"T209-HLOOKUP(X209,Feuil1!$C$1:$BL$10,5,FALSE)","v":36},{"$f":"T209-HLOOKUP(X209,Feuil1!$C$1:$BL$10,6,FALSE)","v":26},{"$f":"T209-HLOOKUP(X209,Feuil1!$C$1:$BL$10,7,FALSE)","v":16},{"$f":"T209-HLOOKUP(X209,Feuil1!$C$1:$BL$10,8,FALSE)","v":1},{"$f":"T209-HLOOKUP(X209,Feuil1!$C$1:$BL$10,9,FALSE)","v":-14},{"$f":"T209-HLOOKUP(X209,Feuil1!$C$1:$BL$10,10,FALSE)","v":-884},null,null,null,null,null,null,"INTB +"]
["F",null,null,null,null,null,null,2000,58,null,null,52,null,null,{"$f":"IF(H210=\"\",\"\",IF(MAXA(L210:N210)<=0,0,MAXA(L210:N210)))","v":52},64,null,null,{"$f":"IF(H210=\"\",\"\",IF(MAXA(P210:R210)<=0,0,MAXA(P210:R210)))","v":64},{"$f":"IF(H210=\"\",\"\",IF(OR(O210=0,S210=0),0,O210+S210))","v":116},null,{"$f":"IF(H210=\"\",\"\",AQ210)","v":"INTB +"},{"$f":"IF(AJ210>=0,AJ210,IF(AI210>=0,AI210,IF(AH210>=0,AH210,IF(AG210>=0,AG210,IF(AF210>=0,AF210,IF(AE210>=0,AE210,IF(AD210>=0,AD210,IF(AC210>=0,AC210,AB210))))))))","v":1},{"$f":"IF(I210=\"\",\"\",IF(A210=\"H\",IF(OR(H210=\"SEN\",H210<1997),VLOOKUP(I210,Feuil1!$A$11:$G$29,6),IF(AND(H210>1996,H210<2000),VLOOKUP(I210,Feuil1!$A$11:$G$29,5),IF(AND(H210>1999,H210<2002),VLOOKUP(I210,Feuil1!$A$11:$G$29,4),IF(AND(H210>2001,H210<2004),VLOOKUP(I210,Feuil1!$A$11:$G$29,3),VLOOKUP(I210,Feuil1!$A$11:$G$29,2))))),IF(OR(H210=\"SEN\",H210<1997),VLOOKUP(I210,Feuil1!$G$11:$L$25,6),IF(AND(H210>1996,H210<2000),VLOOKUP(I210,Feuil1!$G$11:$L$25,5),IF(AND(H210>1999,H210<2002),VLOOKUP(I210,Feuil1!$G$11:$L$25,4),IF(AND(H210>2001,H210<2004),VLOOKUP(I210,Feuil1!$G$11:$L$25,3),VLOOKUP(I210,Feuil1!$G$11:$L$25,2)))))))","v":"FC2 58"},{"$f":"IF(I210=\"\",\"\",IF(A210=\"H\",10^(0.794358141*LOG(I210/174.393)^2)*T210,IF(A210=\"F\",10^(0.89726074*LOG(I210/148.026)^2)*T210,\"\")))","v":163.31369874863211},null," ",{"$f":"T210-HLOOKUP(X210,Feuil1!$C$1:$BL$10,2,FALSE)","v":66},{"$f":"T210-HLOOKUP(X210,Feuil1!$C$1:$BL$10,3,FALSE)","v":56},{"$f":"T210-HLOOKUP(X210,Feuil1!$C$1:$BL$10,4,FALSE)","v":46},{"$f":"T210-HLOOKUP(X210,Feuil1!$C$1:$BL$10,5,FALSE)","v":36},{"$f":"T210-HLOOKUP(X210,Feuil1!$C$1:$BL$10,6,FALSE)","v":26},{"$f":"T210-HLOOKUP(X210,Feuil1!$C$1:$BL$10,7,FALSE)","v":16},{"$f":"T210-HLOOKUP(X210,Feuil1!$C$1:$BL$10,8,FALSE)","v":1},{"$f":"T210-HLOOKUP(X210,Feuil1!$C$1:$BL$10,9,FALSE)","v":-14},{"$f":"T210-HLOOKUP(X210,Feuil1!$C$1:$BL$10,10,FALSE)","v":-884},null,null,null,null,null,null,{"$f":"IF(AJ210>=0,$AJ$4,IF(AI210>=0,$AI$4,IF(AH210>=0,$AH$4,IF(AG210>=0,$AG$4,IF(AF210>=0,$AF$4,IF(AE210>=0,$AE$4,IF(AD210>=0,$AD$4,IF(AC210>=0,$AC$4,$AB$4))))))))","v":"INTB +"}]
["F",null,null,null,null,null,null,2000,58,null,null,52,null,null,52,64,null,null,64,116,null,"INTB +",1,{"$f":"IF(I211=\"\",\"\",IF(A211=\"H\",IF(OR(H211=\"SEN\",H211<1997),VLOOKUP(I211,Feuil1!$A$11:$G$29,6),IF(AND(H211>1996,H211<2000),VLOOKUP(I211,Feuil1!$A$11:$G$29,5),IF(AND(H211>1999,H211<2002),VLOOKUP(I211,Feuil1!$A$11:$G$29,4),IF(AND(H211>2001,H211<2004),VLOOKUP(I211,Feuil1!$A$11:$G$29,3),VLOOKUP(I211,Feuil1!$A$11:$G$29,2))))),IF(OR(H211=\"SEN\",H211<1997),VLOOKUP(I211,Feuil1!$G$11:$L$25,6),IF(AND(H211>1996,H211<2000),VLOOKUP(I211,Feuil1!$G$11:$L$25,5),IF(AND(H211>1999,H211<2002),VLOOKUP(I211,Feuil1!$G$11:$L$25,4),IF(AND(H211>2001,H211<2004),VLOOKUP(I211,Feuil1!$G$11:$L$25,3),VLOOKUP(I211,Feuil1!$G$11:$L$25,2)))))))","v":"FC2 58"},163.31369874863211,null," ",{"$f":"T211-HLOOKUP(X211,Feuil1!$C$1:$BL$10,2,FALSE)","v":66},{"$f":"T211-HLOOKUP(X211,Feuil1!$C$1:$BL$10,3,FALSE)","v":56},{"$f":"T211-HLOOKUP(X211,Feuil1!$C$1:$BL$10,4,FALSE)","v":46},{"$f":"T211-HLOOKUP(X211,Feuil1!$C$1:$BL$10,5,FALSE)","v":36},{"$f":"T211-HLOOKUP(X211,Feuil1!$C$1:$BL$10,6,FALSE)","v":26},{"$f":"T211-HLOOKUP(X211,Feuil1!$C$1:$BL$10,7,FALSE)","v":16},{"$f":"T211-HLOOKUP(X211,Feuil1!$C$1:$BL$10,8,FALSE)","v":1},{"$f":"T211-HLOOKUP(X211,Feuil1!$C$1:$BL$10,9,FALSE)","v":-14},{"$f":"T211-HLOOKUP(X211,Feuil1!$C$1:$BL$10,10,FALSE)","v":-884},null,null,null,null,null,null,"INTB +"]
["F",null,null,null,null,null,null,2000,58,null,null,52,null,null,52,64,null,null,64,116,null,"INTB +",1,{"$f":"IF(I212=\"\",\"\",IF(A212=\"H\",IF(OR(H212=\"SEN\",H212<1997),VLOOKUP(I212,Feuil1!$A$11:$G$29,6),IF(AND(H212>1996,H212<2000),VLOOKUP(I212,Feuil1!$A$11:$G$29,5),IF(AND(H212>1999,H212<2002),VLOOKUP(I212,Feuil1!$A$11:$G$29,4),IF(AND(H212>2001,H212<2004),VLOOKUP(I212,Feuil1!$A$11:$G$29,3),VLOOKUP(I212,Feuil1!$A$11:$G$29,2))))),IF(OR(H212=\"SEN\",H212<1997),VLOOKUP(I212,Feuil1!$G$11:$L$25,6),IF(AND(H212>1996,H212<2000),VLOOKUP(I212,Feuil1!$G$11:$L$25,5),IF(AND(H212>1999,H212<2002),VLOOKUP(I212,Feuil1!$G$11:$L$25,4),IF(AND(H212>2001,H212<2004),VLOOKUP(I212,Feuil1!$G$11:$L$25,3),VLOOKUP(I212,Feuil1!$G$11:$L$25,2)))))))","v":"FC2 58"},163.31369874863211,null," ",{"$f":"T212-HLOOKUP(X212,Feuil1!$C$1:$BL$10,2,FALSE)","v":66},{"$f":"T212-HLOOKUP(X212,Feuil1!$C$1:$BL$10,3,FALSE)","v":56},{"$f":"T212-HLOOKUP(X212,Feuil1!$C$1:$BL$10,4,FALSE)","v":46},{"$f":"T212-HLOOKUP(X212,Feuil1!$C$1:$BL$10,5,FALSE)","v":36},{"$f":"T212-HLOOKUP(X212,Feuil1!$C$1:$BL$10,6,FALSE)","v":26},{"$f":"T212-HLOOKUP(X212,Feuil1!$C$1:$BL$10,7,FALSE)","v":16},{"$f":"T212-HLOOKUP(X212,Feuil1!$C$1:$BL$10,8,FALSE)","v":1},{"$f":"T212-HLOOKUP(X212,Feuil1!$C$1:$BL$10,9,FALSE)","v":-14},{"$f":"T212-HLOOKUP(X212,Feuil1!$C$1:$BL$10,10,FALSE)","v":-884},null,null,null,null,null,null,"INTB +"]
["F",null,null,null,null,null,null,2000,58,null,null,52,null,null,52,64,null,null,64,116,null,"INTB +",1,{"$f":"IF(I213=\"\",\"\",IF(A213=\"H\",IF(OR(H213=\"SEN\",H213<1997),VLOOKUP(I213,Feuil1!$A$11:$G$29,6),IF(AND(H213>1996,H213<2000),VLOOKUP(I213,Feuil1!$A$11:$G$29,5),IF(AND(H213>1999,H213<2002),VLOOKUP(I213,Feuil1!$A$11:$G$29,4),IF(AND(H213>2001,H213<2004),VLOOKUP(I213,Feuil1!$A$11:$G$29,3),VLOOKUP(I213,Feuil1!$A$11:$G$29,2))))),IF(OR(H213=\"SEN\",H213<1997),VLOOKUP(I213,Feuil1!$G$11:$L$25,6),IF(AND(H213>1996,H213<2000),VLOOKUP(I213,Feuil1!$G$11:$L$25,5),IF(AND(H213>1999,H213<2002),VLOOKUP(I213,Feuil1!$G$11:$L$25,4),IF(AND(H213>2001,H213<2004),VLOOKUP(I213,Feuil1!$G$11:$L$25,3),VLOOKUP(I213,Feuil1!$G$11:$L$25,2)))))))","v":"FC2 58"},163.31369874863211,null," ",{"$f":"T213-HLOOKUP(X213,Feuil1!$C$1:$BL$10,2,FALSE)","v":66},{"$f":"T213-HLOOKUP(X213,Feuil1!$C$1:$BL$10,3,FALSE)","v":56},{"$f":"T213-HLOOKUP(X213,Feuil1!$C$1:$BL$10,4,FALSE)","v":46},{"$f":"T213-HLOOKUP(X213,Feuil1!$C$1:$BL$10,5,FALSE)","v":36},{"$f":"T213-HLOOKUP(X213,Feuil1!$C$1:$BL$10,6,FALSE)","v":26},{"$f":"T213-HLOOKUP(X213,Feuil1!$C$1:$BL$10,7,FALSE)","v":16},{"$f":"T213-HLOOKUP(X213,Feuil1!$C$1:$BL$10,8,FALSE)","v":1},{"$f":"T213-HLOOKUP(X213,Feuil1!$C$1:$BL$10,9,FALSE)","v":-14},{"$f":"T213-HLOOKUP(X213,Feuil1!$C$1:$BL$10,10,FALSE)","v":-884},null,null,null,null,null,null,"INTB +"]
["F",null,null,null,null,null,null,2000,58,null,null,52,null,null,52,64,null,null,64,116,null,"INTB +",1,{"$f":"IF(I214=\"\",\"\",IF(A214=\"H\",IF(OR(H214=\"SEN\",H214<1997),VLOOKUP(I214,Feuil1!$A$11:$G$29,6),IF(AND(H214>1996,H214<2000),VLOOKUP(I214,Feuil1!$A$11:$G$29,5),IF(AND(H214>1999,H214<2002),VLOOKUP(I214,Feuil1!$A$11:$G$29,4),IF(AND(H214>2001,H214<2004),VLOOKUP(I214,Feuil1!$A$11:$G$29,3),VLOOKUP(I214,Feuil1!$A$11:$G$29,2))))),IF(OR(H214=\"SEN\",H214<1997),VLOOKUP(I214,Feuil1!$G$11:$L$25,6),IF(AND(H214>1996,H214<2000),VLOOKUP(I214,Feuil1!$G$11:$L$25,5),IF(AND(H214>1999,H214<2002),VLOOKUP(I214,Feuil1!$G$11:$L$25,4),IF(AND(H214>2001,H214<2004),VLOOKUP(I214,Feuil1!$G$11:$L$25,3),VLOOKUP(I214,Feuil1!$G$11:$L$25,2)))))))","v":"FC2 58"},163.31369874863211,null," ",{"$f":"T214-HLOOKUP(X214,Feuil1!$C$1:$BL$10,2,FALSE)","v":66},{"$f":"T214-HLOOKUP(X214,Feuil1!$C$1:$BL$10,3,FALSE)","v":56},{"$f":"T214-HLOOKUP(X214,Feuil1!$C$1:$BL$10,4,FALSE)","v":46},{"$f":"T214-HLOOKUP(X214,Feuil1!$C$1:$BL$10,5,FALSE)","v":36},{"$f":"T214-HLOOKUP(X214,Feuil1!$C$1:$BL$10,6,FALSE)","v":26},{"$f":"T214-HLOOKUP(X214,Feuil1!$C$1:$BL$10,7,FALSE)","v":16},{"$f":"T214-HLOOKUP(X214,Feuil1!$C$1:$BL$10,8,FALSE)","v":1},{"$f":"T214-HLOOKUP(X214,Feuil1!$C$1:$BL$10,9,FALSE)","v":-14},{"$f":"T214-HLOOKUP(X214,Feuil1!$C$1:$BL$10,10,FALSE)","v":-884},null,null,null,null,null,null,"INTB +"]
["F",null,null,null,null,null,null,2000,58,null,null,52,null,null,52,64,null,null,64,116,null,"INTB +",1,{"$f":"IF(I215=\"\",\"\",IF(A215=\"H\",IF(OR(H215=\"SEN\",H215<1997),VLOOKUP(I215,Feuil1!$A$11:$G$29,6),IF(AND(H215>1996,H215<2000),VLOOKUP(I215,Feuil1!$A$11:$G$29,5),IF(AND(H215>1999,H215<2002),VLOOKUP(I215,Feuil1!$A$11:$G$29,4),IF(AND(H215>2001,H215<2004),VLOOKUP(I215,Feuil1!$A$11:$G$29,3),VLOOKUP(I215,Feuil1!$A$11:$G$29,2))))),IF(OR(H215=\"SEN\",H215<1997),VLOOKUP(I215,Feuil1!$G$11:$L$25,6),IF(AND(H215>1996,H215<2000),VLOOKUP(I215,Feuil1!$G$11:$L$25,5),IF(AND(H215>1999,H215<2002),VLOOKUP(I215,Feuil1!$G$11:$L$25,4),IF(AND(H215>2001,H215<2004),VLOOKUP(I215,Feuil1!$G$11:$L$25,3),VLOOKUP(I215,Feuil1!$G$11:$L$25,2)))))))","v":"FC2 58"},163.31369874863211,null," ",{"$f":"T215-HLOOKUP(X215,Feuil1!$C$1:$BL$10,2,FALSE)","v":66},{"$f":"T215-HLOOKUP(X215,Feuil1!$C$1:$BL$10,3,FALSE)","v":56},{"$f":"T215-HLOOKUP(X215,Feuil1!$C$1:$BL$10,4,FALSE)","v":46},{"$f":"T215-HLOOKUP(X215,Feuil1!$C$1:$BL$10,5,FALSE)","v":36},{"$f":"T215-HLOOKUP(X215,Feuil1!$C$1:$BL$10,6,FALSE)","v":26},{"$f":"T215-HLOOKUP(X215,Feuil1!$C$1:$BL$10,7,FALSE)","v":16},{"$f":"T215-HLOOKUP(X215,Feuil1!$C$1:$BL$10,8,FALSE)","v":1},{"$f":"T215-HLOOKUP(X215,Feuil1!$C$1:$BL$10,9,FALSE)","v":-14},{"$f":"T215-HLOOKUP(X215,Feuil1!$C$1:$BL$10,10,FALSE)","v":-884},null,null,null,null,null,null,"INTB +"]
["F",null,null,null,null,null,null,2000,58,null,null,52,null,null,52,64,null,null,64,116,null,"INTB +",1,{"$f":"IF(I216=\"\",\"\",IF(A216=\"H\",IF(OR(H216=\"SEN\",H216<1997),VLOOKUP(I216,Feuil1!$A$11:$G$29,6),IF(AND(H216>1996,H216<2000),VLOOKUP(I216,Feuil1!$A$11:$G$29,5),IF(AND(H216>1999,H216<2002),VLOOKUP(I216,Feuil1!$A$11:$G$29,4),IF(AND(H216>2001,H216<2004),VLOOKUP(I216,Feuil1!$A$11:$G$29,3),VLOOKUP(I216,Feuil1!$A$11:$G$29,2))))),IF(OR(H216=\"SEN\",H216<1997),VLOOKUP(I216,Feuil1!$G$11:$L$25,6),IF(AND(H216>1996,H216<2000),VLOOKUP(I216,Feuil1!$G$11:$L$25,5),IF(AND(H216>1999,H216<2002),VLOOKUP(I216,Feuil1!$G$11:$L$25,4),IF(AND(H216>2001,H216<2004),VLOOKUP(I216,Feuil1!$G$11:$L$25,3),VLOOKUP(I216,Feuil1!$G$11:$L$25,2)))))))","v":"FC2 58"},163.31369874863211,null," ",{"$f":"T216-HLOOKUP(X216,Feuil1!$C$1:$BL$10,2,FALSE)","v":66},{"$f":"T216-HLOOKUP(X216,Feuil1!$C$1:$BL$10,3,FALSE)","v":56},{"$f":"T216-HLOOKUP(X216,Feuil1!$C$1:$BL$10,4,FALSE)","v":46},{"$f":"T216-HLOOKUP(X216,Feuil1!$C$1:$BL$10,5,FALSE)","v":36},{"$f":"T216-HLOOKUP(X216,Feuil1!$C$1:$BL$10,6,FALSE)","v":26},{"$f":"T216-HLOOKUP(X216,Feuil1!$C$1:$BL$10,7,FALSE)","v":16},{"$f":"T216-HLOOKUP(X216,Feuil1!$C$1:$BL$10,8,FALSE)","v":1},{"$f":"T216-HLOOKUP(X216,Feuil1!$C$1:$BL$10,9,FALSE)","v":-14},{"$f":"T216-HLOOKUP(X216,Feuil1!$C$1:$BL$10,10,FALSE)","v":-884},null,null,null,null,null,null,"INTB +"]
["F",null,null,null,null,null,null,2000,58,null,null,52,null,null,52,64,null,null,64,116,null,"INTB +",1,{"$f":"IF(I217=\"\",\"\",IF(A217=\"H\",IF(OR(H217=\"SEN\",H217<1997),VLOOKUP(I217,Feuil1!$A$11:$G$29,6),IF(AND(H217>1996,H217<2000),VLOOKUP(I217,Feuil1!$A$11:$G$29,5),IF(AND(H217>1999,H217<2002),VLOOKUP(I217,Feuil1!$A$11:$G$29,4),IF(AND(H217>2001,H217<2004),VLOOKUP(I217,Feuil1!$A$11:$G$29,3),VLOOKUP(I217,Feuil1!$A$11:$G$29,2))))),IF(OR(H217=\"SEN\",H217<1997),VLOOKUP(I217,Feuil1!$G$11:$L$25,6),IF(AND(H217>1996,H217<2000),VLOOKUP(I217,Feuil1!$G$11:$L$25,5),IF(AND(H217>1999,H217<2002),VLOOKUP(I217,Feuil1!$G$11:$L$25,4),IF(AND(H217>2001,H217<2004),VLOOKUP(I217,Feuil1!$G$11:$L$25,3),VLOOKUP(I217,Feuil1!$G$11:$L$25,2)))))))","v":"FC2 58"},163.31369874863211,null," ",{"$f":"T217-HLOOKUP(X217,Feuil1!$C$1:$BL$10,2,FALSE)","v":66},{"$f":"T217-HLOOKUP(X217,Feuil1!$C$1:$BL$10,3,FALSE)","v":56},{"$f":"T217-HLOOKUP(X217,Feuil1!$C$1:$BL$10,4,FALSE)","v":46},{"$f":"T217-HLOOKUP(X217,Feuil1!$C$1:$BL$10,5,FALSE)","v":36},{"$f":"T217-HLOOKUP(X217,Feuil1!$C$1:$BL$10,6,FALSE)","v":26},{"$f":"T217-HLOOKUP(X217,Feuil1!$C$1:$BL$10,7,FALSE)","v":16},{"$f":"T217-HLOOKUP(X217,Feuil1!$C$1:$BL$10,8,FALSE)","v":1},{"$f":"T217-HLOOKUP(X217,Feuil1!$C$1:$BL$10,9,FALSE)","v":-14},{"$f":"T217-HLOOKUP(X217,Feuil1!$C$1:$BL$10,10,FALSE)","v":-884},null,null,null,null,null,null,"INTB +"]
["H",null,null,null,null,null,null,2002,69,null,null,95,null,null,{"$f":"IF(H218=\"\",\"\",IF(MAXA(L218:N218)<=0,0,MAXA(L218:N218)))","v":95},110,null,null,{"$f":"IF(H218=\"\",\"\",IF(MAXA(P218:R218)<=0,0,MAXA(P218:R218)))","v":110},{"$f":"IF(H218=\"\",\"\",IF(OR(O218=0,S218=0),0,O218+S218))","v":205},null,"INTB +",15,{"$f":"IF(I218=\"\",\"\",IF(A218=\"H\",IF(OR(H218=\"SEN\",H218<1997),VLOOKUP(I218,Feuil1!$A$11:$G$29,6),IF(AND(H218>1996,H218<2000),VLOOKUP(I218,Feuil1!$A$11:$G$29,5),IF(AND(H218>1999,H218<2002),VLOOKUP(I218,Feuil1!$A$11:$G$29,4),IF(AND(H218>2001,H218<2004),VLOOKUP(I218,Feuil1!$A$11:$G$29,3),VLOOKUP(I218,Feuil1!$A$11:$G$29,2))))),IF(OR(H218=\"SEN\",H218<1997),VLOOKUP(I218,Feuil1!$G$11:$L$25,6),IF(AND(H218>1996,H218<2000),VLOOKUP(I218,Feuil1!$G$11:$L$25,5),IF(AND(H218>1999,H218<2002),VLOOKUP(I218,Feuil1!$G$11:$L$25,4),IF(AND(H218>2001,H218<2004),VLOOKUP(I218,Feuil1!$G$11:$L$25,3),VLOOKUP(I218,Feuil1!$G$11:$L$25,2)))))))","v":"C1 69"},275.77820846990062,null," ",{"$f":"T218-HLOOKUP(X218,Feuil1!$C$1:$BL$10,2,FALSE)","v":120},{"$f":"T218-HLOOKUP(X218,Feuil1!$C$1:$BL$10,3,FALSE)","v":100},{"$f":"T218-HLOOKUP(X218,Feuil1!$C$1:$BL$10,4,FALSE)","v":90},{"$f":"T218-HLOOKUP(X218,Feuil1!$C$1:$BL$10,5,FALSE)","v":75},{"$f":"T218-HLOOKUP(X218,Feuil1!$C$1:$BL$10,6,FALSE)","v":55},{"$f":"T218-HLOOKUP(X218,Feuil1!$C$1:$BL$10,7,FALSE)","v":35},{"$f":"T218-HLOOKUP(X218,Feuil1!$C$1:$BL$10,8,FALSE)","v":15},{"$f":"T218-HLOOKUP(X218,Feuil1!$C$1:$BL$10,9,FALSE)","v":-5},{"$f":"T218-HLOOKUP(X218,Feuil1!$C$1:$BL$10,10,FALSE)","v":-795},null,null,null,null,null,null,"INTB +"]
["H",null,null,null,null,null,null,2002,69,null,null,95,null,null,{"$f":"IF(H219=\"\",\"\",IF(MAXA(L219:N219)<=0,0,MAXA(L219:N219)))","v":95},110,null,null,{"$f":"IF(H219=\"\",\"\",IF(MAXA(P219:R219)<=0,0,MAXA(P219:R219)))","v":110},{"$f":"IF(H219=\"\",\"\",IF(OR(O219=0,S219=0),0,O219+S219))","v":205},null,{"$f":"IF(H219=\"\",\"\",AQ219)","v":"INTB +"},{"$f":"IF(AJ219>=0,AJ219,IF(AI219>=0,AI219,IF(AH219>=0,AH219,IF(AG219>=0,AG219,IF(AF219>=0,AF219,IF(AE219>=0,AE219,IF(AD219>=0,AD219,IF(AC219>=0,AC219,AB219))))))))","v":15},{"$f":"IF(I219=\"\",\"\",IF(A219=\"H\",IF(OR(H219=\"SEN\",H219<1997),VLOOKUP(I219,Feuil1!$A$11:$G$29,6),IF(AND(H219>1996,H219<2000),VLOOKUP(I219,Feuil1!$A$11:$G$29,5),IF(AND(H219>1999,H219<2002),VLOOKUP(I219,Feuil1!$A$11:$G$29,4),IF(AND(H219>2001,H219<2004),VLOOKUP(I219,Feuil1!$A$11:$G$29,3),VLOOKUP(I219,Feuil1!$A$11:$G$29,2))))),IF(OR(H219=\"SEN\",H219<1997),VLOOKUP(I219,Feuil1!$G$11:$L$25,6),IF(AND(H219>1996,H219<2000),VLOOKUP(I219,Feuil1!$G$11:$L$25,5),IF(AND(H219>1999,H219<2002),VLOOKUP(I219,Feuil1!$G$11:$L$25,4),IF(AND(H219>2001,H219<2004),VLOOKUP(I219,Feuil1!$G$11:$L$25,3),VLOOKUP(I219,Feuil1!$G$11:$L$25,2)))))))","v":"C1 69"},{"$f":"IF(I219=\"\",\"\",IF(A219=\"H\",10^(0.794358141*LOG(I219/174.393)^2)*T219,IF(A219=\"F\",10^(0.89726074*LOG(I219/148.026)^2)*T219,\"\")))","v":275.77820846990062},null," ",{"$f":"T219-HLOOKUP(X219,Feuil1!$C$1:$BL$10,2,FALSE)","v":120},{"$f":"T219-HLOOKUP(X219,Feuil1!$C$1:$BL$10,3,FALSE)","v":100},{"$f":"T219-HLOOKUP(X219,Feuil1!$C$1:$BL$10,4,FALSE)","v":90},{"$f":"T219-HLOOKUP(X219,Feuil1!$C$1:$BL$10,5,FALSE)","v":75},{"$f":"T219-HLOOKUP(X219,Feuil1!$C$1:$BL$10,6,FALSE)","v":55},{"$f":"T219-HLOOKUP(X219,Feuil1!$C$1:$BL$10,7,FALSE)","v":35},{"$f":"T219-HLOOKUP(X219,Feuil1!$C$1:$BL$10,8,FALSE)","v":15},{"$f":"T219-HLOOKUP(X219,Feuil1!$C$1:$BL$10,9,FALSE)","v":-5},{"$f":"T219-HLOOKUP(X219,Feuil1!$C$1:$BL$10,10,FALSE)","v":-795},null,null,null,null,null,null,{"$f":"IF(AJ219>=0,$AJ$4,IF(AI219>=0,$AI$4,IF(AH219>=0,$AH$4,IF(AG219>=0,$AG$4,IF(AF219>=0,$AF$4,IF(AE219>=0,$AE$4,IF(AD219>=0,$AD$4,IF(AC219>=0,$AC$4,$AB$4))))))))","v":"INTB +"}]
["H",null,null,null,null,null,null,2002,69,null,null,95,null,null,95,110,null,null,110,205,null,"INTB +",15,{"$f":"IF(I220=\"\",\"\",IF(A220=\"H\",IF(OR(H220=\"SEN\",H220<1997),VLOOKUP(I220,Feuil1!$A$11:$G$29,6),IF(AND(H220>1996,H220<2000),VLOOKUP(I220,Feuil1!$A$11:$G$29,5),IF(AND(H220>1999,H220<2002),VLOOKUP(I220,Feuil1!$A$11:$G$29,4),IF(AND(H220>2001,H220<2004),VLOOKUP(I220,Feuil1!$A$11:$G$29,3),VLOOKUP(I220,Feuil1!$A$11:$G$29,2))))),IF(OR(H220=\"SEN\",H220<1997),VLOOKUP(I220,Feuil1!$G$11:$L$25,6),IF(AND(H220>1996,H220<2000),VLOOKUP(I220,Feuil1!$G$11:$L$25,5),IF(AND(H220>1999,H220<2002),VLOOKUP(I220,Feuil1!$G$11:$L$25,4),IF(AND(H220>2001,H220<2004),VLOOKUP(I220,Feuil1!$G$11:$L$25,3),VLOOKUP(I220,Feuil1!$G$11:$L$25,2)))))))","v":"C1 69"},275.77820846990062,null," ",{"$f":"T220-HLOOKUP(X220,Feuil1!$C$1:$BL$10,2,FALSE)","v":120},{"$f":"T220-HLOOKUP(X220,Feuil1!$C$1:$BL$10,3,FALSE)","v":100},{"$f":"T220-HLOOKUP(X220,Feuil1!$C$1:$BL$10,4,FALSE)","v":90},{"$f":"T220-HLOOKUP(X220,Feuil1!$C$1:$BL$10,5,FALSE)","v":75},{"$f":"T220-HLOOKUP(X220,Feuil1!$C$1:$BL$10,6,FALSE)","v":55},{"$f":"T220-HLOOKUP(X220,Feuil1!$C$1:$BL$10,7,FALSE)","v":35},{"$f":"T220-HLOOKUP(X220,Feuil1!$C$1:$BL$10,8,FALSE)","v":15},{"$f":"T220-HLOOKUP(X220,Feuil1!$C$1:$BL$10,9,FALSE)","v":-5},{"$f":"T220-HLOOKUP(X220,Feuil1!$C$1:$BL$10,10,FALSE)","v":-795},null,null,null,null,null,null,"INTB +"]
["H",null,null,null,null,null,null,2002,69,null,null,95,null,null,95,110,null,null,110,205,null,"INTB +",15,{"$f":"IF(I221=\"\",\"\",IF(A221=\"H\",IF(OR(H221=\"SEN\",H221<1997),VLOOKUP(I221,Feuil1!$A$11:$G$29,6),IF(AND(H221>1996,H221<2000),VLOOKUP(I221,Feuil1!$A$11:$G$29,5),IF(AND(H221>1999,H221<2002),VLOOKUP(I221,Feuil1!$A$11:$G$29,4),IF(AND(H221>2001,H221<2004),VLOOKUP(I221,Feuil1!$A$11:$G$29,3),VLOOKUP(I221,Feuil1!$A$11:$G$29,2))))),IF(OR(H221=\"SEN\",H221<1997),VLOOKUP(I221,Feuil1!$G$11:$L$25,6),IF(AND(H221>1996,H221<2000),VLOOKUP(I221,Feuil1!$G$11:$L$25,5),IF(AND(H221>1999,H221<2002),VLOOKUP(I221,Feuil1!$G$11:$L$25,4),IF(AND(H221>2001,H221<2004),VLOOKUP(I221,Feuil1!$G$11:$L$25,3),VLOOKUP(I221,Feuil1!$G$11:$L$25,2)))))))","v":"C1 69"},275.77820846990062,null," ",{"$f":"T221-HLOOKUP(X221,Feuil1!$C$1:$BL$10,2,FALSE)","v":120},{"$f":"T221-HLOOKUP(X221,Feuil1!$C$1:$BL$10,3,FALSE)","v":100},{"$f":"T221-HLOOKUP(X221,Feuil1!$C$1:$BL$10,4,FALSE)","v":90},{"$f":"T221-HLOOKUP(X221,Feuil1!$C$1:$BL$10,5,FALSE)","v":75},{"$f":"T221-HLOOKUP(X221,Feuil1!$C$1:$BL$10,6,FALSE)","v":55},{"$f":"T221-HLOOKUP(X221,Feuil1!$C$1:$BL$10,7,FALSE)","v":35},{"$f":"T221-HLOOKUP(X221,Feuil1!$C$1:$BL$10,8,FALSE)","v":15},{"$f":"T221-HLOOKUP(X221,Feuil1!$C$1:$BL$10,9,FALSE)","v":-5},{"$f":"T221-HLOOKUP(X221,Feuil1!$C$1:$BL$10,10,FALSE)","v":-795},null,null,null,null,null,null,"INTB +"]
["H",null,null,null,null,null,null,2002,69,null,null,95,null,null,95,110,null,null,110,205,null,"INTB +",15,{"$f":"IF(I222=\"\",\"\",IF(A222=\"H\",IF(OR(H222=\"SEN\",H222<1997),VLOOKUP(I222,Feuil1!$A$11:$G$29,6),IF(AND(H222>1996,H222<2000),VLOOKUP(I222,Feuil1!$A$11:$G$29,5),IF(AND(H222>1999,H222<2002),VLOOKUP(I222,Feuil1!$A$11:$G$29,4),IF(AND(H222>2001,H222<2004),VLOOKUP(I222,Feuil1!$A$11:$G$29,3),VLOOKUP(I222,Feuil1!$A$11:$G$29,2))))),IF(OR(H222=\"SEN\",H222<1997),VLOOKUP(I222,Feuil1!$G$11:$L$25,6),IF(AND(H222>1996,H222<2000),VLOOKUP(I222,Feuil1!$G$11:$L$25,5),IF(AND(H222>1999,H222<2002),VLOOKUP(I222,Feuil1!$G$11:$L$25,4),IF(AND(H222>2001,H222<2004),VLOOKUP(I222,Feuil1!$G$11:$L$25,3),VLOOKUP(I222,Feuil1!$G$11:$L$25,2)))))))","v":"C1 69"},275.77820846990062,null," ",{"$f":"T222-HLOOKUP(X222,Feuil1!$C$1:$BL$10,2,FALSE)","v":120},{"$f":"T222-HLOOKUP(X222,Feuil1!$C$1:$BL$10,3,FALSE)","v":100},{"$f":"T222-HLOOKUP(X222,Feuil1!$C$1:$BL$10,4,FALSE)","v":90},{"$f":"T222-HLOOKUP(X222,Feuil1!$C$1:$BL$10,5,FALSE)","v":75},{"$f":"T222-HLOOKUP(X222,Feuil1!$C$1:$BL$10,6,FALSE)","v":55},{"$f":"T222-HLOOKUP(X222,Feuil1!$C$1:$BL$10,7,FALSE)","v":35},{"$f":"T222-HLOOKUP(X222,Feuil1!$C$1:$BL$10,8,FALSE)","v":15},{"$f":"T222-HLOOKUP(X222,Feuil1!$C$1:$BL$10,9,FALSE)","v":-5},{"$f":"T222-HLOOKUP(X222,Feuil1!$C$1:$BL$10,10,FALSE)","v":-795},null,null,null,null,null,null,"INTB +"]
["H",null,null,null,null,null,null,2002,69,null,null,95,null,null,95,110,null,null,110,205,null,"INTB +",15,{"$f":"IF(I223=\"\",\"\",IF(A223=\"H\",IF(OR(H223=\"SEN\",H223<1997),VLOOKUP(I223,Feuil1!$A$11:$G$29,6),IF(AND(H223>1996,H223<2000),VLOOKUP(I223,Feuil1!$A$11:$G$29,5),IF(AND(H223>1999,H223<2002),VLOOKUP(I223,Feuil1!$A$11:$G$29,4),IF(AND(H223>2001,H223<2004),VLOOKUP(I223,Feuil1!$A$11:$G$29,3),VLOOKUP(I223,Feuil1!$A$11:$G$29,2))))),IF(OR(H223=\"SEN\",H223<1997),VLOOKUP(I223,Feuil1!$G$11:$L$25,6),IF(AND(H223>1996,H223<2000),VLOOKUP(I223,Feuil1!$G$11:$L$25,5),IF(AND(H223>1999,H223<2002),VLOOKUP(I223,Feuil1!$G$11:$L$25,4),IF(AND(H223>2001,H223<2004),VLOOKUP(I223,Feuil1!$G$11:$L$25,3),VLOOKUP(I223,Feuil1!$G$11:$L$25,2)))))))","v":"C1 69"},275.77820846990062,null," ",{"$f":"T223-HLOOKUP(X223,Feuil1!$C$1:$BL$10,2,FALSE)","v":120},{"$f":"T223-HLOOKUP(X223,Feuil1!$C$1:$BL$10,3,FALSE)","v":100},{"$f":"T223-HLOOKUP(X223,Feuil1!$C$1:$BL$10,4,FALSE)","v":90},{"$f":"T223-HLOOKUP(X223,Feuil1!$C$1:$BL$10,5,FALSE)","v":75},{"$f":"T223-HLOOKUP(X223,Feuil1!$C$1:$BL$10,6,FALSE)","v":55},{"$f":"T223-HLOOKUP(X223,Feuil1!$C$1:$BL$10,7,FALSE)","v":35},{"$f":"T223-HLOOKUP(X223,Feuil1!$C$1:$BL$10,8,FALSE)","v":15},{"$f":"T223-HLOOKUP(X223,Feuil1!$C$1:$BL$10,9,FALSE)","v":-5},{"$f":"T223-HLOOKUP(X223,Feuil1!$C$1:$BL$10,10,FALSE)","v":-795},null,null,null,null,null,null,"INTB +"]
["H",null,null,null,null,null,null,2002,69,null,null,95,null,null,95,110,null,null,110,205,null,"INTB +",15,{"$f":"IF(I224=\"\",\"\",IF(A224=\"H\",IF(OR(H224=\"SEN\",H224<1997),VLOOKUP(I224,Feuil1!$A$11:$G$29,6),IF(AND(H224>1996,H224<2000),VLOOKUP(I224,Feuil1!$A$11:$G$29,5),IF(AND(H224>1999,H224<2002),VLOOKUP(I224,Feuil1!$A$11:$G$29,4),IF(AND(H224>2001,H224<2004),VLOOKUP(I224,Feuil1!$A$11:$G$29,3),VLOOKUP(I224,Feuil1!$A$11:$G$29,2))))),IF(OR(H224=\"SEN\",H224<1997),VLOOKUP(I224,Feuil1!$G$11:$L$25,6),IF(AND(H224>1996,H224<2000),VLOOKUP(I224,Feuil1!$G$11:$L$25,5),IF(AND(H224>1999,H224<2002),VLOOKUP(I224,Feuil1!$G$11:$L$25,4),IF(AND(H224>2001,H224<2004),VLOOKUP(I224,Feuil1!$G$11:$L$25,3),VLOOKUP(I224,Feuil1!$G$11:$L$25,2)))))))","v":"C1 69"},275.77820846990062,null," ",{"$f":"T224-HLOOKUP(X224,Feuil1!$C$1:$BL$10,2,FALSE)","v":120},{"$f":"T224-HLOOKUP(X224,Feuil1!$C$1:$BL$10,3,FALSE)","v":100},{"$f":"T224-HLOOKUP(X224,Feuil1!$C$1:$BL$10,4,FALSE)","v":90},{"$f":"T224-HLOOKUP(X224,Feuil1!$C$1:$BL$10,5,FALSE)","v":75},{"$f":"T224-HLOOKUP(X224,Feuil1!$C$1:$BL$10,6,FALSE)","v":55},{"$f":"T224-HLOOKUP(X224,Feuil1!$C$1:$BL$10,7,FALSE)","v":35},{"$f":"T224-HLOOKUP(X224,Feuil1!$C$1:$BL$10,8,FALSE)","v":15},{"$f":"T224-HLOOKUP(X224,Feuil1!$C$1:$BL$10,9,FALSE)","v":-5},{"$f":"T224-HLOOKUP(X224,Feuil1!$C$1:$BL$10,10,FALSE)","v":-795},null,null,null,null,null,null,"INTB +"]
["H",null,null,null,null,null,null,2002,69,null,null,95,null,null,95,110,null,null,110,205,null,"INTB +",15,{"$f":"IF(I225=\"\",\"\",IF(A225=\"H\",IF(OR(H225=\"SEN\",H225<1997),VLOOKUP(I225,Feuil1!$A$11:$G$29,6),IF(AND(H225>1996,H225<2000),VLOOKUP(I225,Feuil1!$A$11:$G$29,5),IF(AND(H225>1999,H225<2002),VLOOKUP(I225,Feuil1!$A$11:$G$29,4),IF(AND(H225>2001,H225<2004),VLOOKUP(I225,Feuil1!$A$11:$G$29,3),VLOOKUP(I225,Feuil1!$A$11:$G$29,2))))),IF(OR(H225=\"SEN\",H225<1997),VLOOKUP(I225,Feuil1!$G$11:$L$25,6),IF(AND(H225>1996,H225<2000),VLOOKUP(I225,Feuil1!$G$11:$L$25,5),IF(AND(H225>1999,H225<2002),VLOOKUP(I225,Feuil1!$G$11:$L$25,4),IF(AND(H225>2001,H225<2004),VLOOKUP(I225,Feuil1!$G$11:$L$25,3),VLOOKUP(I225,Feuil1!$G$11:$L$25,2)))))))","v":"C1 69"},275.77820846990062,null," ",{"$f":"T225-HLOOKUP(X225,Feuil1!$C$1:$BL$10,2,FALSE)","v":120},{"$f":"T225-HLOOKUP(X225,Feuil1!$C$1:$BL$10,3,FALSE)","v":100},{"$f":"T225-HLOOKUP(X225,Feuil1!$C$1:$BL$10,4,FALSE)","v":90},{"$f":"T225-HLOOKUP(X225,Feuil1!$C$1:$BL$10,5,FALSE)","v":75},{"$f":"T225-HLOOKUP(X225,Feuil1!$C$1:$BL$10,6,FALSE)","v":55},{"$f":"T225-HLOOKUP(X225,Feuil1!$C$1:$BL$10,7,FALSE)","v":35},{"$f":"T225-HLOOKUP(X225,Feuil1!$C$1:$BL$10,8,FALSE)","v":15},{"$f":"T225-HLOOKUP(X225,Feuil1!$C$1:$BL$10,9,FALSE)","v":-5},{"$f":"T225-HLOOKUP(X225,Feuil1!$C$1:$BL$10,10,FALSE)","v":-795},null,null,null,null,null,null,"INTB +"]
["H",null,null,null,null,null,null,2002,69,null,null,95,null,null,95,110,null,null,110,205,null,"INTB +",15,{"$f":"IF(I226=\"\",\"\",IF(A226=\"H\",IF(OR(H226=\"SEN\",H226<1997),VLOOKUP(I226,Feuil1!$A$11:$G$29,6),IF(AND(H226>1996,H226<2000),VLOOKUP(I226,Feuil1!$A$11:$G$29,5),IF(AND(H226>1999,H226<2002),VLOOKUP(I226,Feuil1!$A$11:$G$29,4),IF(AND(H226>2001,H226<2004),VLOOKUP(I226,Feuil1!$A$11:$G$29,3),VLOOKUP(I226,Feuil1!$A$11:$G$29,2))))),IF(OR(H226=\"SEN\",H226<1997),VLOOKUP(I226,Feuil1!$G$11:$L$25,6),IF(AND(H226>1996,H226<2000),VLOOKUP(I226,Feuil1!$G$11:$L$25,5),IF(AND(H226>1999,H226<2002),VLOOKUP(I226,Feuil1!$G$11:$L$25,4),IF(AND(H226>2001,H226<2004),VLOOKUP(I226,Feuil1!$G$11:$L$25,3),VLOOKUP(I226,Feuil1!$G$11:$L$25,2)))))))","v":"C1 69"},275.77820846990062,null," ",{"$f":"T226-HLOOKUP(X226,Feuil1!$C$1:$BL$10,2,FALSE)","v":120},{"$f":"T226-HLOOKUP(X226,Feuil1!$C$1:$BL$10,3,FALSE)","v":100},{"$f":"T226-HLOOKUP(X226,Feuil1!$C$1:$BL$10,4,FALSE)","v":90},{"$f":"T226-HLOOKUP(X226,Feuil1!$C$1:$BL$10,5,FALSE)","v":75},{"$f":"T226-HLOOKUP(X226,Feuil1!$C$1:$BL$10,6,FALSE)","v":55},{"$f":"T226-HLOOKUP(X226,Feuil1!$C$1:$BL$10,7,FALSE)","v":35},{"$f":"T226-HLOOKUP(X226,Feuil1!$C$1:$BL$10,8,FALSE)","v":15},{"$f":"T226-HLOOKUP(X226,Feuil1!$C$1:$BL$10,9,FALSE)","v":-5},{"$f":"T226-HLOOKUP(X226,Feuil1!$C$1:$BL$10,10,FALSE)","v":-795},null,null,null,null,null,null,"INTB +"]
["H",null,null,null,null,null,null,2002,69,null,null,95,null,null,95,110,null,null,110,205,null,"INTB +",15,{"$f":"IF(I227=\"\",\"\",IF(A227=\"H\",IF(OR(H227=\"SEN\",H227<1997),VLOOKUP(I227,Feuil1!$A$11:$G$29,6),IF(AND(H227>1996,H227<2000),VLOOKUP(I227,Feuil1!$A$11:$G$29,5),IF(AND(H227>1999,H227<2002),VLOOKUP(I227,Feuil1!$A$11:$G$29,4),IF(AND(H227>2001,H227<2004),VLOOKUP(I227,Feuil1!$A$11:$G$29,3),VLOOKUP(I227,Feuil1!$A$11:$G$29,2))))),IF(OR(H227=\"SEN\",H227<1997),VLOOKUP(I227,Feuil1!$G$11:$L$25,6),IF(AND(H227>1996,H227<2000),VLOOKUP(I227,Feuil1!$G$11:$L$25,5),IF(AND(H227>1999,H227<2002),VLOOKUP(I227,Feuil1!$G$11:$L$25,4),IF(AND(H227>2001,H227<2004),VLOOKUP(I227,Feuil1!$G$11:$L$25,3),VLOOKUP(I227,Feuil1!$G$11:$L$25,2)))))))","v":"C1 69"},275.77820846990062,null," ",{"$f":"T227-HLOOKUP(X227,Feuil1!$C$1:$BL$10,2,FALSE)","v":120},{"$f":"T227-HLOOKUP(X227,Feuil1!$C$1:$BL$10,3,FALSE)","v":100},{"$f":"T227-HLOOKUP(X227,Feuil1!$C$1:$BL$10,4,FALSE)","v":90},{"$f":"T227-HLOOKUP(X227,Feuil1!$C$1:$BL$10,5,FALSE)","v":75},{"$f":"T227-HLOOKUP(X227,Feuil1!$C$1:$BL$10,6,FALSE)","v":55},{"$f":"T227-HLOOKUP(X227,Feuil1!$C$1:$BL$10,7,FALSE)","v":35},{"$f":"T227-HLOOKUP(X227,Feuil1!$C$1:$BL$10,8,FALSE)","v":15},{"$f":"T227-HLOOKUP(X227,Feuil1!$C$1:$BL$10,9,FALSE)","v":-5},{"$f":"T227-HLOOKUP(X227,Feuil1!$C$1:$BL$10,10,FALSE)","v":-795},null,null,null,null,null,null,"INTB +"]
["H",null,null,null,null,null,null,2002,69,null,null,95,null,null,95,110,null,null,110,205,null,"INTB +",15,{"$f":"IF(I228=\"\",\"\",IF(A228=\"H\",IF(OR(H228=\"SEN\",H228<1997),VLOOKUP(I228,Feuil1!$A$11:$G$29,6),IF(AND(H228>1996,H228<2000),VLOOKUP(I228,Feuil1!$A$11:$G$29,5),IF(AND(H228>1999,H228<2002),VLOOKUP(I228,Feuil1!$A$11:$G$29,4),IF(AND(H228>2001,H228<2004),VLOOKUP(I228,Feuil1!$A$11:$G$29,3),VLOOKUP(I228,Feuil1!$A$11:$G$29,2))))),IF(OR(H228=\"SEN\",H228<1997),VLOOKUP(I228,Feuil1!$G$11:$L$25,6),IF(AND(H228>1996,H228<2000),VLOOKUP(I228,Feuil1!$G$11:$L$25,5),IF(AND(H228>1999,H228<2002),VLOOKUP(I228,Feuil1!$G$11:$L$25,4),IF(AND(H228>2001,H228<2004),VLOOKUP(I228,Feuil1!$G$11:$L$25,3),VLOOKUP(I228,Feuil1!$G$11:$L$25,2)))))))","v":"C1 69"},275.77820846990062,null," ",{"$f":"T228-HLOOKUP(X228,Feuil1!$C$1:$BL$10,2,FALSE)","v":120},{"$f":"T228-HLOOKUP(X228,Feuil1!$C$1:$BL$10,3,FALSE)","v":100},{"$f":"T228-HLOOKUP(X228,Feuil1!$C$1:$BL$10,4,FALSE)","v":90},{"$f":"T228-HLOOKUP(X228,Feuil1!$C$1:$BL$10,5,FALSE)","v":75},{"$f":"T228-HLOOKUP(X228,Feuil1!$C$1:$BL$10,6,FALSE)","v":55},{"$f":"T228-HLOOKUP(X228,Feuil1!$C$1:$BL$10,7,FALSE)","v":35},{"$f":"T228-HLOOKUP(X228,Feuil1!$C$1:$BL$10,8,FALSE)","v":15},{"$f":"T228-HLOOKUP(X228,Feuil1!$C$1:$BL$10,9,FALSE)","v":-5},{"$f":"T228-HLOOKUP(X228,Feuil1!$C$1:$BL$10,10,FALSE)","v":-795},null,null,null,null,null,null,"INTB +"]
["H",null,null,null,null,null,null,2002,69,null,null,95,null,null,95,110,null,null,110,205,null,"INTB +",15,{"$f":"IF(I229=\"\",\"\",IF(A229=\"H\",IF(OR(H229=\"SEN\",H229<1997),VLOOKUP(I229,Feuil1!$A$11:$G$29,6),IF(AND(H229>1996,H229<2000),VLOOKUP(I229,Feuil1!$A$11:$G$29,5),IF(AND(H229>1999,H229<2002),VLOOKUP(I229,Feuil1!$A$11:$G$29,4),IF(AND(H229>2001,H229<2004),VLOOKUP(I229,Feuil1!$A$11:$G$29,3),VLOOKUP(I229,Feuil1!$A$11:$G$29,2))))),IF(OR(H229=\"SEN\",H229<1997),VLOOKUP(I229,Feuil1!$G$11:$L$25,6),IF(AND(H229>1996,H229<2000),VLOOKUP(I229,Feuil1!$G$11:$L$25,5),IF(AND(H229>1999,H229<2002),VLOOKUP(I229,Feuil1!$G$11:$L$25,4),IF(AND(H229>2001,H229<2004),VLOOKUP(I229,Feuil1!$G$11:$L$25,3),VLOOKUP(I229,Feuil1!$G$11:$L$25,2)))))))","v":"C1 69"},275.77820846990062,null," ",{"$f":"T229-HLOOKUP(X229,Feuil1!$C$1:$BL$10,2,FALSE)","v":120},{"$f":"T229-HLOOKUP(X229,Feuil1!$C$1:$BL$10,3,FALSE)","v":100},{"$f":"T229-HLOOKUP(X229,Feuil1!$C$1:$BL$10,4,FALSE)","v":90},{"$f":"T229-HLOOKUP(X229,Feuil1!$C$1:$BL$10,5,FALSE)","v":75},{"$f":"T229-HLOOKUP(X229,Feuil1!$C$1:$BL$10,6,FALSE)","v":55},{"$f":"T229-HLOOKUP(X229,Feuil1!$C$1:$BL$10,7,FALSE)","v":35},{"$f":"T229-HLOOKUP(X229,Feuil1!$C$1:$BL$10,8,FALSE)","v":15},{"$f":"T229-HLOOKUP(X229,Feuil1!$C$1:$BL$10,9,FALSE)","v":-5},{"$f":"T229-HLOOKUP(X229,Feuil1!$C$1:$BL$10,10,FALSE)","v":-795},null,null,null,null,null,null,"INTB +"]
["H",null,null,null,null,null,null,2002,69,null,null,95,null,null,95,110,null,null,110,205,null,"INTB +",15,{"$f":"IF(I230=\"\",\"\",IF(A230=\"H\",IF(OR(H230=\"SEN\",H230<1997),VLOOKUP(I230,Feuil1!$A$11:$G$29,6),IF(AND(H230>1996,H230<2000),VLOOKUP(I230,Feuil1!$A$11:$G$29,5),IF(AND(H230>1999,H230<2002),VLOOKUP(I230,Feuil1!$A$11:$G$29,4),IF(AND(H230>2001,H230<2004),VLOOKUP(I230,Feuil1!$A$11:$G$29,3),VLOOKUP(I230,Feuil1!$A$11:$G$29,2))))),IF(OR(H230=\"SEN\",H230<1997),VLOOKUP(I230,Feuil1!$G$11:$L$25,6),IF(AND(H230>1996,H230<2000),VLOOKUP(I230,Feuil1!$G$11:$L$25,5),IF(AND(H230>1999,H230<2002),VLOOKUP(I230,Feuil1!$G$11:$L$25,4),IF(AND(H230>2001,H230<2004),VLOOKUP(I230,Feuil1!$G$11:$L$25,3),VLOOKUP(I230,Feuil1!$G$11:$L$25,2)))))))","v":"C1 69"},275.77820846990062,null," ",{"$f":"T230-HLOOKUP(X230,Feuil1!$C$1:$BL$10,2,FALSE)","v":120},{"$f":"T230-HLOOKUP(X230,Feuil1!$C$1:$BL$10,3,FALSE)","v":100},{"$f":"T230-HLOOKUP(X230,Feuil1!$C$1:$BL$10,4,FALSE)","v":90},{"$f":"T230-HLOOKUP(X230,Feuil1!$C$1:$BL$10,5,FALSE)","v":75},{"$f":"T230-HLOOKUP(X230,Feuil1!$C$1:$BL$10,6,FALSE)","v":55},{"$f":"T230-HLOOKUP(X230,Feuil1!$C$1:$BL$10,7,FALSE)","v":35},{"$f":"T230-HLOOKUP(X230,Feuil1!$C$1:$BL$10,8,FALSE)","v":15},{"$f":"T230-HLOOKUP(X230,Feuil1!$C$1:$BL$10,9,FALSE)","v":-5},{"$f":"T230-HLOOKUP(X230,Feuil1!$C$1:$BL$10,10,FALSE)","v":-795},null,null,null,null,null,null,"INTB +"]
["H",null,null,null,null,null,null,2002,69,null,null,95,null,null,95,110,null,null,110,205,null,"INTB +",15,{"$f":"IF(I231=\"\",\"\",IF(A231=\"H\",IF(OR(H231=\"SEN\",H231<1997),VLOOKUP(I231,Feuil1!$A$11:$G$29,6),IF(AND(H231>1996,H231<2000),VLOOKUP(I231,Feuil1!$A$11:$G$29,5),IF(AND(H231>1999,H231<2002),VLOOKUP(I231,Feuil1!$A$11:$G$29,4),IF(AND(H231>2001,H231<2004),VLOOKUP(I231,Feuil1!$A$11:$G$29,3),VLOOKUP(I231,Feuil1!$A$11:$G$29,2))))),IF(OR(H231=\"SEN\",H231<1997),VLOOKUP(I231,Feuil1!$G$11:$L$25,6),IF(AND(H231>1996,H231<2000),VLOOKUP(I231,Feuil1!$G$11:$L$25,5),IF(AND(H231>1999,H231<2002),VLOOKUP(I231,Feuil1!$G$11:$L$25,4),IF(AND(H231>2001,H231<2004),VLOOKUP(I231,Feuil1!$G$11:$L$25,3),VLOOKUP(I231,Feuil1!$G$11:$L$25,2)))))))","v":"C1 69"},275.77820846990062,null," ",{"$f":"T231-HLOOKUP(X231,Feuil1!$C$1:$BL$10,2,FALSE)","v":120},{"$f":"T231-HLOOKUP(X231,Feuil1!$C$1:$BL$10,3,FALSE)","v":100},{"$f":"T231-HLOOKUP(X231,Feuil1!$C$1:$BL$10,4,FALSE)","v":90},{"$f":"T231-HLOOKUP(X231,Feuil1!$C$1:$BL$10,5,FALSE)","v":75},{"$f":"T231-HLOOKUP(X231,Feuil1!$C$1:$BL$10,6,FALSE)","v":55},{"$f":"T231-HLOOKUP(X231,Feuil1!$C$1:$BL$10,7,FALSE)","v":35},{"$f":"T231-HLOOKUP(X231,Feuil1!$C$1:$BL$10,8,FALSE)","v":15},{"$f":"T231-HLOOKUP(X231,Feuil1!$C$1:$BL$10,9,FALSE)","v":-5},{"$f":"T231-HLOOKUP(X231,Feuil1!$C$1:$BL$10,10,FALSE)","v":-795},null,null,null,null,null,null,"INTB +"]
["H",null,null,null,null,null,null,2002,69,null,null,95,null,null,95,110,null,null,110,205,null,"INTB +",15,{"$f":"IF(I232=\"\",\"\",IF(A232=\"H\",IF(OR(H232=\"SEN\",H232<1997),VLOOKUP(I232,Feuil1!$A$11:$G$29,6),IF(AND(H232>1996,H232<2000),VLOOKUP(I232,Feuil1!$A$11:$G$29,5),IF(AND(H232>1999,H232<2002),VLOOKUP(I232,Feuil1!$A$11:$G$29,4),IF(AND(H232>2001,H232<2004),VLOOKUP(I232,Feuil1!$A$11:$G$29,3),VLOOKUP(I232,Feuil1!$A$11:$G$29,2))))),IF(OR(H232=\"SEN\",H232<1997),VLOOKUP(I232,Feuil1!$G$11:$L$25,6),IF(AND(H232>1996,H232<2000),VLOOKUP(I232,Feuil1!$G$11:$L$25,5),IF(AND(H232>1999,H232<2002),VLOOKUP(I232,Feuil1!$G$11:$L$25,4),IF(AND(H232>2001,H232<2004),VLOOKUP(I232,Feuil1!$G$11:$L$25,3),VLOOKUP(I232,Feuil1!$G$11:$L$25,2)))))))","v":"C1 69"},275.77820846990062,null," ",{"$f":"T232-HLOOKUP(X232,Feuil1!$C$1:$BL$10,2,FALSE)","v":120},{"$f":"T232-HLOOKUP(X232,Feuil1!$C$1:$BL$10,3,FALSE)","v":100},{"$f":"T232-HLOOKUP(X232,Feuil1!$C$1:$BL$10,4,FALSE)","v":90},{"$f":"T232-HLOOKUP(X232,Feuil1!$C$1:$BL$10,5,FALSE)","v":75},{"$f":"T232-HLOOKUP(X232,Feuil1!$C$1:$BL$10,6,FALSE)","v":55},{"$f":"T232-HLOOKUP(X232,Feuil1!$C$1:$BL$10,7,FALSE)","v":35},{"$f":"T232-HLOOKUP(X232,Feuil1!$C$1:$BL$10,8,FALSE)","v":15},{"$f":"T232-HLOOKUP(X232,Feuil1!$C$1:$BL$10,9,FALSE)","v":-5},{"$f":"T232-HLOOKUP(X232,Feuil1!$C$1:$BL$10,10,FALSE)","v":-795},null,null,null,null,null,null,"INTB +"]
["H",null,null,null,null,null,null,2002,69,null,null,95,null,null,95,110,null,null,110,205,null,"INTB +",15,{"$f":"IF(I233=\"\",\"\",IF(A233=\"H\",IF(OR(H233=\"SEN\",H233<1997),VLOOKUP(I233,Feuil1!$A$11:$G$29,6),IF(AND(H233>1996,H233<2000),VLOOKUP(I233,Feuil1!$A$11:$G$29,5),IF(AND(H233>1999,H233<2002),VLOOKUP(I233,Feuil1!$A$11:$G$29,4),IF(AND(H233>2001,H233<2004),VLOOKUP(I233,Feuil1!$A$11:$G$29,3),VLOOKUP(I233,Feuil1!$A$11:$G$29,2))))),IF(OR(H233=\"SEN\",H233<1997),VLOOKUP(I233,Feuil1!$G$11:$L$25,6),IF(AND(H233>1996,H233<2000),VLOOKUP(I233,Feuil1!$G$11:$L$25,5),IF(AND(H233>1999,H233<2002),VLOOKUP(I233,Feuil1!$G$11:$L$25,4),IF(AND(H233>2001,H233<2004),VLOOKUP(I233,Feuil1!$G$11:$L$25,3),VLOOKUP(I233,Feuil1!$G$11:$L$25,2)))))))","v":"C1 69"},275.77820846990062,null," ",{"$f":"T233-HLOOKUP(X233,Feuil1!$C$1:$BL$10,2,FALSE)","v":120},{"$f":"T233-HLOOKUP(X233,Feuil1!$C$1:$BL$10,3,FALSE)","v":100},{"$f":"T233-HLOOKUP(X233,Feuil1!$C$1:$BL$10,4,FALSE)","v":90},{"$f":"T233-HLOOKUP(X233,Feuil1!$C$1:$BL$10,5,FALSE)","v":75},{"$f":"T233-HLOOKUP(X233,Feuil1!$C$1:$BL$10,6,FALSE)","v":55},{"$f":"T233-HLOOKUP(X233,Feuil1!$C$1:$BL$10,7,FALSE)","v":35},{"$f":"T233-HLOOKUP(X233,Feuil1!$C$1:$BL$10,8,FALSE)","v":15},{"$f":"T233-HLOOKUP(X233,Feuil1!$C$1:$BL$10,9,FALSE)","v":-5},{"$f":"T233-HLOOKUP(X233,Feuil1!$C$1:$BL$10,10,FALSE)","v":-795},null,null,null,null,null,null,"INTB +"]
["H",null,null,null,null,null,null,2002,69,null,null,95,null,null,95,110,null,null,110,205,null,"INTB +",15,{"$f":"IF(I234=\"\",\"\",IF(A234=\"H\",IF(OR(H234=\"SEN\",H234<1997),VLOOKUP(I234,Feuil1!$A$11:$G$29,6),IF(AND(H234>1996,H234<2000),VLOOKUP(I234,Feuil1!$A$11:$G$29,5),IF(AND(H234>1999,H234<2002),VLOOKUP(I234,Feuil1!$A$11:$G$29,4),IF(AND(H234>2001,H234<2004),VLOOKUP(I234,Feuil1!$A$11:$G$29,3),VLOOKUP(I234,Feuil1!$A$11:$G$29,2))))),IF(OR(H234=\"SEN\",H234<1997),VLOOKUP(I234,Feuil1!$G$11:$L$25,6),IF(AND(H234>1996,H234<2000),VLOOKUP(I234,Feuil1!$G$11:$L$25,5),IF(AND(H234>1999,H234<2002),VLOOKUP(I234,Feuil1!$G$11:$L$25,4),IF(AND(H234>2001,H234<2004),VLOOKUP(I234,Feuil1!$G$11:$L$25,3),VLOOKUP(I234,Feuil1!$G$11:$L$25,2)))))))","v":"C1 69"},275.77820846990062,null," ",{"$f":"T234-HLOOKUP(X234,Feuil1!$C$1:$BL$10,2,FALSE)","v":120},{"$f":"T234-HLOOKUP(X234,Feuil1!$C$1:$BL$10,3,FALSE)","v":100},{"$f":"T234-HLOOKUP(X234,Feuil1!$C$1:$BL$10,4,FALSE)","v":90},{"$f":"T234-HLOOKUP(X234,Feuil1!$C$1:$BL$10,5,FALSE)","v":75},{"$f":"T234-HLOOKUP(X234,Feuil1!$C$1:$BL$10,6,FALSE)","v":55},{"$f":"T234-HLOOKUP(X234,Feuil1!$C$1:$BL$10,7,FALSE)","v":35},{"$f":"T234-HLOOKUP(X234,Feuil1!$C$1:$BL$10,8,FALSE)","v":15},{"$f":"T234-HLOOKUP(X234,Feuil1!$C$1:$BL$10,9,FALSE)","v":-5},{"$f":"T234-HLOOKUP(X234,Feuil1!$C$1:$BL$10,10,FALSE)","v":-795},null,null,null,null,null,null,"INTB +"]
["H",null,null,null,null,null,null,2002,69,null,null,95,null,null,95,110,null,null,110,205,null,"INTB +",15,{"$f":"IF(I235=\"\",\"\",IF(A235=\"H\",IF(OR(H235=\"SEN\",H235<1997),VLOOKUP(I235,Feuil1!$A$11:$G$29,6),IF(AND(H235>1996,H235<2000),VLOOKUP(I235,Feuil1!$A$11:$G$29,5),IF(AND(H235>1999,H235<2002),VLOOKUP(I235,Feuil1!$A$11:$G$29,4),IF(AND(H235>2001,H235<2004),VLOOKUP(I235,Feuil1!$A$11:$G$29,3),VLOOKUP(I235,Feuil1!$A$11:$G$29,2))))),IF(OR(H235=\"SEN\",H235<1997),VLOOKUP(I235,Feuil1!$G$11:$L$25,6),IF(AND(H235>1996,H235<2000),VLOOKUP(I235,Feuil1!$G$11:$L$25,5),IF(AND(H235>1999,H235<2002),VLOOKUP(I235,Feuil1!$G$11:$L$25,4),IF(AND(H235>2001,H235<2004),VLOOKUP(I235,Feuil1!$G$11:$L$25,3),VLOOKUP(I235,Feuil1!$G$11:$L$25,2)))))))","v":"C1 69"},275.77820846990062,null," ",{"$f":"T235-HLOOKUP(X235,Feuil1!$C$1:$BL$10,2,FALSE)","v":120},{"$f":"T235-HLOOKUP(X235,Feuil1!$C$1:$BL$10,3,FALSE)","v":100},{"$f":"T235-HLOOKUP(X235,Feuil1!$C$1:$BL$10,4,FALSE)","v":90},{"$f":"T235-HLOOKUP(X235,Feuil1!$C$1:$BL$10,5,FALSE)","v":75},{"$f":"T235-HLOOKUP(X235,Feuil1!$C$1:$BL$10,6,FALSE)","v":55},{"$f":"T235-HLOOKUP(X235,Feuil1!$C$1:$BL$10,7,FALSE)","v":35},{"$f":"T235-HLOOKUP(X235,Feuil1!$C$1:$BL$10,8,FALSE)","v":15},{"$f":"T235-HLOOKUP(X235,Feuil1!$C$1:$BL$10,9,FALSE)","v":-5},{"$f":"T235-HLOOKUP(X235,Feuil1!$C$1:$BL$10,10,FALSE)","v":-795},null,null,null,null,null,null,"INTB +"]
["H",null,null,null,null,null,null,2002,69,null,null,95,null,null,95,110,null,null,110,205,null,"INTB +",15,{"$f":"IF(I236=\"\",\"\",IF(A236=\"H\",IF(OR(H236=\"SEN\",H236<1997),VLOOKUP(I236,Feuil1!$A$11:$G$29,6),IF(AND(H236>1996,H236<2000),VLOOKUP(I236,Feuil1!$A$11:$G$29,5),IF(AND(H236>1999,H236<2002),VLOOKUP(I236,Feuil1!$A$11:$G$29,4),IF(AND(H236>2001,H236<2004),VLOOKUP(I236,Feuil1!$A$11:$G$29,3),VLOOKUP(I236,Feuil1!$A$11:$G$29,2))))),IF(OR(H236=\"SEN\",H236<1997),VLOOKUP(I236,Feuil1!$G$11:$L$25,6),IF(AND(H236>1996,H236<2000),VLOOKUP(I236,Feuil1!$G$11:$L$25,5),IF(AND(H236>1999,H236<2002),VLOOKUP(I236,Feuil1!$G$11:$L$25,4),IF(AND(H236>2001,H236<2004),VLOOKUP(I236,Feuil1!$G$11:$L$25,3),VLOOKUP(I236,Feuil1!$G$11:$L$25,2)))))))","v":"C1 69"},275.77820846990062,null," ",{"$f":"T236-HLOOKUP(X236,Feuil1!$C$1:$BL$10,2,FALSE)","v":120},{"$f":"T236-HLOOKUP(X236,Feuil1!$C$1:$BL$10,3,FALSE)","v":100},{"$f":"T236-HLOOKUP(X236,Feuil1!$C$1:$BL$10,4,FALSE)","v":90},{"$f":"T236-HLOOKUP(X236,Feuil1!$C$1:$BL$10,5,FALSE)","v":75},{"$f":"T236-HLOOKUP(X236,Feuil1!$C$1:$BL$10,6,FALSE)","v":55},{"$f":"T236-HLOOKUP(X236,Feuil1!$C$1:$BL$10,7,FALSE)","v":35},{"$f":"T236-HLOOKUP(X236,Feuil1!$C$1:$BL$10,8,FALSE)","v":15},{"$f":"T236-HLOOKUP(X236,Feuil1!$C$1:$BL$10,9,FALSE)","v":-5},{"$f":"T236-HLOOKUP(X236,Feuil1!$C$1:$BL$10,10,FALSE)","v":-795},null,null,null,null,null,null,"INTB +"]
["H",null,null,null,null,null,null,2002,69,null,null,95,null,null,95,110,null,null,110,205,null,"INTB +",15,{"$f":"IF(I237=\"\",\"\",IF(A237=\"H\",IF(OR(H237=\"SEN\",H237<1997),VLOOKUP(I237,Feuil1!$A$11:$G$29,6),IF(AND(H237>1996,H237<2000),VLOOKUP(I237,Feuil1!$A$11:$G$29,5),IF(AND(H237>1999,H237<2002),VLOOKUP(I237,Feuil1!$A$11:$G$29,4),IF(AND(H237>2001,H237<2004),VLOOKUP(I237,Feuil1!$A$11:$G$29,3),VLOOKUP(I237,Feuil1!$A$11:$G$29,2))))),IF(OR(H237=\"SEN\",H237<1997),VLOOKUP(I237,Feuil1!$G$11:$L$25,6),IF(AND(H237>1996,H237<2000),VLOOKUP(I237,Feuil1!$G$11:$L$25,5),IF(AND(H237>1999,H237<2002),VLOOKUP(I237,Feuil1!$G$11:$L$25,4),IF(AND(H237>2001,H237<2004),VLOOKUP(I237,Feuil1!$G$11:$L$25,3),VLOOKUP(I237,Feuil1!$G$11:$L$25,2)))))))","v":"C1 69"},275.77820846990062,null," ",{"$f":"T237-HLOOKUP(X237,Feuil1!$C$1:$BL$10,2,FALSE)","v":120},{"$f":"T237-HLOOKUP(X237,Feuil1!$C$1:$BL$10,3,FALSE)","v":100},{"$f":"T237-HLOOKUP(X237,Feuil1!$C$1:$BL$10,4,FALSE)","v":90},{"$f":"T237-HLOOKUP(X237,Feuil1!$C$1:$BL$10,5,FALSE)","v":75},{"$f":"T237-HLOOKUP(X237,Feuil1!$C$1:$BL$10,6,FALSE)","v":55},{"$f":"T237-HLOOKUP(X237,Feuil1!$C$1:$BL$10,7,FALSE)","v":35},{"$f":"T237-HLOOKUP(X237,Feuil1!$C$1:$BL$10,8,FALSE)","v":15},{"$f":"T237-HLOOKUP(X237,Feuil1!$C$1:$BL$10,9,FALSE)","v":-5},{"$f":"T237-HLOOKUP(X237,Feuil1!$C$1:$BL$10,10,FALSE)","v":-795},null,null,null,null,null,null,"INTB +"]
["H",null,null,null,null,null,null,2002,69,null,null,95,null,null,95,110,null,null,110,205,null,"INTB +",15,{"$f":"IF(I238=\"\",\"\",IF(A238=\"H\",IF(OR(H238=\"SEN\",H238<1997),VLOOKUP(I238,Feuil1!$A$11:$G$29,6),IF(AND(H238>1996,H238<2000),VLOOKUP(I238,Feuil1!$A$11:$G$29,5),IF(AND(H238>1999,H238<2002),VLOOKUP(I238,Feuil1!$A$11:$G$29,4),IF(AND(H238>2001,H238<2004),VLOOKUP(I238,Feuil1!$A$11:$G$29,3),VLOOKUP(I238,Feuil1!$A$11:$G$29,2))))),IF(OR(H238=\"SEN\",H238<1997),VLOOKUP(I238,Feuil1!$G$11:$L$25,6),IF(AND(H238>1996,H238<2000),VLOOKUP(I238,Feuil1!$G$11:$L$25,5),IF(AND(H238>1999,H238<2002),VLOOKUP(I238,Feuil1!$G$11:$L$25,4),IF(AND(H238>2001,H238<2004),VLOOKUP(I238,Feuil1!$G$11:$L$25,3),VLOOKUP(I238,Feuil1!$G$11:$L$25,2)))))))","v":"C1 69"},275.77820846990062,null," ",{"$f":"T238-HLOOKUP(X238,Feuil1!$C$1:$BL$10,2,FALSE)","v":120},{"$f":"T238-HLOOKUP(X238,Feuil1!$C$1:$BL$10,3,FALSE)","v":100},{"$f":"T238-HLOOKUP(X238,Feuil1!$C$1:$BL$10,4,FALSE)","v":90},{"$f":"T238-HLOOKUP(X238,Feuil1!$C$1:$BL$10,5,FALSE)","v":75},{"$f":"T238-HLOOKUP(X238,Feuil1!$C$1:$BL$10,6,FALSE)","v":55},{"$f":"T238-HLOOKUP(X238,Feuil1!$C$1:$BL$10,7,FALSE)","v":35},{"$f":"T238-HLOOKUP(X238,Feuil1!$C$1:$BL$10,8,FALSE)","v":15},{"$f":"T238-HLOOKUP(X238,Feuil1!$C$1:$BL$10,9,FALSE)","v":-5},{"$f":"T238-HLOOKUP(X238,Feuil1!$C$1:$BL$10,10,FALSE)","v":-795},null,null,null,null,null,null,"INTB +"]
["H",null,null,null,null,null,null,2002,69,null,null,95,null,null,95,110,null,null,110,205,null,"INTB +",15,{"$f":"IF(I239=\"\",\"\",IF(A239=\"H\",IF(OR(H239=\"SEN\",H239<1997),VLOOKUP(I239,Feuil1!$A$11:$G$29,6),IF(AND(H239>1996,H239<2000),VLOOKUP(I239,Feuil1!$A$11:$G$29,5),IF(AND(H239>1999,H239<2002),VLOOKUP(I239,Feuil1!$A$11:$G$29,4),IF(AND(H239>2001,H239<2004),VLOOKUP(I239,Feuil1!$A$11:$G$29,3),VLOOKUP(I239,Feuil1!$A$11:$G$29,2))))),IF(OR(H239=\"SEN\",H239<1997),VLOOKUP(I239,Feuil1!$G$11:$L$25,6),IF(AND(H239>1996,H239<2000),VLOOKUP(I239,Feuil1!$G$11:$L$25,5),IF(AND(H239>1999,H239<2002),VLOOKUP(I239,Feuil1!$G$11:$L$25,4),IF(AND(H239>2001,H239<2004),VLOOKUP(I239,Feuil1!$G$11:$L$25,3),VLOOKUP(I239,Feuil1!$G$11:$L$25,2)))))))","v":"C1 69"},275.77820846990062,null," ",{"$f":"T239-HLOOKUP(X239,Feuil1!$C$1:$BL$10,2,FALSE)","v":120},{"$f":"T239-HLOOKUP(X239,Feuil1!$C$1:$BL$10,3,FALSE)","v":100},{"$f":"T239-HLOOKUP(X239,Feuil1!$C$1:$BL$10,4,FALSE)","v":90},{"$f":"T239-HLOOKUP(X239,Feuil1!$C$1:$BL$10,5,FALSE)","v":75},{"$f":"T239-HLOOKUP(X239,Feuil1!$C$1:$BL$10,6,FALSE)","v":55},{"$f":"T239-HLOOKUP(X239,Feuil1!$C$1:$BL$10,7,FALSE)","v":35},{"$f":"T239-HLOOKUP(X239,Feuil1!$C$1:$BL$10,8,FALSE)","v":15},{"$f":"T239-HLOOKUP(X239,Feuil1!$C$1:$BL$10,9,FALSE)","v":-5},{"$f":"T239-HLOOKUP(X239,Feuil1!$C$1:$BL$10,10,FALSE)","v":-795},null,null,null,null,null,null,"INTB +"]
["H",null,null,null,null,null,null,2002,69,null,null,95,null,null,95,110,null,null,110,205,null,"INTB +",15,{"$f":"IF(I240=\"\",\"\",IF(A240=\"H\",IF(OR(H240=\"SEN\",H240<1997),VLOOKUP(I240,Feuil1!$A$11:$G$29,6),IF(AND(H240>1996,H240<2000),VLOOKUP(I240,Feuil1!$A$11:$G$29,5),IF(AND(H240>1999,H240<2002),VLOOKUP(I240,Feuil1!$A$11:$G$29,4),IF(AND(H240>2001,H240<2004),VLOOKUP(I240,Feuil1!$A$11:$G$29,3),VLOOKUP(I240,Feuil1!$A$11:$G$29,2))))),IF(OR(H240=\"SEN\",H240<1997),VLOOKUP(I240,Feuil1!$G$11:$L$25,6),IF(AND(H240>1996,H240<2000),VLOOKUP(I240,Feuil1!$G$11:$L$25,5),IF(AND(H240>1999,H240<2002),VLOOKUP(I240,Feuil1!$G$11:$L$25,4),IF(AND(H240>2001,H240<2004),VLOOKUP(I240,Feuil1!$G$11:$L$25,3),VLOOKUP(I240,Feuil1!$G$11:$L$25,2)))))))","v":"C1 69"},275.77820846990062,null," ",{"$f":"T240-HLOOKUP(X240,Feuil1!$C$1:$BL$10,2,FALSE)","v":120},{"$f":"T240-HLOOKUP(X240,Feuil1!$C$1:$BL$10,3,FALSE)","v":100},{"$f":"T240-HLOOKUP(X240,Feuil1!$C$1:$BL$10,4,FALSE)","v":90},{"$f":"T240-HLOOKUP(X240,Feuil1!$C$1:$BL$10,5,FALSE)","v":75},{"$f":"T240-HLOOKUP(X240,Feuil1!$C$1:$BL$10,6,FALSE)","v":55},{"$f":"T240-HLOOKUP(X240,Feuil1!$C$1:$BL$10,7,FALSE)","v":35},{"$f":"T240-HLOOKUP(X240,Feuil1!$C$1:$BL$10,8,FALSE)","v":15},{"$f":"T240-HLOOKUP(X240,Feuil1!$C$1:$BL$10,9,FALSE)","v":-5},{"$f":"T240-HLOOKUP(X240,Feuil1!$C$1:$BL$10,10,FALSE)","v":-795},null,null,null,null,null,null,"INTB +"]
["H",null,null,null,null,null,null,2002,69,null,null,95,null,null,95,110,null,null,110,205,null,"INTB +",15,{"$f":"IF(I241=\"\",\"\",IF(A241=\"H\",IF(OR(H241=\"SEN\",H241<1997),VLOOKUP(I241,Feuil1!$A$11:$G$29,6),IF(AND(H241>1996,H241<2000),VLOOKUP(I241,Feuil1!$A$11:$G$29,5),IF(AND(H241>1999,H241<2002),VLOOKUP(I241,Feuil1!$A$11:$G$29,4),IF(AND(H241>2001,H241<2004),VLOOKUP(I241,Feuil1!$A$11:$G$29,3),VLOOKUP(I241,Feuil1!$A$11:$G$29,2))))),IF(OR(H241=\"SEN\",H241<1997),VLOOKUP(I241,Feuil1!$G$11:$L$25,6),IF(AND(H241>1996,H241<2000),VLOOKUP(I241,Feuil1!$G$11:$L$25,5),IF(AND(H241>1999,H241<2002),VLOOKUP(I241,Feuil1!$G$11:$L$25,4),IF(AND(H241>2001,H241<2004),VLOOKUP(I241,Feuil1!$G$11:$L$25,3),VLOOKUP(I241,Feuil1!$G$11:$L$25,2)))))))","v":"C1 69"},275.77820846990062,null," ",{"$f":"T241-HLOOKUP(X241,Feuil1!$C$1:$BL$10,2,FALSE)","v":120},{"$f":"T241-HLOOKUP(X241,Feuil1!$C$1:$BL$10,3,FALSE)","v":100},{"$f":"T241-HLOOKUP(X241,Feuil1!$C$1:$BL$10,4,FALSE)","v":90},{"$f":"T241-HLOOKUP(X241,Feuil1!$C$1:$BL$10,5,FALSE)","v":75},{"$f":"T241-HLOOKUP(X241,Feuil1!$C$1:$BL$10,6,FALSE)","v":55},{"$f":"T241-HLOOKUP(X241,Feuil1!$C$1:$BL$10,7,FALSE)","v":35},{"$f":"T241-HLOOKUP(X241,Feuil1!$C$1:$BL$10,8,FALSE)","v":15},{"$f":"T241-HLOOKUP(X241,Feuil1!$C$1:$BL$10,9,FALSE)","v":-5},{"$f":"T241-HLOOKUP(X241,Feuil1!$C$1:$BL$10,10,FALSE)","v":-795},null,null,null,null,null,null,"INTB +"]
["H",null,null,null,null,null,null,2002,69,null,null,95,null,null,95,110,null,null,110,205,null,"INTB +",15,{"$f":"IF(I242=\"\",\"\",IF(A242=\"H\",IF(OR(H242=\"SEN\",H242<1997),VLOOKUP(I242,Feuil1!$A$11:$G$29,6),IF(AND(H242>1996,H242<2000),VLOOKUP(I242,Feuil1!$A$11:$G$29,5),IF(AND(H242>1999,H242<2002),VLOOKUP(I242,Feuil1!$A$11:$G$29,4),IF(AND(H242>2001,H242<2004),VLOOKUP(I242,Feuil1!$A$11:$G$29,3),VLOOKUP(I242,Feuil1!$A$11:$G$29,2))))),IF(OR(H242=\"SEN\",H242<1997),VLOOKUP(I242,Feuil1!$G$11:$L$25,6),IF(AND(H242>1996,H242<2000),VLOOKUP(I242,Feuil1!$G$11:$L$25,5),IF(AND(H242>1999,H242<2002),VLOOKUP(I242,Feuil1!$G$11:$L$25,4),IF(AND(H242>2001,H242<2004),VLOOKUP(I242,Feuil1!$G$11:$L$25,3),VLOOKUP(I242,Feuil1!$G$11:$L$25,2)))))))","v":"C1 69"},275.77820846990062,null," ",{"$f":"T242-HLOOKUP(X242,Feuil1!$C$1:$BL$10,2,FALSE)","v":120},{"$f":"T242-HLOOKUP(X242,Feuil1!$C$1:$BL$10,3,FALSE)","v":100},{"$f":"T242-HLOOKUP(X242,Feuil1!$C$1:$BL$10,4,FALSE)","v":90},{"$f":"T242-HLOOKUP(X242,Feuil1!$C$1:$BL$10,5,FALSE)","v":75},{"$f":"T242-HLOOKUP(X242,Feuil1!$C$1:$BL$10,6,FALSE)","v":55},{"$f":"T242-HLOOKUP(X242,Feuil1!$C$1:$BL$10,7,FALSE)","v":35},{"$f":"T242-HLOOKUP(X242,Feuil1!$C$1:$BL$10,8,FALSE)","v":15},{"$f":"T242-HLOOKUP(X242,Feuil1!$C$1:$BL$10,9,FALSE)","v":-5},{"$f":"T242-HLOOKUP(X242,Feuil1!$C$1:$BL$10,10,FALSE)","v":-795},null,null,null,null,null,null,"INTB +"]
["H",null,null,null,null,null,null,2002,69,null,null,95,null,null,95,110,null,null,110,205,null,"INTB +",15,{"$f":"IF(I243=\"\",\"\",IF(A243=\"H\",IF(OR(H243=\"SEN\",H243<1997),VLOOKUP(I243,Feuil1!$A$11:$G$29,6),IF(AND(H243>1996,H243<2000),VLOOKUP(I243,Feuil1!$A$11:$G$29,5),IF(AND(H243>1999,H243<2002),VLOOKUP(I243,Feuil1!$A$11:$G$29,4),IF(AND(H243>2001,H243<2004),VLOOKUP(I243,Feuil1!$A$11:$G$29,3),VLOOKUP(I243,Feuil1!$A$11:$G$29,2))))),IF(OR(H243=\"SEN\",H243<1997),VLOOKUP(I243,Feuil1!$G$11:$L$25,6),IF(AND(H243>1996,H243<2000),VLOOKUP(I243,Feuil1!$G$11:$L$25,5),IF(AND(H243>1999,H243<2002),VLOOKUP(I243,Feuil1!$G$11:$L$25,4),IF(AND(H243>2001,H243<2004),VLOOKUP(I243,Feuil1!$G$11:$L$25,3),VLOOKUP(I243,Feuil1!$G$11:$L$25,2)))))))","v":"C1 69"},275.77820846990062,null," ",{"$f":"T243-HLOOKUP(X243,Feuil1!$C$1:$BL$10,2,FALSE)","v":120},{"$f":"T243-HLOOKUP(X243,Feuil1!$C$1:$BL$10,3,FALSE)","v":100},{"$f":"T243-HLOOKUP(X243,Feuil1!$C$1:$BL$10,4,FALSE)","v":90},{"$f":"T243-HLOOKUP(X243,Feuil1!$C$1:$BL$10,5,FALSE)","v":75},{"$f":"T243-HLOOKUP(X243,Feuil1!$C$1:$BL$10,6,FALSE)","v":55},{"$f":"T243-HLOOKUP(X243,Feuil1!$C$1:$BL$10,7,FALSE)","v":35},{"$f":"T243-HLOOKUP(X243,Feuil1!$C$1:$BL$10,8,FALSE)","v":15},{"$f":"T243-HLOOKUP(X243,Feuil1!$C$1:$BL$10,9,FALSE)","v":-5},{"$f":"T243-HLOOKUP(X243,Feuil1!$C$1:$BL$10,10,FALSE)","v":-795},null,null,null,null,null,null,"INTB +"]
["H",null,null,null,null,null,null,2002,69,null,null,95,null,null,95,110,null,null,110,205,null,"INTB +",15,{"$f":"IF(I244=\"\",\"\",IF(A244=\"H\",IF(OR(H244=\"SEN\",H244<1997),VLOOKUP(I244,Feuil1!$A$11:$G$29,6),IF(AND(H244>1996,H244<2000),VLOOKUP(I244,Feuil1!$A$11:$G$29,5),IF(AND(H244>1999,H244<2002),VLOOKUP(I244,Feuil1!$A$11:$G$29,4),IF(AND(H244>2001,H244<2004),VLOOKUP(I244,Feuil1!$A$11:$G$29,3),VLOOKUP(I244,Feuil1!$A$11:$G$29,2))))),IF(OR(H244=\"SEN\",H244<1997),VLOOKUP(I244,Feuil1!$G$11:$L$25,6),IF(AND(H244>1996,H244<2000),VLOOKUP(I244,Feuil1!$G$11:$L$25,5),IF(AND(H244>1999,H244<2002),VLOOKUP(I244,Feuil1!$G$11:$L$25,4),IF(AND(H244>2001,H244<2004),VLOOKUP(I244,Feuil1!$G$11:$L$25,3),VLOOKUP(I244,Feuil1!$G$11:$L$25,2)))))))","v":"C1 69"},275.77820846990062,null," ",{"$f":"T244-HLOOKUP(X244,Feuil1!$C$1:$BL$10,2,FALSE)","v":120},{"$f":"T244-HLOOKUP(X244,Feuil1!$C$1:$BL$10,3,FALSE)","v":100},{"$f":"T244-HLOOKUP(X244,Feuil1!$C$1:$BL$10,4,FALSE)","v":90},{"$f":"T244-HLOOKUP(X244,Feuil1!$C$1:$BL$10,5,FALSE)","v":75},{"$f":"T244-HLOOKUP(X244,Feuil1!$C$1:$BL$10,6,FALSE)","v":55},{"$f":"T244-HLOOKUP(X244,Feuil1!$C$1:$BL$10,7,FALSE)","v":35},{"$f":"T244-HLOOKUP(X244,Feuil1!$C$1:$BL$10,8,FALSE)","v":15},{"$f":"T244-HLOOKUP(X244,Feuil1!$C$1:$BL$10,9,FALSE)","v":-5},{"$f":"T244-HLOOKUP(X244,Feuil1!$C$1:$BL$10,10,FALSE)","v":-795},null,null,null,null,null,null,"INTB +"]
["H",null,null,null,null,null,null,2002,69,null,null,95,null,null,95,110,null,null,110,205,null,"INTB +",15,{"$f":"IF(I245=\"\",\"\",IF(A245=\"H\",IF(OR(H245=\"SEN\",H245<1997),VLOOKUP(I245,Feuil1!$A$11:$G$29,6),IF(AND(H245>1996,H245<2000),VLOOKUP(I245,Feuil1!$A$11:$G$29,5),IF(AND(H245>1999,H245<2002),VLOOKUP(I245,Feuil1!$A$11:$G$29,4),IF(AND(H245>2001,H245<2004),VLOOKUP(I245,Feuil1!$A$11:$G$29,3),VLOOKUP(I245,Feuil1!$A$11:$G$29,2))))),IF(OR(H245=\"SEN\",H245<1997),VLOOKUP(I245,Feuil1!$G$11:$L$25,6),IF(AND(H245>1996,H245<2000),VLOOKUP(I245,Feuil1!$G$11:$L$25,5),IF(AND(H245>1999,H245<2002),VLOOKUP(I245,Feuil1!$G$11:$L$25,4),IF(AND(H245>2001,H245<2004),VLOOKUP(I245,Feuil1!$G$11:$L$25,3),VLOOKUP(I245,Feuil1!$G$11:$L$25,2)))))))","v":"C1 69"},275.77820846990062,null," ",{"$f":"T245-HLOOKUP(X245,Feuil1!$C$1:$BL$10,2,FALSE)","v":120},{"$f":"T245-HLOOKUP(X245,Feuil1!$C$1:$BL$10,3,FALSE)","v":100},{"$f":"T245-HLOOKUP(X245,Feuil1!$C$1:$BL$10,4,FALSE)","v":90},{"$f":"T245-HLOOKUP(X245,Feuil1!$C$1:$BL$10,5,FALSE)","v":75},{"$f":"T245-HLOOKUP(X245,Feuil1!$C$1:$BL$10,6,FALSE)","v":55},{"$f":"T245-HLOOKUP(X245,Feuil1!$C$1:$BL$10,7,FALSE)","v":35},{"$f":"T245-HLOOKUP(X245,Feuil1!$C$1:$BL$10,8,FALSE)","v":15},{"$f":"T245-HLOOKUP(X245,Feuil1!$C$1:$BL$10,9,FALSE)","v":-5},{"$f":"T245-HLOOKUP(X245,Feuil1!$C$1:$BL$10,10,FALSE)","v":-795},null,null,null,null,null,null,"INTB +"]
["H",null,null,null,null,null,null,2002,69,null,null,95,null,null,95,110,null,null,110,205,null,"INTB +",15,{"$f":"IF(I246=\"\",\"\",IF(A246=\"H\",IF(OR(H246=\"SEN\",H246<1997),VLOOKUP(I246,Feuil1!$A$11:$G$29,6),IF(AND(H246>1996,H246<2000),VLOOKUP(I246,Feuil1!$A$11:$G$29,5),IF(AND(H246>1999,H246<2002),VLOOKUP(I246,Feuil1!$A$11:$G$29,4),IF(AND(H246>2001,H246<2004),VLOOKUP(I246,Feuil1!$A$11:$G$29,3),VLOOKUP(I246,Feuil1!$A$11:$G$29,2))))),IF(OR(H246=\"SEN\",H246<1997),VLOOKUP(I246,Feuil1!$G$11:$L$25,6),IF(AND(H246>1996,H246<2000),VLOOKUP(I246,Feuil1!$G$11:$L$25,5),IF(AND(H246>1999,H246<2002),VLOOKUP(I246,Feuil1!$G$11:$L$25,4),IF(AND(H246>2001,H246<2004),VLOOKUP(I246,Feuil1!$G$11:$L$25,3),VLOOKUP(I246,Feuil1!$G$11:$L$25,2)))))))","v":"C1 69"},275.77820846990062,null," ",{"$f":"T246-HLOOKUP(X246,Feuil1!$C$1:$BL$10,2,FALSE)","v":120},{"$f":"T246-HLOOKUP(X246,Feuil1!$C$1:$BL$10,3,FALSE)","v":100},{"$f":"T246-HLOOKUP(X246,Feuil1!$C$1:$BL$10,4,FALSE)","v":90},{"$f":"T246-HLOOKUP(X246,Feuil1!$C$1:$BL$10,5,FALSE)","v":75},{"$f":"T246-HLOOKUP(X246,Feuil1!$C$1:$BL$10,6,FALSE)","v":55},{"$f":"T246-HLOOKUP(X246,Feuil1!$C$1:$BL$10,7,FALSE)","v":35},{"$f":"T246-HLOOKUP(X246,Feuil1!$C$1:$BL$10,8,FALSE)","v":15},{"$f":"T246-HLOOKUP(X246,Feuil1!$C$1:$BL$10,9,FALSE)","v":-5},{"$f":"T246-HLOOKUP(X246,Feuil1!$C$1:$BL$10,10,FALSE)","v":-795},null,null,null,null,null,null,"INTB +"]
["H",null,null,null,null,null,null,2002,69,null,null,95,null,null,95,110,null,null,110,205,null,"INTB +",15,{"$f":"IF(I247=\"\",\"\",IF(A247=\"H\",IF(OR(H247=\"SEN\",H247<1997),VLOOKUP(I247,Feuil1!$A$11:$G$29,6),IF(AND(H247>1996,H247<2000),VLOOKUP(I247,Feuil1!$A$11:$G$29,5),IF(AND(H247>1999,H247<2002),VLOOKUP(I247,Feuil1!$A$11:$G$29,4),IF(AND(H247>2001,H247<2004),VLOOKUP(I247,Feuil1!$A$11:$G$29,3),VLOOKUP(I247,Feuil1!$A$11:$G$29,2))))),IF(OR(H247=\"SEN\",H247<1997),VLOOKUP(I247,Feuil1!$G$11:$L$25,6),IF(AND(H247>1996,H247<2000),VLOOKUP(I247,Feuil1!$G$11:$L$25,5),IF(AND(H247>1999,H247<2002),VLOOKUP(I247,Feuil1!$G$11:$L$25,4),IF(AND(H247>2001,H247<2004),VLOOKUP(I247,Feuil1!$G$11:$L$25,3),VLOOKUP(I247,Feuil1!$G$11:$L$25,2)))))))","v":"C1 69"},275.77820846990062,null," ",{"$f":"T247-HLOOKUP(X247,Feuil1!$C$1:$BL$10,2,FALSE)","v":120},{"$f":"T247-HLOOKUP(X247,Feuil1!$C$1:$BL$10,3,FALSE)","v":100},{"$f":"T247-HLOOKUP(X247,Feuil1!$C$1:$BL$10,4,FALSE)","v":90},{"$f":"T247-HLOOKUP(X247,Feuil1!$C$1:$BL$10,5,FALSE)","v":75},{"$f":"T247-HLOOKUP(X247,Feuil1!$C$1:$BL$10,6,FALSE)","v":55},{"$f":"T247-HLOOKUP(X247,Feuil1!$C$1:$BL$10,7,FALSE)","v":35},{"$f":"T247-HLOOKUP(X247,Feuil1!$C$1:$BL$10,8,FALSE)","v":15},{"$f":"T247-HLOOKUP(X247,Feuil1!$C$1:$BL$10,9,FALSE)","v":-5},{"$f":"T247-HLOOKUP(X247,Feuil1!$C$1:$BL$10,10,FALSE)","v":-795},null,null,null,null,null,null,"INTB +"]
["H",null,null,null,null,null,null,2002,69,null,null,95,null,null,95,110,null,null,110,205,null,"INTB +",15,{"$f":"IF(I248=\"\",\"\",IF(A248=\"H\",IF(OR(H248=\"SEN\",H248<1997),VLOOKUP(I248,Feuil1!$A$11:$G$29,6),IF(AND(H248>1996,H248<2000),VLOOKUP(I248,Feuil1!$A$11:$G$29,5),IF(AND(H248>1999,H248<2002),VLOOKUP(I248,Feuil1!$A$11:$G$29,4),IF(AND(H248>2001,H248<2004),VLOOKUP(I248,Feuil1!$A$11:$G$29,3),VLOOKUP(I248,Feuil1!$A$11:$G$29,2))))),IF(OR(H248=\"SEN\",H248<1997),VLOOKUP(I248,Feuil1!$G$11:$L$25,6),IF(AND(H248>1996,H248<2000),VLOOKUP(I248,Feuil1!$G$11:$L$25,5),IF(AND(H248>1999,H248<2002),VLOOKUP(I248,Feuil1!$G$11:$L$25,4),IF(AND(H248>2001,H248<2004),VLOOKUP(I248,Feuil1!$G$11:$L$25,3),VLOOKUP(I248,Feuil1!$G$11:$L$25,2)))))))","v":"C1 69"},275.77820846990062,null," ",{"$f":"T248-HLOOKUP(X248,Feuil1!$C$1:$BL$10,2,FALSE)","v":120},{"$f":"T248-HLOOKUP(X248,Feuil1!$C$1:$BL$10,3,FALSE)","v":100},{"$f":"T248-HLOOKUP(X248,Feuil1!$C$1:$BL$10,4,FALSE)","v":90},{"$f":"T248-HLOOKUP(X248,Feuil1!$C$1:$BL$10,5,FALSE)","v":75},{"$f":"T248-HLOOKUP(X248,Feuil1!$C$1:$BL$10,6,FALSE)","v":55},{"$f":"T248-HLOOKUP(X248,Feuil1!$C$1:$BL$10,7,FALSE)","v":35},{"$f":"T248-HLOOKUP(X248,Feuil1!$C$1:$BL$10,8,FALSE)","v":15},{"$f":"T248-HLOOKUP(X248,Feuil1!$C$1:$BL$10,9,FALSE)","v":-5},{"$f":"T248-HLOOKUP(X248,Feuil1!$C$1:$BL$10,10,FALSE)","v":-795},null,null,null,null,null,null,"INTB +"]
["H",null,null,null,null,null,null,2002,69,null,null,95,null,null,95,110,null,null,110,205,null,"INTB +",15,{"$f":"IF(I249=\"\",\"\",IF(A249=\"H\",IF(OR(H249=\"SEN\",H249<1997),VLOOKUP(I249,Feuil1!$A$11:$G$29,6),IF(AND(H249>1996,H249<2000),VLOOKUP(I249,Feuil1!$A$11:$G$29,5),IF(AND(H249>1999,H249<2002),VLOOKUP(I249,Feuil1!$A$11:$G$29,4),IF(AND(H249>2001,H249<2004),VLOOKUP(I249,Feuil1!$A$11:$G$29,3),VLOOKUP(I249,Feuil1!$A$11:$G$29,2))))),IF(OR(H249=\"SEN\",H249<1997),VLOOKUP(I249,Feuil1!$G$11:$L$25,6),IF(AND(H249>1996,H249<2000),VLOOKUP(I249,Feuil1!$G$11:$L$25,5),IF(AND(H249>1999,H249<2002),VLOOKUP(I249,Feuil1!$G$11:$L$25,4),IF(AND(H249>2001,H249<2004),VLOOKUP(I249,Feuil1!$G$11:$L$25,3),VLOOKUP(I249,Feuil1!$G$11:$L$25,2)))))))","v":"C1 69"},275.77820846990062,null," ",{"$f":"T249-HLOOKUP(X249,Feuil1!$C$1:$BL$10,2,FALSE)","v":120},{"$f":"T249-HLOOKUP(X249,Feuil1!$C$1:$BL$10,3,FALSE)","v":100},{"$f":"T249-HLOOKUP(X249,Feuil1!$C$1:$BL$10,4,FALSE)","v":90},{"$f":"T249-HLOOKUP(X249,Feuil1!$C$1:$BL$10,5,FALSE)","v":75},{"$f":"T249-HLOOKUP(X249,Feuil1!$C$1:$BL$10,6,FALSE)","v":55},{"$f":"T249-HLOOKUP(X249,Feuil1!$C$1:$BL$10,7,FALSE)","v":35},{"$f":"T249-HLOOKUP(X249,Feuil1!$C$1:$BL$10,8,FALSE)","v":15},{"$f":"T249-HLOOKUP(X249,Feuil1!$C$1:$BL$10,9,FALSE)","v":-5},{"$f":"T249-HLOOKUP(X249,Feuil1!$C$1:$BL$10,10,FALSE)","v":-795},null,null,null,null,null,null,"INTB +"]
["H",null,null,null,null,null,null,2002,69,null,null,95,null,null,95,110,null,null,110,205,null,"INTB +",15,{"$f":"IF(I250=\"\",\"\",IF(A250=\"H\",IF(OR(H250=\"SEN\",H250<1997),VLOOKUP(I250,Feuil1!$A$11:$G$29,6),IF(AND(H250>1996,H250<2000),VLOOKUP(I250,Feuil1!$A$11:$G$29,5),IF(AND(H250>1999,H250<2002),VLOOKUP(I250,Feuil1!$A$11:$G$29,4),IF(AND(H250>2001,H250<2004),VLOOKUP(I250,Feuil1!$A$11:$G$29,3),VLOOKUP(I250,Feuil1!$A$11:$G$29,2))))),IF(OR(H250=\"SEN\",H250<1997),VLOOKUP(I250,Feuil1!$G$11:$L$25,6),IF(AND(H250>1996,H250<2000),VLOOKUP(I250,Feuil1!$G$11:$L$25,5),IF(AND(H250>1999,H250<2002),VLOOKUP(I250,Feuil1!$G$11:$L$25,4),IF(AND(H250>2001,H250<2004),VLOOKUP(I250,Feuil1!$G$11:$L$25,3),VLOOKUP(I250,Feuil1!$G$11:$L$25,2)))))))","v":"C1 69"},275.77820846990062,null," ",{"$f":"T250-HLOOKUP(X250,Feuil1!$C$1:$BL$10,2,FALSE)","v":120},{"$f":"T250-HLOOKUP(X250,Feuil1!$C$1:$BL$10,3,FALSE)","v":100},{"$f":"T250-HLOOKUP(X250,Feuil1!$C$1:$BL$10,4,FALSE)","v":90},{"$f":"T250-HLOOKUP(X250,Feuil1!$C$1:$BL$10,5,FALSE)","v":75},{"$f":"T250-HLOOKUP(X250,Feuil1!$C$1:$BL$10,6,FALSE)","v":55},{"$f":"T250-HLOOKUP(X250,Feuil1!$C$1:$BL$10,7,FALSE)","v":35},{"$f":"T250-HLOOKUP(X250,Feuil1!$C$1:$BL$10,8,FALSE)","v":15},{"$f":"T250-HLOOKUP(X250,Feuil1!$C$1:$BL$10,9,FALSE)","v":-5},{"$f":"T250-HLOOKUP(X250,Feuil1!$C$1:$BL$10,10,FALSE)","v":-795},null,null,null,null,null,null,"INTB +"]
["H",null,null,null,null,null,null,2002,69,null,null,95,null,null,95,110,null,null,110,205,null,"INTB +",15,{"$f":"IF(I251=\"\",\"\",IF(A251=\"H\",IF(OR(H251=\"SEN\",H251<1997),VLOOKUP(I251,Feuil1!$A$11:$G$29,6),IF(AND(H251>1996,H251<2000),VLOOKUP(I251,Feuil1!$A$11:$G$29,5),IF(AND(H251>1999,H251<2002),VLOOKUP(I251,Feuil1!$A$11:$G$29,4),IF(AND(H251>2001,H251<2004),VLOOKUP(I251,Feuil1!$A$11:$G$29,3),VLOOKUP(I251,Feuil1!$A$11:$G$29,2))))),IF(OR(H251=\"SEN\",H251<1997),VLOOKUP(I251,Feuil1!$G$11:$L$25,6),IF(AND(H251>1996,H251<2000),VLOOKUP(I251,Feuil1!$G$11:$L$25,5),IF(AND(H251>1999,H251<2002),VLOOKUP(I251,Feuil1!$G$11:$L$25,4),IF(AND(H251>2001,H251<2004),VLOOKUP(I251,Feuil1!$G$11:$L$25,3),VLOOKUP(I251,Feuil1!$G$11:$L$25,2)))))))","v":"C1 69"},275.77820846990062,null," ",{"$f":"T251-HLOOKUP(X251,Feuil1!$C$1:$BL$10,2,FALSE)","v":120},{"$f":"T251-HLOOKUP(X251,Feuil1!$C$1:$BL$10,3,FALSE)","v":100},{"$f":"T251-HLOOKUP(X251,Feuil1!$C$1:$BL$10,4,FALSE)","v":90},{"$f":"T251-HLOOKUP(X251,Feuil1!$C$1:$BL$10,5,FALSE)","v":75},{"$f":"T251-HLOOKUP(X251,Feuil1!$C$1:$BL$10,6,FALSE)","v":55},{"$f":"T251-HLOOKUP(X251,Feuil1!$C$1:$BL$10,7,FALSE)","v":35},{"$f":"T251-HLOOKUP(X251,Feuil1!$C$1:$BL$10,8,FALSE)","v":15},{"$f":"T251-HLOOKUP(X251,Feuil1!$C$1:$BL$10,9,FALSE)","v":-5},{"$f":"T251-HLOOKUP(X251,Feuil1!$C$1:$BL$10,10,FALSE)","v":-795},null,null,null,null,null,null,"INTB +"]
["H",null,null,null,null,null,null,2002,69,null,null,95,null,null,95,110,null,null,110,205,null,"INTB +",15,{"$f":"IF(I252=\"\",\"\",IF(A252=\"H\",IF(OR(H252=\"SEN\",H252<1997),VLOOKUP(I252,Feuil1!$A$11:$G$29,6),IF(AND(H252>1996,H252<2000),VLOOKUP(I252,Feuil1!$A$11:$G$29,5),IF(AND(H252>1999,H252<2002),VLOOKUP(I252,Feuil1!$A$11:$G$29,4),IF(AND(H252>2001,H252<2004),VLOOKUP(I252,Feuil1!$A$11:$G$29,3),VLOOKUP(I252,Feuil1!$A$11:$G$29,2))))),IF(OR(H252=\"SEN\",H252<1997),VLOOKUP(I252,Feuil1!$G$11:$L$25,6),IF(AND(H252>1996,H252<2000),VLOOKUP(I252,Feuil1!$G$11:$L$25,5),IF(AND(H252>1999,H252<2002),VLOOKUP(I252,Feuil1!$G$11:$L$25,4),IF(AND(H252>2001,H252<2004),VLOOKUP(I252,Feuil1!$G$11:$L$25,3),VLOOKUP(I252,Feuil1!$G$11:$L$25,2)))))))","v":"C1 69"},275.77820846990062,null," ",{"$f":"T252-HLOOKUP(X252,Feuil1!$C$1:$BL$10,2,FALSE)","v":120},{"$f":"T252-HLOOKUP(X252,Feuil1!$C$1:$BL$10,3,FALSE)","v":100},{"$f":"T252-HLOOKUP(X252,Feuil1!$C$1:$BL$10,4,FALSE)","v":90},{"$f":"T252-HLOOKUP(X252,Feuil1!$C$1:$BL$10,5,FALSE)","v":75},{"$f":"T252-HLOOKUP(X252,Feuil1!$C$1:$BL$10,6,FALSE)","v":55},{"$f":"T252-HLOOKUP(X252,Feuil1!$C$1:$BL$10,7,FALSE)","v":35},{"$f":"T252-HLOOKUP(X252,Feuil1!$C$1:$BL$10,8,FALSE)","v":15},{"$f":"T252-HLOOKUP(X252,Feuil1!$C$1:$BL$10,9,FALSE)","v":-5},{"$f":"T252-HLOOKUP(X252,Feuil1!$C$1:$BL$10,10,FALSE)","v":-795},null,null,null,null,null,null,"INTB +"]
["H",null,null,null,null,null,null,2002,69,null,null,95,null,null,95,110,null,null,110,205,null,"INTB +",15,{"$f":"IF(I253=\"\",\"\",IF(A253=\"H\",IF(OR(H253=\"SEN\",H253<1997),VLOOKUP(I253,Feuil1!$A$11:$G$29,6),IF(AND(H253>1996,H253<2000),VLOOKUP(I253,Feuil1!$A$11:$G$29,5),IF(AND(H253>1999,H253<2002),VLOOKUP(I253,Feuil1!$A$11:$G$29,4),IF(AND(H253>2001,H253<2004),VLOOKUP(I253,Feuil1!$A$11:$G$29,3),VLOOKUP(I253,Feuil1!$A$11:$G$29,2))))),IF(OR(H253=\"SEN\",H253<1997),VLOOKUP(I253,Feuil1!$G$11:$L$25,6),IF(AND(H253>1996,H253<2000),VLOOKUP(I253,Feuil1!$G$11:$L$25,5),IF(AND(H253>1999,H253<2002),VLOOKUP(I253,Feuil1!$G$11:$L$25,4),IF(AND(H253>2001,H253<2004),VLOOKUP(I253,Feuil1!$G$11:$L$25,3),VLOOKUP(I253,Feuil1!$G$11:$L$25,2)))))))","v":"C1 69"},275.77820846990062,null," ",{"$f":"T253-HLOOKUP(X253,Feuil1!$C$1:$BL$10,2,FALSE)","v":120},{"$f":"T253-HLOOKUP(X253,Feuil1!$C$1:$BL$10,3,FALSE)","v":100},{"$f":"T253-HLOOKUP(X253,Feuil1!$C$1:$BL$10,4,FALSE)","v":90},{"$f":"T253-HLOOKUP(X253,Feuil1!$C$1:$BL$10,5,FALSE)","v":75},{"$f":"T253-HLOOKUP(X253,Feuil1!$C$1:$BL$10,6,FALSE)","v":55},{"$f":"T253-HLOOKUP(X253,Feuil1!$C$1:$BL$10,7,FALSE)","v":35},{"$f":"T253-HLOOKUP(X253,Feuil1!$C$1:$BL$10,8,FALSE)","v":15},{"$f":"T253-HLOOKUP(X253,Feuil1!$C$1:$BL$10,9,FALSE)","v":-5},{"$f":"T253-HLOOKUP(X253,Feuil1!$C$1:$BL$10,10,FALSE)","v":-795},null,null,null,null,null,null,"INTB +"]
["H",null,null,null,null,null,null,2002,69,null,null,95,null,null,95,110,null,null,110,205,null,"INTB +",15,{"$f":"IF(I254=\"\",\"\",IF(A254=\"H\",IF(OR(H254=\"SEN\",H254<1997),VLOOKUP(I254,Feuil1!$A$11:$G$29,6),IF(AND(H254>1996,H254<2000),VLOOKUP(I254,Feuil1!$A$11:$G$29,5),IF(AND(H254>1999,H254<2002),VLOOKUP(I254,Feuil1!$A$11:$G$29,4),IF(AND(H254>2001,H254<2004),VLOOKUP(I254,Feuil1!$A$11:$G$29,3),VLOOKUP(I254,Feuil1!$A$11:$G$29,2))))),IF(OR(H254=\"SEN\",H254<1997),VLOOKUP(I254,Feuil1!$G$11:$L$25,6),IF(AND(H254>1996,H254<2000),VLOOKUP(I254,Feuil1!$G$11:$L$25,5),IF(AND(H254>1999,H254<2002),VLOOKUP(I254,Feuil1!$G$11:$L$25,4),IF(AND(H254>2001,H254<2004),VLOOKUP(I254,Feuil1!$G$11:$L$25,3),VLOOKUP(I254,Feuil1!$G$11:$L$25,2)))))))","v":"C1 69"},275.77820846990062,null," ",{"$f":"T254-HLOOKUP(X254,Feuil1!$C$1:$BL$10,2,FALSE)","v":120},{"$f":"T254-HLOOKUP(X254,Feuil1!$C$1:$BL$10,3,FALSE)","v":100},{"$f":"T254-HLOOKUP(X254,Feuil1!$C$1:$BL$10,4,FALSE)","v":90},{"$f":"T254-HLOOKUP(X254,Feuil1!$C$1:$BL$10,5,FALSE)","v":75},{"$f":"T254-HLOOKUP(X254,Feuil1!$C$1:$BL$10,6,FALSE)","v":55},{"$f":"T254-HLOOKUP(X254,Feuil1!$C$1:$BL$10,7,FALSE)","v":35},{"$f":"T254-HLOOKUP(X254,Feuil1!$C$1:$BL$10,8,FALSE)","v":15},{"$f":"T254-HLOOKUP(X254,Feuil1!$C$1:$BL$10,9,FALSE)","v":-5},{"$f":"T254-HLOOKUP(X254,Feuil1!$C$1:$BL$10,10,FALSE)","v":-795},null,null,null,null,null,null,"INTB +"]
["H",null,null,null,null,null,null,2002,69,null,null,95,null,null,95,110,null,null,110,205,null,"INTB +",15,{"$f":"IF(I255=\"\",\"\",IF(A255=\"H\",IF(OR(H255=\"SEN\",H255<1997),VLOOKUP(I255,Feuil1!$A$11:$G$29,6),IF(AND(H255>1996,H255<2000),VLOOKUP(I255,Feuil1!$A$11:$G$29,5),IF(AND(H255>1999,H255<2002),VLOOKUP(I255,Feuil1!$A$11:$G$29,4),IF(AND(H255>2001,H255<2004),VLOOKUP(I255,Feuil1!$A$11:$G$29,3),VLOOKUP(I255,Feuil1!$A$11:$G$29,2))))),IF(OR(H255=\"SEN\",H255<1997),VLOOKUP(I255,Feuil1!$G$11:$L$25,6),IF(AND(H255>1996,H255<2000),VLOOKUP(I255,Feuil1!$G$11:$L$25,5),IF(AND(H255>1999,H255<2002),VLOOKUP(I255,Feuil1!$G$11:$L$25,4),IF(AND(H255>2001,H255<2004),VLOOKUP(I255,Feuil1!$G$11:$L$25,3),VLOOKUP(I255,Feuil1!$G$11:$L$25,2)))))))","v":"C1 69"},275.77820846990062,null," ",{"$f":"T255-HLOOKUP(X255,Feuil1!$C$1:$BL$10,2,FALSE)","v":120},{"$f":"T255-HLOOKUP(X255,Feuil1!$C$1:$BL$10,3,FALSE)","v":100},{"$f":"T255-HLOOKUP(X255,Feuil1!$C$1:$BL$10,4,FALSE)","v":90},{"$f":"T255-HLOOKUP(X255,Feuil1!$C$1:$BL$10,5,FALSE)","v":75},{"$f":"T255-HLOOKUP(X255,Feuil1!$C$1:$BL$10,6,FALSE)","v":55},{"$f":"T255-HLOOKUP(X255,Feuil1!$C$1:$BL$10,7,FALSE)","v":35},{"$f":"T255-HLOOKUP(X255,Feuil1!$C$1:$BL$10,8,FALSE)","v":15},{"$f":"T255-HLOOKUP(X255,Feuil1!$C$1:$BL$10,9,FALSE)","v":-5},{"$f":"T255-HLOOKUP(X255,Feuil1!$C$1:$BL$10,10,FALSE)","v":-795},null,null,null,null,null,null,"INTB +"]
["H",null,null,null,null,null,null,2002,69,null,null,95,null,null,95,110,null,null,110,205,null,"INTB +",15,{"$f":"IF(I256=\"\",\"\",IF(A256=\"H\",IF(OR(H256=\"SEN\",H256<1997),VLOOKUP(I256,Feuil1!$A$11:$G$29,6),IF(AND(H256>1996,H256<2000),VLOOKUP(I256,Feuil1!$A$11:$G$29,5),IF(AND(H256>1999,H256<2002),VLOOKUP(I256,Feuil1!$A$11:$G$29,4),IF(AND(H256>2001,H256<2004),VLOOKUP(I256,Feuil1!$A$11:$G$29,3),VLOOKUP(I256,Feuil1!$A$11:$G$29,2))))),IF(OR(H256=\"SEN\",H256<1997),VLOOKUP(I256,Feuil1!$G$11:$L$25,6),IF(AND(H256>1996,H256<2000),VLOOKUP(I256,Feuil1!$G$11:$L$25,5),IF(AND(H256>1999,H256<2002),VLOOKUP(I256,Feuil1!$G$11:$L$25,4),IF(AND(H256>2001,H256<2004),VLOOKUP(I256,Feuil1!$G$11:$L$25,3),VLOOKUP(I256,Feuil1!$G$11:$L$25,2)))))))","v":"C1 69"},275.77820846990062,null," ",{"$f":"T256-HLOOKUP(X256,Feuil1!$C$1:$BL$10,2,FALSE)","v":120},{"$f":"T256-HLOOKUP(X256,Feuil1!$C$1:$BL$10,3,FALSE)","v":100},{"$f":"T256-HLOOKUP(X256,Feuil1!$C$1:$BL$10,4,FALSE)","v":90},{"$f":"T256-HLOOKUP(X256,Feuil1!$C$1:$BL$10,5,FALSE)","v":75},{"$f":"T256-HLOOKUP(X256,Feuil1!$C$1:$BL$10,6,FALSE)","v":55},{"$f":"T256-HLOOKUP(X256,Feuil1!$C$1:$BL$10,7,FALSE)","v":35},{"$f":"T256-HLOOKUP(X256,Feuil1!$C$1:$BL$10,8,FALSE)","v":15},{"$f":"T256-HLOOKUP(X256,Feuil1!$C$1:$BL$10,9,FALSE)","v":-5},{"$f":"T256-HLOOKUP(X256,Feuil1!$C$1:$BL$10,10,FALSE)","v":-795},null,null,null,null,null,null,"INTB +"]
["H",null,null,null,null,null,null,2002,69,null,null,95,null,null,95,110,null,null,110,205,null,"INTB +",15,{"$f":"IF(I257=\"\",\"\",IF(A257=\"H\",IF(OR(H257=\"SEN\",H257<1997),VLOOKUP(I257,Feuil1!$A$11:$G$29,6),IF(AND(H257>1996,H257<2000),VLOOKUP(I257,Feuil1!$A$11:$G$29,5),IF(AND(H257>1999,H257<2002),VLOOKUP(I257,Feuil1!$A$11:$G$29,4),IF(AND(H257>2001,H257<2004),VLOOKUP(I257,Feuil1!$A$11:$G$29,3),VLOOKUP(I257,Feuil1!$A$11:$G$29,2))))),IF(OR(H257=\"SEN\",H257<1997),VLOOKUP(I257,Feuil1!$G$11:$L$25,6),IF(AND(H257>1996,H257<2000),VLOOKUP(I257,Feuil1!$G$11:$L$25,5),IF(AND(H257>1999,H257<2002),VLOOKUP(I257,Feuil1!$G$11:$L$25,4),IF(AND(H257>2001,H257<2004),VLOOKUP(I257,Feuil1!$G$11:$L$25,3),VLOOKUP(I257,Feuil1!$G$11:$L$25,2)))))))","v":"C1 69"},275.77820846990062,null," ",{"$f":"T257-HLOOKUP(X257,Feuil1!$C$1:$BL$10,2,FALSE)","v":120},{"$f":"T257-HLOOKUP(X257,Feuil1!$C$1:$BL$10,3,FALSE)","v":100},{"$f":"T257-HLOOKUP(X257,Feuil1!$C$1:$BL$10,4,FALSE)","v":90},{"$f":"T257-HLOOKUP(X257,Feuil1!$C$1:$BL$10,5,FALSE)","v":75},{"$f":"T257-HLOOKUP(X257,Feuil1!$C$1:$BL$10,6,FALSE)","v":55},{"$f":"T257-HLOOKUP(X257,Feuil1!$C$1:$BL$10,7,FALSE)","v":35},{"$f":"T257-HLOOKUP(X257,Feuil1!$C$1:$BL$10,8,FALSE)","v":15},{"$f":"T257-HLOOKUP(X257,Feuil1!$C$1:$BL$10,9,FALSE)","v":-5},{"$f":"T257-HLOOKUP(X257,Feuil1!$C$1:$BL$10,10,FALSE)","v":-795},null,null,null,null,null,null,"INTB +"]
["H",null,null,null,null,null,null,2002,69,null,null,95,null,null,95,110,null,null,110,205,null,"INTB +",15,{"$f":"IF(I258=\"\",\"\",IF(A258=\"H\",IF(OR(H258=\"SEN\",H258<1997),VLOOKUP(I258,Feuil1!$A$11:$G$29,6),IF(AND(H258>1996,H258<2000),VLOOKUP(I258,Feuil1!$A$11:$G$29,5),IF(AND(H258>1999,H258<2002),VLOOKUP(I258,Feuil1!$A$11:$G$29,4),IF(AND(H258>2001,H258<2004),VLOOKUP(I258,Feuil1!$A$11:$G$29,3),VLOOKUP(I258,Feuil1!$A$11:$G$29,2))))),IF(OR(H258=\"SEN\",H258<1997),VLOOKUP(I258,Feuil1!$G$11:$L$25,6),IF(AND(H258>1996,H258<2000),VLOOKUP(I258,Feuil1!$G$11:$L$25,5),IF(AND(H258>1999,H258<2002),VLOOKUP(I258,Feuil1!$G$11:$L$25,4),IF(AND(H258>2001,H258<2004),VLOOKUP(I258,Feuil1!$G$11:$L$25,3),VLOOKUP(I258,Feuil1!$G$11:$L$25,2)))))))","v":"C1 69"},275.77820846990062,null," ",{"$f":"T258-HLOOKUP(X258,Feuil1!$C$1:$BL$10,2,FALSE)","v":120},{"$f":"T258-HLOOKUP(X258,Feuil1!$C$1:$BL$10,3,FALSE)","v":100},{"$f":"T258-HLOOKUP(X258,Feuil1!$C$1:$BL$10,4,FALSE)","v":90},{"$f":"T258-HLOOKUP(X258,Feuil1!$C$1:$BL$10,5,FALSE)","v":75},{"$f":"T258-HLOOKUP(X258,Feuil1!$C$1:$BL$10,6,FALSE)","v":55},{"$f":"T258-HLOOKUP(X258,Feuil1!$C$1:$BL$10,7,FALSE)","v":35},{"$f":"T258-HLOOKUP(X258,Feuil1!$C$1:$BL$10,8,FALSE)","v":15},{"$f":"T258-HLOOKUP(X258,Feuil1!$C$1:$BL$10,9,FALSE)","v":-5},{"$f":"T258-HLOOKUP(X258,Feuil1!$C$1:$BL$10,10,FALSE)","v":-795},null,null,null,null,null,null,"INTB +"]
["H",null,null,null,null,null,null,2002,69,null,null,95,null,null,95,110,null,null,110,205,null,"INTB +",15,{"$f":"IF(I259=\"\",\"\",IF(A259=\"H\",IF(OR(H259=\"SEN\",H259<1997),VLOOKUP(I259,Feuil1!$A$11:$G$29,6),IF(AND(H259>1996,H259<2000),VLOOKUP(I259,Feuil1!$A$11:$G$29,5),IF(AND(H259>1999,H259<2002),VLOOKUP(I259,Feuil1!$A$11:$G$29,4),IF(AND(H259>2001,H259<2004),VLOOKUP(I259,Feuil1!$A$11:$G$29,3),VLOOKUP(I259,Feuil1!$A$11:$G$29,2))))),IF(OR(H259=\"SEN\",H259<1997),VLOOKUP(I259,Feuil1!$G$11:$L$25,6),IF(AND(H259>1996,H259<2000),VLOOKUP(I259,Feuil1!$G$11:$L$25,5),IF(AND(H259>1999,H259<2002),VLOOKUP(I259,Feuil1!$G$11:$L$25,4),IF(AND(H259>2001,H259<2004),VLOOKUP(I259,Feuil1!$G$11:$L$25,3),VLOOKUP(I259,Feuil1!$G$11:$L$25,2)))))))","v":"C1 69"},275.77820846990062,null," ",{"$f":"T259-HLOOKUP(X259,Feuil1!$C$1:$BL$10,2,FALSE)","v":120},{"$f":"T259-HLOOKUP(X259,Feuil1!$C$1:$BL$10,3,FALSE)","v":100},{"$f":"T259-HLOOKUP(X259,Feuil1!$C$1:$BL$10,4,FALSE)","v":90},{"$f":"T259-HLOOKUP(X259,Feuil1!$C$1:$BL$10,5,FALSE)","v":75},{"$f":"T259-HLOOKUP(X259,Feuil1!$C$1:$BL$10,6,FALSE)","v":55},{"$f":"T259-HLOOKUP(X259,Feuil1!$C$1:$BL$10,7,FALSE)","v":35},{"$f":"T259-HLOOKUP(X259,Feuil1!$C$1:$BL$10,8,FALSE)","v":15},{"$f":"T259-HLOOKUP(X259,Feuil1!$C$1:$BL$10,9,FALSE)","v":-5},{"$f":"T259-HLOOKUP(X259,Feuil1!$C$1:$BL$10,10,FALSE)","v":-795},null,null,null,null,null,null,"INTB +"]
["H",null,null,null,null,null,null,2002,69,null,null,95,null,null,95,110,null,null,110,205,null,"INTB +",15,{"$f":"IF(I260=\"\",\"\",IF(A260=\"H\",IF(OR(H260=\"SEN\",H260<1997),VLOOKUP(I260,Feuil1!$A$11:$G$29,6),IF(AND(H260>1996,H260<2000),VLOOKUP(I260,Feuil1!$A$11:$G$29,5),IF(AND(H260>1999,H260<2002),VLOOKUP(I260,Feuil1!$A$11:$G$29,4),IF(AND(H260>2001,H260<2004),VLOOKUP(I260,Feuil1!$A$11:$G$29,3),VLOOKUP(I260,Feuil1!$A$11:$G$29,2))))),IF(OR(H260=\"SEN\",H260<1997),VLOOKUP(I260,Feuil1!$G$11:$L$25,6),IF(AND(H260>1996,H260<2000),VLOOKUP(I260,Feuil1!$G$11:$L$25,5),IF(AND(H260>1999,H260<2002),VLOOKUP(I260,Feuil1!$G$11:$L$25,4),IF(AND(H260>2001,H260<2004),VLOOKUP(I260,Feuil1!$G$11:$L$25,3),VLOOKUP(I260,Feuil1!$G$11:$L$25,2)))))))","v":"C1 69"},275.77820846990062,null," ",{"$f":"T260-HLOOKUP(X260,Feuil1!$C$1:$BL$10,2,FALSE)","v":120},{"$f":"T260-HLOOKUP(X260,Feuil1!$C$1:$BL$10,3,FALSE)","v":100},{"$f":"T260-HLOOKUP(X260,Feuil1!$C$1:$BL$10,4,FALSE)","v":90},{"$f":"T260-HLOOKUP(X260,Feuil1!$C$1:$BL$10,5,FALSE)","v":75},{"$f":"T260-HLOOKUP(X260,Feuil1!$C$1:$BL$10,6,FALSE)","v":55},{"$f":"T260-HLOOKUP(X260,Feuil1!$C$1:$BL$10,7,FALSE)","v":35},{"$f":"T260-HLOOKUP(X260,Feuil1!$C$1:$BL$10,8,FALSE)","v":15},{"$f":"T260-HLOOKUP(X260,Feuil1!$C$1:$BL$10,9,FALSE)","v":-5},{"$f":"T260-HLOOKUP(X260,Feuil1!$C$1:$BL$10,10,FALSE)","v":-795},null,null,null,null,null,null,"INTB +"]
["H",null,null,null,null,null,null,2002,69,null,null,95,null,null,95,110,null,null,110,205,null,"INTB +",15,{"$f":"IF(I261=\"\",\"\",IF(A261=\"H\",IF(OR(H261=\"SEN\",H261<1997),VLOOKUP(I261,Feuil1!$A$11:$G$29,6),IF(AND(H261>1996,H261<2000),VLOOKUP(I261,Feuil1!$A$11:$G$29,5),IF(AND(H261>1999,H261<2002),VLOOKUP(I261,Feuil1!$A$11:$G$29,4),IF(AND(H261>2001,H261<2004),VLOOKUP(I261,Feuil1!$A$11:$G$29,3),VLOOKUP(I261,Feuil1!$A$11:$G$29,2))))),IF(OR(H261=\"SEN\",H261<1997),VLOOKUP(I261,Feuil1!$G$11:$L$25,6),IF(AND(H261>1996,H261<2000),VLOOKUP(I261,Feuil1!$G$11:$L$25,5),IF(AND(H261>1999,H261<2002),VLOOKUP(I261,Feuil1!$G$11:$L$25,4),IF(AND(H261>2001,H261<2004),VLOOKUP(I261,Feuil1!$G$11:$L$25,3),VLOOKUP(I261,Feuil1!$G$11:$L$25,2)))))))","v":"C1 69"},275.77820846990062,null," ",{"$f":"T261-HLOOKUP(X261,Feuil1!$C$1:$BL$10,2,FALSE)","v":120},{"$f":"T261-HLOOKUP(X261,Feuil1!$C$1:$BL$10,3,FALSE)","v":100},{"$f":"T261-HLOOKUP(X261,Feuil1!$C$1:$BL$10,4,FALSE)","v":90},{"$f":"T261-HLOOKUP(X261,Feuil1!$C$1:$BL$10,5,FALSE)","v":75},{"$f":"T261-HLOOKUP(X261,Feuil1!$C$1:$BL$10,6,FALSE)","v":55},{"$f":"T261-HLOOKUP(X261,Feuil1!$C$1:$BL$10,7,FALSE)","v":35},{"$f":"T261-HLOOKUP(X261,Feuil1!$C$1:$BL$10,8,FALSE)","v":15},{"$f":"T261-HLOOKUP(X261,Feuil1!$C$1:$BL$10,9,FALSE)","v":-5},{"$f":"T261-HLOOKUP(X261,Feuil1!$C$1:$BL$10,10,FALSE)","v":-795},null,null,null,null,null,null,"INTB +"]
["H",null,null,null,null,null,null,2002,69,null,null,95,null,null,95,110,null,null,110,205,null,"INTB +",15,{"$f":"IF(I262=\"\",\"\",IF(A262=\"H\",IF(OR(H262=\"SEN\",H262<1997),VLOOKUP(I262,Feuil1!$A$11:$G$29,6),IF(AND(H262>1996,H262<2000),VLOOKUP(I262,Feuil1!$A$11:$G$29,5),IF(AND(H262>1999,H262<2002),VLOOKUP(I262,Feuil1!$A$11:$G$29,4),IF(AND(H262>2001,H262<2004),VLOOKUP(I262,Feuil1!$A$11:$G$29,3),VLOOKUP(I262,Feuil1!$A$11:$G$29,2))))),IF(OR(H262=\"SEN\",H262<1997),VLOOKUP(I262,Feuil1!$G$11:$L$25,6),IF(AND(H262>1996,H262<2000),VLOOKUP(I262,Feuil1!$G$11:$L$25,5),IF(AND(H262>1999,H262<2002),VLOOKUP(I262,Feuil1!$G$11:$L$25,4),IF(AND(H262>2001,H262<2004),VLOOKUP(I262,Feuil1!$G$11:$L$25,3),VLOOKUP(I262,Feuil1!$G$11:$L$25,2)))))))","v":"C1 69"},275.77820846990062,null," ",{"$f":"T262-HLOOKUP(X262,Feuil1!$C$1:$BL$10,2,FALSE)","v":120},{"$f":"T262-HLOOKUP(X262,Feuil1!$C$1:$BL$10,3,FALSE)","v":100},{"$f":"T262-HLOOKUP(X262,Feuil1!$C$1:$BL$10,4,FALSE)","v":90},{"$f":"T262-HLOOKUP(X262,Feuil1!$C$1:$BL$10,5,FALSE)","v":75},{"$f":"T262-HLOOKUP(X262,Feuil1!$C$1:$BL$10,6,FALSE)","v":55},{"$f":"T262-HLOOKUP(X262,Feuil1!$C$1:$BL$10,7,FALSE)","v":35},{"$f":"T262-HLOOKUP(X262,Feuil1!$C$1:$BL$10,8,FALSE)","v":15},{"$f":"T262-HLOOKUP(X262,Feuil1!$C$1:$BL$10,9,FALSE)","v":-5},{"$f":"T262-HLOOKUP(X262,Feuil1!$C$1:$BL$10,10,FALSE)","v":-795},null,null,null,null,null,null,"INTB +"]
["H",null,null,null,null,null,null,2002,69,null,null,95,null,null,95,110,null,null,110,205,null,"INTB +",15,{"$f":"IF(I263=\"\",\"\",IF(A263=\"H\",IF(OR(H263=\"SEN\",H263<1997),VLOOKUP(I263,Feuil1!$A$11:$G$29,6),IF(AND(H263>1996,H263<2000),VLOOKUP(I263,Feuil1!$A$11:$G$29,5),IF(AND(H263>1999,H263<2002),VLOOKUP(I263,Feuil1!$A$11:$G$29,4),IF(AND(H263>2001,H263<2004),VLOOKUP(I263,Feuil1!$A$11:$G$29,3),VLOOKUP(I263,Feuil1!$A$11:$G$29,2))))),IF(OR(H263=\"SEN\",H263<1997),VLOOKUP(I263,Feuil1!$G$11:$L$25,6),IF(AND(H263>1996,H263<2000),VLOOKUP(I263,Feuil1!$G$11:$L$25,5),IF(AND(H263>1999,H263<2002),VLOOKUP(I263,Feuil1!$G$11:$L$25,4),IF(AND(H263>2001,H263<2004),VLOOKUP(I263,Feuil1!$G$11:$L$25,3),VLOOKUP(I263,Feuil1!$G$11:$L$25,2)))))))","v":"C1 69"},275.77820846990062,null," ",{"$f":"T263-HLOOKUP(X263,Feuil1!$C$1:$BL$10,2,FALSE)","v":120},{"$f":"T263-HLOOKUP(X263,Feuil1!$C$1:$BL$10,3,FALSE)","v":100},{"$f":"T263-HLOOKUP(X263,Feuil1!$C$1:$BL$10,4,FALSE)","v":90},{"$f":"T263-HLOOKUP(X263,Feuil1!$C$1:$BL$10,5,FALSE)","v":75},{"$f":"T263-HLOOKUP(X263,Feuil1!$C$1:$BL$10,6,FALSE)","v":55},{"$f":"T263-HLOOKUP(X263,Feuil1!$C$1:$BL$10,7,FALSE)","v":35},{"$f":"T263-HLOOKUP(X263,Feuil1!$C$1:$BL$10,8,FALSE)","v":15},{"$f":"T263-HLOOKUP(X263,Feuil1!$C$1:$BL$10,9,FALSE)","v":-5},{"$f":"T263-HLOOKUP(X263,Feuil1!$C$1:$BL$10,10,FALSE)","v":-795},null,null,null,null,null,null,"INTB +"]
["H",null,null,null,null,null,null,2002,69,null,null,95,null,null,95,110,null,null,110,205,null,"INTB +",15,{"$f":"IF(I264=\"\",\"\",IF(A264=\"H\",IF(OR(H264=\"SEN\",H264<1997),VLOOKUP(I264,Feuil1!$A$11:$G$29,6),IF(AND(H264>1996,H264<2000),VLOOKUP(I264,Feuil1!$A$11:$G$29,5),IF(AND(H264>1999,H264<2002),VLOOKUP(I264,Feuil1!$A$11:$G$29,4),IF(AND(H264>2001,H264<2004),VLOOKUP(I264,Feuil1!$A$11:$G$29,3),VLOOKUP(I264,Feuil1!$A$11:$G$29,2))))),IF(OR(H264=\"SEN\",H264<1997),VLOOKUP(I264,Feuil1!$G$11:$L$25,6),IF(AND(H264>1996,H264<2000),VLOOKUP(I264,Feuil1!$G$11:$L$25,5),IF(AND(H264>1999,H264<2002),VLOOKUP(I264,Feuil1!$G$11:$L$25,4),IF(AND(H264>2001,H264<2004),VLOOKUP(I264,Feuil1!$G$11:$L$25,3),VLOOKUP(I264,Feuil1!$G$11:$L$25,2)))))))","v":"C1 69"},275.77820846990062,null," ",{"$f":"T264-HLOOKUP(X264,Feuil1!$C$1:$BL$10,2,FALSE)","v":120},{"$f":"T264-HLOOKUP(X264,Feuil1!$C$1:$BL$10,3,FALSE)","v":100},{"$f":"T264-HLOOKUP(X264,Feuil1!$C$1:$BL$10,4,FALSE)","v":90},{"$f":"T264-HLOOKUP(X264,Feuil1!$C$1:$BL$10,5,FALSE)","v":75},{"$f":"T264-HLOOKUP(X264,Feuil1!$C$1:$BL$10,6,FALSE)","v":55},{"$f":"T264-HLOOKUP(X264,Feuil1!$C$1:$BL$10,7,FALSE)","v":35},{"$f":"T264-HLOOKUP(X264,Feuil1!$C$1:$BL$10,8,FALSE)","v":15},{"$f":"T264-HLOOKUP(X264,Feuil1!$C$1:$BL$10,9,FALSE)","v":-5},{"$f":"T264-HLOOKUP(X264,Feuil1!$C$1:$BL$10,10,FALSE)","v":-795},null,null,null,null,null,null,"INTB +"]
["H",null,null,null,null,null,null,2002,69,null,null,95,null,null,95,110,null,null,110,205,null,"INTB +",15,{"$f":"IF(I265=\"\",\"\",IF(A265=\"H\",IF(OR(H265=\"SEN\",H265<1997),VLOOKUP(I265,Feuil1!$A$11:$G$29,6),IF(AND(H265>1996,H265<2000),VLOOKUP(I265,Feuil1!$A$11:$G$29,5),IF(AND(H265>1999,H265<2002),VLOOKUP(I265,Feuil1!$A$11:$G$29,4),IF(AND(H265>2001,H265<2004),VLOOKUP(I265,Feuil1!$A$11:$G$29,3),VLOOKUP(I265,Feuil1!$A$11:$G$29,2))))),IF(OR(H265=\"SEN\",H265<1997),VLOOKUP(I265,Feuil1!$G$11:$L$25,6),IF(AND(H265>1996,H265<2000),VLOOKUP(I265,Feuil1!$G$11:$L$25,5),IF(AND(H265>1999,H265<2002),VLOOKUP(I265,Feuil1!$G$11:$L$25,4),IF(AND(H265>2001,H265<2004),VLOOKUP(I265,Feuil1!$G$11:$L$25,3),VLOOKUP(I265,Feuil1!$G$11:$L$25,2)))))))","v":"C1 69"},275.77820846990062,null," ",{"$f":"T265-HLOOKUP(X265,Feuil1!$C$1:$BL$10,2,FALSE)","v":120},{"$f":"T265-HLOOKUP(X265,Feuil1!$C$1:$BL$10,3,FALSE)","v":100},{"$f":"T265-HLOOKUP(X265,Feuil1!$C$1:$BL$10,4,FALSE)","v":90},{"$f":"T265-HLOOKUP(X265,Feuil1!$C$1:$BL$10,5,FALSE)","v":75},{"$f":"T265-HLOOKUP(X265,Feuil1!$C$1:$BL$10,6,FALSE)","v":55},{"$f":"T265-HLOOKUP(X265,Feuil1!$C$1:$BL$10,7,FALSE)","v":35},{"$f":"T265-HLOOKUP(X265,Feuil1!$C$1:$BL$10,8,FALSE)","v":15},{"$f":"T265-HLOOKUP(X265,Feuil1!$C$1:$BL$10,9,FALSE)","v":-5},{"$f":"T265-HLOOKUP(X265,Feuil1!$C$1:$BL$10,10,FALSE)","v":-795},null,null,null,null,null,null,"INTB +"]
["H",null,null,null,null,null,null,2002,69,null,null,95,null,null,95,110,null,null,110,205,null,"INTB +",15,{"$f":"IF(I266=\"\",\"\",IF(A266=\"H\",IF(OR(H266=\"SEN\",H266<1997),VLOOKUP(I266,Feuil1!$A$11:$G$29,6),IF(AND(H266>1996,H266<2000),VLOOKUP(I266,Feuil1!$A$11:$G$29,5),IF(AND(H266>1999,H266<2002),VLOOKUP(I266,Feuil1!$A$11:$G$29,4),IF(AND(H266>2001,H266<2004),VLOOKUP(I266,Feuil1!$A$11:$G$29,3),VLOOKUP(I266,Feuil1!$A$11:$G$29,2))))),IF(OR(H266=\"SEN\",H266<1997),VLOOKUP(I266,Feuil1!$G$11:$L$25,6),IF(AND(H266>1996,H266<2000),VLOOKUP(I266,Feuil1!$G$11:$L$25,5),IF(AND(H266>1999,H266<2002),VLOOKUP(I266,Feuil1!$G$11:$L$25,4),IF(AND(H266>2001,H266<2004),VLOOKUP(I266,Feuil1!$G$11:$L$25,3),VLOOKUP(I266,Feuil1!$G$11:$L$25,2)))))))","v":"C1 69"},275.77820846990062,null," ",{"$f":"T266-HLOOKUP(X266,Feuil1!$C$1:$BL$10,2,FALSE)","v":120},{"$f":"T266-HLOOKUP(X266,Feuil1!$C$1:$BL$10,3,FALSE)","v":100},{"$f":"T266-HLOOKUP(X266,Feuil1!$C$1:$BL$10,4,FALSE)","v":90},{"$f":"T266-HLOOKUP(X266,Feuil1!$C$1:$BL$10,5,FALSE)","v":75},{"$f":"T266-HLOOKUP(X266,Feuil1!$C$1:$BL$10,6,FALSE)","v":55},{"$f":"T266-HLOOKUP(X266,Feuil1!$C$1:$BL$10,7,FALSE)","v":35},{"$f":"T266-HLOOKUP(X266,Feuil1!$C$1:$BL$10,8,FALSE)","v":15},{"$f":"T266-HLOOKUP(X266,Feuil1!$C$1:$BL$10,9,FALSE)","v":-5},{"$f":"T266-HLOOKUP(X266,Feuil1!$C$1:$BL$10,10,FALSE)","v":-795},null,null,null,null,null,null,"INTB +"]
["H",null,null,null,null,null,null,2002,69,null,null,95,null,null,95,110,null,null,110,205,null,"INTB +",15,{"$f":"IF(I267=\"\",\"\",IF(A267=\"H\",IF(OR(H267=\"SEN\",H267<1997),VLOOKUP(I267,Feuil1!$A$11:$G$29,6),IF(AND(H267>1996,H267<2000),VLOOKUP(I267,Feuil1!$A$11:$G$29,5),IF(AND(H267>1999,H267<2002),VLOOKUP(I267,Feuil1!$A$11:$G$29,4),IF(AND(H267>2001,H267<2004),VLOOKUP(I267,Feuil1!$A$11:$G$29,3),VLOOKUP(I267,Feuil1!$A$11:$G$29,2))))),IF(OR(H267=\"SEN\",H267<1997),VLOOKUP(I267,Feuil1!$G$11:$L$25,6),IF(AND(H267>1996,H267<2000),VLOOKUP(I267,Feuil1!$G$11:$L$25,5),IF(AND(H267>1999,H267<2002),VLOOKUP(I267,Feuil1!$G$11:$L$25,4),IF(AND(H267>2001,H267<2004),VLOOKUP(I267,Feuil1!$G$11:$L$25,3),VLOOKUP(I267,Feuil1!$G$11:$L$25,2)))))))","v":"C1 69"},275.77820846990062,null," ",{"$f":"T267-HLOOKUP(X267,Feuil1!$C$1:$BL$10,2,FALSE)","v":120},{"$f":"T267-HLOOKUP(X267,Feuil1!$C$1:$BL$10,3,FALSE)","v":100},{"$f":"T267-HLOOKUP(X267,Feuil1!$C$1:$BL$10,4,FALSE)","v":90},{"$f":"T267-HLOOKUP(X267,Feuil1!$C$1:$BL$10,5,FALSE)","v":75},{"$f":"T267-HLOOKUP(X267,Feuil1!$C$1:$BL$10,6,FALSE)","v":55},{"$f":"T267-HLOOKUP(X267,Feuil1!$C$1:$BL$10,7,FALSE)","v":35},{"$f":"T267-HLOOKUP(X267,Feuil1!$C$1:$BL$10,8,FALSE)","v":15},{"$f":"T267-HLOOKUP(X267,Feuil1!$C$1:$BL$10,9,FALSE)","v":-5},{"$f":"T267-HLOOKUP(X267,Feuil1!$C$1:$BL$10,10,FALSE)","v":-795},null,null,null,null,null,null,"INTB +"]
["H",null,null,null,null,null,null,2002,69,null,null,95,null,null,95,110,null,null,110,205,null,"INTB +",15,{"$f":"IF(I268=\"\",\"\",IF(A268=\"H\",IF(OR(H268=\"SEN\",H268<1997),VLOOKUP(I268,Feuil1!$A$11:$G$29,6),IF(AND(H268>1996,H268<2000),VLOOKUP(I268,Feuil1!$A$11:$G$29,5),IF(AND(H268>1999,H268<2002),VLOOKUP(I268,Feuil1!$A$11:$G$29,4),IF(AND(H268>2001,H268<2004),VLOOKUP(I268,Feuil1!$A$11:$G$29,3),VLOOKUP(I268,Feuil1!$A$11:$G$29,2))))),IF(OR(H268=\"SEN\",H268<1997),VLOOKUP(I268,Feuil1!$G$11:$L$25,6),IF(AND(H268>1996,H268<2000),VLOOKUP(I268,Feuil1!$G$11:$L$25,5),IF(AND(H268>1999,H268<2002),VLOOKUP(I268,Feuil1!$G$11:$L$25,4),IF(AND(H268>2001,H268<2004),VLOOKUP(I268,Feuil1!$G$11:$L$25,3),VLOOKUP(I268,Feuil1!$G$11:$L$25,2)))))))","v":"C1 69"},275.77820846990062,null," ",{"$f":"T268-HLOOKUP(X268,Feuil1!$C$1:$BL$10,2,FALSE)","v":120},{"$f":"T268-HLOOKUP(X268,Feuil1!$C$1:$BL$10,3,FALSE)","v":100},{"$f":"T268-HLOOKUP(X268,Feuil1!$C$1:$BL$10,4,FALSE)","v":90},{"$f":"T268-HLOOKUP(X268,Feuil1!$C$1:$BL$10,5,FALSE)","v":75},{"$f":"T268-HLOOKUP(X268,Feuil1!$C$1:$BL$10,6,FALSE)","v":55},{"$f":"T268-HLOOKUP(X268,Feuil1!$C$1:$BL$10,7,FALSE)","v":35},{"$f":"T268-HLOOKUP(X268,Feuil1!$C$1:$BL$10,8,FALSE)","v":15},{"$f":"T268-HLOOKUP(X268,Feuil1!$C$1:$BL$10,9,FALSE)","v":-5},{"$f":"T268-HLOOKUP(X268,Feuil1!$C$1:$BL$10,10,FALSE)","v":-795},null,null,null,null,null,null,"INTB +"]
["H",null,null,null,null,null,null,2002,69,null,null,95,null,null,95,110,null,null,110,205,null,"INTB +",15,{"$f":"IF(I269=\"\",\"\",IF(A269=\"H\",IF(OR(H269=\"SEN\",H269<1997),VLOOKUP(I269,Feuil1!$A$11:$G$29,6),IF(AND(H269>1996,H269<2000),VLOOKUP(I269,Feuil1!$A$11:$G$29,5),IF(AND(H269>1999,H269<2002),VLOOKUP(I269,Feuil1!$A$11:$G$29,4),IF(AND(H269>2001,H269<2004),VLOOKUP(I269,Feuil1!$A$11:$G$29,3),VLOOKUP(I269,Feuil1!$A$11:$G$29,2))))),IF(OR(H269=\"SEN\",H269<1997),VLOOKUP(I269,Feuil1!$G$11:$L$25,6),IF(AND(H269>1996,H269<2000),VLOOKUP(I269,Feuil1!$G$11:$L$25,5),IF(AND(H269>1999,H269<2002),VLOOKUP(I269,Feuil1!$G$11:$L$25,4),IF(AND(H269>2001,H269<2004),VLOOKUP(I269,Feuil1!$G$11:$L$25,3),VLOOKUP(I269,Feuil1!$G$11:$L$25,2)))))))","v":"C1 69"},275.77820846990062,null," ",{"$f":"T269-HLOOKUP(X269,Feuil1!$C$1:$BL$10,2,FALSE)","v":120},{"$f":"T269-HLOOKUP(X269,Feuil1!$C$1:$BL$10,3,FALSE)","v":100},{"$f":"T269-HLOOKUP(X269,Feuil1!$C$1:$BL$10,4,FALSE)","v":90},{"$f":"T269-HLOOKUP(X269,Feuil1!$C$1:$BL$10,5,FALSE)","v":75},{"$f":"T269-HLOOKUP(X269,Feuil1!$C$1:$BL$10,6,FALSE)","v":55},{"$f":"T269-HLOOKUP(X269,Feuil1!$C$1:$BL$10,7,FALSE)","v":35},{"$f":"T269-HLOOKUP(X269,Feuil1!$C$1:$BL$10,8,FALSE)","v":15},{"$f":"T269-HLOOKUP(X269,Feuil1!$C$1:$BL$10,9,FALSE)","v":-5},{"$f":"T269-HLOOKUP(X269,Feuil1!$C$1:$BL$10,10,FALSE)","v":-795},null,null,null,null,null,null,"INTB +"]
["H",null,null,null,null,null,null,2002,69,null,null,95,null,null,95,110,null,null,110,205,null,"INTB +",15,{"$f":"IF(I270=\"\",\"\",IF(A270=\"H\",IF(OR(H270=\"SEN\",H270<1997),VLOOKUP(I270,Feuil1!$A$11:$G$29,6),IF(AND(H270>1996,H270<2000),VLOOKUP(I270,Feuil1!$A$11:$G$29,5),IF(AND(H270>1999,H270<2002),VLOOKUP(I270,Feuil1!$A$11:$G$29,4),IF(AND(H270>2001,H270<2004),VLOOKUP(I270,Feuil1!$A$11:$G$29,3),VLOOKUP(I270,Feuil1!$A$11:$G$29,2))))),IF(OR(H270=\"SEN\",H270<1997),VLOOKUP(I270,Feuil1!$G$11:$L$25,6),IF(AND(H270>1996,H270<2000),VLOOKUP(I270,Feuil1!$G$11:$L$25,5),IF(AND(H270>1999,H270<2002),VLOOKUP(I270,Feuil1!$G$11:$L$25,4),IF(AND(H270>2001,H270<2004),VLOOKUP(I270,Feuil1!$G$11:$L$25,3),VLOOKUP(I270,Feuil1!$G$11:$L$25,2)))))))","v":"C1 69"},275.77820846990062,null," ",{"$f":"T270-HLOOKUP(X270,Feuil1!$C$1:$BL$10,2,FALSE)","v":120},{"$f":"T270-HLOOKUP(X270,Feuil1!$C$1:$BL$10,3,FALSE)","v":100},{"$f":"T270-HLOOKUP(X270,Feuil1!$C$1:$BL$10,4,FALSE)","v":90},{"$f":"T270-HLOOKUP(X270,Feuil1!$C$1:$BL$10,5,FALSE)","v":75},{"$f":"T270-HLOOKUP(X270,Feuil1!$C$1:$BL$10,6,FALSE)","v":55},{"$f":"T270-HLOOKUP(X270,Feuil1!$C$1:$BL$10,7,FALSE)","v":35},{"$f":"T270-HLOOKUP(X270,Feuil1!$C$1:$BL$10,8,FALSE)","v":15},{"$f":"T270-HLOOKUP(X270,Feuil1!$C$1:$BL$10,9,FALSE)","v":-5},{"$f":"T270-HLOOKUP(X270,Feuil1!$C$1:$BL$10,10,FALSE)","v":-795},null,null,null,null,null,null,"INTB +"]
["H",null,null,null,null,null,null,2002,69,null,null,95,null,null,95,110,null,null,110,205,null,"INTB +",15,{"$f":"IF(I271=\"\",\"\",IF(A271=\"H\",IF(OR(H271=\"SEN\",H271<1997),VLOOKUP(I271,Feuil1!$A$11:$G$29,6),IF(AND(H271>1996,H271<2000),VLOOKUP(I271,Feuil1!$A$11:$G$29,5),IF(AND(H271>1999,H271<2002),VLOOKUP(I271,Feuil1!$A$11:$G$29,4),IF(AND(H271>2001,H271<2004),VLOOKUP(I271,Feuil1!$A$11:$G$29,3),VLOOKUP(I271,Feuil1!$A$11:$G$29,2))))),IF(OR(H271=\"SEN\",H271<1997),VLOOKUP(I271,Feuil1!$G$11:$L$25,6),IF(AND(H271>1996,H271<2000),VLOOKUP(I271,Feuil1!$G$11:$L$25,5),IF(AND(H271>1999,H271<2002),VLOOKUP(I271,Feuil1!$G$11:$L$25,4),IF(AND(H271>2001,H271<2004),VLOOKUP(I271,Feuil1!$G$11:$L$25,3),VLOOKUP(I271,Feuil1!$G$11:$L$25,2)))))))","v":"C1 69"},275.77820846990062,null," ",{"$f":"T271-HLOOKUP(X271,Feuil1!$C$1:$BL$10,2,FALSE)","v":120},{"$f":"T271-HLOOKUP(X271,Feuil1!$C$1:$BL$10,3,FALSE)","v":100},{"$f":"T271-HLOOKUP(X271,Feuil1!$C$1:$BL$10,4,FALSE)","v":90},{"$f":"T271-HLOOKUP(X271,Feuil1!$C$1:$BL$10,5,FALSE)","v":75},{"$f":"T271-HLOOKUP(X271,Feuil1!$C$1:$BL$10,6,FALSE)","v":55},{"$f":"T271-HLOOKUP(X271,Feuil1!$C$1:$BL$10,7,FALSE)","v":35},{"$f":"T271-HLOOKUP(X271,Feuil1!$C$1:$BL$10,8,FALSE)","v":15},{"$f":"T271-HLOOKUP(X271,Feuil1!$C$1:$BL$10,9,FALSE)","v":-5},{"$f":"T271-HLOOKUP(X271,Feuil1!$C$1:$BL$10,10,FALSE)","v":-795},null,null,null,null,null,null,"INTB +"]
["H",null,null,null,null,null,null,2002,69,null,null,95,null,null,95,110,null,null,110,205,null,"INTB +",15,{"$f":"IF(I272=\"\",\"\",IF(A272=\"H\",IF(OR(H272=\"SEN\",H272<1997),VLOOKUP(I272,Feuil1!$A$11:$G$29,6),IF(AND(H272>1996,H272<2000),VLOOKUP(I272,Feuil1!$A$11:$G$29,5),IF(AND(H272>1999,H272<2002),VLOOKUP(I272,Feuil1!$A$11:$G$29,4),IF(AND(H272>2001,H272<2004),VLOOKUP(I272,Feuil1!$A$11:$G$29,3),VLOOKUP(I272,Feuil1!$A$11:$G$29,2))))),IF(OR(H272=\"SEN\",H272<1997),VLOOKUP(I272,Feuil1!$G$11:$L$25,6),IF(AND(H272>1996,H272<2000),VLOOKUP(I272,Feuil1!$G$11:$L$25,5),IF(AND(H272>1999,H272<2002),VLOOKUP(I272,Feuil1!$G$11:$L$25,4),IF(AND(H272>2001,H272<2004),VLOOKUP(I272,Feuil1!$G$11:$L$25,3),VLOOKUP(I272,Feuil1!$G$11:$L$25,2)))))))","v":"C1 69"},275.77820846990062,null," ",{"$f":"T272-HLOOKUP(X272,Feuil1!$C$1:$BL$10,2,FALSE)","v":120},{"$f":"T272-HLOOKUP(X272,Feuil1!$C$1:$BL$10,3,FALSE)","v":100},{"$f":"T272-HLOOKUP(X272,Feuil1!$C$1:$BL$10,4,FALSE)","v":90},{"$f":"T272-HLOOKUP(X272,Feuil1!$C$1:$BL$10,5,FALSE)","v":75},{"$f":"T272-HLOOKUP(X272,Feuil1!$C$1:$BL$10,6,FALSE)","v":55},{"$f":"T272-HLOOKUP(X272,Feuil1!$C$1:$BL$10,7,FALSE)","v":35},{"$f":"T272-HLOOKUP(X272,Feuil1!$C$1:$BL$10,8,FALSE)","v":15},{"$f":"T272-HLOOKUP(X272,Feuil1!$C$1:$BL$10,9,FALSE)","v":-5},{"$f":"T272-HLOOKUP(X272,Feuil1!$C$1:$BL$10,10,FALSE)","v":-795},null,null,null,null,null,null,"INTB +"]
["H",null,null,null,null,null,null,2002,69,null,null,95,null,null,95,110,null,null,110,205,null,"INTB +",15,{"$f":"IF(I273=\"\",\"\",IF(A273=\"H\",IF(OR(H273=\"SEN\",H273<1997),VLOOKUP(I273,Feuil1!$A$11:$G$29,6),IF(AND(H273>1996,H273<2000),VLOOKUP(I273,Feuil1!$A$11:$G$29,5),IF(AND(H273>1999,H273<2002),VLOOKUP(I273,Feuil1!$A$11:$G$29,4),IF(AND(H273>2001,H273<2004),VLOOKUP(I273,Feuil1!$A$11:$G$29,3),VLOOKUP(I273,Feuil1!$A$11:$G$29,2))))),IF(OR(H273=\"SEN\",H273<1997),VLOOKUP(I273,Feuil1!$G$11:$L$25,6),IF(AND(H273>1996,H273<2000),VLOOKUP(I273,Feuil1!$G$11:$L$25,5),IF(AND(H273>1999,H273<2002),VLOOKUP(I273,Feuil1!$G$11:$L$25,4),IF(AND(H273>2001,H273<2004),VLOOKUP(I273,Feuil1!$G$11:$L$25,3),VLOOKUP(I273,Feuil1!$G$11:$L$25,2)))))))","v":"C1 69"},275.77820846990062,null," ",{"$f":"T273-HLOOKUP(X273,Feuil1!$C$1:$BL$10,2,FALSE)","v":120},{"$f":"T273-HLOOKUP(X273,Feuil1!$C$1:$BL$10,3,FALSE)","v":100},{"$f":"T273-HLOOKUP(X273,Feuil1!$C$1:$BL$10,4,FALSE)","v":90},{"$f":"T273-HLOOKUP(X273,Feuil1!$C$1:$BL$10,5,FALSE)","v":75},{"$f":"T273-HLOOKUP(X273,Feuil1!$C$1:$BL$10,6,FALSE)","v":55},{"$f":"T273-HLOOKUP(X273,Feuil1!$C$1:$BL$10,7,FALSE)","v":35},{"$f":"T273-HLOOKUP(X273,Feuil1!$C$1:$BL$10,8,FALSE)","v":15},{"$f":"T273-HLOOKUP(X273,Feuil1!$C$1:$BL$10,9,FALSE)","v":-5},{"$f":"T273-HLOOKUP(X273,Feuil1!$C$1:$BL$10,10,FALSE)","v":-795},null,null,null,null,null,null,"INTB +"]
["H",null,null,null,null,null,null,1988,69,null,null,110,null,null,110,110,null,null,110,220,null,"FED +",0,{"$f":"IF(I274=\"\",\"\",IF(A274=\"H\",IF(OR(H274=\"SEN\",H274<1997),VLOOKUP(I274,Feuil1!$A$11:$G$29,6),IF(AND(H274>1996,H274<2000),VLOOKUP(I274,Feuil1!$A$11:$G$29,5),IF(AND(H274>1999,H274<2002),VLOOKUP(I274,Feuil1!$A$11:$G$29,4),IF(AND(H274>2001,H274<2004),VLOOKUP(I274,Feuil1!$A$11:$G$29,3),VLOOKUP(I274,Feuil1!$A$11:$G$29,2))))),IF(OR(H274=\"SEN\",H274<1997),VLOOKUP(I274,Feuil1!$G$11:$L$25,6),IF(AND(H274>1996,H274<2000),VLOOKUP(I274,Feuil1!$G$11:$L$25,5),IF(AND(H274>1999,H274<2002),VLOOKUP(I274,Feuil1!$G$11:$L$25,4),IF(AND(H274>2001,H274<2004),VLOOKUP(I274,Feuil1!$G$11:$L$25,3),VLOOKUP(I274,Feuil1!$G$11:$L$25,2)))))))","v":"S69"},295.95710177257632,null," ",{"$f":"T274-HLOOKUP(X274,Feuil1!$C$1:$BL$10,2,FALSE)","v":90},{"$f":"T274-HLOOKUP(X274,Feuil1!$C$1:$BL$10,3,FALSE)","v":70},{"$f":"T274-HLOOKUP(X274,Feuil1!$C$1:$BL$10,4,FALSE)","v":50},{"$f":"T274-HLOOKUP(X274,Feuil1!$C$1:$BL$10,5,FALSE)","v":30},{"$f":"T274-HLOOKUP(X274,Feuil1!$C$1:$BL$10,6,FALSE)","v":0},{"$f":"T274-HLOOKUP(X274,Feuil1!$C$1:$BL$10,7,FALSE)","v":-20},{"$f":"T274-HLOOKUP(X274,Feuil1!$C$1:$BL$10,8,FALSE)","v":-40},{"$f":"T274-HLOOKUP(X274,Feuil1!$C$1:$BL$10,9,FALSE)","v":-55},{"$f":"T274-HLOOKUP(X274,Feuil1!$C$1:$BL$10,10,FALSE)","v":-70},null,null,null,null,null,null,"FED +"]
["H",null,null,null,null,null,null,2002,69,null,null,95,null,null,95,110,null,null,110,205,null,"INTB +",15,{"$f":"IF(I275=\"\",\"\",IF(A275=\"H\",IF(OR(H275=\"SEN\",H275<1997),VLOOKUP(I275,Feuil1!$A$11:$G$29,6),IF(AND(H275>1996,H275<2000),VLOOKUP(I275,Feuil1!$A$11:$G$29,5),IF(AND(H275>1999,H275<2002),VLOOKUP(I275,Feuil1!$A$11:$G$29,4),IF(AND(H275>2001,H275<2004),VLOOKUP(I275,Feuil1!$A$11:$G$29,3),VLOOKUP(I275,Feuil1!$A$11:$G$29,2))))),IF(OR(H275=\"SEN\",H275<1997),VLOOKUP(I275,Feuil1!$G$11:$L$25,6),IF(AND(H275>1996,H275<2000),VLOOKUP(I275,Feuil1!$G$11:$L$25,5),IF(AND(H275>1999,H275<2002),VLOOKUP(I275,Feuil1!$G$11:$L$25,4),IF(AND(H275>2001,H275<2004),VLOOKUP(I275,Feuil1!$G$11:$L$25,3),VLOOKUP(I275,Feuil1!$G$11:$L$25,2)))))))","v":"C1 69"},275.77820846990062,null," ",{"$f":"T275-HLOOKUP(X275,Feuil1!$C$1:$BL$10,2,FALSE)","v":120},{"$f":"T275-HLOOKUP(X275,Feuil1!$C$1:$BL$10,3,FALSE)","v":100},{"$f":"T275-HLOOKUP(X275,Feuil1!$C$1:$BL$10,4,FALSE)","v":90},{"$f":"T275-HLOOKUP(X275,Feuil1!$C$1:$BL$10,5,FALSE)","v":75},{"$f":"T275-HLOOKUP(X275,Feuil1!$C$1:$BL$10,6,FALSE)","v":55},{"$f":"T275-HLOOKUP(X275,Feuil1!$C$1:$BL$10,7,FALSE)","v":35},{"$f":"T275-HLOOKUP(X275,Feuil1!$C$1:$BL$10,8,FALSE)","v":15},{"$f":"T275-HLOOKUP(X275,Feuil1!$C$1:$BL$10,9,FALSE)","v":-5},{"$f":"T275-HLOOKUP(X275,Feuil1!$C$1:$BL$10,10,FALSE)","v":-795},null,null,null,null,null,null,"INTB +"]
["H",null,null,null,null,null,null,2002,69,null,null,95,null,null,95,110,null,null,110,205,null,"INTB +",15,{"$f":"IF(I276=\"\",\"\",IF(A276=\"H\",IF(OR(H276=\"SEN\",H276<1997),VLOOKUP(I276,Feuil1!$A$11:$G$29,6),IF(AND(H276>1996,H276<2000),VLOOKUP(I276,Feuil1!$A$11:$G$29,5),IF(AND(H276>1999,H276<2002),VLOOKUP(I276,Feuil1!$A$11:$G$29,4),IF(AND(H276>2001,H276<2004),VLOOKUP(I276,Feuil1!$A$11:$G$29,3),VLOOKUP(I276,Feuil1!$A$11:$G$29,2))))),IF(OR(H276=\"SEN\",H276<1997),VLOOKUP(I276,Feuil1!$G$11:$L$25,6),IF(AND(H276>1996,H276<2000),VLOOKUP(I276,Feuil1!$G$11:$L$25,5),IF(AND(H276>1999,H276<2002),VLOOKUP(I276,Feuil1!$G$11:$L$25,4),IF(AND(H276>2001,H276<2004),VLOOKUP(I276,Feuil1!$G$11:$L$25,3),VLOOKUP(I276,Feuil1!$G$11:$L$25,2)))))))","v":"C1 69"},275.77820846990062,null," ",{"$f":"T276-HLOOKUP(X276,Feuil1!$C$1:$BL$10,2,FALSE)","v":120},{"$f":"T276-HLOOKUP(X276,Feuil1!$C$1:$BL$10,3,FALSE)","v":100},{"$f":"T276-HLOOKUP(X276,Feuil1!$C$1:$BL$10,4,FALSE)","v":90},{"$f":"T276-HLOOKUP(X276,Feuil1!$C$1:$BL$10,5,FALSE)","v":75},{"$f":"T276-HLOOKUP(X276,Feuil1!$C$1:$BL$10,6,FALSE)","v":55},{"$f":"T276-HLOOKUP(X276,Feuil1!$C$1:$BL$10,7,FALSE)","v":35},{"$f":"T276-HLOOKUP(X276,Feuil1!$C$1:$BL$10,8,FALSE)","v":15},{"$f":"T276-HLOOKUP(X276,Feuil1!$C$1:$BL$10,9,FALSE)","v":-5},{"$f":"T276-HLOOKUP(X276,Feuil1!$C$1:$BL$10,10,FALSE)","v":-795},null,null,null,null,null,null,"INTB +"]
["H",null,null,null,null,null,null,2002,69,null,null,95,null,null,95,110,null,null,110,205,null,"INTB +",15,{"$f":"IF(I277=\"\",\"\",IF(A277=\"H\",IF(OR(H277=\"SEN\",H277<1997),VLOOKUP(I277,Feuil1!$A$11:$G$29,6),IF(AND(H277>1996,H277<2000),VLOOKUP(I277,Feuil1!$A$11:$G$29,5),IF(AND(H277>1999,H277<2002),VLOOKUP(I277,Feuil1!$A$11:$G$29,4),IF(AND(H277>2001,H277<2004),VLOOKUP(I277,Feuil1!$A$11:$G$29,3),VLOOKUP(I277,Feuil1!$A$11:$G$29,2))))),IF(OR(H277=\"SEN\",H277<1997),VLOOKUP(I277,Feuil1!$G$11:$L$25,6),IF(AND(H277>1996,H277<2000),VLOOKUP(I277,Feuil1!$G$11:$L$25,5),IF(AND(H277>1999,H277<2002),VLOOKUP(I277,Feuil1!$G$11:$L$25,4),IF(AND(H277>2001,H277<2004),VLOOKUP(I277,Feuil1!$G$11:$L$25,3),VLOOKUP(I277,Feuil1!$G$11:$L$25,2)))))))","v":"C1 69"},275.77820846990062,null," ",{"$f":"T277-HLOOKUP(X277,Feuil1!$C$1:$BL$10,2,FALSE)","v":120},{"$f":"T277-HLOOKUP(X277,Feuil1!$C$1:$BL$10,3,FALSE)","v":100},{"$f":"T277-HLOOKUP(X277,Feuil1!$C$1:$BL$10,4,FALSE)","v":90},{"$f":"T277-HLOOKUP(X277,Feuil1!$C$1:$BL$10,5,FALSE)","v":75},{"$f":"T277-HLOOKUP(X277,Feuil1!$C$1:$BL$10,6,FALSE)","v":55},{"$f":"T277-HLOOKUP(X277,Feuil1!$C$1:$BL$10,7,FALSE)","v":35},{"$f":"T277-HLOOKUP(X277,Feuil1!$C$1:$BL$10,8,FALSE)","v":15},{"$f":"T277-HLOOKUP(X277,Feuil1!$C$1:$BL$10,9,FALSE)","v":-5},{"$f":"T277-HLOOKUP(X277,Feuil1!$C$1:$BL$10,10,FALSE)","v":-795},null,null,null,null,null,null,"INTB +"]
["H",null,null,null,null,null,null,2002,69,null,null,95,null,null,95,110,null,null,110,205,null,"INTB +",15,{"$f":"IF(I278=\"\",\"\",IF(A278=\"H\",IF(OR(H278=\"SEN\",H278<1997),VLOOKUP(I278,Feuil1!$A$11:$G$29,6),IF(AND(H278>1996,H278<2000),VLOOKUP(I278,Feuil1!$A$11:$G$29,5),IF(AND(H278>1999,H278<2002),VLOOKUP(I278,Feuil1!$A$11:$G$29,4),IF(AND(H278>2001,H278<2004),VLOOKUP(I278,Feuil1!$A$11:$G$29,3),VLOOKUP(I278,Feuil1!$A$11:$G$29,2))))),IF(OR(H278=\"SEN\",H278<1997),VLOOKUP(I278,Feuil1!$G$11:$L$25,6),IF(AND(H278>1996,H278<2000),VLOOKUP(I278,Feuil1!$G$11:$L$25,5),IF(AND(H278>1999,H278<2002),VLOOKUP(I278,Feuil1!$G$11:$L$25,4),IF(AND(H278>2001,H278<2004),VLOOKUP(I278,Feuil1!$G$11:$L$25,3),VLOOKUP(I278,Feuil1!$G$11:$L$25,2)))))))","v":"C1 69"},275.77820846990062,null," ",{"$f":"T278-HLOOKUP(X278,Feuil1!$C$1:$BL$10,2,FALSE)","v":120},{"$f":"T278-HLOOKUP(X278,Feuil1!$C$1:$BL$10,3,FALSE)","v":100},{"$f":"T278-HLOOKUP(X278,Feuil1!$C$1:$BL$10,4,FALSE)","v":90},{"$f":"T278-HLOOKUP(X278,Feuil1!$C$1:$BL$10,5,FALSE)","v":75},{"$f":"T278-HLOOKUP(X278,Feuil1!$C$1:$BL$10,6,FALSE)","v":55},{"$f":"T278-HLOOKUP(X278,Feuil1!$C$1:$BL$10,7,FALSE)","v":35},{"$f":"T278-HLOOKUP(X278,Feuil1!$C$1:$BL$10,8,FALSE)","v":15},{"$f":"T278-HLOOKUP(X278,Feuil1!$C$1:$BL$10,9,FALSE)","v":-5},{"$f":"T278-HLOOKUP(X278,Feuil1!$C$1:$BL$10,10,FALSE)","v":-795},null,null,null,null,null,null,"INTB +"]
["H",null,null,null,null,null,null,2002,69,null,null,95,null,null,95,110,null,null,110,205,null,"INTB +",15,{"$f":"IF(I279=\"\",\"\",IF(A279=\"H\",IF(OR(H279=\"SEN\",H279<1997),VLOOKUP(I279,Feuil1!$A$11:$G$29,6),IF(AND(H279>1996,H279<2000),VLOOKUP(I279,Feuil1!$A$11:$G$29,5),IF(AND(H279>1999,H279<2002),VLOOKUP(I279,Feuil1!$A$11:$G$29,4),IF(AND(H279>2001,H279<2004),VLOOKUP(I279,Feuil1!$A$11:$G$29,3),VLOOKUP(I279,Feuil1!$A$11:$G$29,2))))),IF(OR(H279=\"SEN\",H279<1997),VLOOKUP(I279,Feuil1!$G$11:$L$25,6),IF(AND(H279>1996,H279<2000),VLOOKUP(I279,Feuil1!$G$11:$L$25,5),IF(AND(H279>1999,H279<2002),VLOOKUP(I279,Feuil1!$G$11:$L$25,4),IF(AND(H279>2001,H279<2004),VLOOKUP(I279,Feuil1!$G$11:$L$25,3),VLOOKUP(I279,Feuil1!$G$11:$L$25,2)))))))","v":"C1 69"},275.77820846990062,null," ",{"$f":"T279-HLOOKUP(X279,Feuil1!$C$1:$BL$10,2,FALSE)","v":120},{"$f":"T279-HLOOKUP(X279,Feuil1!$C$1:$BL$10,3,FALSE)","v":100},{"$f":"T279-HLOOKUP(X279,Feuil1!$C$1:$BL$10,4,FALSE)","v":90},{"$f":"T279-HLOOKUP(X279,Feuil1!$C$1:$BL$10,5,FALSE)","v":75},{"$f":"T279-HLOOKUP(X279,Feuil1!$C$1:$BL$10,6,FALSE)","v":55},{"$f":"T279-HLOOKUP(X279,Feuil1!$C$1:$BL$10,7,FALSE)","v":35},{"$f":"T279-HLOOKUP(X279,Feuil1!$C$1:$BL$10,8,FALSE)","v":15},{"$f":"T279-HLOOKUP(X279,Feuil1!$C$1:$BL$10,9,FALSE)","v":-5},{"$f":"T279-HLOOKUP(X279,Feuil1!$C$1:$BL$10,10,FALSE)","v":-795},null,null,null,null,null,null,"INTB +"]
["H",null,null,null,null,null,null,2002,69,null,null,95,null,null,95,110,null,null,110,205,null,"INTB +",15,{"$f":"IF(I280=\"\",\"\",IF(A280=\"H\",IF(OR(H280=\"SEN\",H280<1997),VLOOKUP(I280,Feuil1!$A$11:$G$29,6),IF(AND(H280>1996,H280<2000),VLOOKUP(I280,Feuil1!$A$11:$G$29,5),IF(AND(H280>1999,H280<2002),VLOOKUP(I280,Feuil1!$A$11:$G$29,4),IF(AND(H280>2001,H280<2004),VLOOKUP(I280,Feuil1!$A$11:$G$29,3),VLOOKUP(I280,Feuil1!$A$11:$G$29,2))))),IF(OR(H280=\"SEN\",H280<1997),VLOOKUP(I280,Feuil1!$G$11:$L$25,6),IF(AND(H280>1996,H280<2000),VLOOKUP(I280,Feuil1!$G$11:$L$25,5),IF(AND(H280>1999,H280<2002),VLOOKUP(I280,Feuil1!$G$11:$L$25,4),IF(AND(H280>2001,H280<2004),VLOOKUP(I280,Feuil1!$G$11:$L$25,3),VLOOKUP(I280,Feuil1!$G$11:$L$25,2)))))))","v":"C1 69"},275.77820846990062,null," ",{"$f":"T280-HLOOKUP(X280,Feuil1!$C$1:$BL$10,2,FALSE)","v":120},{"$f":"T280-HLOOKUP(X280,Feuil1!$C$1:$BL$10,3,FALSE)","v":100},{"$f":"T280-HLOOKUP(X280,Feuil1!$C$1:$BL$10,4,FALSE)","v":90},{"$f":"T280-HLOOKUP(X280,Feuil1!$C$1:$BL$10,5,FALSE)","v":75},{"$f":"T280-HLOOKUP(X280,Feuil1!$C$1:$BL$10,6,FALSE)","v":55},{"$f":"T280-HLOOKUP(X280,Feuil1!$C$1:$BL$10,7,FALSE)","v":35},{"$f":"T280-HLOOKUP(X280,Feuil1!$C$1:$BL$10,8,FALSE)","v":15},{"$f":"T280-HLOOKUP(X280,Feuil1!$C$1:$BL$10,9,FALSE)","v":-5},{"$f":"T280-HLOOKUP(X280,Feuil1!$C$1:$BL$10,10,FALSE)","v":-795},null,null,null,null,null,null,"INTB +"]
["H",null,null,null,null,null,null,2002,69,null,null,95,null,null,95,110,null,null,110,205,null,"INTB +",15,{"$f":"IF(I281=\"\",\"\",IF(A281=\"H\",IF(OR(H281=\"SEN\",H281<1997),VLOOKUP(I281,Feuil1!$A$11:$G$29,6),IF(AND(H281>1996,H281<2000),VLOOKUP(I281,Feuil1!$A$11:$G$29,5),IF(AND(H281>1999,H281<2002),VLOOKUP(I281,Feuil1!$A$11:$G$29,4),IF(AND(H281>2001,H281<2004),VLOOKUP(I281,Feuil1!$A$11:$G$29,3),VLOOKUP(I281,Feuil1!$A$11:$G$29,2))))),IF(OR(H281=\"SEN\",H281<1997),VLOOKUP(I281,Feuil1!$G$11:$L$25,6),IF(AND(H281>1996,H281<2000),VLOOKUP(I281,Feuil1!$G$11:$L$25,5),IF(AND(H281>1999,H281<2002),VLOOKUP(I281,Feuil1!$G$11:$L$25,4),IF(AND(H281>2001,H281<2004),VLOOKUP(I281,Feuil1!$G$11:$L$25,3),VLOOKUP(I281,Feuil1!$G$11:$L$25,2)))))))","v":"C1 69"},275.77820846990062,null," ",{"$f":"T281-HLOOKUP(X281,Feuil1!$C$1:$BL$10,2,FALSE)","v":120},{"$f":"T281-HLOOKUP(X281,Feuil1!$C$1:$BL$10,3,FALSE)","v":100},{"$f":"T281-HLOOKUP(X281,Feuil1!$C$1:$BL$10,4,FALSE)","v":90},{"$f":"T281-HLOOKUP(X281,Feuil1!$C$1:$BL$10,5,FALSE)","v":75},{"$f":"T281-HLOOKUP(X281,Feuil1!$C$1:$BL$10,6,FALSE)","v":55},{"$f":"T281-HLOOKUP(X281,Feuil1!$C$1:$BL$10,7,FALSE)","v":35},{"$f":"T281-HLOOKUP(X281,Feuil1!$C$1:$BL$10,8,FALSE)","v":15},{"$f":"T281-HLOOKUP(X281,Feuil1!$C$1:$BL$10,9,FALSE)","v":-5},{"$f":"T281-HLOOKUP(X281,Feuil1!$C$1:$BL$10,10,FALSE)","v":-795},null,null,null,null,null,null,"INTB +"]
["H",null,null,null,null,null,null,2002,69,null,null,95,null,null,95,110,null,null,110,205,null,"INTB +",15,{"$f":"IF(I282=\"\",\"\",IF(A282=\"H\",IF(OR(H282=\"SEN\",H282<1997),VLOOKUP(I282,Feuil1!$A$11:$G$29,6),IF(AND(H282>1996,H282<2000),VLOOKUP(I282,Feuil1!$A$11:$G$29,5),IF(AND(H282>1999,H282<2002),VLOOKUP(I282,Feuil1!$A$11:$G$29,4),IF(AND(H282>2001,H282<2004),VLOOKUP(I282,Feuil1!$A$11:$G$29,3),VLOOKUP(I282,Feuil1!$A$11:$G$29,2))))),IF(OR(H282=\"SEN\",H282<1997),VLOOKUP(I282,Feuil1!$G$11:$L$25,6),IF(AND(H282>1996,H282<2000),VLOOKUP(I282,Feuil1!$G$11:$L$25,5),IF(AND(H282>1999,H282<2002),VLOOKUP(I282,Feuil1!$G$11:$L$25,4),IF(AND(H282>2001,H282<2004),VLOOKUP(I282,Feuil1!$G$11:$L$25,3),VLOOKUP(I282,Feuil1!$G$11:$L$25,2)))))))","v":"C1 69"},275.77820846990062,null," ",{"$f":"T282-HLOOKUP(X282,Feuil1!$C$1:$BL$10,2,FALSE)","v":120},{"$f":"T282-HLOOKUP(X282,Feuil1!$C$1:$BL$10,3,FALSE)","v":100},{"$f":"T282-HLOOKUP(X282,Feuil1!$C$1:$BL$10,4,FALSE)","v":90},{"$f":"T282-HLOOKUP(X282,Feuil1!$C$1:$BL$10,5,FALSE)","v":75},{"$f":"T282-HLOOKUP(X282,Feuil1!$C$1:$BL$10,6,FALSE)","v":55},{"$f":"T282-HLOOKUP(X282,Feuil1!$C$1:$BL$10,7,FALSE)","v":35},{"$f":"T282-HLOOKUP(X282,Feuil1!$C$1:$BL$10,8,FALSE)","v":15},{"$f":"T282-HLOOKUP(X282,Feuil1!$C$1:$BL$10,9,FALSE)","v":-5},{"$f":"T282-HLOOKUP(X282,Feuil1!$C$1:$BL$10,10,FALSE)","v":-795},null,null,null,null,null,null,"INTB +"]
["H",null,null,null,null,null,null,2002,69,null,null,95,null,null,{"$f":"IF(H283=\"\",\"\",IF(MAXA(L283:N283)<=0,0,MAXA(L283:N283)))","v":95},110,null,null,{"$f":"IF(H283=\"\",\"\",IF(MAXA(P283:R283)<=0,0,MAXA(P283:R283)))","v":110},{"$f":"IF(H283=\"\",\"\",IF(OR(O283=0,S283=0),0,O283+S283))","v":205},null,{"$f":"IF(H283=\"\",\"\",AQ283)","v":"INTB +"},{"$f":"IF(AJ283>=0,AJ283,IF(AI283>=0,AI283,IF(AH283>=0,AH283,IF(AG283>=0,AG283,IF(AF283>=0,AF283,IF(AE283>=0,AE283,IF(AD283>=0,AD283,IF(AC283>=0,AC283,AB283))))))))","v":15},{"$f":"IF(I283=\"\",\"\",IF(A283=\"H\",IF(OR(H283=\"SEN\",H283<1997),VLOOKUP(I283,Feuil1!$A$11:$G$29,6),IF(AND(H283>1996,H283<2000),VLOOKUP(I283,Feuil1!$A$11:$G$29,5),IF(AND(H283>1999,H283<2002),VLOOKUP(I283,Feuil1!$A$11:$G$29,4),IF(AND(H283>2001,H283<2004),VLOOKUP(I283,Feuil1!$A$11:$G$29,3),VLOOKUP(I283,Feuil1!$A$11:$G$29,2))))),IF(OR(H283=\"SEN\",H283<1997),VLOOKUP(I283,Feuil1!$G$11:$L$25,6),IF(AND(H283>1996,H283<2000),VLOOKUP(I283,Feuil1!$G$11:$L$25,5),IF(AND(H283>1999,H283<2002),VLOOKUP(I283,Feuil1!$G$11:$L$25,4),IF(AND(H283>2001,H283<2004),VLOOKUP(I283,Feuil1!$G$11:$L$25,3),VLOOKUP(I283,Feuil1!$G$11:$L$25,2)))))))","v":"C1 69"},{"$f":"IF(I283=\"\",\"\",IF(A283=\"H\",10^(0.794358141*LOG(I283/174.393)^2)*T283,IF(A283=\"F\",10^(0.89726074*LOG(I283/148.026)^2)*T283,\"\")))","v":275.77820846990062},null," ",{"$f":"T283-HLOOKUP(X283,Feuil1!$C$1:$BL$10,2,FALSE)","v":120},{"$f":"T283-HLOOKUP(X283,Feuil1!$C$1:$BL$10,3,FALSE)","v":100},{"$f":"T283-HLOOKUP(X283,Feuil1!$C$1:$BL$10,4,FALSE)","v":90},{"$f":"T283-HLOOKUP(X283,Feuil1!$C$1:$BL$10,5,FALSE)","v":75},{"$f":"T283-HLOOKUP(X283,Feuil1!$C$1:$BL$10,6,FALSE)","v":55},{"$f":"T283-HLOOKUP(X283,Feuil1!$C$1:$BL$10,7,FALSE)","v":35},{"$f":"T283-HLOOKUP(X283,Feuil1!$C$1:$BL$10,8,FALSE)","v":15},{"$f":"T283-HLOOKUP(X283,Feuil1!$C$1:$BL$10,9,FALSE)","v":-5},{"$f":"T283-HLOOKUP(X283,Feuil1!$C$1:$BL$10,10,FALSE)","v":-795},null,null,null,null,null,null,{"$f":"IF(AJ283>=0,$AJ$4,IF(AI283>=0,$AI$4,IF(AH283>=0,$AH$4,IF(AG283>=0,$AG$4,IF(AF283>=0,$AF$4,IF(AE283>=0,$AE$4,IF(AD283>=0,$AD$4,IF(AC283>=0,$AC$4,$AB$4))))))))","v":"INTB +"}]
["H",null,null,null,null,null,null,2002,69,null,null,95,null,null,95,110,null,null,110,205,null,"INTB +",15,{"$f":"IF(I284=\"\",\"\",IF(A284=\"H\",IF(OR(H284=\"SEN\",H284<1997),VLOOKUP(I284,Feuil1!$A$11:$G$29,6),IF(AND(H284>1996,H284<2000),VLOOKUP(I284,Feuil1!$A$11:$G$29,5),IF(AND(H284>1999,H284<2002),VLOOKUP(I284,Feuil1!$A$11:$G$29,4),IF(AND(H284>2001,H284<2004),VLOOKUP(I284,Feuil1!$A$11:$G$29,3),VLOOKUP(I284,Feuil1!$A$11:$G$29,2))))),IF(OR(H284=\"SEN\",H284<1997),VLOOKUP(I284,Feuil1!$G$11:$L$25,6),IF(AND(H284>1996,H284<2000),VLOOKUP(I284,Feuil1!$G$11:$L$25,5),IF(AND(H284>1999,H284<2002),VLOOKUP(I284,Feuil1!$G$11:$L$25,4),IF(AND(H284>2001,H284<2004),VLOOKUP(I284,Feuil1!$G$11:$L$25,3),VLOOKUP(I284,Feuil1!$G$11:$L$25,2)))))))","v":"C1 69"},275.77820846990062,null," ",{"$f":"T284-HLOOKUP(X284,Feuil1!$C$1:$BL$10,2,FALSE)","v":120},{"$f":"T284-HLOOKUP(X284,Feuil1!$C$1:$BL$10,3,FALSE)","v":100},{"$f":"T284-HLOOKUP(X284,Feuil1!$C$1:$BL$10,4,FALSE)","v":90},{"$f":"T284-HLOOKUP(X284,Feuil1!$C$1:$BL$10,5,FALSE)","v":75},{"$f":"T284-HLOOKUP(X284,Feuil1!$C$1:$BL$10,6,FALSE)","v":55},{"$f":"T284-HLOOKUP(X284,Feuil1!$C$1:$BL$10,7,FALSE)","v":35},{"$f":"T284-HLOOKUP(X284,Feuil1!$C$1:$BL$10,8,FALSE)","v":15},{"$f":"T284-HLOOKUP(X284,Feuil1!$C$1:$BL$10,9,FALSE)","v":-5},{"$f":"T284-HLOOKUP(X284,Feuil1!$C$1:$BL$10,10,FALSE)","v":-795},null,null,null,null,null,null,"INTB +"]
["H",null,null,null,null,null,null,2002,69,null,null,95,null,null,95,110,null,null,110,205,null,"INTB +",15,{"$f":"IF(I285=\"\",\"\",IF(A285=\"H\",IF(OR(H285=\"SEN\",H285<1997),VLOOKUP(I285,Feuil1!$A$11:$G$29,6),IF(AND(H285>1996,H285<2000),VLOOKUP(I285,Feuil1!$A$11:$G$29,5),IF(AND(H285>1999,H285<2002),VLOOKUP(I285,Feuil1!$A$11:$G$29,4),IF(AND(H285>2001,H285<2004),VLOOKUP(I285,Feuil1!$A$11:$G$29,3),VLOOKUP(I285,Feuil1!$A$11:$G$29,2))))),IF(OR(H285=\"SEN\",H285<1997),VLOOKUP(I285,Feuil1!$G$11:$L$25,6),IF(AND(H285>1996,H285<2000),VLOOKUP(I285,Feuil1!$G$11:$L$25,5),IF(AND(H285>1999,H285<2002),VLOOKUP(I285,Feuil1!$G$11:$L$25,4),IF(AND(H285>2001,H285<2004),VLOOKUP(I285,Feuil1!$G$11:$L$25,3),VLOOKUP(I285,Feuil1!$G$11:$L$25,2)))))))","v":"C1 69"},275.77820846990062,null," ",{"$f":"T285-HLOOKUP(X285,Feuil1!$C$1:$BL$10,2,FALSE)","v":120},{"$f":"T285-HLOOKUP(X285,Feuil1!$C$1:$BL$10,3,FALSE)","v":100},{"$f":"T285-HLOOKUP(X285,Feuil1!$C$1:$BL$10,4,FALSE)","v":90},{"$f":"T285-HLOOKUP(X285,Feuil1!$C$1:$BL$10,5,FALSE)","v":75},{"$f":"T285-HLOOKUP(X285,Feuil1!$C$1:$BL$10,6,FALSE)","v":55},{"$f":"T285-HLOOKUP(X285,Feuil1!$C$1:$BL$10,7,FALSE)","v":35},{"$f":"T285-HLOOKUP(X285,Feuil1!$C$1:$BL$10,8,FALSE)","v":15},{"$f":"T285-HLOOKUP(X285,Feuil1!$C$1:$BL$10,9,FALSE)","v":-5},{"$f":"T285-HLOOKUP(X285,Feuil1!$C$1:$BL$10,10,FALSE)","v":-795},null,null,null,null,null,null,"INTB +"]
["H",null,null,null,null,null,null,2002,69,null,null,95,null,null,95,110,null,null,110,205,null,"INTB +",15,{"$f":"IF(I286=\"\",\"\",IF(A286=\"H\",IF(OR(H286=\"SEN\",H286<1997),VLOOKUP(I286,Feuil1!$A$11:$G$29,6),IF(AND(H286>1996,H286<2000),VLOOKUP(I286,Feuil1!$A$11:$G$29,5),IF(AND(H286>1999,H286<2002),VLOOKUP(I286,Feuil1!$A$11:$G$29,4),IF(AND(H286>2001,H286<2004),VLOOKUP(I286,Feuil1!$A$11:$G$29,3),VLOOKUP(I286,Feuil1!$A$11:$G$29,2))))),IF(OR(H286=\"SEN\",H286<1997),VLOOKUP(I286,Feuil1!$G$11:$L$25,6),IF(AND(H286>1996,H286<2000),VLOOKUP(I286,Feuil1!$G$11:$L$25,5),IF(AND(H286>1999,H286<2002),VLOOKUP(I286,Feuil1!$G$11:$L$25,4),IF(AND(H286>2001,H286<2004),VLOOKUP(I286,Feuil1!$G$11:$L$25,3),VLOOKUP(I286,Feuil1!$G$11:$L$25,2)))))))","v":"C1 69"},275.77820846990062,null," ",{"$f":"T286-HLOOKUP(X286,Feuil1!$C$1:$BL$10,2,FALSE)","v":120},{"$f":"T286-HLOOKUP(X286,Feuil1!$C$1:$BL$10,3,FALSE)","v":100},{"$f":"T286-HLOOKUP(X286,Feuil1!$C$1:$BL$10,4,FALSE)","v":90},{"$f":"T286-HLOOKUP(X286,Feuil1!$C$1:$BL$10,5,FALSE)","v":75},{"$f":"T286-HLOOKUP(X286,Feuil1!$C$1:$BL$10,6,FALSE)","v":55},{"$f":"T286-HLOOKUP(X286,Feuil1!$C$1:$BL$10,7,FALSE)","v":35},{"$f":"T286-HLOOKUP(X286,Feuil1!$C$1:$BL$10,8,FALSE)","v":15},{"$f":"T286-HLOOKUP(X286,Feuil1!$C$1:$BL$10,9,FALSE)","v":-5},{"$f":"T286-HLOOKUP(X286,Feuil1!$C$1:$BL$10,10,FALSE)","v":-795},null,null,null,null,null,null,"INTB +"]
["H",null,null,null,null,null,null,2002,69,null,null,95,null,null,95,110,null,null,110,205,null,"INTB +",15,{"$f":"IF(I287=\"\",\"\",IF(A287=\"H\",IF(OR(H287=\"SEN\",H287<1997),VLOOKUP(I287,Feuil1!$A$11:$G$29,6),IF(AND(H287>1996,H287<2000),VLOOKUP(I287,Feuil1!$A$11:$G$29,5),IF(AND(H287>1999,H287<2002),VLOOKUP(I287,Feuil1!$A$11:$G$29,4),IF(AND(H287>2001,H287<2004),VLOOKUP(I287,Feuil1!$A$11:$G$29,3),VLOOKUP(I287,Feuil1!$A$11:$G$29,2))))),IF(OR(H287=\"SEN\",H287<1997),VLOOKUP(I287,Feuil1!$G$11:$L$25,6),IF(AND(H287>1996,H287<2000),VLOOKUP(I287,Feuil1!$G$11:$L$25,5),IF(AND(H287>1999,H287<2002),VLOOKUP(I287,Feuil1!$G$11:$L$25,4),IF(AND(H287>2001,H287<2004),VLOOKUP(I287,Feuil1!$G$11:$L$25,3),VLOOKUP(I287,Feuil1!$G$11:$L$25,2)))))))","v":"C1 69"},275.77820846990062,null," ",{"$f":"T287-HLOOKUP(X287,Feuil1!$C$1:$BL$10,2,FALSE)","v":120},{"$f":"T287-HLOOKUP(X287,Feuil1!$C$1:$BL$10,3,FALSE)","v":100},{"$f":"T287-HLOOKUP(X287,Feuil1!$C$1:$BL$10,4,FALSE)","v":90},{"$f":"T287-HLOOKUP(X287,Feuil1!$C$1:$BL$10,5,FALSE)","v":75},{"$f":"T287-HLOOKUP(X287,Feuil1!$C$1:$BL$10,6,FALSE)","v":55},{"$f":"T287-HLOOKUP(X287,Feuil1!$C$1:$BL$10,7,FALSE)","v":35},{"$f":"T287-HLOOKUP(X287,Feuil1!$C$1:$BL$10,8,FALSE)","v":15},{"$f":"T287-HLOOKUP(X287,Feuil1!$C$1:$BL$10,9,FALSE)","v":-5},{"$f":"T287-HLOOKUP(X287,Feuil1!$C$1:$BL$10,10,FALSE)","v":-795},null,null,null,null,null,null,"INTB +"]
["H",null,null,null,null,null,null,2002,69,null,null,95,null,null,95,110,null,null,110,205,null,"INTB +",15,{"$f":"IF(I288=\"\",\"\",IF(A288=\"H\",IF(OR(H288=\"SEN\",H288<1997),VLOOKUP(I288,Feuil1!$A$11:$G$29,6),IF(AND(H288>1996,H288<2000),VLOOKUP(I288,Feuil1!$A$11:$G$29,5),IF(AND(H288>1999,H288<2002),VLOOKUP(I288,Feuil1!$A$11:$G$29,4),IF(AND(H288>2001,H288<2004),VLOOKUP(I288,Feuil1!$A$11:$G$29,3),VLOOKUP(I288,Feuil1!$A$11:$G$29,2))))),IF(OR(H288=\"SEN\",H288<1997),VLOOKUP(I288,Feuil1!$G$11:$L$25,6),IF(AND(H288>1996,H288<2000),VLOOKUP(I288,Feuil1!$G$11:$L$25,5),IF(AND(H288>1999,H288<2002),VLOOKUP(I288,Feuil1!$G$11:$L$25,4),IF(AND(H288>2001,H288<2004),VLOOKUP(I288,Feuil1!$G$11:$L$25,3),VLOOKUP(I288,Feuil1!$G$11:$L$25,2)))))))","v":"C1 69"},275.77820846990062,null," ",{"$f":"T288-HLOOKUP(X288,Feuil1!$C$1:$BL$10,2,FALSE)","v":120},{"$f":"T288-HLOOKUP(X288,Feuil1!$C$1:$BL$10,3,FALSE)","v":100},{"$f":"T288-HLOOKUP(X288,Feuil1!$C$1:$BL$10,4,FALSE)","v":90},{"$f":"T288-HLOOKUP(X288,Feuil1!$C$1:$BL$10,5,FALSE)","v":75},{"$f":"T288-HLOOKUP(X288,Feuil1!$C$1:$BL$10,6,FALSE)","v":55},{"$f":"T288-HLOOKUP(X288,Feuil1!$C$1:$BL$10,7,FALSE)","v":35},{"$f":"T288-HLOOKUP(X288,Feuil1!$C$1:$BL$10,8,FALSE)","v":15},{"$f":"T288-HLOOKUP(X288,Feuil1!$C$1:$BL$10,9,FALSE)","v":-5},{"$f":"T288-HLOOKUP(X288,Feuil1!$C$1:$BL$10,10,FALSE)","v":-795},null,null,null,null,null,null,"INTB +"]
["H",null,null,null,null,null,null,2002,69,null,null,95,null,null,95,110,null,null,110,205,null,"INTB +",15,{"$f":"IF(I289=\"\",\"\",IF(A289=\"H\",IF(OR(H289=\"SEN\",H289<1997),VLOOKUP(I289,Feuil1!$A$11:$G$29,6),IF(AND(H289>1996,H289<2000),VLOOKUP(I289,Feuil1!$A$11:$G$29,5),IF(AND(H289>1999,H289<2002),VLOOKUP(I289,Feuil1!$A$11:$G$29,4),IF(AND(H289>2001,H289<2004),VLOOKUP(I289,Feuil1!$A$11:$G$29,3),VLOOKUP(I289,Feuil1!$A$11:$G$29,2))))),IF(OR(H289=\"SEN\",H289<1997),VLOOKUP(I289,Feuil1!$G$11:$L$25,6),IF(AND(H289>1996,H289<2000),VLOOKUP(I289,Feuil1!$G$11:$L$25,5),IF(AND(H289>1999,H289<2002),VLOOKUP(I289,Feuil1!$G$11:$L$25,4),IF(AND(H289>2001,H289<2004),VLOOKUP(I289,Feuil1!$G$11:$L$25,3),VLOOKUP(I289,Feuil1!$G$11:$L$25,2)))))))","v":"C1 69"},275.77820846990062,null," ",{"$f":"T289-HLOOKUP(X289,Feuil1!$C$1:$BL$10,2,FALSE)","v":120},{"$f":"T289-HLOOKUP(X289,Feuil1!$C$1:$BL$10,3,FALSE)","v":100},{"$f":"T289-HLOOKUP(X289,Feuil1!$C$1:$BL$10,4,FALSE)","v":90},{"$f":"T289-HLOOKUP(X289,Feuil1!$C$1:$BL$10,5,FALSE)","v":75},{"$f":"T289-HLOOKUP(X289,Feuil1!$C$1:$BL$10,6,FALSE)","v":55},{"$f":"T289-HLOOKUP(X289,Feuil1!$C$1:$BL$10,7,FALSE)","v":35},{"$f":"T289-HLOOKUP(X289,Feuil1!$C$1:$BL$10,8,FALSE)","v":15},{"$f":"T289-HLOOKUP(X289,Feuil1!$C$1:$BL$10,9,FALSE)","v":-5},{"$f":"T289-HLOOKUP(X289,Feuil1!$C$1:$BL$10,10,FALSE)","v":-795},null,null,null,null,null,null,"INTB +"]
["H",null,null,null,null,null,null,2002,69,null,null,95,null,null,95,110,null,null,110,205,null,"INTB +",15,{"$f":"IF(I290=\"\",\"\",IF(A290=\"H\",IF(OR(H290=\"SEN\",H290<1997),VLOOKUP(I290,Feuil1!$A$11:$G$29,6),IF(AND(H290>1996,H290<2000),VLOOKUP(I290,Feuil1!$A$11:$G$29,5),IF(AND(H290>1999,H290<2002),VLOOKUP(I290,Feuil1!$A$11:$G$29,4),IF(AND(H290>2001,H290<2004),VLOOKUP(I290,Feuil1!$A$11:$G$29,3),VLOOKUP(I290,Feuil1!$A$11:$G$29,2))))),IF(OR(H290=\"SEN\",H290<1997),VLOOKUP(I290,Feuil1!$G$11:$L$25,6),IF(AND(H290>1996,H290<2000),VLOOKUP(I290,Feuil1!$G$11:$L$25,5),IF(AND(H290>1999,H290<2002),VLOOKUP(I290,Feuil1!$G$11:$L$25,4),IF(AND(H290>2001,H290<2004),VLOOKUP(I290,Feuil1!$G$11:$L$25,3),VLOOKUP(I290,Feuil1!$G$11:$L$25,2)))))))","v":"C1 69"},275.77820846990062,null," ",{"$f":"T290-HLOOKUP(X290,Feuil1!$C$1:$BL$10,2,FALSE)","v":120},{"$f":"T290-HLOOKUP(X290,Feuil1!$C$1:$BL$10,3,FALSE)","v":100},{"$f":"T290-HLOOKUP(X290,Feuil1!$C$1:$BL$10,4,FALSE)","v":90},{"$f":"T290-HLOOKUP(X290,Feuil1!$C$1:$BL$10,5,FALSE)","v":75},{"$f":"T290-HLOOKUP(X290,Feuil1!$C$1:$BL$10,6,FALSE)","v":55},{"$f":"T290-HLOOKUP(X290,Feuil1!$C$1:$BL$10,7,FALSE)","v":35},{"$f":"T290-HLOOKUP(X290,Feuil1!$C$1:$BL$10,8,FALSE)","v":15},{"$f":"T290-HLOOKUP(X290,Feuil1!$C$1:$BL$10,9,FALSE)","v":-5},{"$f":"T290-HLOOKUP(X290,Feuil1!$C$1:$BL$10,10,FALSE)","v":-795},null,null,null,null,null,null,"INTB +"]
["H",null,null,null,null,null,null,2002,69,null,null,95,null,null,95,110,null,null,110,205,null,"INTB +",15,{"$f":"IF(I291=\"\",\"\",IF(A291=\"H\",IF(OR(H291=\"SEN\",H291<1997),VLOOKUP(I291,Feuil1!$A$11:$G$29,6),IF(AND(H291>1996,H291<2000),VLOOKUP(I291,Feuil1!$A$11:$G$29,5),IF(AND(H291>1999,H291<2002),VLOOKUP(I291,Feuil1!$A$11:$G$29,4),IF(AND(H291>2001,H291<2004),VLOOKUP(I291,Feuil1!$A$11:$G$29,3),VLOOKUP(I291,Feuil1!$A$11:$G$29,2))))),IF(OR(H291=\"SEN\",H291<1997),VLOOKUP(I291,Feuil1!$G$11:$L$25,6),IF(AND(H291>1996,H291<2000),VLOOKUP(I291,Feuil1!$G$11:$L$25,5),IF(AND(H291>1999,H291<2002),VLOOKUP(I291,Feuil1!$G$11:$L$25,4),IF(AND(H291>2001,H291<2004),VLOOKUP(I291,Feuil1!$G$11:$L$25,3),VLOOKUP(I291,Feuil1!$G$11:$L$25,2)))))))","v":"C1 69"},275.77820846990062,null," ",{"$f":"T291-HLOOKUP(X291,Feuil1!$C$1:$BL$10,2,FALSE)","v":120},{"$f":"T291-HLOOKUP(X291,Feuil1!$C$1:$BL$10,3,FALSE)","v":100},{"$f":"T291-HLOOKUP(X291,Feuil1!$C$1:$BL$10,4,FALSE)","v":90},{"$f":"T291-HLOOKUP(X291,Feuil1!$C$1:$BL$10,5,FALSE)","v":75},{"$f":"T291-HLOOKUP(X291,Feuil1!$C$1:$BL$10,6,FALSE)","v":55},{"$f":"T291-HLOOKUP(X291,Feuil1!$C$1:$BL$10,7,FALSE)","v":35},{"$f":"T291-HLOOKUP(X291,Feuil1!$C$1:$BL$10,8,FALSE)","v":15},{"$f":"T291-HLOOKUP(X291,Feuil1!$C$1:$BL$10,9,FALSE)","v":-5},{"$f":"T291-HLOOKUP(X291,Feuil1!$C$1:$BL$10,10,FALSE)","v":-795},null,null,null,null,null,null,"INTB +"]
["H",null,null,null,null,null,null,2002,69,null,null,95,null,null,95,110,null,null,110,205,null,"INTB +",15,{"$f":"IF(I292=\"\",\"\",IF(A292=\"H\",IF(OR(H292=\"SEN\",H292<1997),VLOOKUP(I292,Feuil1!$A$11:$G$29,6),IF(AND(H292>1996,H292<2000),VLOOKUP(I292,Feuil1!$A$11:$G$29,5),IF(AND(H292>1999,H292<2002),VLOOKUP(I292,Feuil1!$A$11:$G$29,4),IF(AND(H292>2001,H292<2004),VLOOKUP(I292,Feuil1!$A$11:$G$29,3),VLOOKUP(I292,Feuil1!$A$11:$G$29,2))))),IF(OR(H292=\"SEN\",H292<1997),VLOOKUP(I292,Feuil1!$G$11:$L$25,6),IF(AND(H292>1996,H292<2000),VLOOKUP(I292,Feuil1!$G$11:$L$25,5),IF(AND(H292>1999,H292<2002),VLOOKUP(I292,Feuil1!$G$11:$L$25,4),IF(AND(H292>2001,H292<2004),VLOOKUP(I292,Feuil1!$G$11:$L$25,3),VLOOKUP(I292,Feuil1!$G$11:$L$25,2)))))))","v":"C1 69"},275.77820846990062,null," ",{"$f":"T292-HLOOKUP(X292,Feuil1!$C$1:$BL$10,2,FALSE)","v":120},{"$f":"T292-HLOOKUP(X292,Feuil1!$C$1:$BL$10,3,FALSE)","v":100},{"$f":"T292-HLOOKUP(X292,Feuil1!$C$1:$BL$10,4,FALSE)","v":90},{"$f":"T292-HLOOKUP(X292,Feuil1!$C$1:$BL$10,5,FALSE)","v":75},{"$f":"T292-HLOOKUP(X292,Feuil1!$C$1:$BL$10,6,FALSE)","v":55},{"$f":"T292-HLOOKUP(X292,Feuil1!$C$1:$BL$10,7,FALSE)","v":35},{"$f":"T292-HLOOKUP(X292,Feuil1!$C$1:$BL$10,8,FALSE)","v":15},{"$f":"T292-HLOOKUP(X292,Feuil1!$C$1:$BL$10,9,FALSE)","v":-5},{"$f":"T292-HLOOKUP(X292,Feuil1!$C$1:$BL$10,10,FALSE)","v":-795},null,null,null,null,null,null,"INTB +"]
["H",null,null,null,null,null,null,2002,69,null,null,95,null,null,95,110,null,null,110,205,null,"INTB +",15,{"$f":"IF(I293=\"\",\"\",IF(A293=\"H\",IF(OR(H293=\"SEN\",H293<1997),VLOOKUP(I293,Feuil1!$A$11:$G$29,6),IF(AND(H293>1996,H293<2000),VLOOKUP(I293,Feuil1!$A$11:$G$29,5),IF(AND(H293>1999,H293<2002),VLOOKUP(I293,Feuil1!$A$11:$G$29,4),IF(AND(H293>2001,H293<2004),VLOOKUP(I293,Feuil1!$A$11:$G$29,3),VLOOKUP(I293,Feuil1!$A$11:$G$29,2))))),IF(OR(H293=\"SEN\",H293<1997),VLOOKUP(I293,Feuil1!$G$11:$L$25,6),IF(AND(H293>1996,H293<2000),VLOOKUP(I293,Feuil1!$G$11:$L$25,5),IF(AND(H293>1999,H293<2002),VLOOKUP(I293,Feuil1!$G$11:$L$25,4),IF(AND(H293>2001,H293<2004),VLOOKUP(I293,Feuil1!$G$11:$L$25,3),VLOOKUP(I293,Feuil1!$G$11:$L$25,2)))))))","v":"C1 69"},275.77820846990062,null," ",{"$f":"T293-HLOOKUP(X293,Feuil1!$C$1:$BL$10,2,FALSE)","v":120},{"$f":"T293-HLOOKUP(X293,Feuil1!$C$1:$BL$10,3,FALSE)","v":100},{"$f":"T293-HLOOKUP(X293,Feuil1!$C$1:$BL$10,4,FALSE)","v":90},{"$f":"T293-HLOOKUP(X293,Feuil1!$C$1:$BL$10,5,FALSE)","v":75},{"$f":"T293-HLOOKUP(X293,Feuil1!$C$1:$BL$10,6,FALSE)","v":55},{"$f":"T293-HLOOKUP(X293,Feuil1!$C$1:$BL$10,7,FALSE)","v":35},{"$f":"T293-HLOOKUP(X293,Feuil1!$C$1:$BL$10,8,FALSE)","v":15},{"$f":"T293-HLOOKUP(X293,Feuil1!$C$1:$BL$10,9,FALSE)","v":-5},{"$f":"T293-HLOOKUP(X293,Feuil1!$C$1:$BL$10,10,FALSE)","v":-795},null,null,null,null,null,null,"INTB +"]
["H",null,null,null,null,null,null,2002,69,null,null,95,null,null,95,110,null,null,110,205,null,"INTB +",15,{"$f":"IF(I294=\"\",\"\",IF(A294=\"H\",IF(OR(H294=\"SEN\",H294<1997),VLOOKUP(I294,Feuil1!$A$11:$G$29,6),IF(AND(H294>1996,H294<2000),VLOOKUP(I294,Feuil1!$A$11:$G$29,5),IF(AND(H294>1999,H294<2002),VLOOKUP(I294,Feuil1!$A$11:$G$29,4),IF(AND(H294>2001,H294<2004),VLOOKUP(I294,Feuil1!$A$11:$G$29,3),VLOOKUP(I294,Feuil1!$A$11:$G$29,2))))),IF(OR(H294=\"SEN\",H294<1997),VLOOKUP(I294,Feuil1!$G$11:$L$25,6),IF(AND(H294>1996,H294<2000),VLOOKUP(I294,Feuil1!$G$11:$L$25,5),IF(AND(H294>1999,H294<2002),VLOOKUP(I294,Feuil1!$G$11:$L$25,4),IF(AND(H294>2001,H294<2004),VLOOKUP(I294,Feuil1!$G$11:$L$25,3),VLOOKUP(I294,Feuil1!$G$11:$L$25,2)))))))","v":"C1 69"},275.77820846990062,null," ",{"$f":"T294-HLOOKUP(X294,Feuil1!$C$1:$BL$10,2,FALSE)","v":120},{"$f":"T294-HLOOKUP(X294,Feuil1!$C$1:$BL$10,3,FALSE)","v":100},{"$f":"T294-HLOOKUP(X294,Feuil1!$C$1:$BL$10,4,FALSE)","v":90},{"$f":"T294-HLOOKUP(X294,Feuil1!$C$1:$BL$10,5,FALSE)","v":75},{"$f":"T294-HLOOKUP(X294,Feuil1!$C$1:$BL$10,6,FALSE)","v":55},{"$f":"T294-HLOOKUP(X294,Feuil1!$C$1:$BL$10,7,FALSE)","v":35},{"$f":"T294-HLOOKUP(X294,Feuil1!$C$1:$BL$10,8,FALSE)","v":15},{"$f":"T294-HLOOKUP(X294,Feuil1!$C$1:$BL$10,9,FALSE)","v":-5},{"$f":"T294-HLOOKUP(X294,Feuil1!$C$1:$BL$10,10,FALSE)","v":-795},null,null,null,null,null,null,"INTB +"]
["H",null,null,null,null,null,null,2002,69,null,null,95,null,null,95,110,null,null,110,205,null,"INTB +",15,{"$f":"IF(I295=\"\",\"\",IF(A295=\"H\",IF(OR(H295=\"SEN\",H295<1997),VLOOKUP(I295,Feuil1!$A$11:$G$29,6),IF(AND(H295>1996,H295<2000),VLOOKUP(I295,Feuil1!$A$11:$G$29,5),IF(AND(H295>1999,H295<2002),VLOOKUP(I295,Feuil1!$A$11:$G$29,4),IF(AND(H295>2001,H295<2004),VLOOKUP(I295,Feuil1!$A$11:$G$29,3),VLOOKUP(I295,Feuil1!$A$11:$G$29,2))))),IF(OR(H295=\"SEN\",H295<1997),VLOOKUP(I295,Feuil1!$G$11:$L$25,6),IF(AND(H295>1996,H295<2000),VLOOKUP(I295,Feuil1!$G$11:$L$25,5),IF(AND(H295>1999,H295<2002),VLOOKUP(I295,Feuil1!$G$11:$L$25,4),IF(AND(H295>2001,H295<2004),VLOOKUP(I295,Feuil1!$G$11:$L$25,3),VLOOKUP(I295,Feuil1!$G$11:$L$25,2)))))))","v":"C1 69"},275.77820846990062,null," ",{"$f":"T295-HLOOKUP(X295,Feuil1!$C$1:$BL$10,2,FALSE)","v":120},{"$f":"T295-HLOOKUP(X295,Feuil1!$C$1:$BL$10,3,FALSE)","v":100},{"$f":"T295-HLOOKUP(X295,Feuil1!$C$1:$BL$10,4,FALSE)","v":90},{"$f":"T295-HLOOKUP(X295,Feuil1!$C$1:$BL$10,5,FALSE)","v":75},{"$f":"T295-HLOOKUP(X295,Feuil1!$C$1:$BL$10,6,FALSE)","v":55},{"$f":"T295-HLOOKUP(X295,Feuil1!$C$1:$BL$10,7,FALSE)","v":35},{"$f":"T295-HLOOKUP(X295,Feuil1!$C$1:$BL$10,8,FALSE)","v":15},{"$f":"T295-HLOOKUP(X295,Feuil1!$C$1:$BL$10,9,FALSE)","v":-5},{"$f":"T295-HLOOKUP(X295,Feuil1!$C$1:$BL$10,10,FALSE)","v":-795},null,null,null,null,null,null,"INTB +"]
["H",null,null,null,null,null,null,2002,69,null,null,95,null,null,95,110,null,null,110,205,null,"INTB +",15,{"$f":"IF(I296=\"\",\"\",IF(A296=\"H\",IF(OR(H296=\"SEN\",H296<1997),VLOOKUP(I296,Feuil1!$A$11:$G$29,6),IF(AND(H296>1996,H296<2000),VLOOKUP(I296,Feuil1!$A$11:$G$29,5),IF(AND(H296>1999,H296<2002),VLOOKUP(I296,Feuil1!$A$11:$G$29,4),IF(AND(H296>2001,H296<2004),VLOOKUP(I296,Feuil1!$A$11:$G$29,3),VLOOKUP(I296,Feuil1!$A$11:$G$29,2))))),IF(OR(H296=\"SEN\",H296<1997),VLOOKUP(I296,Feuil1!$G$11:$L$25,6),IF(AND(H296>1996,H296<2000),VLOOKUP(I296,Feuil1!$G$11:$L$25,5),IF(AND(H296>1999,H296<2002),VLOOKUP(I296,Feuil1!$G$11:$L$25,4),IF(AND(H296>2001,H296<2004),VLOOKUP(I296,Feuil1!$G$11:$L$25,3),VLOOKUP(I296,Feuil1!$G$11:$L$25,2)))))))","v":"C1 69"},275.77820846990062,null," ",{"$f":"T296-HLOOKUP(X296,Feuil1!$C$1:$BL$10,2,FALSE)","v":120},{"$f":"T296-HLOOKUP(X296,Feuil1!$C$1:$BL$10,3,FALSE)","v":100},{"$f":"T296-HLOOKUP(X296,Feuil1!$C$1:$BL$10,4,FALSE)","v":90},{"$f":"T296-HLOOKUP(X296,Feuil1!$C$1:$BL$10,5,FALSE)","v":75},{"$f":"T296-HLOOKUP(X296,Feuil1!$C$1:$BL$10,6,FALSE)","v":55},{"$f":"T296-HLOOKUP(X296,Feuil1!$C$1:$BL$10,7,FALSE)","v":35},{"$f":"T296-HLOOKUP(X296,Feuil1!$C$1:$BL$10,8,FALSE)","v":15},{"$f":"T296-HLOOKUP(X296,Feuil1!$C$1:$BL$10,9,FALSE)","v":-5},{"$f":"T296-HLOOKUP(X296,Feuil1!$C$1:$BL$10,10,FALSE)","v":-795},null,null,null,null,null,null,"INTB +"]
["H",null,null,null,null,null,null,2002,69,null,null,95,null,null,95,110,null,null,110,205,null,"INTB +",15,{"$f":"IF(I297=\"\",\"\",IF(A297=\"H\",IF(OR(H297=\"SEN\",H297<1997),VLOOKUP(I297,Feuil1!$A$11:$G$29,6),IF(AND(H297>1996,H297<2000),VLOOKUP(I297,Feuil1!$A$11:$G$29,5),IF(AND(H297>1999,H297<2002),VLOOKUP(I297,Feuil1!$A$11:$G$29,4),IF(AND(H297>2001,H297<2004),VLOOKUP(I297,Feuil1!$A$11:$G$29,3),VLOOKUP(I297,Feuil1!$A$11:$G$29,2))))),IF(OR(H297=\"SEN\",H297<1997),VLOOKUP(I297,Feuil1!$G$11:$L$25,6),IF(AND(H297>1996,H297<2000),VLOOKUP(I297,Feuil1!$G$11:$L$25,5),IF(AND(H297>1999,H297<2002),VLOOKUP(I297,Feuil1!$G$11:$L$25,4),IF(AND(H297>2001,H297<2004),VLOOKUP(I297,Feuil1!$G$11:$L$25,3),VLOOKUP(I297,Feuil1!$G$11:$L$25,2)))))))","v":"C1 69"},275.77820846990062,null," ",{"$f":"T297-HLOOKUP(X297,Feuil1!$C$1:$BL$10,2,FALSE)","v":120},{"$f":"T297-HLOOKUP(X297,Feuil1!$C$1:$BL$10,3,FALSE)","v":100},{"$f":"T297-HLOOKUP(X297,Feuil1!$C$1:$BL$10,4,FALSE)","v":90},{"$f":"T297-HLOOKUP(X297,Feuil1!$C$1:$BL$10,5,FALSE)","v":75},{"$f":"T297-HLOOKUP(X297,Feuil1!$C$1:$BL$10,6,FALSE)","v":55},{"$f":"T297-HLOOKUP(X297,Feuil1!$C$1:$BL$10,7,FALSE)","v":35},{"$f":"T297-HLOOKUP(X297,Feuil1!$C$1:$BL$10,8,FALSE)","v":15},{"$f":"T297-HLOOKUP(X297,Feuil1!$C$1:$BL$10,9,FALSE)","v":-5},{"$f":"T297-HLOOKUP(X297,Feuil1!$C$1:$BL$10,10,FALSE)","v":-795},null,null,null,null,null,null,"INTB +"]
["H",null,null,null,null,null,null,2002,69,null,null,95,null,null,95,110,null,null,110,205,null,"INTB +",15,{"$f":"IF(I298=\"\",\"\",IF(A298=\"H\",IF(OR(H298=\"SEN\",H298<1997),VLOOKUP(I298,Feuil1!$A$11:$G$29,6),IF(AND(H298>1996,H298<2000),VLOOKUP(I298,Feuil1!$A$11:$G$29,5),IF(AND(H298>1999,H298<2002),VLOOKUP(I298,Feuil1!$A$11:$G$29,4),IF(AND(H298>2001,H298<2004),VLOOKUP(I298,Feuil1!$A$11:$G$29,3),VLOOKUP(I298,Feuil1!$A$11:$G$29,2))))),IF(OR(H298=\"SEN\",H298<1997),VLOOKUP(I298,Feuil1!$G$11:$L$25,6),IF(AND(H298>1996,H298<2000),VLOOKUP(I298,Feuil1!$G$11:$L$25,5),IF(AND(H298>1999,H298<2002),VLOOKUP(I298,Feuil1!$G$11:$L$25,4),IF(AND(H298>2001,H298<2004),VLOOKUP(I298,Feuil1!$G$11:$L$25,3),VLOOKUP(I298,Feuil1!$G$11:$L$25,2)))))))","v":"C1 69"},275.77820846990062,null," ",{"$f":"T298-HLOOKUP(X298,Feuil1!$C$1:$BL$10,2,FALSE)","v":120},{"$f":"T298-HLOOKUP(X298,Feuil1!$C$1:$BL$10,3,FALSE)","v":100},{"$f":"T298-HLOOKUP(X298,Feuil1!$C$1:$BL$10,4,FALSE)","v":90},{"$f":"T298-HLOOKUP(X298,Feuil1!$C$1:$BL$10,5,FALSE)","v":75},{"$f":"T298-HLOOKUP(X298,Feuil1!$C$1:$BL$10,6,FALSE)","v":55},{"$f":"T298-HLOOKUP(X298,Feuil1!$C$1:$BL$10,7,FALSE)","v":35},{"$f":"T298-HLOOKUP(X298,Feuil1!$C$1:$BL$10,8,FALSE)","v":15},{"$f":"T298-HLOOKUP(X298,Feuil1!$C$1:$BL$10,9,FALSE)","v":-5},{"$f":"T298-HLOOKUP(X298,Feuil1!$C$1:$BL$10,10,FALSE)","v":-795},null,null,null,null,null,null,"INTB +"]
["H",null,null,null,null,null,null,2002,69,null,null,95,null,null,95,110,null,null,110,205,null,"INTB +",15,{"$f":"IF(I299=\"\",\"\",IF(A299=\"H\",IF(OR(H299=\"SEN\",H299<1997),VLOOKUP(I299,Feuil1!$A$11:$G$29,6),IF(AND(H299>1996,H299<2000),VLOOKUP(I299,Feuil1!$A$11:$G$29,5),IF(AND(H299>1999,H299<2002),VLOOKUP(I299,Feuil1!$A$11:$G$29,4),IF(AND(H299>2001,H299<2004),VLOOKUP(I299,Feuil1!$A$11:$G$29,3),VLOOKUP(I299,Feuil1!$A$11:$G$29,2))))),IF(OR(H299=\"SEN\",H299<1997),VLOOKUP(I299,Feuil1!$G$11:$L$25,6),IF(AND(H299>1996,H299<2000),VLOOKUP(I299,Feuil1!$G$11:$L$25,5),IF(AND(H299>1999,H299<2002),VLOOKUP(I299,Feuil1!$G$11:$L$25,4),IF(AND(H299>2001,H299<2004),VLOOKUP(I299,Feuil1!$G$11:$L$25,3),VLOOKUP(I299,Feuil1!$G$11:$L$25,2)))))))","v":"C1 69"},275.77820846990062,null," ",{"$f":"T299-HLOOKUP(X299,Feuil1!$C$1:$BL$10,2,FALSE)","v":120},{"$f":"T299-HLOOKUP(X299,Feuil1!$C$1:$BL$10,3,FALSE)","v":100},{"$f":"T299-HLOOKUP(X299,Feuil1!$C$1:$BL$10,4,FALSE)","v":90},{"$f":"T299-HLOOKUP(X299,Feuil1!$C$1:$BL$10,5,FALSE)","v":75},{"$f":"T299-HLOOKUP(X299,Feuil1!$C$1:$BL$10,6,FALSE)","v":55},{"$f":"T299-HLOOKUP(X299,Feuil1!$C$1:$BL$10,7,FALSE)","v":35},{"$f":"T299-HLOOKUP(X299,Feuil1!$C$1:$BL$10,8,FALSE)","v":15},{"$f":"T299-HLOOKUP(X299,Feuil1!$C$1:$BL$10,9,FALSE)","v":-5},{"$f":"T299-HLOOKUP(X299,Feuil1!$C$1:$BL$10,10,FALSE)","v":-795},null,null,null,null,null,null,"INTB +"]
["H",null,null,null,null,null,null,2002,69,null,null,95,null,null,95,110,null,null,110,205,null,"INTB +",15,{"$f":"IF(I300=\"\",\"\",IF(A300=\"H\",IF(OR(H300=\"SEN\",H300<1997),VLOOKUP(I300,Feuil1!$A$11:$G$29,6),IF(AND(H300>1996,H300<2000),VLOOKUP(I300,Feuil1!$A$11:$G$29,5),IF(AND(H300>1999,H300<2002),VLOOKUP(I300,Feuil1!$A$11:$G$29,4),IF(AND(H300>2001,H300<2004),VLOOKUP(I300,Feuil1!$A$11:$G$29,3),VLOOKUP(I300,Feuil1!$A$11:$G$29,2))))),IF(OR(H300=\"SEN\",H300<1997),VLOOKUP(I300,Feuil1!$G$11:$L$25,6),IF(AND(H300>1996,H300<2000),VLOOKUP(I300,Feuil1!$G$11:$L$25,5),IF(AND(H300>1999,H300<2002),VLOOKUP(I300,Feuil1!$G$11:$L$25,4),IF(AND(H300>2001,H300<2004),VLOOKUP(I300,Feuil1!$G$11:$L$25,3),VLOOKUP(I300,Feuil1!$G$11:$L$25,2)))))))","v":"C1 69"},275.77820846990062,null," ",{"$f":"T300-HLOOKUP(X300,Feuil1!$C$1:$BL$10,2,FALSE)","v":120},{"$f":"T300-HLOOKUP(X300,Feuil1!$C$1:$BL$10,3,FALSE)","v":100},{"$f":"T300-HLOOKUP(X300,Feuil1!$C$1:$BL$10,4,FALSE)","v":90},{"$f":"T300-HLOOKUP(X300,Feuil1!$C$1:$BL$10,5,FALSE)","v":75},{"$f":"T300-HLOOKUP(X300,Feuil1!$C$1:$BL$10,6,FALSE)","v":55},{"$f":"T300-HLOOKUP(X300,Feuil1!$C$1:$BL$10,7,FALSE)","v":35},{"$f":"T300-HLOOKUP(X300,Feuil1!$C$1:$BL$10,8,FALSE)","v":15},{"$f":"T300-HLOOKUP(X300,Feuil1!$C$1:$BL$10,9,FALSE)","v":-5},{"$f":"T300-HLOOKUP(X300,Feuil1!$C$1:$BL$10,10,FALSE)","v":-795},null,null,null,null,null,null,"INTB +"]
["H",null,null,null,null,null,null,2002,69,null,null,95,null,null,95,110,null,null,110,205,null,"INTB +",15,{"$f":"IF(I301=\"\",\"\",IF(A301=\"H\",IF(OR(H301=\"SEN\",H301<1997),VLOOKUP(I301,Feuil1!$A$11:$G$29,6),IF(AND(H301>1996,H301<2000),VLOOKUP(I301,Feuil1!$A$11:$G$29,5),IF(AND(H301>1999,H301<2002),VLOOKUP(I301,Feuil1!$A$11:$G$29,4),IF(AND(H301>2001,H301<2004),VLOOKUP(I301,Feuil1!$A$11:$G$29,3),VLOOKUP(I301,Feuil1!$A$11:$G$29,2))))),IF(OR(H301=\"SEN\",H301<1997),VLOOKUP(I301,Feuil1!$G$11:$L$25,6),IF(AND(H301>1996,H301<2000),VLOOKUP(I301,Feuil1!$G$11:$L$25,5),IF(AND(H301>1999,H301<2002),VLOOKUP(I301,Feuil1!$G$11:$L$25,4),IF(AND(H301>2001,H301<2004),VLOOKUP(I301,Feuil1!$G$11:$L$25,3),VLOOKUP(I301,Feuil1!$G$11:$L$25,2)))))))","v":"C1 69"},275.77820846990062,null," ",{"$f":"T301-HLOOKUP(X301,Feuil1!$C$1:$BL$10,2,FALSE)","v":120},{"$f":"T301-HLOOKUP(X301,Feuil1!$C$1:$BL$10,3,FALSE)","v":100},{"$f":"T301-HLOOKUP(X301,Feuil1!$C$1:$BL$10,4,FALSE)","v":90},{"$f":"T301-HLOOKUP(X301,Feuil1!$C$1:$BL$10,5,FALSE)","v":75},{"$f":"T301-HLOOKUP(X301,Feuil1!$C$1:$BL$10,6,FALSE)","v":55},{"$f":"T301-HLOOKUP(X301,Feuil1!$C$1:$BL$10,7,FALSE)","v":35},{"$f":"T301-HLOOKUP(X301,Feuil1!$C$1:$BL$10,8,FALSE)","v":15},{"$f":"T301-HLOOKUP(X301,Feuil1!$C$1:$BL$10,9,FALSE)","v":-5},{"$f":"T301-HLOOKUP(X301,Feuil1!$C$1:$BL$10,10,FALSE)","v":-795},null,null,null,null,null,null,"INTB +"]
["H",null,null,null,null,null,null,2002,69,null,null,95,null,null,95,110,null,null,110,205,null,"INTB +",15,{"$f":"IF(I302=\"\",\"\",IF(A302=\"H\",IF(OR(H302=\"SEN\",H302<1997),VLOOKUP(I302,Feuil1!$A$11:$G$29,6),IF(AND(H302>1996,H302<2000),VLOOKUP(I302,Feuil1!$A$11:$G$29,5),IF(AND(H302>1999,H302<2002),VLOOKUP(I302,Feuil1!$A$11:$G$29,4),IF(AND(H302>2001,H302<2004),VLOOKUP(I302,Feuil1!$A$11:$G$29,3),VLOOKUP(I302,Feuil1!$A$11:$G$29,2))))),IF(OR(H302=\"SEN\",H302<1997),VLOOKUP(I302,Feuil1!$G$11:$L$25,6),IF(AND(H302>1996,H302<2000),VLOOKUP(I302,Feuil1!$G$11:$L$25,5),IF(AND(H302>1999,H302<2002),VLOOKUP(I302,Feuil1!$G$11:$L$25,4),IF(AND(H302>2001,H302<2004),VLOOKUP(I302,Feuil1!$G$11:$L$25,3),VLOOKUP(I302,Feuil1!$G$11:$L$25,2)))))))","v":"C1 69"},275.77820846990062,null," ",{"$f":"T302-HLOOKUP(X302,Feuil1!$C$1:$BL$10,2,FALSE)","v":120},{"$f":"T302-HLOOKUP(X302,Feuil1!$C$1:$BL$10,3,FALSE)","v":100},{"$f":"T302-HLOOKUP(X302,Feuil1!$C$1:$BL$10,4,FALSE)","v":90},{"$f":"T302-HLOOKUP(X302,Feuil1!$C$1:$BL$10,5,FALSE)","v":75},{"$f":"T302-HLOOKUP(X302,Feuil1!$C$1:$BL$10,6,FALSE)","v":55},{"$f":"T302-HLOOKUP(X302,Feuil1!$C$1:$BL$10,7,FALSE)","v":35},{"$f":"T302-HLOOKUP(X302,Feuil1!$C$1:$BL$10,8,FALSE)","v":15},{"$f":"T302-HLOOKUP(X302,Feuil1!$C$1:$BL$10,9,FALSE)","v":-5},{"$f":"T302-HLOOKUP(X302,Feuil1!$C$1:$BL$10,10,FALSE)","v":-795},null,null,null,null,null,null,"INTB +"]
["H",null,null,null,null,null,null,2002,69,null,null,95,null,null,95,110,null,null,110,205,null,"INTB +",15,{"$f":"IF(I303=\"\",\"\",IF(A303=\"H\",IF(OR(H303=\"SEN\",H303<1997),VLOOKUP(I303,Feuil1!$A$11:$G$29,6),IF(AND(H303>1996,H303<2000),VLOOKUP(I303,Feuil1!$A$11:$G$29,5),IF(AND(H303>1999,H303<2002),VLOOKUP(I303,Feuil1!$A$11:$G$29,4),IF(AND(H303>2001,H303<2004),VLOOKUP(I303,Feuil1!$A$11:$G$29,3),VLOOKUP(I303,Feuil1!$A$11:$G$29,2))))),IF(OR(H303=\"SEN\",H303<1997),VLOOKUP(I303,Feuil1!$G$11:$L$25,6),IF(AND(H303>1996,H303<2000),VLOOKUP(I303,Feuil1!$G$11:$L$25,5),IF(AND(H303>1999,H303<2002),VLOOKUP(I303,Feuil1!$G$11:$L$25,4),IF(AND(H303>2001,H303<2004),VLOOKUP(I303,Feuil1!$G$11:$L$25,3),VLOOKUP(I303,Feuil1!$G$11:$L$25,2)))))))","v":"C1 69"},275.77820846990062,null," ",{"$f":"T303-HLOOKUP(X303,Feuil1!$C$1:$BL$10,2,FALSE)","v":120},{"$f":"T303-HLOOKUP(X303,Feuil1!$C$1:$BL$10,3,FALSE)","v":100},{"$f":"T303-HLOOKUP(X303,Feuil1!$C$1:$BL$10,4,FALSE)","v":90},{"$f":"T303-HLOOKUP(X303,Feuil1!$C$1:$BL$10,5,FALSE)","v":75},{"$f":"T303-HLOOKUP(X303,Feuil1!$C$1:$BL$10,6,FALSE)","v":55},{"$f":"T303-HLOOKUP(X303,Feuil1!$C$1:$BL$10,7,FALSE)","v":35},{"$f":"T303-HLOOKUP(X303,Feuil1!$C$1:$BL$10,8,FALSE)","v":15},{"$f":"T303-HLOOKUP(X303,Feuil1!$C$1:$BL$10,9,FALSE)","v":-5},{"$f":"T303-HLOOKUP(X303,Feuil1!$C$1:$BL$10,10,FALSE)","v":-795},null,null,null,null,null,null,"INTB +"]
["H",null,null,null,null,null,null,2002,69,null,null,95,null,null,95,110,null,null,110,205,null,"INTB +",15,{"$f":"IF(I304=\"\",\"\",IF(A304=\"H\",IF(OR(H304=\"SEN\",H304<1997),VLOOKUP(I304,Feuil1!$A$11:$G$29,6),IF(AND(H304>1996,H304<2000),VLOOKUP(I304,Feuil1!$A$11:$G$29,5),IF(AND(H304>1999,H304<2002),VLOOKUP(I304,Feuil1!$A$11:$G$29,4),IF(AND(H304>2001,H304<2004),VLOOKUP(I304,Feuil1!$A$11:$G$29,3),VLOOKUP(I304,Feuil1!$A$11:$G$29,2))))),IF(OR(H304=\"SEN\",H304<1997),VLOOKUP(I304,Feuil1!$G$11:$L$25,6),IF(AND(H304>1996,H304<2000),VLOOKUP(I304,Feuil1!$G$11:$L$25,5),IF(AND(H304>1999,H304<2002),VLOOKUP(I304,Feuil1!$G$11:$L$25,4),IF(AND(H304>2001,H304<2004),VLOOKUP(I304,Feuil1!$G$11:$L$25,3),VLOOKUP(I304,Feuil1!$G$11:$L$25,2)))))))","v":"C1 69"},275.77820846990062,null," ",{"$f":"T304-HLOOKUP(X304,Feuil1!$C$1:$BL$10,2,FALSE)","v":120},{"$f":"T304-HLOOKUP(X304,Feuil1!$C$1:$BL$10,3,FALSE)","v":100},{"$f":"T304-HLOOKUP(X304,Feuil1!$C$1:$BL$10,4,FALSE)","v":90},{"$f":"T304-HLOOKUP(X304,Feuil1!$C$1:$BL$10,5,FALSE)","v":75},{"$f":"T304-HLOOKUP(X304,Feuil1!$C$1:$BL$10,6,FALSE)","v":55},{"$f":"T304-HLOOKUP(X304,Feuil1!$C$1:$BL$10,7,FALSE)","v":35},{"$f":"T304-HLOOKUP(X304,Feuil1!$C$1:$BL$10,8,FALSE)","v":15},{"$f":"T304-HLOOKUP(X304,Feuil1!$C$1:$BL$10,9,FALSE)","v":-5},{"$f":"T304-HLOOKUP(X304,Feuil1!$C$1:$BL$10,10,FALSE)","v":-795},null,null,null,null,null,null,"INTB +"]
["H",null,null,null,null,null,null,2002,69,null,null,95,null,null,95,110,null,null,110,205,null,"INTB +",15,{"$f":"IF(I305=\"\",\"\",IF(A305=\"H\",IF(OR(H305=\"SEN\",H305<1997),VLOOKUP(I305,Feuil1!$A$11:$G$29,6),IF(AND(H305>1996,H305<2000),VLOOKUP(I305,Feuil1!$A$11:$G$29,5),IF(AND(H305>1999,H305<2002),VLOOKUP(I305,Feuil1!$A$11:$G$29,4),IF(AND(H305>2001,H305<2004),VLOOKUP(I305,Feuil1!$A$11:$G$29,3),VLOOKUP(I305,Feuil1!$A$11:$G$29,2))))),IF(OR(H305=\"SEN\",H305<1997),VLOOKUP(I305,Feuil1!$G$11:$L$25,6),IF(AND(H305>1996,H305<2000),VLOOKUP(I305,Feuil1!$G$11:$L$25,5),IF(AND(H305>1999,H305<2002),VLOOKUP(I305,Feuil1!$G$11:$L$25,4),IF(AND(H305>2001,H305<2004),VLOOKUP(I305,Feuil1!$G$11:$L$25,3),VLOOKUP(I305,Feuil1!$G$11:$L$25,2)))))))","v":"C1 69"},275.77820846990062,null," ",{"$f":"T305-HLOOKUP(X305,Feuil1!$C$1:$BL$10,2,FALSE)","v":120},{"$f":"T305-HLOOKUP(X305,Feuil1!$C$1:$BL$10,3,FALSE)","v":100},{"$f":"T305-HLOOKUP(X305,Feuil1!$C$1:$BL$10,4,FALSE)","v":90},{"$f":"T305-HLOOKUP(X305,Feuil1!$C$1:$BL$10,5,FALSE)","v":75},{"$f":"T305-HLOOKUP(X305,Feuil1!$C$1:$BL$10,6,FALSE)","v":55},{"$f":"T305-HLOOKUP(X305,Feuil1!$C$1:$BL$10,7,FALSE)","v":35},{"$f":"T305-HLOOKUP(X305,Feuil1!$C$1:$BL$10,8,FALSE)","v":15},{"$f":"T305-HLOOKUP(X305,Feuil1!$C$1:$BL$10,9,FALSE)","v":-5},{"$f":"T305-HLOOKUP(X305,Feuil1!$C$1:$BL$10,10,FALSE)","v":-795},null,null,null,null,null,null,"INTB +"]
["H",null,null,null,null,null,null,2002,69,null,null,95,null,null,95,110,null,null,110,205,null,"INTB +",15,{"$f":"IF(I306=\"\",\"\",IF(A306=\"H\",IF(OR(H306=\"SEN\",H306<1997),VLOOKUP(I306,Feuil1!$A$11:$G$29,6),IF(AND(H306>1996,H306<2000),VLOOKUP(I306,Feuil1!$A$11:$G$29,5),IF(AND(H306>1999,H306<2002),VLOOKUP(I306,Feuil1!$A$11:$G$29,4),IF(AND(H306>2001,H306<2004),VLOOKUP(I306,Feuil1!$A$11:$G$29,3),VLOOKUP(I306,Feuil1!$A$11:$G$29,2))))),IF(OR(H306=\"SEN\",H306<1997),VLOOKUP(I306,Feuil1!$G$11:$L$25,6),IF(AND(H306>1996,H306<2000),VLOOKUP(I306,Feuil1!$G$11:$L$25,5),IF(AND(H306>1999,H306<2002),VLOOKUP(I306,Feuil1!$G$11:$L$25,4),IF(AND(H306>2001,H306<2004),VLOOKUP(I306,Feuil1!$G$11:$L$25,3),VLOOKUP(I306,Feuil1!$G$11:$L$25,2)))))))","v":"C1 69"},275.77820846990062,null," ",{"$f":"T306-HLOOKUP(X306,Feuil1!$C$1:$BL$10,2,FALSE)","v":120},{"$f":"T306-HLOOKUP(X306,Feuil1!$C$1:$BL$10,3,FALSE)","v":100},{"$f":"T306-HLOOKUP(X306,Feuil1!$C$1:$BL$10,4,FALSE)","v":90},{"$f":"T306-HLOOKUP(X306,Feuil1!$C$1:$BL$10,5,FALSE)","v":75},{"$f":"T306-HLOOKUP(X306,Feuil1!$C$1:$BL$10,6,FALSE)","v":55},{"$f":"T306-HLOOKUP(X306,Feuil1!$C$1:$BL$10,7,FALSE)","v":35},{"$f":"T306-HLOOKUP(X306,Feuil1!$C$1:$BL$10,8,FALSE)","v":15},{"$f":"T306-HLOOKUP(X306,Feuil1!$C$1:$BL$10,9,FALSE)","v":-5},{"$f":"T306-HLOOKUP(X306,Feuil1!$C$1:$BL$10,10,FALSE)","v":-795},null,null,null,null,null,null,"INTB +"]
["H",null,null,null,null,null,null,2002,69,null,null,95,null,null,95,110,null,null,110,205,null,"INTB +",15,{"$f":"IF(I307=\"\",\"\",IF(A307=\"H\",IF(OR(H307=\"SEN\",H307<1997),VLOOKUP(I307,Feuil1!$A$11:$G$29,6),IF(AND(H307>1996,H307<2000),VLOOKUP(I307,Feuil1!$A$11:$G$29,5),IF(AND(H307>1999,H307<2002),VLOOKUP(I307,Feuil1!$A$11:$G$29,4),IF(AND(H307>2001,H307<2004),VLOOKUP(I307,Feuil1!$A$11:$G$29,3),VLOOKUP(I307,Feuil1!$A$11:$G$29,2))))),IF(OR(H307=\"SEN\",H307<1997),VLOOKUP(I307,Feuil1!$G$11:$L$25,6),IF(AND(H307>1996,H307<2000),VLOOKUP(I307,Feuil1!$G$11:$L$25,5),IF(AND(H307>1999,H307<2002),VLOOKUP(I307,Feuil1!$G$11:$L$25,4),IF(AND(H307>2001,H307<2004),VLOOKUP(I307,Feuil1!$G$11:$L$25,3),VLOOKUP(I307,Feuil1!$G$11:$L$25,2)))))))","v":"C1 69"},275.77820846990062,null," ",{"$f":"T307-HLOOKUP(X307,Feuil1!$C$1:$BL$10,2,FALSE)","v":120},{"$f":"T307-HLOOKUP(X307,Feuil1!$C$1:$BL$10,3,FALSE)","v":100},{"$f":"T307-HLOOKUP(X307,Feuil1!$C$1:$BL$10,4,FALSE)","v":90},{"$f":"T307-HLOOKUP(X307,Feuil1!$C$1:$BL$10,5,FALSE)","v":75},{"$f":"T307-HLOOKUP(X307,Feuil1!$C$1:$BL$10,6,FALSE)","v":55},{"$f":"T307-HLOOKUP(X307,Feuil1!$C$1:$BL$10,7,FALSE)","v":35},{"$f":"T307-HLOOKUP(X307,Feuil1!$C$1:$BL$10,8,FALSE)","v":15},{"$f":"T307-HLOOKUP(X307,Feuil1!$C$1:$BL$10,9,FALSE)","v":-5},{"$f":"T307-HLOOKUP(X307,Feuil1!$C$1:$BL$10,10,FALSE)","v":-795},null,null,null,null,null,null,"INTB +"]
["H",null,null,null,null,null,null,2002,69,null,null,95,null,null,95,110,null,null,110,205,null,"INTB +",15,{"$f":"IF(I308=\"\",\"\",IF(A308=\"H\",IF(OR(H308=\"SEN\",H308<1997),VLOOKUP(I308,Feuil1!$A$11:$G$29,6),IF(AND(H308>1996,H308<2000),VLOOKUP(I308,Feuil1!$A$11:$G$29,5),IF(AND(H308>1999,H308<2002),VLOOKUP(I308,Feuil1!$A$11:$G$29,4),IF(AND(H308>2001,H308<2004),VLOOKUP(I308,Feuil1!$A$11:$G$29,3),VLOOKUP(I308,Feuil1!$A$11:$G$29,2))))),IF(OR(H308=\"SEN\",H308<1997),VLOOKUP(I308,Feuil1!$G$11:$L$25,6),IF(AND(H308>1996,H308<2000),VLOOKUP(I308,Feuil1!$G$11:$L$25,5),IF(AND(H308>1999,H308<2002),VLOOKUP(I308,Feuil1!$G$11:$L$25,4),IF(AND(H308>2001,H308<2004),VLOOKUP(I308,Feuil1!$G$11:$L$25,3),VLOOKUP(I308,Feuil1!$G$11:$L$25,2)))))))","v":"C1 69"},275.77820846990062,null," ",{"$f":"T308-HLOOKUP(X308,Feuil1!$C$1:$BL$10,2,FALSE)","v":120},{"$f":"T308-HLOOKUP(X308,Feuil1!$C$1:$BL$10,3,FALSE)","v":100},{"$f":"T308-HLOOKUP(X308,Feuil1!$C$1:$BL$10,4,FALSE)","v":90},{"$f":"T308-HLOOKUP(X308,Feuil1!$C$1:$BL$10,5,FALSE)","v":75},{"$f":"T308-HLOOKUP(X308,Feuil1!$C$1:$BL$10,6,FALSE)","v":55},{"$f":"T308-HLOOKUP(X308,Feuil1!$C$1:$BL$10,7,FALSE)","v":35},{"$f":"T308-HLOOKUP(X308,Feuil1!$C$1:$BL$10,8,FALSE)","v":15},{"$f":"T308-HLOOKUP(X308,Feuil1!$C$1:$BL$10,9,FALSE)","v":-5},{"$f":"T308-HLOOKUP(X308,Feuil1!$C$1:$BL$10,10,FALSE)","v":-795},null,null,null,null,null,null,"INTB +"]
["H",null,null,null,null,null,null,2002,69,null,null,95,null,null,95,110,null,null,110,205,null,"INTB +",15,{"$f":"IF(I309=\"\",\"\",IF(A309=\"H\",IF(OR(H309=\"SEN\",H309<1997),VLOOKUP(I309,Feuil1!$A$11:$G$29,6),IF(AND(H309>1996,H309<2000),VLOOKUP(I309,Feuil1!$A$11:$G$29,5),IF(AND(H309>1999,H309<2002),VLOOKUP(I309,Feuil1!$A$11:$G$29,4),IF(AND(H309>2001,H309<2004),VLOOKUP(I309,Feuil1!$A$11:$G$29,3),VLOOKUP(I309,Feuil1!$A$11:$G$29,2))))),IF(OR(H309=\"SEN\",H309<1997),VLOOKUP(I309,Feuil1!$G$11:$L$25,6),IF(AND(H309>1996,H309<2000),VLOOKUP(I309,Feuil1!$G$11:$L$25,5),IF(AND(H309>1999,H309<2002),VLOOKUP(I309,Feuil1!$G$11:$L$25,4),IF(AND(H309>2001,H309<2004),VLOOKUP(I309,Feuil1!$G$11:$L$25,3),VLOOKUP(I309,Feuil1!$G$11:$L$25,2)))))))","v":"C1 69"},275.77820846990062,null," ",{"$f":"T309-HLOOKUP(X309,Feuil1!$C$1:$BL$10,2,FALSE)","v":120},{"$f":"T309-HLOOKUP(X309,Feuil1!$C$1:$BL$10,3,FALSE)","v":100},{"$f":"T309-HLOOKUP(X309,Feuil1!$C$1:$BL$10,4,FALSE)","v":90},{"$f":"T309-HLOOKUP(X309,Feuil1!$C$1:$BL$10,5,FALSE)","v":75},{"$f":"T309-HLOOKUP(X309,Feuil1!$C$1:$BL$10,6,FALSE)","v":55},{"$f":"T309-HLOOKUP(X309,Feuil1!$C$1:$BL$10,7,FALSE)","v":35},{"$f":"T309-HLOOKUP(X309,Feuil1!$C$1:$BL$10,8,FALSE)","v":15},{"$f":"T309-HLOOKUP(X309,Feuil1!$C$1:$BL$10,9,FALSE)","v":-5},{"$f":"T309-HLOOKUP(X309,Feuil1!$C$1:$BL$10,10,FALSE)","v":-795},null,null,null,null,null,null,"INTB +"]
["H",null,null,null,null,null,null,2002,69,null,null,95,null,null,95,110,null,null,110,205,null,"INTB +",15,{"$f":"IF(I310=\"\",\"\",IF(A310=\"H\",IF(OR(H310=\"SEN\",H310<1997),VLOOKUP(I310,Feuil1!$A$11:$G$29,6),IF(AND(H310>1996,H310<2000),VLOOKUP(I310,Feuil1!$A$11:$G$29,5),IF(AND(H310>1999,H310<2002),VLOOKUP(I310,Feuil1!$A$11:$G$29,4),IF(AND(H310>2001,H310<2004),VLOOKUP(I310,Feuil1!$A$11:$G$29,3),VLOOKUP(I310,Feuil1!$A$11:$G$29,2))))),IF(OR(H310=\"SEN\",H310<1997),VLOOKUP(I310,Feuil1!$G$11:$L$25,6),IF(AND(H310>1996,H310<2000),VLOOKUP(I310,Feuil1!$G$11:$L$25,5),IF(AND(H310>1999,H310<2002),VLOOKUP(I310,Feuil1!$G$11:$L$25,4),IF(AND(H310>2001,H310<2004),VLOOKUP(I310,Feuil1!$G$11:$L$25,3),VLOOKUP(I310,Feuil1!$G$11:$L$25,2)))))))","v":"C1 69"},275.77820846990062,null," ",{"$f":"T310-HLOOKUP(X310,Feuil1!$C$1:$BL$10,2,FALSE)","v":120},{"$f":"T310-HLOOKUP(X310,Feuil1!$C$1:$BL$10,3,FALSE)","v":100},{"$f":"T310-HLOOKUP(X310,Feuil1!$C$1:$BL$10,4,FALSE)","v":90},{"$f":"T310-HLOOKUP(X310,Feuil1!$C$1:$BL$10,5,FALSE)","v":75},{"$f":"T310-HLOOKUP(X310,Feuil1!$C$1:$BL$10,6,FALSE)","v":55},{"$f":"T310-HLOOKUP(X310,Feuil1!$C$1:$BL$10,7,FALSE)","v":35},{"$f":"T310-HLOOKUP(X310,Feuil1!$C$1:$BL$10,8,FALSE)","v":15},{"$f":"T310-HLOOKUP(X310,Feuil1!$C$1:$BL$10,9,FALSE)","v":-5},{"$f":"T310-HLOOKUP(X310,Feuil1!$C$1:$BL$10,10,FALSE)","v":-795},null,null,null,null,null,null,"INTB +"]
["H",null,null,null,null,null,null,2002,69,null,null,95,null,null,95,110,null,null,110,205,null,"INTB +",15,{"$f":"IF(I311=\"\",\"\",IF(A311=\"H\",IF(OR(H311=\"SEN\",H311<1997),VLOOKUP(I311,Feuil1!$A$11:$G$29,6),IF(AND(H311>1996,H311<2000),VLOOKUP(I311,Feuil1!$A$11:$G$29,5),IF(AND(H311>1999,H311<2002),VLOOKUP(I311,Feuil1!$A$11:$G$29,4),IF(AND(H311>2001,H311<2004),VLOOKUP(I311,Feuil1!$A$11:$G$29,3),VLOOKUP(I311,Feuil1!$A$11:$G$29,2))))),IF(OR(H311=\"SEN\",H311<1997),VLOOKUP(I311,Feuil1!$G$11:$L$25,6),IF(AND(H311>1996,H311<2000),VLOOKUP(I311,Feuil1!$G$11:$L$25,5),IF(AND(H311>1999,H311<2002),VLOOKUP(I311,Feuil1!$G$11:$L$25,4),IF(AND(H311>2001,H311<2004),VLOOKUP(I311,Feuil1!$G$11:$L$25,3),VLOOKUP(I311,Feuil1!$G$11:$L$25,2)))))))","v":"C1 69"},275.77820846990062,null," ",{"$f":"T311-HLOOKUP(X311,Feuil1!$C$1:$BL$10,2,FALSE)","v":120},{"$f":"T311-HLOOKUP(X311,Feuil1!$C$1:$BL$10,3,FALSE)","v":100},{"$f":"T311-HLOOKUP(X311,Feuil1!$C$1:$BL$10,4,FALSE)","v":90},{"$f":"T311-HLOOKUP(X311,Feuil1!$C$1:$BL$10,5,FALSE)","v":75},{"$f":"T311-HLOOKUP(X311,Feuil1!$C$1:$BL$10,6,FALSE)","v":55},{"$f":"T311-HLOOKUP(X311,Feuil1!$C$1:$BL$10,7,FALSE)","v":35},{"$f":"T311-HLOOKUP(X311,Feuil1!$C$1:$BL$10,8,FALSE)","v":15},{"$f":"T311-HLOOKUP(X311,Feuil1!$C$1:$BL$10,9,FALSE)","v":-5},{"$f":"T311-HLOOKUP(X311,Feuil1!$C$1:$BL$10,10,FALSE)","v":-795},null,null,null,null,null,null,"INTB +"]
["H",null,null,null,null,null,null,2002,69,null,null,95,null,null,95,110,null,null,110,205,null,"INTB +",15,{"$f":"IF(I312=\"\",\"\",IF(A312=\"H\",IF(OR(H312=\"SEN\",H312<1997),VLOOKUP(I312,Feuil1!$A$11:$G$29,6),IF(AND(H312>1996,H312<2000),VLOOKUP(I312,Feuil1!$A$11:$G$29,5),IF(AND(H312>1999,H312<2002),VLOOKUP(I312,Feuil1!$A$11:$G$29,4),IF(AND(H312>2001,H312<2004),VLOOKUP(I312,Feuil1!$A$11:$G$29,3),VLOOKUP(I312,Feuil1!$A$11:$G$29,2))))),IF(OR(H312=\"SEN\",H312<1997),VLOOKUP(I312,Feuil1!$G$11:$L$25,6),IF(AND(H312>1996,H312<2000),VLOOKUP(I312,Feuil1!$G$11:$L$25,5),IF(AND(H312>1999,H312<2002),VLOOKUP(I312,Feuil1!$G$11:$L$25,4),IF(AND(H312>2001,H312<2004),VLOOKUP(I312,Feuil1!$G$11:$L$25,3),VLOOKUP(I312,Feuil1!$G$11:$L$25,2)))))))","v":"C1 69"},275.77820846990062,null," ",{"$f":"T312-HLOOKUP(X312,Feuil1!$C$1:$BL$10,2,FALSE)","v":120},{"$f":"T312-HLOOKUP(X312,Feuil1!$C$1:$BL$10,3,FALSE)","v":100},{"$f":"T312-HLOOKUP(X312,Feuil1!$C$1:$BL$10,4,FALSE)","v":90},{"$f":"T312-HLOOKUP(X312,Feuil1!$C$1:$BL$10,5,FALSE)","v":75},{"$f":"T312-HLOOKUP(X312,Feuil1!$C$1:$BL$10,6,FALSE)","v":55},{"$f":"T312-HLOOKUP(X312,Feuil1!$C$1:$BL$10,7,FALSE)","v":35},{"$f":"T312-HLOOKUP(X312,Feuil1!$C$1:$BL$10,8,FALSE)","v":15},{"$f":"T312-HLOOKUP(X312,Feuil1!$C$1:$BL$10,9,FALSE)","v":-5},{"$f":"T312-HLOOKUP(X312,Feuil1!$C$1:$BL$10,10,FALSE)","v":-795},null,null,null,null,null,null,"INTB +"]
["H",null,null,null,null,null,null,2002,69,null,null,95,null,null,95,110,null,null,110,205,null,"INTB +",15,{"$f":"IF(I313=\"\",\"\",IF(A313=\"H\",IF(OR(H313=\"SEN\",H313<1997),VLOOKUP(I313,Feuil1!$A$11:$G$29,6),IF(AND(H313>1996,H313<2000),VLOOKUP(I313,Feuil1!$A$11:$G$29,5),IF(AND(H313>1999,H313<2002),VLOOKUP(I313,Feuil1!$A$11:$G$29,4),IF(AND(H313>2001,H313<2004),VLOOKUP(I313,Feuil1!$A$11:$G$29,3),VLOOKUP(I313,Feuil1!$A$11:$G$29,2))))),IF(OR(H313=\"SEN\",H313<1997),VLOOKUP(I313,Feuil1!$G$11:$L$25,6),IF(AND(H313>1996,H313<2000),VLOOKUP(I313,Feuil1!$G$11:$L$25,5),IF(AND(H313>1999,H313<2002),VLOOKUP(I313,Feuil1!$G$11:$L$25,4),IF(AND(H313>2001,H313<2004),VLOOKUP(I313,Feuil1!$G$11:$L$25,3),VLOOKUP(I313,Feuil1!$G$11:$L$25,2)))))))","v":"C1 69"},275.77820846990062,null," ",{"$f":"T313-HLOOKUP(X313,Feuil1!$C$1:$BL$10,2,FALSE)","v":120},{"$f":"T313-HLOOKUP(X313,Feuil1!$C$1:$BL$10,3,FALSE)","v":100},{"$f":"T313-HLOOKUP(X313,Feuil1!$C$1:$BL$10,4,FALSE)","v":90},{"$f":"T313-HLOOKUP(X313,Feuil1!$C$1:$BL$10,5,FALSE)","v":75},{"$f":"T313-HLOOKUP(X313,Feuil1!$C$1:$BL$10,6,FALSE)","v":55},{"$f":"T313-HLOOKUP(X313,Feuil1!$C$1:$BL$10,7,FALSE)","v":35},{"$f":"T313-HLOOKUP(X313,Feuil1!$C$1:$BL$10,8,FALSE)","v":15},{"$f":"T313-HLOOKUP(X313,Feuil1!$C$1:$BL$10,9,FALSE)","v":-5},{"$f":"T313-HLOOKUP(X313,Feuil1!$C$1:$BL$10,10,FALSE)","v":-795},null,null,null,null,null,null,"INTB +"]
["H",null,null,null,null,null,null,2002,69,null,null,95,null,null,95,110,null,null,110,205,null,"INTB +",15,{"$f":"IF(I314=\"\",\"\",IF(A314=\"H\",IF(OR(H314=\"SEN\",H314<1997),VLOOKUP(I314,Feuil1!$A$11:$G$29,6),IF(AND(H314>1996,H314<2000),VLOOKUP(I314,Feuil1!$A$11:$G$29,5),IF(AND(H314>1999,H314<2002),VLOOKUP(I314,Feuil1!$A$11:$G$29,4),IF(AND(H314>2001,H314<2004),VLOOKUP(I314,Feuil1!$A$11:$G$29,3),VLOOKUP(I314,Feuil1!$A$11:$G$29,2))))),IF(OR(H314=\"SEN\",H314<1997),VLOOKUP(I314,Feuil1!$G$11:$L$25,6),IF(AND(H314>1996,H314<2000),VLOOKUP(I314,Feuil1!$G$11:$L$25,5),IF(AND(H314>1999,H314<2002),VLOOKUP(I314,Feuil1!$G$11:$L$25,4),IF(AND(H314>2001,H314<2004),VLOOKUP(I314,Feuil1!$G$11:$L$25,3),VLOOKUP(I314,Feuil1!$G$11:$L$25,2)))))))","v":"C1 69"},275.77820846990062,null," ",{"$f":"T314-HLOOKUP(X314,Feuil1!$C$1:$BL$10,2,FALSE)","v":120},{"$f":"T314-HLOOKUP(X314,Feuil1!$C$1:$BL$10,3,FALSE)","v":100},{"$f":"T314-HLOOKUP(X314,Feuil1!$C$1:$BL$10,4,FALSE)","v":90},{"$f":"T314-HLOOKUP(X314,Feuil1!$C$1:$BL$10,5,FALSE)","v":75},{"$f":"T314-HLOOKUP(X314,Feuil1!$C$1:$BL$10,6,FALSE)","v":55},{"$f":"T314-HLOOKUP(X314,Feuil1!$C$1:$BL$10,7,FALSE)","v":35},{"$f":"T314-HLOOKUP(X314,Feuil1!$C$1:$BL$10,8,FALSE)","v":15},{"$f":"T314-HLOOKUP(X314,Feuil1!$C$1:$BL$10,9,FALSE)","v":-5},{"$f":"T314-HLOOKUP(X314,Feuil1!$C$1:$BL$10,10,FALSE)","v":-795},null,null,null,null,null,null,"INTB +"]
["H",null,null,null,null,null,null,2002,69,null,null,95,null,null,95,110,null,null,110,205,null,"INTB +",15,{"$f":"IF(I315=\"\",\"\",IF(A315=\"H\",IF(OR(H315=\"SEN\",H315<1997),VLOOKUP(I315,Feuil1!$A$11:$G$29,6),IF(AND(H315>1996,H315<2000),VLOOKUP(I315,Feuil1!$A$11:$G$29,5),IF(AND(H315>1999,H315<2002),VLOOKUP(I315,Feuil1!$A$11:$G$29,4),IF(AND(H315>2001,H315<2004),VLOOKUP(I315,Feuil1!$A$11:$G$29,3),VLOOKUP(I315,Feuil1!$A$11:$G$29,2))))),IF(OR(H315=\"SEN\",H315<1997),VLOOKUP(I315,Feuil1!$G$11:$L$25,6),IF(AND(H315>1996,H315<2000),VLOOKUP(I315,Feuil1!$G$11:$L$25,5),IF(AND(H315>1999,H315<2002),VLOOKUP(I315,Feuil1!$G$11:$L$25,4),IF(AND(H315>2001,H315<2004),VLOOKUP(I315,Feuil1!$G$11:$L$25,3),VLOOKUP(I315,Feuil1!$G$11:$L$25,2)))))))","v":"C1 69"},275.77820846990062,null," ",{"$f":"T315-HLOOKUP(X315,Feuil1!$C$1:$BL$10,2,FALSE)","v":120},{"$f":"T315-HLOOKUP(X315,Feuil1!$C$1:$BL$10,3,FALSE)","v":100},{"$f":"T315-HLOOKUP(X315,Feuil1!$C$1:$BL$10,4,FALSE)","v":90},{"$f":"T315-HLOOKUP(X315,Feuil1!$C$1:$BL$10,5,FALSE)","v":75},{"$f":"T315-HLOOKUP(X315,Feuil1!$C$1:$BL$10,6,FALSE)","v":55},{"$f":"T315-HLOOKUP(X315,Feuil1!$C$1:$BL$10,7,FALSE)","v":35},{"$f":"T315-HLOOKUP(X315,Feuil1!$C$1:$BL$10,8,FALSE)","v":15},{"$f":"T315-HLOOKUP(X315,Feuil1!$C$1:$BL$10,9,FALSE)","v":-5},{"$f":"T315-HLOOKUP(X315,Feuil1!$C$1:$BL$10,10,FALSE)","v":-795},null,null,null,null,null,null,"INTB +"]
["H",null,null,null,null,null,null,2002,69,null,null,95,null,null,95,110,null,null,110,205,null,"INTB +",15,{"$f":"IF(I316=\"\",\"\",IF(A316=\"H\",IF(OR(H316=\"SEN\",H316<1997),VLOOKUP(I316,Feuil1!$A$11:$G$29,6),IF(AND(H316>1996,H316<2000),VLOOKUP(I316,Feuil1!$A$11:$G$29,5),IF(AND(H316>1999,H316<2002),VLOOKUP(I316,Feuil1!$A$11:$G$29,4),IF(AND(H316>2001,H316<2004),VLOOKUP(I316,Feuil1!$A$11:$G$29,3),VLOOKUP(I316,Feuil1!$A$11:$G$29,2))))),IF(OR(H316=\"SEN\",H316<1997),VLOOKUP(I316,Feuil1!$G$11:$L$25,6),IF(AND(H316>1996,H316<2000),VLOOKUP(I316,Feuil1!$G$11:$L$25,5),IF(AND(H316>1999,H316<2002),VLOOKUP(I316,Feuil1!$G$11:$L$25,4),IF(AND(H316>2001,H316<2004),VLOOKUP(I316,Feuil1!$G$11:$L$25,3),VLOOKUP(I316,Feuil1!$G$11:$L$25,2)))))))","v":"C1 69"},275.77820846990062,null," ",{"$f":"T316-HLOOKUP(X316,Feuil1!$C$1:$BL$10,2,FALSE)","v":120},{"$f":"T316-HLOOKUP(X316,Feuil1!$C$1:$BL$10,3,FALSE)","v":100},{"$f":"T316-HLOOKUP(X316,Feuil1!$C$1:$BL$10,4,FALSE)","v":90},{"$f":"T316-HLOOKUP(X316,Feuil1!$C$1:$BL$10,5,FALSE)","v":75},{"$f":"T316-HLOOKUP(X316,Feuil1!$C$1:$BL$10,6,FALSE)","v":55},{"$f":"T316-HLOOKUP(X316,Feuil1!$C$1:$BL$10,7,FALSE)","v":35},{"$f":"T316-HLOOKUP(X316,Feuil1!$C$1:$BL$10,8,FALSE)","v":15},{"$f":"T316-HLOOKUP(X316,Feuil1!$C$1:$BL$10,9,FALSE)","v":-5},{"$f":"T316-HLOOKUP(X316,Feuil1!$C$1:$BL$10,10,FALSE)","v":-795},null,null,null,null,null,null,"INTB +"]
["H",null,null,null,null,null,null,2002,69,null,null,95,null,null,95,110,null,null,110,205,null,"INTB +",15,{"$f":"IF(I317=\"\",\"\",IF(A317=\"H\",IF(OR(H317=\"SEN\",H317<1997),VLOOKUP(I317,Feuil1!$A$11:$G$29,6),IF(AND(H317>1996,H317<2000),VLOOKUP(I317,Feuil1!$A$11:$G$29,5),IF(AND(H317>1999,H317<2002),VLOOKUP(I317,Feuil1!$A$11:$G$29,4),IF(AND(H317>2001,H317<2004),VLOOKUP(I317,Feuil1!$A$11:$G$29,3),VLOOKUP(I317,Feuil1!$A$11:$G$29,2))))),IF(OR(H317=\"SEN\",H317<1997),VLOOKUP(I317,Feuil1!$G$11:$L$25,6),IF(AND(H317>1996,H317<2000),VLOOKUP(I317,Feuil1!$G$11:$L$25,5),IF(AND(H317>1999,H317<2002),VLOOKUP(I317,Feuil1!$G$11:$L$25,4),IF(AND(H317>2001,H317<2004),VLOOKUP(I317,Feuil1!$G$11:$L$25,3),VLOOKUP(I317,Feuil1!$G$11:$L$25,2)))))))","v":"C1 69"},275.77820846990062,null," ",{"$f":"T317-HLOOKUP(X317,Feuil1!$C$1:$BL$10,2,FALSE)","v":120},{"$f":"T317-HLOOKUP(X317,Feuil1!$C$1:$BL$10,3,FALSE)","v":100},{"$f":"T317-HLOOKUP(X317,Feuil1!$C$1:$BL$10,4,FALSE)","v":90},{"$f":"T317-HLOOKUP(X317,Feuil1!$C$1:$BL$10,5,FALSE)","v":75},{"$f":"T317-HLOOKUP(X317,Feuil1!$C$1:$BL$10,6,FALSE)","v":55},{"$f":"T317-HLOOKUP(X317,Feuil1!$C$1:$BL$10,7,FALSE)","v":35},{"$f":"T317-HLOOKUP(X317,Feuil1!$C$1:$BL$10,8,FALSE)","v":15},{"$f":"T317-HLOOKUP(X317,Feuil1!$C$1:$BL$10,9,FALSE)","v":-5},{"$f":"T317-HLOOKUP(X317,Feuil1!$C$1:$BL$10,10,FALSE)","v":-795},null,null,null,null,null,null,"INTB +"]
["H",null,null,null,null,null,null,2002,69,null,null,95,null,null,95,110,null,null,110,205,null,"INTB +",15,{"$f":"IF(I318=\"\",\"\",IF(A318=\"H\",IF(OR(H318=\"SEN\",H318<1997),VLOOKUP(I318,Feuil1!$A$11:$G$29,6),IF(AND(H318>1996,H318<2000),VLOOKUP(I318,Feuil1!$A$11:$G$29,5),IF(AND(H318>1999,H318<2002),VLOOKUP(I318,Feuil1!$A$11:$G$29,4),IF(AND(H318>2001,H318<2004),VLOOKUP(I318,Feuil1!$A$11:$G$29,3),VLOOKUP(I318,Feuil1!$A$11:$G$29,2))))),IF(OR(H318=\"SEN\",H318<1997),VLOOKUP(I318,Feuil1!$G$11:$L$25,6),IF(AND(H318>1996,H318<2000),VLOOKUP(I318,Feuil1!$G$11:$L$25,5),IF(AND(H318>1999,H318<2002),VLOOKUP(I318,Feuil1!$G$11:$L$25,4),IF(AND(H318>2001,H318<2004),VLOOKUP(I318,Feuil1!$G$11:$L$25,3),VLOOKUP(I318,Feuil1!$G$11:$L$25,2)))))))","v":"C1 69"},275.77820846990062,null," ",{"$f":"T318-HLOOKUP(X318,Feuil1!$C$1:$BL$10,2,FALSE)","v":120},{"$f":"T318-HLOOKUP(X318,Feuil1!$C$1:$BL$10,3,FALSE)","v":100},{"$f":"T318-HLOOKUP(X318,Feuil1!$C$1:$BL$10,4,FALSE)","v":90},{"$f":"T318-HLOOKUP(X318,Feuil1!$C$1:$BL$10,5,FALSE)","v":75},{"$f":"T318-HLOOKUP(X318,Feuil1!$C$1:$BL$10,6,FALSE)","v":55},{"$f":"T318-HLOOKUP(X318,Feuil1!$C$1:$BL$10,7,FALSE)","v":35},{"$f":"T318-HLOOKUP(X318,Feuil1!$C$1:$BL$10,8,FALSE)","v":15},{"$f":"T318-HLOOKUP(X318,Feuil1!$C$1:$BL$10,9,FALSE)","v":-5},{"$f":"T318-HLOOKUP(X318,Feuil1!$C$1:$BL$10,10,FALSE)","v":-795},null,null,null,null,null,null,"INTB +"]
["H",null,null,null,null,null,null,2003,63,null,null,70,null,null,70,85,null,null,85,155,null,"FED +",5,{"$f":"IF(I319=\"\",\"\",IF(A319=\"H\",IF(OR(H319=\"SEN\",H319<1997),VLOOKUP(I319,Feuil1!$A$11:$G$29,6),IF(AND(H319>1996,H319<2000),VLOOKUP(I319,Feuil1!$A$11:$G$29,5),IF(AND(H319>1999,H319<2002),VLOOKUP(I319,Feuil1!$A$11:$G$29,4),IF(AND(H319>2001,H319<2004),VLOOKUP(I319,Feuil1!$A$11:$G$29,3),VLOOKUP(I319,Feuil1!$A$11:$G$29,2))))),IF(OR(H319=\"SEN\",H319<1997),VLOOKUP(I319,Feuil1!$G$11:$L$25,6),IF(AND(H319>1996,H319<2000),VLOOKUP(I319,Feuil1!$G$11:$L$25,5),IF(AND(H319>1999,H319<2002),VLOOKUP(I319,Feuil1!$G$11:$L$25,4),IF(AND(H319>2001,H319<2004),VLOOKUP(I319,Feuil1!$G$11:$L$25,3),VLOOKUP(I319,Feuil1!$G$11:$L$25,2)))))))","v":"C1 69"},221.6425187262482,null," ",{"$f":"T319-HLOOKUP(X319,Feuil1!$C$1:$BL$10,2,FALSE)","v":70},{"$f":"T319-HLOOKUP(X319,Feuil1!$C$1:$BL$10,3,FALSE)","v":50},{"$f":"T319-HLOOKUP(X319,Feuil1!$C$1:$BL$10,4,FALSE)","v":40},{"$f":"T319-HLOOKUP(X319,Feuil1!$C$1:$BL$10,5,FALSE)","v":25},{"$f":"T319-HLOOKUP(X319,Feuil1!$C$1:$BL$10,6,FALSE)","v":5},{"$f":"T319-HLOOKUP(X319,Feuil1!$C$1:$BL$10,7,FALSE)","v":-15},{"$f":"T319-HLOOKUP(X319,Feuil1!$C$1:$BL$10,8,FALSE)","v":-35},{"$f":"T319-HLOOKUP(X319,Feuil1!$C$1:$BL$10,9,FALSE)","v":-55},{"$f":"T319-HLOOKUP(X319,Feuil1!$C$1:$BL$10,10,FALSE)","v":-845},null,null,null,null,null,null,"FED +"]
["H",null,null,null,null,null,null,1999,75,null,null,65,null,null,65,85,null,null,85,150,null,"DEP +",0,{"$f":"IF(I320=\"\",\"\",IF(A320=\"H\",IF(OR(H320=\"SEN\",H320<1997),VLOOKUP(I320,Feuil1!$A$11:$G$29,6),IF(AND(H320>1996,H320<2000),VLOOKUP(I320,Feuil1!$A$11:$G$29,5),IF(AND(H320>1999,H320<2002),VLOOKUP(I320,Feuil1!$A$11:$G$29,4),IF(AND(H320>2001,H320<2004),VLOOKUP(I320,Feuil1!$A$11:$G$29,3),VLOOKUP(I320,Feuil1!$A$11:$G$29,2))))),IF(OR(H320=\"SEN\",H320<1997),VLOOKUP(I320,Feuil1!$G$11:$L$25,6),IF(AND(H320>1996,H320<2000),VLOOKUP(I320,Feuil1!$G$11:$L$25,5),IF(AND(H320>1999,H320<2002),VLOOKUP(I320,Feuil1!$G$11:$L$25,4),IF(AND(H320>2001,H320<2004),VLOOKUP(I320,Feuil1!$G$11:$L$25,3),VLOOKUP(I320,Feuil1!$G$11:$L$25,2)))))))","v":"J77"},191.76638226242869,null," ",{"$f":"T320-HLOOKUP(X320,Feuil1!$C$1:$BL$10,2,FALSE)","v":20},{"$f":"T320-HLOOKUP(X320,Feuil1!$C$1:$BL$10,3,FALSE)","v":0},{"$f":"T320-HLOOKUP(X320,Feuil1!$C$1:$BL$10,4,FALSE)","v":-20},{"$f":"T320-HLOOKUP(X320,Feuil1!$C$1:$BL$10,5,FALSE)","v":-40},{"$f":"T320-HLOOKUP(X320,Feuil1!$C$1:$BL$10,6,FALSE)","v":-60},{"$f":"T320-HLOOKUP(X320,Feuil1!$C$1:$BL$10,7,FALSE)","v":-90},{"$f":"T320-HLOOKUP(X320,Feuil1!$C$1:$BL$10,8,FALSE)","v":-110},{"$f":"T320-HLOOKUP(X320,Feuil1!$C$1:$BL$10,9,FALSE)","v":-135},{"$f":"T320-HLOOKUP(X320,Feuil1!$C$1:$BL$10,10,FALSE)","v":-9850},null,null,null,null,null,null,"DEP +"]
["H",null,null,null,null,null,null,1998,69,null,null,60,null,null,60,75,null,null,75,135,null,"DEP +",5,{"$f":"IF(I321=\"\",\"\",IF(A321=\"H\",IF(OR(H321=\"SEN\",H321<1997),VLOOKUP(I321,Feuil1!$A$11:$G$29,6),IF(AND(H321>1996,H321<2000),VLOOKUP(I321,Feuil1!$A$11:$G$29,5),IF(AND(H321>1999,H321<2002),VLOOKUP(I321,Feuil1!$A$11:$G$29,4),IF(AND(H321>2001,H321<2004),VLOOKUP(I321,Feuil1!$A$11:$G$29,3),VLOOKUP(I321,Feuil1!$A$11:$G$29,2))))),IF(OR(H321=\"SEN\",H321<1997),VLOOKUP(I321,Feuil1!$G$11:$L$25,6),IF(AND(H321>1996,H321<2000),VLOOKUP(I321,Feuil1!$G$11:$L$25,5),IF(AND(H321>1999,H321<2002),VLOOKUP(I321,Feuil1!$G$11:$L$25,4),IF(AND(H321>2001,H321<2004),VLOOKUP(I321,Feuil1!$G$11:$L$25,3),VLOOKUP(I321,Feuil1!$G$11:$L$25,2)))))))","v":"J69"},181.61003972408091,null," ",{"$f":"T321-HLOOKUP(X321,Feuil1!$C$1:$BL$10,2,FALSE)","v":25},{"$f":"T321-HLOOKUP(X321,Feuil1!$C$1:$BL$10,3,FALSE)","v":5},{"$f":"T321-HLOOKUP(X321,Feuil1!$C$1:$BL$10,4,FALSE)","v":-15},{"$f":"T321-HLOOKUP(X321,Feuil1!$C$1:$BL$10,5,FALSE)","v":-35},{"$f":"T321-HLOOKUP(X321,Feuil1!$C$1:$BL$10,6,FALSE)","v":-55},{"$f":"T321-HLOOKUP(X321,Feuil1!$C$1:$BL$10,7,FALSE)","v":-85},{"$f":"T321-HLOOKUP(X321,Feuil1!$C$1:$BL$10,8,FALSE)","v":-105},{"$f":"T321-HLOOKUP(X321,Feuil1!$C$1:$BL$10,9,FALSE)","v":-115},{"$f":"T321-HLOOKUP(X321,Feuil1!$C$1:$BL$10,10,FALSE)","v":-865},null,null,null,null,null,null,"DEP +"]
["H",null,null,null,null,null,null,1996,69,null," ",100,null,null,100,121,null,null,121,221,null,"FED +",1,{"$f":"IF(I322=\"\",\"\",IF(A322=\"H\",IF(OR(H322=\"SEN\",H322<1997),VLOOKUP(I322,Feuil1!$A$11:$G$29,6),IF(AND(H322>1996,H322<2000),VLOOKUP(I322,Feuil1!$A$11:$G$29,5),IF(AND(H322>1999,H322<2002),VLOOKUP(I322,Feuil1!$A$11:$G$29,4),IF(AND(H322>2001,H322<2004),VLOOKUP(I322,Feuil1!$A$11:$G$29,3),VLOOKUP(I322,Feuil1!$A$11:$G$29,2))))),IF(OR(H322=\"SEN\",H322<1997),VLOOKUP(I322,Feuil1!$G$11:$L$25,6),IF(AND(H322>1996,H322<2000),VLOOKUP(I322,Feuil1!$G$11:$L$25,5),IF(AND(H322>1999,H322<2002),VLOOKUP(I322,Feuil1!$G$11:$L$25,4),IF(AND(H322>2001,H322<2004),VLOOKUP(I322,Feuil1!$G$11:$L$25,3),VLOOKUP(I322,Feuil1!$G$11:$L$25,2)))))))","v":"S69"},297.30236132608803,null," ",{"$f":"T322-HLOOKUP(X322,Feuil1!$C$1:$BL$10,2,FALSE)","v":91},{"$f":"T322-HLOOKUP(X322,Feuil1!$C$1:$BL$10,3,FALSE)","v":71},{"$f":"T322-HLOOKUP(X322,Feuil1!$C$1:$BL$10,4,FALSE)","v":51},{"$f":"T322-HLOOKUP(X322,Feuil1!$C$1:$BL$10,5,FALSE)","v":31},{"$f":"T322-HLOOKUP(X322,Feuil1!$C$1:$BL$10,6,FALSE)","v":1},{"$f":"T322-HLOOKUP(X322,Feuil1!$C$1:$BL$10,7,FALSE)","v":-19},{"$f":"T322-HLOOKUP(X322,Feuil1!$C$1:$BL$10,8,FALSE)","v":-39},{"$f":"T322-HLOOKUP(X322,Feuil1!$C$1:$BL$10,9,FALSE)","v":-54},{"$f":"T322-HLOOKUP(X322,Feuil1!$C$1:$BL$10,10,FALSE)","v":-69},null,null,null,null,null,null,"FED +"]
["H",null,null,null,null,null,null,1996,53,null,null,40,null,null,40,50,null,null,50,90,null,"DEB ",-5,{"$f":"IF(I323=\"\",\"\",IF(A323=\"H\",IF(OR(H323=\"SEN\",H323<1997),VLOOKUP(I323,Feuil1!$A$11:$G$29,6),IF(AND(H323>1996,H323<2000),VLOOKUP(I323,Feuil1!$A$11:$G$29,5),IF(AND(H323>1999,H323<2002),VLOOKUP(I323,Feuil1!$A$11:$G$29,4),IF(AND(H323>2001,H323<2004),VLOOKUP(I323,Feuil1!$A$11:$G$29,3),VLOOKUP(I323,Feuil1!$A$11:$G$29,2))))),IF(OR(H323=\"SEN\",H323<1997),VLOOKUP(I323,Feuil1!$G$11:$L$25,6),IF(AND(H323>1996,H323<2000),VLOOKUP(I323,Feuil1!$G$11:$L$25,5),IF(AND(H323>1999,H323<2002),VLOOKUP(I323,Feuil1!$G$11:$L$25,4),IF(AND(H323>2001,H323<2004),VLOOKUP(I323,Feuil1!$G$11:$L$25,3),VLOOKUP(I323,Feuil1!$G$11:$L$25,2)))))))","v":"S56"},146.81610775354818,null," ",{"$f":"T323-HLOOKUP(X323,Feuil1!$C$1:$BL$10,2,FALSE)","v":-5},{"$f":"T323-HLOOKUP(X323,Feuil1!$C$1:$BL$10,3,FALSE)","v":-25},{"$f":"T323-HLOOKUP(X323,Feuil1!$C$1:$BL$10,4,FALSE)","v":-40},{"$f":"T323-HLOOKUP(X323,Feuil1!$C$1:$BL$10,5,FALSE)","v":-55},{"$f":"T323-HLOOKUP(X323,Feuil1!$C$1:$BL$10,6,FALSE)","v":-80},{"$f":"T323-HLOOKUP(X323,Feuil1!$C$1:$BL$10,7,FALSE)","v":-100},{"$f":"T323-HLOOKUP(X323,Feuil1!$C$1:$BL$10,8,FALSE)","v":-120},{"$f":"T323-HLOOKUP(X323,Feuil1!$C$1:$BL$10,9,FALSE)","v":-135},{"$f":"T323-HLOOKUP(X323,Feuil1!$C$1:$BL$10,10,FALSE)","v":-150},null,null,null,null,null,null,"DEB "]
["H",null,null,null,null,null,null,1995,69,null,null,100,null,null,100,120,null,null,120,220,null,"FED +",0,{"$f":"IF(I324=\"\",\"\",IF(A324=\"H\",IF(OR(H324=\"SEN\",H324<1997),VLOOKUP(I324,Feuil1!$A$11:$G$29,6),IF(AND(H324>1996,H324<2000),VLOOKUP(I324,Feuil1!$A$11:$G$29,5),IF(AND(H324>1999,H324<2002),VLOOKUP(I324,Feuil1!$A$11:$G$29,4),IF(AND(H324>2001,H324<2004),VLOOKUP(I324,Feuil1!$A$11:$G$29,3),VLOOKUP(I324,Feuil1!$A$11:$G$29,2))))),IF(OR(H324=\"SEN\",H324<1997),VLOOKUP(I324,Feuil1!$G$11:$L$25,6),IF(AND(H324>1996,H324<2000),VLOOKUP(I324,Feuil1!$G$11:$L$25,5),IF(AND(H324>1999,H324<2002),VLOOKUP(I324,Feuil1!$G$11:$L$25,4),IF(AND(H324>2001,H324<2004),VLOOKUP(I324,Feuil1!$G$11:$L$25,3),VLOOKUP(I324,Feuil1!$G$11:$L$25,2)))))))","v":"S69"},295.95710177257632,null," ",{"$f":"T324-HLOOKUP(X324,Feuil1!$C$1:$BL$10,2,FALSE)","v":90},{"$f":"T324-HLOOKUP(X324,Feuil1!$C$1:$BL$10,3,FALSE)","v":70},{"$f":"T324-HLOOKUP(X324,Feuil1!$C$1:$BL$10,4,FALSE)","v":50},{"$f":"T324-HLOOKUP(X324,Feuil1!$C$1:$BL$10,5,FALSE)","v":30},{"$f":"T324-HLOOKUP(X324,Feuil1!$C$1:$BL$10,6,FALSE)","v":0},{"$f":"T324-HLOOKUP(X324,Feuil1!$C$1:$BL$10,7,FALSE)","v":-20},{"$f":"T324-HLOOKUP(X324,Feuil1!$C$1:$BL$10,8,FALSE)","v":-40},{"$f":"T324-HLOOKUP(X324,Feuil1!$C$1:$BL$10,9,FALSE)","v":-55},{"$f":"T324-HLOOKUP(X324,Feuil1!$C$1:$BL$10,10,FALSE)","v":-70},null,null,null,null,null,null,"FED +"]
["H",null,null,null,null,null,null,1994,69,null,null,65,null,null,65,85,null,null,85,150,null,"DEP +",0,{"$f":"IF(I325=\"\",\"\",IF(A325=\"H\",IF(OR(H325=\"SEN\",H325<1997),VLOOKUP(I325,Feuil1!$A$11:$G$29,6),IF(AND(H325>1996,H325<2000),VLOOKUP(I325,Feuil1!$A$11:$G$29,5),IF(AND(H325>1999,H325<2002),VLOOKUP(I325,Feuil1!$A$11:$G$29,4),IF(AND(H325>2001,H325<2004),VLOOKUP(I325,Feuil1!$A$11:$G$29,3),VLOOKUP(I325,Feuil1!$A$11:$G$29,2))))),IF(OR(H325=\"SEN\",H325<1997),VLOOKUP(I325,Feuil1!$G$11:$L$25,6),IF(AND(H325>1996,H325<2000),VLOOKUP(I325,Feuil1!$G$11:$L$25,5),IF(AND(H325>1999,H325<2002),VLOOKUP(I325,Feuil1!$G$11:$L$25,4),IF(AND(H325>2001,H325<2004),VLOOKUP(I325,Feuil1!$G$11:$L$25,3),VLOOKUP(I325,Feuil1!$G$11:$L$25,2)))))))","v":"S69"},201.78893302675658,null," ",{"$f":"T325-HLOOKUP(X325,Feuil1!$C$1:$BL$10,2,FALSE)","v":20},{"$f":"T325-HLOOKUP(X325,Feuil1!$C$1:$BL$10,3,FALSE)","v":0},{"$f":"T325-HLOOKUP(X325,Feuil1!$C$1:$BL$10,4,FALSE)","v":-20},{"$f":"T325-HLOOKUP(X325,Feuil1!$C$1:$BL$10,5,FALSE)","v":-40},{"$f":"T325-HLOOKUP(X325,Feuil1!$C$1:$BL$10,6,FALSE)","v":-70},{"$f":"T325-HLOOKUP(X325,Feuil1!$C$1:$BL$10,7,FALSE)","v":-90},{"$f":"T325-HLOOKUP(X325,Feuil1!$C$1:$BL$10,8,FALSE)","v":-110},{"$f":"T325-HLOOKUP(X325,Feuil1!$C$1:$BL$10,9,FALSE)","v":-125},{"$f":"T325-HLOOKUP(X325,Feuil1!$C$1:$BL$10,10,FALSE)","v":-140},null,null,null,null,null,null,"DEP +"]
["H",null,null,null,null,null,null,2000,44.1,null,null,60,null,null,60,75,null,null,75,135,null,"INTB +",0,{"$f":"IF(I326=\"\",\"\",IF(A326=\"H\",IF(OR(H326=\"SEN\",H326<1997),VLOOKUP(I326,Feuil1!$A$11:$G$29,6),IF(AND(H326>1996,H326<2000),VLOOKUP(I326,Feuil1!$A$11:$G$29,5),IF(AND(H326>1999,H326<2002),VLOOKUP(I326,Feuil1!$A$11:$G$29,4),IF(AND(H326>2001,H326<2004),VLOOKUP(I326,Feuil1!$A$11:$G$29,3),VLOOKUP(I326,Feuil1!$A$11:$G$29,2))))),IF(OR(H326=\"SEN\",H326<1997),VLOOKUP(I326,Feuil1!$G$11:$L$25,6),IF(AND(H326>1996,H326<2000),VLOOKUP(I326,Feuil1!$G$11:$L$25,5),IF(AND(H326>1999,H326<2002),VLOOKUP(I326,Feuil1!$G$11:$L$25,4),IF(AND(H326>2001,H326<2004),VLOOKUP(I326,Feuil1!$G$11:$L$25,3),VLOOKUP(I326,Feuil1!$G$11:$L$25,2)))))))","v":"C2 50"},259.14090013070154,null," ",{"$f":"T326-HLOOKUP(X326,Feuil1!$C$1:$BL$10,2,FALSE)","v":90},{"$f":"T326-HLOOKUP(X326,Feuil1!$C$1:$BL$10,3,FALSE)","v":70},{"$f":"T326-HLOOKUP(X326,Feuil1!$C$1:$BL$10,4,FALSE)","v":55},{"$f":"T326-HLOOKUP(X326,Feuil1!$C$1:$BL$10,5,FALSE)","v":40},{"$f":"T326-HLOOKUP(X326,Feuil1!$C$1:$BL$10,6,FALSE)","v":25},{"$f":"T326-HLOOKUP(X326,Feuil1!$C$1:$BL$10,7,FALSE)","v":15},{"$f":"T326-HLOOKUP(X326,Feuil1!$C$1:$BL$10,8,FALSE)","v":0},{"$f":"T326-HLOOKUP(X326,Feuil1!$C$1:$BL$10,9,FALSE)","v":-15},{"$f":"T326-HLOOKUP(X326,Feuil1!$C$1:$BL$10,10,FALSE)","v":-865},null,null,null,null,null,null,"INTB +"]
["H",null,null,null,null,null,null,2001,69,null," ",90,null,null,90,115,null,null,115,205,null,"NAT +",15,{"$f":"IF(I327=\"\",\"\",IF(A327=\"H\",IF(OR(H327=\"SEN\",H327<1997),VLOOKUP(I327,Feuil1!$A$11:$G$29,6),IF(AND(H327>1996,H327<2000),VLOOKUP(I327,Feuil1!$A$11:$G$29,5),IF(AND(H327>1999,H327<2002),VLOOKUP(I327,Feuil1!$A$11:$G$29,4),IF(AND(H327>2001,H327<2004),VLOOKUP(I327,Feuil1!$A$11:$G$29,3),VLOOKUP(I327,Feuil1!$A$11:$G$29,2))))),IF(OR(H327=\"SEN\",H327<1997),VLOOKUP(I327,Feuil1!$G$11:$L$25,6),IF(AND(H327>1996,H327<2000),VLOOKUP(I327,Feuil1!$G$11:$L$25,5),IF(AND(H327>1999,H327<2002),VLOOKUP(I327,Feuil1!$G$11:$L$25,4),IF(AND(H327>2001,H327<2004),VLOOKUP(I327,Feuil1!$G$11:$L$25,3),VLOOKUP(I327,Feuil1!$G$11:$L$25,2)))))))","v":"C2 69"},275.77820846990062,null," ",{"$f":"T327-HLOOKUP(X327,Feuil1!$C$1:$BL$10,2,FALSE)","v":110},{"$f":"T327-HLOOKUP(X327,Feuil1!$C$1:$BL$10,3,FALSE)","v":90},{"$f":"T327-HLOOKUP(X327,Feuil1!$C$1:$BL$10,4,FALSE)","v":75},{"$f":"T327-HLOOKUP(X327,Feuil1!$C$1:$BL$10,5,FALSE)","v":55},{"$f":"T327-HLOOKUP(X327,Feuil1!$C$1:$BL$10,6,FALSE)","v":35},{"$f":"T327-HLOOKUP(X327,Feuil1!$C$1:$BL$10,7,FALSE)","v":15},{"$f":"T327-HLOOKUP(X327,Feuil1!$C$1:$BL$10,8,FALSE)","v":-5},{"$f":"T327-HLOOKUP(X327,Feuil1!$C$1:$BL$10,9,FALSE)","v":-25},{"$f":"T327-HLOOKUP(X327,Feuil1!$C$1:$BL$10,10,FALSE)","v":-795},null,null,null,null,null,null,"NAT +"]
["H",null,null,null,null,null,null,1998,69,null,null,65,null,null,65,85,null,null,85,150,null,"REG +",0,{"$f":"IF(I328=\"\",\"\",IF(A328=\"H\",IF(OR(H328=\"SEN\",H328<1997),VLOOKUP(I328,Feuil1!$A$11:$G$29,6),IF(AND(H328>1996,H328<2000),VLOOKUP(I328,Feuil1!$A$11:$G$29,5),IF(AND(H328>1999,H328<2002),VLOOKUP(I328,Feuil1!$A$11:$G$29,4),IF(AND(H328>2001,H328<2004),VLOOKUP(I328,Feuil1!$A$11:$G$29,3),VLOOKUP(I328,Feuil1!$A$11:$G$29,2))))),IF(OR(H328=\"SEN\",H328<1997),VLOOKUP(I328,Feuil1!$G$11:$L$25,6),IF(AND(H328>1996,H328<2000),VLOOKUP(I328,Feuil1!$G$11:$L$25,5),IF(AND(H328>1999,H328<2002),VLOOKUP(I328,Feuil1!$G$11:$L$25,4),IF(AND(H328>2001,H328<2004),VLOOKUP(I328,Feuil1!$G$11:$L$25,3),VLOOKUP(I328,Feuil1!$G$11:$L$25,2)))))))","v":"J69"},201.78893302675658,null," ",{"$f":"T328-HLOOKUP(X328,Feuil1!$C$1:$BL$10,2,FALSE)","v":40},{"$f":"T328-HLOOKUP(X328,Feuil1!$C$1:$BL$10,3,FALSE)","v":20},{"$f":"T328-HLOOKUP(X328,Feuil1!$C$1:$BL$10,4,FALSE)","v":0},{"$f":"T328-HLOOKUP(X328,Feuil1!$C$1:$BL$10,5,FALSE)","v":-20},{"$f":"T328-HLOOKUP(X328,Feuil1!$C$1:$BL$10,6,FALSE)","v":-40},{"$f":"T328-HLOOKUP(X328,Feuil1!$C$1:$BL$10,7,FALSE)","v":-70},{"$f":"T328-HLOOKUP(X328,Feuil1!$C$1:$BL$10,8,FALSE)","v":-90},{"$f":"T328-HLOOKUP(X328,Feuil1!$C$1:$BL$10,9,FALSE)","v":-100},{"$f":"T328-HLOOKUP(X328,Feuil1!$C$1:$BL$10,10,FALSE)","v":-850},null,null,null,null,null,null,"REG +"]
["H",null,null,null,null,null,null,1999,58,null,null,50,null,null,50,70,null,null,70,120,null,{"$f":"IF(H329=\"\",\"\",AQ329)","v":"DEP +"},{"$f":"IF(AJ329>=0,AJ329,IF(AI329>=0,AI329,IF(AH329>=0,AH329,IF(AG329>=0,AG329,IF(AF329>=0,AF329,IF(AE329>=0,AE329,IF(AD329>=0,AD329,IF(AC329>=0,AC329,AB329))))))))","v":0},{"$f":"IF(I329=\"\",\"\",IF(A329=\"H\",IF(OR(H329=\"SEN\",H329<1997),VLOOKUP(I329,Feuil1!$A$11:$G$29,6),IF(AND(H329>1996,H329<2000),VLOOKUP(I329,Feuil1!$A$11:$G$29,5),IF(AND(H329>1999,H329<2002),VLOOKUP(I329,Feuil1!$A$11:$G$29,4),IF(AND(H329>2001,H329<2004),VLOOKUP(I329,Feuil1!$A$11:$G$29,3),VLOOKUP(I329,Feuil1!$A$11:$G$29,2))))),IF(OR(H329=\"SEN\",H329<1997),VLOOKUP(I329,Feuil1!$G$11:$L$25,6),IF(AND(H329>1996,H329<2000),VLOOKUP(I329,Feuil1!$G$11:$L$25,5),IF(AND(H329>1999,H329<2002),VLOOKUP(I329,Feuil1!$G$11:$L$25,4),IF(AND(H329>2001,H329<2004),VLOOKUP(I329,Feuil1!$G$11:$L$25,3),VLOOKUP(I329,Feuil1!$G$11:$L$25,2)))))))","v":"J62"},{"$f":"IF(I329=\"\",\"\",IF(A329=\"H\",10^(0.794358141*LOG(I329/174.393)^2)*T329,IF(A329=\"F\",10^(0.89726074*LOG(I329/148.026)^2)*T329,\"\")))","v":182.28717796617519},null," ",{"$f":"T329-HLOOKUP(X329,Feuil1!$C$1:$BL$10,2,FALSE)","v":30},{"$f":"T329-HLOOKUP(X329,Feuil1!$C$1:$BL$10,3,FALSE)","v":0},{"$f":"T329-HLOOKUP(X329,Feuil1!$C$1:$BL$10,4,FALSE)","v":-15},{"$f":"T329-HLOOKUP(X329,Feuil1!$C$1:$BL$10,5,FALSE)","v":-30},{"$f":"T329-HLOOKUP(X329,Feuil1!$C$1:$BL$10,6,FALSE)","v":-50},{"$f":"T329-HLOOKUP(X329,Feuil1!$C$1:$BL$10,7,FALSE)","v":-70},{"$f":"T329-HLOOKUP(X329,Feuil1!$C$1:$BL$10,8,FALSE)","v":-90},{"$f":"T329-HLOOKUP(X329,Feuil1!$C$1:$BL$10,9,FALSE)","v":-110},{"$f":"T329-HLOOKUP(X329,Feuil1!$C$1:$BL$10,10,FALSE)","v":-880},null,null,null,null,null,null,{"$f":"IF(AJ329>=0,$AJ$4,IF(AI329>=0,$AI$4,IF(AH329>=0,$AH$4,IF(AG329>=0,$AG$4,IF(AF329>=0,$AF$4,IF(AE329>=0,$AE$4,IF(AD329>=0,$AD$4,IF(AC329>=0,$AC$4,$AB$4))))))))","v":"DEP +"}]
["H",null,null,null,null,null,null,2000,53,null,null,50,null,null,50,55,null,null,55,105,null,{"$f":"IF(H330=\"\",\"\",AQ330)","v":"REG +"},{"$f":"IF(AJ330>=0,AJ330,IF(AI330>=0,AI330,IF(AH330>=0,AH330,IF(AG330>=0,AG330,IF(AF330>=0,AF330,IF(AE330>=0,AE330,IF(AD330>=0,AD330,IF(AC330>=0,AC330,AB330))))))))","v":5},{"$f":"IF(I330=\"\",\"\",IF(A330=\"H\",IF(OR(H330=\"SEN\",H330<1997),VLOOKUP(I330,Feuil1!$A$11:$G$29,6),IF(AND(H330>1996,H330<2000),VLOOKUP(I330,Feuil1!$A$11:$G$29,5),IF(AND(H330>1999,H330<2002),VLOOKUP(I330,Feuil1!$A$11:$G$29,4),IF(AND(H330>2001,H330<2004),VLOOKUP(I330,Feuil1!$A$11:$G$29,3),VLOOKUP(I330,Feuil1!$A$11:$G$29,2))))),IF(OR(H330=\"SEN\",H330<1997),VLOOKUP(I330,Feuil1!$G$11:$L$25,6),IF(AND(H330>1996,H330<2000),VLOOKUP(I330,Feuil1!$G$11:$L$25,5),IF(AND(H330>1999,H330<2002),VLOOKUP(I330,Feuil1!$G$11:$L$25,4),IF(AND(H330>2001,H330<2004),VLOOKUP(I330,Feuil1!$G$11:$L$25,3),VLOOKUP(I330,Feuil1!$G$11:$L$25,2)))))))","v":"C2 56"},{"$f":"IF(I330=\"\",\"\",IF(A330=\"H\",10^(0.794358141*LOG(I330/174.393)^2)*T330,IF(A330=\"F\",10^(0.89726074*LOG(I330/148.026)^2)*T330,\"\")))","v":171.28545904580619},null," ",{"$f":"T330-HLOOKUP(X330,Feuil1!$C$1:$BL$10,2,FALSE)","v":40},{"$f":"T330-HLOOKUP(X330,Feuil1!$C$1:$BL$10,3,FALSE)","v":20},{"$f":"T330-HLOOKUP(X330,Feuil1!$C$1:$BL$10,4,FALSE)","v":5},{"$f":"T330-HLOOKUP(X330,Feuil1!$C$1:$BL$10,5,FALSE)","v":-10},{"$f":"T330-HLOOKUP(X330,Feuil1!$C$1:$BL$10,6,FALSE)","v":-25},{"$f":"T330-HLOOKUP(X330,Feuil1!$C$1:$BL$10,7,FALSE)","v":-40},{"$f":"T330-HLOOKUP(X330,Feuil1!$C$1:$BL$10,8,FALSE)","v":-65},{"$f":"T330-HLOOKUP(X330,Feuil1!$C$1:$BL$10,9,FALSE)","v":-85},{"$f":"T330-HLOOKUP(X330,Feuil1!$C$1:$BL$10,10,FALSE)","v":-895},null,null,null,null,null,null,{"$f":"IF(AJ330>=0,$AJ$4,IF(AI330>=0,$AI$4,IF(AH330>=0,$AH$4,IF(AG330>=0,$AG$4,IF(AF330>=0,$AF$4,IF(AE330>=0,$AE$4,IF(AD330>=0,$AD$4,IF(AC330>=0,$AC$4,$AB$4))))))))","v":"REG +"}]
[null,null,null,null,null,null,null,null,null,null,null,null," "," ",null,null,null,null,null,null,null,null,null,null,null,null," ",{"$f":"T331-HLOOKUP(X331,Feuil1!$C$1:$BL$10,2,FALSE)","v":{"$error":"#N/A"}},{"$f":"T331-HLOOKUP(X331,Feuil1!$C$1:$BL$10,3,FALSE)","v":{"$error":"#N/A"}},{"$f":"T331-HLOOKUP(X331,Feuil1!$C$1:$BL$10,4,FALSE)","v":{"$error":"#N/A"}},{"$f":"T331-HLOOKUP(X331,Feuil1!$C$1:$BL$10,5,FALSE)","v":{"$error":"#N/A"}},{"$f":"T331-HLOOKUP(X331,Feuil1!$C$1:$BL$10,6,FALSE)","v":{"$error":"#N/A"}},{"$f":"T331-HLOOKUP(X331,Feuil1!$C$1:$BL$10,7,FALSE)","v":{"$error":"#N/A"}},{"$f":"T331-HLOOKUP(X331,Feuil1!$C$1:$BL$10,8,FALSE)","v":{"$error":"#N/A"}},{"$f":"T331-HLOOKUP(X331,Feuil1!$C$1:$BL$10,9,FALSE)","v":{"$error":"#N/A"}},{"$f":"T331-HLOOKUP(X331,Feuil1!$C$1:$BL$10,10,FALSE)","v":{"$error":"#N/A"}},null,null,null,null,null,null,{"$error":"#N/A"}]
[null,"Secrétaire :",null,null,null," ",null," ",null,1," ",null,null,null,null,null,null,null,null,null,null,null,null,null,null,null," ",{"$f":"T332-HLOOKUP(X332,Feuil1!$C$1:$BL$10,2,FALSE)","v":{"$error":"#N/A"}},{"$f":"T332-HLOOKUP(X332,Feuil1!$C$1:$BL$10,3,FALSE)","v":{"$error":"#N/A"}},{"$f":"T332-HLOOKUP(X332,Feuil1!$C$1:$BL$10,4,FALSE)","v":{"$error":"#N/A"}},{"$f":"T332-HLOOKUP(X332,Feuil1!$C$1:$BL$10,5,FALSE)","v":{"$error":"#N/A"}},{"$f":"T332-HLOOKUP(X332,Feuil1!$C$1:$BL$10,6,FALSE)","v":{"$error":"#N/A"}},{"$f":"T332-HLOOKUP(X332,Feuil1!$C$1:$BL$10,7,FALSE)","v":{"$error":"#N/A"}},{"$f":"T332-HLOOKUP(X332,Feuil1!$C$1:$BL$10,8,FALSE)","v":{"$error":"#N/A"}},{"$f":"T332-HLOOKUP(X332,Feuil1!$C$1:$BL$10,9,FALSE)","v":{"$error":"#N/A"}},{"$f":"T332-HLOOKUP(X332,Feuil1!$C$1:$BL$10,10,FALSE)","v":{"$error":"#N/A"}},null,null,null,null,null,null,{"$error":"#N/A"}]
[null,null,null,null,null,null,null," ","ARBITRES :                        2",null," ",null,null,null,null,null,null,"Signatures :",null,null,null,null,null,null,null,null," ",{"$f":"T333-HLOOKUP(X333,Feuil1!$C$1:$BL$10,2,FALSE)","v":{"$error":"#N/A"}},{"$f":"T333-HLOOKUP(X333,Feuil1!$C$1:$BL$10,3,FALSE)","v":{"$error":"#N/A"}},{"$f":"T333-HLOOKUP(X333,Feuil1!$C$1:$BL$10,4,FALSE)","v":{"$error":"#N/A"}},{"$f":"T333-HLOOKUP(X333,Feuil1!$C$1:$BL$10,5,FALSE)","v":{"$error":"#N/A"}},{"$f":"T333-HLOOKUP(X333,Feuil1!$C$1:$BL$10,6,FALSE)","v":{"$error":"#N/A"}},{"$f":"T333-HLOOKUP(X333,Feuil1!$C$1:$BL$10,7,FALSE)","v":{"$error":"#N/A"}},{"$f":"T333-HLOOKUP(X333,Feuil1!$C$1:$BL$10,8,FALSE)","v":{"$error":"#N/A"}},{"$f":"T333-HLOOKUP(X333,Feuil1!$C$1:$BL$10,9,FALSE)","v":{"$error":"#N/A"}},{"$f":"T333-HLOOKUP(X333,Feuil1!$C$1:$BL$10,10,FALSE)","v":{"$error":"#N/A"}},null,null,null,null,null,null,{"$error":"#N/A"}]
[null,"Contrôleur Technique 1 :",null,null,null," ",null," ",null,3," ",null,null,null,null,null,null,null,null,null,null,null,null,null,null,null," ",{"$f":"T334-HLOOKUP(X334,Feuil1!$C$1:$BL$10,2,FALSE)","v":{"$error":"#N/A"}},{"$f":"T334-HLOOKUP(X334,Feuil1!$C$1:$BL$10,3,FALSE)","v":{"$error":"#N/A"}},{"$f":"T334-HLOOKUP(X334,Feuil1!$C$1:$BL$10,4,FALSE)","v":{"$error":"#N/A"}},{"$f":"T334-HLOOKUP(X334,Feuil1!$C$1:$BL$10,5,FALSE)","v":{"$error":"#N/A"}},{"$f":"T334-HLOOKUP(X334,Feuil1!$C$1:$BL$10,6,FALSE)","v":{"$error":"#N/A"}},{"$f":"T334-HLOOKUP(X334,Feuil1!$C$1:$BL$10,7,FALSE)","v":{"$error":"#N/A"}},{"$f":"T334-HLOOKUP(X334,Feuil1!$C$1:$BL$10,8,FALSE)","v":{"$error":"#N/A"}},{"$f":"T334-HLOOKUP(X334,Feuil1!$C$1:$BL$10,9,FALSE)","v":{"$error":"#N/A"}},{"$f":"T334-HLOOKUP(X334,Feuil1!$C$1:$BL$10,10,FALSE)","v":{"$error":"#N/A"}},null,null,null,null,null,null,{"$error":"#N/A"}]
[null,"Contrôleur Technique 2 :",null,null,null,null,null," ",null,null,null,null,null,null,null,null,null,null,null,null,null,null,null,null,null,null," ",{"$f":"T335-HLOOKUP(X335,Feuil1!$C$1:$BL$10,2,FALSE)","v":{"$error":"#N/A"}},{"$f":"T335-HLOOKUP(X335,Feuil1!$C$1:$BL$10,3,FALSE)","v":{"$error":"#N/A"}},{"$f":"T335-HLOOKUP(X335,Feuil1!$C$1:$BL$10,4,FALSE)","v":{"$error":"#N/A"}},{"$f":"T335-HLOOKUP(X335,Feuil1!$C$1:$BL$10,5,FALSE)","v":{"$error":"#N/A"}},{"$f":"T335-HLOOKUP(X335,Feuil1!$C$1:$BL$10,6,FALSE)","v":{"$error":"#N/A"}},{"$f":"T335-HLOOKUP(X335,Feuil1!$C$1:$BL$10,7,FALSE)","v":{"$error":"#N/A"}},{"$f":"T335-HLOOKUP(X335,Feuil1!$C$1:$BL$10,8,FALSE)","v":{"$error":"#N/A"}},{"$f":"T335-HLOOKUP(X335,Feuil1!$C$1:$BL$10,9,FALSE)","v":{"$error":"#N/A"}},{"$f":"T335-HLOOKUP(X335,Feuil1!$C$1:$BL$10,10,FALSE)","v":{"$error":"#N/A"}},null,null,null,null,null,null,{"$error":"#N/A"}]
[null,"Chronométreur :",null,null,null," ",null," ",null,"JURY :"," ",null,null,null,null," ",null,null,null,null,null," ",null,null,null,null," ",{"$f":"T336-HLOOKUP(X336,Feuil1!$C$1:$BL$10,2,FALSE)","v":{"$error":"#N/A"}},{"$f":"T336-HLOOKUP(X336,Feuil1!$C$1:$BL$10,3,FALSE)","v":{"$error":"#N/A"}},{"$f":"T336-HLOOKUP(X336,Feuil1!$C$1:$BL$10,4,FALSE)","v":{"$error":"#N/A"}},{"$f":"T336-HLOOKUP(X336,Feuil1!$C$1:$BL$10,5,FALSE)","v":{"$error":"#N/A"}},{"$f":"T336-HLOOKUP(X336,Feuil1!$C$1:$BL$10,6,FALSE)","v":{"$error":"#N/A"}},{"$f":"T336-HLOOKUP(X336,Feuil1!$C$1:$BL$10,7,FALSE)","v":{"$error":"#N/A"}},{"$f":"T336-HLOOKUP(X336,Feuil1!$C$1:$BL$10,8,FALSE)","v":{"$error":"#N/A"}},{"$f":"T336-HLOOKUP(X336,Feuil1!$C$1:$BL$10,9,FALSE)","v":{"$error":"#N/A"}},{"$f":"T336-HLOOKUP(X336,Feuil1!$C$1:$BL$10,10,FALSE)","v":{"$error":"#N/A"}},null,null,null,null,null,null,{"$error":"#N/A"}]
[null,null,null,null,null,null,null," "]
[null,null,null,null,null,null,null," "]
[null,null,null,null,null,null,null," "]
[null,null,null,null,null,null,null," "]
[null,null,null,null,null,null,null," "]
[null,null,null,null,null,null,null," "]
[null,null,null,null,null,null,null," "]
[null,null,null,null,null,null,null," "]
[null,null,null,null,null,null,null," "]
[null,null,null,null,null,null,null," "]
[null,null,null,null,null,null,null," "]
[null,null,null,null,null,null,null," "]
[null,null,null,null,null,null,null," "]
[null,null,null,null,null,null,null," "]
[null,null,null,null,null,null,null," "]
[null,null,null,null,null,null,null," "]
[null,null,null,null,null,null,null," "]
[null,null,null,null,null,null,null," "]
[null,null,null,null,null,null,null," "]
[null,null,null,null,null,null,null," "]
[null,null,null,null,null,null,null," "]
[null,null,null,null,null,null,null," "]
[null,null,null,null,null,null,null," "]
[null,null,null,null,null,null,null," "]
[null,null,null,null,null,null,null," "]
[null,null,null,null,null,null,null," "]
[null,null,null,null,null,null,null," "]
[null,null,null,null,null,null,null," "]
[null,null,null,null,null,null,null," "]
[null,null,null,null,null,null,null," "]
[null,null,null,null,null,null,null," "]
[null,null,null,null,null,null,null," "]
[null,null,null,null,null,null,null," "]
[null,null,null,null,null,null,null," "]
[null,null,null,null,null,null,null," "]
[null,null,null,null,null,null,null," "]
[null,null,null,null,null,null,null," "]
[null,null,null,null,null,null,null," "]
[null,null,null,null,null,null,null," "]
[null,null,null,null,null,null,null," "]
[null,null,null,null,null,null,null," "]
[null,null,null,null,null,null,null," "]
[null,null,null,null,null,null,null," "]
[null,null,null,null,null,null,null," "]
[null,null,null,null,null,null,null," "]
[null,null,null,null,null,null,null," "]
[null,null,null,null,null,null,null," "]
[null,null,null,null,null,null,null," "]
[null,null,null,null,null,null,null," "]
[null,null,null,null,null,null,null," "]
[null,null,null,null,null,null,null," "]
[null,null,null,null,null,null,null," "]
[null,null,null,null,null,null,null," "]
[null,null,null,null,null,null,null," "]
[null,null,null,null,null,null,null," "]
[null,null,null,null,null,null,null," "]
[null,null,null,null,null,null,null," "]
[null,null,null,null,null,null,null," "]
[null,null,null,null,null,null,null," "]
[null,null,null,null,null,null,null," "]
[null,null,null,null,null,null,null," "]
[null,null,null,null,null,null,null," "]
[null,null,null,null,null,null,null," "]
[null,null,null,null,null,null,null," "]
[null,null,null,null,null,null,null," "]
[null,null,null,null,null,null,null," "]
[null,null,null,null,null,null,null," "]
[null,null,null,null,null,null,null," "]
[null,null,null,null,null,null,null," "]
[null,null,null,null,null,null,null," "]
[null,null,null,null,null,null,null," "]
[null,null,null,null,null,null,null," "]
[null,null,null,null,null,null,null," "]
[null,null,null,null,null,null,null," "]
[null,null,null,null,null,null,null," "]
[null,null,null,null,null,null,null," "]
[null,null,null,null,null,null,null," "]
[null,null,null,null,null,null,null," "]
[null,null,null,null,null,null,null," "]
[null,null,null,null,null,null,null," "]
[null,null,null,null,null,null,null," "]
[null,null,null,null,null,null,null," "]
[null,null,null,null,null,null,null," "]
[null,null,null,null,null,null,null," "]
[null,null,null,null,null,null,null," "]
[null,null,null,null,null,null,null," "]
[null,null,null,null,null,null,null," "]
[null,null,null,null,null,null,null," "]
[null,null,null,null,null,null,null," "]
[null,null,null,null,null,null,null," "]
[null,null,null,null,null,null,null," "]
[null,null,null,null,null,null,null," "]
[null,null,null,null,null,null,null," "]
[null,null,null,null,null,null,null," "]
[null,null,null,null,null,null,null," "]
[null,null,null,null,null,null,null," "]
[null,null,null,null,null,null,null," "]
[null,null,null,null,null,null,null," "]
[null,null,null,null,null,null,null," "]
[null,null,null,null,null,null,null," "]
[null,null,null,null,null,null,null," "]
[null,null,null,null,null,null,null," "]
[null,null,null,null,null,null,null," "]
[null,null,null,null,null,null,null," "]
[null,null,null,null,null,null,null," "]
[null,null,null,null,null,null,null," "]
[null,null,null,null,null,null,null," "]
[null,null,null,null,null,null,null," "]
[null,null,null,null,null,null,null," "]
[null,null,null,null,null,null,null," "]
[null,null,null,null,null,null,null," "]
[null,null,null,null,null,null,null," "]
[null,null,null,null,null,null,null," "]
[null,null,null,null,null,null,null," "]
[null,null,null,null,null,null,null," "]
[null,null,null,null,null,null,null," "]
[null,null,null,null,null,null,null," "]
[null,null,null,null,null,null,null," "]
[null,null,null,null,null,null,null," "]
[null,null,null,null,null,null,null," "]
[null,null,null,null,null,null,null," "]
[null,null,null,null,null,null,null," "]
[null,null,null,null,null,null,null," "]
[]
[]
[]
[]
[]
[]
[]
[]
[]
[]
[]
[]
[]
[]
[]
[]
[]
[]
[]
[]
[]
[]
[]
[]
[]
[]
[]
[]
[]
[]
[]
[]
[]
[]
[]
[]
[]
[]
[]
[]
[]
[]
[]
[]
[]
[]
[]
[]
[]
[]
[]
[]
[]
[]
[]
[]
[]
[]
[]
[]
[]
[]
[]
[]
[]
[]
[]
[]
[]
[]
[]
[]
[]
[]
[]
[]
[]
[]
[]
[]
[]
[]
[]
[]
[]
[]
[]
[]
[]
[]
[]
[]
[]
[]
[]
[]
[]
[]
[]
[]
[]
[]
[]
[]
[]
[]
[]
[]
[]
[]
[]
[]
[]
[]
[]
[]
[]
[]
[]
[]
[]
[]
[]
[]
[]
[]
[]
[]
[]
[]
[]
[]
[]
[]
[]
[]
[]
[]
[]
[]
[]
[]
[]
[]
[]
[]
[]
[]
[]
[]
[]
[]
[]
[]
[]
[]
[]
[]
[]
[]
[]
[]
[]
[]
[]
[]
[]
[]
[]
[]
[]
[]
[]
[]
[]
[]
[]
[]
[]
[]
[]
[]
[]
[]
[]
[]
[]
[]
[]
[]
[]
[]
[]
[]
[]
[]
[]
[]
[]
[]
[]
[]
[]
[]
[]
[]
[]
[]
[]
[]
[]
[]
[]
[]
[]
[]
[]
[]
[]
[]
[]
[]
[]
[]
[]
[]
[]
[]
[]
[]
[]
[]
[]
[]
[]
[]
[]
[]
[]
[]
[]
[]
[]
[]
[]
[]
[]
[]
[]
[]
[]
[]
[]
[]
[]
[]
[]
[]
[]
[]
[]
[]
[]
[]
[]
[]
[]
[]
[]
[]
[]
[]
[]
[]
[]
[]
[]
[]
[]
[]
[]
[]
[]
[]
[]
[]
[]
[]
[]
[]
[]
[]
[]
[]
[]
[]
[]
[]
[]
[]
[]
[]
[]
[]
[]
[]
[]
[]
[]
[]
[]
[]
[]
[]
[]
[]
[]
[]
[]
[]
[]
[]
[]
[]
[]
[]
[]
[]
[]
[]
[]
[]
[]
[]
[]
[]
[]
[]
[]
[]
[]
[]
[]
[]
[]
[]
[]
[]
[]
[]
[]
[]
[]
[]
[]
[]
[]
[]
[]
[]
[]
[]
[]
[]
[]
[]
[]
[]
[]
[]
[]
[]
[]
[]
[]
[]
[]
[null,null,null,null,null,null,null,null,null,null,null,null,null,null,null,null,null,null,null,null,null,null,null,null,null,null,null,"J77","J85","J94","J105","J+105",null,"J56","J62","J69","J77","J85","J94","J105","J+105",null,"S56","S62","S69","S77","S85","S94","S105","S+105"]
[null,null,null,null,null,null,null,null,null,null,null,null,null,null,null,null,null,null,null,null,null,null,null,null,null,null,null,145,160,170,180,190,null,100,115,130,145,160,170,180,190,null,115,135,150,165,180,190,200,210]
[null,null,null,null,null,null,null,null,null,null,null,null,null,null,null,null,null,null,null,null,null,null,null,null,null,null,null,165,180,190,200,210,null,115,135,150,165,180,190,200,210,null,130,150,165,185,200,210,220,230]
[null,null,null,null,null,null,null,null,null,null,null,null,null,null,null,null,null,null,null,null,null,null,null,null,null,null,null,185,200,210,220,230,null,130,150,165,185,200,210,220,230,null,145,165,180,200,220,230,240,250]
[null,null,null,null,null,null,null,null,null,null,null,null,null,null,null,null,null,null,null,null,null,null,null,null,null,null,null,200,220,230,240,250,null,145,165,180,200,220,230,240,250,null,175,195,215,235,250,260,275,280]
[null,null,null,null,null,null,null,null,null,null,null,null,null,null,null,null,null,null,null,null,null,null,null,null,null,null,null,235,250,260,275,280,null,175,195,215,235,250,260,275,280,null,210,230,250,270,290,300,310,325]
[null,null,null,null,null,null,null,null,null,null,null,null,null,null,null,null,null,null,null,null,null,null,null,null,null,null,null,270,290,300,310,325,null,210,230,250,270,290,300,310,325,null,230,255,275,300,315,335,345,355]
[null,null,null,null,null,null,null,null,null,null,null,null,null,null,null,null,null,null,null,null,null,null,null,null,null,null,null,320,335,355,370,380,null,245,270,295,320,335,355,370,380,null,245,270,295,320,335,355,370,380]