{"text_format":"1","workbook":"xlsx","n_sheets":2,"sheets":["Feuil1","CHAMP  FEM"],"not_rendered":{"charts":0,"images":1,"macros":1,"external_links":0,"defined_names":2,"comments":0,"pivot_tables":0},"unopened":[],"bounds":{"document_bytes":16777216,"sheet_cells":100000,"rows_first":2000,"rows_last":500,"rows_between":2000,"halvings":0,"cell_chars":16384,"cell_head_chars":4096},"cells_cut":0,"cells_raw":0,"read":"whole","date_system":"1900"}

{"sheet":"Feuil1","index":0,"n_rows":29,"n_cols":64,"rows_kept":29,"cut":false,"hidden":true,"merged":[]}
[null,null,"FC1 40","FC1 44","FC1 48","FC1 53","FC1 58","FC1 63","FC1 69","FC1 +69","FC2 44","FC2 48","FC2 53","FC2 58","FC2 63","FC2 69","FC2 +69","FJ48","FJ53","FJ58","FJ63","FJ69","FJ75","FJ+75","FS48","FS53","FS58","FS63","FS69","FS75","FS+75","C1 45","C1 50","C1 56","C1 62","C1 69","C1 77","C1 85","C1 94","C1 +94","C2 50","C2 56","C2 62","C2 69","C2 77","C2 85","C2 94","C2 +94","J56","J62","J69","J77","J85","J94","J105","J+105","S56","S62","S69","S77","S85","S94","S105","S+105"]
[null,"DEBUTANT",20,25,30,35,40,45,50,60,30,35,45,50,55,60,70,45,55,60,65,70,80,90,55,65,70,75,80,95,100,35,40,50,75,85,90,100,110,120,45,65,85,95,110,120,125,135,80,90,110,130,145,150,155,165,95,120,130,150,165,170,175,185]
[null,"DEPARTEMENTAL",25,30,35,45,50,55,60,70,40,45,55,60,65,70,80,55,65,70,75,80,95,100,65,75,80,85,90,105,110,50,55,70,95,105,110,120,130,140,65,85,105,115,130,140,145,155,100,120,130,150,165,170,175,185,115,135,150,170,185,190,195,205]
[null,"REGIONAL",35,40,45,55,60,65,70,80,50,55,65,70,75,80,95,65,75,80,85,90,105,110,75,85,90,95,105,115,125,60,65,85,105,115,130,140,145,155,80,100,120,130,150,160,165,175,115,135,150,170,185,190,195,205,130,150,170,190,205,215,220,225]
[null,"INTERREGIONAL",45,50,55,65,70,75,80,95,60,65,75,80,85,90,105,75,85,90,95,105,115,125,85,95,100,110,120,130,140,75,80,100,120,130,150,160,165,175,95,115,135,150,170,180,185,195,130,150,170,190,205,215,220,225,145,170,190,210,225,235,245,250]
[null,"FEDERAL",50,60,65,75,80,85,90,105,70,75,85,90,95,105,115,85,95,100,110,120,130,140,95,105,115,125,135,145,150,90,95,115,135,150,170,180,185,195,110,130,150,170,185,200,210,220,145,170,190,210,225,235,245,250,170,190,210,240,250,260,270,280]
[null,"NATIONAL",60,70,75,85,90,95,105,115,80,85,95,100,110,120,130,95,105,115,125,135,145,150,110,120,130,140,150,160,170,105,110,130,150,170,185,200,210,220,120,145,170,190,200,220,225,235,170,190,220,240,250,260,270,280,190,210,240,265,280,290,300,310]
[null,"INTERNATIONAL B",70,80,85,95,100,110,120,130,90,95,105,115,125,135,145,110,120,130,140,150,160,170,125,140,150,160,170,180,190,115,120,145,170,190,200,220,225,235,135,170,190,210,220,240,250,260,190,210,240,260,280,290,300,310,210,230,260,285,300,310,325,330]
[null,"INTERNATIONAL A",80,90,95,105,115,125,135,145,100,110,120,130,140,150,160,125,135,150,160,170,180,190,140,160,170,180,190,195,210,130,135,170,190,210,220,240,250,260,150,190,210,230,250,260,280,280,210,230,250,285,300,310,325,330,225,255,275,305,325,330,345,355]
[null,"OLYMPIQUE",1000,1000,1000,1000,1000,1000,1000,1000,1000,1000,1000,1000,1000,1000,1000,1000,1000,1000,1000,1000,1000,1000,155,175,190,200,205,210,225,1000,1000,1000,1000,1000,1000,10000,1000,1000,1000,1000,1000,1000,1000,10000,1000,1000,1000,1000,1000,10000,1000,1000,1000,10000,240,270,290,320,345,355,365,375]
[null,"MINIME","CADET","CADET","JUNIOR","SENIOR",null,"MINIME","CADETTE","CADETTE","JUNIOR","SENIOR"]
[20.010000000000002,"NON","C1 50","C2 50","J56","S56",20.010000000000002,"NON","FC1 40","FC2 44","FJ48","FS48"]
[34.01,"NON","C1 50","C2 50","J56","S56",30.01,"NON","FC1 40","FC2 44","FJ48","FS48"]
[38.01,"NON","C1 50","C2 50","J56","S56",35.01,"NON","FC1 40","FC2 44","FJ48","FS48"]
[40.01,"NON","C1 50","C2 50","J56","S56",36.01,"NON","FC1 40","FC2 44","FJ48","FS48"]
[45.01,"NON","C1 50","C2 50","J56","S56",40.01,"NON","FC1 44","FC2 48","FJ48","FS48"]
[50.01,"NON","C1 56","C2 56","J56","S56",44.01,"NON","FC1 48","FC2 48","FJ48","FS48"]
[52.05,"NON","C1 56","C2 56","J56","S56",48.01,"NON","FC1 53","FC2 53","FJ53","FS53"]
[56.01,"NON","C1 62","C2 62","J62","S62",53.01,"NON","FC1 58","FC2 58","FJ58","FS58"]
[62.01,"NON","C1 69","C2 69","J69","S69",58.01,"NON","FC1 63","FC2 63","FJ63","FS63"]
[69.010000000000005,"NON","C1 77","C2 77","J77","S77",63.01,"NON","FC1 69","FC2 69","FJ69","FS69"]
[77.010000000000005,"NON","C1 85","C2 85","J85","S85",69.010000000000005,"NON","FC1 +69","FC2 +69","FJ75","FS75"]
[85.01,"NON","C1 94","C2 94","J94","S94",75.010000000000005,"NON","FC1 +69","FC2 +69","FJ+75","FS+75"]
[94.01,"NON","C1 +94","C2 +94","J105","S105",110,"NON","FC1 +69","FC2 +69","FJ+75","FS+75"]
[105.01,"NON","C1 +94","C2 +94","J+105","S+105",140,"NON","FC1 +69","FC2 +69","FJ+75","FS+75"]
[110,"NON","C1 +94","C2 +94","J+105","S+105"]
[120,"NON","C1 +94","C2 +94","J+105","S+105"]
[130,"NON","C1 +94","C2 +94","J+105","S+105"]
[140,"NON","C1 +94","C2 +94","J+105","S+105",null,null,null,null,null,null,null,null,null,null,null,null,null,null,null,null,null,null,null,null,null,null,null,null,null," "]

{"sheet":"CHAMP  FEM","index":1,"n_rows":442,"n_cols":50,"rows_kept":442,"cut":false,"hidden":false,"merged":[[10,21,10,22],[10,18,10,20],[4,21,4,22],[0,4,0,24],[2,19,2,20],[2,21,2,23],[2,13,2,18],[2,7,2,8],[13,21,13,22],[19,18,19,20],[19,21,19,22],[31,21,31,22],[37,18,37,20],[37,21,37,22],[22,21,22,22],[28,18,28,20],[28,21,28,22],[39,8,39,9],[39,11,39,14],[39,16,39,19],[40,8,40,9],[40,11,40,14],[40,16,40,19],[40,21,40,24],[41,8,41,9],[41,11,41,14],[41,16,41,19],[41,21,41,24]]}
[null,null,null,null,"                    CHAMPIONNAT DE FRANCE DES CLUBS D'HALTEROPHILIE FEMININ 2016  2017"]
[null,null,null,null,null,null,null,null,null,null,null,null," ",null,null,null,null,null,"JOURNEE :"," ",null," "]
[null,null,null,null,null,null,"DIVISION :",null,null,null,null,null,"Lieu :    ",null,null,null,null,null,null,"DATE :"]
[null,null,null,null,"► CLUB :"," ",null,null,null,null," ",null,null,null,null,null,null,null,null,null,null,null,null," "]
["SEXE","ZONE","REG.","CL.","LICENCE","NOMS","Prénoms","AN","POIDS","CLUB","NAT",1,2,3,"ARR",1,2,3,"EP-J","Total","Points","SERIE",null,"Catég","IWF",null," ","DEB ","DEP +","REG +","IRG +","FED +","NAT +","INTB +","INTA +","OLY +"]
["F",null,null,null,null,null,null,2000,45,{"$f":"F4","v":" "},null,-50,-50,-50,{"$f":"IF(H6=\"\",\"\",IF(MAXA(L6:N6)<=0,0,MAXA(L6:N6)))","v":0},70,null,null,{"$f":"IF(H6=\"\",\"\",IF(MAXA(P6:R6)<=0,0,MAXA(P6:R6)))","v":70},{"$f":"IF(I6=\"\",\"\",O6+S6)","v":70},{"$f":"T6-I6","v":25},{"$f":"IF(H6=\"\",\"\",AQ6)","v":"IRG +"},{"$f":"IF(AJ6>=0,AJ6,IF(AI6>=0,AI6,IF(AH6>=0,AH6,IF(AG6>=0,AG6,IF(AF6>=0,AF6,IF(AE6>=0,AE6,IF(AD6>=0,AD6,IF(AC6>=0,AC6,AB6))))))))","v":5},{"$f":"IF(I6=\"\",\"\",IF(A6=\"H\",IF(OR(H6=\"SEN\",H6<1997),VLOOKUP(I6,Feuil1!$A$11:$G$29,6),IF(AND(H6>1996,H6<2000),VLOOKUP(I6,Feuil1!$A$11:$G$29,5),IF(AND(H6>1999,H6<2002),VLOOKUP(I6,Feuil1!$A$11:$G$29,4),IF(AND(H6>2001,H6<2004),VLOOKUP(I6,Feuil1!$A$11:$G$29,3),VLOOKUP(I6,Feuil1!$A$11:$G$29,2))))),IF(OR(H6=\"SEN\",H6<1997),VLOOKUP(I6,Feuil1!$G$11:$L$25,6),IF(AND(H6>1996,H6<2000),VLOOKUP(I6,Feuil1!$G$11:$L$25,5),IF(AND(H6>1999,H6<2002),VLOOKUP(I6,Feuil1!$G$11:$L$25,4),IF(AND(H6>2001,H6<2004),VLOOKUP(I6,Feuil1!$G$11:$L$25,3),VLOOKUP(I6,Feuil1!$G$11:$L$25,2)))))))","v":"FC2 48"},{"$f":"IF(I6=\"\",\"\",IF(A6=\"H\",10^(0.794358141*LOG(I6/174.393)^2)*T6,IF(A6=\"F\",10^(0.89726074*LOG(I6/148.026)^2)*T6,\"\")))","v":121.6304757713944},null," ",{"$f":"T6-HLOOKUP(X6,Feuil1!$C$1:$BJ$10,2,FALSE)","v":35},{"$f":"T6-HLOOKUP(X6,Feuil1!$C$1:$BJ$10,3,FALSE)","v":25},{"$f":"T6-HLOOKUP(X6,Feuil1!$C$1:$BJ$10,4,FALSE)","v":15},{"$f":"T6-HLOOKUP(X6,Feuil1!$C$1:$BJ$10,5,FALSE)","v":5},{"$f":"T6-HLOOKUP(X6,Feuil1!$C$1:$BJ$10,6,FALSE)","v":-5},{"$f":"T6-HLOOKUP(X6,Feuil1!$C$1:$BJ$10,7,FALSE)","v":-15},{"$f":"T6-HLOOKUP(X6,Feuil1!$C$1:$BJ$10,8,FALSE)","v":-25},{"$f":"T6-HLOOKUP(X6,Feuil1!$C$1:$BJ$10,9,FALSE)","v":-40},{"$f":"T6-HLOOKUP(X6,Feuil1!$C$1:$BJ$10,10,FALSE)","v":-930},null,null,null,null,null,null,{"$f":"IF(AJ6>=0,$AJ$5,IF(AI6>=0,$AI$5,IF(AH6>=0,$AH$5,IF(AG6>=0,$AG$5,IF(AF6>=0,$AF$5,IF(AE6>=0,$AE$5,IF(AD6>=0,$AD$5,IF(AC6>=0,$AC$5,$AB$5))))))))","v":"IRG +"}]
["F",null,null,null,null,null,null,2003,41,{"$f":"F4","v":" "},null,50,null,null,{"$f":"IF(H7=\"\",\"\",IF(MAXA(L7:N7)<=0,0,MAXA(L7:N7)))","v":50},65,null,null,{"$f":"IF(H7=\"\",\"\",IF(MAXA(P7:R7)<=0,0,MAXA(P7:R7)))","v":65},{"$f":"IF(I7=\"\",\"\",O7+S7)","v":115},{"$f":"T7-I7","v":74},{"$f":"IF(H7=\"\",\"\",AQ7)","v":"INTA +"},{"$f":"IF(AJ7>=0,AJ7,IF(AI7>=0,AI7,IF(AH7>=0,AH7,IF(AG7>=0,AG7,IF(AF7>=0,AF7,IF(AE7>=0,AE7,IF(AD7>=0,AD7,IF(AC7>=0,AC7,AB7))))))))","v":25},{"$f":"IF(I7=\"\",\"\",IF(A7=\"H\",IF(OR(H7=\"SEN\",H7<1997),VLOOKUP(I7,Feuil1!$A$11:$G$29,6),IF(AND(H7>1996,H7<2000),VLOOKUP(I7,Feuil1!$A$11:$G$29,5),IF(AND(H7>1999,H7<2002),VLOOKUP(I7,Feuil1!$A$11:$G$29,4),IF(AND(H7>2001,H7<2004),VLOOKUP(I7,Feuil1!$A$11:$G$29,3),VLOOKUP(I7,Feuil1!$A$11:$G$29,2))))),IF(OR(H7=\"SEN\",H7<1997),VLOOKUP(I7,Feuil1!$G$11:$L$25,6),IF(AND(H7>1996,H7<2000),VLOOKUP(I7,Feuil1!$G$11:$L$25,5),IF(AND(H7>1999,H7<2002),VLOOKUP(I7,Feuil1!$G$11:$L$25,4),IF(AND(H7>2001,H7<2004),VLOOKUP(I7,Feuil1!$G$11:$L$25,3),VLOOKUP(I7,Feuil1!$G$11:$L$25,2)))))))","v":"FC1 44"},{"$f":"IF(I7=\"\",\"\",IF(A7=\"H\",10^(0.794358141*LOG(I7/174.393)^2)*T7,IF(A7=\"F\",10^(0.89726074*LOG(I7/148.026)^2)*T7,\"\")))","v":218.58797155473499},null," ",{"$f":"T7-HLOOKUP(X7,Feuil1!$C$1:$BJ$10,2,FALSE)","v":90},{"$f":"T7-HLOOKUP(X7,Feuil1!$C$1:$BJ$10,3,FALSE)","v":85},{"$f":"T7-HLOOKUP(X7,Feuil1!$C$1:$BJ$10,4,FALSE)","v":75},{"$f":"T7-HLOOKUP(X7,Feuil1!$C$1:$BJ$10,5,FALSE)","v":65},{"$f":"T7-HLOOKUP(X7,Feuil1!$C$1:$BJ$10,6,FALSE)","v":55},{"$f":"T7-HLOOKUP(X7,Feuil1!$C$1:$BJ$10,7,FALSE)","v":45},{"$f":"T7-HLOOKUP(X7,Feuil1!$C$1:$BJ$10,8,FALSE)","v":35},{"$f":"T7-HLOOKUP(X7,Feuil1!$C$1:$BJ$10,9,FALSE)","v":25},{"$f":"T7-HLOOKUP(X7,Feuil1!$C$1:$BJ$10,10,FALSE)","v":-885},null,null,null,null,null,null,{"$f":"IF(AJ7>=0,$AJ$5,IF(AI7>=0,$AI$5,IF(AH7>=0,$AH$5,IF(AG7>=0,$AG$5,IF(AF7>=0,$AF$5,IF(AE7>=0,$AE$5,IF(AD7>=0,$AD$5,IF(AC7>=0,$AC$5,$AB$5))))))))","v":"INTA +"}]
["F",null,null,null,null,null,null,2002,36,{"$f":"F4","v":" "},null,40,null,null,40,50,null,null,50,90,{"$f":"T8-I8","v":54},"INTA +",10,{"$f":"IF(I8=\"\",\"\",IF(A8=\"H\",IF(OR(H8=\"SEN\",H8<1997),VLOOKUP(I8,Feuil1!$A$11:$G$29,6),IF(AND(H8>1996,H8<2000),VLOOKUP(I8,Feuil1!$A$11:$G$29,5),IF(AND(H8>1999,H8<2002),VLOOKUP(I8,Feuil1!$A$11:$G$29,4),IF(AND(H8>2001,H8<2004),VLOOKUP(I8,Feuil1!$A$11:$G$29,3),VLOOKUP(I8,Feuil1!$A$11:$G$29,2))))),IF(OR(H8=\"SEN\",H8<1997),VLOOKUP(I8,Feuil1!$G$11:$L$25,6),IF(AND(H8>1996,H8<2000),VLOOKUP(I8,Feuil1!$G$11:$L$25,5),IF(AND(H8>1999,H8<2002),VLOOKUP(I8,Feuil1!$G$11:$L$25,4),IF(AND(H8>2001,H8<2004),VLOOKUP(I8,Feuil1!$G$11:$L$25,3),VLOOKUP(I8,Feuil1!$G$11:$L$25,2)))))))","v":"FC1 40"},196.13059185655811,{"$f":"V11","v":737.27762440020012}," ",{"$f":"T8-HLOOKUP(X8,Feuil1!$C$1:$BJ$10,2,FALSE)","v":70},{"$f":"T8-HLOOKUP(X8,Feuil1!$C$1:$BJ$10,3,FALSE)","v":65},{"$f":"T8-HLOOKUP(X8,Feuil1!$C$1:$BJ$10,4,FALSE)","v":55},{"$f":"T8-HLOOKUP(X8,Feuil1!$C$1:$BJ$10,5,FALSE)","v":45},{"$f":"T8-HLOOKUP(X8,Feuil1!$C$1:$BJ$10,6,FALSE)","v":40},{"$f":"T8-HLOOKUP(X8,Feuil1!$C$1:$BJ$10,7,FALSE)","v":30},{"$f":"T8-HLOOKUP(X8,Feuil1!$C$1:$BJ$10,8,FALSE)","v":20},{"$f":"T8-HLOOKUP(X8,Feuil1!$C$1:$BJ$10,9,FALSE)","v":10},{"$f":"T8-HLOOKUP(X8,Feuil1!$C$1:$BJ$10,10,FALSE)","v":-910},null,null,null,null,null,null,"INTA +"]
["F",null,null,null,null,null,null,2003,37,{"$f":"F4","v":" "},null,35,null,null,35,60,null,null,60,95,{"$f":"T9-I9","v":58},"INTA +",15,{"$f":"IF(I9=\"\",\"\",IF(A9=\"H\",IF(OR(H9=\"SEN\",H9<1997),VLOOKUP(I9,Feuil1!$A$11:$G$29,6),IF(AND(H9>1996,H9<2000),VLOOKUP(I9,Feuil1!$A$11:$G$29,5),IF(AND(H9>1999,H9<2002),VLOOKUP(I9,Feuil1!$A$11:$G$29,4),IF(AND(H9>2001,H9<2004),VLOOKUP(I9,Feuil1!$A$11:$G$29,3),VLOOKUP(I9,Feuil1!$A$11:$G$29,2))))),IF(OR(H9=\"SEN\",H9<1997),VLOOKUP(I9,Feuil1!$G$11:$L$25,6),IF(AND(H9>1996,H9<2000),VLOOKUP(I9,Feuil1!$G$11:$L$25,5),IF(AND(H9>1999,H9<2002),VLOOKUP(I9,Feuil1!$G$11:$L$25,4),IF(AND(H9>2001,H9<2004),VLOOKUP(I9,Feuil1!$G$11:$L$25,3),VLOOKUP(I9,Feuil1!$G$11:$L$25,2)))))))","v":"FC1 40"},200.92858521751259,{"$f":"V20","v":906.11837988832599}," ",{"$f":"T9-HLOOKUP(X9,Feuil1!$C$1:$BJ$10,2,FALSE)","v":75},{"$f":"T9-HLOOKUP(X9,Feuil1!$C$1:$BJ$10,3,FALSE)","v":70},{"$f":"T9-HLOOKUP(X9,Feuil1!$C$1:$BJ$10,4,FALSE)","v":60},{"$f":"T9-HLOOKUP(X9,Feuil1!$C$1:$BJ$10,5,FALSE)","v":50},{"$f":"T9-HLOOKUP(X9,Feuil1!$C$1:$BJ$10,6,FALSE)","v":45},{"$f":"T9-HLOOKUP(X9,Feuil1!$C$1:$BJ$10,7,FALSE)","v":35},{"$f":"T9-HLOOKUP(X9,Feuil1!$C$1:$BJ$10,8,FALSE)","v":25},{"$f":"T9-HLOOKUP(X9,Feuil1!$C$1:$BJ$10,9,FALSE)","v":15},{"$f":"T9-HLOOKUP(X9,Feuil1!$C$1:$BJ$10,10,FALSE)","v":-905},null,null,null,null,null,null,"INTA +"]
[null,null,null,null," ",null,null,null,null,null,null,null,null,null,null,null,null,null,null,null,null,null,null,null,null,{"$f":"V29","v":896.53936885614348}," ",{"$f":"T10-HLOOKUP(X10,Feuil1!$C$1:$BJ$10,2,FALSE)","v":{"$error":"#N/A"}},{"$f":"T10-HLOOKUP(X10,Feuil1!$C$1:$BJ$10,3,FALSE)","v":{"$error":"#N/A"}},{"$f":"T10-HLOOKUP(X10,Feuil1!$C$1:$BJ$10,4,FALSE)","v":{"$error":"#N/A"}},{"$f":"T10-HLOOKUP(X10,Feuil1!$C$1:$BJ$10,5,FALSE)","v":{"$error":"#N/A"}},{"$f":"T10-HLOOKUP(X10,Feuil1!$C$1:$BJ$10,6,FALSE)","v":{"$error":"#N/A"}},{"$f":"T10-HLOOKUP(X10,Feuil1!$C$1:$BJ$10,7,FALSE)","v":{"$error":"#N/A"}},{"$f":"T10-HLOOKUP(X10,Feuil1!$C$1:$BJ$10,8,FALSE)","v":{"$error":"#N/A"}},{"$f":"T10-HLOOKUP(X10,Feuil1!$C$1:$BJ$10,9,FALSE)","v":{"$error":"#N/A"}},{"$f":"T10-HLOOKUP(X10,Feuil1!$C$1:$BJ$10,10,FALSE)","v":{"$error":"#N/A"}},null,null,null,null,null,null,{"$error":"#N/A"}]
[null,null,null,null,null,"CLASSEMENT : ",null,{"$f":"IF(V11=\"\",\"\",RANK(V11,$Z$8:$Z$11,0))","v":4},null,null,null,null,null,null,null,null,null,null,"Score de l'équipe",null,null,{"$f":"IF(H7=\"\",\"\",IF(H9=\"\",SUM(Y6:Y9),(SUM(Y6:Y9))))","v":737.27762440020012},null,null,null,{"$f":"V38","v":942.74975724889873}," ",{"$f":"S11-HLOOKUP(X11,Feuil1!$C$1:$BJ$10,2,FALSE)","v":{"$error":"#VALUE!"}},{"$f":"S11-HLOOKUP(X11,Feuil1!$C$1:$BJ$10,3,FALSE)","v":{"$error":"#VALUE!"}},{"$f":"S11-HLOOKUP(X11,Feuil1!$C$1:$BJ$10,4,FALSE)","v":{"$error":"#VALUE!"}},{"$f":"S11-HLOOKUP(X11,Feuil1!$C$1:$BJ$10,5,FALSE)","v":{"$error":"#VALUE!"}},{"$f":"S11-HLOOKUP(X11,Feuil1!$C$1:$BJ$10,6,FALSE)","v":{"$error":"#VALUE!"}},{"$f":"S11-HLOOKUP(X11,Feuil1!$C$1:$BJ$10,7,FALSE)","v":{"$error":"#VALUE!"}},{"$f":"S11-HLOOKUP(X11,Feuil1!$C$1:$BJ$10,8,FALSE)","v":{"$error":"#VALUE!"}},{"$f":"S11-HLOOKUP(X11,Feuil1!$C$1:$BJ$10,9,FALSE)","v":{"$error":"#VALUE!"}},{"$f":"S11-HLOOKUP(X11,Feuil1!$C$1:$BJ$10,10,FALSE)","v":{"$error":"#VALUE!"}},null,null,null,null,null,null,{"$error":"#VALUE!"}]
[]
[null,null,null,null,"► CLUB :"," ",null,null,null,null," ",null,null,null,null,null,null,null,null,null,null,null,null," "]
["SEXE","ZONE","REG.","CL.","LICENCE","NOMS","Prénoms","AN","POIDS","CLUB","NAT",1,2,3,"ARR",1,2,3,"EP-J","Total","Points","SERIE",null,"Catég","IWF",null," ","DEB ","DEP +","REG +","IRG +","FED +","NAT +","INTB +","INTA +","OLY +"]
["F",null,null,null,null,null,null,1997,69,{"$f":"F13","v":" "},null,80,null,null,{"$f":"IF(H15=\"\",\"\",IF(MAXA(L15:N15)<=0,0,MAXA(L15:N15)))","v":80},100,null,null,{"$f":"IF(H15=\"\",\"\",IF(MAXA(P15:R15)<=0,0,MAXA(P15:R15)))","v":100},{"$f":"IF(I15=\"\",\"\",O15+S15)","v":180},{"$f":"T15-I15","v":111},{"$f":"IF(H15=\"\",\"\",AQ15)","v":"INTA +"},{"$f":"IF(AJ15>=0,AJ15,IF(AI15>=0,AI15,IF(AH15>=0,AH15,IF(AG15>=0,AG15,IF(AF15>=0,AF15,IF(AE15>=0,AE15,IF(AD15>=0,AD15,IF(AC15>=0,AC15,AB15))))))))","v":10},{"$f":"IF(I15=\"\",\"\",IF(A15=\"H\",IF(OR(H15=\"SEN\",H15<1997),VLOOKUP(I15,Feuil1!$A$11:$G$29,6),IF(AND(H15>1996,H15<2000),VLOOKUP(I15,Feuil1!$A$11:$G$29,5),IF(AND(H15>1999,H15<2002),VLOOKUP(I15,Feuil1!$A$11:$G$29,4),IF(AND(H15>2001,H15<2004),VLOOKUP(I15,Feuil1!$A$11:$G$29,3),VLOOKUP(I15,Feuil1!$A$11:$G$29,2))))),IF(OR(H15=\"SEN\",H15<1997),VLOOKUP(I15,Feuil1!$G$11:$L$25,6),IF(AND(H15>1996,H15<2000),VLOOKUP(I15,Feuil1!$G$11:$L$25,5),IF(AND(H15>1999,H15<2002),VLOOKUP(I15,Feuil1!$G$11:$L$25,4),IF(AND(H15>2001,H15<2004),VLOOKUP(I15,Feuil1!$G$11:$L$25,3),VLOOKUP(I15,Feuil1!$G$11:$L$25,2)))))))","v":"FJ69"},{"$f":"IF(I15=\"\",\"\",IF(A15=\"H\",10^(0.794358141*LOG(I15/174.393)^2)*T15,IF(A15=\"F\",10^(0.89726074*LOG(I15/148.026)^2)*T15,\"\")))","v":225.87486773058419},null," ",{"$f":"T15-HLOOKUP(X15,Feuil1!$C$1:$BJ$10,2,FALSE)","v":110},{"$f":"T15-HLOOKUP(X15,Feuil1!$C$1:$BJ$10,3,FALSE)","v":100},{"$f":"T15-HLOOKUP(X15,Feuil1!$C$1:$BJ$10,4,FALSE)","v":90},{"$f":"T15-HLOOKUP(X15,Feuil1!$C$1:$BJ$10,5,FALSE)","v":75},{"$f":"T15-HLOOKUP(X15,Feuil1!$C$1:$BJ$10,6,FALSE)","v":60},{"$f":"T15-HLOOKUP(X15,Feuil1!$C$1:$BJ$10,7,FALSE)","v":45},{"$f":"T15-HLOOKUP(X15,Feuil1!$C$1:$BJ$10,8,FALSE)","v":30},{"$f":"T15-HLOOKUP(X15,Feuil1!$C$1:$BJ$10,9,FALSE)","v":10},{"$f":"T15-HLOOKUP(X15,Feuil1!$C$1:$BJ$10,10,FALSE)","v":-820},null,null,null,null,null,null,{"$f":"IF(AJ15>=0,$AJ$5,IF(AI15>=0,$AI$5,IF(AH15>=0,$AH$5,IF(AG15>=0,$AG$5,IF(AF15>=0,$AF$5,IF(AE15>=0,$AE$5,IF(AD15>=0,$AD$5,IF(AC15>=0,$AC$5,$AB$5))))))))","v":"INTA +"}]
["F",null,null,null,null,null,null,1999,75,{"$f":"F13","v":" "},null,75,null,null,{"$f":"IF(H16=\"\",\"\",IF(MAXA(L16:N16)<=0,0,MAXA(L16:N16)))","v":75},105,null,null,{"$f":"IF(H16=\"\",\"\",IF(MAXA(P16:R16)<=0,0,MAXA(P16:R16)))","v":105},{"$f":"IF(I16=\"\",\"\",O16+S16)","v":180},{"$f":"T16-I16","v":105},{"$f":"IF(H16=\"\",\"\",AQ16)","v":"INTA +"},{"$f":"IF(AJ16>=0,AJ16,IF(AI16>=0,AI16,IF(AH16>=0,AH16,IF(AG16>=0,AG16,IF(AF16>=0,AF16,IF(AE16>=0,AE16,IF(AD16>=0,AD16,IF(AC16>=0,AC16,AB16))))))))","v":0},{"$f":"IF(I16=\"\",\"\",IF(A16=\"H\",IF(OR(H16=\"SEN\",H16<1997),VLOOKUP(I16,Feuil1!$A$11:$G$29,6),IF(AND(H16>1996,H16<2000),VLOOKUP(I16,Feuil1!$A$11:$G$29,5),IF(AND(H16>1999,H16<2002),VLOOKUP(I16,Feuil1!$A$11:$G$29,4),IF(AND(H16>2001,H16<2004),VLOOKUP(I16,Feuil1!$A$11:$G$29,3),VLOOKUP(I16,Feuil1!$A$11:$G$29,2))))),IF(OR(H16=\"SEN\",H16<1997),VLOOKUP(I16,Feuil1!$G$11:$L$25,6),IF(AND(H16>1996,H16<2000),VLOOKUP(I16,Feuil1!$G$11:$L$25,5),IF(AND(H16>1999,H16<2002),VLOOKUP(I16,Feuil1!$G$11:$L$25,4),IF(AND(H16>2001,H16<2004),VLOOKUP(I16,Feuil1!$G$11:$L$25,3),VLOOKUP(I16,Feuil1!$G$11:$L$25,2)))))))","v":"FJ75"},{"$f":"IF(I16=\"\",\"\",IF(A16=\"H\",10^(0.794358141*LOG(I16/174.393)^2)*T16,IF(A16=\"F\",10^(0.89726074*LOG(I16/148.026)^2)*T16,\"\")))","v":215.52774822410811},null," ",{"$f":"T16-HLOOKUP(X16,Feuil1!$C$1:$BJ$10,2,FALSE)","v":100},{"$f":"T16-HLOOKUP(X16,Feuil1!$C$1:$BJ$10,3,FALSE)","v":85},{"$f":"T16-HLOOKUP(X16,Feuil1!$C$1:$BJ$10,4,FALSE)","v":75},{"$f":"T16-HLOOKUP(X16,Feuil1!$C$1:$BJ$10,5,FALSE)","v":65},{"$f":"T16-HLOOKUP(X16,Feuil1!$C$1:$BJ$10,6,FALSE)","v":50},{"$f":"T16-HLOOKUP(X16,Feuil1!$C$1:$BJ$10,7,FALSE)","v":35},{"$f":"T16-HLOOKUP(X16,Feuil1!$C$1:$BJ$10,8,FALSE)","v":20},{"$f":"T16-HLOOKUP(X16,Feuil1!$C$1:$BJ$10,9,FALSE)","v":0},{"$f":"T16-HLOOKUP(X16,Feuil1!$C$1:$BJ$10,10,FALSE)","v":-820},null,null,null,null,null,null,{"$f":"IF(AJ16>=0,$AJ$5,IF(AI16>=0,$AI$5,IF(AH16>=0,$AH$5,IF(AG16>=0,$AG$5,IF(AF16>=0,$AF$5,IF(AE16>=0,$AE$5,IF(AD16>=0,$AD$5,IF(AC16>=0,$AC$5,$AB$5))))))))","v":"INTA +"}]
["F",null,null,null,null,null,null,1995,63,{"$f":"F13","v":" "},null,69,null,null,69,90,null,null,90,159,{"$f":"T17-I17","v":96},"NAT +",19,{"$f":"IF(I17=\"\",\"\",IF(A17=\"H\",IF(OR(H17=\"SEN\",H17<1997),VLOOKUP(I17,Feuil1!$A$11:$G$29,6),IF(AND(H17>1996,H17<2000),VLOOKUP(I17,Feuil1!$A$11:$G$29,5),IF(AND(H17>1999,H17<2002),VLOOKUP(I17,Feuil1!$A$11:$G$29,4),IF(AND(H17>2001,H17<2004),VLOOKUP(I17,Feuil1!$A$11:$G$29,3),VLOOKUP(I17,Feuil1!$A$11:$G$29,2))))),IF(OR(H17=\"SEN\",H17<1997),VLOOKUP(I17,Feuil1!$G$11:$L$25,6),IF(AND(H17>1996,H17<2000),VLOOKUP(I17,Feuil1!$G$11:$L$25,5),IF(AND(H17>1999,H17<2002),VLOOKUP(I17,Feuil1!$G$11:$L$25,4),IF(AND(H17>2001,H17<2004),VLOOKUP(I17,Feuil1!$G$11:$L$25,3),VLOOKUP(I17,Feuil1!$G$11:$L$25,2)))))))","v":"FS63"},211.29795553058395,null," ",{"$f":"T17-HLOOKUP(X17,Feuil1!$C$1:$BJ$10,2,FALSE)","v":84},{"$f":"T17-HLOOKUP(X17,Feuil1!$C$1:$BJ$10,3,FALSE)","v":74},{"$f":"T17-HLOOKUP(X17,Feuil1!$C$1:$BJ$10,4,FALSE)","v":64},{"$f":"T17-HLOOKUP(X17,Feuil1!$C$1:$BJ$10,5,FALSE)","v":49},{"$f":"T17-HLOOKUP(X17,Feuil1!$C$1:$BJ$10,6,FALSE)","v":34},{"$f":"T17-HLOOKUP(X17,Feuil1!$C$1:$BJ$10,7,FALSE)","v":19},{"$f":"T17-HLOOKUP(X17,Feuil1!$C$1:$BJ$10,8,FALSE)","v":-1},{"$f":"T17-HLOOKUP(X17,Feuil1!$C$1:$BJ$10,9,FALSE)","v":-21},{"$f":"T17-HLOOKUP(X17,Feuil1!$C$1:$BJ$10,10,FALSE)","v":-41},null,null,null,null,null,null,"NAT +"]
["F",null,null,null,null,null,null,2000,58,{"$f":"F13","v":" "},null,80,null,null,80,100,null,null,100,180,{"$f":"T18-I18","v":122},"INTA +",50,{"$f":"IF(I18=\"\",\"\",IF(A18=\"H\",IF(OR(H18=\"SEN\",H18<1997),VLOOKUP(I18,Feuil1!$A$11:$G$29,6),IF(AND(H18>1996,H18<2000),VLOOKUP(I18,Feuil1!$A$11:$G$29,5),IF(AND(H18>1999,H18<2002),VLOOKUP(I18,Feuil1!$A$11:$G$29,4),IF(AND(H18>2001,H18<2004),VLOOKUP(I18,Feuil1!$A$11:$G$29,3),VLOOKUP(I18,Feuil1!$A$11:$G$29,2))))),IF(OR(H18=\"SEN\",H18<1997),VLOOKUP(I18,Feuil1!$G$11:$L$25,6),IF(AND(H18>1996,H18<2000),VLOOKUP(I18,Feuil1!$G$11:$L$25,5),IF(AND(H18>1999,H18<2002),VLOOKUP(I18,Feuil1!$G$11:$L$25,4),IF(AND(H18>2001,H18<2004),VLOOKUP(I18,Feuil1!$G$11:$L$25,3),VLOOKUP(I18,Feuil1!$G$11:$L$25,2)))))))","v":"FC2 58"},253.4178084030498,null," ",{"$f":"T18-HLOOKUP(X18,Feuil1!$C$1:$BJ$10,2,FALSE)","v":130},{"$f":"T18-HLOOKUP(X18,Feuil1!$C$1:$BJ$10,3,FALSE)","v":120},{"$f":"T18-HLOOKUP(X18,Feuil1!$C$1:$BJ$10,4,FALSE)","v":110},{"$f":"T18-HLOOKUP(X18,Feuil1!$C$1:$BJ$10,5,FALSE)","v":100},{"$f":"T18-HLOOKUP(X18,Feuil1!$C$1:$BJ$10,6,FALSE)","v":90},{"$f":"T18-HLOOKUP(X18,Feuil1!$C$1:$BJ$10,7,FALSE)","v":80},{"$f":"T18-HLOOKUP(X18,Feuil1!$C$1:$BJ$10,8,FALSE)","v":65},{"$f":"T18-HLOOKUP(X18,Feuil1!$C$1:$BJ$10,9,FALSE)","v":50},{"$f":"T18-HLOOKUP(X18,Feuil1!$C$1:$BJ$10,10,FALSE)","v":-820},null,null,null,null,null,null,"INTA +"]
[null,null,null,null," ",null,null,null,null,null,null,null,null,null,null,null,null,null,null,null,null,null,null,null,null,null," ",{"$f":"T19-HLOOKUP(X19,Feuil1!$C$1:$BJ$10,2,FALSE)","v":{"$error":"#N/A"}},{"$f":"T19-HLOOKUP(X19,Feuil1!$C$1:$BJ$10,3,FALSE)","v":{"$error":"#N/A"}},{"$f":"T19-HLOOKUP(X19,Feuil1!$C$1:$BJ$10,4,FALSE)","v":{"$error":"#N/A"}},{"$f":"T19-HLOOKUP(X19,Feuil1!$C$1:$BJ$10,5,FALSE)","v":{"$error":"#N/A"}},{"$f":"T19-HLOOKUP(X19,Feuil1!$C$1:$BJ$10,6,FALSE)","v":{"$error":"#N/A"}},{"$f":"T19-HLOOKUP(X19,Feuil1!$C$1:$BJ$10,7,FALSE)","v":{"$error":"#N/A"}},{"$f":"T19-HLOOKUP(X19,Feuil1!$C$1:$BJ$10,8,FALSE)","v":{"$error":"#N/A"}},{"$f":"T19-HLOOKUP(X19,Feuil1!$C$1:$BJ$10,9,FALSE)","v":{"$error":"#N/A"}},{"$f":"T19-HLOOKUP(X19,Feuil1!$C$1:$BJ$10,10,FALSE)","v":{"$error":"#N/A"}},null,null,null,null,null,null,{"$error":"#N/A"}]
[null,null,null,null,null,"CLASSEMENT : ",null,{"$f":"IF(V20=\"\",\"\",RANK(V20,$Z$8:$Z$11,0))","v":2},null,null,null,null,null,null,null,null,null,null,"Score de l'équipe",null,null,{"$f":"IF(H16=\"\",\"\",IF(H18=\"\",SUM(Y15:Y18),(SUM(Y15:Y18))))","v":906.11837988832599},null,null,null,null," ",{"$f":"S20-HLOOKUP(X20,Feuil1!$C$1:$BJ$10,2,FALSE)","v":{"$error":"#VALUE!"}},{"$f":"S20-HLOOKUP(X20,Feuil1!$C$1:$BJ$10,3,FALSE)","v":{"$error":"#VALUE!"}},{"$f":"S20-HLOOKUP(X20,Feuil1!$C$1:$BJ$10,4,FALSE)","v":{"$error":"#VALUE!"}},{"$f":"S20-HLOOKUP(X20,Feuil1!$C$1:$BJ$10,5,FALSE)","v":{"$error":"#VALUE!"}},{"$f":"S20-HLOOKUP(X20,Feuil1!$C$1:$BJ$10,6,FALSE)","v":{"$error":"#VALUE!"}},{"$f":"S20-HLOOKUP(X20,Feuil1!$C$1:$BJ$10,7,FALSE)","v":{"$error":"#VALUE!"}},{"$f":"S20-HLOOKUP(X20,Feuil1!$C$1:$BJ$10,8,FALSE)","v":{"$error":"#VALUE!"}},{"$f":"S20-HLOOKUP(X20,Feuil1!$C$1:$BJ$10,9,FALSE)","v":{"$error":"#VALUE!"}},{"$f":"S20-HLOOKUP(X20,Feuil1!$C$1:$BJ$10,10,FALSE)","v":{"$error":"#VALUE!"}},null,null,null,null,null,null,{"$error":"#VALUE!"}]
[]
[null,null,null,null,"► CLUB :"," ",null,null,null,null," ",null,null,null,null,null,null,null,null,null,null,null,null," "]
["SEXE","ZONE","REG.","CL.","LICENCE","NOMS","Prénoms","AN","POIDS","CLUB","NAT",1,2,3,"ARR",1,2,3,"EP-J","Total","Points","SERIE",null,"Catég","IWF",null," ","DEB ","DEP +","REG +","IRG +","FED +","NAT +","INTB +","INTA +","OLY +"]
["F",null,null,null,null,null,null,1997,69,{"$f":"F22","v":" "},null,80,null,null,{"$f":"IF(H24=\"\",\"\",IF(MAXA(L24:N24)<=0,0,MAXA(L24:N24)))","v":80},100,null,null,{"$f":"IF(H24=\"\",\"\",IF(MAXA(P24:R24)<=0,0,MAXA(P24:R24)))","v":100},{"$f":"IF(I24=\"\",\"\",O24+S24)","v":180},{"$f":"T24-I24","v":111},{"$f":"IF(H24=\"\",\"\",AQ24)","v":"INTA +"},{"$f":"IF(AJ24>=0,AJ24,IF(AI24>=0,AI24,IF(AH24>=0,AH24,IF(AG24>=0,AG24,IF(AF24>=0,AF24,IF(AE24>=0,AE24,IF(AD24>=0,AD24,IF(AC24>=0,AC24,AB24))))))))","v":10},{"$f":"IF(I24=\"\",\"\",IF(A24=\"H\",IF(OR(H24=\"SEN\",H24<1997),VLOOKUP(I24,Feuil1!$A$11:$G$29,6),IF(AND(H24>1996,H24<2000),VLOOKUP(I24,Feuil1!$A$11:$G$29,5),IF(AND(H24>1999,H24<2002),VLOOKUP(I24,Feuil1!$A$11:$G$29,4),IF(AND(H24>2001,H24<2004),VLOOKUP(I24,Feuil1!$A$11:$G$29,3),VLOOKUP(I24,Feuil1!$A$11:$G$29,2))))),IF(OR(H24=\"SEN\",H24<1997),VLOOKUP(I24,Feuil1!$G$11:$L$25,6),IF(AND(H24>1996,H24<2000),VLOOKUP(I24,Feuil1!$G$11:$L$25,5),IF(AND(H24>1999,H24<2002),VLOOKUP(I24,Feuil1!$G$11:$L$25,4),IF(AND(H24>2001,H24<2004),VLOOKUP(I24,Feuil1!$G$11:$L$25,3),VLOOKUP(I24,Feuil1!$G$11:$L$25,2)))))))","v":"FJ69"},{"$f":"IF(I24=\"\",\"\",IF(A24=\"H\",10^(0.794358141*LOG(I24/174.393)^2)*T24,IF(A24=\"F\",10^(0.89726074*LOG(I24/148.026)^2)*T24,\"\")))","v":225.87486773058419},null," ",{"$f":"T24-HLOOKUP(X24,Feuil1!$C$1:$BJ$10,2,FALSE)","v":110},{"$f":"T24-HLOOKUP(X24,Feuil1!$C$1:$BJ$10,3,FALSE)","v":100},{"$f":"T24-HLOOKUP(X24,Feuil1!$C$1:$BJ$10,4,FALSE)","v":90},{"$f":"T24-HLOOKUP(X24,Feuil1!$C$1:$BJ$10,5,FALSE)","v":75},{"$f":"T24-HLOOKUP(X24,Feuil1!$C$1:$BJ$10,6,FALSE)","v":60},{"$f":"T24-HLOOKUP(X24,Feuil1!$C$1:$BJ$10,7,FALSE)","v":45},{"$f":"T24-HLOOKUP(X24,Feuil1!$C$1:$BJ$10,8,FALSE)","v":30},{"$f":"T24-HLOOKUP(X24,Feuil1!$C$1:$BJ$10,9,FALSE)","v":10},{"$f":"T24-HLOOKUP(X24,Feuil1!$C$1:$BJ$10,10,FALSE)","v":-820},null,null,null,null,null,null,{"$f":"IF(AJ24>=0,$AJ$5,IF(AI24>=0,$AI$5,IF(AH24>=0,$AH$5,IF(AG24>=0,$AG$5,IF(AF24>=0,$AF$5,IF(AE24>=0,$AE$5,IF(AD24>=0,$AD$5,IF(AC24>=0,$AC$5,$AB$5))))))))","v":"INTA +"}]
["F",null,null,null,null,null,null,1999,75,{"$f":"F22","v":" "},null,70,null,null,{"$f":"IF(H25=\"\",\"\",IF(MAXA(L25:N25)<=0,0,MAXA(L25:N25)))","v":70},102,null,null,{"$f":"IF(H25=\"\",\"\",IF(MAXA(P25:R25)<=0,0,MAXA(P25:R25)))","v":102},{"$f":"IF(I25=\"\",\"\",O25+S25)","v":172},{"$f":"T25-I25","v":97},{"$f":"IF(H25=\"\",\"\",AQ25)","v":"INTB +"},{"$f":"IF(AJ25>=0,AJ25,IF(AI25>=0,AI25,IF(AH25>=0,AH25,IF(AG25>=0,AG25,IF(AF25>=0,AF25,IF(AE25>=0,AE25,IF(AD25>=0,AD25,IF(AC25>=0,AC25,AB25))))))))","v":12},{"$f":"IF(I25=\"\",\"\",IF(A25=\"H\",IF(OR(H25=\"SEN\",H25<1997),VLOOKUP(I25,Feuil1!$A$11:$G$29,6),IF(AND(H25>1996,H25<2000),VLOOKUP(I25,Feuil1!$A$11:$G$29,5),IF(AND(H25>1999,H25<2002),VLOOKUP(I25,Feuil1!$A$11:$G$29,4),IF(AND(H25>2001,H25<2004),VLOOKUP(I25,Feuil1!$A$11:$G$29,3),VLOOKUP(I25,Feuil1!$A$11:$G$29,2))))),IF(OR(H25=\"SEN\",H25<1997),VLOOKUP(I25,Feuil1!$G$11:$L$25,6),IF(AND(H25>1996,H25<2000),VLOOKUP(I25,Feuil1!$G$11:$L$25,5),IF(AND(H25>1999,H25<2002),VLOOKUP(I25,Feuil1!$G$11:$L$25,4),IF(AND(H25>2001,H25<2004),VLOOKUP(I25,Feuil1!$G$11:$L$25,3),VLOOKUP(I25,Feuil1!$G$11:$L$25,2)))))))","v":"FJ75"},{"$f":"IF(I25=\"\",\"\",IF(A25=\"H\",10^(0.794358141*LOG(I25/174.393)^2)*T25,IF(A25=\"F\",10^(0.89726074*LOG(I25/148.026)^2)*T25,\"\")))","v":205.94873719192555},null," ",{"$f":"T25-HLOOKUP(X25,Feuil1!$C$1:$BJ$10,2,FALSE)","v":92},{"$f":"T25-HLOOKUP(X25,Feuil1!$C$1:$BJ$10,3,FALSE)","v":77},{"$f":"T25-HLOOKUP(X25,Feuil1!$C$1:$BJ$10,4,FALSE)","v":67},{"$f":"T25-HLOOKUP(X25,Feuil1!$C$1:$BJ$10,5,FALSE)","v":57},{"$f":"T25-HLOOKUP(X25,Feuil1!$C$1:$BJ$10,6,FALSE)","v":42},{"$f":"T25-HLOOKUP(X25,Feuil1!$C$1:$BJ$10,7,FALSE)","v":27},{"$f":"T25-HLOOKUP(X25,Feuil1!$C$1:$BJ$10,8,FALSE)","v":12},{"$f":"T25-HLOOKUP(X25,Feuil1!$C$1:$BJ$10,9,FALSE)","v":-8},{"$f":"T25-HLOOKUP(X25,Feuil1!$C$1:$BJ$10,10,FALSE)","v":-828},null,null,null,null,null,null,{"$f":"IF(AJ25>=0,$AJ$5,IF(AI25>=0,$AI$5,IF(AH25>=0,$AH$5,IF(AG25>=0,$AG$5,IF(AF25>=0,$AF$5,IF(AE25>=0,$AE$5,IF(AD25>=0,$AD$5,IF(AC25>=0,$AC$5,$AB$5))))))))","v":"INTB +"}]
["F",null,null,null,null,null,null,1995,63,{"$f":"F22","v":" "},null,69,null,null,69,90,null,null,90,159,{"$f":"T26-I26","v":96},"NAT +",19,{"$f":"IF(I26=\"\",\"\",IF(A26=\"H\",IF(OR(H26=\"SEN\",H26<1997),VLOOKUP(I26,Feuil1!$A$11:$G$29,6),IF(AND(H26>1996,H26<2000),VLOOKUP(I26,Feuil1!$A$11:$G$29,5),IF(AND(H26>1999,H26<2002),VLOOKUP(I26,Feuil1!$A$11:$G$29,4),IF(AND(H26>2001,H26<2004),VLOOKUP(I26,Feuil1!$A$11:$G$29,3),VLOOKUP(I26,Feuil1!$A$11:$G$29,2))))),IF(OR(H26=\"SEN\",H26<1997),VLOOKUP(I26,Feuil1!$G$11:$L$25,6),IF(AND(H26>1996,H26<2000),VLOOKUP(I26,Feuil1!$G$11:$L$25,5),IF(AND(H26>1999,H26<2002),VLOOKUP(I26,Feuil1!$G$11:$L$25,4),IF(AND(H26>2001,H26<2004),VLOOKUP(I26,Feuil1!$G$11:$L$25,3),VLOOKUP(I26,Feuil1!$G$11:$L$25,2)))))))","v":"FS63"},211.29795553058395,null," ",{"$f":"T26-HLOOKUP(X26,Feuil1!$C$1:$BJ$10,2,FALSE)","v":84},{"$f":"T26-HLOOKUP(X26,Feuil1!$C$1:$BJ$10,3,FALSE)","v":74},{"$f":"T26-HLOOKUP(X26,Feuil1!$C$1:$BJ$10,4,FALSE)","v":64},{"$f":"T26-HLOOKUP(X26,Feuil1!$C$1:$BJ$10,5,FALSE)","v":49},{"$f":"T26-HLOOKUP(X26,Feuil1!$C$1:$BJ$10,6,FALSE)","v":34},{"$f":"T26-HLOOKUP(X26,Feuil1!$C$1:$BJ$10,7,FALSE)","v":19},{"$f":"T26-HLOOKUP(X26,Feuil1!$C$1:$BJ$10,8,FALSE)","v":-1},{"$f":"T26-HLOOKUP(X26,Feuil1!$C$1:$BJ$10,9,FALSE)","v":-21},{"$f":"T26-HLOOKUP(X26,Feuil1!$C$1:$BJ$10,10,FALSE)","v":-41},null,null,null,null,null,null,"NAT +"]
["F",null,null,null,null,null,null,2000,58,{"$f":"F22","v":" "},null,80,null,null,80,100,null,null,100,180,{"$f":"T27-I27","v":122},"INTA +",50,{"$f":"IF(I27=\"\",\"\",IF(A27=\"H\",IF(OR(H27=\"SEN\",H27<1997),VLOOKUP(I27,Feuil1!$A$11:$G$29,6),IF(AND(H27>1996,H27<2000),VLOOKUP(I27,Feuil1!$A$11:$G$29,5),IF(AND(H27>1999,H27<2002),VLOOKUP(I27,Feuil1!$A$11:$G$29,4),IF(AND(H27>2001,H27<2004),VLOOKUP(I27,Feuil1!$A$11:$G$29,3),VLOOKUP(I27,Feuil1!$A$11:$G$29,2))))),IF(OR(H27=\"SEN\",H27<1997),VLOOKUP(I27,Feuil1!$G$11:$L$25,6),IF(AND(H27>1996,H27<2000),VLOOKUP(I27,Feuil1!$G$11:$L$25,5),IF(AND(H27>1999,H27<2002),VLOOKUP(I27,Feuil1!$G$11:$L$25,4),IF(AND(H27>2001,H27<2004),VLOOKUP(I27,Feuil1!$G$11:$L$25,3),VLOOKUP(I27,Feuil1!$G$11:$L$25,2)))))))","v":"FC2 58"},253.4178084030498,null," ",{"$f":"T27-HLOOKUP(X27,Feuil1!$C$1:$BJ$10,2,FALSE)","v":130},{"$f":"T27-HLOOKUP(X27,Feuil1!$C$1:$BJ$10,3,FALSE)","v":120},{"$f":"T27-HLOOKUP(X27,Feuil1!$C$1:$BJ$10,4,FALSE)","v":110},{"$f":"T27-HLOOKUP(X27,Feuil1!$C$1:$BJ$10,5,FALSE)","v":100},{"$f":"T27-HLOOKUP(X27,Feuil1!$C$1:$BJ$10,6,FALSE)","v":90},{"$f":"T27-HLOOKUP(X27,Feuil1!$C$1:$BJ$10,7,FALSE)","v":80},{"$f":"T27-HLOOKUP(X27,Feuil1!$C$1:$BJ$10,8,FALSE)","v":65},{"$f":"T27-HLOOKUP(X27,Feuil1!$C$1:$BJ$10,9,FALSE)","v":50},{"$f":"T27-HLOOKUP(X27,Feuil1!$C$1:$BJ$10,10,FALSE)","v":-820},null,null,null,null,null,null,"INTA +"]
[null,null,null,null," ",null,null,null,null,null,null,null,null,null,null,null,null,null,null,null,null,null,null,null,null,null," ",{"$f":"T28-HLOOKUP(X28,Feuil1!$C$1:$BJ$10,2,FALSE)","v":{"$error":"#N/A"}},{"$f":"T28-HLOOKUP(X28,Feuil1!$C$1:$BJ$10,3,FALSE)","v":{"$error":"#N/A"}},{"$f":"T28-HLOOKUP(X28,Feuil1!$C$1:$BJ$10,4,FALSE)","v":{"$error":"#N/A"}},{"$f":"T28-HLOOKUP(X28,Feuil1!$C$1:$BJ$10,5,FALSE)","v":{"$error":"#N/A"}},{"$f":"T28-HLOOKUP(X28,Feuil1!$C$1:$BJ$10,6,FALSE)","v":{"$error":"#N/A"}},{"$f":"T28-HLOOKUP(X28,Feuil1!$C$1:$BJ$10,7,FALSE)","v":{"$error":"#N/A"}},{"$f":"T28-HLOOKUP(X28,Feuil1!$C$1:$BJ$10,8,FALSE)","v":{"$error":"#N/A"}},{"$f":"T28-HLOOKUP(X28,Feuil1!$C$1:$BJ$10,9,FALSE)","v":{"$error":"#N/A"}},{"$f":"T28-HLOOKUP(X28,Feuil1!$C$1:$BJ$10,10,FALSE)","v":{"$error":"#N/A"}},null,null,null,null,null,null,{"$error":"#N/A"}]
[null,null,null,null,null,"CLASSEMENT : ",null,{"$f":"IF(V29=\"\",\"\",RANK(V29,$Z$8:$Z$11,0))","v":3},null,null,null,null,null,null,null,null,null,null,"Score de l'équipe",null,null,{"$f":"IF(H25=\"\",\"\",IF(H27=\"\",SUM(Y24:Y27),(SUM(Y24:Y27))))","v":896.53936885614348},null,null,null,null," ",{"$f":"S29-HLOOKUP(X29,Feuil1!$C$1:$BJ$10,2,FALSE)","v":{"$error":"#VALUE!"}},{"$f":"S29-HLOOKUP(X29,Feuil1!$C$1:$BJ$10,3,FALSE)","v":{"$error":"#VALUE!"}},{"$f":"S29-HLOOKUP(X29,Feuil1!$C$1:$BJ$10,4,FALSE)","v":{"$error":"#VALUE!"}},{"$f":"S29-HLOOKUP(X29,Feuil1!$C$1:$BJ$10,5,FALSE)","v":{"$error":"#VALUE!"}},{"$f":"S29-HLOOKUP(X29,Feuil1!$C$1:$BJ$10,6,FALSE)","v":{"$error":"#VALUE!"}},{"$f":"S29-HLOOKUP(X29,Feuil1!$C$1:$BJ$10,7,FALSE)","v":{"$error":"#VALUE!"}},{"$f":"S29-HLOOKUP(X29,Feuil1!$C$1:$BJ$10,8,FALSE)","v":{"$error":"#VALUE!"}},{"$f":"S29-HLOOKUP(X29,Feuil1!$C$1:$BJ$10,9,FALSE)","v":{"$error":"#VALUE!"}},{"$f":"S29-HLOOKUP(X29,Feuil1!$C$1:$BJ$10,10,FALSE)","v":{"$error":"#VALUE!"}},null,null,null,null,null,null,{"$error":"#VALUE!"}]
[]
[null,null,null,null,"► CLUB :"," ",null,null,null,null," ",null,null,null,null,null,null,null,null,null,null,null,null," "]
["SEXE","ZONE","REG.","CL.","LICENCE","NOMS","Prénoms","AN","POIDS","CLUB","NAT",1,2,3,"ARR",1,2,3,"EP-J","Total","Points","SERIE",null,"Catég","IWF",null," ","DEB ","DEP +","REG +","IRG +","FED +","NAT +","INTB +","INTA +","OLY +"]
["F",null,null,null,null,null,null,1996,53,{"$f":"F31","v":" "},null,60,null,null,{"$f":"IF(H33=\"\",\"\",IF(MAXA(L33:N33)<=0,0,MAXA(L33:N33)))","v":60},80,null,null,{"$f":"IF(H33=\"\",\"\",IF(MAXA(P33:R33)<=0,0,MAXA(P33:R33)))","v":80},{"$f":"IF(I33=\"\",\"\",O33+S33)","v":140},{"$f":"T33-I33","v":87},{"$f":"IF(H33=\"\",\"\",AQ33)","v":"INTB +"},{"$f":"IF(AJ33>=0,AJ33,IF(AI33>=0,AI33,IF(AH33>=0,AH33,IF(AG33>=0,AG33,IF(AF33>=0,AF33,IF(AE33>=0,AE33,IF(AD33>=0,AD33,IF(AC33>=0,AC33,AB33))))))))","v":0},{"$f":"IF(I33=\"\",\"\",IF(A33=\"H\",IF(OR(H33=\"SEN\",H33<1997),VLOOKUP(I33,Feuil1!$A$11:$G$29,6),IF(AND(H33>1996,H33<2000),VLOOKUP(I33,Feuil1!$A$11:$G$29,5),IF(AND(H33>1999,H33<2002),VLOOKUP(I33,Feuil1!$A$11:$G$29,4),IF(AND(H33>2001,H33<2004),VLOOKUP(I33,Feuil1!$A$11:$G$29,3),VLOOKUP(I33,Feuil1!$A$11:$G$29,2))))),IF(OR(H33=\"SEN\",H33<1997),VLOOKUP(I33,Feuil1!$G$11:$L$25,6),IF(AND(H33>1996,H33<2000),VLOOKUP(I33,Feuil1!$G$11:$L$25,5),IF(AND(H33>1999,H33<2002),VLOOKUP(I33,Feuil1!$G$11:$L$25,4),IF(AND(H33>2001,H33<2004),VLOOKUP(I33,Feuil1!$G$11:$L$25,3),VLOOKUP(I33,Feuil1!$G$11:$L$25,2)))))))","v":"FS53"},{"$f":"IF(I33=\"\",\"\",IF(A33=\"H\",10^(0.794358141*LOG(I33/174.393)^2)*T33,IF(A33=\"F\",10^(0.89726074*LOG(I33/148.026)^2)*T33,\"\")))","v":211.18218836031033},null," ",{"$f":"T33-HLOOKUP(X33,Feuil1!$C$1:$BJ$10,2,FALSE)","v":75},{"$f":"T33-HLOOKUP(X33,Feuil1!$C$1:$BJ$10,3,FALSE)","v":65},{"$f":"T33-HLOOKUP(X33,Feuil1!$C$1:$BJ$10,4,FALSE)","v":55},{"$f":"T33-HLOOKUP(X33,Feuil1!$C$1:$BJ$10,5,FALSE)","v":45},{"$f":"T33-HLOOKUP(X33,Feuil1!$C$1:$BJ$10,6,FALSE)","v":35},{"$f":"T33-HLOOKUP(X33,Feuil1!$C$1:$BJ$10,7,FALSE)","v":20},{"$f":"T33-HLOOKUP(X33,Feuil1!$C$1:$BJ$10,8,FALSE)","v":0},{"$f":"T33-HLOOKUP(X33,Feuil1!$C$1:$BJ$10,9,FALSE)","v":-20},{"$f":"T33-HLOOKUP(X33,Feuil1!$C$1:$BJ$10,10,FALSE)","v":-35},null,null,null,null,null,null,{"$f":"IF(AJ33>=0,$AJ$5,IF(AI33>=0,$AI$5,IF(AH33>=0,$AH$5,IF(AG33>=0,$AG$5,IF(AF33>=0,$AF$5,IF(AE33>=0,$AE$5,IF(AD33>=0,$AD$5,IF(AC33>=0,$AC$5,$AB$5))))))))","v":"INTB +"}]
["F",null,null,null,null,null,null,2002,63,{"$f":"F31","v":" "},null,60,null,null,{"$f":"IF(H34=\"\",\"\",IF(MAXA(L34:N34)<=0,0,MAXA(L34:N34)))","v":60},85,null,null,{"$f":"IF(H34=\"\",\"\",IF(MAXA(P34:R34)<=0,0,MAXA(P34:R34)))","v":85},{"$f":"IF(I34=\"\",\"\",O34+S34)","v":145},{"$f":"T34-I34","v":82},{"$f":"IF(H34=\"\",\"\",AQ34)","v":"INTA +"},{"$f":"IF(AJ34>=0,AJ34,IF(AI34>=0,AI34,IF(AH34>=0,AH34,IF(AG34>=0,AG34,IF(AF34>=0,AF34,IF(AE34>=0,AE34,IF(AD34>=0,AD34,IF(AC34>=0,AC34,AB34))))))))","v":20},{"$f":"IF(I34=\"\",\"\",IF(A34=\"H\",IF(OR(H34=\"SEN\",H34<1997),VLOOKUP(I34,Feuil1!$A$11:$G$29,6),IF(AND(H34>1996,H34<2000),VLOOKUP(I34,Feuil1!$A$11:$G$29,5),IF(AND(H34>1999,H34<2002),VLOOKUP(I34,Feuil1!$A$11:$G$29,4),IF(AND(H34>2001,H34<2004),VLOOKUP(I34,Feuil1!$A$11:$G$29,3),VLOOKUP(I34,Feuil1!$A$11:$G$29,2))))),IF(OR(H34=\"SEN\",H34<1997),VLOOKUP(I34,Feuil1!$G$11:$L$25,6),IF(AND(H34>1996,H34<2000),VLOOKUP(I34,Feuil1!$G$11:$L$25,5),IF(AND(H34>1999,H34<2002),VLOOKUP(I34,Feuil1!$G$11:$L$25,4),IF(AND(H34>2001,H34<2004),VLOOKUP(I34,Feuil1!$G$11:$L$25,3),VLOOKUP(I34,Feuil1!$G$11:$L$25,2)))))))","v":"FC1 63"},{"$f":"IF(I34=\"\",\"\",IF(A34=\"H\",10^(0.794358141*LOG(I34/174.393)^2)*T34,IF(A34=\"F\",10^(0.89726074*LOG(I34/148.026)^2)*T34,\"\")))","v":192.69310410021808},null," ",{"$f":"T34-HLOOKUP(X34,Feuil1!$C$1:$BJ$10,2,FALSE)","v":100},{"$f":"T34-HLOOKUP(X34,Feuil1!$C$1:$BJ$10,3,FALSE)","v":90},{"$f":"T34-HLOOKUP(X34,Feuil1!$C$1:$BJ$10,4,FALSE)","v":80},{"$f":"T34-HLOOKUP(X34,Feuil1!$C$1:$BJ$10,5,FALSE)","v":70},{"$f":"T34-HLOOKUP(X34,Feuil1!$C$1:$BJ$10,6,FALSE)","v":60},{"$f":"T34-HLOOKUP(X34,Feuil1!$C$1:$BJ$10,7,FALSE)","v":50},{"$f":"T34-HLOOKUP(X34,Feuil1!$C$1:$BJ$10,8,FALSE)","v":35},{"$f":"T34-HLOOKUP(X34,Feuil1!$C$1:$BJ$10,9,FALSE)","v":20},{"$f":"T34-HLOOKUP(X34,Feuil1!$C$1:$BJ$10,10,FALSE)","v":-855},null,null,null,null,null,null,{"$f":"IF(AJ34>=0,$AJ$5,IF(AI34>=0,$AI$5,IF(AH34>=0,$AH$5,IF(AG34>=0,$AG$5,IF(AF34>=0,$AF$5,IF(AE34>=0,$AE$5,IF(AD34>=0,$AD$5,IF(AC34>=0,$AC$5,$AB$5))))))))","v":"INTA +"}]
["F",null,null,null,null,null,null,2000,58,{"$f":"F31","v":" "},null,80,null,null,80,99,null,null,99,179,{"$f":"T35-I35","v":121},"INTA +",49,{"$f":"IF(I35=\"\",\"\",IF(A35=\"H\",IF(OR(H35=\"SEN\",H35<1997),VLOOKUP(I35,Feuil1!$A$11:$G$29,6),IF(AND(H35>1996,H35<2000),VLOOKUP(I35,Feuil1!$A$11:$G$29,5),IF(AND(H35>1999,H35<2002),VLOOKUP(I35,Feuil1!$A$11:$G$29,4),IF(AND(H35>2001,H35<2004),VLOOKUP(I35,Feuil1!$A$11:$G$29,3),VLOOKUP(I35,Feuil1!$A$11:$G$29,2))))),IF(OR(H35=\"SEN\",H35<1997),VLOOKUP(I35,Feuil1!$G$11:$L$25,6),IF(AND(H35>1996,H35<2000),VLOOKUP(I35,Feuil1!$G$11:$L$25,5),IF(AND(H35>1999,H35<2002),VLOOKUP(I35,Feuil1!$G$11:$L$25,4),IF(AND(H35>2001,H35<2004),VLOOKUP(I35,Feuil1!$G$11:$L$25,3),VLOOKUP(I35,Feuil1!$G$11:$L$25,2)))))))","v":"FC2 58"},252.00993168969953,null," ",{"$f":"T35-HLOOKUP(X35,Feuil1!$C$1:$BJ$10,2,FALSE)","v":129},{"$f":"T35-HLOOKUP(X35,Feuil1!$C$1:$BJ$10,3,FALSE)","v":119},{"$f":"T35-HLOOKUP(X35,Feuil1!$C$1:$BJ$10,4,FALSE)","v":109},{"$f":"T35-HLOOKUP(X35,Feuil1!$C$1:$BJ$10,5,FALSE)","v":99},{"$f":"T35-HLOOKUP(X35,Feuil1!$C$1:$BJ$10,6,FALSE)","v":89},{"$f":"T35-HLOOKUP(X35,Feuil1!$C$1:$BJ$10,7,FALSE)","v":79},{"$f":"T35-HLOOKUP(X35,Feuil1!$C$1:$BJ$10,8,FALSE)","v":64},{"$f":"T35-HLOOKUP(X35,Feuil1!$C$1:$BJ$10,9,FALSE)","v":49},{"$f":"T35-HLOOKUP(X35,Feuil1!$C$1:$BJ$10,10,FALSE)","v":-821},null,null,null,null,null,null,"INTA +"]
["F",null,null,null,null,null,null,1998,48,{"$f":"F31","v":" "},null,75,null,null,75,100,null,null,100,175,{"$f":"T36-I36","v":127},"INTA +",50,{"$f":"IF(I36=\"\",\"\",IF(A36=\"H\",IF(OR(H36=\"SEN\",H36<1997),VLOOKUP(I36,Feuil1!$A$11:$G$29,6),IF(AND(H36>1996,H36<2000),VLOOKUP(I36,Feuil1!$A$11:$G$29,5),IF(AND(H36>1999,H36<2002),VLOOKUP(I36,Feuil1!$A$11:$G$29,4),IF(AND(H36>2001,H36<2004),VLOOKUP(I36,Feuil1!$A$11:$G$29,3),VLOOKUP(I36,Feuil1!$A$11:$G$29,2))))),IF(OR(H36=\"SEN\",H36<1997),VLOOKUP(I36,Feuil1!$G$11:$L$25,6),IF(AND(H36>1996,H36<2000),VLOOKUP(I36,Feuil1!$G$11:$L$25,5),IF(AND(H36>1999,H36<2002),VLOOKUP(I36,Feuil1!$G$11:$L$25,4),IF(AND(H36>2001,H36<2004),VLOOKUP(I36,Feuil1!$G$11:$L$25,3),VLOOKUP(I36,Feuil1!$G$11:$L$25,2)))))))","v":"FJ48"},286.86453309867073,null," ",{"$f":"T36-HLOOKUP(X36,Feuil1!$C$1:$BJ$10,2,FALSE)","v":130},{"$f":"T36-HLOOKUP(X36,Feuil1!$C$1:$BJ$10,3,FALSE)","v":120},{"$f":"T36-HLOOKUP(X36,Feuil1!$C$1:$BJ$10,4,FALSE)","v":110},{"$f":"T36-HLOOKUP(X36,Feuil1!$C$1:$BJ$10,5,FALSE)","v":100},{"$f":"T36-HLOOKUP(X36,Feuil1!$C$1:$BJ$10,6,FALSE)","v":90},{"$f":"T36-HLOOKUP(X36,Feuil1!$C$1:$BJ$10,7,FALSE)","v":80},{"$f":"T36-HLOOKUP(X36,Feuil1!$C$1:$BJ$10,8,FALSE)","v":65},{"$f":"T36-HLOOKUP(X36,Feuil1!$C$1:$BJ$10,9,FALSE)","v":50},{"$f":"T36-HLOOKUP(X36,Feuil1!$C$1:$BJ$10,10,FALSE)","v":-825},null,null,null,null,null,null,"INTA +"]
[null,null,null,null," ",null,null,null,null,null,null,null,null,null,null,null,null,null,null,null,null,null,null,null,null,null," ",{"$f":"T37-HLOOKUP(X37,Feuil1!$C$1:$BJ$10,2,FALSE)","v":{"$error":"#N/A"}},{"$f":"T37-HLOOKUP(X37,Feuil1!$C$1:$BJ$10,3,FALSE)","v":{"$error":"#N/A"}},{"$f":"T37-HLOOKUP(X37,Feuil1!$C$1:$BJ$10,4,FALSE)","v":{"$error":"#N/A"}},{"$f":"T37-HLOOKUP(X37,Feuil1!$C$1:$BJ$10,5,FALSE)","v":{"$error":"#N/A"}},{"$f":"T37-HLOOKUP(X37,Feuil1!$C$1:$BJ$10,6,FALSE)","v":{"$error":"#N/A"}},{"$f":"T37-HLOOKUP(X37,Feuil1!$C$1:$BJ$10,7,FALSE)","v":{"$error":"#N/A"}},{"$f":"T37-HLOOKUP(X37,Feuil1!$C$1:$BJ$10,8,FALSE)","v":{"$error":"#N/A"}},{"$f":"T37-HLOOKUP(X37,Feuil1!$C$1:$BJ$10,9,FALSE)","v":{"$error":"#N/A"}},{"$f":"T37-HLOOKUP(X37,Feuil1!$C$1:$BJ$10,10,FALSE)","v":{"$error":"#N/A"}},null,null,null,null,null,null,{"$error":"#N/A"}]
[null,null,null,null,null,"CLASSEMENT : ",null,{"$f":"IF(V38=\"\",\"\",RANK(V38,$Z$8:$Z$11,0))","v":1},null,null,null,null,null,null,null,null,null,null,"Score de l'équipe",null,null,{"$f":"IF(H34=\"\",\"\",IF(H36=\"\",SUM(Y33:Y36),(SUM(Y33:Y36))))","v":942.74975724889873},null,null,null,null," ",{"$f":"S38-HLOOKUP(X38,Feuil1!$C$1:$BJ$10,2,FALSE)","v":{"$error":"#VALUE!"}},{"$f":"S38-HLOOKUP(X38,Feuil1!$C$1:$BJ$10,3,FALSE)","v":{"$error":"#VALUE!"}},{"$f":"S38-HLOOKUP(X38,Feuil1!$C$1:$BJ$10,4,FALSE)","v":{"$error":"#VALUE!"}},{"$f":"S38-HLOOKUP(X38,Feuil1!$C$1:$BJ$10,5,FALSE)","v":{"$error":"#VALUE!"}},{"$f":"S38-HLOOKUP(X38,Feuil1!$C$1:$BJ$10,6,FALSE)","v":{"$error":"#VALUE!"}},{"$f":"S38-HLOOKUP(X38,Feuil1!$C$1:$BJ$10,7,FALSE)","v":{"$error":"#VALUE!"}},{"$f":"S38-HLOOKUP(X38,Feuil1!$C$1:$BJ$10,8,FALSE)","v":{"$error":"#VALUE!"}},{"$f":"S38-HLOOKUP(X38,Feuil1!$C$1:$BJ$10,9,FALSE)","v":{"$error":"#VALUE!"}},{"$f":"S38-HLOOKUP(X38,Feuil1!$C$1:$BJ$10,10,FALSE)","v":{"$error":"#VALUE!"}},null,null,null,null,null,null,{"$error":"#VALUE!"}]
[null,null,null,null,null,null,null,null,null,null,null,null,null,null,null,null,null,null,null,null,null,null,null,null,null,null," ",{"$f":"T39-HLOOKUP(X39,Feuil1!$C$1:$BJ$10,2,FALSE)","v":{"$error":"#N/A"}},{"$f":"T39-HLOOKUP(X39,Feuil1!$C$1:$BJ$10,3,FALSE)","v":{"$error":"#N/A"}},{"$f":"T39-HLOOKUP(X39,Feuil1!$C$1:$BJ$10,4,FALSE)","v":{"$error":"#N/A"}},{"$f":"T39-HLOOKUP(X39,Feuil1!$C$1:$BJ$10,5,FALSE)","v":{"$error":"#N/A"}},{"$f":"T39-HLOOKUP(X39,Feuil1!$C$1:$BJ$10,6,FALSE)","v":{"$error":"#N/A"}},{"$f":"T39-HLOOKUP(X39,Feuil1!$C$1:$BJ$10,7,FALSE)","v":{"$error":"#N/A"}},{"$f":"T39-HLOOKUP(X39,Feuil1!$C$1:$BJ$10,8,FALSE)","v":{"$error":"#N/A"}},{"$f":"T39-HLOOKUP(X39,Feuil1!$C$1:$BJ$10,9,FALSE)","v":{"$error":"#N/A"}},{"$f":"T39-HLOOKUP(X39,Feuil1!$C$1:$BJ$10,10,FALSE)","v":{"$error":"#N/A"}},null,null,null,null,null,null,{"$error":"#N/A"}]
[null,null,null,null,null,"Secrétaire de Compétition",null,null,"Arbitre 2",null,null,"Arbitre 1",null,null,null,null,"Arbitre 3",null,null,null," ",null," ",null,null,null," ",{"$f":"T40-HLOOKUP(X40,Feuil1!$C$1:$BJ$10,2,FALSE)","v":{"$error":"#N/A"}},{"$f":"T40-HLOOKUP(X40,Feuil1!$C$1:$BJ$10,3,FALSE)","v":{"$error":"#N/A"}},{"$f":"T40-HLOOKUP(X40,Feuil1!$C$1:$BJ$10,4,FALSE)","v":{"$error":"#N/A"}},{"$f":"T40-HLOOKUP(X40,Feuil1!$C$1:$BJ$10,5,FALSE)","v":{"$error":"#N/A"}},{"$f":"T40-HLOOKUP(X40,Feuil1!$C$1:$BJ$10,6,FALSE)","v":{"$error":"#N/A"}},{"$f":"T40-HLOOKUP(X40,Feuil1!$C$1:$BJ$10,7,FALSE)","v":{"$error":"#N/A"}},{"$f":"T40-HLOOKUP(X40,Feuil1!$C$1:$BJ$10,8,FALSE)","v":{"$error":"#N/A"}},{"$f":"T40-HLOOKUP(X40,Feuil1!$C$1:$BJ$10,9,FALSE)","v":{"$error":"#N/A"}},{"$f":"T40-HLOOKUP(X40,Feuil1!$C$1:$BJ$10,10,FALSE)","v":{"$error":"#N/A"}},null,null,null,null,null,null,{"$error":"#N/A"}]
[null,null,null,null,"Nom :"," ",null,"Noms :"," ",null,null," ",null,null,null,null," ",null,null,null," "," ",null,null,null,null," ",{"$f":"T41-HLOOKUP(X41,Feuil1!$C$1:$BJ$10,2,FALSE)","v":{"$error":"#N/A"}},{"$f":"T41-HLOOKUP(X41,Feuil1!$C$1:$BJ$10,3,FALSE)","v":{"$error":"#N/A"}},{"$f":"T41-HLOOKUP(X41,Feuil1!$C$1:$BJ$10,4,FALSE)","v":{"$error":"#N/A"}},{"$f":"T41-HLOOKUP(X41,Feuil1!$C$1:$BJ$10,5,FALSE)","v":{"$error":"#N/A"}},{"$f":"T41-HLOOKUP(X41,Feuil1!$C$1:$BJ$10,6,FALSE)","v":{"$error":"#N/A"}},{"$f":"T41-HLOOKUP(X41,Feuil1!$C$1:$BJ$10,7,FALSE)","v":{"$error":"#N/A"}},{"$f":"T41-HLOOKUP(X41,Feuil1!$C$1:$BJ$10,8,FALSE)","v":{"$error":"#N/A"}},{"$f":"T41-HLOOKUP(X41,Feuil1!$C$1:$BJ$10,9,FALSE)","v":{"$error":"#N/A"}},{"$f":"T41-HLOOKUP(X41,Feuil1!$C$1:$BJ$10,10,FALSE)","v":{"$error":"#N/A"}},null,null,null,null,null,null,{"$error":"#N/A"}]
[null,null,null,null,"Signature :",null,null,"Signatures :"," ",null,null," ",null,null,null,null," ",null,null,null," ",null,null,null,null,null," ",{"$f":"T42-HLOOKUP(X42,Feuil1!$C$1:$BJ$10,2,FALSE)","v":{"$error":"#N/A"}},{"$f":"T42-HLOOKUP(X42,Feuil1!$C$1:$BJ$10,3,FALSE)","v":{"$error":"#N/A"}},{"$f":"T42-HLOOKUP(X42,Feuil1!$C$1:$BJ$10,4,FALSE)","v":{"$error":"#N/A"}},{"$f":"T42-HLOOKUP(X42,Feuil1!$C$1:$BJ$10,5,FALSE)","v":{"$error":"#N/A"}},{"$f":"T42-HLOOKUP(X42,Feuil1!$C$1:$BJ$10,6,FALSE)","v":{"$error":"#N/A"}},{"$f":"T42-HLOOKUP(X42,Feuil1!$C$1:$BJ$10,7,FALSE)","v":{"$error":"#N/A"}},{"$f":"T42-HLOOKUP(X42,Feuil1!$C$1:$BJ$10,8,FALSE)","v":{"$error":"#N/A"}},{"$f":"T42-HLOOKUP(X42,Feuil1!$C$1:$BJ$10,9,FALSE)","v":{"$error":"#N/A"}},{"$f":"T42-HLOOKUP(X42,Feuil1!$C$1:$BJ$10,10,FALSE)","v":{"$error":"#N/A"}},null,null,null,null,null,null,{"$error":"#N/A"}]
[]
[]
[]
[]
[]
[]
[]
[]
[]
[]
[]
[]
[]
[]
[]
[]
[]
[]
[]
[]
[]
[]
[]
[]
[]
[]
[]
[]
[]
[]
[]
[]
[]
[]
[]
[]
[]
[]
[]
[]
[]
[]
[]
[]
[]
[]
[]
[]
[]
[]
[]
[]
[]
[]
[]
[]
[]
[]
[]
[]
[]
[]
[]
[]
[]
[]
[]
[]
[]
[]
[]
[]
[]
[]
[]
[]
[]
[]
[]
[]
[]
[]
[]
[]
[]
[]
[]
[]
[]
[]
[]
[]
[]
[]
[]
[]
[]
[]
[]
[]
[]
[]
[]
[]
[]
[]
[]
[]
[]
[]
[]
[]
[]
[]
[]
[]
[]
[]
[]
[]
[]
[]
[]
[]
[]
[]
[]
[]
[]
[]
[]
[]
[]
[]
[]
[]
[]
[]
[]
[]
[]
[]
[]
[]
[]
[]
[]
[]
[]
[]
[]
[]
[]
[]
[]
[]
[]
[]
[]
[]
[]
[]
[]
[]
[]
[]
[]
[]
[]
[]
[]
[]
[]
[]
[]
[]
[]
[]
[]
[]
[]
[]
[]
[]
[]
[]
[]
[]
[]
[]
[]
[]
[]
[]
[]
[]
[]
[]
[]
[]
[]
[]
[]
[]
[]
[]
[]
[]
[]
[]
[]
[]
[]
[]
[]
[]
[]
[]
[]
[]
[]
[]
[]
[]
[]
[]
[]
[]
[]
[]
[]
[]
[]
[]
[]
[]
[]
[]
[]
[]
[]
[]
[]
[]
[]
[]
[]
[]
[]
[]
[]
[]
[]
[]
[]
[]
[]
[]
[]
[]
[]
[]
[]
[]
[]
[]
[]
[]
[]
[]
[]
[]
[]
[]
[]
[]
[]
[]
[]
[]
[]
[]
[]
[]
[]
[]
[]
[]
[]
[]
[]
[]
[]
[]
[]
[]
[]
[]
[]
[]
[]
[]
[]
[]
[]
[]
[]
[]
[]
[]
[]
[]
[]
[]
[]
[]
[]
[]
[]
[]
[]
[]
[]
[]
[]
[]
[]
[]
[]
[]
[]
[]
[]
[]
[]
[]
[]
[]
[]
[]
[]
[]
[]
[]
[]
[]
[]
[]
[]
[]
[]
[]
[]
[]
[]
[]
[]
[]
[]
[]
[]
[]
[]
[]
[]
[]
[]
[]
[]
[]
[]
[]
[]
[]
[]
[]
[]
[]
[]
[]
[]
[]
[]
[]
[]
[]
[]
[]
[]
[]
[]
[]
[null,null,null,null,null,null,null,null,null,null,null,null,null,null,null,null,null,null,null,null,null,null,null,null,null,null,null,"J77","J85","J94","J105","J+105",null,"J56","J62","J69","J77","J85","J94","J105","J+105",null,"S56","S62","S69","S77","S85","S94","S105","S+105"]
[null,null,null,null,null,null,null,null,null,null,null,null,null,null,null,null,null,null,null,null,null,null,null,null,null,null,null,145,160,170,180,190,null,100,115,130,145,160,170,180,190,null,115,135,150,165,180,190,200,210]
[null,null,null,null,null,null,null,null,null,null,null,null,null,null,null,null,null,null,null,null,null,null,null,null,null,null,null,165,180,190,200,210,null,115,135,150,165,180,190,200,210,null,130,150,165,185,200,210,220,230]
[null,null,null,null,null,null,null,null,null,null,null,null,null,null,null,null,null,null,null,null,null,null,null,null,null,null,null,185,200,210,220,230,null,130,150,165,185,200,210,220,230,null,145,165,180,200,220,230,240,250]
[null,null,null,null,null,null,null,null,null,null,null,null,null,null,null,null,null,null,null,null,null,null,null,null,null,null,null,200,220,230,240,250,null,145,165,180,200,220,230,240,250,null,175,195,215,235,250,260,275,280]
[null,null,null,null,null,null,null,null,null,null,null,null,null,null,null,null,null,null,null,null,null,null,null,null,null,null,null,235,250,260,275,280,null,175,195,215,235,250,260,275,280,null,210,230,250,270,290,300,310,325]
[null,null,null,null,null,null,null,null,null,null,null,null,null,null,null,null,null,null,null,null,null,null,null,null,null,null,null,270,290,300,310,325,null,210,230,250,270,290,300,310,325,null,230,255,275,300,315,335,345,355]
[null,null,null,null,null,null,null,null,null,null,null,null,null,null,null,null,null,null,null,null,null,null,null,null,null,null,null,320,335,355,370,380,null,245,270,295,320,335,355,370,380,null,245,270,295,320,335,355,370,380]