{"text_format":"1","workbook":"xlsx","n_sheets":5,"sheets":["Feuil1","CADETS 1","CADETS 2","JUNIORS","SENIORS"],"not_rendered":{"charts":0,"images":0,"macros":1,"external_links":0,"defined_names":8,"comments":4,"pivot_tables":0},"unopened":[],"bounds":{"document_bytes":16777216,"sheet_cells":100000,"rows_first":2000,"rows_last":500,"rows_between":2000,"halvings":0,"cell_chars":16384,"cell_head_chars":4096},"cells_cut":0,"cells_raw":0,"read":"whole","date_system":"1900"}

{"sheet":"Feuil1","index":0,"n_rows":29,"n_cols":64,"rows_kept":29,"cut":false,"hidden":true,"merged":[]}
[null,null,"FC1 40","FC1 44","FC1 48","FC1 53","FC1 58","FC1 63","FC1 69","FC1 +69","FC2 44","FC2 48","FC2 53","FC2 58","FC2 63","FC2 69","FC2 +69","FJ48","FJ53","FJ58","FJ63","FJ69","FJ75","FJ+75","FS48","FS53","FS58","FS63","FS69","FS75","FS+75","C1 45","C1 50","C1 56","C1 62","C1 69","C1 77","C1 85","C1 94","C1 +94","C2 50","C2 56","C2 62","C2 69","C2 77","C2 85","C2 94","C2 +94","J56","J62","J69","J77","J85","J94","J105","J+105","S56","S62","S69","S77","S85","S94","S105","S+105"]
[null,"DEBUTANT",20,25,25,35,40,45,50,60,30,35,45,50,55,60,70,45,55,60,65,70,80,90,55,65,70,75,80,95,100,35,40,50,75,85,90,100,110,120,45,65,85,95,110,120,125,135,80,90,110,130,145,150,155,165,95,120,130,150,165,170,175,185]
[null,"DEPARTEMENTAL",25,35,35,45,50,55,60,70,40,45,55,60,65,70,80,55,65,70,75,80,95,100,65,75,80,85,90,105,110,50,55,70,95,105,110,120,130,140,65,85,105,115,130,140,145,155,100,120,130,150,165,170,175,185,115,135,150,170,185,190,195,205]
[null,"REGIONAL",35,40,45,55,60,65,70,80,50,55,65,70,75,80,95,65,75,80,85,90,105,110,75,85,90,95,105,115,125,60,65,85,105,115,130,140,145,155,80,100,120,130,150,160,165,175,115,135,150,170,185,190,195,205,130,150,170,190,205,215,220,225]
[null,"INTERREGIONAL",45,50,55,65,70,75,80,95,60,65,75,80,85,90,105,75,85,90,95,105,115,125,85,95,100,110,120,130,140,75,80,100,120,130,150,160,165,175,95,115,135,150,170,180,185,195,130,150,170,190,205,215,220,225,145,170,190,210,225,235,245,250]
[null,"FEDERAL",50,60,65,75,80,85,90,105,70,75,85,90,95,105,115,85,95,100,110,120,130,140,95,105,115,125,135,145,150,90,95,115,135,150,170,180,185,195,110,130,150,170,185,200,210,220,145,170,190,210,225,235,245,250,170,190,220,240,250,260,270,280]
[null,"NATIONAL",60,70,75,85,90,95,105,115,80,85,95,100,110,120,130,95,105,115,125,135,145,150,110,120,130,140,150,160,170,105,110,130,150,170,185,200,210,220,120,145,170,190,200,220,225,235,170,190,220,240,250,260,270,280,190,210,240,265,280,290,300,310]
[null,"INTERNATIONAL B",70,80,85,95,100,110,120,130,90,95,105,115,125,135,145,110,120,130,140,150,160,170,125,140,150,160,170,180,190,115,120,145,170,190,200,220,225,235,135,170,190,210,220,240,250,260,190,210,240,260,280,290,300,310,210,230,260,285,300,310,325,330]
[null,"INTERNATIONAL A",80,90,95,105,115,125,135,145,100,110,120,130,140,150,160,125,135,150,160,170,180,190,140,160,170,180,190,195,210,130,135,170,190,210,220,240,250,260,150,190,210,230,250,260,280,280,210,230,250,285,300,310,325,330,225,255,275,305,325,330,345,355]
[null,"OLYMPIQUE",1000,1000,1000,1000,1000,1000,1000,1000,1000,1000,1000,1000,1000,1000,1000,1000,1000,1000,1000,1000,1000,1000,155,175,190,200,205,210,225,1000,1000,1000,1000,1000,1000,10000,1000,1000,1000,1000,1000,1000,1000,10000,1000,1000,1000,1000,1000,10000,1000,1000,1000,10000,240,270,290,320,345,355,365,375]
[null,"MINIME","CADET","CADET","JUNIOR","SENIOR",null,"MINIME","CADETTE","CADETTE","JUNIOR","SENIOR"]
[20.010000000000002,"NON","C1 45","C2 50","J56","S56",20.010000000000002,"NON","FC1 40","FC2 44","FJ48","FS48"]
[34.01,"NON","C1 45","C2 50","J56","S56",30.01,"NON","FC1 40","FC2 44","FJ48","FS48"]
[38.01,"NON","C1 45","C2 50","J56","S56",35.01,"NON","FC1 40","FC2 44","FJ48","FS48"]
[40.01,"NON","C1 45","C2 50","J56","S56",36.01,"NON","FC1 40","FC2 44","FJ48","FS48"]
[45.01,"NON","C1 50","C2 50","J56","S56",40.01,"NON","FC1 44","FC2 44","FJ48","FS48"]
[50.01,"NON","C1 56","C2 56","J56","S56",44.01,"NON","FC1 48","FC2 48","FJ48","FS48"]
[52.05,"NON","C1 56","C2 56","J56","S56",48.01,"NON","FC1 53","FC2 53","FJ53","FS53"]
[56.01,"NON","C1 62","C2 62","J62","S62",53.01,"NON","FC1 58","FC2 58","FJ58","FS58"]
[62.01,"NON","C1 69","C2 69","J69","S69",58.01,"NON","FC1 63","FC2 63","FJ63","FS63"]
[69.010000000000005,"NON","C1 77","C2 77","J77","S77",63.01,"NON","FC1 69","FC2 69","FJ69","FS69"]
[77.010000000000005,"NON","C1 85","C2 85","J85","S85",69.010000000000005,"NON","FC1 +69","FC2 +69","FJ75","FS75"]
[85.01,"NON","C1 94","C2 94","J94","S94",75.010000000000005,"NON","FC1 +69","FC2 +69","FJ+75","FS+75"]
[94.01,"NON","C1 +94","C2 +94","J105","S105",110,"NON","FC1 +69","FC2 +69","FJ+75","FS+75"]
[105.01,"NON","C1 +94","C2 +94","J+105","S+105",140,"NON","FC1 +69","FC2 +69","FJ+75","FS+75"]
[110,"NON","C1 +94","C2 +94","J+105","S+105"]
[120,"NON","C1 +94","C2 +94","J+105","S+105"]
[130,"NON","C1 +94","C2 +94","J+105","S+105"]
[140,"NON","C1 +94","C2 +94","J+105","S+105",null,null,null,null,null,null,null,null,null,null,null,null,null,null,null,null,null,null,null,null,null,null,null,null,null,null,null," "]

{"sheet":"CADETS 1","index":1,"n_rows":513,"n_cols":50,"rows_kept":513,"cut":false,"hidden":false,"merged":[[3,21,3,22],[0,7,0,14],[0,18,0,21],[1,6,1,10],[1,11,1,13],[1,14,1,17],[1,18,1,19],[1,21,1,22]]}
[null,null,null,null,null,"LISTING NATIONAL",null," FEMININES",null,null,null,null,null,null,null,null,"DATE :",null,"2015-03-08"]
[null,null,null,null,null," ",null,null,null,null,null,"2° TRIMESTRE"]
[]
["SEXE","ZONE","REG.","CL.","LICENCE","NOMS","Prénoms","AN","POIDS","CLUB","NAT",1,2,3,"ARR",1,2,3,"EP-J","Total","KP-2PC","SERIE",null,"Catég","IWF",null," ","DEB ","DEP +","REG +","IRG +","FED +","NAT +","INTB +","INTA +","OLY +"]
[null,null,null,null,null,null,null,null,null,null,null,null,null,null,null,null,null,null,null,null,null,null,null,null,null,null," ",{"$f":"T5-HLOOKUP(X5,Feuil1!$C$1:$BL$10,2,FALSE)","v":{"$error":"#N/A"}},{"$f":"T5-HLOOKUP(X5,Feuil1!$C$1:$BL$10,3,FALSE)","v":{"$error":"#N/A"}},{"$f":"T5-HLOOKUP(X5,Feuil1!$C$1:$BL$10,4,FALSE)","v":{"$error":"#N/A"}},{"$f":"T5-HLOOKUP(X5,Feuil1!$C$1:$BL$10,5,FALSE)","v":{"$error":"#N/A"}},{"$f":"T5-HLOOKUP(X5,Feuil1!$C$1:$BL$10,6,FALSE)","v":{"$error":"#N/A"}},{"$f":"T5-HLOOKUP(X5,Feuil1!$C$1:$BL$10,7,FALSE)","v":{"$error":"#N/A"}},{"$f":"T5-HLOOKUP(X5,Feuil1!$C$1:$BL$10,8,FALSE)","v":{"$error":"#N/A"}},{"$f":"T5-HLOOKUP(X5,Feuil1!$C$1:$BL$10,9,FALSE)","v":{"$error":"#N/A"}},{"$f":"T5-HLOOKUP(X5,Feuil1!$C$1:$BL$10,10,FALSE)","v":{"$error":"#N/A"}},null,null,null,null,null,null,{"$f":"IF(AJ5>=0,$AJ$4,IF(AI5>=0,$AI$4,IF(AH5>=0,$AH$4,IF(AG5>=0,$AG$4,IF(AF5>=0,$AF$4,IF(AE5>=0,$AE$4,IF(AD5>=0,$AD$4,IF(AC5>=0,$AC$4,$AB$4))))))))","v":{"$error":"#N/A"}}]
["F","NE","LOR",1,191333,"DUCHAUFFOUR","Mélanie",2001,33.1,"H.VALLEROY-AUBOUÉ","F",21,22,23,{"$f":"IF(H6=\"\",\"\",IF(MAXA(L6:N6)<=0,0,MAXA(L6:N6)))","v":23},30,31,32,{"$f":"IF(H6=\"\",\"\",IF(MAXA(P6:R6)<=0,0,MAXA(P6:R6)))","v":32},{"$f":"IF(H6=\"\",\"\",IF(OR(O6=0,S6=0),0,O6+S6))","v":55},{"$f":"T6-I6*2","v":-11.200000000000003},{"$f":"IF(H6=\"\",\"\",AQ6)","v":"FED +"},{"$f":"IF(AJ6>=0,AJ6,IF(AI6>=0,AI6,IF(AH6>=0,AH6,IF(AG6>=0,AG6,IF(AF6>=0,AF6,IF(AE6>=0,AE6,IF(AD6>=0,AD6,IF(AC6>=0,AC6,AB6))))))))","v":5},{"$f":"IF(I6=\"\",\"\",IF(A6=\"H\",IF(OR(H6=\"SEN\",H6<1995),VLOOKUP(I6,Feuil1!$A$11:$G$29,6),IF(AND(H6>1994,H6<1998),VLOOKUP(I6,Feuil1!$A$11:$G$29,5),IF(AND(H6>1997,H6<2000),VLOOKUP(I6,Feuil1!$A$11:$G$29,4),IF(AND(H6>1999,H6<2002),VLOOKUP(I6,Feuil1!$A$11:$G$29,3),VLOOKUP(I6,Feuil1!$A$11:$G$29,2))))),IF(OR(H6=\"SEN\",H6<1995),VLOOKUP(I6,Feuil1!$G$11:$L$25,6),IF(AND(H6>1994,H6<1998),VLOOKUP(I6,Feuil1!$G$11:$L$25,5),IF(AND(H6>1997,H6<2000),VLOOKUP(I6,Feuil1!$G$11:$L$25,4),IF(AND(H6>1999,H6<2002),VLOOKUP(I6,Feuil1!$G$11:$L$25,3),VLOOKUP(I6,Feuil1!$G$11:$L$25,2)))))))","v":"FC1 40"},{"$f":"IF(I6=\"\",\"\",IF(A6=\"H\",10^(0.794358141*LOG(I6/174.393)^2)*T6,IF(A6=\"F\",10^(0.89726074*LOG(I6/148.026)^2)*T6,\"\")))","v":131.84099772325561},null," ",{"$f":"T6-HLOOKUP(X6,Feuil1!$C$1:$BL$10,2,FALSE)","v":35},{"$f":"T6-HLOOKUP(X6,Feuil1!$C$1:$BL$10,3,FALSE)","v":30},{"$f":"T6-HLOOKUP(X6,Feuil1!$C$1:$BL$10,4,FALSE)","v":20},{"$f":"T6-HLOOKUP(X6,Feuil1!$C$1:$BL$10,5,FALSE)","v":10},{"$f":"T6-HLOOKUP(X6,Feuil1!$C$1:$BL$10,6,FALSE)","v":5},{"$f":"T6-HLOOKUP(X6,Feuil1!$C$1:$BL$10,7,FALSE)","v":-5},{"$f":"T6-HLOOKUP(X6,Feuil1!$C$1:$BL$10,8,FALSE)","v":-15},{"$f":"T6-HLOOKUP(X6,Feuil1!$C$1:$BL$10,9,FALSE)","v":-25},{"$f":"T6-HLOOKUP(X6,Feuil1!$C$1:$BL$10,10,FALSE)","v":-945},null,null,null,null,null,null,{"$f":"IF(AJ6>=0,$AJ$4,IF(AI6>=0,$AI$4,IF(AH6>=0,$AH$4,IF(AG6>=0,$AG$4,IF(AF6>=0,$AF$4,IF(AE6>=0,$AE$4,IF(AD6>=0,$AD$4,IF(AC6>=0,$AC$4,$AB$4))))))))","v":"FED +"}]
["F","N","PIC",2,332467,"FOUCART","Noémie",2000,37.61,"La Ferté Milon CMHM","F",15,18,-20,{"$f":"IF(H7=\"\",\"\",IF(MAXA(L7:N7)<=0,0,MAXA(L7:N7)))","v":18},25,27,-29,{"$f":"IF(H7=\"\",\"\",IF(MAXA(P7:R7)<=0,0,MAXA(P7:R7)))","v":27},{"$f":"IF(H7=\"\",\"\",IF(OR(O7=0,S7=0),0,O7+S7))","v":45},{"$f":"T7-I7*2","v":-30.22},{"$f":"IF(H7=\"\",\"\",AQ7)","v":"IRG +"},{"$f":"IF(AJ7>=0,AJ7,IF(AI7>=0,AI7,IF(AH7>=0,AH7,IF(AG7>=0,AG7,IF(AF7>=0,AF7,IF(AE7>=0,AE7,IF(AD7>=0,AD7,IF(AC7>=0,AC7,AB7))))))))","v":0},{"$f":"IF(I7=\"\",\"\",IF(A7=\"H\",IF(OR(H7=\"SEN\",H7<1995),VLOOKUP(I7,Feuil1!$A$11:$G$29,6),IF(AND(H7>1994,H7<1998),VLOOKUP(I7,Feuil1!$A$11:$G$29,5),IF(AND(H7>1997,H7<2000),VLOOKUP(I7,Feuil1!$A$11:$G$29,4),IF(AND(H7>1999,H7<2002),VLOOKUP(I7,Feuil1!$A$11:$G$29,3),VLOOKUP(I7,Feuil1!$A$11:$G$29,2))))),IF(OR(H7=\"SEN\",H7<1995),VLOOKUP(I7,Feuil1!$G$11:$L$25,6),IF(AND(H7>1994,H7<1998),VLOOKUP(I7,Feuil1!$G$11:$L$25,5),IF(AND(H7>1997,H7<2000),VLOOKUP(I7,Feuil1!$G$11:$L$25,4),IF(AND(H7>1999,H7<2002),VLOOKUP(I7,Feuil1!$G$11:$L$25,3),VLOOKUP(I7,Feuil1!$G$11:$L$25,2)))))))","v":"FC1 40"},{"$f":"IF(I7=\"\",\"\",IF(A7=\"H\",10^(0.794358141*LOG(I7/174.393)^2)*T7,IF(A7=\"F\",10^(0.89726074*LOG(I7/148.026)^2)*T7,\"\")))","v":93.519519582534087},null," ",{"$f":"T7-HLOOKUP(X7,Feuil1!$C$1:$BL$10,2,FALSE)","v":25},{"$f":"T7-HLOOKUP(X7,Feuil1!$C$1:$BL$10,3,FALSE)","v":20},{"$f":"T7-HLOOKUP(X7,Feuil1!$C$1:$BL$10,4,FALSE)","v":10},{"$f":"T7-HLOOKUP(X7,Feuil1!$C$1:$BL$10,5,FALSE)","v":0},{"$f":"T7-HLOOKUP(X7,Feuil1!$C$1:$BL$10,6,FALSE)","v":-5},{"$f":"T7-HLOOKUP(X7,Feuil1!$C$1:$BL$10,7,FALSE)","v":-15},{"$f":"T7-HLOOKUP(X7,Feuil1!$C$1:$BL$10,8,FALSE)","v":-25},{"$f":"T7-HLOOKUP(X7,Feuil1!$C$1:$BL$10,9,FALSE)","v":-35},{"$f":"T7-HLOOKUP(X7,Feuil1!$C$1:$BL$10,10,FALSE)","v":-955},null,null,null,null,null,null,{"$f":"IF(AJ7>=0,$AJ$4,IF(AI7>=0,$AI$4,IF(AH7>=0,$AH$4,IF(AG7>=0,$AG$4,IF(AF7>=0,$AF$4,IF(AE7>=0,$AE$4,IF(AD7>=0,$AD$4,IF(AC7>=0,$AC$4,$AB$4))))))))","v":"IRG +"}]
["F","SEST","LAN",3,378497,"MONTESSINOS","Lucile",2001,35.200000000000003,"Frontignan AC","F",14,17,19,{"$f":"IF(H8=\"\",\"\",IF(MAXA(L8:N8)<=0,0,MAXA(L8:N8)))","v":19},-20,21,23,{"$f":"IF(H8=\"\",\"\",IF(MAXA(P8:R8)<=0,0,MAXA(P8:R8)))","v":23},{"$f":"IF(H8=\"\",\"\",IF(OR(O8=0,S8=0),0,O8+S8))","v":42},{"$f":"T8-I8*2","v":-28.400000000000006},{"$f":"IF(H8=\"\",\"\",AQ8)","v":"REG +"},{"$f":"IF(AJ8>=0,AJ8,IF(AI8>=0,AI8,IF(AH8>=0,AH8,IF(AG8>=0,AG8,IF(AF8>=0,AF8,IF(AE8>=0,AE8,IF(AD8>=0,AD8,IF(AC8>=0,AC8,AB8))))))))","v":7},{"$f":"IF(I8=\"\",\"\",IF(A8=\"H\",IF(OR(H8=\"SEN\",H8<1995),VLOOKUP(I8,Feuil1!$A$11:$G$29,6),IF(AND(H8>1994,H8<1998),VLOOKUP(I8,Feuil1!$A$11:$G$29,5),IF(AND(H8>1997,H8<2000),VLOOKUP(I8,Feuil1!$A$11:$G$29,4),IF(AND(H8>1999,H8<2002),VLOOKUP(I8,Feuil1!$A$11:$G$29,3),VLOOKUP(I8,Feuil1!$A$11:$G$29,2))))),IF(OR(H8=\"SEN\",H8<1995),VLOOKUP(I8,Feuil1!$G$11:$L$25,6),IF(AND(H8>1994,H8<1998),VLOOKUP(I8,Feuil1!$G$11:$L$25,5),IF(AND(H8>1997,H8<2000),VLOOKUP(I8,Feuil1!$G$11:$L$25,4),IF(AND(H8>1999,H8<2002),VLOOKUP(I8,Feuil1!$G$11:$L$25,3),VLOOKUP(I8,Feuil1!$G$11:$L$25,2)))))))","v":"FC1 40"},{"$f":"IF(I8=\"\",\"\",IF(A8=\"H\",10^(0.794358141*LOG(I8/174.393)^2)*T8,IF(A8=\"F\",10^(0.89726074*LOG(I8/148.026)^2)*T8,\"\")))","v":93.840854044000253},null," ",{"$f":"T8-HLOOKUP(X8,Feuil1!$C$1:$BL$10,2,FALSE)","v":22},{"$f":"T8-HLOOKUP(X8,Feuil1!$C$1:$BL$10,3,FALSE)","v":17},{"$f":"T8-HLOOKUP(X8,Feuil1!$C$1:$BL$10,4,FALSE)","v":7},{"$f":"T8-HLOOKUP(X8,Feuil1!$C$1:$BL$10,5,FALSE)","v":-3},{"$f":"T8-HLOOKUP(X8,Feuil1!$C$1:$BL$10,6,FALSE)","v":-8},{"$f":"T8-HLOOKUP(X8,Feuil1!$C$1:$BL$10,7,FALSE)","v":-18},{"$f":"T8-HLOOKUP(X8,Feuil1!$C$1:$BL$10,8,FALSE)","v":-28},{"$f":"T8-HLOOKUP(X8,Feuil1!$C$1:$BL$10,9,FALSE)","v":-38},{"$f":"T8-HLOOKUP(X8,Feuil1!$C$1:$BL$10,10,FALSE)","v":-958},null,null,null,null,null,null,{"$f":"IF(AJ8>=0,$AJ$4,IF(AI8>=0,$AI$4,IF(AH8>=0,$AH$4,IF(AG8>=0,$AG$4,IF(AF8>=0,$AF$4,IF(AE8>=0,$AE$4,IF(AD8>=0,$AD$4,IF(AC8>=0,$AC$4,$AB$4))))))))","v":"REG +"}]
[null,null,null,null,null,null,null,null,null,null,null,null,null,null,null,null,null,null,null,null,null,null,null,null,null,null," ",{"$f":"T9-HLOOKUP(X9,Feuil1!$C$1:$BL$10,2,FALSE)","v":{"$error":"#N/A"}},{"$f":"T9-HLOOKUP(X9,Feuil1!$C$1:$BL$10,3,FALSE)","v":{"$error":"#N/A"}},{"$f":"T9-HLOOKUP(X9,Feuil1!$C$1:$BL$10,4,FALSE)","v":{"$error":"#N/A"}},{"$f":"T9-HLOOKUP(X9,Feuil1!$C$1:$BL$10,5,FALSE)","v":{"$error":"#N/A"}},{"$f":"T9-HLOOKUP(X9,Feuil1!$C$1:$BL$10,6,FALSE)","v":{"$error":"#N/A"}},{"$f":"T9-HLOOKUP(X9,Feuil1!$C$1:$BL$10,7,FALSE)","v":{"$error":"#N/A"}},{"$f":"T9-HLOOKUP(X9,Feuil1!$C$1:$BL$10,8,FALSE)","v":{"$error":"#N/A"}},{"$f":"T9-HLOOKUP(X9,Feuil1!$C$1:$BL$10,9,FALSE)","v":{"$error":"#N/A"}},{"$f":"T9-HLOOKUP(X9,Feuil1!$C$1:$BL$10,10,FALSE)","v":{"$error":"#N/A"}},null,null,null,null,null,null,{"$f":"IF(AJ9>=0,$AJ$4,IF(AI9>=0,$AI$4,IF(AH9>=0,$AH$4,IF(AG9>=0,$AG$4,IF(AF9>=0,$AF$4,IF(AE9>=0,$AE$4,IF(AD9>=0,$AD$4,IF(AC9>=0,$AC$4,$AB$4))))))))","v":{"$error":"#N/A"}}]
["F","NE","ALS",1,244336,"CHRISTOPHEL","Marie",2000,43.5,"ASPTT Strasbourg","F",37,40,42,{"$f":"IF(H10=\"\",\"\",IF(MAXA(L10:N10)<=0,0,MAXA(L10:N10)))","v":42},46,49,52,{"$f":"IF(H10=\"\",\"\",IF(MAXA(P10:R10)<=0,0,MAXA(P10:R10)))","v":52},{"$f":"IF(H10=\"\",\"\",IF(OR(O10=0,S10=0),0,O10+S10))","v":94},{"$f":"T10-I10*2","v":7},{"$f":"IF(H10=\"\",\"\",AQ10)","v":"INTA +"},{"$f":"IF(AJ10>=0,AJ10,IF(AI10>=0,AI10,IF(AH10>=0,AH10,IF(AG10>=0,AG10,IF(AF10>=0,AF10,IF(AE10>=0,AE10,IF(AD10>=0,AD10,IF(AC10>=0,AC10,AB10))))))))","v":4},{"$f":"IF(I10=\"\",\"\",IF(A10=\"H\",IF(OR(H10=\"SEN\",H10<1995),VLOOKUP(I10,Feuil1!$A$11:$G$29,6),IF(AND(H10>1994,H10<1998),VLOOKUP(I10,Feuil1!$A$11:$G$29,5),IF(AND(H10>1997,H10<2000),VLOOKUP(I10,Feuil1!$A$11:$G$29,4),IF(AND(H10>1999,H10<2002),VLOOKUP(I10,Feuil1!$A$11:$G$29,3),VLOOKUP(I10,Feuil1!$A$11:$G$29,2))))),IF(OR(H10=\"SEN\",H10<1995),VLOOKUP(I10,Feuil1!$G$11:$L$25,6),IF(AND(H10>1994,H10<1998),VLOOKUP(I10,Feuil1!$G$11:$L$25,5),IF(AND(H10>1997,H10<2000),VLOOKUP(I10,Feuil1!$G$11:$L$25,4),IF(AND(H10>1999,H10<2002),VLOOKUP(I10,Feuil1!$G$11:$L$25,3),VLOOKUP(I10,Feuil1!$G$11:$L$25,2)))))))","v":"FC1 44"},{"$f":"IF(I10=\"\",\"\",IF(A10=\"H\",10^(0.794358141*LOG(I10/174.393)^2)*T10,IF(A10=\"F\",10^(0.89726074*LOG(I10/148.026)^2)*T10,\"\")))","v":168.62804246747376},null," ",{"$f":"T10-HLOOKUP(X10,Feuil1!$C$1:$BL$10,2,FALSE)","v":69},{"$f":"T10-HLOOKUP(X10,Feuil1!$C$1:$BL$10,3,FALSE)","v":59},{"$f":"T10-HLOOKUP(X10,Feuil1!$C$1:$BL$10,4,FALSE)","v":54},{"$f":"T10-HLOOKUP(X10,Feuil1!$C$1:$BL$10,5,FALSE)","v":44},{"$f":"T10-HLOOKUP(X10,Feuil1!$C$1:$BL$10,6,FALSE)","v":34},{"$f":"T10-HLOOKUP(X10,Feuil1!$C$1:$BL$10,7,FALSE)","v":24},{"$f":"T10-HLOOKUP(X10,Feuil1!$C$1:$BL$10,8,FALSE)","v":14},{"$f":"T10-HLOOKUP(X10,Feuil1!$C$1:$BL$10,9,FALSE)","v":4},{"$f":"T10-HLOOKUP(X10,Feuil1!$C$1:$BL$10,10,FALSE)","v":-906},null,null,null,null,null,null,{"$f":"IF(AJ10>=0,$AJ$4,IF(AI10>=0,$AI$4,IF(AH10>=0,$AH$4,IF(AG10>=0,$AG$4,IF(AF10>=0,$AF$4,IF(AE10>=0,$AE$4,IF(AD10>=0,$AD$4,IF(AC10>=0,$AC$4,$AB$4))))))))","v":"INTA +"}]
["F","CO","PDL",2,379232,"HEUZE","Emma",2000,43.96,"CA Evron 53","F",30,33,35,35,40,43,45,45,80,-7.9200000000000017,"INTB +",0,{"$f":"IF(I11=\"\",\"\",IF(A11=\"H\",IF(OR(H11=\"SEN\",H11<1995),VLOOKUP(I11,Feuil1!$A$11:$G$29,6),IF(AND(H11>1994,H11<1998),VLOOKUP(I11,Feuil1!$A$11:$G$29,5),IF(AND(H11>1997,H11<2000),VLOOKUP(I11,Feuil1!$A$11:$G$29,4),IF(AND(H11>1999,H11<2002),VLOOKUP(I11,Feuil1!$A$11:$G$29,3),VLOOKUP(I11,Feuil1!$A$11:$G$29,2))))),IF(OR(H11=\"SEN\",H11<1995),VLOOKUP(I11,Feuil1!$G$11:$L$25,6),IF(AND(H11>1994,H11<1998),VLOOKUP(I11,Feuil1!$G$11:$L$25,5),IF(AND(H11>1997,H11<2000),VLOOKUP(I11,Feuil1!$G$11:$L$25,4),IF(AND(H11>1999,H11<2002),VLOOKUP(I11,Feuil1!$G$11:$L$25,3),VLOOKUP(I11,Feuil1!$G$11:$L$25,2)))))))","v":"FC1 44"},142.08573810880586,null," ",{"$f":"T11-HLOOKUP(X11,Feuil1!$C$1:$BL$10,2,FALSE)","v":55},{"$f":"T11-HLOOKUP(X11,Feuil1!$C$1:$BL$10,3,FALSE)","v":45},{"$f":"T11-HLOOKUP(X11,Feuil1!$C$1:$BL$10,4,FALSE)","v":40},{"$f":"T11-HLOOKUP(X11,Feuil1!$C$1:$BL$10,5,FALSE)","v":30},{"$f":"T11-HLOOKUP(X11,Feuil1!$C$1:$BL$10,6,FALSE)","v":20},{"$f":"T11-HLOOKUP(X11,Feuil1!$C$1:$BL$10,7,FALSE)","v":10},{"$f":"T11-HLOOKUP(X11,Feuil1!$C$1:$BL$10,8,FALSE)","v":0},{"$f":"T11-HLOOKUP(X11,Feuil1!$C$1:$BL$10,9,FALSE)","v":-10},{"$f":"T11-HLOOKUP(X11,Feuil1!$C$1:$BL$10,10,FALSE)","v":-920},null,null,null,null,null,null,"INTB +"]
["F","N","IDF",3,357786,"MACE","DORIANE",2000,43.8,"US METRO","F",30,-34,34,34,40,45,-50,45,79,-8.5999999999999943,"NAT +",9,{"$f":"IF(I12=\"\",\"\",IF(A12=\"H\",IF(OR(H12=\"SEN\",H12<1995),VLOOKUP(I12,Feuil1!$A$11:$G$29,6),IF(AND(H12>1994,H12<1998),VLOOKUP(I12,Feuil1!$A$11:$G$29,5),IF(AND(H12>1997,H12<2000),VLOOKUP(I12,Feuil1!$A$11:$G$29,4),IF(AND(H12>1999,H12<2002),VLOOKUP(I12,Feuil1!$A$11:$G$29,3),VLOOKUP(I12,Feuil1!$A$11:$G$29,2))))),IF(OR(H12=\"SEN\",H12<1995),VLOOKUP(I12,Feuil1!$G$11:$L$25,6),IF(AND(H12>1994,H12<1998),VLOOKUP(I12,Feuil1!$G$11:$L$25,5),IF(AND(H12>1997,H12<2000),VLOOKUP(I12,Feuil1!$G$11:$L$25,4),IF(AND(H12>1999,H12<2002),VLOOKUP(I12,Feuil1!$G$11:$L$25,3),VLOOKUP(I12,Feuil1!$G$11:$L$25,2)))))))","v":"FC1 44"},140.79532809649223,null," ",{"$f":"T12-HLOOKUP(X12,Feuil1!$C$1:$BL$10,2,FALSE)","v":54},{"$f":"T12-HLOOKUP(X12,Feuil1!$C$1:$BL$10,3,FALSE)","v":44},{"$f":"T12-HLOOKUP(X12,Feuil1!$C$1:$BL$10,4,FALSE)","v":39},{"$f":"T12-HLOOKUP(X12,Feuil1!$C$1:$BL$10,5,FALSE)","v":29},{"$f":"T12-HLOOKUP(X12,Feuil1!$C$1:$BL$10,6,FALSE)","v":19},{"$f":"T12-HLOOKUP(X12,Feuil1!$C$1:$BL$10,7,FALSE)","v":9},{"$f":"T12-HLOOKUP(X12,Feuil1!$C$1:$BL$10,8,FALSE)","v":-1},{"$f":"T12-HLOOKUP(X12,Feuil1!$C$1:$BL$10,9,FALSE)","v":-11},{"$f":"T12-HLOOKUP(X12,Feuil1!$C$1:$BL$10,10,FALSE)","v":-921},null,null,null,null,null,null,"NAT +"]
["F","N","NPC",4,367010,"PIETERS","Justine",2000,43.9,"C.A.ROSENDAEL","F",28,30,-32,30,40,43,45,45,75,-12.799999999999997,"NAT +",5,{"$f":"IF(I13=\"\",\"\",IF(A13=\"H\",IF(OR(H13=\"SEN\",H13<1995),VLOOKUP(I13,Feuil1!$A$11:$G$29,6),IF(AND(H13>1994,H13<1998),VLOOKUP(I13,Feuil1!$A$11:$G$29,5),IF(AND(H13>1997,H13<2000),VLOOKUP(I13,Feuil1!$A$11:$G$29,4),IF(AND(H13>1999,H13<2002),VLOOKUP(I13,Feuil1!$A$11:$G$29,3),VLOOKUP(I13,Feuil1!$A$11:$G$29,2))))),IF(OR(H13=\"SEN\",H13<1995),VLOOKUP(I13,Feuil1!$G$11:$L$25,6),IF(AND(H13>1994,H13<1998),VLOOKUP(I13,Feuil1!$G$11:$L$25,5),IF(AND(H13>1997,H13<2000),VLOOKUP(I13,Feuil1!$G$11:$L$25,4),IF(AND(H13>1999,H13<2002),VLOOKUP(I13,Feuil1!$G$11:$L$25,3),VLOOKUP(I13,Feuil1!$G$11:$L$25,2)))))))","v":"FC1 44"},133.37773576466134,null," ",{"$f":"T13-HLOOKUP(X13,Feuil1!$C$1:$BL$10,2,FALSE)","v":50},{"$f":"T13-HLOOKUP(X13,Feuil1!$C$1:$BL$10,3,FALSE)","v":40},{"$f":"T13-HLOOKUP(X13,Feuil1!$C$1:$BL$10,4,FALSE)","v":35},{"$f":"T13-HLOOKUP(X13,Feuil1!$C$1:$BL$10,5,FALSE)","v":25},{"$f":"T13-HLOOKUP(X13,Feuil1!$C$1:$BL$10,6,FALSE)","v":15},{"$f":"T13-HLOOKUP(X13,Feuil1!$C$1:$BL$10,7,FALSE)","v":5},{"$f":"T13-HLOOKUP(X13,Feuil1!$C$1:$BL$10,8,FALSE)","v":-5},{"$f":"T13-HLOOKUP(X13,Feuil1!$C$1:$BL$10,9,FALSE)","v":-15},{"$f":"T13-HLOOKUP(X13,Feuil1!$C$1:$BL$10,10,FALSE)","v":-925},null,null,null,null,null,null,"NAT +"]
["F","N","NPC",5,298339,"RIQUIER","Angélique",2001,42.6,"CHCD COMINES","F",22,25,-27,25,32,35,37,37,62,-23.200000000000003,"FED +",2,{"$f":"IF(I14=\"\",\"\",IF(A14=\"H\",IF(OR(H14=\"SEN\",H14<1995),VLOOKUP(I14,Feuil1!$A$11:$G$29,6),IF(AND(H14>1994,H14<1998),VLOOKUP(I14,Feuil1!$A$11:$G$29,5),IF(AND(H14>1997,H14<2000),VLOOKUP(I14,Feuil1!$A$11:$G$29,4),IF(AND(H14>1999,H14<2002),VLOOKUP(I14,Feuil1!$A$11:$G$29,3),VLOOKUP(I14,Feuil1!$A$11:$G$29,2))))),IF(OR(H14=\"SEN\",H14<1995),VLOOKUP(I14,Feuil1!$G$11:$L$25,6),IF(AND(H14>1994,H14<1998),VLOOKUP(I14,Feuil1!$G$11:$L$25,5),IF(AND(H14>1997,H14<2000),VLOOKUP(I14,Feuil1!$G$11:$L$25,4),IF(AND(H14>1999,H14<2002),VLOOKUP(I14,Feuil1!$G$11:$L$25,3),VLOOKUP(I14,Feuil1!$G$11:$L$25,2)))))))","v":"FC1 44"},113.48366610977588,null," ",{"$f":"T14-HLOOKUP(X14,Feuil1!$C$1:$BL$10,2,FALSE)","v":37},{"$f":"T14-HLOOKUP(X14,Feuil1!$C$1:$BL$10,3,FALSE)","v":27},{"$f":"T14-HLOOKUP(X14,Feuil1!$C$1:$BL$10,4,FALSE)","v":22},{"$f":"T14-HLOOKUP(X14,Feuil1!$C$1:$BL$10,5,FALSE)","v":12},{"$f":"T14-HLOOKUP(X14,Feuil1!$C$1:$BL$10,6,FALSE)","v":2},{"$f":"T14-HLOOKUP(X14,Feuil1!$C$1:$BL$10,7,FALSE)","v":-8},{"$f":"T14-HLOOKUP(X14,Feuil1!$C$1:$BL$10,8,FALSE)","v":-18},{"$f":"T14-HLOOKUP(X14,Feuil1!$C$1:$BL$10,9,FALSE)","v":-28},{"$f":"T14-HLOOKUP(X14,Feuil1!$C$1:$BL$10,10,FALSE)","v":-938},null,null,null,null,null,null,"FED +"]
["F","N","IDF",6,390302,"LE PESSOT","ILLONA",2000,43,"US METRO","F",10,13,15,15,15,-18,18,18,33,-53,"DEB ",8,{"$f":"IF(I15=\"\",\"\",IF(A15=\"H\",IF(OR(H15=\"SEN\",H15<1995),VLOOKUP(I15,Feuil1!$A$11:$G$29,6),IF(AND(H15>1994,H15<1998),VLOOKUP(I15,Feuil1!$A$11:$G$29,5),IF(AND(H15>1997,H15<2000),VLOOKUP(I15,Feuil1!$A$11:$G$29,4),IF(AND(H15>1999,H15<2002),VLOOKUP(I15,Feuil1!$A$11:$G$29,3),VLOOKUP(I15,Feuil1!$A$11:$G$29,2))))),IF(OR(H15=\"SEN\",H15<1995),VLOOKUP(I15,Feuil1!$G$11:$L$25,6),IF(AND(H15>1994,H15<1998),VLOOKUP(I15,Feuil1!$G$11:$L$25,5),IF(AND(H15>1997,H15<2000),VLOOKUP(I15,Feuil1!$G$11:$L$25,4),IF(AND(H15>1999,H15<2002),VLOOKUP(I15,Feuil1!$G$11:$L$25,3),VLOOKUP(I15,Feuil1!$G$11:$L$25,2)))))))","v":"FC1 44"},59.859133582193522,null," ",{"$f":"T15-HLOOKUP(X15,Feuil1!$C$1:$BL$10,2,FALSE)","v":8},{"$f":"T15-HLOOKUP(X15,Feuil1!$C$1:$BL$10,3,FALSE)","v":-2},{"$f":"T15-HLOOKUP(X15,Feuil1!$C$1:$BL$10,4,FALSE)","v":-7},{"$f":"T15-HLOOKUP(X15,Feuil1!$C$1:$BL$10,5,FALSE)","v":-17},{"$f":"T15-HLOOKUP(X15,Feuil1!$C$1:$BL$10,6,FALSE)","v":-27},{"$f":"T15-HLOOKUP(X15,Feuil1!$C$1:$BL$10,7,FALSE)","v":-37},{"$f":"T15-HLOOKUP(X15,Feuil1!$C$1:$BL$10,8,FALSE)","v":-47},{"$f":"T15-HLOOKUP(X15,Feuil1!$C$1:$BL$10,9,FALSE)","v":-57},{"$f":"T15-HLOOKUP(X15,Feuil1!$C$1:$BL$10,10,FALSE)","v":-967},null,null,null,null,null,null,"DEB "]
[null,null,null,null,null,null,null,null,null,null,null,null,null,null,null,null,null,null,null,null,null,null,null,null,null,null," ",{"$f":"T16-HLOOKUP(X16,Feuil1!$C$1:$BL$10,2,FALSE)","v":{"$error":"#N/A"}},{"$f":"T16-HLOOKUP(X16,Feuil1!$C$1:$BL$10,3,FALSE)","v":{"$error":"#N/A"}},{"$f":"T16-HLOOKUP(X16,Feuil1!$C$1:$BL$10,4,FALSE)","v":{"$error":"#N/A"}},{"$f":"T16-HLOOKUP(X16,Feuil1!$C$1:$BL$10,5,FALSE)","v":{"$error":"#N/A"}},{"$f":"T16-HLOOKUP(X16,Feuil1!$C$1:$BL$10,6,FALSE)","v":{"$error":"#N/A"}},{"$f":"T16-HLOOKUP(X16,Feuil1!$C$1:$BL$10,7,FALSE)","v":{"$error":"#N/A"}},{"$f":"T16-HLOOKUP(X16,Feuil1!$C$1:$BL$10,8,FALSE)","v":{"$error":"#N/A"}},{"$f":"T16-HLOOKUP(X16,Feuil1!$C$1:$BL$10,9,FALSE)","v":{"$error":"#N/A"}},{"$f":"T16-HLOOKUP(X16,Feuil1!$C$1:$BL$10,10,FALSE)","v":{"$error":"#N/A"}},null,null,null,null,null,null,{"$f":"IF(AJ16>=0,$AJ$4,IF(AI16>=0,$AI$4,IF(AH16>=0,$AH$4,IF(AG16>=0,$AG$4,IF(AF16>=0,$AF$4,IF(AE16>=0,$AE$4,IF(AD16>=0,$AD$4,IF(AC16>=0,$AC$4,$AB$4))))))))","v":{"$error":"#N/A"}}]
["F","NE","ALS",1,244336,"CHRISTOPHEL","Marie",2000,45.5,"ASPTT Strasbourg","F",41,43,45,{"$f":"IF(H17=\"\",\"\",IF(MAXA(L17:N17)<=0,0,MAXA(L17:N17)))","v":45},55,58,60,{"$f":"IF(H17=\"\",\"\",IF(MAXA(P17:R17)<=0,0,MAXA(P17:R17)))","v":60},{"$f":"IF(H17=\"\",\"\",IF(OR(O17=0,S17=0),0,O17+S17))","v":105},{"$f":"T17-I17*2","v":14},{"$f":"IF(H17=\"\",\"\",AQ17)","v":"INTA +"},{"$f":"IF(AJ17>=0,AJ17,IF(AI17>=0,AI17,IF(AH17>=0,AH17,IF(AG17>=0,AG17,IF(AF17>=0,AF17,IF(AE17>=0,AE17,IF(AD17>=0,AD17,IF(AC17>=0,AC17,AB17))))))))","v":10},{"$f":"IF(I17=\"\",\"\",IF(A17=\"H\",IF(OR(H17=\"SEN\",H17<1995),VLOOKUP(I17,Feuil1!$A$11:$G$29,6),IF(AND(H17>1994,H17<1998),VLOOKUP(I17,Feuil1!$A$11:$G$29,5),IF(AND(H17>1997,H17<2000),VLOOKUP(I17,Feuil1!$A$11:$G$29,4),IF(AND(H17>1999,H17<2002),VLOOKUP(I17,Feuil1!$A$11:$G$29,3),VLOOKUP(I17,Feuil1!$A$11:$G$29,2))))),IF(OR(H17=\"SEN\",H17<1995),VLOOKUP(I17,Feuil1!$G$11:$L$25,6),IF(AND(H17>1994,H17<1998),VLOOKUP(I17,Feuil1!$G$11:$L$25,5),IF(AND(H17>1997,H17<2000),VLOOKUP(I17,Feuil1!$G$11:$L$25,4),IF(AND(H17>1999,H17<2002),VLOOKUP(I17,Feuil1!$G$11:$L$25,3),VLOOKUP(I17,Feuil1!$G$11:$L$25,2)))))))","v":"FC1 48"},{"$f":"IF(I17=\"\",\"\",IF(A17=\"H\",10^(0.794358141*LOG(I17/174.393)^2)*T17,IF(A17=\"F\",10^(0.89726074*LOG(I17/148.026)^2)*T17,\"\")))","v":180.59303599753383},null," ",{"$f":"T17-HLOOKUP(X17,Feuil1!$C$1:$BL$10,2,FALSE)","v":80},{"$f":"T17-HLOOKUP(X17,Feuil1!$C$1:$BL$10,3,FALSE)","v":70},{"$f":"T17-HLOOKUP(X17,Feuil1!$C$1:$BL$10,4,FALSE)","v":60},{"$f":"T17-HLOOKUP(X17,Feuil1!$C$1:$BL$10,5,FALSE)","v":50},{"$f":"T17-HLOOKUP(X17,Feuil1!$C$1:$BL$10,6,FALSE)","v":40},{"$f":"T17-HLOOKUP(X17,Feuil1!$C$1:$BL$10,7,FALSE)","v":30},{"$f":"T17-HLOOKUP(X17,Feuil1!$C$1:$BL$10,8,FALSE)","v":20},{"$f":"T17-HLOOKUP(X17,Feuil1!$C$1:$BL$10,9,FALSE)","v":10},{"$f":"T17-HLOOKUP(X17,Feuil1!$C$1:$BL$10,10,FALSE)","v":-895},null,null,null,null,null,null,{"$f":"IF(AJ17>=0,$AJ$4,IF(AI17>=0,$AI$4,IF(AH17>=0,$AH$4,IF(AG17>=0,$AG$4,IF(AF17>=0,$AF$4,IF(AE17>=0,$AE$4,IF(AD17>=0,$AD$4,IF(AC17>=0,$AC$4,$AB$4))))))))","v":"INTA +"}]
["F","SEST","LAN",2,290105,"ROMERO","Héloïse",2000,47,"Narbonne Haltéro","F",32,35,37,37,46,49,-53,49,86,-8,"INTB +",1,{"$f":"IF(I18=\"\",\"\",IF(A18=\"H\",IF(OR(H18=\"SEN\",H18<1995),VLOOKUP(I18,Feuil1!$A$11:$G$29,6),IF(AND(H18>1994,H18<1998),VLOOKUP(I18,Feuil1!$A$11:$G$29,5),IF(AND(H18>1997,H18<2000),VLOOKUP(I18,Feuil1!$A$11:$G$29,4),IF(AND(H18>1999,H18<2002),VLOOKUP(I18,Feuil1!$A$11:$G$29,3),VLOOKUP(I18,Feuil1!$A$11:$G$29,2))))),IF(OR(H18=\"SEN\",H18<1995),VLOOKUP(I18,Feuil1!$G$11:$L$25,6),IF(AND(H18>1994,H18<1998),VLOOKUP(I18,Feuil1!$G$11:$L$25,5),IF(AND(H18>1997,H18<2000),VLOOKUP(I18,Feuil1!$G$11:$L$25,4),IF(AND(H18>1999,H18<2002),VLOOKUP(I18,Feuil1!$G$11:$L$25,3),VLOOKUP(I18,Feuil1!$G$11:$L$25,2)))))))","v":"FC1 48"},143.62742256205317,null," ",{"$f":"T18-HLOOKUP(X18,Feuil1!$C$1:$BL$10,2,FALSE)","v":61},{"$f":"T18-HLOOKUP(X18,Feuil1!$C$1:$BL$10,3,FALSE)","v":51},{"$f":"T18-HLOOKUP(X18,Feuil1!$C$1:$BL$10,4,FALSE)","v":41},{"$f":"T18-HLOOKUP(X18,Feuil1!$C$1:$BL$10,5,FALSE)","v":31},{"$f":"T18-HLOOKUP(X18,Feuil1!$C$1:$BL$10,6,FALSE)","v":21},{"$f":"T18-HLOOKUP(X18,Feuil1!$C$1:$BL$10,7,FALSE)","v":11},{"$f":"T18-HLOOKUP(X18,Feuil1!$C$1:$BL$10,8,FALSE)","v":1},{"$f":"T18-HLOOKUP(X18,Feuil1!$C$1:$BL$10,9,FALSE)","v":-9},{"$f":"T18-HLOOKUP(X18,Feuil1!$C$1:$BL$10,10,FALSE)","v":-914},null,null,null,null,null,null,"INTB +"]
["F","NE","ALS",3,300315,"IMBS","HONORINE",2001,47.5,"Dorlisheim FH","F",30,34,36,36,40,45,48,48,84,-11,"NAT +",9,{"$f":"IF(I19=\"\",\"\",IF(A19=\"H\",IF(OR(H19=\"SEN\",H19<1995),VLOOKUP(I19,Feuil1!$A$11:$G$29,6),IF(AND(H19>1994,H19<1998),VLOOKUP(I19,Feuil1!$A$11:$G$29,5),IF(AND(H19>1997,H19<2000),VLOOKUP(I19,Feuil1!$A$11:$G$29,4),IF(AND(H19>1999,H19<2002),VLOOKUP(I19,Feuil1!$A$11:$G$29,3),VLOOKUP(I19,Feuil1!$A$11:$G$29,2))))),IF(OR(H19=\"SEN\",H19<1995),VLOOKUP(I19,Feuil1!$G$11:$L$25,6),IF(AND(H19>1994,H19<1998),VLOOKUP(I19,Feuil1!$G$11:$L$25,5),IF(AND(H19>1997,H19<2000),VLOOKUP(I19,Feuil1!$G$11:$L$25,4),IF(AND(H19>1999,H19<2002),VLOOKUP(I19,Feuil1!$G$11:$L$25,3),VLOOKUP(I19,Feuil1!$G$11:$L$25,2)))))))","v":"FC1 48"},138.97224684574039,null," ",{"$f":"T19-HLOOKUP(X19,Feuil1!$C$1:$BL$10,2,FALSE)","v":59},{"$f":"T19-HLOOKUP(X19,Feuil1!$C$1:$BL$10,3,FALSE)","v":49},{"$f":"T19-HLOOKUP(X19,Feuil1!$C$1:$BL$10,4,FALSE)","v":39},{"$f":"T19-HLOOKUP(X19,Feuil1!$C$1:$BL$10,5,FALSE)","v":29},{"$f":"T19-HLOOKUP(X19,Feuil1!$C$1:$BL$10,6,FALSE)","v":19},{"$f":"T19-HLOOKUP(X19,Feuil1!$C$1:$BL$10,7,FALSE)","v":9},{"$f":"T19-HLOOKUP(X19,Feuil1!$C$1:$BL$10,8,FALSE)","v":-1},{"$f":"T19-HLOOKUP(X19,Feuil1!$C$1:$BL$10,9,FALSE)","v":-11},{"$f":"T19-HLOOKUP(X19,Feuil1!$C$1:$BL$10,10,FALSE)","v":-916},null,null,null,null,null,null,"NAT +"]
["F","N","IDF",4,357786,"MACE","DORIANE",2000,45.05,"US METRO","F",33,-36,-36,33,42,-46,46,46,79,-11.099999999999994,"NAT +",4,{"$f":"IF(I20=\"\",\"\",IF(A20=\"H\",IF(OR(H20=\"SEN\",H20<1995),VLOOKUP(I20,Feuil1!$A$11:$G$29,6),IF(AND(H20>1994,H20<1998),VLOOKUP(I20,Feuil1!$A$11:$G$29,5),IF(AND(H20>1997,H20<2000),VLOOKUP(I20,Feuil1!$A$11:$G$29,4),IF(AND(H20>1999,H20<2002),VLOOKUP(I20,Feuil1!$A$11:$G$29,3),VLOOKUP(I20,Feuil1!$A$11:$G$29,2))))),IF(OR(H20=\"SEN\",H20<1995),VLOOKUP(I20,Feuil1!$G$11:$L$25,6),IF(AND(H20>1994,H20<1998),VLOOKUP(I20,Feuil1!$G$11:$L$25,5),IF(AND(H20>1997,H20<2000),VLOOKUP(I20,Feuil1!$G$11:$L$25,4),IF(AND(H20>1999,H20<2002),VLOOKUP(I20,Feuil1!$G$11:$L$25,3),VLOOKUP(I20,Feuil1!$G$11:$L$25,2)))))))","v":"FC1 48"},137.12735897082305,null," ",{"$f":"T20-HLOOKUP(X20,Feuil1!$C$1:$BL$10,2,FALSE)","v":54},{"$f":"T20-HLOOKUP(X20,Feuil1!$C$1:$BL$10,3,FALSE)","v":44},{"$f":"T20-HLOOKUP(X20,Feuil1!$C$1:$BL$10,4,FALSE)","v":34},{"$f":"T20-HLOOKUP(X20,Feuil1!$C$1:$BL$10,5,FALSE)","v":24},{"$f":"T20-HLOOKUP(X20,Feuil1!$C$1:$BL$10,6,FALSE)","v":14},{"$f":"T20-HLOOKUP(X20,Feuil1!$C$1:$BL$10,7,FALSE)","v":4},{"$f":"T20-HLOOKUP(X20,Feuil1!$C$1:$BL$10,8,FALSE)","v":-6},{"$f":"T20-HLOOKUP(X20,Feuil1!$C$1:$BL$10,9,FALSE)","v":-16},{"$f":"T20-HLOOKUP(X20,Feuil1!$C$1:$BL$10,10,FALSE)","v":-921},null,null,null,null,null,null,"NAT +"]
["F","CO","PDL",5,379232,"HEUZE","Emma",2000,44.5,"CA Evron 53","F",31,33,-35,33,40,43,-44,43,76,-13,"NAT +",1,{"$f":"IF(I21=\"\",\"\",IF(A21=\"H\",IF(OR(H21=\"SEN\",H21<1995),VLOOKUP(I21,Feuil1!$A$11:$G$29,6),IF(AND(H21>1994,H21<1998),VLOOKUP(I21,Feuil1!$A$11:$G$29,5),IF(AND(H21>1997,H21<2000),VLOOKUP(I21,Feuil1!$A$11:$G$29,4),IF(AND(H21>1999,H21<2002),VLOOKUP(I21,Feuil1!$A$11:$G$29,3),VLOOKUP(I21,Feuil1!$A$11:$G$29,2))))),IF(OR(H21=\"SEN\",H21<1995),VLOOKUP(I21,Feuil1!$G$11:$L$25,6),IF(AND(H21>1994,H21<1998),VLOOKUP(I21,Feuil1!$G$11:$L$25,5),IF(AND(H21>1997,H21<2000),VLOOKUP(I21,Feuil1!$G$11:$L$25,4),IF(AND(H21>1999,H21<2002),VLOOKUP(I21,Feuil1!$G$11:$L$25,3),VLOOKUP(I21,Feuil1!$G$11:$L$25,2)))))))","v":"FC1 48"},133.43881392195559,null," ",{"$f":"T21-HLOOKUP(X21,Feuil1!$C$1:$BL$10,2,FALSE)","v":51},{"$f":"T21-HLOOKUP(X21,Feuil1!$C$1:$BL$10,3,FALSE)","v":41},{"$f":"T21-HLOOKUP(X21,Feuil1!$C$1:$BL$10,4,FALSE)","v":31},{"$f":"T21-HLOOKUP(X21,Feuil1!$C$1:$BL$10,5,FALSE)","v":21},{"$f":"T21-HLOOKUP(X21,Feuil1!$C$1:$BL$10,6,FALSE)","v":11},{"$f":"T21-HLOOKUP(X21,Feuil1!$C$1:$BL$10,7,FALSE)","v":1},{"$f":"T21-HLOOKUP(X21,Feuil1!$C$1:$BL$10,8,FALSE)","v":-9},{"$f":"T21-HLOOKUP(X21,Feuil1!$C$1:$BL$10,9,FALSE)","v":-19},{"$f":"T21-HLOOKUP(X21,Feuil1!$C$1:$BL$10,10,FALSE)","v":-924},null,null,null,null,null,null,"NAT +"]
["F","N","NPC",6,367010,"PIETERS","Justine",2000,44.7,"C.A.ROSENDAEL","F",27,29,-32,29,39,42,44,44,73,-16.400000000000006,"FED +",8,{"$f":"IF(I22=\"\",\"\",IF(A22=\"H\",IF(OR(H22=\"SEN\",H22<1995),VLOOKUP(I22,Feuil1!$A$11:$G$29,6),IF(AND(H22>1994,H22<1998),VLOOKUP(I22,Feuil1!$A$11:$G$29,5),IF(AND(H22>1997,H22<2000),VLOOKUP(I22,Feuil1!$A$11:$G$29,4),IF(AND(H22>1999,H22<2002),VLOOKUP(I22,Feuil1!$A$11:$G$29,3),VLOOKUP(I22,Feuil1!$A$11:$G$29,2))))),IF(OR(H22=\"SEN\",H22<1995),VLOOKUP(I22,Feuil1!$G$11:$L$25,6),IF(AND(H22>1994,H22<1998),VLOOKUP(I22,Feuil1!$G$11:$L$25,5),IF(AND(H22>1997,H22<2000),VLOOKUP(I22,Feuil1!$G$11:$L$25,4),IF(AND(H22>1999,H22<2002),VLOOKUP(I22,Feuil1!$G$11:$L$25,3),VLOOKUP(I22,Feuil1!$G$11:$L$25,2)))))))","v":"FC1 48"},127.63524254449288,null," ",{"$f":"T22-HLOOKUP(X22,Feuil1!$C$1:$BL$10,2,FALSE)","v":48},{"$f":"T22-HLOOKUP(X22,Feuil1!$C$1:$BL$10,3,FALSE)","v":38},{"$f":"T22-HLOOKUP(X22,Feuil1!$C$1:$BL$10,4,FALSE)","v":28},{"$f":"T22-HLOOKUP(X22,Feuil1!$C$1:$BL$10,5,FALSE)","v":18},{"$f":"T22-HLOOKUP(X22,Feuil1!$C$1:$BL$10,6,FALSE)","v":8},{"$f":"T22-HLOOKUP(X22,Feuil1!$C$1:$BL$10,7,FALSE)","v":-2},{"$f":"T22-HLOOKUP(X22,Feuil1!$C$1:$BL$10,8,FALSE)","v":-12},{"$f":"T22-HLOOKUP(X22,Feuil1!$C$1:$BL$10,9,FALSE)","v":-22},{"$f":"T22-HLOOKUP(X22,Feuil1!$C$1:$BL$10,10,FALSE)","v":-927},null,null,null,null,null,null,"FED +"]
["F","NE","ALS",7,340255,"MIGUEL","LEA",2001,47.4,"Dorlisheim FH","F",26,28,29,29,36,38,40,40,69,-25.799999999999997,"FED +",4,{"$f":"IF(I23=\"\",\"\",IF(A23=\"H\",IF(OR(H23=\"SEN\",H23<1995),VLOOKUP(I23,Feuil1!$A$11:$G$29,6),IF(AND(H23>1994,H23<1998),VLOOKUP(I23,Feuil1!$A$11:$G$29,5),IF(AND(H23>1997,H23<2000),VLOOKUP(I23,Feuil1!$A$11:$G$29,4),IF(AND(H23>1999,H23<2002),VLOOKUP(I23,Feuil1!$A$11:$G$29,3),VLOOKUP(I23,Feuil1!$A$11:$G$29,2))))),IF(OR(H23=\"SEN\",H23<1995),VLOOKUP(I23,Feuil1!$G$11:$L$25,6),IF(AND(H23>1994,H23<1998),VLOOKUP(I23,Feuil1!$G$11:$L$25,5),IF(AND(H23>1997,H23<2000),VLOOKUP(I23,Feuil1!$G$11:$L$25,4),IF(AND(H23>1999,H23<2002),VLOOKUP(I23,Feuil1!$G$11:$L$25,3),VLOOKUP(I23,Feuil1!$G$11:$L$25,2)))))))","v":"FC1 48"},114.36929144202198,null," ",{"$f":"T23-HLOOKUP(X23,Feuil1!$C$1:$BL$10,2,FALSE)","v":44},{"$f":"T23-HLOOKUP(X23,Feuil1!$C$1:$BL$10,3,FALSE)","v":34},{"$f":"T23-HLOOKUP(X23,Feuil1!$C$1:$BL$10,4,FALSE)","v":24},{"$f":"T23-HLOOKUP(X23,Feuil1!$C$1:$BL$10,5,FALSE)","v":14},{"$f":"T23-HLOOKUP(X23,Feuil1!$C$1:$BL$10,6,FALSE)","v":4},{"$f":"T23-HLOOKUP(X23,Feuil1!$C$1:$BL$10,7,FALSE)","v":-6},{"$f":"T23-HLOOKUP(X23,Feuil1!$C$1:$BL$10,8,FALSE)","v":-16},{"$f":"T23-HLOOKUP(X23,Feuil1!$C$1:$BL$10,9,FALSE)","v":-26},{"$f":"T23-HLOOKUP(X23,Feuil1!$C$1:$BL$10,10,FALSE)","v":-931},null,null,null,null,null,null,"FED +"]
["F","CO","BRE",8,339426,"PIRIS","Océanne",2000,45.6,"ES Saint Avé","F",25,29,-31,29,30,34,37,37,66,-25.200000000000003,"FED +",1,{"$f":"IF(I24=\"\",\"\",IF(A24=\"H\",IF(OR(H24=\"SEN\",H24<1995),VLOOKUP(I24,Feuil1!$A$11:$G$29,6),IF(AND(H24>1994,H24<1998),VLOOKUP(I24,Feuil1!$A$11:$G$29,5),IF(AND(H24>1997,H24<2000),VLOOKUP(I24,Feuil1!$A$11:$G$29,4),IF(AND(H24>1999,H24<2002),VLOOKUP(I24,Feuil1!$A$11:$G$29,3),VLOOKUP(I24,Feuil1!$A$11:$G$29,2))))),IF(OR(H24=\"SEN\",H24<1995),VLOOKUP(I24,Feuil1!$G$11:$L$25,6),IF(AND(H24>1994,H24<1998),VLOOKUP(I24,Feuil1!$G$11:$L$25,5),IF(AND(H24>1997,H24<2000),VLOOKUP(I24,Feuil1!$G$11:$L$25,4),IF(AND(H24>1999,H24<2002),VLOOKUP(I24,Feuil1!$G$11:$L$25,3),VLOOKUP(I24,Feuil1!$G$11:$L$25,2)))))))","v":"FC1 48"},113.28694646728327,null," ",{"$f":"T24-HLOOKUP(X24,Feuil1!$C$1:$BL$10,2,FALSE)","v":41},{"$f":"T24-HLOOKUP(X24,Feuil1!$C$1:$BL$10,3,FALSE)","v":31},{"$f":"T24-HLOOKUP(X24,Feuil1!$C$1:$BL$10,4,FALSE)","v":21},{"$f":"T24-HLOOKUP(X24,Feuil1!$C$1:$BL$10,5,FALSE)","v":11},{"$f":"T24-HLOOKUP(X24,Feuil1!$C$1:$BL$10,6,FALSE)","v":1},{"$f":"T24-HLOOKUP(X24,Feuil1!$C$1:$BL$10,7,FALSE)","v":-9},{"$f":"T24-HLOOKUP(X24,Feuil1!$C$1:$BL$10,8,FALSE)","v":-19},{"$f":"T24-HLOOKUP(X24,Feuil1!$C$1:$BL$10,9,FALSE)","v":-29},{"$f":"T24-HLOOKUP(X24,Feuil1!$C$1:$BL$10,10,FALSE)","v":-934},null,null,null,null,null,null,"FED +"]
["F","N","PIC",9,378365,"MONTOYA","Chloé",2000,47.47,"Villers-Bretonneux KC","F",20,23,-26,23,30,-33,33,33,56,-38.94,"IRG +",1,{"$f":"IF(I25=\"\",\"\",IF(A25=\"H\",IF(OR(H25=\"SEN\",H25<1995),VLOOKUP(I25,Feuil1!$A$11:$G$29,6),IF(AND(H25>1994,H25<1998),VLOOKUP(I25,Feuil1!$A$11:$G$29,5),IF(AND(H25>1997,H25<2000),VLOOKUP(I25,Feuil1!$A$11:$G$29,4),IF(AND(H25>1999,H25<2002),VLOOKUP(I25,Feuil1!$A$11:$G$29,3),VLOOKUP(I25,Feuil1!$A$11:$G$29,2))))),IF(OR(H25=\"SEN\",H25<1995),VLOOKUP(I25,Feuil1!$G$11:$L$25,6),IF(AND(H25>1994,H25<1998),VLOOKUP(I25,Feuil1!$G$11:$L$25,5),IF(AND(H25>1997,H25<2000),VLOOKUP(I25,Feuil1!$G$11:$L$25,4),IF(AND(H25>1999,H25<2002),VLOOKUP(I25,Feuil1!$G$11:$L$25,3),VLOOKUP(I25,Feuil1!$G$11:$L$25,2)))))))","v":"FC1 48"},92.70004537581346,null," ",{"$f":"T25-HLOOKUP(X25,Feuil1!$C$1:$BL$10,2,FALSE)","v":31},{"$f":"T25-HLOOKUP(X25,Feuil1!$C$1:$BL$10,3,FALSE)","v":21},{"$f":"T25-HLOOKUP(X25,Feuil1!$C$1:$BL$10,4,FALSE)","v":11},{"$f":"T25-HLOOKUP(X25,Feuil1!$C$1:$BL$10,5,FALSE)","v":1},{"$f":"T25-HLOOKUP(X25,Feuil1!$C$1:$BL$10,6,FALSE)","v":-9},{"$f":"T25-HLOOKUP(X25,Feuil1!$C$1:$BL$10,7,FALSE)","v":-19},{"$f":"T25-HLOOKUP(X25,Feuil1!$C$1:$BL$10,8,FALSE)","v":-29},{"$f":"T25-HLOOKUP(X25,Feuil1!$C$1:$BL$10,9,FALSE)","v":-39},{"$f":"T25-HLOOKUP(X25,Feuil1!$C$1:$BL$10,10,FALSE)","v":-944},null,null,null,null,null,null,"IRG +"]
["F","NE","ALS",10,366668,"BURCKEL","Mélissa",2001,47.8,"Dorlisheim FH","F",20,22,25,25,23,25,27,27,52,-43.599999999999994,"REG +",7,{"$f":"IF(I26=\"\",\"\",IF(A26=\"H\",IF(OR(H26=\"SEN\",H26<1995),VLOOKUP(I26,Feuil1!$A$11:$G$29,6),IF(AND(H26>1994,H26<1998),VLOOKUP(I26,Feuil1!$A$11:$G$29,5),IF(AND(H26>1997,H26<2000),VLOOKUP(I26,Feuil1!$A$11:$G$29,4),IF(AND(H26>1999,H26<2002),VLOOKUP(I26,Feuil1!$A$11:$G$29,3),VLOOKUP(I26,Feuil1!$A$11:$G$29,2))))),IF(OR(H26=\"SEN\",H26<1995),VLOOKUP(I26,Feuil1!$G$11:$L$25,6),IF(AND(H26>1994,H26<1998),VLOOKUP(I26,Feuil1!$G$11:$L$25,5),IF(AND(H26>1997,H26<2000),VLOOKUP(I26,Feuil1!$G$11:$L$25,4),IF(AND(H26>1999,H26<2002),VLOOKUP(I26,Feuil1!$G$11:$L$25,3),VLOOKUP(I26,Feuil1!$G$11:$L$25,2)))))))","v":"FC1 48"},85.553279467547384,null," ",{"$f":"T26-HLOOKUP(X26,Feuil1!$C$1:$BL$10,2,FALSE)","v":27},{"$f":"T26-HLOOKUP(X26,Feuil1!$C$1:$BL$10,3,FALSE)","v":17},{"$f":"T26-HLOOKUP(X26,Feuil1!$C$1:$BL$10,4,FALSE)","v":7},{"$f":"T26-HLOOKUP(X26,Feuil1!$C$1:$BL$10,5,FALSE)","v":-3},{"$f":"T26-HLOOKUP(X26,Feuil1!$C$1:$BL$10,6,FALSE)","v":-13},{"$f":"T26-HLOOKUP(X26,Feuil1!$C$1:$BL$10,7,FALSE)","v":-23},{"$f":"T26-HLOOKUP(X26,Feuil1!$C$1:$BL$10,8,FALSE)","v":-33},{"$f":"T26-HLOOKUP(X26,Feuil1!$C$1:$BL$10,9,FALSE)","v":-43},{"$f":"T26-HLOOKUP(X26,Feuil1!$C$1:$BL$10,10,FALSE)","v":-948},null,null,null,null,null,null,"REG +"]
["F","N","PIC",11,378362,"CHAUVIN","Appoline",2001,46,"Villers-Bretonneux KC","F",17,-19,19,19,20,24,26,26,45,-47,"REG +",0,{"$f":"IF(I27=\"\",\"\",IF(A27=\"H\",IF(OR(H27=\"SEN\",H27<1995),VLOOKUP(I27,Feuil1!$A$11:$G$29,6),IF(AND(H27>1994,H27<1998),VLOOKUP(I27,Feuil1!$A$11:$G$29,5),IF(AND(H27>1997,H27<2000),VLOOKUP(I27,Feuil1!$A$11:$G$29,4),IF(AND(H27>1999,H27<2002),VLOOKUP(I27,Feuil1!$A$11:$G$29,3),VLOOKUP(I27,Feuil1!$A$11:$G$29,2))))),IF(OR(H27=\"SEN\",H27<1995),VLOOKUP(I27,Feuil1!$G$11:$L$25,6),IF(AND(H27>1994,H27<1998),VLOOKUP(I27,Feuil1!$G$11:$L$25,5),IF(AND(H27>1997,H27<2000),VLOOKUP(I27,Feuil1!$G$11:$L$25,4),IF(AND(H27>1999,H27<2002),VLOOKUP(I27,Feuil1!$G$11:$L$25,3),VLOOKUP(I27,Feuil1!$G$11:$L$25,2)))))))","v":"FC1 48"},76.626792198675929,null," ",{"$f":"T27-HLOOKUP(X27,Feuil1!$C$1:$BL$10,2,FALSE)","v":20},{"$f":"T27-HLOOKUP(X27,Feuil1!$C$1:$BL$10,3,FALSE)","v":10},{"$f":"T27-HLOOKUP(X27,Feuil1!$C$1:$BL$10,4,FALSE)","v":0},{"$f":"T27-HLOOKUP(X27,Feuil1!$C$1:$BL$10,5,FALSE)","v":-10},{"$f":"T27-HLOOKUP(X27,Feuil1!$C$1:$BL$10,6,FALSE)","v":-20},{"$f":"T27-HLOOKUP(X27,Feuil1!$C$1:$BL$10,7,FALSE)","v":-30},{"$f":"T27-HLOOKUP(X27,Feuil1!$C$1:$BL$10,8,FALSE)","v":-40},{"$f":"T27-HLOOKUP(X27,Feuil1!$C$1:$BL$10,9,FALSE)","v":-50},{"$f":"T27-HLOOKUP(X27,Feuil1!$C$1:$BL$10,10,FALSE)","v":-955},null,null,null,null,null,null,"REG +"]
[null,null,null,null,null,null,null,null,null,null,null,null,null,null,null,null,null,null,null,null,null,null,null,null,null,null," ",{"$f":"T28-HLOOKUP(X28,Feuil1!$C$1:$BL$10,2,FALSE)","v":{"$error":"#N/A"}},{"$f":"T28-HLOOKUP(X28,Feuil1!$C$1:$BL$10,3,FALSE)","v":{"$error":"#N/A"}},{"$f":"T28-HLOOKUP(X28,Feuil1!$C$1:$BL$10,4,FALSE)","v":{"$error":"#N/A"}},{"$f":"T28-HLOOKUP(X28,Feuil1!$C$1:$BL$10,5,FALSE)","v":{"$error":"#N/A"}},{"$f":"T28-HLOOKUP(X28,Feuil1!$C$1:$BL$10,6,FALSE)","v":{"$error":"#N/A"}},{"$f":"T28-HLOOKUP(X28,Feuil1!$C$1:$BL$10,7,FALSE)","v":{"$error":"#N/A"}},{"$f":"T28-HLOOKUP(X28,Feuil1!$C$1:$BL$10,8,FALSE)","v":{"$error":"#N/A"}},{"$f":"T28-HLOOKUP(X28,Feuil1!$C$1:$BL$10,9,FALSE)","v":{"$error":"#N/A"}},{"$f":"T28-HLOOKUP(X28,Feuil1!$C$1:$BL$10,10,FALSE)","v":{"$error":"#N/A"}},null,null,null,null,null,null,{"$f":"IF(AJ28>=0,$AJ$4,IF(AI28>=0,$AI$4,IF(AH28>=0,$AH$4,IF(AG28>=0,$AG$4,IF(AF28>=0,$AF$4,IF(AE28>=0,$AE$4,IF(AD28>=0,$AD$4,IF(AC28>=0,$AC$4,$AB$4))))))))","v":{"$error":"#N/A"}}]
["F","SEST","RAL",1,280309,"BARBIER","Clarisse",2000,51.4,"VAULX EN VELIN ","F",40,43,45,{"$f":"IF(H29=\"\",\"\",IF(MAXA(L29:N29)<=0,0,MAXA(L29:N29)))","v":45},55,60,-64,{"$f":"IF(H29=\"\",\"\",IF(MAXA(P29:R29)<=0,0,MAXA(P29:R29)))","v":60},{"$f":"IF(H29=\"\",\"\",IF(OR(O29=0,S29=0),0,O29+S29))","v":105},{"$f":"T29-I29*2","v":2.2000000000000028},{"$f":"IF(H29=\"\",\"\",AQ29)","v":"INTA +"},{"$f":"IF(AJ29>=0,AJ29,IF(AI29>=0,AI29,IF(AH29>=0,AH29,IF(AG29>=0,AG29,IF(AF29>=0,AF29,IF(AE29>=0,AE29,IF(AD29>=0,AD29,IF(AC29>=0,AC29,AB29))))))))","v":0},{"$f":"IF(I29=\"\",\"\",IF(A29=\"H\",IF(OR(H29=\"SEN\",H29<1995),VLOOKUP(I29,Feuil1!$A$11:$G$29,6),IF(AND(H29>1994,H29<1998),VLOOKUP(I29,Feuil1!$A$11:$G$29,5),IF(AND(H29>1997,H29<2000),VLOOKUP(I29,Feuil1!$A$11:$G$29,4),IF(AND(H29>1999,H29<2002),VLOOKUP(I29,Feuil1!$A$11:$G$29,3),VLOOKUP(I29,Feuil1!$A$11:$G$29,2))))),IF(OR(H29=\"SEN\",H29<1995),VLOOKUP(I29,Feuil1!$G$11:$L$25,6),IF(AND(H29>1994,H29<1998),VLOOKUP(I29,Feuil1!$G$11:$L$25,5),IF(AND(H29>1997,H29<2000),VLOOKUP(I29,Feuil1!$G$11:$L$25,4),IF(AND(H29>1999,H29<2002),VLOOKUP(I29,Feuil1!$G$11:$L$25,3),VLOOKUP(I29,Feuil1!$G$11:$L$25,2)))))))","v":"FC1 53"},{"$f":"IF(I29=\"\",\"\",IF(A29=\"H\",10^(0.794358141*LOG(I29/174.393)^2)*T29,IF(A29=\"F\",10^(0.89726074*LOG(I29/148.026)^2)*T29,\"\")))","v":162.38054778623814},null," ",{"$f":"T29-HLOOKUP(X29,Feuil1!$C$1:$BL$10,2,FALSE)","v":70},{"$f":"T29-HLOOKUP(X29,Feuil1!$C$1:$BL$10,3,FALSE)","v":60},{"$f":"T29-HLOOKUP(X29,Feuil1!$C$1:$BL$10,4,FALSE)","v":50},{"$f":"T29-HLOOKUP(X29,Feuil1!$C$1:$BL$10,5,FALSE)","v":40},{"$f":"T29-HLOOKUP(X29,Feuil1!$C$1:$BL$10,6,FALSE)","v":30},{"$f":"T29-HLOOKUP(X29,Feuil1!$C$1:$BL$10,7,FALSE)","v":20},{"$f":"T29-HLOOKUP(X29,Feuil1!$C$1:$BL$10,8,FALSE)","v":10},{"$f":"T29-HLOOKUP(X29,Feuil1!$C$1:$BL$10,9,FALSE)","v":0},{"$f":"T29-HLOOKUP(X29,Feuil1!$C$1:$BL$10,10,FALSE)","v":-895},null,null,null,null,null,null,{"$f":"IF(AJ29>=0,$AJ$4,IF(AI29>=0,$AI$4,IF(AH29>=0,$AH$4,IF(AG29>=0,$AG$4,IF(AF29>=0,$AF$4,IF(AE29>=0,$AE$4,IF(AD29>=0,$AD$4,IF(AC29>=0,$AC$4,$AB$4))))))))","v":"INTA +"}]
["F","SEST","LAN",2,290105,"ROMERO","Héloïse",2000,48.6,"Narbonne Haltéro","F",35,38,40,40,46,48,51,51,91,-6.2000000000000028,"NAT +",6,{"$f":"IF(I30=\"\",\"\",IF(A30=\"H\",IF(OR(H30=\"SEN\",H30<1995),VLOOKUP(I30,Feuil1!$A$11:$G$29,6),IF(AND(H30>1994,H30<1998),VLOOKUP(I30,Feuil1!$A$11:$G$29,5),IF(AND(H30>1997,H30<2000),VLOOKUP(I30,Feuil1!$A$11:$G$29,4),IF(AND(H30>1999,H30<2002),VLOOKUP(I30,Feuil1!$A$11:$G$29,3),VLOOKUP(I30,Feuil1!$A$11:$G$29,2))))),IF(OR(H30=\"SEN\",H30<1995),VLOOKUP(I30,Feuil1!$G$11:$L$25,6),IF(AND(H30>1994,H30<1998),VLOOKUP(I30,Feuil1!$G$11:$L$25,5),IF(AND(H30>1997,H30<2000),VLOOKUP(I30,Feuil1!$G$11:$L$25,4),IF(AND(H30>1999,H30<2002),VLOOKUP(I30,Feuil1!$G$11:$L$25,3),VLOOKUP(I30,Feuil1!$G$11:$L$25,2)))))))","v":"FC1 53"},147.56084242575969,null," ",{"$f":"T30-HLOOKUP(X30,Feuil1!$C$1:$BL$10,2,FALSE)","v":56},{"$f":"T30-HLOOKUP(X30,Feuil1!$C$1:$BL$10,3,FALSE)","v":46},{"$f":"T30-HLOOKUP(X30,Feuil1!$C$1:$BL$10,4,FALSE)","v":36},{"$f":"T30-HLOOKUP(X30,Feuil1!$C$1:$BL$10,5,FALSE)","v":26},{"$f":"T30-HLOOKUP(X30,Feuil1!$C$1:$BL$10,6,FALSE)","v":16},{"$f":"T30-HLOOKUP(X30,Feuil1!$C$1:$BL$10,7,FALSE)","v":6},{"$f":"T30-HLOOKUP(X30,Feuil1!$C$1:$BL$10,8,FALSE)","v":-4},{"$f":"T30-HLOOKUP(X30,Feuil1!$C$1:$BL$10,9,FALSE)","v":-14},{"$f":"T30-HLOOKUP(X30,Feuil1!$C$1:$BL$10,10,FALSE)","v":-909},null,null,null,null,null,null,"NAT +"]
["F","NE","ALS",3,300315,"IMBS","HONORINE",2001,48.9,"Dorlisheim FH","F",36,38,40,40,46,50,-52,50,90,-7.7999999999999972,"NAT +",5,{"$f":"IF(I31=\"\",\"\",IF(A31=\"H\",IF(OR(H31=\"SEN\",H31<1995),VLOOKUP(I31,Feuil1!$A$11:$G$29,6),IF(AND(H31>1994,H31<1998),VLOOKUP(I31,Feuil1!$A$11:$G$29,5),IF(AND(H31>1997,H31<2000),VLOOKUP(I31,Feuil1!$A$11:$G$29,4),IF(AND(H31>1999,H31<2002),VLOOKUP(I31,Feuil1!$A$11:$G$29,3),VLOOKUP(I31,Feuil1!$A$11:$G$29,2))))),IF(OR(H31=\"SEN\",H31<1995),VLOOKUP(I31,Feuil1!$G$11:$L$25,6),IF(AND(H31>1994,H31<1998),VLOOKUP(I31,Feuil1!$G$11:$L$25,5),IF(AND(H31>1997,H31<2000),VLOOKUP(I31,Feuil1!$G$11:$L$25,4),IF(AND(H31>1999,H31<2002),VLOOKUP(I31,Feuil1!$G$11:$L$25,3),VLOOKUP(I31,Feuil1!$G$11:$L$25,2)))))))","v":"FC1 53"},145.16396059864314,null," ",{"$f":"T31-HLOOKUP(X31,Feuil1!$C$1:$BL$10,2,FALSE)","v":55},{"$f":"T31-HLOOKUP(X31,Feuil1!$C$1:$BL$10,3,FALSE)","v":45},{"$f":"T31-HLOOKUP(X31,Feuil1!$C$1:$BL$10,4,FALSE)","v":35},{"$f":"T31-HLOOKUP(X31,Feuil1!$C$1:$BL$10,5,FALSE)","v":25},{"$f":"T31-HLOOKUP(X31,Feuil1!$C$1:$BL$10,6,FALSE)","v":15},{"$f":"T31-HLOOKUP(X31,Feuil1!$C$1:$BL$10,7,FALSE)","v":5},{"$f":"T31-HLOOKUP(X31,Feuil1!$C$1:$BL$10,8,FALSE)","v":-5},{"$f":"T31-HLOOKUP(X31,Feuil1!$C$1:$BL$10,9,FALSE)","v":-15},{"$f":"T31-HLOOKUP(X31,Feuil1!$C$1:$BL$10,10,FALSE)","v":-910},null,null,null,null,null,null,"NAT +"]
["F","NE","CHA",4,320210,"ROEHRIG","Ludivine",2000,52.6,"Langres HM","F",32,34,38,38,44,48,52,52,90,-15.200000000000003,"NAT +",5,{"$f":"IF(I32=\"\",\"\",IF(A32=\"H\",IF(OR(H32=\"SEN\",H32<1995),VLOOKUP(I32,Feuil1!$A$11:$G$29,6),IF(AND(H32>1994,H32<1998),VLOOKUP(I32,Feuil1!$A$11:$G$29,5),IF(AND(H32>1997,H32<2000),VLOOKUP(I32,Feuil1!$A$11:$G$29,4),IF(AND(H32>1999,H32<2002),VLOOKUP(I32,Feuil1!$A$11:$G$29,3),VLOOKUP(I32,Feuil1!$A$11:$G$29,2))))),IF(OR(H32=\"SEN\",H32<1995),VLOOKUP(I32,Feuil1!$G$11:$L$25,6),IF(AND(H32>1994,H32<1998),VLOOKUP(I32,Feuil1!$G$11:$L$25,5),IF(AND(H32>1997,H32<2000),VLOOKUP(I32,Feuil1!$G$11:$L$25,4),IF(AND(H32>1999,H32<2002),VLOOKUP(I32,Feuil1!$G$11:$L$25,3),VLOOKUP(I32,Feuil1!$G$11:$L$25,2)))))))","v":"FC1 53"},136.58880732897993,null," ",{"$f":"T32-HLOOKUP(X32,Feuil1!$C$1:$BL$10,2,FALSE)","v":55},{"$f":"T32-HLOOKUP(X32,Feuil1!$C$1:$BL$10,3,FALSE)","v":45},{"$f":"T32-HLOOKUP(X32,Feuil1!$C$1:$BL$10,4,FALSE)","v":35},{"$f":"T32-HLOOKUP(X32,Feuil1!$C$1:$BL$10,5,FALSE)","v":25},{"$f":"T32-HLOOKUP(X32,Feuil1!$C$1:$BL$10,6,FALSE)","v":15},{"$f":"T32-HLOOKUP(X32,Feuil1!$C$1:$BL$10,7,FALSE)","v":5},{"$f":"T32-HLOOKUP(X32,Feuil1!$C$1:$BL$10,8,FALSE)","v":-5},{"$f":"T32-HLOOKUP(X32,Feuil1!$C$1:$BL$10,9,FALSE)","v":-15},{"$f":"T32-HLOOKUP(X32,Feuil1!$C$1:$BL$10,10,FALSE)","v":-910},null,null,null,null,null,null,"NAT +"]
["F","SO","LIM",5,326705,"LOPEZ","MELISSA",2001,50.7,"LIMOGES AVA","F",31,-34,34,34,42,45,46,46,80,-21.400000000000006,"FED +",5,{"$f":"IF(I33=\"\",\"\",IF(A33=\"H\",IF(OR(H33=\"SEN\",H33<1995),VLOOKUP(I33,Feuil1!$A$11:$G$29,6),IF(AND(H33>1994,H33<1998),VLOOKUP(I33,Feuil1!$A$11:$G$29,5),IF(AND(H33>1997,H33<2000),VLOOKUP(I33,Feuil1!$A$11:$G$29,4),IF(AND(H33>1999,H33<2002),VLOOKUP(I33,Feuil1!$A$11:$G$29,3),VLOOKUP(I33,Feuil1!$A$11:$G$29,2))))),IF(OR(H33=\"SEN\",H33<1995),VLOOKUP(I33,Feuil1!$G$11:$L$25,6),IF(AND(H33>1994,H33<1998),VLOOKUP(I33,Feuil1!$G$11:$L$25,5),IF(AND(H33>1997,H33<2000),VLOOKUP(I33,Feuil1!$G$11:$L$25,4),IF(AND(H33>1999,H33<2002),VLOOKUP(I33,Feuil1!$G$11:$L$25,3),VLOOKUP(I33,Feuil1!$G$11:$L$25,2)))))))","v":"FC1 53"},125.13410580955176,null," ",{"$f":"T33-HLOOKUP(X33,Feuil1!$C$1:$BL$10,2,FALSE)","v":45},{"$f":"T33-HLOOKUP(X33,Feuil1!$C$1:$BL$10,3,FALSE)","v":35},{"$f":"T33-HLOOKUP(X33,Feuil1!$C$1:$BL$10,4,FALSE)","v":25},{"$f":"T33-HLOOKUP(X33,Feuil1!$C$1:$BL$10,5,FALSE)","v":15},{"$f":"T33-HLOOKUP(X33,Feuil1!$C$1:$BL$10,6,FALSE)","v":5},{"$f":"T33-HLOOKUP(X33,Feuil1!$C$1:$BL$10,7,FALSE)","v":-5},{"$f":"T33-HLOOKUP(X33,Feuil1!$C$1:$BL$10,8,FALSE)","v":-15},{"$f":"T33-HLOOKUP(X33,Feuil1!$C$1:$BL$10,9,FALSE)","v":-25},{"$f":"T33-HLOOKUP(X33,Feuil1!$C$1:$BL$10,10,FALSE)","v":-920},null,null,null,null,null,null,"FED +"]
["F","SO","LIM",6,326707,"LAMARGUE ","Loriane",2000,52.5,"LIMOGES AVA","F",28,31,32,32,39,43,-45,43,75,-30,"FED +",0,{"$f":"IF(I34=\"\",\"\",IF(A34=\"H\",IF(OR(H34=\"SEN\",H34<1995),VLOOKUP(I34,Feuil1!$A$11:$G$29,6),IF(AND(H34>1994,H34<1998),VLOOKUP(I34,Feuil1!$A$11:$G$29,5),IF(AND(H34>1997,H34<2000),VLOOKUP(I34,Feuil1!$A$11:$G$29,4),IF(AND(H34>1999,H34<2002),VLOOKUP(I34,Feuil1!$A$11:$G$29,3),VLOOKUP(I34,Feuil1!$A$11:$G$29,2))))),IF(OR(H34=\"SEN\",H34<1995),VLOOKUP(I34,Feuil1!$G$11:$L$25,6),IF(AND(H34>1994,H34<1998),VLOOKUP(I34,Feuil1!$G$11:$L$25,5),IF(AND(H34>1997,H34<2000),VLOOKUP(I34,Feuil1!$G$11:$L$25,4),IF(AND(H34>1999,H34<2002),VLOOKUP(I34,Feuil1!$G$11:$L$25,3),VLOOKUP(I34,Feuil1!$G$11:$L$25,2)))))))","v":"FC1 53"},113.99896242007074,null," ",{"$f":"T34-HLOOKUP(X34,Feuil1!$C$1:$BL$10,2,FALSE)","v":40},{"$f":"T34-HLOOKUP(X34,Feuil1!$C$1:$BL$10,3,FALSE)","v":30},{"$f":"T34-HLOOKUP(X34,Feuil1!$C$1:$BL$10,4,FALSE)","v":20},{"$f":"T34-HLOOKUP(X34,Feuil1!$C$1:$BL$10,5,FALSE)","v":10},{"$f":"T34-HLOOKUP(X34,Feuil1!$C$1:$BL$10,6,FALSE)","v":0},{"$f":"T34-HLOOKUP(X34,Feuil1!$C$1:$BL$10,7,FALSE)","v":-10},{"$f":"T34-HLOOKUP(X34,Feuil1!$C$1:$BL$10,8,FALSE)","v":-20},{"$f":"T34-HLOOKUP(X34,Feuil1!$C$1:$BL$10,9,FALSE)","v":-30},{"$f":"T34-HLOOKUP(X34,Feuil1!$C$1:$BL$10,10,FALSE)","v":-925},null,null,null,null,null,null,"FED +"]
["F","NE","CHA",7,355066,"MECHIAKH","Chloé",2001,52.4,"Langres HM","F",22,25,27,27,30,35,38,38,65,-39.799999999999997,"IRG +",0,{"$f":"IF(I35=\"\",\"\",IF(A35=\"H\",IF(OR(H35=\"SEN\",H35<1995),VLOOKUP(I35,Feuil1!$A$11:$G$29,6),IF(AND(H35>1994,H35<1998),VLOOKUP(I35,Feuil1!$A$11:$G$29,5),IF(AND(H35>1997,H35<2000),VLOOKUP(I35,Feuil1!$A$11:$G$29,4),IF(AND(H35>1999,H35<2002),VLOOKUP(I35,Feuil1!$A$11:$G$29,3),VLOOKUP(I35,Feuil1!$A$11:$G$29,2))))),IF(OR(H35=\"SEN\",H35<1995),VLOOKUP(I35,Feuil1!$G$11:$L$25,6),IF(AND(H35>1994,H35<1998),VLOOKUP(I35,Feuil1!$G$11:$L$25,5),IF(AND(H35>1997,H35<2000),VLOOKUP(I35,Feuil1!$G$11:$L$25,4),IF(AND(H35>1999,H35<2002),VLOOKUP(I35,Feuil1!$G$11:$L$25,3),VLOOKUP(I35,Feuil1!$G$11:$L$25,2)))))))","v":"FC1 53"},98.951532452757249,null," ",{"$f":"T35-HLOOKUP(X35,Feuil1!$C$1:$BL$10,2,FALSE)","v":30},{"$f":"T35-HLOOKUP(X35,Feuil1!$C$1:$BL$10,3,FALSE)","v":20},{"$f":"T35-HLOOKUP(X35,Feuil1!$C$1:$BL$10,4,FALSE)","v":10},{"$f":"T35-HLOOKUP(X35,Feuil1!$C$1:$BL$10,5,FALSE)","v":0},{"$f":"T35-HLOOKUP(X35,Feuil1!$C$1:$BL$10,6,FALSE)","v":-10},{"$f":"T35-HLOOKUP(X35,Feuil1!$C$1:$BL$10,7,FALSE)","v":-20},{"$f":"T35-HLOOKUP(X35,Feuil1!$C$1:$BL$10,8,FALSE)","v":-30},{"$f":"T35-HLOOKUP(X35,Feuil1!$C$1:$BL$10,9,FALSE)","v":-40},{"$f":"T35-HLOOKUP(X35,Feuil1!$C$1:$BL$10,10,FALSE)","v":-935},null,null,null,null,null,null,"IRG +"]
["F","N","PIC",8,378365,"MONTOYA","Chloé",2000,48.4,"Villers-Bretonneux KC","F",20,23,-25,23,27,-31,31,31,54,-42.8,"DEP +",9,{"$f":"IF(I36=\"\",\"\",IF(A36=\"H\",IF(OR(H36=\"SEN\",H36<1995),VLOOKUP(I36,Feuil1!$A$11:$G$29,6),IF(AND(H36>1994,H36<1998),VLOOKUP(I36,Feuil1!$A$11:$G$29,5),IF(AND(H36>1997,H36<2000),VLOOKUP(I36,Feuil1!$A$11:$G$29,4),IF(AND(H36>1999,H36<2002),VLOOKUP(I36,Feuil1!$A$11:$G$29,3),VLOOKUP(I36,Feuil1!$A$11:$G$29,2))))),IF(OR(H36=\"SEN\",H36<1995),VLOOKUP(I36,Feuil1!$G$11:$L$25,6),IF(AND(H36>1994,H36<1998),VLOOKUP(I36,Feuil1!$G$11:$L$25,5),IF(AND(H36>1997,H36<2000),VLOOKUP(I36,Feuil1!$G$11:$L$25,4),IF(AND(H36>1999,H36<2002),VLOOKUP(I36,Feuil1!$G$11:$L$25,3),VLOOKUP(I36,Feuil1!$G$11:$L$25,2)))))))","v":"FC1 53"},87.87814939682211,null," ",{"$f":"T36-HLOOKUP(X36,Feuil1!$C$1:$BL$10,2,FALSE)","v":19},{"$f":"T36-HLOOKUP(X36,Feuil1!$C$1:$BL$10,3,FALSE)","v":9},{"$f":"T36-HLOOKUP(X36,Feuil1!$C$1:$BL$10,4,FALSE)","v":-1},{"$f":"T36-HLOOKUP(X36,Feuil1!$C$1:$BL$10,5,FALSE)","v":-11},{"$f":"T36-HLOOKUP(X36,Feuil1!$C$1:$BL$10,6,FALSE)","v":-21},{"$f":"T36-HLOOKUP(X36,Feuil1!$C$1:$BL$10,7,FALSE)","v":-31},{"$f":"T36-HLOOKUP(X36,Feuil1!$C$1:$BL$10,8,FALSE)","v":-41},{"$f":"T36-HLOOKUP(X36,Feuil1!$C$1:$BL$10,9,FALSE)","v":-51},{"$f":"T36-HLOOKUP(X36,Feuil1!$C$1:$BL$10,10,FALSE)","v":-946},null,null,null,null,null,null,"DEP +"]
["F","NE","ALS",9,366668,"BURCKEL","Mélissa",2001,49.6,"Dorlisheim FH","F",18,21,24,24,24,26,28,28,52,-47.2,"DEP +",7,{"$f":"IF(I37=\"\",\"\",IF(A37=\"H\",IF(OR(H37=\"SEN\",H37<1995),VLOOKUP(I37,Feuil1!$A$11:$G$29,6),IF(AND(H37>1994,H37<1998),VLOOKUP(I37,Feuil1!$A$11:$G$29,5),IF(AND(H37>1997,H37<2000),VLOOKUP(I37,Feuil1!$A$11:$G$29,4),IF(AND(H37>1999,H37<2002),VLOOKUP(I37,Feuil1!$A$11:$G$29,3),VLOOKUP(I37,Feuil1!$A$11:$G$29,2))))),IF(OR(H37=\"SEN\",H37<1995),VLOOKUP(I37,Feuil1!$G$11:$L$25,6),IF(AND(H37>1994,H37<1998),VLOOKUP(I37,Feuil1!$G$11:$L$25,5),IF(AND(H37>1997,H37<2000),VLOOKUP(I37,Feuil1!$G$11:$L$25,4),IF(AND(H37>1999,H37<2002),VLOOKUP(I37,Feuil1!$G$11:$L$25,3),VLOOKUP(I37,Feuil1!$G$11:$L$25,2)))))))","v":"FC1 53"},82.856264616139896,null," ",{"$f":"T37-HLOOKUP(X37,Feuil1!$C$1:$BL$10,2,FALSE)","v":17},{"$f":"T37-HLOOKUP(X37,Feuil1!$C$1:$BL$10,3,FALSE)","v":7},{"$f":"T37-HLOOKUP(X37,Feuil1!$C$1:$BL$10,4,FALSE)","v":-3},{"$f":"T37-HLOOKUP(X37,Feuil1!$C$1:$BL$10,5,FALSE)","v":-13},{"$f":"T37-HLOOKUP(X37,Feuil1!$C$1:$BL$10,6,FALSE)","v":-23},{"$f":"T37-HLOOKUP(X37,Feuil1!$C$1:$BL$10,7,FALSE)","v":-33},{"$f":"T37-HLOOKUP(X37,Feuil1!$C$1:$BL$10,8,FALSE)","v":-43},{"$f":"T37-HLOOKUP(X37,Feuil1!$C$1:$BL$10,9,FALSE)","v":-53},{"$f":"T37-HLOOKUP(X37,Feuil1!$C$1:$BL$10,10,FALSE)","v":-948},null,null,null,null,null,null,"DEP +"]
["F","NE","BOU",10,390850,"LARGE","Margaux",2000,50.1,"HMDB21","F",15,19,20,20,25,28,30,30,50,-50.2,"DEP +",5,{"$f":"IF(I38=\"\",\"\",IF(A38=\"H\",IF(OR(H38=\"SEN\",H38<1995),VLOOKUP(I38,Feuil1!$A$11:$G$29,6),IF(AND(H38>1994,H38<1998),VLOOKUP(I38,Feuil1!$A$11:$G$29,5),IF(AND(H38>1997,H38<2000),VLOOKUP(I38,Feuil1!$A$11:$G$29,4),IF(AND(H38>1999,H38<2002),VLOOKUP(I38,Feuil1!$A$11:$G$29,3),VLOOKUP(I38,Feuil1!$A$11:$G$29,2))))),IF(OR(H38=\"SEN\",H38<1995),VLOOKUP(I38,Feuil1!$G$11:$L$25,6),IF(AND(H38>1994,H38<1998),VLOOKUP(I38,Feuil1!$G$11:$L$25,5),IF(AND(H38>1997,H38<2000),VLOOKUP(I38,Feuil1!$G$11:$L$25,4),IF(AND(H38>1999,H38<2002),VLOOKUP(I38,Feuil1!$G$11:$L$25,3),VLOOKUP(I38,Feuil1!$G$11:$L$25,2)))))))","v":"FC1 53"},78.99453977508098,null," ",{"$f":"T38-HLOOKUP(X38,Feuil1!$C$1:$BL$10,2,FALSE)","v":15},{"$f":"T38-HLOOKUP(X38,Feuil1!$C$1:$BL$10,3,FALSE)","v":5},{"$f":"T38-HLOOKUP(X38,Feuil1!$C$1:$BL$10,4,FALSE)","v":-5},{"$f":"T38-HLOOKUP(X38,Feuil1!$C$1:$BL$10,5,FALSE)","v":-15},{"$f":"T38-HLOOKUP(X38,Feuil1!$C$1:$BL$10,6,FALSE)","v":-25},{"$f":"T38-HLOOKUP(X38,Feuil1!$C$1:$BL$10,7,FALSE)","v":-35},{"$f":"T38-HLOOKUP(X38,Feuil1!$C$1:$BL$10,8,FALSE)","v":-45},{"$f":"T38-HLOOKUP(X38,Feuil1!$C$1:$BL$10,9,FALSE)","v":-55},{"$f":"T38-HLOOKUP(X38,Feuil1!$C$1:$BL$10,10,FALSE)","v":-950},null,null,null,null,null,null,"DEP +"]
["F","SEST","CAZ",11,385819,"POIRSON","Alicia",2000,53,"ASLDD TOULON","F",10,15,20,20,25,27,-28,27,47,-59,"DEP +",2,{"$f":"IF(I39=\"\",\"\",IF(A39=\"H\",IF(OR(H39=\"SEN\",H39<1995),VLOOKUP(I39,Feuil1!$A$11:$G$29,6),IF(AND(H39>1994,H39<1998),VLOOKUP(I39,Feuil1!$A$11:$G$29,5),IF(AND(H39>1997,H39<2000),VLOOKUP(I39,Feuil1!$A$11:$G$29,4),IF(AND(H39>1999,H39<2002),VLOOKUP(I39,Feuil1!$A$11:$G$29,3),VLOOKUP(I39,Feuil1!$A$11:$G$29,2))))),IF(OR(H39=\"SEN\",H39<1995),VLOOKUP(I39,Feuil1!$G$11:$L$25,6),IF(AND(H39>1994,H39<1998),VLOOKUP(I39,Feuil1!$G$11:$L$25,5),IF(AND(H39>1997,H39<2000),VLOOKUP(I39,Feuil1!$G$11:$L$25,4),IF(AND(H39>1999,H39<2002),VLOOKUP(I39,Feuil1!$G$11:$L$25,3),VLOOKUP(I39,Feuil1!$G$11:$L$25,2)))))))","v":"FC1 53"},70.896877520961326,null," ",{"$f":"T39-HLOOKUP(X39,Feuil1!$C$1:$BL$10,2,FALSE)","v":12},{"$f":"T39-HLOOKUP(X39,Feuil1!$C$1:$BL$10,3,FALSE)","v":2},{"$f":"T39-HLOOKUP(X39,Feuil1!$C$1:$BL$10,4,FALSE)","v":-8},{"$f":"T39-HLOOKUP(X39,Feuil1!$C$1:$BL$10,5,FALSE)","v":-18},{"$f":"T39-HLOOKUP(X39,Feuil1!$C$1:$BL$10,6,FALSE)","v":-28},{"$f":"T39-HLOOKUP(X39,Feuil1!$C$1:$BL$10,7,FALSE)","v":-38},{"$f":"T39-HLOOKUP(X39,Feuil1!$C$1:$BL$10,8,FALSE)","v":-48},{"$f":"T39-HLOOKUP(X39,Feuil1!$C$1:$BL$10,9,FALSE)","v":-58},{"$f":"T39-HLOOKUP(X39,Feuil1!$C$1:$BL$10,10,FALSE)","v":-953},null,null,null,null,null,null,"DEP +"]
["F","DOM","GUY",12,382075,"VEDDIE","Tessa",2001,50,"ASCPG/Rémire Montjoly","F",15,-20,-20,15,20,-25,25,25,40,-60,"DEB ",5,{"$f":"IF(I40=\"\",\"\",IF(A40=\"H\",IF(OR(H40=\"SEN\",H40<1995),VLOOKUP(I40,Feuil1!$A$11:$G$29,6),IF(AND(H40>1994,H40<1998),VLOOKUP(I40,Feuil1!$A$11:$G$29,5),IF(AND(H40>1997,H40<2000),VLOOKUP(I40,Feuil1!$A$11:$G$29,4),IF(AND(H40>1999,H40<2002),VLOOKUP(I40,Feuil1!$A$11:$G$29,3),VLOOKUP(I40,Feuil1!$A$11:$G$29,2))))),IF(OR(H40=\"SEN\",H40<1995),VLOOKUP(I40,Feuil1!$G$11:$L$25,6),IF(AND(H40>1994,H40<1998),VLOOKUP(I40,Feuil1!$G$11:$L$25,5),IF(AND(H40>1997,H40<2000),VLOOKUP(I40,Feuil1!$G$11:$L$25,4),IF(AND(H40>1999,H40<2002),VLOOKUP(I40,Feuil1!$G$11:$L$25,3),VLOOKUP(I40,Feuil1!$G$11:$L$25,2)))))))","v":"FC1 53"},63.302428724844816,null," ",{"$f":"T40-HLOOKUP(X40,Feuil1!$C$1:$BL$10,2,FALSE)","v":5},{"$f":"T40-HLOOKUP(X40,Feuil1!$C$1:$BL$10,3,FALSE)","v":-5},{"$f":"T40-HLOOKUP(X40,Feuil1!$C$1:$BL$10,4,FALSE)","v":-15},{"$f":"T40-HLOOKUP(X40,Feuil1!$C$1:$BL$10,5,FALSE)","v":-25},{"$f":"T40-HLOOKUP(X40,Feuil1!$C$1:$BL$10,6,FALSE)","v":-35},{"$f":"T40-HLOOKUP(X40,Feuil1!$C$1:$BL$10,7,FALSE)","v":-45},{"$f":"T40-HLOOKUP(X40,Feuil1!$C$1:$BL$10,8,FALSE)","v":-55},{"$f":"T40-HLOOKUP(X40,Feuil1!$C$1:$BL$10,9,FALSE)","v":-65},{"$f":"T40-HLOOKUP(X40,Feuil1!$C$1:$BL$10,10,FALSE)","v":-960},null,null,null,null,null,null,"DEB "]
[null,null,null,null,null,null,null,null,null,null,null,null,null,null,null,null,null,null,null,null,null,null,null,null,null,null," ",{"$f":"T41-HLOOKUP(X41,Feuil1!$C$1:$BL$10,2,FALSE)","v":{"$error":"#N/A"}},{"$f":"T41-HLOOKUP(X41,Feuil1!$C$1:$BL$10,3,FALSE)","v":{"$error":"#N/A"}},{"$f":"T41-HLOOKUP(X41,Feuil1!$C$1:$BL$10,4,FALSE)","v":{"$error":"#N/A"}},{"$f":"T41-HLOOKUP(X41,Feuil1!$C$1:$BL$10,5,FALSE)","v":{"$error":"#N/A"}},{"$f":"T41-HLOOKUP(X41,Feuil1!$C$1:$BL$10,6,FALSE)","v":{"$error":"#N/A"}},{"$f":"T41-HLOOKUP(X41,Feuil1!$C$1:$BL$10,7,FALSE)","v":{"$error":"#N/A"}},{"$f":"T41-HLOOKUP(X41,Feuil1!$C$1:$BL$10,8,FALSE)","v":{"$error":"#N/A"}},{"$f":"T41-HLOOKUP(X41,Feuil1!$C$1:$BL$10,9,FALSE)","v":{"$error":"#N/A"}},{"$f":"T41-HLOOKUP(X41,Feuil1!$C$1:$BL$10,10,FALSE)","v":{"$error":"#N/A"}},null,null,null,null,null,null,{"$f":"IF(AJ41>=0,$AJ$4,IF(AI41>=0,$AI$4,IF(AH41>=0,$AH$4,IF(AG41>=0,$AG$4,IF(AF41>=0,$AF$4,IF(AE41>=0,$AE$4,IF(AD41>=0,$AD$4,IF(AC41>=0,$AC$4,$AB$4))))))))","v":{"$error":"#N/A"}}]
["F","N","NPC",1,359845,"PARANTHOEN","Kimberley",2000,57.27,"C.A.ROSENDAEL","F",35,38,-40,{"$f":"IF(H42=\"\",\"\",IF(MAXA(L42:N42)<=0,0,MAXA(L42:N42)))","v":38},48,-52,52,{"$f":"IF(H42=\"\",\"\",IF(MAXA(P42:R42)<=0,0,MAXA(P42:R42)))","v":52},{"$f":"IF(H42=\"\",\"\",IF(OR(O42=0,S42=0),0,O42+S42))","v":90},{"$f":"T42-I42*2","v":-24.540000000000006},{"$f":"IF(H42=\"\",\"\",AQ42)","v":"NAT +"},{"$f":"IF(AJ42>=0,AJ42,IF(AI42>=0,AI42,IF(AH42>=0,AH42,IF(AG42>=0,AG42,IF(AF42>=0,AF42,IF(AE42>=0,AE42,IF(AD42>=0,AD42,IF(AC42>=0,AC42,AB42))))))))","v":0},{"$f":"IF(I42=\"\",\"\",IF(A42=\"H\",IF(OR(H42=\"SEN\",H42<1995),VLOOKUP(I42,Feuil1!$A$11:$G$29,6),IF(AND(H42>1994,H42<1998),VLOOKUP(I42,Feuil1!$A$11:$G$29,5),IF(AND(H42>1997,H42<2000),VLOOKUP(I42,Feuil1!$A$11:$G$29,4),IF(AND(H42>1999,H42<2002),VLOOKUP(I42,Feuil1!$A$11:$G$29,3),VLOOKUP(I42,Feuil1!$A$11:$G$29,2))))),IF(OR(H42=\"SEN\",H42<1995),VLOOKUP(I42,Feuil1!$G$11:$L$25,6),IF(AND(H42>1994,H42<1998),VLOOKUP(I42,Feuil1!$G$11:$L$25,5),IF(AND(H42>1997,H42<2000),VLOOKUP(I42,Feuil1!$G$11:$L$25,4),IF(AND(H42>1999,H42<2002),VLOOKUP(I42,Feuil1!$G$11:$L$25,3),VLOOKUP(I42,Feuil1!$G$11:$L$25,2)))))))","v":"FC1 58"},{"$f":"IF(I42=\"\",\"\",IF(A42=\"H\",10^(0.794358141*LOG(I42/174.393)^2)*T42,IF(A42=\"F\",10^(0.89726074*LOG(I42/148.026)^2)*T42,\"\")))","v":127.89425167905696},null," ",{"$f":"T42-HLOOKUP(X42,Feuil1!$C$1:$BL$10,2,FALSE)","v":50},{"$f":"T42-HLOOKUP(X42,Feuil1!$C$1:$BL$10,3,FALSE)","v":40},{"$f":"T42-HLOOKUP(X42,Feuil1!$C$1:$BL$10,4,FALSE)","v":30},{"$f":"T42-HLOOKUP(X42,Feuil1!$C$1:$BL$10,5,FALSE)","v":20},{"$f":"T42-HLOOKUP(X42,Feuil1!$C$1:$BL$10,6,FALSE)","v":10},{"$f":"T42-HLOOKUP(X42,Feuil1!$C$1:$BL$10,7,FALSE)","v":0},{"$f":"T42-HLOOKUP(X42,Feuil1!$C$1:$BL$10,8,FALSE)","v":-10},{"$f":"T42-HLOOKUP(X42,Feuil1!$C$1:$BL$10,9,FALSE)","v":-25},{"$f":"T42-HLOOKUP(X42,Feuil1!$C$1:$BL$10,10,FALSE)","v":-910},null,null,null,null,null,null,{"$f":"IF(AJ42>=0,$AJ$4,IF(AI42>=0,$AI$4,IF(AH42>=0,$AH$4,IF(AG42>=0,$AG$4,IF(AF42>=0,$AF$4,IF(AE42>=0,$AE$4,IF(AD42>=0,$AD$4,IF(AC42>=0,$AC$4,$AB$4))))))))","v":"NAT +"}]
["F","NE","CHA",2,320210,"ROEHRIG","Ludivine",2000,54.9,"Langres HM","F",35,38,40,40,45,"-","-",45,85,-24.799999999999997,"FED +",5,{"$f":"IF(I43=\"\",\"\",IF(A43=\"H\",IF(OR(H43=\"SEN\",H43<1995),VLOOKUP(I43,Feuil1!$A$11:$G$29,6),IF(AND(H43>1994,H43<1998),VLOOKUP(I43,Feuil1!$A$11:$G$29,5),IF(AND(H43>1997,H43<2000),VLOOKUP(I43,Feuil1!$A$11:$G$29,4),IF(AND(H43>1999,H43<2002),VLOOKUP(I43,Feuil1!$A$11:$G$29,3),VLOOKUP(I43,Feuil1!$A$11:$G$29,2))))),IF(OR(H43=\"SEN\",H43<1995),VLOOKUP(I43,Feuil1!$G$11:$L$25,6),IF(AND(H43>1994,H43<1998),VLOOKUP(I43,Feuil1!$G$11:$L$25,5),IF(AND(H43>1997,H43<2000),VLOOKUP(I43,Feuil1!$G$11:$L$25,4),IF(AND(H43>1999,H43<2002),VLOOKUP(I43,Feuil1!$G$11:$L$25,3),VLOOKUP(I43,Feuil1!$G$11:$L$25,2)))))))","v":"FC1 58"},124.71358944915011,null," ",{"$f":"T43-HLOOKUP(X43,Feuil1!$C$1:$BL$10,2,FALSE)","v":45},{"$f":"T43-HLOOKUP(X43,Feuil1!$C$1:$BL$10,3,FALSE)","v":35},{"$f":"T43-HLOOKUP(X43,Feuil1!$C$1:$BL$10,4,FALSE)","v":25},{"$f":"T43-HLOOKUP(X43,Feuil1!$C$1:$BL$10,5,FALSE)","v":15},{"$f":"T43-HLOOKUP(X43,Feuil1!$C$1:$BL$10,6,FALSE)","v":5},{"$f":"T43-HLOOKUP(X43,Feuil1!$C$1:$BL$10,7,FALSE)","v":-5},{"$f":"T43-HLOOKUP(X43,Feuil1!$C$1:$BL$10,8,FALSE)","v":-15},{"$f":"T43-HLOOKUP(X43,Feuil1!$C$1:$BL$10,9,FALSE)","v":-30},{"$f":"T43-HLOOKUP(X43,Feuil1!$C$1:$BL$10,10,FALSE)","v":-915},null,null,null,null,null,null,"FED +"]
["F","SO","LIM",3,326707,"LAMARGUE ","Loriane",2000,53.1,"LIMOGES AVA","F",30,33,-34,33,42,45,47,47,80,-26.200000000000003,"FED +",0,{"$f":"IF(I44=\"\",\"\",IF(A44=\"H\",IF(OR(H44=\"SEN\",H44<1995),VLOOKUP(I44,Feuil1!$A$11:$G$29,6),IF(AND(H44>1994,H44<1998),VLOOKUP(I44,Feuil1!$A$11:$G$29,5),IF(AND(H44>1997,H44<2000),VLOOKUP(I44,Feuil1!$A$11:$G$29,4),IF(AND(H44>1999,H44<2002),VLOOKUP(I44,Feuil1!$A$11:$G$29,3),VLOOKUP(I44,Feuil1!$A$11:$G$29,2))))),IF(OR(H44=\"SEN\",H44<1995),VLOOKUP(I44,Feuil1!$G$11:$L$25,6),IF(AND(H44>1994,H44<1998),VLOOKUP(I44,Feuil1!$G$11:$L$25,5),IF(AND(H44>1997,H44<2000),VLOOKUP(I44,Feuil1!$G$11:$L$25,4),IF(AND(H44>1999,H44<2002),VLOOKUP(I44,Feuil1!$G$11:$L$25,3),VLOOKUP(I44,Feuil1!$G$11:$L$25,2)))))))","v":"FC1 58"},120.493753746048,null," ",{"$f":"T44-HLOOKUP(X44,Feuil1!$C$1:$BL$10,2,FALSE)","v":40},{"$f":"T44-HLOOKUP(X44,Feuil1!$C$1:$BL$10,3,FALSE)","v":30},{"$f":"T44-HLOOKUP(X44,Feuil1!$C$1:$BL$10,4,FALSE)","v":20},{"$f":"T44-HLOOKUP(X44,Feuil1!$C$1:$BL$10,5,FALSE)","v":10},{"$f":"T44-HLOOKUP(X44,Feuil1!$C$1:$BL$10,6,FALSE)","v":0},{"$f":"T44-HLOOKUP(X44,Feuil1!$C$1:$BL$10,7,FALSE)","v":-10},{"$f":"T44-HLOOKUP(X44,Feuil1!$C$1:$BL$10,8,FALSE)","v":-20},{"$f":"T44-HLOOKUP(X44,Feuil1!$C$1:$BL$10,9,FALSE)","v":-35},{"$f":"T44-HLOOKUP(X44,Feuil1!$C$1:$BL$10,10,FALSE)","v":-920},null,null,null,null,null,null,"FED +"]
["F","SO","AQU",4,277040,"GIRAUD","Hectorine",2000,57.9,"ASOA Aquitaine","F",33,35,-36,35,43,45,-47,45,80,-35.799999999999997,"FED +",0,{"$f":"IF(I45=\"\",\"\",IF(A45=\"H\",IF(OR(H45=\"SEN\",H45<1995),VLOOKUP(I45,Feuil1!$A$11:$G$29,6),IF(AND(H45>1994,H45<1998),VLOOKUP(I45,Feuil1!$A$11:$G$29,5),IF(AND(H45>1997,H45<2000),VLOOKUP(I45,Feuil1!$A$11:$G$29,4),IF(AND(H45>1999,H45<2002),VLOOKUP(I45,Feuil1!$A$11:$G$29,3),VLOOKUP(I45,Feuil1!$A$11:$G$29,2))))),IF(OR(H45=\"SEN\",H45<1995),VLOOKUP(I45,Feuil1!$G$11:$L$25,6),IF(AND(H45>1994,H45<1998),VLOOKUP(I45,Feuil1!$G$11:$L$25,5),IF(AND(H45>1997,H45<2000),VLOOKUP(I45,Feuil1!$G$11:$L$25,4),IF(AND(H45>1999,H45<2002),VLOOKUP(I45,Feuil1!$G$11:$L$25,3),VLOOKUP(I45,Feuil1!$G$11:$L$25,2)))))))","v":"FC1 58"},112.77227891833439,null," ",{"$f":"T45-HLOOKUP(X45,Feuil1!$C$1:$BL$10,2,FALSE)","v":40},{"$f":"T45-HLOOKUP(X45,Feuil1!$C$1:$BL$10,3,FALSE)","v":30},{"$f":"T45-HLOOKUP(X45,Feuil1!$C$1:$BL$10,4,FALSE)","v":20},{"$f":"T45-HLOOKUP(X45,Feuil1!$C$1:$BL$10,5,FALSE)","v":10},{"$f":"T45-HLOOKUP(X45,Feuil1!$C$1:$BL$10,6,FALSE)","v":0},{"$f":"T45-HLOOKUP(X45,Feuil1!$C$1:$BL$10,7,FALSE)","v":-10},{"$f":"T45-HLOOKUP(X45,Feuil1!$C$1:$BL$10,8,FALSE)","v":-20},{"$f":"T45-HLOOKUP(X45,Feuil1!$C$1:$BL$10,9,FALSE)","v":-35},{"$f":"T45-HLOOKUP(X45,Feuil1!$C$1:$BL$10,10,FALSE)","v":-920},null,null,null,null,null,null,"FED +"]
["F","NE","CHA",5,355066,"MECHIAKH","Chloé",2001,54.1,"Langres HM","F",26,29,-31,29,35,38,41,41,70,-38.200000000000003,"IRG +",0,{"$f":"IF(I46=\"\",\"\",IF(A46=\"H\",IF(OR(H46=\"SEN\",H46<1995),VLOOKUP(I46,Feuil1!$A$11:$G$29,6),IF(AND(H46>1994,H46<1998),VLOOKUP(I46,Feuil1!$A$11:$G$29,5),IF(AND(H46>1997,H46<2000),VLOOKUP(I46,Feuil1!$A$11:$G$29,4),IF(AND(H46>1999,H46<2002),VLOOKUP(I46,Feuil1!$A$11:$G$29,3),VLOOKUP(I46,Feuil1!$A$11:$G$29,2))))),IF(OR(H46=\"SEN\",H46<1995),VLOOKUP(I46,Feuil1!$G$11:$L$25,6),IF(AND(H46>1994,H46<1998),VLOOKUP(I46,Feuil1!$G$11:$L$25,5),IF(AND(H46>1997,H46<2000),VLOOKUP(I46,Feuil1!$G$11:$L$25,4),IF(AND(H46>1999,H46<2002),VLOOKUP(I46,Feuil1!$G$11:$L$25,3),VLOOKUP(I46,Feuil1!$G$11:$L$25,2)))))))","v":"FC1 58"},103.88609267501297,null," ",{"$f":"T46-HLOOKUP(X46,Feuil1!$C$1:$BL$10,2,FALSE)","v":30},{"$f":"T46-HLOOKUP(X46,Feuil1!$C$1:$BL$10,3,FALSE)","v":20},{"$f":"T46-HLOOKUP(X46,Feuil1!$C$1:$BL$10,4,FALSE)","v":10},{"$f":"T46-HLOOKUP(X46,Feuil1!$C$1:$BL$10,5,FALSE)","v":0},{"$f":"T46-HLOOKUP(X46,Feuil1!$C$1:$BL$10,6,FALSE)","v":-10},{"$f":"T46-HLOOKUP(X46,Feuil1!$C$1:$BL$10,7,FALSE)","v":-20},{"$f":"T46-HLOOKUP(X46,Feuil1!$C$1:$BL$10,8,FALSE)","v":-30},{"$f":"T46-HLOOKUP(X46,Feuil1!$C$1:$BL$10,9,FALSE)","v":-45},{"$f":"T46-HLOOKUP(X46,Feuil1!$C$1:$BL$10,10,FALSE)","v":-930},null,null,null,null,null,null,"IRG +"]
["F","SEST","PRO",6,391362,"PEREIRA MARTIN","TATIANA",2001,57.5,"EEAR MONTEUX","F",18,-22,22,22,28,32,35,35,57,-58,"DEP +",7,{"$f":"IF(I47=\"\",\"\",IF(A47=\"H\",IF(OR(H47=\"SEN\",H47<1995),VLOOKUP(I47,Feuil1!$A$11:$G$29,6),IF(AND(H47>1994,H47<1998),VLOOKUP(I47,Feuil1!$A$11:$G$29,5),IF(AND(H47>1997,H47<2000),VLOOKUP(I47,Feuil1!$A$11:$G$29,4),IF(AND(H47>1999,H47<2002),VLOOKUP(I47,Feuil1!$A$11:$G$29,3),VLOOKUP(I47,Feuil1!$A$11:$G$29,2))))),IF(OR(H47=\"SEN\",H47<1995),VLOOKUP(I47,Feuil1!$G$11:$L$25,6),IF(AND(H47>1994,H47<1998),VLOOKUP(I47,Feuil1!$G$11:$L$25,5),IF(AND(H47>1997,H47<2000),VLOOKUP(I47,Feuil1!$G$11:$L$25,4),IF(AND(H47>1999,H47<2002),VLOOKUP(I47,Feuil1!$G$11:$L$25,3),VLOOKUP(I47,Feuil1!$G$11:$L$25,2)))))))","v":"FC1 58"},80.760288380025955,null," ",{"$f":"T47-HLOOKUP(X47,Feuil1!$C$1:$BL$10,2,FALSE)","v":17},{"$f":"T47-HLOOKUP(X47,Feuil1!$C$1:$BL$10,3,FALSE)","v":7},{"$f":"T47-HLOOKUP(X47,Feuil1!$C$1:$BL$10,4,FALSE)","v":-3},{"$f":"T47-HLOOKUP(X47,Feuil1!$C$1:$BL$10,5,FALSE)","v":-13},{"$f":"T47-HLOOKUP(X47,Feuil1!$C$1:$BL$10,6,FALSE)","v":-23},{"$f":"T47-HLOOKUP(X47,Feuil1!$C$1:$BL$10,7,FALSE)","v":-33},{"$f":"T47-HLOOKUP(X47,Feuil1!$C$1:$BL$10,8,FALSE)","v":-43},{"$f":"T47-HLOOKUP(X47,Feuil1!$C$1:$BL$10,9,FALSE)","v":-58},{"$f":"T47-HLOOKUP(X47,Feuil1!$C$1:$BL$10,10,FALSE)","v":-943},null,null,null,null,null,null,"DEP +"]
["F","SEST","CAZ",7,385819,"POIRSON","Alicia",2000,57," ASLDD TOULON","F",-17,17,19,19,-24,26,28,28,47,-67,"DEB ",7,{"$f":"IF(I48=\"\",\"\",IF(A48=\"H\",IF(OR(H48=\"SEN\",H48<1995),VLOOKUP(I48,Feuil1!$A$11:$G$29,6),IF(AND(H48>1994,H48<1998),VLOOKUP(I48,Feuil1!$A$11:$G$29,5),IF(AND(H48>1997,H48<2000),VLOOKUP(I48,Feuil1!$A$11:$G$29,4),IF(AND(H48>1999,H48<2002),VLOOKUP(I48,Feuil1!$A$11:$G$29,3),VLOOKUP(I48,Feuil1!$A$11:$G$29,2))))),IF(OR(H48=\"SEN\",H48<1995),VLOOKUP(I48,Feuil1!$G$11:$L$25,6),IF(AND(H48>1994,H48<1998),VLOOKUP(I48,Feuil1!$G$11:$L$25,5),IF(AND(H48>1997,H48<2000),VLOOKUP(I48,Feuil1!$G$11:$L$25,4),IF(AND(H48>1999,H48<2002),VLOOKUP(I48,Feuil1!$G$11:$L$25,3),VLOOKUP(I48,Feuil1!$G$11:$L$25,2)))))))","v":"FC1 58"},67.02379884833752,null," ",{"$f":"T48-HLOOKUP(X48,Feuil1!$C$1:$BL$10,2,FALSE)","v":7},{"$f":"T48-HLOOKUP(X48,Feuil1!$C$1:$BL$10,3,FALSE)","v":-3},{"$f":"T48-HLOOKUP(X48,Feuil1!$C$1:$BL$10,4,FALSE)","v":-13},{"$f":"T48-HLOOKUP(X48,Feuil1!$C$1:$BL$10,5,FALSE)","v":-23},{"$f":"T48-HLOOKUP(X48,Feuil1!$C$1:$BL$10,6,FALSE)","v":-33},{"$f":"T48-HLOOKUP(X48,Feuil1!$C$1:$BL$10,7,FALSE)","v":-43},{"$f":"T48-HLOOKUP(X48,Feuil1!$C$1:$BL$10,8,FALSE)","v":-53},{"$f":"T48-HLOOKUP(X48,Feuil1!$C$1:$BL$10,9,FALSE)","v":-68},{"$f":"T48-HLOOKUP(X48,Feuil1!$C$1:$BL$10,10,FALSE)","v":-953},null,null,null,null,null,null,"DEB "]
["F","NE","ALS",8,374732,"FERON-GRIMM","LILOU",2001,56.3,"ASPTT Strasbourg","F",17,20,-22,20,-21,21,24,24,44,-68.599999999999994,"DEB ",4,{"$f":"IF(I49=\"\",\"\",IF(A49=\"H\",IF(OR(H49=\"SEN\",H49<1995),VLOOKUP(I49,Feuil1!$A$11:$G$29,6),IF(AND(H49>1994,H49<1998),VLOOKUP(I49,Feuil1!$A$11:$G$29,5),IF(AND(H49>1997,H49<2000),VLOOKUP(I49,Feuil1!$A$11:$G$29,4),IF(AND(H49>1999,H49<2002),VLOOKUP(I49,Feuil1!$A$11:$G$29,3),VLOOKUP(I49,Feuil1!$A$11:$G$29,2))))),IF(OR(H49=\"SEN\",H49<1995),VLOOKUP(I49,Feuil1!$G$11:$L$25,6),IF(AND(H49>1994,H49<1998),VLOOKUP(I49,Feuil1!$G$11:$L$25,5),IF(AND(H49>1997,H49<2000),VLOOKUP(I49,Feuil1!$G$11:$L$25,4),IF(AND(H49>1999,H49<2002),VLOOKUP(I49,Feuil1!$G$11:$L$25,3),VLOOKUP(I49,Feuil1!$G$11:$L$25,2)))))))","v":"FC1 58"},63.328772969022154,null," ",{"$f":"T49-HLOOKUP(X49,Feuil1!$C$1:$BL$10,2,FALSE)","v":4},{"$f":"T49-HLOOKUP(X49,Feuil1!$C$1:$BL$10,3,FALSE)","v":-6},{"$f":"T49-HLOOKUP(X49,Feuil1!$C$1:$BL$10,4,FALSE)","v":-16},{"$f":"T49-HLOOKUP(X49,Feuil1!$C$1:$BL$10,5,FALSE)","v":-26},{"$f":"T49-HLOOKUP(X49,Feuil1!$C$1:$BL$10,6,FALSE)","v":-36},{"$f":"T49-HLOOKUP(X49,Feuil1!$C$1:$BL$10,7,FALSE)","v":-46},{"$f":"T49-HLOOKUP(X49,Feuil1!$C$1:$BL$10,8,FALSE)","v":-56},{"$f":"T49-HLOOKUP(X49,Feuil1!$C$1:$BL$10,9,FALSE)","v":-71},{"$f":"T49-HLOOKUP(X49,Feuil1!$C$1:$BL$10,10,FALSE)","v":-956},null,null,null,null,null,null,"DEB "]
["F","CO","BRE",9,381211,"VAN KERKHOVE","Charline",2001,57.8,"AL Quimper","F",15,18,20,20,20,-23,23,23,43,-72.599999999999994,"DEB ",3,{"$f":"IF(I50=\"\",\"\",IF(A50=\"H\",IF(OR(H50=\"SEN\",H50<1995),VLOOKUP(I50,Feuil1!$A$11:$G$29,6),IF(AND(H50>1994,H50<1998),VLOOKUP(I50,Feuil1!$A$11:$G$29,5),IF(AND(H50>1997,H50<2000),VLOOKUP(I50,Feuil1!$A$11:$G$29,4),IF(AND(H50>1999,H50<2002),VLOOKUP(I50,Feuil1!$A$11:$G$29,3),VLOOKUP(I50,Feuil1!$A$11:$G$29,2))))),IF(OR(H50=\"SEN\",H50<1995),VLOOKUP(I50,Feuil1!$G$11:$L$25,6),IF(AND(H50>1994,H50<1998),VLOOKUP(I50,Feuil1!$G$11:$L$25,5),IF(AND(H50>1997,H50<2000),VLOOKUP(I50,Feuil1!$G$11:$L$25,4),IF(AND(H50>1999,H50<2002),VLOOKUP(I50,Feuil1!$G$11:$L$25,3),VLOOKUP(I50,Feuil1!$G$11:$L$25,2)))))))","v":"FC1 58"},60.691871116673781,null," ",{"$f":"T50-HLOOKUP(X50,Feuil1!$C$1:$BL$10,2,FALSE)","v":3},{"$f":"T50-HLOOKUP(X50,Feuil1!$C$1:$BL$10,3,FALSE)","v":-7},{"$f":"T50-HLOOKUP(X50,Feuil1!$C$1:$BL$10,4,FALSE)","v":-17},{"$f":"T50-HLOOKUP(X50,Feuil1!$C$1:$BL$10,5,FALSE)","v":-27},{"$f":"T50-HLOOKUP(X50,Feuil1!$C$1:$BL$10,6,FALSE)","v":-37},{"$f":"T50-HLOOKUP(X50,Feuil1!$C$1:$BL$10,7,FALSE)","v":-47},{"$f":"T50-HLOOKUP(X50,Feuil1!$C$1:$BL$10,8,FALSE)","v":-57},{"$f":"T50-HLOOKUP(X50,Feuil1!$C$1:$BL$10,9,FALSE)","v":-72},{"$f":"T50-HLOOKUP(X50,Feuil1!$C$1:$BL$10,10,FALSE)","v":-957},null,null,null,null,null,null,"DEB "]
[null,null,null,null,null,null,null,null,null,null,null,null,null,null,null,null,null,null,null,null,null,null,null,null,null,null," ",{"$f":"T51-HLOOKUP(X51,Feuil1!$C$1:$BL$10,2,FALSE)","v":{"$error":"#N/A"}},{"$f":"T51-HLOOKUP(X51,Feuil1!$C$1:$BL$10,3,FALSE)","v":{"$error":"#N/A"}},{"$f":"T51-HLOOKUP(X51,Feuil1!$C$1:$BL$10,4,FALSE)","v":{"$error":"#N/A"}},{"$f":"T51-HLOOKUP(X51,Feuil1!$C$1:$BL$10,5,FALSE)","v":{"$error":"#N/A"}},{"$f":"T51-HLOOKUP(X51,Feuil1!$C$1:$BL$10,6,FALSE)","v":{"$error":"#N/A"}},{"$f":"T51-HLOOKUP(X51,Feuil1!$C$1:$BL$10,7,FALSE)","v":{"$error":"#N/A"}},{"$f":"T51-HLOOKUP(X51,Feuil1!$C$1:$BL$10,8,FALSE)","v":{"$error":"#N/A"}},{"$f":"T51-HLOOKUP(X51,Feuil1!$C$1:$BL$10,9,FALSE)","v":{"$error":"#N/A"}},{"$f":"T51-HLOOKUP(X51,Feuil1!$C$1:$BL$10,10,FALSE)","v":{"$error":"#N/A"}},null,null,null,null,null,null,{"$f":"IF(AJ51>=0,$AJ$4,IF(AI51>=0,$AI$4,IF(AH51>=0,$AH$4,IF(AG51>=0,$AG$4,IF(AF51>=0,$AF$4,IF(AE51>=0,$AE$4,IF(AD51>=0,$AD$4,IF(AC51>=0,$AC$4,$AB$4))))))))","v":{"$error":"#N/A"}}]
["F","NE","BOU",1,363267,"GRAILLOT","Vicky",2000,60.3,"HMDB21","F",49,52,55,{"$f":"IF(H52=\"\",\"\",IF(MAXA(L52:N52)<=0,0,MAXA(L52:N52)))","v":55},62,-65,65,{"$f":"IF(H52=\"\",\"\",IF(MAXA(P52:R52)<=0,0,MAXA(P52:R52)))","v":65},{"$f":"IF(H52=\"\",\"\",IF(OR(O52=0,S52=0),0,O52+S52))","v":120},{"$f":"T52-I52*2","v":-0.59999999999999432},{"$f":"IF(H52=\"\",\"\",AQ52)","v":"INTB +"},{"$f":"IF(AJ52>=0,AJ52,IF(AI52>=0,AI52,IF(AH52>=0,AH52,IF(AG52>=0,AG52,IF(AF52>=0,AF52,IF(AE52>=0,AE52,IF(AD52>=0,AD52,IF(AC52>=0,AC52,AB52))))))))","v":10},{"$f":"IF(I52=\"\",\"\",IF(A52=\"H\",IF(OR(H52=\"SEN\",H52<1995),VLOOKUP(I52,Feuil1!$A$11:$G$29,6),IF(AND(H52>1994,H52<1998),VLOOKUP(I52,Feuil1!$A$11:$G$29,5),IF(AND(H52>1997,H52<2000),VLOOKUP(I52,Feuil1!$A$11:$G$29,4),IF(AND(H52>1999,H52<2002),VLOOKUP(I52,Feuil1!$A$11:$G$29,3),VLOOKUP(I52,Feuil1!$A$11:$G$29,2))))),IF(OR(H52=\"SEN\",H52<1995),VLOOKUP(I52,Feuil1!$G$11:$L$25,6),IF(AND(H52>1994,H52<1998),VLOOKUP(I52,Feuil1!$G$11:$L$25,5),IF(AND(H52>1997,H52<2000),VLOOKUP(I52,Feuil1!$G$11:$L$25,4),IF(AND(H52>1999,H52<2002),VLOOKUP(I52,Feuil1!$G$11:$L$25,3),VLOOKUP(I52,Feuil1!$G$11:$L$25,2)))))))","v":"FC1 63"},{"$f":"IF(I52=\"\",\"\",IF(A52=\"H\",10^(0.794358141*LOG(I52/174.393)^2)*T52,IF(A52=\"F\",10^(0.89726074*LOG(I52/148.026)^2)*T52,\"\")))","v":164.31192597057972},null," ",{"$f":"T52-HLOOKUP(X52,Feuil1!$C$1:$BL$10,2,FALSE)","v":75},{"$f":"T52-HLOOKUP(X52,Feuil1!$C$1:$BL$10,3,FALSE)","v":65},{"$f":"T52-HLOOKUP(X52,Feuil1!$C$1:$BL$10,4,FALSE)","v":55},{"$f":"T52-HLOOKUP(X52,Feuil1!$C$1:$BL$10,5,FALSE)","v":45},{"$f":"T52-HLOOKUP(X52,Feuil1!$C$1:$BL$10,6,FALSE)","v":35},{"$f":"T52-HLOOKUP(X52,Feuil1!$C$1:$BL$10,7,FALSE)","v":25},{"$f":"T52-HLOOKUP(X52,Feuil1!$C$1:$BL$10,8,FALSE)","v":10},{"$f":"T52-HLOOKUP(X52,Feuil1!$C$1:$BL$10,9,FALSE)","v":-5},{"$f":"T52-HLOOKUP(X52,Feuil1!$C$1:$BL$10,10,FALSE)","v":-880},null,null,null,null,null,null,{"$f":"IF(AJ52>=0,$AJ$4,IF(AI52>=0,$AI$4,IF(AH52>=0,$AH$4,IF(AG52>=0,$AG$4,IF(AF52>=0,$AF$4,IF(AE52>=0,$AE$4,IF(AD52>=0,$AD$4,IF(AC52>=0,$AC$4,$AB$4))))))))","v":"INTB +"}]
["F","SO","AQU",2,277040,"GIRAUD","Hectorine",2000,58.1,"ASOA Aquitaine","F",29,31,33,33,39,42,45,45,78,-38.200000000000003,"IRG +",3,{"$f":"IF(I53=\"\",\"\",IF(A53=\"H\",IF(OR(H53=\"SEN\",H53<1995),VLOOKUP(I53,Feuil1!$A$11:$G$29,6),IF(AND(H53>1994,H53<1998),VLOOKUP(I53,Feuil1!$A$11:$G$29,5),IF(AND(H53>1997,H53<2000),VLOOKUP(I53,Feuil1!$A$11:$G$29,4),IF(AND(H53>1999,H53<2002),VLOOKUP(I53,Feuil1!$A$11:$G$29,3),VLOOKUP(I53,Feuil1!$A$11:$G$29,2))))),IF(OR(H53=\"SEN\",H53<1995),VLOOKUP(I53,Feuil1!$G$11:$L$25,6),IF(AND(H53>1994,H53<1998),VLOOKUP(I53,Feuil1!$G$11:$L$25,5),IF(AND(H53>1997,H53<2000),VLOOKUP(I53,Feuil1!$G$11:$L$25,4),IF(AND(H53>1999,H53<2002),VLOOKUP(I53,Feuil1!$G$11:$L$25,3),VLOOKUP(I53,Feuil1!$G$11:$L$25,2)))))))","v":"FC1 63"},109.67646217997739,null," ",{"$f":"T53-HLOOKUP(X53,Feuil1!$C$1:$BL$10,2,FALSE)","v":33},{"$f":"T53-HLOOKUP(X53,Feuil1!$C$1:$BL$10,3,FALSE)","v":23},{"$f":"T53-HLOOKUP(X53,Feuil1!$C$1:$BL$10,4,FALSE)","v":13},{"$f":"T53-HLOOKUP(X53,Feuil1!$C$1:$BL$10,5,FALSE)","v":3},{"$f":"T53-HLOOKUP(X53,Feuil1!$C$1:$BL$10,6,FALSE)","v":-7},{"$f":"T53-HLOOKUP(X53,Feuil1!$C$1:$BL$10,7,FALSE)","v":-17},{"$f":"T53-HLOOKUP(X53,Feuil1!$C$1:$BL$10,8,FALSE)","v":-32},{"$f":"T53-HLOOKUP(X53,Feuil1!$C$1:$BL$10,9,FALSE)","v":-47},{"$f":"T53-HLOOKUP(X53,Feuil1!$C$1:$BL$10,10,FALSE)","v":-922},null,null,null,null,null,null,"IRG +"]
["F","SEST","AUV",3,332457,"FILIQUIER","léa",2001,59.7,"CHM AURILLAC","F",25,27,-30,27,35,40,42,42,69,-50.400000000000006,"REG +",4,{"$f":"IF(I54=\"\",\"\",IF(A54=\"H\",IF(OR(H54=\"SEN\",H54<1995),VLOOKUP(I54,Feuil1!$A$11:$G$29,6),IF(AND(H54>1994,H54<1998),VLOOKUP(I54,Feuil1!$A$11:$G$29,5),IF(AND(H54>1997,H54<2000),VLOOKUP(I54,Feuil1!$A$11:$G$29,4),IF(AND(H54>1999,H54<2002),VLOOKUP(I54,Feuil1!$A$11:$G$29,3),VLOOKUP(I54,Feuil1!$A$11:$G$29,2))))),IF(OR(H54=\"SEN\",H54<1995),VLOOKUP(I54,Feuil1!$G$11:$L$25,6),IF(AND(H54>1994,H54<1998),VLOOKUP(I54,Feuil1!$G$11:$L$25,5),IF(AND(H54>1997,H54<2000),VLOOKUP(I54,Feuil1!$G$11:$L$25,4),IF(AND(H54>1999,H54<2002),VLOOKUP(I54,Feuil1!$G$11:$L$25,3),VLOOKUP(I54,Feuil1!$G$11:$L$25,2)))))))","v":"FC1 63"},95.146651600508974,null," ",{"$f":"T54-HLOOKUP(X54,Feuil1!$C$1:$BL$10,2,FALSE)","v":24},{"$f":"T54-HLOOKUP(X54,Feuil1!$C$1:$BL$10,3,FALSE)","v":14},{"$f":"T54-HLOOKUP(X54,Feuil1!$C$1:$BL$10,4,FALSE)","v":4},{"$f":"T54-HLOOKUP(X54,Feuil1!$C$1:$BL$10,5,FALSE)","v":-6},{"$f":"T54-HLOOKUP(X54,Feuil1!$C$1:$BL$10,6,FALSE)","v":-16},{"$f":"T54-HLOOKUP(X54,Feuil1!$C$1:$BL$10,7,FALSE)","v":-26},{"$f":"T54-HLOOKUP(X54,Feuil1!$C$1:$BL$10,8,FALSE)","v":-41},{"$f":"T54-HLOOKUP(X54,Feuil1!$C$1:$BL$10,9,FALSE)","v":-56},{"$f":"T54-HLOOKUP(X54,Feuil1!$C$1:$BL$10,10,FALSE)","v":-931},null,null,null,null,null,null,"REG +"]
["F","CO","BRE",4,381211,"VAN KERKHOVE","Charline",2001,59.9,"AL Quimper","F",20,23,26,26,29,32,-35,32,58,-61.8,"DEP +",3,{"$f":"IF(I55=\"\",\"\",IF(A55=\"H\",IF(OR(H55=\"SEN\",H55<1995),VLOOKUP(I55,Feuil1!$A$11:$G$29,6),IF(AND(H55>1994,H55<1998),VLOOKUP(I55,Feuil1!$A$11:$G$29,5),IF(AND(H55>1997,H55<2000),VLOOKUP(I55,Feuil1!$A$11:$G$29,4),IF(AND(H55>1999,H55<2002),VLOOKUP(I55,Feuil1!$A$11:$G$29,3),VLOOKUP(I55,Feuil1!$A$11:$G$29,2))))),IF(OR(H55=\"SEN\",H55<1995),VLOOKUP(I55,Feuil1!$G$11:$L$25,6),IF(AND(H55>1994,H55<1998),VLOOKUP(I55,Feuil1!$G$11:$L$25,5),IF(AND(H55>1997,H55<2000),VLOOKUP(I55,Feuil1!$G$11:$L$25,4),IF(AND(H55>1999,H55<2002),VLOOKUP(I55,Feuil1!$G$11:$L$25,3),VLOOKUP(I55,Feuil1!$G$11:$L$25,2)))))))","v":"FC1 63"},79.78961794300956,null," ",{"$f":"T55-HLOOKUP(X55,Feuil1!$C$1:$BL$10,2,FALSE)","v":13},{"$f":"T55-HLOOKUP(X55,Feuil1!$C$1:$BL$10,3,FALSE)","v":3},{"$f":"T55-HLOOKUP(X55,Feuil1!$C$1:$BL$10,4,FALSE)","v":-7},{"$f":"T55-HLOOKUP(X55,Feuil1!$C$1:$BL$10,5,FALSE)","v":-17},{"$f":"T55-HLOOKUP(X55,Feuil1!$C$1:$BL$10,6,FALSE)","v":-27},{"$f":"T55-HLOOKUP(X55,Feuil1!$C$1:$BL$10,7,FALSE)","v":-37},{"$f":"T55-HLOOKUP(X55,Feuil1!$C$1:$BL$10,8,FALSE)","v":-52},{"$f":"T55-HLOOKUP(X55,Feuil1!$C$1:$BL$10,9,FALSE)","v":-67},{"$f":"T55-HLOOKUP(X55,Feuil1!$C$1:$BL$10,10,FALSE)","v":-942},null,null,null,null,null,null,"DEP +"]
["F","CO","BRE",5,378676,"JAFFRY","Lauréline",2001,62.8,"CHM Plouhinec PR","F",22,-25,-25,22,28,30,32,32,54,-71.599999999999994,"DEB ",9,{"$f":"IF(I56=\"\",\"\",IF(A56=\"H\",IF(OR(H56=\"SEN\",H56<1995),VLOOKUP(I56,Feuil1!$A$11:$G$29,6),IF(AND(H56>1994,H56<1998),VLOOKUP(I56,Feuil1!$A$11:$G$29,5),IF(AND(H56>1997,H56<2000),VLOOKUP(I56,Feuil1!$A$11:$G$29,4),IF(AND(H56>1999,H56<2002),VLOOKUP(I56,Feuil1!$A$11:$G$29,3),VLOOKUP(I56,Feuil1!$A$11:$G$29,2))))),IF(OR(H56=\"SEN\",H56<1995),VLOOKUP(I56,Feuil1!$G$11:$L$25,6),IF(AND(H56>1994,H56<1998),VLOOKUP(I56,Feuil1!$G$11:$L$25,5),IF(AND(H56>1997,H56<2000),VLOOKUP(I56,Feuil1!$G$11:$L$25,4),IF(AND(H56>1999,H56<2002),VLOOKUP(I56,Feuil1!$G$11:$L$25,3),VLOOKUP(I56,Feuil1!$G$11:$L$25,2)))))))","v":"FC1 63"},71.913925729833736,null," ",{"$f":"T56-HLOOKUP(X56,Feuil1!$C$1:$BL$10,2,FALSE)","v":9},{"$f":"T56-HLOOKUP(X56,Feuil1!$C$1:$BL$10,3,FALSE)","v":-1},{"$f":"T56-HLOOKUP(X56,Feuil1!$C$1:$BL$10,4,FALSE)","v":-11},{"$f":"T56-HLOOKUP(X56,Feuil1!$C$1:$BL$10,5,FALSE)","v":-21},{"$f":"T56-HLOOKUP(X56,Feuil1!$C$1:$BL$10,6,FALSE)","v":-31},{"$f":"T56-HLOOKUP(X56,Feuil1!$C$1:$BL$10,7,FALSE)","v":-41},{"$f":"T56-HLOOKUP(X56,Feuil1!$C$1:$BL$10,8,FALSE)","v":-56},{"$f":"T56-HLOOKUP(X56,Feuil1!$C$1:$BL$10,9,FALSE)","v":-71},{"$f":"T56-HLOOKUP(X56,Feuil1!$C$1:$BL$10,10,FALSE)","v":-946},null,null,null,null,null,null,"DEB "]
["F","CO","BRE",6,394300,"RUMEN","Camille",2001,61.3,"AL Quimper","F",30,-33,33,33,-38,-38,-42,0,0,-122.6,"DEB ",-45,{"$f":"IF(I57=\"\",\"\",IF(A57=\"H\",IF(OR(H57=\"SEN\",H57<1995),VLOOKUP(I57,Feuil1!$A$11:$G$29,6),IF(AND(H57>1994,H57<1998),VLOOKUP(I57,Feuil1!$A$11:$G$29,5),IF(AND(H57>1997,H57<2000),VLOOKUP(I57,Feuil1!$A$11:$G$29,4),IF(AND(H57>1999,H57<2002),VLOOKUP(I57,Feuil1!$A$11:$G$29,3),VLOOKUP(I57,Feuil1!$A$11:$G$29,2))))),IF(OR(H57=\"SEN\",H57<1995),VLOOKUP(I57,Feuil1!$G$11:$L$25,6),IF(AND(H57>1994,H57<1998),VLOOKUP(I57,Feuil1!$G$11:$L$25,5),IF(AND(H57>1997,H57<2000),VLOOKUP(I57,Feuil1!$G$11:$L$25,4),IF(AND(H57>1999,H57<2002),VLOOKUP(I57,Feuil1!$G$11:$L$25,3),VLOOKUP(I57,Feuil1!$G$11:$L$25,2)))))))","v":"FC1 63"},0,null," ",{"$f":"T57-HLOOKUP(X57,Feuil1!$C$1:$BL$10,2,FALSE)","v":-45},{"$f":"T57-HLOOKUP(X57,Feuil1!$C$1:$BL$10,3,FALSE)","v":-55},{"$f":"T57-HLOOKUP(X57,Feuil1!$C$1:$BL$10,4,FALSE)","v":-65},{"$f":"T57-HLOOKUP(X57,Feuil1!$C$1:$BL$10,5,FALSE)","v":-75},{"$f":"T57-HLOOKUP(X57,Feuil1!$C$1:$BL$10,6,FALSE)","v":-85},{"$f":"T57-HLOOKUP(X57,Feuil1!$C$1:$BL$10,7,FALSE)","v":-95},{"$f":"T57-HLOOKUP(X57,Feuil1!$C$1:$BL$10,8,FALSE)","v":-110},{"$f":"T57-HLOOKUP(X57,Feuil1!$C$1:$BL$10,9,FALSE)","v":-125},{"$f":"T57-HLOOKUP(X57,Feuil1!$C$1:$BL$10,10,FALSE)","v":-1000},null,null,null,null,null,null,"DEB "]
[null,null,null,null,null,null,null,null,null,null,null,null,null,null,null,null,null,null,null,null,null,null,null,null,null,null," ",{"$f":"T58-HLOOKUP(X58,Feuil1!$C$1:$BL$10,2,FALSE)","v":{"$error":"#N/A"}},{"$f":"T58-HLOOKUP(X58,Feuil1!$C$1:$BL$10,3,FALSE)","v":{"$error":"#N/A"}},{"$f":"T58-HLOOKUP(X58,Feuil1!$C$1:$BL$10,4,FALSE)","v":{"$error":"#N/A"}},{"$f":"T58-HLOOKUP(X58,Feuil1!$C$1:$BL$10,5,FALSE)","v":{"$error":"#N/A"}},{"$f":"T58-HLOOKUP(X58,Feuil1!$C$1:$BL$10,6,FALSE)","v":{"$error":"#N/A"}},{"$f":"T58-HLOOKUP(X58,Feuil1!$C$1:$BL$10,7,FALSE)","v":{"$error":"#N/A"}},{"$f":"T58-HLOOKUP(X58,Feuil1!$C$1:$BL$10,8,FALSE)","v":{"$error":"#N/A"}},{"$f":"T58-HLOOKUP(X58,Feuil1!$C$1:$BL$10,9,FALSE)","v":{"$error":"#N/A"}},{"$f":"T58-HLOOKUP(X58,Feuil1!$C$1:$BL$10,10,FALSE)","v":{"$error":"#N/A"}},null,null,null,null,null,null,{"$f":"IF(AJ58>=0,$AJ$4,IF(AI58>=0,$AI$4,IF(AH58>=0,$AH$4,IF(AG58>=0,$AG$4,IF(AF58>=0,$AF$4,IF(AE58>=0,$AE$4,IF(AD58>=0,$AD$4,IF(AC58>=0,$AC$4,$AB$4))))))))","v":{"$error":"#N/A"}}]
["F","N","NPC",1,300212,"GUILLEMIN","Elise",2000,66.2,"C.A.ROSENDAEL","F",37,39,-41,{"$f":"IF(H59=\"\",\"\",IF(MAXA(L59:N59)<=0,0,MAXA(L59:N59)))","v":39},50,53,56,{"$f":"IF(H59=\"\",\"\",IF(MAXA(P59:R59)<=0,0,MAXA(P59:R59)))","v":56},{"$f":"IF(H59=\"\",\"\",IF(OR(O59=0,S59=0),0,O59+S59))","v":95},{"$f":"T59-I59*2","v":-37.400000000000006},{"$f":"IF(H59=\"\",\"\",AQ59)","v":"FED +"},{"$f":"IF(AJ59>=0,AJ59,IF(AI59>=0,AI59,IF(AH59>=0,AH59,IF(AG59>=0,AG59,IF(AF59>=0,AF59,IF(AE59>=0,AE59,IF(AD59>=0,AD59,IF(AC59>=0,AC59,AB59))))))))","v":5},{"$f":"IF(I59=\"\",\"\",IF(A59=\"H\",IF(OR(H59=\"SEN\",H59<1995),VLOOKUP(I59,Feuil1!$A$11:$G$29,6),IF(AND(H59>1994,H59<1998),VLOOKUP(I59,Feuil1!$A$11:$G$29,5),IF(AND(H59>1997,H59<2000),VLOOKUP(I59,Feuil1!$A$11:$G$29,4),IF(AND(H59>1999,H59<2002),VLOOKUP(I59,Feuil1!$A$11:$G$29,3),VLOOKUP(I59,Feuil1!$A$11:$G$29,2))))),IF(OR(H59=\"SEN\",H59<1995),VLOOKUP(I59,Feuil1!$G$11:$L$25,6),IF(AND(H59>1994,H59<1998),VLOOKUP(I59,Feuil1!$G$11:$L$25,5),IF(AND(H59>1997,H59<2000),VLOOKUP(I59,Feuil1!$G$11:$L$25,4),IF(AND(H59>1999,H59<2002),VLOOKUP(I59,Feuil1!$G$11:$L$25,3),VLOOKUP(I59,Feuil1!$G$11:$L$25,2)))))))","v":"FC1 69"},{"$f":"IF(I59=\"\",\"\",IF(A59=\"H\",10^(0.794358141*LOG(I59/174.393)^2)*T59,IF(A59=\"F\",10^(0.89726074*LOG(I59/148.026)^2)*T59,\"\")))","v":122.26768645359543},null," ",{"$f":"T59-HLOOKUP(X59,Feuil1!$C$1:$BL$10,2,FALSE)","v":45},{"$f":"T59-HLOOKUP(X59,Feuil1!$C$1:$BL$10,3,FALSE)","v":35},{"$f":"T59-HLOOKUP(X59,Feuil1!$C$1:$BL$10,4,FALSE)","v":25},{"$f":"T59-HLOOKUP(X59,Feuil1!$C$1:$BL$10,5,FALSE)","v":15},{"$f":"T59-HLOOKUP(X59,Feuil1!$C$1:$BL$10,6,FALSE)","v":5},{"$f":"T59-HLOOKUP(X59,Feuil1!$C$1:$BL$10,7,FALSE)","v":-10},{"$f":"T59-HLOOKUP(X59,Feuil1!$C$1:$BL$10,8,FALSE)","v":-25},{"$f":"T59-HLOOKUP(X59,Feuil1!$C$1:$BL$10,9,FALSE)","v":-40},{"$f":"T59-HLOOKUP(X59,Feuil1!$C$1:$BL$10,10,FALSE)","v":-905},null,null,null,null,null,null,{"$f":"IF(AJ59>=0,$AJ$4,IF(AI59>=0,$AI$4,IF(AH59>=0,$AH$4,IF(AG59>=0,$AG$4,IF(AF59>=0,$AF$4,IF(AE59>=0,$AE$4,IF(AD59>=0,$AD$4,IF(AC59>=0,$AC$4,$AB$4))))))))","v":"FED +"}]
["F","SEST","CAZ",2,391830,"GIANNETTI","Margot",2000,68.349999999999994,"ES VILLE LOUBET","F",-32,32,35,{"$f":"IF(H60=\"\",\"\",IF(MAXA(L60:N60)<=0,0,MAXA(L60:N60)))","v":35},40,-45,45,{"$f":"IF(H60=\"\",\"\",IF(MAXA(P60:R60)<=0,0,MAXA(P60:R60)))","v":45},{"$f":"IF(H60=\"\",\"\",IF(OR(O60=0,S60=0),0,O60+S60))","v":80},{"$f":"T60-I60*2","v":-56.699999999999989},{"$f":"IF(H60=\"\",\"\",AQ60)","v":"IRG +"},{"$f":"IF(AJ60>=0,AJ60,IF(AI60>=0,AI60,IF(AH60>=0,AH60,IF(AG60>=0,AG60,IF(AF60>=0,AF60,IF(AE60>=0,AE60,IF(AD60>=0,AD60,IF(AC60>=0,AC60,AB60))))))))","v":0},{"$f":"IF(I60=\"\",\"\",IF(A60=\"H\",IF(OR(H60=\"SEN\",H60<1995),VLOOKUP(I60,Feuil1!$A$11:$G$29,6),IF(AND(H60>1994,H60<1998),VLOOKUP(I60,Feuil1!$A$11:$G$29,5),IF(AND(H60>1997,H60<2000),VLOOKUP(I60,Feuil1!$A$11:$G$29,4),IF(AND(H60>1999,H60<2002),VLOOKUP(I60,Feuil1!$A$11:$G$29,3),VLOOKUP(I60,Feuil1!$A$11:$G$29,2))))),IF(OR(H60=\"SEN\",H60<1995),VLOOKUP(I60,Feuil1!$G$11:$L$25,6),IF(AND(H60>1994,H60<1998),VLOOKUP(I60,Feuil1!$G$11:$L$25,5),IF(AND(H60>1997,H60<2000),VLOOKUP(I60,Feuil1!$G$11:$L$25,4),IF(AND(H60>1999,H60<2002),VLOOKUP(I60,Feuil1!$G$11:$L$25,3),VLOOKUP(I60,Feuil1!$G$11:$L$25,2)))))))","v":"FC1 69"},{"$f":"IF(I60=\"\",\"\",IF(A60=\"H\",10^(0.794358141*LOG(I60/174.393)^2)*T60,IF(A60=\"F\",10^(0.89726074*LOG(I60/148.026)^2)*T60,\"\")))","v":100.95917315192297},null," ",{"$f":"T60-HLOOKUP(X60,Feuil1!$C$1:$BL$10,2,FALSE)","v":30},{"$f":"T60-HLOOKUP(X60,Feuil1!$C$1:$BL$10,3,FALSE)","v":20},{"$f":"T60-HLOOKUP(X60,Feuil1!$C$1:$BL$10,4,FALSE)","v":10},{"$f":"T60-HLOOKUP(X60,Feuil1!$C$1:$BL$10,5,FALSE)","v":0},{"$f":"T60-HLOOKUP(X60,Feuil1!$C$1:$BL$10,6,FALSE)","v":-10},{"$f":"T60-HLOOKUP(X60,Feuil1!$C$1:$BL$10,7,FALSE)","v":-25},{"$f":"T60-HLOOKUP(X60,Feuil1!$C$1:$BL$10,8,FALSE)","v":-40},{"$f":"T60-HLOOKUP(X60,Feuil1!$C$1:$BL$10,9,FALSE)","v":-55},{"$f":"T60-HLOOKUP(X60,Feuil1!$C$1:$BL$10,10,FALSE)","v":-920},null,null,null,null,null,null,{"$f":"IF(AJ60>=0,$AJ$4,IF(AI60>=0,$AI$4,IF(AH60>=0,$AH$4,IF(AG60>=0,$AG$4,IF(AF60>=0,$AF$4,IF(AE60>=0,$AE$4,IF(AD60>=0,$AD$4,IF(AC60>=0,$AC$4,$AB$4))))))))","v":"IRG +"}]
["F","CO","BRE",3,378876,"JAFFRY","Laureline",2001,64.25,"CHM Plouhinec PR","F",26,28,-30,{"$f":"IF(H61=\"\",\"\",IF(MAXA(L61:N61)<=0,0,MAXA(L61:N61)))","v":28},35,38,-40,{"$f":"IF(H61=\"\",\"\",IF(MAXA(P61:R61)<=0,0,MAXA(P61:R61)))","v":38},{"$f":"IF(H61=\"\",\"\",IF(OR(O61=0,S61=0),0,O61+S61))","v":66},{"$f":"T61-I61*2","v":-62.5},{"$f":"IF(H61=\"\",\"\",AQ61)","v":"DEP +"},{"$f":"IF(AJ61>=0,AJ61,IF(AI61>=0,AI61,IF(AH61>=0,AH61,IF(AG61>=0,AG61,IF(AF61>=0,AF61,IF(AE61>=0,AE61,IF(AD61>=0,AD61,IF(AC61>=0,AC61,AB61))))))))","v":6},{"$f":"IF(I61=\"\",\"\",IF(A61=\"H\",IF(OR(H61=\"SEN\",H61<1995),VLOOKUP(I61,Feuil1!$A$11:$G$29,6),IF(AND(H61>1994,H61<1998),VLOOKUP(I61,Feuil1!$A$11:$G$29,5),IF(AND(H61>1997,H61<2000),VLOOKUP(I61,Feuil1!$A$11:$G$29,4),IF(AND(H61>1999,H61<2002),VLOOKUP(I61,Feuil1!$A$11:$G$29,3),VLOOKUP(I61,Feuil1!$A$11:$G$29,2))))),IF(OR(H61=\"SEN\",H61<1995),VLOOKUP(I61,Feuil1!$G$11:$L$25,6),IF(AND(H61>1994,H61<1998),VLOOKUP(I61,Feuil1!$G$11:$L$25,5),IF(AND(H61>1997,H61<2000),VLOOKUP(I61,Feuil1!$G$11:$L$25,4),IF(AND(H61>1999,H61<2002),VLOOKUP(I61,Feuil1!$G$11:$L$25,3),VLOOKUP(I61,Feuil1!$G$11:$L$25,2)))))))","v":"FC1 69"},{"$f":"IF(I61=\"\",\"\",IF(A61=\"H\",10^(0.794358141*LOG(I61/174.393)^2)*T61,IF(A61=\"F\",10^(0.89726074*LOG(I61/148.026)^2)*T61,\"\")))","v":86.581828691514687},null," ",{"$f":"T61-HLOOKUP(X61,Feuil1!$C$1:$BL$10,2,FALSE)","v":16},{"$f":"T61-HLOOKUP(X61,Feuil1!$C$1:$BL$10,3,FALSE)","v":6},{"$f":"T61-HLOOKUP(X61,Feuil1!$C$1:$BL$10,4,FALSE)","v":-4},{"$f":"T61-HLOOKUP(X61,Feuil1!$C$1:$BL$10,5,FALSE)","v":-14},{"$f":"T61-HLOOKUP(X61,Feuil1!$C$1:$BL$10,6,FALSE)","v":-24},{"$f":"T61-HLOOKUP(X61,Feuil1!$C$1:$BL$10,7,FALSE)","v":-39},{"$f":"T61-HLOOKUP(X61,Feuil1!$C$1:$BL$10,8,FALSE)","v":-54},{"$f":"T61-HLOOKUP(X61,Feuil1!$C$1:$BL$10,9,FALSE)","v":-69},{"$f":"T61-HLOOKUP(X61,Feuil1!$C$1:$BL$10,10,FALSE)","v":-934},null,null,null,null,null,null,{"$f":"IF(AJ61>=0,$AJ$4,IF(AI61>=0,$AI$4,IF(AH61>=0,$AH$4,IF(AG61>=0,$AG$4,IF(AF61>=0,$AF$4,IF(AE61>=0,$AE$4,IF(AD61>=0,$AD$4,IF(AC61>=0,$AC$4,$AB$4))))))))","v":"DEP +"}]
["F","N","PIC",4,371430,"LEMORT","Marine",2000,68.7,"La Ferté Milon CMHM","F",23,26,28,{"$f":"IF(H62=\"\",\"\",IF(MAXA(L62:N62)<=0,0,MAXA(L62:N62)))","v":28},32,37,-40,{"$f":"IF(H62=\"\",\"\",IF(MAXA(P62:R62)<=0,0,MAXA(P62:R62)))","v":37},{"$f":"IF(H62=\"\",\"\",IF(OR(O62=0,S62=0),0,O62+S62))","v":65},{"$f":"T62-I62*2","v":-72.400000000000006},{"$f":"IF(H62=\"\",\"\",AQ62)","v":"DEP +"},{"$f":"IF(AJ62>=0,AJ62,IF(AI62>=0,AI62,IF(AH62>=0,AH62,IF(AG62>=0,AG62,IF(AF62>=0,AF62,IF(AE62>=0,AE62,IF(AD62>=0,AD62,IF(AC62>=0,AC62,AB62))))))))","v":5},{"$f":"IF(I62=\"\",\"\",IF(A62=\"H\",IF(OR(H62=\"SEN\",H62<1995),VLOOKUP(I62,Feuil1!$A$11:$G$29,6),IF(AND(H62>1994,H62<1998),VLOOKUP(I62,Feuil1!$A$11:$G$29,5),IF(AND(H62>1997,H62<2000),VLOOKUP(I62,Feuil1!$A$11:$G$29,4),IF(AND(H62>1999,H62<2002),VLOOKUP(I62,Feuil1!$A$11:$G$29,3),VLOOKUP(I62,Feuil1!$A$11:$G$29,2))))),IF(OR(H62=\"SEN\",H62<1995),VLOOKUP(I62,Feuil1!$G$11:$L$25,6),IF(AND(H62>1994,H62<1998),VLOOKUP(I62,Feuil1!$G$11:$L$25,5),IF(AND(H62>1997,H62<2000),VLOOKUP(I62,Feuil1!$G$11:$L$25,4),IF(AND(H62>1999,H62<2002),VLOOKUP(I62,Feuil1!$G$11:$L$25,3),VLOOKUP(I62,Feuil1!$G$11:$L$25,2)))))))","v":"FC1 69"},{"$f":"IF(I62=\"\",\"\",IF(A62=\"H\",10^(0.794358141*LOG(I62/174.393)^2)*T62,IF(A62=\"F\",10^(0.89726074*LOG(I62/148.026)^2)*T62,\"\")))","v":81.778222923934905},null," ",{"$f":"T62-HLOOKUP(X62,Feuil1!$C$1:$BL$10,2,FALSE)","v":15},{"$f":"T62-HLOOKUP(X62,Feuil1!$C$1:$BL$10,3,FALSE)","v":5},{"$f":"T62-HLOOKUP(X62,Feuil1!$C$1:$BL$10,4,FALSE)","v":-5},{"$f":"T62-HLOOKUP(X62,Feuil1!$C$1:$BL$10,5,FALSE)","v":-15},{"$f":"T62-HLOOKUP(X62,Feuil1!$C$1:$BL$10,6,FALSE)","v":-25},{"$f":"T62-HLOOKUP(X62,Feuil1!$C$1:$BL$10,7,FALSE)","v":-40},{"$f":"T62-HLOOKUP(X62,Feuil1!$C$1:$BL$10,8,FALSE)","v":-55},{"$f":"T62-HLOOKUP(X62,Feuil1!$C$1:$BL$10,9,FALSE)","v":-70},{"$f":"T62-HLOOKUP(X62,Feuil1!$C$1:$BL$10,10,FALSE)","v":-935},null,null,null,null,null,null,{"$f":"IF(AJ62>=0,$AJ$4,IF(AI62>=0,$AI$4,IF(AH62>=0,$AH$4,IF(AG62>=0,$AG$4,IF(AF62>=0,$AF$4,IF(AE62>=0,$AE$4,IF(AD62>=0,$AD$4,IF(AC62>=0,$AC$4,$AB$4))))))))","v":"DEP +"}]
["F","SEST","AUV",5,376754,"FAUBLADIER","Anaîs",2000,68,"CHM AURILLAC","F",20,22,25,{"$f":"IF(H63=\"\",\"\",IF(MAXA(L63:N63)<=0,0,MAXA(L63:N63)))","v":25},25,27,30,{"$f":"IF(H63=\"\",\"\",IF(MAXA(P63:R63)<=0,0,MAXA(P63:R63)))","v":30},{"$f":"IF(H63=\"\",\"\",IF(OR(O63=0,S63=0),0,O63+S63))","v":55},{"$f":"T63-I63*2","v":-81},{"$f":"IF(H63=\"\",\"\",AQ63)","v":"DEB "},{"$f":"IF(AJ63>=0,AJ63,IF(AI63>=0,AI63,IF(AH63>=0,AH63,IF(AG63>=0,AG63,IF(AF63>=0,AF63,IF(AE63>=0,AE63,IF(AD63>=0,AD63,IF(AC63>=0,AC63,AB63))))))))","v":5},{"$f":"IF(I63=\"\",\"\",IF(A63=\"H\",IF(OR(H63=\"SEN\",H63<1995),VLOOKUP(I63,Feuil1!$A$11:$G$29,6),IF(AND(H63>1994,H63<1998),VLOOKUP(I63,Feuil1!$A$11:$G$29,5),IF(AND(H63>1997,H63<2000),VLOOKUP(I63,Feuil1!$A$11:$G$29,4),IF(AND(H63>1999,H63<2002),VLOOKUP(I63,Feuil1!$A$11:$G$29,3),VLOOKUP(I63,Feuil1!$A$11:$G$29,2))))),IF(OR(H63=\"SEN\",H63<1995),VLOOKUP(I63,Feuil1!$G$11:$L$25,6),IF(AND(H63>1994,H63<1998),VLOOKUP(I63,Feuil1!$G$11:$L$25,5),IF(AND(H63>1997,H63<2000),VLOOKUP(I63,Feuil1!$G$11:$L$25,4),IF(AND(H63>1999,H63<2002),VLOOKUP(I63,Feuil1!$G$11:$L$25,3),VLOOKUP(I63,Feuil1!$G$11:$L$25,2)))))))","v":"FC1 69"},{"$f":"IF(I63=\"\",\"\",IF(A63=\"H\",10^(0.794358141*LOG(I63/174.393)^2)*T63,IF(A63=\"F\",10^(0.89726074*LOG(I63/148.026)^2)*T63,\"\")))","v":69.625079986248451},null," ",{"$f":"T63-HLOOKUP(X63,Feuil1!$C$1:$BL$10,2,FALSE)","v":5},{"$f":"T63-HLOOKUP(X63,Feuil1!$C$1:$BL$10,3,FALSE)","v":-5},{"$f":"T63-HLOOKUP(X63,Feuil1!$C$1:$BL$10,4,FALSE)","v":-15},{"$f":"T63-HLOOKUP(X63,Feuil1!$C$1:$BL$10,5,FALSE)","v":-25},{"$f":"T63-HLOOKUP(X63,Feuil1!$C$1:$BL$10,6,FALSE)","v":-35},{"$f":"T63-HLOOKUP(X63,Feuil1!$C$1:$BL$10,7,FALSE)","v":-50},{"$f":"T63-HLOOKUP(X63,Feuil1!$C$1:$BL$10,8,FALSE)","v":-65},{"$f":"T63-HLOOKUP(X63,Feuil1!$C$1:$BL$10,9,FALSE)","v":-80},{"$f":"T63-HLOOKUP(X63,Feuil1!$C$1:$BL$10,10,FALSE)","v":-945},null,null,null,null,null,null,{"$f":"IF(AJ63>=0,$AJ$4,IF(AI63>=0,$AI$4,IF(AH63>=0,$AH$4,IF(AG63>=0,$AG$4,IF(AF63>=0,$AF$4,IF(AE63>=0,$AE$4,IF(AD63>=0,$AD$4,IF(AC63>=0,$AC$4,$AB$4))))))))","v":"DEB "}]
[null,null,null,null,null,null,null,null,null,null,null,null,null,null,null,null,null,null,null,null,null,null,null,null,null,null," ",{"$f":"T64-HLOOKUP(X64,Feuil1!$C$1:$BL$10,2,FALSE)","v":{"$error":"#N/A"}},{"$f":"T64-HLOOKUP(X64,Feuil1!$C$1:$BL$10,3,FALSE)","v":{"$error":"#N/A"}},{"$f":"T64-HLOOKUP(X64,Feuil1!$C$1:$BL$10,4,FALSE)","v":{"$error":"#N/A"}},{"$f":"T64-HLOOKUP(X64,Feuil1!$C$1:$BL$10,5,FALSE)","v":{"$error":"#N/A"}},{"$f":"T64-HLOOKUP(X64,Feuil1!$C$1:$BL$10,6,FALSE)","v":{"$error":"#N/A"}},{"$f":"T64-HLOOKUP(X64,Feuil1!$C$1:$BL$10,7,FALSE)","v":{"$error":"#N/A"}},{"$f":"T64-HLOOKUP(X64,Feuil1!$C$1:$BL$10,8,FALSE)","v":{"$error":"#N/A"}},{"$f":"T64-HLOOKUP(X64,Feuil1!$C$1:$BL$10,9,FALSE)","v":{"$error":"#N/A"}},{"$f":"T64-HLOOKUP(X64,Feuil1!$C$1:$BL$10,10,FALSE)","v":{"$error":"#N/A"}},null,null,null,null,null,null,{"$f":"IF(AJ64>=0,$AJ$4,IF(AI64>=0,$AI$4,IF(AH64>=0,$AH$4,IF(AG64>=0,$AG$4,IF(AF64>=0,$AF$4,IF(AE64>=0,$AE$4,IF(AD64>=0,$AD$4,IF(AC64>=0,$AC$4,$AB$4))))))))","v":{"$error":"#N/A"}}]
["F","CO","PDL",1,36748,"COGNON","Alexia",2000,74.400000000000006,"CJF Laval-Voutré","F",44,47,48,{"$f":"IF(H65=\"\",\"\",IF(MAXA(L65:N65)<=0,0,MAXA(L65:N65)))","v":48},55,57,-59,{"$f":"IF(H65=\"\",\"\",IF(MAXA(P65:R65)<=0,0,MAXA(P65:R65)))","v":57},{"$f":"IF(H65=\"\",\"\",IF(OR(O65=0,S65=0),0,O65+S65))","v":105},{"$f":"T65-I65*2","v":-43.800000000000011},{"$f":"IF(H65=\"\",\"\",AQ65)","v":"FED +"},{"$f":"IF(AJ65>=0,AJ65,IF(AI65>=0,AI65,IF(AH65>=0,AH65,IF(AG65>=0,AG65,IF(AF65>=0,AF65,IF(AE65>=0,AE65,IF(AD65>=0,AD65,IF(AC65>=0,AC65,AB65))))))))","v":0},{"$f":"IF(I65=\"\",\"\",IF(A65=\"H\",IF(OR(H65=\"SEN\",H65<1995),VLOOKUP(I65,Feuil1!$A$11:$G$29,6),IF(AND(H65>1994,H65<1998),VLOOKUP(I65,Feuil1!$A$11:$G$29,5),IF(AND(H65>1997,H65<2000),VLOOKUP(I65,Feuil1!$A$11:$G$29,4),IF(AND(H65>1999,H65<2002),VLOOKUP(I65,Feuil1!$A$11:$G$29,3),VLOOKUP(I65,Feuil1!$A$11:$G$29,2))))),IF(OR(H65=\"SEN\",H65<1995),VLOOKUP(I65,Feuil1!$G$11:$L$25,6),IF(AND(H65>1994,H65<1998),VLOOKUP(I65,Feuil1!$G$11:$L$25,5),IF(AND(H65>1997,H65<2000),VLOOKUP(I65,Feuil1!$G$11:$L$25,4),IF(AND(H65>1999,H65<2002),VLOOKUP(I65,Feuil1!$G$11:$L$25,3),VLOOKUP(I65,Feuil1!$G$11:$L$25,2)))))))","v":"FC1 +69"},{"$f":"IF(I65=\"\",\"\",IF(A65=\"H\",10^(0.794358141*LOG(I65/174.393)^2)*T65,IF(A65=\"F\",10^(0.89726074*LOG(I65/148.026)^2)*T65,\"\")))","v":126.26392935227989},null," ",{"$f":"T65-HLOOKUP(X65,Feuil1!$C$1:$BL$10,2,FALSE)","v":45},{"$f":"T65-HLOOKUP(X65,Feuil1!$C$1:$BL$10,3,FALSE)","v":35},{"$f":"T65-HLOOKUP(X65,Feuil1!$C$1:$BL$10,4,FALSE)","v":25},{"$f":"T65-HLOOKUP(X65,Feuil1!$C$1:$BL$10,5,FALSE)","v":10},{"$f":"T65-HLOOKUP(X65,Feuil1!$C$1:$BL$10,6,FALSE)","v":0},{"$f":"T65-HLOOKUP(X65,Feuil1!$C$1:$BL$10,7,FALSE)","v":-10},{"$f":"T65-HLOOKUP(X65,Feuil1!$C$1:$BL$10,8,FALSE)","v":-25},{"$f":"T65-HLOOKUP(X65,Feuil1!$C$1:$BL$10,9,FALSE)","v":-40},{"$f":"T65-HLOOKUP(X65,Feuil1!$C$1:$BL$10,10,FALSE)","v":-895},null,null,null,null,null,null,{"$f":"IF(AJ65>=0,$AJ$4,IF(AI65>=0,$AI$4,IF(AH65>=0,$AH$4,IF(AG65>=0,$AG$4,IF(AF65>=0,$AF$4,IF(AE65>=0,$AE$4,IF(AD65>=0,$AD$4,IF(AC65>=0,$AC$4,$AB$4))))))))","v":"FED +"}]
["F","N","PIC",2,328806,"ALLAL BEN MAATI","Chloé",2000,70.2,"Péronne AAEEP","F",30,32,-34,{"$f":"IF(H66=\"\",\"\",IF(MAXA(L66:N66)<=0,0,MAXA(L66:N66)))","v":32},35,40,43,{"$f":"IF(H66=\"\",\"\",IF(MAXA(P66:R66)<=0,0,MAXA(P66:R66)))","v":43},{"$f":"IF(H66=\"\",\"\",IF(OR(O66=0,S66=0),0,O66+S66))","v":75},{"$f":"T66-I66*2","v":-65.400000000000006},{"$f":"IF(H66=\"\",\"\",AQ66)","v":"DEP +"},{"$f":"IF(AJ66>=0,AJ66,IF(AI66>=0,AI66,IF(AH66>=0,AH66,IF(AG66>=0,AG66,IF(AF66>=0,AF66,IF(AE66>=0,AE66,IF(AD66>=0,AD66,IF(AC66>=0,AC66,AB66))))))))","v":5},{"$f":"IF(I66=\"\",\"\",IF(A66=\"H\",IF(OR(H66=\"SEN\",H66<1995),VLOOKUP(I66,Feuil1!$A$11:$G$29,6),IF(AND(H66>1994,H66<1998),VLOOKUP(I66,Feuil1!$A$11:$G$29,5),IF(AND(H66>1997,H66<2000),VLOOKUP(I66,Feuil1!$A$11:$G$29,4),IF(AND(H66>1999,H66<2002),VLOOKUP(I66,Feuil1!$A$11:$G$29,3),VLOOKUP(I66,Feuil1!$A$11:$G$29,2))))),IF(OR(H66=\"SEN\",H66<1995),VLOOKUP(I66,Feuil1!$G$11:$L$25,6),IF(AND(H66>1994,H66<1998),VLOOKUP(I66,Feuil1!$G$11:$L$25,5),IF(AND(H66>1997,H66<2000),VLOOKUP(I66,Feuil1!$G$11:$L$25,4),IF(AND(H66>1999,H66<2002),VLOOKUP(I66,Feuil1!$G$11:$L$25,3),VLOOKUP(I66,Feuil1!$G$11:$L$25,2)))))))","v":"FC1 +69"},{"$f":"IF(I66=\"\",\"\",IF(A66=\"H\",10^(0.794358141*LOG(I66/174.393)^2)*T66,IF(A66=\"F\",10^(0.89726074*LOG(I66/148.026)^2)*T66,\"\")))","v":93.164965011214349},null," ",{"$f":"T66-HLOOKUP(X66,Feuil1!$C$1:$BL$10,2,FALSE)","v":15},{"$f":"T66-HLOOKUP(X66,Feuil1!$C$1:$BL$10,3,FALSE)","v":5},{"$f":"T66-HLOOKUP(X66,Feuil1!$C$1:$BL$10,4,FALSE)","v":-5},{"$f":"T66-HLOOKUP(X66,Feuil1!$C$1:$BL$10,5,FALSE)","v":-20},{"$f":"T66-HLOOKUP(X66,Feuil1!$C$1:$BL$10,6,FALSE)","v":-30},{"$f":"T66-HLOOKUP(X66,Feuil1!$C$1:$BL$10,7,FALSE)","v":-40},{"$f":"T66-HLOOKUP(X66,Feuil1!$C$1:$BL$10,8,FALSE)","v":-55},{"$f":"T66-HLOOKUP(X66,Feuil1!$C$1:$BL$10,9,FALSE)","v":-70},{"$f":"T66-HLOOKUP(X66,Feuil1!$C$1:$BL$10,10,FALSE)","v":-925},null,null,null,null,null,null,{"$f":"IF(AJ66>=0,$AJ$4,IF(AI66>=0,$AI$4,IF(AH66>=0,$AH$4,IF(AG66>=0,$AG$4,IF(AF66>=0,$AF$4,IF(AE66>=0,$AE$4,IF(AD66>=0,$AD$4,IF(AC66>=0,$AC$4,$AB$4))))))))","v":"DEP +"}]
["F","SEST","CAZ",3,391830,"GIANETTI","Margot",2000,69.5,"ES VILLE LOUBET","F",28,31,-33,{"$f":"IF(H67=\"\",\"\",IF(MAXA(L67:N67)<=0,0,MAXA(L67:N67)))","v":31},37,-40,-42,{"$f":"IF(H67=\"\",\"\",IF(MAXA(P67:R67)<=0,0,MAXA(P67:R67)))","v":37},{"$f":"IF(H67=\"\",\"\",IF(OR(O67=0,S67=0),0,O67+S67))","v":68},{"$f":"T67-I67*2","v":-71},{"$f":"IF(H67=\"\",\"\",AQ67)","v":"DEB "},{"$f":"IF(AJ67>=0,AJ67,IF(AI67>=0,AI67,IF(AH67>=0,AH67,IF(AG67>=0,AG67,IF(AF67>=0,AF67,IF(AE67>=0,AE67,IF(AD67>=0,AD67,IF(AC67>=0,AC67,AB67))))))))","v":8},{"$f":"IF(I67=\"\",\"\",IF(A67=\"H\",IF(OR(H67=\"SEN\",H67<1995),VLOOKUP(I67,Feuil1!$A$11:$G$29,6),IF(AND(H67>1994,H67<1998),VLOOKUP(I67,Feuil1!$A$11:$G$29,5),IF(AND(H67>1997,H67<2000),VLOOKUP(I67,Feuil1!$A$11:$G$29,4),IF(AND(H67>1999,H67<2002),VLOOKUP(I67,Feuil1!$A$11:$G$29,3),VLOOKUP(I67,Feuil1!$A$11:$G$29,2))))),IF(OR(H67=\"SEN\",H67<1995),VLOOKUP(I67,Feuil1!$G$11:$L$25,6),IF(AND(H67>1994,H67<1998),VLOOKUP(I67,Feuil1!$G$11:$L$25,5),IF(AND(H67>1997,H67<2000),VLOOKUP(I67,Feuil1!$G$11:$L$25,4),IF(AND(H67>1999,H67<2002),VLOOKUP(I67,Feuil1!$G$11:$L$25,3),VLOOKUP(I67,Feuil1!$G$11:$L$25,2)))))))","v":"FC1 +69"},{"$f":"IF(I67=\"\",\"\",IF(A67=\"H\",10^(0.794358141*LOG(I67/174.393)^2)*T67,IF(A67=\"F\",10^(0.89726074*LOG(I67/148.026)^2)*T67,\"\")))","v":84.966517468714656},null," ",{"$f":"T67-HLOOKUP(X67,Feuil1!$C$1:$BL$10,2,FALSE)","v":8},{"$f":"T67-HLOOKUP(X67,Feuil1!$C$1:$BL$10,3,FALSE)","v":-2},{"$f":"T67-HLOOKUP(X67,Feuil1!$C$1:$BL$10,4,FALSE)","v":-12},{"$f":"T67-HLOOKUP(X67,Feuil1!$C$1:$BL$10,5,FALSE)","v":-27},{"$f":"T67-HLOOKUP(X67,Feuil1!$C$1:$BL$10,6,FALSE)","v":-37},{"$f":"T67-HLOOKUP(X67,Feuil1!$C$1:$BL$10,7,FALSE)","v":-47},{"$f":"T67-HLOOKUP(X67,Feuil1!$C$1:$BL$10,8,FALSE)","v":-62},{"$f":"T67-HLOOKUP(X67,Feuil1!$C$1:$BL$10,9,FALSE)","v":-77},{"$f":"T67-HLOOKUP(X67,Feuil1!$C$1:$BL$10,10,FALSE)","v":-932},null,null,null,null,null,null,{"$f":"IF(AJ67>=0,$AJ$4,IF(AI67>=0,$AI$4,IF(AH67>=0,$AH$4,IF(AG67>=0,$AG$4,IF(AF67>=0,$AF$4,IF(AE67>=0,$AE$4,IF(AD67>=0,$AD$4,IF(AC67>=0,$AC$4,$AB$4))))))))","v":"DEB "}]
["F","NE","ALS",4,369106,"MAILLOT","OCEANE",2000,78.2,"ASPTT Strasbourg","F",20,22,-23,{"$f":"IF(H68=\"\",\"\",IF(MAXA(L68:N68)<=0,0,MAXA(L68:N68)))","v":22},22,25,27,{"$f":"IF(H68=\"\",\"\",IF(MAXA(P68:R68)<=0,0,MAXA(P68:R68)))","v":27},{"$f":"IF(H68=\"\",\"\",IF(OR(O68=0,S68=0),0,O68+S68))","v":49},{"$f":"T68-I68*2","v":-107.4},{"$f":"IF(H68=\"\",\"\",AQ68)","v":"DEB "},{"$f":"IF(AJ68>=0,AJ68,IF(AI68>=0,AI68,IF(AH68>=0,AH68,IF(AG68>=0,AG68,IF(AF68>=0,AF68,IF(AE68>=0,AE68,IF(AD68>=0,AD68,IF(AC68>=0,AC68,AB68))))))))","v":-11},{"$f":"IF(I68=\"\",\"\",IF(A68=\"H\",IF(OR(H68=\"SEN\",H68<1995),VLOOKUP(I68,Feuil1!$A$11:$G$29,6),IF(AND(H68>1994,H68<1998),VLOOKUP(I68,Feuil1!$A$11:$G$29,5),IF(AND(H68>1997,H68<2000),VLOOKUP(I68,Feuil1!$A$11:$G$29,4),IF(AND(H68>1999,H68<2002),VLOOKUP(I68,Feuil1!$A$11:$G$29,3),VLOOKUP(I68,Feuil1!$A$11:$G$29,2))))),IF(OR(H68=\"SEN\",H68<1995),VLOOKUP(I68,Feuil1!$G$11:$L$25,6),IF(AND(H68>1994,H68<1998),VLOOKUP(I68,Feuil1!$G$11:$L$25,5),IF(AND(H68>1997,H68<2000),VLOOKUP(I68,Feuil1!$G$11:$L$25,4),IF(AND(H68>1999,H68<2002),VLOOKUP(I68,Feuil1!$G$11:$L$25,3),VLOOKUP(I68,Feuil1!$G$11:$L$25,2)))))))","v":"FC1 +69"},{"$f":"IF(I68=\"\",\"\",IF(A68=\"H\",10^(0.794358141*LOG(I68/174.393)^2)*T68,IF(A68=\"F\",10^(0.89726074*LOG(I68/148.026)^2)*T68,\"\")))","v":57.425826856195357},null," ",{"$f":"T68-HLOOKUP(X68,Feuil1!$C$1:$BL$10,2,FALSE)","v":-11},{"$f":"T68-HLOOKUP(X68,Feuil1!$C$1:$BL$10,3,FALSE)","v":-21},{"$f":"T68-HLOOKUP(X68,Feuil1!$C$1:$BL$10,4,FALSE)","v":-31},{"$f":"T68-HLOOKUP(X68,Feuil1!$C$1:$BL$10,5,FALSE)","v":-46},{"$f":"T68-HLOOKUP(X68,Feuil1!$C$1:$BL$10,6,FALSE)","v":-56},{"$f":"T68-HLOOKUP(X68,Feuil1!$C$1:$BL$10,7,FALSE)","v":-66},{"$f":"T68-HLOOKUP(X68,Feuil1!$C$1:$BL$10,8,FALSE)","v":-81},{"$f":"T68-HLOOKUP(X68,Feuil1!$C$1:$BL$10,9,FALSE)","v":-96},{"$f":"T68-HLOOKUP(X68,Feuil1!$C$1:$BL$10,10,FALSE)","v":-951},null,null,null,null,null,null,{"$f":"IF(AJ68>=0,$AJ$4,IF(AI68>=0,$AI$4,IF(AH68>=0,$AH$4,IF(AG68>=0,$AG$4,IF(AF68>=0,$AF$4,IF(AE68>=0,$AE$4,IF(AD68>=0,$AD$4,IF(AC68>=0,$AC$4,$AB$4))))))))","v":"DEB "}]
[null,null,null,null,null,null,null,null,null,null,null,null,null,null,null,null,null,null,null,null,null,null,null,null,null,null," ",{"$f":"T69-HLOOKUP(X69,Feuil1!$C$1:$BL$10,2,FALSE)","v":{"$error":"#N/A"}},{"$f":"T69-HLOOKUP(X69,Feuil1!$C$1:$BL$10,3,FALSE)","v":{"$error":"#N/A"}},{"$f":"T69-HLOOKUP(X69,Feuil1!$C$1:$BL$10,4,FALSE)","v":{"$error":"#N/A"}},{"$f":"T69-HLOOKUP(X69,Feuil1!$C$1:$BL$10,5,FALSE)","v":{"$error":"#N/A"}},{"$f":"T69-HLOOKUP(X69,Feuil1!$C$1:$BL$10,6,FALSE)","v":{"$error":"#N/A"}},{"$f":"T69-HLOOKUP(X69,Feuil1!$C$1:$BL$10,7,FALSE)","v":{"$error":"#N/A"}},{"$f":"T69-HLOOKUP(X69,Feuil1!$C$1:$BL$10,8,FALSE)","v":{"$error":"#N/A"}},{"$f":"T69-HLOOKUP(X69,Feuil1!$C$1:$BL$10,9,FALSE)","v":{"$error":"#N/A"}},{"$f":"T69-HLOOKUP(X69,Feuil1!$C$1:$BL$10,10,FALSE)","v":{"$error":"#N/A"}},null,null,null,null,null,null,{"$f":"IF(AJ69>=0,$AJ$4,IF(AI69>=0,$AI$4,IF(AH69>=0,$AH$4,IF(AG69>=0,$AG$4,IF(AF69>=0,$AF$4,IF(AE69>=0,$AE$4,IF(AD69>=0,$AD$4,IF(AC69>=0,$AC$4,$AB$4))))))))","v":{"$error":"#N/A"}}]
[]
[]
[]
[]
[]
[]
[]
[]
[]
[]
[]
[]
[]
[]
[]
[]
[]
[]
[]
[]
[]
[]
[]
[]
[]
[]
[]
[]
[]
[]
[]
[]
[]
[]
[]
[]
[]
[]
[]
[]
[]
[]
[]
[]
[]
[]
[]
[]
[]
[]
[]
[]
[]
[]
[]
[]
[]
[]
[]
[]
[]
[]
[]
[]
[]
[]
[]
[]
[]
[]
[]
[]
[]
[]
[]
[]
[]
[]
[]
[]
[]
[]
[]
[]
[]
[]
[]
[]
[]
[]
[]
[]
[]
[]
[]
[]
[]
[]
[]
[]
[]
[]
[]
[]
[]
[]
[]
[]
[]
[]
[]
[]
[]
[]
[]
[]
[]
[]
[]
[]
[]
[]
[]
[]
[]
[]
[]
[]
[]
[]
[]
[]
[]
[]
[]
[]
[]
[]
[]
[]
[]
[]
[]
[]
[]
[]
[]
[]
[]
[]
[]
[]
[]
[]
[]
[]
[]
[]
[]
[]
[]
[]
[]
[]
[]
[]
[]
[]
[]
[]
[]
[]
[]
[]
[]
[]
[]
[]
[]
[]
[]
[]
[]
[]
[]
[]
[]
[]
[]
[]
[]
[]
[]
[]
[]
[]
[]
[]
[]
[]
[]
[]
[]
[]
[]
[]
[]
[]
[]
[]
[]
[]
[]
[]
[]
[]
[]
[]
[]
[]
[]
[]
[]
[]
[]
[]
[]
[]
[]
[]
[]
[]
[]
[]
[]
[]
[]
[]
[]
[]
[]
[]
[]
[]
[]
[]
[]
[]
[]
[]
[]
[]
[]
[]
[]
[]
[]
[]
[]
[]
[]
[]
[]
[]
[]
[]
[]
[]
[]
[]
[]
[]
[]
[]
[]
[]
[]
[]
[]
[]
[]
[]
[]
[]
[]
[]
[]
[]
[]
[]
[]
[]
[]
[]
[]
[]
[]
[]
[]
[]
[]
[]
[]
[]
[]
[]
[]
[]
[]
[]
[]
[]
[]
[]
[]
[]
[]
[]
[]
[]
[]
[]
[]
[]
[]
[]
[]
[]
[]
[]
[]
[]
[]
[]
[]
[]
[]
[]
[]
[]
[]
[]
[]
[]
[]
[]
[]
[]
[]
[]
[]
[]
[]
[]
[]
[]
[]
[]
[]
[]
[]
[]
[]
[]
[]
[]
[]
[]
[]
[]
[]
[]
[]
[]
[]
[]
[]
[]
[]
[]
[]
[]
[]
[]
[]
[]
[]
[]
[]
[]
[]
[]
[]
[]
[]
[]
[]
[]
[]
[]
[]
[]
[]
[]
[]
[]
[]
[]
[]
[]
[]
[]
[]
[]
[]
[]
[]
[]
[]
[]
[]
[]
[]
[]
[]
[]
[]
[]
[]
[]
[]
[]
[]
[]
[]
[]
[null,null,null,null,null,null,null,null,null,null,null,null,null,null,null,null,null,null,null,null,null,null,null,null,null,null,null,"J77","J85","J94","J105","J+105",null,"J56","J62","J69","J77","J85","J94","J105","J+105",null,"S56","S62","S69","S77","S85","S94","S105","S+105"]
[null,null,null,null,null,null,null,null,null,null,null,null,null,null,null,null,null,null,null,null,null,null,null,null,null,null,null,145,160,170,180,190,null,100,115,130,145,160,170,180,190,null,115,135,150,165,180,190,200,210]
[null,null,null,null,null,null,null,null,null,null,null,null,null,null,null,null,null,null,null,null,null,null,null,null,null,null,null,165,180,190,200,210,null,115,135,150,165,180,190,200,210,null,130,150,165,185,200,210,220,230]
[null,null,null,null,null,null,null,null,null,null,null,null,null,null,null,null,null,null,null,null,null,null,null,null,null,null,null,185,200,210,220,230,null,130,150,165,185,200,210,220,230,null,145,165,180,200,220,230,240,250]
[null,null,null,null,null,null,null,null,null,null,null,null,null,null,null,null,null,null,null,null,null,null,null,null,null,null,null,200,220,230,240,250,null,145,165,180,200,220,230,240,250,null,175,195,215,235,250,260,275,280]
[null,null,null,null,null,null,null,null,null,null,null,null,null,null,null,null,null,null,null,null,null,null,null,null,null,null,null,235,250,260,275,280,null,175,195,215,235,250,260,275,280,null,210,230,250,270,290,300,310,325]
[null,null,null,null,null,null,null,null,null,null,null,null,null,null,null,null,null,null,null,null,null,null,null,null,null,null,null,270,290,300,310,325,null,210,230,250,270,290,300,310,325,null,230,255,275,300,315,335,345,355]
[null,null,null,null,null,null,null,null,null,null,null,null,null,null,null,null,null,null,null,null,null,null,null,null,null,null,null,320,335,355,370,380,null,245,270,295,320,335,355,370,380,null,245,270,295,320,335,355,370,380]

{"sheet":"CADETS 2","index":2,"n_rows":544,"n_cols":50,"rows_kept":544,"cut":false,"hidden":false,"merged":[[3,21,3,22],[0,7,0,14],[0,18,0,21],[1,6,1,10],[1,11,1,13],[1,14,1,17],[1,18,1,19],[1,21,1,22]]}
[null,null,null,null,null,"LISTING NATIONAL",null," FEMININES",null,null,null,null,null,null,null,null,"DATE :",null,"2015-03-08"]
[null,null,null,null,null," ",null,null,null,null,null,"2° TRIMESTRE"]
[]
["SEXE","ZONE","REG.","CL.","LICENCE","NOMS","Prénoms","AN","POIDS","CLUB","NAT",1,2,3,"ARR",1,2,3,"EP-J","Total","KP-2PC","SERIE",null,"Catég","IWF",null," ","DEB ","DEP +","REG +","IRG +","FED +","NAT +","INTB +","INTA +","OLY +"]
[null,null,null,null,null,null,null,null,null,null,null,null,null,null,null,null,null,null,null,null,null,null,null,null,null,null," ",{"$f":"T5-HLOOKUP(X5,Feuil1!$C$1:$BL$10,2,FALSE)","v":{"$error":"#N/A"}},{"$f":"T5-HLOOKUP(X5,Feuil1!$C$1:$BL$10,3,FALSE)","v":{"$error":"#N/A"}},{"$f":"T5-HLOOKUP(X5,Feuil1!$C$1:$BL$10,4,FALSE)","v":{"$error":"#N/A"}},{"$f":"T5-HLOOKUP(X5,Feuil1!$C$1:$BL$10,5,FALSE)","v":{"$error":"#N/A"}},{"$f":"T5-HLOOKUP(X5,Feuil1!$C$1:$BL$10,6,FALSE)","v":{"$error":"#N/A"}},{"$f":"T5-HLOOKUP(X5,Feuil1!$C$1:$BL$10,7,FALSE)","v":{"$error":"#N/A"}},{"$f":"T5-HLOOKUP(X5,Feuil1!$C$1:$BL$10,8,FALSE)","v":{"$error":"#N/A"}},{"$f":"T5-HLOOKUP(X5,Feuil1!$C$1:$BL$10,9,FALSE)","v":{"$error":"#N/A"}},{"$f":"T5-HLOOKUP(X5,Feuil1!$C$1:$BL$10,10,FALSE)","v":{"$error":"#N/A"}},null,null,null,null,null,null,{"$f":"IF(AJ5>=0,$AJ$4,IF(AI5>=0,$AI$4,IF(AH5>=0,$AH$4,IF(AG5>=0,$AG$4,IF(AF5>=0,$AF$4,IF(AE5>=0,$AE$4,IF(AD5>=0,$AD$4,IF(AC5>=0,$AC$4,$AB$4))))))))","v":{"$error":"#N/A"}}]
["F","SO","AQU",1,298421,"MOCAER","Nolwenn",1999,44,"ST MEDARD","F",null,null,44,{"$f":"IF(H6=\"\",\"\",IF(MAXA(L6:N6)<=0,0,MAXA(L6:N6)))","v":44},null,null,59,{"$f":"IF(H6=\"\",\"\",IF(MAXA(P6:R6)<=0,0,MAXA(P6:R6)))","v":59},{"$f":"IF(H6=\"\",\"\",IF(OR(O6=0,S6=0),0,O6+S6))","v":103},{"$f":"T6-I6*2","v":15},{"$f":"IF(H6=\"\",\"\",AQ6)","v":"INTA +"},{"$f":"IF(AJ6>=0,AJ6,IF(AI6>=0,AI6,IF(AH6>=0,AH6,IF(AG6>=0,AG6,IF(AF6>=0,AF6,IF(AE6>=0,AE6,IF(AD6>=0,AD6,IF(AC6>=0,AC6,AB6))))))))","v":3},{"$f":"IF(I6=\"\",\"\",IF(A6=\"H\",IF(OR(H6=\"SEN\",H6<1995),VLOOKUP(I6,Feuil1!$A$11:$G$29,6),IF(AND(H6>1994,H6<1998),VLOOKUP(I6,Feuil1!$A$11:$G$29,5),IF(AND(H6>1997,H6<2000),VLOOKUP(I6,Feuil1!$A$11:$G$29,4),IF(AND(H6>1999,H6<2002),VLOOKUP(I6,Feuil1!$A$11:$G$29,3),VLOOKUP(I6,Feuil1!$A$11:$G$29,2))))),IF(OR(H6=\"SEN\",H6<1995),VLOOKUP(I6,Feuil1!$G$11:$L$25,6),IF(AND(H6>1994,H6<1998),VLOOKUP(I6,Feuil1!$G$11:$L$25,5),IF(AND(H6>1997,H6<2000),VLOOKUP(I6,Feuil1!$G$11:$L$25,4),IF(AND(H6>1999,H6<2002),VLOOKUP(I6,Feuil1!$G$11:$L$25,3),VLOOKUP(I6,Feuil1!$G$11:$L$25,2)))))))","v":"FC2 44"},{"$f":"IF(I6=\"\",\"\",IF(A6=\"H\",10^(0.794358141*LOG(I6/174.393)^2)*T6,IF(A6=\"F\",10^(0.89726074*LOG(I6/148.026)^2)*T6,\"\")))","v":182.77808255116472},null," ",{"$f":"T6-HLOOKUP(X6,Feuil1!$C$1:$BL$10,2,FALSE)","v":73},{"$f":"T6-HLOOKUP(X6,Feuil1!$C$1:$BL$10,3,FALSE)","v":63},{"$f":"T6-HLOOKUP(X6,Feuil1!$C$1:$BL$10,4,FALSE)","v":53},{"$f":"T6-HLOOKUP(X6,Feuil1!$C$1:$BL$10,5,FALSE)","v":43},{"$f":"T6-HLOOKUP(X6,Feuil1!$C$1:$BL$10,6,FALSE)","v":33},{"$f":"T6-HLOOKUP(X6,Feuil1!$C$1:$BL$10,7,FALSE)","v":23},{"$f":"T6-HLOOKUP(X6,Feuil1!$C$1:$BL$10,8,FALSE)","v":13},{"$f":"T6-HLOOKUP(X6,Feuil1!$C$1:$BL$10,9,FALSE)","v":3},{"$f":"T6-HLOOKUP(X6,Feuil1!$C$1:$BL$10,10,FALSE)","v":-897},null,null,null,null,null,null,{"$f":"IF(AJ6>=0,$AJ$4,IF(AI6>=0,$AI$4,IF(AH6>=0,$AH$4,IF(AG6>=0,$AG$4,IF(AF6>=0,$AF$4,IF(AE6>=0,$AE$4,IF(AD6>=0,$AD$4,IF(AC6>=0,$AC$4,$AB$4))))))))","v":"INTA +"}]
["F","CO","PDL",2,191138,"L'HERMIER","Nolwen",1999,43.65,"CJF Laval-Voutré","F",40,42,44,{"$f":"IF(H7=\"\",\"\",IF(MAXA(L7:N7)<=0,0,MAXA(L7:N7)))","v":44},53,56,58,{"$f":"IF(H7=\"\",\"\",IF(MAXA(P7:R7)<=0,0,MAXA(P7:R7)))","v":58},{"$f":"IF(H7=\"\",\"\",IF(OR(O7=0,S7=0),0,O7+S7))","v":102},{"$f":"T7-I7*2","v":14.700000000000003},{"$f":"IF(H7=\"\",\"\",AQ7)","v":"INTA +"},{"$f":"IF(AJ7>=0,AJ7,IF(AI7>=0,AI7,IF(AH7>=0,AH7,IF(AG7>=0,AG7,IF(AF7>=0,AF7,IF(AE7>=0,AE7,IF(AD7>=0,AD7,IF(AC7>=0,AC7,AB7))))))))","v":2},{"$f":"IF(I7=\"\",\"\",IF(A7=\"H\",IF(OR(H7=\"SEN\",H7<1995),VLOOKUP(I7,Feuil1!$A$11:$G$29,6),IF(AND(H7>1994,H7<1998),VLOOKUP(I7,Feuil1!$A$11:$G$29,5),IF(AND(H7>1997,H7<2000),VLOOKUP(I7,Feuil1!$A$11:$G$29,4),IF(AND(H7>1999,H7<2002),VLOOKUP(I7,Feuil1!$A$11:$G$29,3),VLOOKUP(I7,Feuil1!$A$11:$G$29,2))))),IF(OR(H7=\"SEN\",H7<1995),VLOOKUP(I7,Feuil1!$G$11:$L$25,6),IF(AND(H7>1994,H7<1998),VLOOKUP(I7,Feuil1!$G$11:$L$25,5),IF(AND(H7>1997,H7<2000),VLOOKUP(I7,Feuil1!$G$11:$L$25,4),IF(AND(H7>1999,H7<2002),VLOOKUP(I7,Feuil1!$G$11:$L$25,3),VLOOKUP(I7,Feuil1!$G$11:$L$25,2)))))))","v":"FC2 44"},{"$f":"IF(I7=\"\",\"\",IF(A7=\"H\",10^(0.794358141*LOG(I7/174.393)^2)*T7,IF(A7=\"F\",10^(0.89726074*LOG(I7/148.026)^2)*T7,\"\")))","v":182.38002949747388},null," ",{"$f":"T7-HLOOKUP(X7,Feuil1!$C$1:$BL$10,2,FALSE)","v":72},{"$f":"T7-HLOOKUP(X7,Feuil1!$C$1:$BL$10,3,FALSE)","v":62},{"$f":"T7-HLOOKUP(X7,Feuil1!$C$1:$BL$10,4,FALSE)","v":52},{"$f":"T7-HLOOKUP(X7,Feuil1!$C$1:$BL$10,5,FALSE)","v":42},{"$f":"T7-HLOOKUP(X7,Feuil1!$C$1:$BL$10,6,FALSE)","v":32},{"$f":"T7-HLOOKUP(X7,Feuil1!$C$1:$BL$10,7,FALSE)","v":22},{"$f":"T7-HLOOKUP(X7,Feuil1!$C$1:$BL$10,8,FALSE)","v":12},{"$f":"T7-HLOOKUP(X7,Feuil1!$C$1:$BL$10,9,FALSE)","v":2},{"$f":"T7-HLOOKUP(X7,Feuil1!$C$1:$BL$10,10,FALSE)","v":-898},null,null,null,null,null,null,{"$f":"IF(AJ7>=0,$AJ$4,IF(AI7>=0,$AI$4,IF(AH7>=0,$AH$4,IF(AG7>=0,$AG$4,IF(AF7>=0,$AF$4,IF(AE7>=0,$AE$4,IF(AD7>=0,$AD$4,IF(AC7>=0,$AC$4,$AB$4))))))))","v":"INTA +"}]
["F","N","NPC",3,344393,"CNOCKAERT","Kelly-Ann",1999,42.06,"CHCD COMINES","BEL",20,23,-25,{"$f":"IF(H8=\"\",\"\",IF(MAXA(L8:N8)<=0,0,MAXA(L8:N8)))","v":23},25,27,29,{"$f":"IF(H8=\"\",\"\",IF(MAXA(P8:R8)<=0,0,MAXA(P8:R8)))","v":29},{"$f":"IF(H8=\"\",\"\",IF(OR(O8=0,S8=0),0,O8+S8))","v":52},{"$f":"T8-I8*2","v":-32.120000000000005},{"$f":"IF(H8=\"\",\"\",AQ8)","v":"REG +"},{"$f":"IF(AJ8>=0,AJ8,IF(AI8>=0,AI8,IF(AH8>=0,AH8,IF(AG8>=0,AG8,IF(AF8>=0,AF8,IF(AE8>=0,AE8,IF(AD8>=0,AD8,IF(AC8>=0,AC8,AB8))))))))","v":2},{"$f":"IF(I8=\"\",\"\",IF(A8=\"H\",IF(OR(H8=\"SEN\",H8<1995),VLOOKUP(I8,Feuil1!$A$11:$G$29,6),IF(AND(H8>1994,H8<1998),VLOOKUP(I8,Feuil1!$A$11:$G$29,5),IF(AND(H8>1997,H8<2000),VLOOKUP(I8,Feuil1!$A$11:$G$29,4),IF(AND(H8>1999,H8<2002),VLOOKUP(I8,Feuil1!$A$11:$G$29,3),VLOOKUP(I8,Feuil1!$A$11:$G$29,2))))),IF(OR(H8=\"SEN\",H8<1995),VLOOKUP(I8,Feuil1!$G$11:$L$25,6),IF(AND(H8>1994,H8<1998),VLOOKUP(I8,Feuil1!$G$11:$L$25,5),IF(AND(H8>1997,H8<2000),VLOOKUP(I8,Feuil1!$G$11:$L$25,4),IF(AND(H8>1999,H8<2002),VLOOKUP(I8,Feuil1!$G$11:$L$25,3),VLOOKUP(I8,Feuil1!$G$11:$L$25,2)))))))","v":"FC2 44"},{"$f":"IF(I8=\"\",\"\",IF(A8=\"H\",10^(0.794358141*LOG(I8/174.393)^2)*T8,IF(A8=\"F\",10^(0.89726074*LOG(I8/148.026)^2)*T8,\"\")))","v":96.371938431260944},null," ",{"$f":"T8-HLOOKUP(X8,Feuil1!$C$1:$BL$10,2,FALSE)","v":22},{"$f":"T8-HLOOKUP(X8,Feuil1!$C$1:$BL$10,3,FALSE)","v":12},{"$f":"T8-HLOOKUP(X8,Feuil1!$C$1:$BL$10,4,FALSE)","v":2},{"$f":"T8-HLOOKUP(X8,Feuil1!$C$1:$BL$10,5,FALSE)","v":-8},{"$f":"T8-HLOOKUP(X8,Feuil1!$C$1:$BL$10,6,FALSE)","v":-18},{"$f":"T8-HLOOKUP(X8,Feuil1!$C$1:$BL$10,7,FALSE)","v":-28},{"$f":"T8-HLOOKUP(X8,Feuil1!$C$1:$BL$10,8,FALSE)","v":-38},{"$f":"T8-HLOOKUP(X8,Feuil1!$C$1:$BL$10,9,FALSE)","v":-48},{"$f":"T8-HLOOKUP(X8,Feuil1!$C$1:$BL$10,10,FALSE)","v":-948},null,null,null,null,null,null,{"$f":"IF(AJ8>=0,$AJ$4,IF(AI8>=0,$AI$4,IF(AH8>=0,$AH$4,IF(AG8>=0,$AG$4,IF(AF8>=0,$AF$4,IF(AE8>=0,$AE$4,IF(AD8>=0,$AD$4,IF(AC8>=0,$AC$4,$AB$4))))))))","v":"REG +"}]
[null,null,null,null,null,null,null,null,null,null,null,null,null,null,null,null,null,null,null,null,null,null,null,null,null,null," ",{"$f":"T9-HLOOKUP(X9,Feuil1!$C$1:$BL$10,2,FALSE)","v":{"$error":"#N/A"}},{"$f":"T9-HLOOKUP(X9,Feuil1!$C$1:$BL$10,3,FALSE)","v":{"$error":"#N/A"}},{"$f":"T9-HLOOKUP(X9,Feuil1!$C$1:$BL$10,4,FALSE)","v":{"$error":"#N/A"}},{"$f":"T9-HLOOKUP(X9,Feuil1!$C$1:$BL$10,5,FALSE)","v":{"$error":"#N/A"}},{"$f":"T9-HLOOKUP(X9,Feuil1!$C$1:$BL$10,6,FALSE)","v":{"$error":"#N/A"}},{"$f":"T9-HLOOKUP(X9,Feuil1!$C$1:$BL$10,7,FALSE)","v":{"$error":"#N/A"}},{"$f":"T9-HLOOKUP(X9,Feuil1!$C$1:$BL$10,8,FALSE)","v":{"$error":"#N/A"}},{"$f":"T9-HLOOKUP(X9,Feuil1!$C$1:$BL$10,9,FALSE)","v":{"$error":"#N/A"}},{"$f":"T9-HLOOKUP(X9,Feuil1!$C$1:$BL$10,10,FALSE)","v":{"$error":"#N/A"}},null,null,null,null,null,null,{"$f":"IF(AJ9>=0,$AJ$4,IF(AI9>=0,$AI$4,IF(AH9>=0,$AH$4,IF(AG9>=0,$AG$4,IF(AF9>=0,$AF$4,IF(AE9>=0,$AE$4,IF(AD9>=0,$AD$4,IF(AC9>=0,$AC$4,$AB$4))))))))","v":{"$error":"#N/A"}}]
["F","SO","AQU",1,277832,"RIGAUD","GARANCE",1999,47.8,"ST MEDARD","F",48,51,53,{"$f":"IF(H10=\"\",\"\",IF(MAXA(L10:N10)<=0,0,MAXA(L10:N10)))","v":53},59,-62,62,{"$f":"IF(H10=\"\",\"\",IF(MAXA(P10:R10)<=0,0,MAXA(P10:R10)))","v":62},{"$f":"IF(H10=\"\",\"\",IF(OR(O10=0,S10=0),0,O10+S10))","v":115},{"$f":"T10-I10*2","v":19.400000000000006},{"$f":"IF(H10=\"\",\"\",AQ10)","v":"INTA +"},{"$f":"IF(AJ10>=0,AJ10,IF(AI10>=0,AI10,IF(AH10>=0,AH10,IF(AG10>=0,AG10,IF(AF10>=0,AF10,IF(AE10>=0,AE10,IF(AD10>=0,AD10,IF(AC10>=0,AC10,AB10))))))))","v":5},{"$f":"IF(I10=\"\",\"\",IF(A10=\"H\",IF(OR(H10=\"SEN\",H10<1995),VLOOKUP(I10,Feuil1!$A$11:$G$29,6),IF(AND(H10>1994,H10<1998),VLOOKUP(I10,Feuil1!$A$11:$G$29,5),IF(AND(H10>1997,H10<2000),VLOOKUP(I10,Feuil1!$A$11:$G$29,4),IF(AND(H10>1999,H10<2002),VLOOKUP(I10,Feuil1!$A$11:$G$29,3),VLOOKUP(I10,Feuil1!$A$11:$G$29,2))))),IF(OR(H10=\"SEN\",H10<1995),VLOOKUP(I10,Feuil1!$G$11:$L$25,6),IF(AND(H10>1994,H10<1998),VLOOKUP(I10,Feuil1!$G$11:$L$25,5),IF(AND(H10>1997,H10<2000),VLOOKUP(I10,Feuil1!$G$11:$L$25,4),IF(AND(H10>1999,H10<2002),VLOOKUP(I10,Feuil1!$G$11:$L$25,3),VLOOKUP(I10,Feuil1!$G$11:$L$25,2)))))))","v":"FC2 48"},{"$f":"IF(I10=\"\",\"\",IF(A10=\"H\",10^(0.794358141*LOG(I10/174.393)^2)*T10,IF(A10=\"F\",10^(0.89726074*LOG(I10/148.026)^2)*T10,\"\")))","v":189.20436805322979},null," ",{"$f":"T10-HLOOKUP(X10,Feuil1!$C$1:$BL$10,2,FALSE)","v":80},{"$f":"T10-HLOOKUP(X10,Feuil1!$C$1:$BL$10,3,FALSE)","v":70},{"$f":"T10-HLOOKUP(X10,Feuil1!$C$1:$BL$10,4,FALSE)","v":60},{"$f":"T10-HLOOKUP(X10,Feuil1!$C$1:$BL$10,5,FALSE)","v":50},{"$f":"T10-HLOOKUP(X10,Feuil1!$C$1:$BL$10,6,FALSE)","v":40},{"$f":"T10-HLOOKUP(X10,Feuil1!$C$1:$BL$10,7,FALSE)","v":30},{"$f":"T10-HLOOKUP(X10,Feuil1!$C$1:$BL$10,8,FALSE)","v":20},{"$f":"T10-HLOOKUP(X10,Feuil1!$C$1:$BL$10,9,FALSE)","v":5},{"$f":"T10-HLOOKUP(X10,Feuil1!$C$1:$BL$10,10,FALSE)","v":-885},null,null,null,null,null,null,{"$f":"IF(AJ10>=0,$AJ$4,IF(AI10>=0,$AI$4,IF(AH10>=0,$AH$4,IF(AG10>=0,$AG$4,IF(AF10>=0,$AF$4,IF(AE10>=0,$AE$4,IF(AD10>=0,$AD$4,IF(AC10>=0,$AC$4,$AB$4))))))))","v":"INTA +"}]
["F","SO","AQU",2,298421,"MOCAER","Nolwenn",1999,45.1,"ST MEDARD","F",44,48,50,50,58,61,64,64,114,23.799999999999997,"INTA +",4,{"$f":"IF(I11=\"\",\"\",IF(A11=\"H\",IF(OR(H11=\"SEN\",H11<1995),VLOOKUP(I11,Feuil1!$A$11:$G$29,6),IF(AND(H11>1994,H11<1998),VLOOKUP(I11,Feuil1!$A$11:$G$29,5),IF(AND(H11>1997,H11<2000),VLOOKUP(I11,Feuil1!$A$11:$G$29,4),IF(AND(H11>1999,H11<2002),VLOOKUP(I11,Feuil1!$A$11:$G$29,3),VLOOKUP(I11,Feuil1!$A$11:$G$29,2))))),IF(OR(H11=\"SEN\",H11<1995),VLOOKUP(I11,Feuil1!$G$11:$L$25,6),IF(AND(H11>1994,H11<1998),VLOOKUP(I11,Feuil1!$G$11:$L$25,5),IF(AND(H11>1997,H11<2000),VLOOKUP(I11,Feuil1!$G$11:$L$25,4),IF(AND(H11>1999,H11<2002),VLOOKUP(I11,Feuil1!$G$11:$L$25,3),VLOOKUP(I11,Feuil1!$G$11:$L$25,2)))))))","v":"FC2 48"},197.6766805263488,null," ",{"$f":"T11-HLOOKUP(X11,Feuil1!$C$1:$BL$10,2,FALSE)","v":79},{"$f":"T11-HLOOKUP(X11,Feuil1!$C$1:$BL$10,3,FALSE)","v":69},{"$f":"T11-HLOOKUP(X11,Feuil1!$C$1:$BL$10,4,FALSE)","v":59},{"$f":"T11-HLOOKUP(X11,Feuil1!$C$1:$BL$10,5,FALSE)","v":49},{"$f":"T11-HLOOKUP(X11,Feuil1!$C$1:$BL$10,6,FALSE)","v":39},{"$f":"T11-HLOOKUP(X11,Feuil1!$C$1:$BL$10,7,FALSE)","v":29},{"$f":"T11-HLOOKUP(X11,Feuil1!$C$1:$BL$10,8,FALSE)","v":19},{"$f":"T11-HLOOKUP(X11,Feuil1!$C$1:$BL$10,9,FALSE)","v":4},{"$f":"T11-HLOOKUP(X11,Feuil1!$C$1:$BL$10,10,FALSE)","v":-886},null,null,null,null,null,null,"INTA +"]
["F","CO","PDL",3,191138,"L'HERMIER","Nolwen",1999,44.7,"CJF Laval-Voutré","F",42,44,46,46,58,60,62,62,108,18.599999999999994,"INTB +",13,{"$f":"IF(I12=\"\",\"\",IF(A12=\"H\",IF(OR(H12=\"SEN\",H12<1995),VLOOKUP(I12,Feuil1!$A$11:$G$29,6),IF(AND(H12>1994,H12<1998),VLOOKUP(I12,Feuil1!$A$11:$G$29,5),IF(AND(H12>1997,H12<2000),VLOOKUP(I12,Feuil1!$A$11:$G$29,4),IF(AND(H12>1999,H12<2002),VLOOKUP(I12,Feuil1!$A$11:$G$29,3),VLOOKUP(I12,Feuil1!$A$11:$G$29,2))))),IF(OR(H12=\"SEN\",H12<1995),VLOOKUP(I12,Feuil1!$G$11:$L$25,6),IF(AND(H12>1994,H12<1998),VLOOKUP(I12,Feuil1!$G$11:$L$25,5),IF(AND(H12>1997,H12<2000),VLOOKUP(I12,Feuil1!$G$11:$L$25,4),IF(AND(H12>1999,H12<2002),VLOOKUP(I12,Feuil1!$G$11:$L$25,3),VLOOKUP(I12,Feuil1!$G$11:$L$25,2)))))))","v":"FC2 48"},188.83022184664699,null," ",{"$f":"T12-HLOOKUP(X12,Feuil1!$C$1:$BL$10,2,FALSE)","v":73},{"$f":"T12-HLOOKUP(X12,Feuil1!$C$1:$BL$10,3,FALSE)","v":63},{"$f":"T12-HLOOKUP(X12,Feuil1!$C$1:$BL$10,4,FALSE)","v":53},{"$f":"T12-HLOOKUP(X12,Feuil1!$C$1:$BL$10,5,FALSE)","v":43},{"$f":"T12-HLOOKUP(X12,Feuil1!$C$1:$BL$10,6,FALSE)","v":33},{"$f":"T12-HLOOKUP(X12,Feuil1!$C$1:$BL$10,7,FALSE)","v":23},{"$f":"T12-HLOOKUP(X12,Feuil1!$C$1:$BL$10,8,FALSE)","v":13},{"$f":"T12-HLOOKUP(X12,Feuil1!$C$1:$BL$10,9,FALSE)","v":-2},{"$f":"T12-HLOOKUP(X12,Feuil1!$C$1:$BL$10,10,FALSE)","v":-892},null,null,null,null,null,null,"INTB +"]
["F","SEST","CAZ",4,363002,"MAILLOT","Asia",1998,47.8,"ASLDD TOULON","F",39,42,44,44,50,53,56,56,100,4.4000000000000057,"INTB +",5,{"$f":"IF(I13=\"\",\"\",IF(A13=\"H\",IF(OR(H13=\"SEN\",H13<1995),VLOOKUP(I13,Feuil1!$A$11:$G$29,6),IF(AND(H13>1994,H13<1998),VLOOKUP(I13,Feuil1!$A$11:$G$29,5),IF(AND(H13>1997,H13<2000),VLOOKUP(I13,Feuil1!$A$11:$G$29,4),IF(AND(H13>1999,H13<2002),VLOOKUP(I13,Feuil1!$A$11:$G$29,3),VLOOKUP(I13,Feuil1!$A$11:$G$29,2))))),IF(OR(H13=\"SEN\",H13<1995),VLOOKUP(I13,Feuil1!$G$11:$L$25,6),IF(AND(H13>1994,H13<1998),VLOOKUP(I13,Feuil1!$G$11:$L$25,5),IF(AND(H13>1997,H13<2000),VLOOKUP(I13,Feuil1!$G$11:$L$25,4),IF(AND(H13>1999,H13<2002),VLOOKUP(I13,Feuil1!$G$11:$L$25,3),VLOOKUP(I13,Feuil1!$G$11:$L$25,2)))))))","v":"FC2 48"},164.52553743759114,null," ",{"$f":"T13-HLOOKUP(X13,Feuil1!$C$1:$BL$10,2,FALSE)","v":65},{"$f":"T13-HLOOKUP(X13,Feuil1!$C$1:$BL$10,3,FALSE)","v":55},{"$f":"T13-HLOOKUP(X13,Feuil1!$C$1:$BL$10,4,FALSE)","v":45},{"$f":"T13-HLOOKUP(X13,Feuil1!$C$1:$BL$10,5,FALSE)","v":35},{"$f":"T13-HLOOKUP(X13,Feuil1!$C$1:$BL$10,6,FALSE)","v":25},{"$f":"T13-HLOOKUP(X13,Feuil1!$C$1:$BL$10,7,FALSE)","v":15},{"$f":"T13-HLOOKUP(X13,Feuil1!$C$1:$BL$10,8,FALSE)","v":5},{"$f":"T13-HLOOKUP(X13,Feuil1!$C$1:$BL$10,9,FALSE)","v":-10},{"$f":"T13-HLOOKUP(X13,Feuil1!$C$1:$BL$10,10,FALSE)","v":-900},null,null,null,null,null,null,"INTB +"]
["F","SEST","CAZ",5,295873,"RICHET","Catherine",1999,47.8,"ES VILL LOUBET","F",38,41,44,44,50,53,56,56,100,4.4000000000000057,"INTB +",5,{"$f":"IF(I14=\"\",\"\",IF(A14=\"H\",IF(OR(H14=\"SEN\",H14<1995),VLOOKUP(I14,Feuil1!$A$11:$G$29,6),IF(AND(H14>1994,H14<1998),VLOOKUP(I14,Feuil1!$A$11:$G$29,5),IF(AND(H14>1997,H14<2000),VLOOKUP(I14,Feuil1!$A$11:$G$29,4),IF(AND(H14>1999,H14<2002),VLOOKUP(I14,Feuil1!$A$11:$G$29,3),VLOOKUP(I14,Feuil1!$A$11:$G$29,2))))),IF(OR(H14=\"SEN\",H14<1995),VLOOKUP(I14,Feuil1!$G$11:$L$25,6),IF(AND(H14>1994,H14<1998),VLOOKUP(I14,Feuil1!$G$11:$L$25,5),IF(AND(H14>1997,H14<2000),VLOOKUP(I14,Feuil1!$G$11:$L$25,4),IF(AND(H14>1999,H14<2002),VLOOKUP(I14,Feuil1!$G$11:$L$25,3),VLOOKUP(I14,Feuil1!$G$11:$L$25,2)))))))","v":"FC2 48"},164.52553743759114,null," ",{"$f":"T14-HLOOKUP(X14,Feuil1!$C$1:$BL$10,2,FALSE)","v":65},{"$f":"T14-HLOOKUP(X14,Feuil1!$C$1:$BL$10,3,FALSE)","v":55},{"$f":"T14-HLOOKUP(X14,Feuil1!$C$1:$BL$10,4,FALSE)","v":45},{"$f":"T14-HLOOKUP(X14,Feuil1!$C$1:$BL$10,5,FALSE)","v":35},{"$f":"T14-HLOOKUP(X14,Feuil1!$C$1:$BL$10,6,FALSE)","v":25},{"$f":"T14-HLOOKUP(X14,Feuil1!$C$1:$BL$10,7,FALSE)","v":15},{"$f":"T14-HLOOKUP(X14,Feuil1!$C$1:$BL$10,8,FALSE)","v":5},{"$f":"T14-HLOOKUP(X14,Feuil1!$C$1:$BL$10,9,FALSE)","v":-10},{"$f":"T14-HLOOKUP(X14,Feuil1!$C$1:$BL$10,10,FALSE)","v":-900},null,null,null,null,null,null,"INTB +"]
["F","SEST","CAZ",6,385815,"GOUDE","Zoé",1999,47.25," ASLDD TOULON","F",27,30,31,31,36,38,41,41,72,-22.5,"IRG +",7,{"$f":"IF(I15=\"\",\"\",IF(A15=\"H\",IF(OR(H15=\"SEN\",H15<1995),VLOOKUP(I15,Feuil1!$A$11:$G$29,6),IF(AND(H15>1994,H15<1998),VLOOKUP(I15,Feuil1!$A$11:$G$29,5),IF(AND(H15>1997,H15<2000),VLOOKUP(I15,Feuil1!$A$11:$G$29,4),IF(AND(H15>1999,H15<2002),VLOOKUP(I15,Feuil1!$A$11:$G$29,3),VLOOKUP(I15,Feuil1!$A$11:$G$29,2))))),IF(OR(H15=\"SEN\",H15<1995),VLOOKUP(I15,Feuil1!$G$11:$L$25,6),IF(AND(H15>1994,H15<1998),VLOOKUP(I15,Feuil1!$G$11:$L$25,5),IF(AND(H15>1997,H15<2000),VLOOKUP(I15,Feuil1!$G$11:$L$25,4),IF(AND(H15>1999,H15<2002),VLOOKUP(I15,Feuil1!$G$11:$L$25,3),VLOOKUP(I15,Feuil1!$G$11:$L$25,2)))))))","v":"FC2 48"},119.67851806826289,null," ",{"$f":"T15-HLOOKUP(X15,Feuil1!$C$1:$BL$10,2,FALSE)","v":37},{"$f":"T15-HLOOKUP(X15,Feuil1!$C$1:$BL$10,3,FALSE)","v":27},{"$f":"T15-HLOOKUP(X15,Feuil1!$C$1:$BL$10,4,FALSE)","v":17},{"$f":"T15-HLOOKUP(X15,Feuil1!$C$1:$BL$10,5,FALSE)","v":7},{"$f":"T15-HLOOKUP(X15,Feuil1!$C$1:$BL$10,6,FALSE)","v":-3},{"$f":"T15-HLOOKUP(X15,Feuil1!$C$1:$BL$10,7,FALSE)","v":-13},{"$f":"T15-HLOOKUP(X15,Feuil1!$C$1:$BL$10,8,FALSE)","v":-23},{"$f":"T15-HLOOKUP(X15,Feuil1!$C$1:$BL$10,9,FALSE)","v":-38},{"$f":"T15-HLOOKUP(X15,Feuil1!$C$1:$BL$10,10,FALSE)","v":-928},null,null,null,null,null,null,"IRG +"]
["F","SEST","CAZ",7,387211,"CUDIA ","Charlotte",1999,45.4," ASLDD TOULON","F",26,28,-30,28,-33,35,37,37,65,-25.799999999999997,"IRG +",0,{"$f":"IF(I16=\"\",\"\",IF(A16=\"H\",IF(OR(H16=\"SEN\",H16<1995),VLOOKUP(I16,Feuil1!$A$11:$G$29,6),IF(AND(H16>1994,H16<1998),VLOOKUP(I16,Feuil1!$A$11:$G$29,5),IF(AND(H16>1997,H16<2000),VLOOKUP(I16,Feuil1!$A$11:$G$29,4),IF(AND(H16>1999,H16<2002),VLOOKUP(I16,Feuil1!$A$11:$G$29,3),VLOOKUP(I16,Feuil1!$A$11:$G$29,2))))),IF(OR(H16=\"SEN\",H16<1995),VLOOKUP(I16,Feuil1!$G$11:$L$25,6),IF(AND(H16>1994,H16<1998),VLOOKUP(I16,Feuil1!$G$11:$L$25,5),IF(AND(H16>1997,H16<2000),VLOOKUP(I16,Feuil1!$G$11:$L$25,4),IF(AND(H16>1999,H16<2002),VLOOKUP(I16,Feuil1!$G$11:$L$25,3),VLOOKUP(I16,Feuil1!$G$11:$L$25,2)))))))","v":"FC2 48"},112.02227411398577,null," ",{"$f":"T16-HLOOKUP(X16,Feuil1!$C$1:$BL$10,2,FALSE)","v":30},{"$f":"T16-HLOOKUP(X16,Feuil1!$C$1:$BL$10,3,FALSE)","v":20},{"$f":"T16-HLOOKUP(X16,Feuil1!$C$1:$BL$10,4,FALSE)","v":10},{"$f":"T16-HLOOKUP(X16,Feuil1!$C$1:$BL$10,5,FALSE)","v":0},{"$f":"T16-HLOOKUP(X16,Feuil1!$C$1:$BL$10,6,FALSE)","v":-10},{"$f":"T16-HLOOKUP(X16,Feuil1!$C$1:$BL$10,7,FALSE)","v":-20},{"$f":"T16-HLOOKUP(X16,Feuil1!$C$1:$BL$10,8,FALSE)","v":-30},{"$f":"T16-HLOOKUP(X16,Feuil1!$C$1:$BL$10,9,FALSE)","v":-45},{"$f":"T16-HLOOKUP(X16,Feuil1!$C$1:$BL$10,10,FALSE)","v":-935},null,null,null,null,null,null,"IRG +"]
["F","N","PIC",8,378364,"LHERBIEZ","Amandine",1999,47.7,"Villers-Bretonneux KC","F",22,25,-27,25,32,34,36,36,61,-34.400000000000006,"REG +",6,{"$f":"IF(I17=\"\",\"\",IF(A17=\"H\",IF(OR(H17=\"SEN\",H17<1995),VLOOKUP(I17,Feuil1!$A$11:$G$29,6),IF(AND(H17>1994,H17<1998),VLOOKUP(I17,Feuil1!$A$11:$G$29,5),IF(AND(H17>1997,H17<2000),VLOOKUP(I17,Feuil1!$A$11:$G$29,4),IF(AND(H17>1999,H17<2002),VLOOKUP(I17,Feuil1!$A$11:$G$29,3),VLOOKUP(I17,Feuil1!$A$11:$G$29,2))))),IF(OR(H17=\"SEN\",H17<1995),VLOOKUP(I17,Feuil1!$G$11:$L$25,6),IF(AND(H17>1994,H17<1998),VLOOKUP(I17,Feuil1!$G$11:$L$25,5),IF(AND(H17>1997,H17<2000),VLOOKUP(I17,Feuil1!$G$11:$L$25,4),IF(AND(H17>1999,H17<2002),VLOOKUP(I17,Feuil1!$G$11:$L$25,3),VLOOKUP(I17,Feuil1!$G$11:$L$25,2)))))))","v":"FC2 48"},100.54607776642078,null," ",{"$f":"T17-HLOOKUP(X17,Feuil1!$C$1:$BL$10,2,FALSE)","v":26},{"$f":"T17-HLOOKUP(X17,Feuil1!$C$1:$BL$10,3,FALSE)","v":16},{"$f":"T17-HLOOKUP(X17,Feuil1!$C$1:$BL$10,4,FALSE)","v":6},{"$f":"T17-HLOOKUP(X17,Feuil1!$C$1:$BL$10,5,FALSE)","v":-4},{"$f":"T17-HLOOKUP(X17,Feuil1!$C$1:$BL$10,6,FALSE)","v":-14},{"$f":"T17-HLOOKUP(X17,Feuil1!$C$1:$BL$10,7,FALSE)","v":-24},{"$f":"T17-HLOOKUP(X17,Feuil1!$C$1:$BL$10,8,FALSE)","v":-34},{"$f":"T17-HLOOKUP(X17,Feuil1!$C$1:$BL$10,9,FALSE)","v":-49},{"$f":"T17-HLOOKUP(X17,Feuil1!$C$1:$BL$10,10,FALSE)","v":-939},null,null,null,null,null,null,"REG +"]
["F","N","NPC",9,376716,"IMPINES","Alicia",1999,45.9,"ST POL SUR MER","F",18,21,24,24,24,26,30,30,54,-37.799999999999997,"DEP +",9,{"$f":"IF(I18=\"\",\"\",IF(A18=\"H\",IF(OR(H18=\"SEN\",H18<1995),VLOOKUP(I18,Feuil1!$A$11:$G$29,6),IF(AND(H18>1994,H18<1998),VLOOKUP(I18,Feuil1!$A$11:$G$29,5),IF(AND(H18>1997,H18<2000),VLOOKUP(I18,Feuil1!$A$11:$G$29,4),IF(AND(H18>1999,H18<2002),VLOOKUP(I18,Feuil1!$A$11:$G$29,3),VLOOKUP(I18,Feuil1!$A$11:$G$29,2))))),IF(OR(H18=\"SEN\",H18<1995),VLOOKUP(I18,Feuil1!$G$11:$L$25,6),IF(AND(H18>1994,H18<1998),VLOOKUP(I18,Feuil1!$G$11:$L$25,5),IF(AND(H18>1997,H18<2000),VLOOKUP(I18,Feuil1!$G$11:$L$25,4),IF(AND(H18>1999,H18<2002),VLOOKUP(I18,Feuil1!$G$11:$L$25,3),VLOOKUP(I18,Feuil1!$G$11:$L$25,2)))))))","v":"FC2 48"},92.134777616048183,null," ",{"$f":"T18-HLOOKUP(X18,Feuil1!$C$1:$BL$10,2,FALSE)","v":19},{"$f":"T18-HLOOKUP(X18,Feuil1!$C$1:$BL$10,3,FALSE)","v":9},{"$f":"T18-HLOOKUP(X18,Feuil1!$C$1:$BL$10,4,FALSE)","v":-1},{"$f":"T18-HLOOKUP(X18,Feuil1!$C$1:$BL$10,5,FALSE)","v":-11},{"$f":"T18-HLOOKUP(X18,Feuil1!$C$1:$BL$10,6,FALSE)","v":-21},{"$f":"T18-HLOOKUP(X18,Feuil1!$C$1:$BL$10,7,FALSE)","v":-31},{"$f":"T18-HLOOKUP(X18,Feuil1!$C$1:$BL$10,8,FALSE)","v":-41},{"$f":"T18-HLOOKUP(X18,Feuil1!$C$1:$BL$10,9,FALSE)","v":-56},{"$f":"T18-HLOOKUP(X18,Feuil1!$C$1:$BL$10,10,FALSE)","v":-946},null,null,null,null,null,null,"DEP +"]
["F","SO","MPY",10,375975,"GRIMAL","Claire",1999,46.5,"MONTAUBAN HC","F",14,17,20,20,17,21,25,25,45,-48,"DEP +",0,{"$f":"IF(I19=\"\",\"\",IF(A19=\"H\",IF(OR(H19=\"SEN\",H19<1995),VLOOKUP(I19,Feuil1!$A$11:$G$29,6),IF(AND(H19>1994,H19<1998),VLOOKUP(I19,Feuil1!$A$11:$G$29,5),IF(AND(H19>1997,H19<2000),VLOOKUP(I19,Feuil1!$A$11:$G$29,4),IF(AND(H19>1999,H19<2002),VLOOKUP(I19,Feuil1!$A$11:$G$29,3),VLOOKUP(I19,Feuil1!$A$11:$G$29,2))))),IF(OR(H19=\"SEN\",H19<1995),VLOOKUP(I19,Feuil1!$G$11:$L$25,6),IF(AND(H19>1994,H19<1998),VLOOKUP(I19,Feuil1!$G$11:$L$25,5),IF(AND(H19>1997,H19<2000),VLOOKUP(I19,Feuil1!$G$11:$L$25,4),IF(AND(H19>1999,H19<2002),VLOOKUP(I19,Feuil1!$G$11:$L$25,3),VLOOKUP(I19,Feuil1!$G$11:$L$25,2)))))))","v":"FC2 48"},75.879386336914337,null," ",{"$f":"T19-HLOOKUP(X19,Feuil1!$C$1:$BL$10,2,FALSE)","v":10},{"$f":"T19-HLOOKUP(X19,Feuil1!$C$1:$BL$10,3,FALSE)","v":0},{"$f":"T19-HLOOKUP(X19,Feuil1!$C$1:$BL$10,4,FALSE)","v":-10},{"$f":"T19-HLOOKUP(X19,Feuil1!$C$1:$BL$10,5,FALSE)","v":-20},{"$f":"T19-HLOOKUP(X19,Feuil1!$C$1:$BL$10,6,FALSE)","v":-30},{"$f":"T19-HLOOKUP(X19,Feuil1!$C$1:$BL$10,7,FALSE)","v":-40},{"$f":"T19-HLOOKUP(X19,Feuil1!$C$1:$BL$10,8,FALSE)","v":-50},{"$f":"T19-HLOOKUP(X19,Feuil1!$C$1:$BL$10,9,FALSE)","v":-65},{"$f":"T19-HLOOKUP(X19,Feuil1!$C$1:$BL$10,10,FALSE)","v":-955},null,null,null,null,null,null,"DEP +"]
["F","N","NPC",11,311496,"DEFONTAINE","Elodie",1999,46.5,"ST POL SUR MER","F",16,18,20,20,20,23,25,25,45,-48,"DEP +",0,{"$f":"IF(I20=\"\",\"\",IF(A20=\"H\",IF(OR(H20=\"SEN\",H20<1995),VLOOKUP(I20,Feuil1!$A$11:$G$29,6),IF(AND(H20>1994,H20<1998),VLOOKUP(I20,Feuil1!$A$11:$G$29,5),IF(AND(H20>1997,H20<2000),VLOOKUP(I20,Feuil1!$A$11:$G$29,4),IF(AND(H20>1999,H20<2002),VLOOKUP(I20,Feuil1!$A$11:$G$29,3),VLOOKUP(I20,Feuil1!$A$11:$G$29,2))))),IF(OR(H20=\"SEN\",H20<1995),VLOOKUP(I20,Feuil1!$G$11:$L$25,6),IF(AND(H20>1994,H20<1998),VLOOKUP(I20,Feuil1!$G$11:$L$25,5),IF(AND(H20>1997,H20<2000),VLOOKUP(I20,Feuil1!$G$11:$L$25,4),IF(AND(H20>1999,H20<2002),VLOOKUP(I20,Feuil1!$G$11:$L$25,3),VLOOKUP(I20,Feuil1!$G$11:$L$25,2)))))))","v":"FC2 48"},75.879386336914337,null," ",{"$f":"T20-HLOOKUP(X20,Feuil1!$C$1:$BL$10,2,FALSE)","v":10},{"$f":"T20-HLOOKUP(X20,Feuil1!$C$1:$BL$10,3,FALSE)","v":0},{"$f":"T20-HLOOKUP(X20,Feuil1!$C$1:$BL$10,4,FALSE)","v":-10},{"$f":"T20-HLOOKUP(X20,Feuil1!$C$1:$BL$10,5,FALSE)","v":-20},{"$f":"T20-HLOOKUP(X20,Feuil1!$C$1:$BL$10,6,FALSE)","v":-30},{"$f":"T20-HLOOKUP(X20,Feuil1!$C$1:$BL$10,7,FALSE)","v":-40},{"$f":"T20-HLOOKUP(X20,Feuil1!$C$1:$BL$10,8,FALSE)","v":-50},{"$f":"T20-HLOOKUP(X20,Feuil1!$C$1:$BL$10,9,FALSE)","v":-65},{"$f":"T20-HLOOKUP(X20,Feuil1!$C$1:$BL$10,10,FALSE)","v":-955},null,null,null,null,null,null,"DEP +"]
[null,null,null,null,null,null,null,null,null,null,null,null,null,null,null,null,null,null,null,null,null,null,null,null,null,null," ",{"$f":"T21-HLOOKUP(X21,Feuil1!$C$1:$BL$10,2,FALSE)","v":{"$error":"#N/A"}},{"$f":"T21-HLOOKUP(X21,Feuil1!$C$1:$BL$10,3,FALSE)","v":{"$error":"#N/A"}},{"$f":"T21-HLOOKUP(X21,Feuil1!$C$1:$BL$10,4,FALSE)","v":{"$error":"#N/A"}},{"$f":"T21-HLOOKUP(X21,Feuil1!$C$1:$BL$10,5,FALSE)","v":{"$error":"#N/A"}},{"$f":"T21-HLOOKUP(X21,Feuil1!$C$1:$BL$10,6,FALSE)","v":{"$error":"#N/A"}},{"$f":"T21-HLOOKUP(X21,Feuil1!$C$1:$BL$10,7,FALSE)","v":{"$error":"#N/A"}},{"$f":"T21-HLOOKUP(X21,Feuil1!$C$1:$BL$10,8,FALSE)","v":{"$error":"#N/A"}},{"$f":"T21-HLOOKUP(X21,Feuil1!$C$1:$BL$10,9,FALSE)","v":{"$error":"#N/A"}},{"$f":"T21-HLOOKUP(X21,Feuil1!$C$1:$BL$10,10,FALSE)","v":{"$error":"#N/A"}},null,null,null,null,null,null,{"$f":"IF(AJ21>=0,$AJ$4,IF(AI21>=0,$AI$4,IF(AH21>=0,$AH$4,IF(AG21>=0,$AG$4,IF(AF21>=0,$AF$4,IF(AE21>=0,$AE$4,IF(AD21>=0,$AD$4,IF(AC21>=0,$AC$4,$AB$4))))))))","v":{"$error":"#N/A"}}]
["F","NE","FCO",1,382515,"PRUVOT","Samantha",1999,52.8,"LF Besançon","F",45,48,51,{"$f":"IF(H22=\"\",\"\",IF(MAXA(L22:N22)<=0,0,MAXA(L22:N22)))","v":51},58,64,68,{"$f":"IF(H22=\"\",\"\",IF(MAXA(P22:R22)<=0,0,MAXA(P22:R22)))","v":68},{"$f":"IF(H22=\"\",\"\",IF(OR(O22=0,S22=0),0,O22+S22))","v":119},{"$f":"T22-I22*2","v":13.400000000000006},{"$f":"IF(H22=\"\",\"\",AQ22)","v":"INTB +"},{"$f":"IF(AJ22>=0,AJ22,IF(AI22>=0,AI22,IF(AH22>=0,AH22,IF(AG22>=0,AG22,IF(AF22>=0,AF22,IF(AE22>=0,AE22,IF(AD22>=0,AD22,IF(AC22>=0,AC22,AB22))))))))","v":14},{"$f":"IF(I22=\"\",\"\",IF(A22=\"H\",IF(OR(H22=\"SEN\",H22<1995),VLOOKUP(I22,Feuil1!$A$11:$G$29,6),IF(AND(H22>1994,H22<1998),VLOOKUP(I22,Feuil1!$A$11:$G$29,5),IF(AND(H22>1997,H22<2000),VLOOKUP(I22,Feuil1!$A$11:$G$29,4),IF(AND(H22>1999,H22<2002),VLOOKUP(I22,Feuil1!$A$11:$G$29,3),VLOOKUP(I22,Feuil1!$A$11:$G$29,2))))),IF(OR(H22=\"SEN\",H22<1995),VLOOKUP(I22,Feuil1!$G$11:$L$25,6),IF(AND(H22>1994,H22<1998),VLOOKUP(I22,Feuil1!$G$11:$L$25,5),IF(AND(H22>1997,H22<2000),VLOOKUP(I22,Feuil1!$G$11:$L$25,4),IF(AND(H22>1999,H22<2002),VLOOKUP(I22,Feuil1!$G$11:$L$25,3),VLOOKUP(I22,Feuil1!$G$11:$L$25,2)))))))","v":"FC2 53"},{"$f":"IF(I22=\"\",\"\",IF(A22=\"H\",10^(0.794358141*LOG(I22/174.393)^2)*T22,IF(A22=\"F\",10^(0.89726074*LOG(I22/148.026)^2)*T22,\"\")))","v":180.04992999508838},null," ",{"$f":"T22-HLOOKUP(X22,Feuil1!$C$1:$BL$10,2,FALSE)","v":74},{"$f":"T22-HLOOKUP(X22,Feuil1!$C$1:$BL$10,3,FALSE)","v":64},{"$f":"T22-HLOOKUP(X22,Feuil1!$C$1:$BL$10,4,FALSE)","v":54},{"$f":"T22-HLOOKUP(X22,Feuil1!$C$1:$BL$10,5,FALSE)","v":44},{"$f":"T22-HLOOKUP(X22,Feuil1!$C$1:$BL$10,6,FALSE)","v":34},{"$f":"T22-HLOOKUP(X22,Feuil1!$C$1:$BL$10,7,FALSE)","v":24},{"$f":"T22-HLOOKUP(X22,Feuil1!$C$1:$BL$10,8,FALSE)","v":14},{"$f":"T22-HLOOKUP(X22,Feuil1!$C$1:$BL$10,9,FALSE)","v":-1},{"$f":"T22-HLOOKUP(X22,Feuil1!$C$1:$BL$10,10,FALSE)","v":-881},null,null,null,null,null,null,{"$f":"IF(AJ22>=0,$AJ$4,IF(AI22>=0,$AI$4,IF(AH22>=0,$AH$4,IF(AG22>=0,$AG$4,IF(AF22>=0,$AF$4,IF(AE22>=0,$AE$4,IF(AD22>=0,$AD$4,IF(AC22>=0,$AC$4,$AB$4))))))))","v":"INTB +"}]
["F","SO","AQU",2,277832,"RIGAUD","GARANCE",1999,48.1,"ST MEDARD","F",-49,-49,49,49,59,63,-65,63,112,15.799999999999997,"INTB +",7,{"$f":"IF(I23=\"\",\"\",IF(A23=\"H\",IF(OR(H23=\"SEN\",H23<1995),VLOOKUP(I23,Feuil1!$A$11:$G$29,6),IF(AND(H23>1994,H23<1998),VLOOKUP(I23,Feuil1!$A$11:$G$29,5),IF(AND(H23>1997,H23<2000),VLOOKUP(I23,Feuil1!$A$11:$G$29,4),IF(AND(H23>1999,H23<2002),VLOOKUP(I23,Feuil1!$A$11:$G$29,3),VLOOKUP(I23,Feuil1!$A$11:$G$29,2))))),IF(OR(H23=\"SEN\",H23<1995),VLOOKUP(I23,Feuil1!$G$11:$L$25,6),IF(AND(H23>1994,H23<1998),VLOOKUP(I23,Feuil1!$G$11:$L$25,5),IF(AND(H23>1997,H23<2000),VLOOKUP(I23,Feuil1!$G$11:$L$25,4),IF(AND(H23>1999,H23<2002),VLOOKUP(I23,Feuil1!$G$11:$L$25,3),VLOOKUP(I23,Feuil1!$G$11:$L$25,2)))))))","v":"FC2 53"},183.25855983620653,null," ",{"$f":"T23-HLOOKUP(X23,Feuil1!$C$1:$BL$10,2,FALSE)","v":67},{"$f":"T23-HLOOKUP(X23,Feuil1!$C$1:$BL$10,3,FALSE)","v":57},{"$f":"T23-HLOOKUP(X23,Feuil1!$C$1:$BL$10,4,FALSE)","v":47},{"$f":"T23-HLOOKUP(X23,Feuil1!$C$1:$BL$10,5,FALSE)","v":37},{"$f":"T23-HLOOKUP(X23,Feuil1!$C$1:$BL$10,6,FALSE)","v":27},{"$f":"T23-HLOOKUP(X23,Feuil1!$C$1:$BL$10,7,FALSE)","v":17},{"$f":"T23-HLOOKUP(X23,Feuil1!$C$1:$BL$10,8,FALSE)","v":7},{"$f":"T23-HLOOKUP(X23,Feuil1!$C$1:$BL$10,9,FALSE)","v":-8},{"$f":"T23-HLOOKUP(X23,Feuil1!$C$1:$BL$10,10,FALSE)","v":-888},null,null,null,null,null,null,"INTB +"]
["F","SEST","CAZ",3,295873,"RICHET","Catherine",1999,49.25,"ES VILL LOUBET","F",-40,41,44,44,54,58,61,61,105,6.5,"INTB +",0,{"$f":"IF(I24=\"\",\"\",IF(A24=\"H\",IF(OR(H24=\"SEN\",H24<1995),VLOOKUP(I24,Feuil1!$A$11:$G$29,6),IF(AND(H24>1994,H24<1998),VLOOKUP(I24,Feuil1!$A$11:$G$29,5),IF(AND(H24>1997,H24<2000),VLOOKUP(I24,Feuil1!$A$11:$G$29,4),IF(AND(H24>1999,H24<2002),VLOOKUP(I24,Feuil1!$A$11:$G$29,3),VLOOKUP(I24,Feuil1!$A$11:$G$29,2))))),IF(OR(H24=\"SEN\",H24<1995),VLOOKUP(I24,Feuil1!$G$11:$L$25,6),IF(AND(H24>1994,H24<1998),VLOOKUP(I24,Feuil1!$G$11:$L$25,5),IF(AND(H24>1997,H24<2000),VLOOKUP(I24,Feuil1!$G$11:$L$25,4),IF(AND(H24>1999,H24<2002),VLOOKUP(I24,Feuil1!$G$11:$L$25,3),VLOOKUP(I24,Feuil1!$G$11:$L$25,2)))))))","v":"FC2 53"},168.3218511576965,null," ",{"$f":"T24-HLOOKUP(X24,Feuil1!$C$1:$BL$10,2,FALSE)","v":60},{"$f":"T24-HLOOKUP(X24,Feuil1!$C$1:$BL$10,3,FALSE)","v":50},{"$f":"T24-HLOOKUP(X24,Feuil1!$C$1:$BL$10,4,FALSE)","v":40},{"$f":"T24-HLOOKUP(X24,Feuil1!$C$1:$BL$10,5,FALSE)","v":30},{"$f":"T24-HLOOKUP(X24,Feuil1!$C$1:$BL$10,6,FALSE)","v":20},{"$f":"T24-HLOOKUP(X24,Feuil1!$C$1:$BL$10,7,FALSE)","v":10},{"$f":"T24-HLOOKUP(X24,Feuil1!$C$1:$BL$10,8,FALSE)","v":0},{"$f":"T24-HLOOKUP(X24,Feuil1!$C$1:$BL$10,9,FALSE)","v":-15},{"$f":"T24-HLOOKUP(X24,Feuil1!$C$1:$BL$10,10,FALSE)","v":-895},null,null,null,null,null,null,"INTB +"]
["F","SEST","CAZ",4,363002,"MAILLOT","Asia",1998,48.8,"ASLDD TOULON","F",40,43,-45,43,50,53,55,55,98,0.40000000000000568,"NAT +",3,{"$f":"IF(I25=\"\",\"\",IF(A25=\"H\",IF(OR(H25=\"SEN\",H25<1995),VLOOKUP(I25,Feuil1!$A$11:$G$29,6),IF(AND(H25>1994,H25<1998),VLOOKUP(I25,Feuil1!$A$11:$G$29,5),IF(AND(H25>1997,H25<2000),VLOOKUP(I25,Feuil1!$A$11:$G$29,4),IF(AND(H25>1999,H25<2002),VLOOKUP(I25,Feuil1!$A$11:$G$29,3),VLOOKUP(I25,Feuil1!$A$11:$G$29,2))))),IF(OR(H25=\"SEN\",H25<1995),VLOOKUP(I25,Feuil1!$G$11:$L$25,6),IF(AND(H25>1994,H25<1998),VLOOKUP(I25,Feuil1!$G$11:$L$25,5),IF(AND(H25>1997,H25<2000),VLOOKUP(I25,Feuil1!$G$11:$L$25,4),IF(AND(H25>1999,H25<2002),VLOOKUP(I25,Feuil1!$G$11:$L$25,3),VLOOKUP(I25,Feuil1!$G$11:$L$25,2)))))))","v":"FC2 53"},158.34724668216069,null," ",{"$f":"T25-HLOOKUP(X25,Feuil1!$C$1:$BL$10,2,FALSE)","v":53},{"$f":"T25-HLOOKUP(X25,Feuil1!$C$1:$BL$10,3,FALSE)","v":43},{"$f":"T25-HLOOKUP(X25,Feuil1!$C$1:$BL$10,4,FALSE)","v":33},{"$f":"T25-HLOOKUP(X25,Feuil1!$C$1:$BL$10,5,FALSE)","v":23},{"$f":"T25-HLOOKUP(X25,Feuil1!$C$1:$BL$10,6,FALSE)","v":13},{"$f":"T25-HLOOKUP(X25,Feuil1!$C$1:$BL$10,7,FALSE)","v":3},{"$f":"T25-HLOOKUP(X25,Feuil1!$C$1:$BL$10,8,FALSE)","v":-7},{"$f":"T25-HLOOKUP(X25,Feuil1!$C$1:$BL$10,9,FALSE)","v":-22},{"$f":"T25-HLOOKUP(X25,Feuil1!$C$1:$BL$10,10,FALSE)","v":-902},null,null,null,null,null,null,"NAT +"]
["F","SEST","RAL",5,392577,"TESTE","Flavie",1998,51.9,"SAINT MARCELLIN","F",-38,38,-43,38,55,58,60,60,98,-5.7999999999999972,"NAT +",3,{"$f":"IF(I26=\"\",\"\",IF(A26=\"H\",IF(OR(H26=\"SEN\",H26<1995),VLOOKUP(I26,Feuil1!$A$11:$G$29,6),IF(AND(H26>1994,H26<1998),VLOOKUP(I26,Feuil1!$A$11:$G$29,5),IF(AND(H26>1997,H26<2000),VLOOKUP(I26,Feuil1!$A$11:$G$29,4),IF(AND(H26>1999,H26<2002),VLOOKUP(I26,Feuil1!$A$11:$G$29,3),VLOOKUP(I26,Feuil1!$A$11:$G$29,2))))),IF(OR(H26=\"SEN\",H26<1995),VLOOKUP(I26,Feuil1!$G$11:$L$25,6),IF(AND(H26>1994,H26<1998),VLOOKUP(I26,Feuil1!$G$11:$L$25,5),IF(AND(H26>1997,H26<2000),VLOOKUP(I26,Feuil1!$G$11:$L$25,4),IF(AND(H26>1999,H26<2002),VLOOKUP(I26,Feuil1!$G$11:$L$25,3),VLOOKUP(I26,Feuil1!$G$11:$L$25,2)))))))","v":"FC2 53"},150.35602653474839,null," ",{"$f":"T26-HLOOKUP(X26,Feuil1!$C$1:$BL$10,2,FALSE)","v":53},{"$f":"T26-HLOOKUP(X26,Feuil1!$C$1:$BL$10,3,FALSE)","v":43},{"$f":"T26-HLOOKUP(X26,Feuil1!$C$1:$BL$10,4,FALSE)","v":33},{"$f":"T26-HLOOKUP(X26,Feuil1!$C$1:$BL$10,5,FALSE)","v":23},{"$f":"T26-HLOOKUP(X26,Feuil1!$C$1:$BL$10,6,FALSE)","v":13},{"$f":"T26-HLOOKUP(X26,Feuil1!$C$1:$BL$10,7,FALSE)","v":3},{"$f":"T26-HLOOKUP(X26,Feuil1!$C$1:$BL$10,8,FALSE)","v":-7},{"$f":"T26-HLOOKUP(X26,Feuil1!$C$1:$BL$10,9,FALSE)","v":-22},{"$f":"T26-HLOOKUP(X26,Feuil1!$C$1:$BL$10,10,FALSE)","v":-902},null,null,null,null,null,null,"NAT +"]
["F","N","PIC",6,326995,"BONNIERE","Priscillia",1999,52.93,"Villers-Bretonneux KC","F",40,43,-44,43,48,52,-55,52,95,-10.86,"NAT +",0,{"$f":"IF(I27=\"\",\"\",IF(A27=\"H\",IF(OR(H27=\"SEN\",H27<1995),VLOOKUP(I27,Feuil1!$A$11:$G$29,6),IF(AND(H27>1994,H27<1998),VLOOKUP(I27,Feuil1!$A$11:$G$29,5),IF(AND(H27>1997,H27<2000),VLOOKUP(I27,Feuil1!$A$11:$G$29,4),IF(AND(H27>1999,H27<2002),VLOOKUP(I27,Feuil1!$A$11:$G$29,3),VLOOKUP(I27,Feuil1!$A$11:$G$29,2))))),IF(OR(H27=\"SEN\",H27<1995),VLOOKUP(I27,Feuil1!$G$11:$L$25,6),IF(AND(H27>1994,H27<1998),VLOOKUP(I27,Feuil1!$G$11:$L$25,5),IF(AND(H27>1997,H27<2000),VLOOKUP(I27,Feuil1!$G$11:$L$25,4),IF(AND(H27>1999,H27<2002),VLOOKUP(I27,Feuil1!$G$11:$L$25,3),VLOOKUP(I27,Feuil1!$G$11:$L$25,2)))))))","v":"FC2 53"},143.45397947938741,null," ",{"$f":"T27-HLOOKUP(X27,Feuil1!$C$1:$BL$10,2,FALSE)","v":50},{"$f":"T27-HLOOKUP(X27,Feuil1!$C$1:$BL$10,3,FALSE)","v":40},{"$f":"T27-HLOOKUP(X27,Feuil1!$C$1:$BL$10,4,FALSE)","v":30},{"$f":"T27-HLOOKUP(X27,Feuil1!$C$1:$BL$10,5,FALSE)","v":20},{"$f":"T27-HLOOKUP(X27,Feuil1!$C$1:$BL$10,6,FALSE)","v":10},{"$f":"T27-HLOOKUP(X27,Feuil1!$C$1:$BL$10,7,FALSE)","v":0},{"$f":"T27-HLOOKUP(X27,Feuil1!$C$1:$BL$10,8,FALSE)","v":-10},{"$f":"T27-HLOOKUP(X27,Feuil1!$C$1:$BL$10,9,FALSE)","v":-25},{"$f":"T27-HLOOKUP(X27,Feuil1!$C$1:$BL$10,10,FALSE)","v":-905},null,null,null,null,null,null,"NAT +"]
["F","DOM","MAR",7,362590,"BOISFER","Priscilla",1999,50,"ABBC/Foyal Didier","F",34,38,-40,38,50,55,-58,55,93,-7,"FED +",8,{"$f":"IF(I28=\"\",\"\",IF(A28=\"H\",IF(OR(H28=\"SEN\",H28<1995),VLOOKUP(I28,Feuil1!$A$11:$G$29,6),IF(AND(H28>1994,H28<1998),VLOOKUP(I28,Feuil1!$A$11:$G$29,5),IF(AND(H28>1997,H28<2000),VLOOKUP(I28,Feuil1!$A$11:$G$29,4),IF(AND(H28>1999,H28<2002),VLOOKUP(I28,Feuil1!$A$11:$G$29,3),VLOOKUP(I28,Feuil1!$A$11:$G$29,2))))),IF(OR(H28=\"SEN\",H28<1995),VLOOKUP(I28,Feuil1!$G$11:$L$25,6),IF(AND(H28>1994,H28<1998),VLOOKUP(I28,Feuil1!$G$11:$L$25,5),IF(AND(H28>1997,H28<2000),VLOOKUP(I28,Feuil1!$G$11:$L$25,4),IF(AND(H28>1999,H28<2002),VLOOKUP(I28,Feuil1!$G$11:$L$25,3),VLOOKUP(I28,Feuil1!$G$11:$L$25,2)))))))","v":"FC2 53"},147.17814678526418,null," ",{"$f":"T28-HLOOKUP(X28,Feuil1!$C$1:$BL$10,2,FALSE)","v":48},{"$f":"T28-HLOOKUP(X28,Feuil1!$C$1:$BL$10,3,FALSE)","v":38},{"$f":"T28-HLOOKUP(X28,Feuil1!$C$1:$BL$10,4,FALSE)","v":28},{"$f":"T28-HLOOKUP(X28,Feuil1!$C$1:$BL$10,5,FALSE)","v":18},{"$f":"T28-HLOOKUP(X28,Feuil1!$C$1:$BL$10,6,FALSE)","v":8},{"$f":"T28-HLOOKUP(X28,Feuil1!$C$1:$BL$10,7,FALSE)","v":-2},{"$f":"T28-HLOOKUP(X28,Feuil1!$C$1:$BL$10,8,FALSE)","v":-12},{"$f":"T28-HLOOKUP(X28,Feuil1!$C$1:$BL$10,9,FALSE)","v":-27},{"$f":"T28-HLOOKUP(X28,Feuil1!$C$1:$BL$10,10,FALSE)","v":-907},null,null,null,null,null,null,"FED +"]
["F","CO","BNO",8,285369,"VILLENEUVE","Irys",1998,52.54,"Caen CHM","F",40,-43,-43,40,50,-55,-55,50,90,-15.079999999999998,"FED +",5,{"$f":"IF(I29=\"\",\"\",IF(A29=\"H\",IF(OR(H29=\"SEN\",H29<1995),VLOOKUP(I29,Feuil1!$A$11:$G$29,6),IF(AND(H29>1994,H29<1998),VLOOKUP(I29,Feuil1!$A$11:$G$29,5),IF(AND(H29>1997,H29<2000),VLOOKUP(I29,Feuil1!$A$11:$G$29,4),IF(AND(H29>1999,H29<2002),VLOOKUP(I29,Feuil1!$A$11:$G$29,3),VLOOKUP(I29,Feuil1!$A$11:$G$29,2))))),IF(OR(H29=\"SEN\",H29<1995),VLOOKUP(I29,Feuil1!$G$11:$L$25,6),IF(AND(H29>1994,H29<1998),VLOOKUP(I29,Feuil1!$G$11:$L$25,5),IF(AND(H29>1997,H29<2000),VLOOKUP(I29,Feuil1!$G$11:$L$25,4),IF(AND(H29>1999,H29<2002),VLOOKUP(I29,Feuil1!$G$11:$L$25,3),VLOOKUP(I29,Feuil1!$G$11:$L$25,2)))))))","v":"FC2 53"},136.71464291217478,null," ",{"$f":"T29-HLOOKUP(X29,Feuil1!$C$1:$BL$10,2,FALSE)","v":45},{"$f":"T29-HLOOKUP(X29,Feuil1!$C$1:$BL$10,3,FALSE)","v":35},{"$f":"T29-HLOOKUP(X29,Feuil1!$C$1:$BL$10,4,FALSE)","v":25},{"$f":"T29-HLOOKUP(X29,Feuil1!$C$1:$BL$10,5,FALSE)","v":15},{"$f":"T29-HLOOKUP(X29,Feuil1!$C$1:$BL$10,6,FALSE)","v":5},{"$f":"T29-HLOOKUP(X29,Feuil1!$C$1:$BL$10,7,FALSE)","v":-5},{"$f":"T29-HLOOKUP(X29,Feuil1!$C$1:$BL$10,8,FALSE)","v":-15},{"$f":"T29-HLOOKUP(X29,Feuil1!$C$1:$BL$10,9,FALSE)","v":-30},{"$f":"T29-HLOOKUP(X29,Feuil1!$C$1:$BL$10,10,FALSE)","v":-910},null,null,null,null,null,null,"FED +"]
["F","NE","ALS",9,381293,"FEILLARD","LEA",1998,49.5,"SR Obernai HM","F",30,33,-35,33,41,44,-46,44,77,-22,"IRG +",2,{"$f":"IF(I30=\"\",\"\",IF(A30=\"H\",IF(OR(H30=\"SEN\",H30<1995),VLOOKUP(I30,Feuil1!$A$11:$G$29,6),IF(AND(H30>1994,H30<1998),VLOOKUP(I30,Feuil1!$A$11:$G$29,5),IF(AND(H30>1997,H30<2000),VLOOKUP(I30,Feuil1!$A$11:$G$29,4),IF(AND(H30>1999,H30<2002),VLOOKUP(I30,Feuil1!$A$11:$G$29,3),VLOOKUP(I30,Feuil1!$A$11:$G$29,2))))),IF(OR(H30=\"SEN\",H30<1995),VLOOKUP(I30,Feuil1!$G$11:$L$25,6),IF(AND(H30>1994,H30<1998),VLOOKUP(I30,Feuil1!$G$11:$L$25,5),IF(AND(H30>1997,H30<2000),VLOOKUP(I30,Feuil1!$G$11:$L$25,4),IF(AND(H30>1999,H30<2002),VLOOKUP(I30,Feuil1!$G$11:$L$25,3),VLOOKUP(I30,Feuil1!$G$11:$L$25,2)))))))","v":"FC2 53"},122.90238268188894,null," ",{"$f":"T30-HLOOKUP(X30,Feuil1!$C$1:$BL$10,2,FALSE)","v":32},{"$f":"T30-HLOOKUP(X30,Feuil1!$C$1:$BL$10,3,FALSE)","v":22},{"$f":"T30-HLOOKUP(X30,Feuil1!$C$1:$BL$10,4,FALSE)","v":12},{"$f":"T30-HLOOKUP(X30,Feuil1!$C$1:$BL$10,5,FALSE)","v":2},{"$f":"T30-HLOOKUP(X30,Feuil1!$C$1:$BL$10,6,FALSE)","v":-8},{"$f":"T30-HLOOKUP(X30,Feuil1!$C$1:$BL$10,7,FALSE)","v":-18},{"$f":"T30-HLOOKUP(X30,Feuil1!$C$1:$BL$10,8,FALSE)","v":-28},{"$f":"T30-HLOOKUP(X30,Feuil1!$C$1:$BL$10,9,FALSE)","v":-43},{"$f":"T30-HLOOKUP(X30,Feuil1!$C$1:$BL$10,10,FALSE)","v":-923},null,null,null,null,null,null,"IRG +"]
["F","SO","MPY",10,375895,"CAUSSE","Lucie",1998,50.4,"PAMIERS HC","F",26,28,31,31,38,41,-44,41,72,-28.799999999999997,"REG +",7,{"$f":"IF(I31=\"\",\"\",IF(A31=\"H\",IF(OR(H31=\"SEN\",H31<1995),VLOOKUP(I31,Feuil1!$A$11:$G$29,6),IF(AND(H31>1994,H31<1998),VLOOKUP(I31,Feuil1!$A$11:$G$29,5),IF(AND(H31>1997,H31<2000),VLOOKUP(I31,Feuil1!$A$11:$G$29,4),IF(AND(H31>1999,H31<2002),VLOOKUP(I31,Feuil1!$A$11:$G$29,3),VLOOKUP(I31,Feuil1!$A$11:$G$29,2))))),IF(OR(H31=\"SEN\",H31<1995),VLOOKUP(I31,Feuil1!$G$11:$L$25,6),IF(AND(H31>1994,H31<1998),VLOOKUP(I31,Feuil1!$G$11:$L$25,5),IF(AND(H31>1997,H31<2000),VLOOKUP(I31,Feuil1!$G$11:$L$25,4),IF(AND(H31>1999,H31<2002),VLOOKUP(I31,Feuil1!$G$11:$L$25,3),VLOOKUP(I31,Feuil1!$G$11:$L$25,2)))))))","v":"FC2 53"},113.18175610377283,null," ",{"$f":"T31-HLOOKUP(X31,Feuil1!$C$1:$BL$10,2,FALSE)","v":27},{"$f":"T31-HLOOKUP(X31,Feuil1!$C$1:$BL$10,3,FALSE)","v":17},{"$f":"T31-HLOOKUP(X31,Feuil1!$C$1:$BL$10,4,FALSE)","v":7},{"$f":"T31-HLOOKUP(X31,Feuil1!$C$1:$BL$10,5,FALSE)","v":-3},{"$f":"T31-HLOOKUP(X31,Feuil1!$C$1:$BL$10,6,FALSE)","v":-13},{"$f":"T31-HLOOKUP(X31,Feuil1!$C$1:$BL$10,7,FALSE)","v":-23},{"$f":"T31-HLOOKUP(X31,Feuil1!$C$1:$BL$10,8,FALSE)","v":-33},{"$f":"T31-HLOOKUP(X31,Feuil1!$C$1:$BL$10,9,FALSE)","v":-48},{"$f":"T31-HLOOKUP(X31,Feuil1!$C$1:$BL$10,10,FALSE)","v":-928},null,null,null,null,null,null,"REG +"]
["F","CO","BNO",11,380061,"HELIE","Pauline",1998,52.2,"Stade St Lois","F",-27,27,30,30,37,-40,40,40,70,-34.400000000000006,"REG +",5,{"$f":"IF(I32=\"\",\"\",IF(A32=\"H\",IF(OR(H32=\"SEN\",H32<1995),VLOOKUP(I32,Feuil1!$A$11:$G$29,6),IF(AND(H32>1994,H32<1998),VLOOKUP(I32,Feuil1!$A$11:$G$29,5),IF(AND(H32>1997,H32<2000),VLOOKUP(I32,Feuil1!$A$11:$G$29,4),IF(AND(H32>1999,H32<2002),VLOOKUP(I32,Feuil1!$A$11:$G$29,3),VLOOKUP(I32,Feuil1!$A$11:$G$29,2))))),IF(OR(H32=\"SEN\",H32<1995),VLOOKUP(I32,Feuil1!$G$11:$L$25,6),IF(AND(H32>1994,H32<1998),VLOOKUP(I32,Feuil1!$G$11:$L$25,5),IF(AND(H32>1997,H32<2000),VLOOKUP(I32,Feuil1!$G$11:$L$25,4),IF(AND(H32>1999,H32<2002),VLOOKUP(I32,Feuil1!$G$11:$L$25,3),VLOOKUP(I32,Feuil1!$G$11:$L$25,2)))))))","v":"FC2 53"},106.89412180024371,null," ",{"$f":"T32-HLOOKUP(X32,Feuil1!$C$1:$BL$10,2,FALSE)","v":25},{"$f":"T32-HLOOKUP(X32,Feuil1!$C$1:$BL$10,3,FALSE)","v":15},{"$f":"T32-HLOOKUP(X32,Feuil1!$C$1:$BL$10,4,FALSE)","v":5},{"$f":"T32-HLOOKUP(X32,Feuil1!$C$1:$BL$10,5,FALSE)","v":-5},{"$f":"T32-HLOOKUP(X32,Feuil1!$C$1:$BL$10,6,FALSE)","v":-15},{"$f":"T32-HLOOKUP(X32,Feuil1!$C$1:$BL$10,7,FALSE)","v":-25},{"$f":"T32-HLOOKUP(X32,Feuil1!$C$1:$BL$10,8,FALSE)","v":-35},{"$f":"T32-HLOOKUP(X32,Feuil1!$C$1:$BL$10,9,FALSE)","v":-50},{"$f":"T32-HLOOKUP(X32,Feuil1!$C$1:$BL$10,10,FALSE)","v":-930},null,null,null,null,null,null,"REG +"]
["F","DOM","GUA",12,367888,"BOUDINE","Rémyka",1998,52,"AHCS/Pointois","F",25,30,32,32,30,35,37,37,69,-35,"REG +",4,{"$f":"IF(I33=\"\",\"\",IF(A33=\"H\",IF(OR(H33=\"SEN\",H33<1995),VLOOKUP(I33,Feuil1!$A$11:$G$29,6),IF(AND(H33>1994,H33<1998),VLOOKUP(I33,Feuil1!$A$11:$G$29,5),IF(AND(H33>1997,H33<2000),VLOOKUP(I33,Feuil1!$A$11:$G$29,4),IF(AND(H33>1999,H33<2002),VLOOKUP(I33,Feuil1!$A$11:$G$29,3),VLOOKUP(I33,Feuil1!$A$11:$G$29,2))))),IF(OR(H33=\"SEN\",H33<1995),VLOOKUP(I33,Feuil1!$G$11:$L$25,6),IF(AND(H33>1994,H33<1998),VLOOKUP(I33,Feuil1!$G$11:$L$25,5),IF(AND(H33>1997,H33<2000),VLOOKUP(I33,Feuil1!$G$11:$L$25,4),IF(AND(H33>1999,H33<2002),VLOOKUP(I33,Feuil1!$G$11:$L$25,3),VLOOKUP(I33,Feuil1!$G$11:$L$25,2)))))))","v":"FC2 53"},105.69675098226604,null," ",{"$f":"T33-HLOOKUP(X33,Feuil1!$C$1:$BL$10,2,FALSE)","v":24},{"$f":"T33-HLOOKUP(X33,Feuil1!$C$1:$BL$10,3,FALSE)","v":14},{"$f":"T33-HLOOKUP(X33,Feuil1!$C$1:$BL$10,4,FALSE)","v":4},{"$f":"T33-HLOOKUP(X33,Feuil1!$C$1:$BL$10,5,FALSE)","v":-6},{"$f":"T33-HLOOKUP(X33,Feuil1!$C$1:$BL$10,6,FALSE)","v":-16},{"$f":"T33-HLOOKUP(X33,Feuil1!$C$1:$BL$10,7,FALSE)","v":-26},{"$f":"T33-HLOOKUP(X33,Feuil1!$C$1:$BL$10,8,FALSE)","v":-36},{"$f":"T33-HLOOKUP(X33,Feuil1!$C$1:$BL$10,9,FALSE)","v":-51},{"$f":"T33-HLOOKUP(X33,Feuil1!$C$1:$BL$10,10,FALSE)","v":-931},null,null,null,null,null,null,"REG +"]
["F","CO","BNO",13,306045,"Gaultier","Esther",1999,48.6,"Saint-Lô","F",25,28,30,30,32,35,-38,35,65,-32.200000000000003,"REG +",0,{"$f":"IF(I34=\"\",\"\",IF(A34=\"H\",IF(OR(H34=\"SEN\",H34<1995),VLOOKUP(I34,Feuil1!$A$11:$G$29,6),IF(AND(H34>1994,H34<1998),VLOOKUP(I34,Feuil1!$A$11:$G$29,5),IF(AND(H34>1997,H34<2000),VLOOKUP(I34,Feuil1!$A$11:$G$29,4),IF(AND(H34>1999,H34<2002),VLOOKUP(I34,Feuil1!$A$11:$G$29,3),VLOOKUP(I34,Feuil1!$A$11:$G$29,2))))),IF(OR(H34=\"SEN\",H34<1995),VLOOKUP(I34,Feuil1!$G$11:$L$25,6),IF(AND(H34>1994,H34<1998),VLOOKUP(I34,Feuil1!$G$11:$L$25,5),IF(AND(H34>1997,H34<2000),VLOOKUP(I34,Feuil1!$G$11:$L$25,4),IF(AND(H34>1999,H34<2002),VLOOKUP(I34,Feuil1!$G$11:$L$25,3),VLOOKUP(I34,Feuil1!$G$11:$L$25,2)))))))","v":"FC2 53"},105.40060173268549,null," ",{"$f":"T34-HLOOKUP(X34,Feuil1!$C$1:$BL$10,2,FALSE)","v":20},{"$f":"T34-HLOOKUP(X34,Feuil1!$C$1:$BL$10,3,FALSE)","v":10},{"$f":"T34-HLOOKUP(X34,Feuil1!$C$1:$BL$10,4,FALSE)","v":0},{"$f":"T34-HLOOKUP(X34,Feuil1!$C$1:$BL$10,5,FALSE)","v":-10},{"$f":"T34-HLOOKUP(X34,Feuil1!$C$1:$BL$10,6,FALSE)","v":-20},{"$f":"T34-HLOOKUP(X34,Feuil1!$C$1:$BL$10,7,FALSE)","v":-30},{"$f":"T34-HLOOKUP(X34,Feuil1!$C$1:$BL$10,8,FALSE)","v":-40},{"$f":"T34-HLOOKUP(X34,Feuil1!$C$1:$BL$10,9,FALSE)","v":-55},{"$f":"T34-HLOOKUP(X34,Feuil1!$C$1:$BL$10,10,FALSE)","v":-935},null,null,null,null,null,null,"REG +"]
["F","N","PIC",14,378364,"LHERBIEZ","Amandine",1999,48.2,"Villers-Bretonneux KC","F",-22,24,27,27,32,35,-38,35,62,-34.400000000000006,"DEP +",7,{"$f":"IF(I35=\"\",\"\",IF(A35=\"H\",IF(OR(H35=\"SEN\",H35<1995),VLOOKUP(I35,Feuil1!$A$11:$G$29,6),IF(AND(H35>1994,H35<1998),VLOOKUP(I35,Feuil1!$A$11:$G$29,5),IF(AND(H35>1997,H35<2000),VLOOKUP(I35,Feuil1!$A$11:$G$29,4),IF(AND(H35>1999,H35<2002),VLOOKUP(I35,Feuil1!$A$11:$G$29,3),VLOOKUP(I35,Feuil1!$A$11:$G$29,2))))),IF(OR(H35=\"SEN\",H35<1995),VLOOKUP(I35,Feuil1!$G$11:$L$25,6),IF(AND(H35>1994,H35<1998),VLOOKUP(I35,Feuil1!$G$11:$L$25,5),IF(AND(H35>1997,H35<2000),VLOOKUP(I35,Feuil1!$G$11:$L$25,4),IF(AND(H35>1999,H35<2002),VLOOKUP(I35,Feuil1!$G$11:$L$25,3),VLOOKUP(I35,Feuil1!$G$11:$L$25,2)))))))","v":"FC2 53"},101.26246192793865,null," ",{"$f":"T35-HLOOKUP(X35,Feuil1!$C$1:$BL$10,2,FALSE)","v":17},{"$f":"T35-HLOOKUP(X35,Feuil1!$C$1:$BL$10,3,FALSE)","v":7},{"$f":"T35-HLOOKUP(X35,Feuil1!$C$1:$BL$10,4,FALSE)","v":-3},{"$f":"T35-HLOOKUP(X35,Feuil1!$C$1:$BL$10,5,FALSE)","v":-13},{"$f":"T35-HLOOKUP(X35,Feuil1!$C$1:$BL$10,6,FALSE)","v":-23},{"$f":"T35-HLOOKUP(X35,Feuil1!$C$1:$BL$10,7,FALSE)","v":-33},{"$f":"T35-HLOOKUP(X35,Feuil1!$C$1:$BL$10,8,FALSE)","v":-43},{"$f":"T35-HLOOKUP(X35,Feuil1!$C$1:$BL$10,9,FALSE)","v":-58},{"$f":"T35-HLOOKUP(X35,Feuil1!$C$1:$BL$10,10,FALSE)","v":-938},null,null,null,null,null,null,"DEP +"]
["F","SEST","PRO",15,312868,"BENJABEUR","Rim",1998,50.8,"EEAR MONTEUX","F",20,24,26,26,28,32,35,35,61,-40.599999999999994,"DEP +",6,{"$f":"IF(I36=\"\",\"\",IF(A36=\"H\",IF(OR(H36=\"SEN\",H36<1995),VLOOKUP(I36,Feuil1!$A$11:$G$29,6),IF(AND(H36>1994,H36<1998),VLOOKUP(I36,Feuil1!$A$11:$G$29,5),IF(AND(H36>1997,H36<2000),VLOOKUP(I36,Feuil1!$A$11:$G$29,4),IF(AND(H36>1999,H36<2002),VLOOKUP(I36,Feuil1!$A$11:$G$29,3),VLOOKUP(I36,Feuil1!$A$11:$G$29,2))))),IF(OR(H36=\"SEN\",H36<1995),VLOOKUP(I36,Feuil1!$G$11:$L$25,6),IF(AND(H36>1994,H36<1998),VLOOKUP(I36,Feuil1!$G$11:$L$25,5),IF(AND(H36>1997,H36<2000),VLOOKUP(I36,Feuil1!$G$11:$L$25,4),IF(AND(H36>1999,H36<2002),VLOOKUP(I36,Feuil1!$G$11:$L$25,3),VLOOKUP(I36,Feuil1!$G$11:$L$25,2)))))))","v":"FC2 53"},95.258032602553612,null," ",{"$f":"T36-HLOOKUP(X36,Feuil1!$C$1:$BL$10,2,FALSE)","v":16},{"$f":"T36-HLOOKUP(X36,Feuil1!$C$1:$BL$10,3,FALSE)","v":6},{"$f":"T36-HLOOKUP(X36,Feuil1!$C$1:$BL$10,4,FALSE)","v":-4},{"$f":"T36-HLOOKUP(X36,Feuil1!$C$1:$BL$10,5,FALSE)","v":-14},{"$f":"T36-HLOOKUP(X36,Feuil1!$C$1:$BL$10,6,FALSE)","v":-24},{"$f":"T36-HLOOKUP(X36,Feuil1!$C$1:$BL$10,7,FALSE)","v":-34},{"$f":"T36-HLOOKUP(X36,Feuil1!$C$1:$BL$10,8,FALSE)","v":-44},{"$f":"T36-HLOOKUP(X36,Feuil1!$C$1:$BL$10,9,FALSE)","v":-59},{"$f":"T36-HLOOKUP(X36,Feuil1!$C$1:$BL$10,10,FALSE)","v":-939},null,null,null,null,null,null,"DEP +"]
["F","N","PIC",16,378361,"CHARRAUD","Manon",1998,52.52,"Villers-Bretonneux KC","F",22,25,-27,25,32,36,-40,36,61,-44.040000000000006,"DEP +",6,{"$f":"IF(I37=\"\",\"\",IF(A37=\"H\",IF(OR(H37=\"SEN\",H37<1995),VLOOKUP(I37,Feuil1!$A$11:$G$29,6),IF(AND(H37>1994,H37<1998),VLOOKUP(I37,Feuil1!$A$11:$G$29,5),IF(AND(H37>1997,H37<2000),VLOOKUP(I37,Feuil1!$A$11:$G$29,4),IF(AND(H37>1999,H37<2002),VLOOKUP(I37,Feuil1!$A$11:$G$29,3),VLOOKUP(I37,Feuil1!$A$11:$G$29,2))))),IF(OR(H37=\"SEN\",H37<1995),VLOOKUP(I37,Feuil1!$G$11:$L$25,6),IF(AND(H37>1994,H37<1998),VLOOKUP(I37,Feuil1!$G$11:$L$25,5),IF(AND(H37>1997,H37<2000),VLOOKUP(I37,Feuil1!$G$11:$L$25,4),IF(AND(H37>1999,H37<2002),VLOOKUP(I37,Feuil1!$G$11:$L$25,3),VLOOKUP(I37,Feuil1!$G$11:$L$25,2)))))))","v":"FC2 53"},92.690636434056515,null," ",{"$f":"T37-HLOOKUP(X37,Feuil1!$C$1:$BL$10,2,FALSE)","v":16},{"$f":"T37-HLOOKUP(X37,Feuil1!$C$1:$BL$10,3,FALSE)","v":6},{"$f":"T37-HLOOKUP(X37,Feuil1!$C$1:$BL$10,4,FALSE)","v":-4},{"$f":"T37-HLOOKUP(X37,Feuil1!$C$1:$BL$10,5,FALSE)","v":-14},{"$f":"T37-HLOOKUP(X37,Feuil1!$C$1:$BL$10,6,FALSE)","v":-24},{"$f":"T37-HLOOKUP(X37,Feuil1!$C$1:$BL$10,7,FALSE)","v":-34},{"$f":"T37-HLOOKUP(X37,Feuil1!$C$1:$BL$10,8,FALSE)","v":-44},{"$f":"T37-HLOOKUP(X37,Feuil1!$C$1:$BL$10,9,FALSE)","v":-59},{"$f":"T37-HLOOKUP(X37,Feuil1!$C$1:$BL$10,10,FALSE)","v":-939},null,null,null,null,null,null,"DEP +"]
["F","SEST","RAL",17,391553,"FLASSEUR","Amélie",1998,52.6,"SAINT MARCELLIN","F",-25,25,27,27,30,34,-37,34,61,-44.2,"DEP +",6,{"$f":"IF(I38=\"\",\"\",IF(A38=\"H\",IF(OR(H38=\"SEN\",H38<1995),VLOOKUP(I38,Feuil1!$A$11:$G$29,6),IF(AND(H38>1994,H38<1998),VLOOKUP(I38,Feuil1!$A$11:$G$29,5),IF(AND(H38>1997,H38<2000),VLOOKUP(I38,Feuil1!$A$11:$G$29,4),IF(AND(H38>1999,H38<2002),VLOOKUP(I38,Feuil1!$A$11:$G$29,3),VLOOKUP(I38,Feuil1!$A$11:$G$29,2))))),IF(OR(H38=\"SEN\",H38<1995),VLOOKUP(I38,Feuil1!$G$11:$L$25,6),IF(AND(H38>1994,H38<1998),VLOOKUP(I38,Feuil1!$G$11:$L$25,5),IF(AND(H38>1997,H38<2000),VLOOKUP(I38,Feuil1!$G$11:$L$25,4),IF(AND(H38>1999,H38<2002),VLOOKUP(I38,Feuil1!$G$11:$L$25,3),VLOOKUP(I38,Feuil1!$G$11:$L$25,2)))))))","v":"FC2 53"},92.576858300753059,null," ",{"$f":"T38-HLOOKUP(X38,Feuil1!$C$1:$BL$10,2,FALSE)","v":16},{"$f":"T38-HLOOKUP(X38,Feuil1!$C$1:$BL$10,3,FALSE)","v":6},{"$f":"T38-HLOOKUP(X38,Feuil1!$C$1:$BL$10,4,FALSE)","v":-4},{"$f":"T38-HLOOKUP(X38,Feuil1!$C$1:$BL$10,5,FALSE)","v":-14},{"$f":"T38-HLOOKUP(X38,Feuil1!$C$1:$BL$10,6,FALSE)","v":-24},{"$f":"T38-HLOOKUP(X38,Feuil1!$C$1:$BL$10,7,FALSE)","v":-34},{"$f":"T38-HLOOKUP(X38,Feuil1!$C$1:$BL$10,8,FALSE)","v":-44},{"$f":"T38-HLOOKUP(X38,Feuil1!$C$1:$BL$10,9,FALSE)","v":-59},{"$f":"T38-HLOOKUP(X38,Feuil1!$C$1:$BL$10,10,FALSE)","v":-939},null,null,null,null,null,null,"DEP +"]
["F","SEST","RAL",18,364637,"GIRMA","Lucile",1998,50.8,"CH Arbresle","F",18,21,23,23,28,31,34,34,57,-44.599999999999994,"DEP +",2,{"$f":"IF(I39=\"\",\"\",IF(A39=\"H\",IF(OR(H39=\"SEN\",H39<1995),VLOOKUP(I39,Feuil1!$A$11:$G$29,6),IF(AND(H39>1994,H39<1998),VLOOKUP(I39,Feuil1!$A$11:$G$29,5),IF(AND(H39>1997,H39<2000),VLOOKUP(I39,Feuil1!$A$11:$G$29,4),IF(AND(H39>1999,H39<2002),VLOOKUP(I39,Feuil1!$A$11:$G$29,3),VLOOKUP(I39,Feuil1!$A$11:$G$29,2))))),IF(OR(H39=\"SEN\",H39<1995),VLOOKUP(I39,Feuil1!$G$11:$L$25,6),IF(AND(H39>1994,H39<1998),VLOOKUP(I39,Feuil1!$G$11:$L$25,5),IF(AND(H39>1997,H39<2000),VLOOKUP(I39,Feuil1!$G$11:$L$25,4),IF(AND(H39>1999,H39<2002),VLOOKUP(I39,Feuil1!$G$11:$L$25,3),VLOOKUP(I39,Feuil1!$G$11:$L$25,2)))))))","v":"FC2 53"},89.011604235173053,null," ",{"$f":"T39-HLOOKUP(X39,Feuil1!$C$1:$BL$10,2,FALSE)","v":12},{"$f":"T39-HLOOKUP(X39,Feuil1!$C$1:$BL$10,3,FALSE)","v":2},{"$f":"T39-HLOOKUP(X39,Feuil1!$C$1:$BL$10,4,FALSE)","v":-8},{"$f":"T39-HLOOKUP(X39,Feuil1!$C$1:$BL$10,5,FALSE)","v":-18},{"$f":"T39-HLOOKUP(X39,Feuil1!$C$1:$BL$10,6,FALSE)","v":-28},{"$f":"T39-HLOOKUP(X39,Feuil1!$C$1:$BL$10,7,FALSE)","v":-38},{"$f":"T39-HLOOKUP(X39,Feuil1!$C$1:$BL$10,8,FALSE)","v":-48},{"$f":"T39-HLOOKUP(X39,Feuil1!$C$1:$BL$10,9,FALSE)","v":-63},{"$f":"T39-HLOOKUP(X39,Feuil1!$C$1:$BL$10,10,FALSE)","v":-943},null,null,null,null,null,null,"DEP +"]
["F","NE","ALS",19,381287,"NEBOIT","Zoé",1999,52.2,"SR Obernai HM","F",21,23,-25,23,27,30,33,33,56,-48.400000000000006,"DEP +",1,{"$f":"IF(I40=\"\",\"\",IF(A40=\"H\",IF(OR(H40=\"SEN\",H40<1995),VLOOKUP(I40,Feuil1!$A$11:$G$29,6),IF(AND(H40>1994,H40<1998),VLOOKUP(I40,Feuil1!$A$11:$G$29,5),IF(AND(H40>1997,H40<2000),VLOOKUP(I40,Feuil1!$A$11:$G$29,4),IF(AND(H40>1999,H40<2002),VLOOKUP(I40,Feuil1!$A$11:$G$29,3),VLOOKUP(I40,Feuil1!$A$11:$G$29,2))))),IF(OR(H40=\"SEN\",H40<1995),VLOOKUP(I40,Feuil1!$G$11:$L$25,6),IF(AND(H40>1994,H40<1998),VLOOKUP(I40,Feuil1!$G$11:$L$25,5),IF(AND(H40>1997,H40<2000),VLOOKUP(I40,Feuil1!$G$11:$L$25,4),IF(AND(H40>1999,H40<2002),VLOOKUP(I40,Feuil1!$G$11:$L$25,3),VLOOKUP(I40,Feuil1!$G$11:$L$25,2)))))))","v":"FC2 53"},85.515297440194971,null," ",{"$f":"T40-HLOOKUP(X40,Feuil1!$C$1:$BL$10,2,FALSE)","v":11},{"$f":"T40-HLOOKUP(X40,Feuil1!$C$1:$BL$10,3,FALSE)","v":1},{"$f":"T40-HLOOKUP(X40,Feuil1!$C$1:$BL$10,4,FALSE)","v":-9},{"$f":"T40-HLOOKUP(X40,Feuil1!$C$1:$BL$10,5,FALSE)","v":-19},{"$f":"T40-HLOOKUP(X40,Feuil1!$C$1:$BL$10,6,FALSE)","v":-29},{"$f":"T40-HLOOKUP(X40,Feuil1!$C$1:$BL$10,7,FALSE)","v":-39},{"$f":"T40-HLOOKUP(X40,Feuil1!$C$1:$BL$10,8,FALSE)","v":-49},{"$f":"T40-HLOOKUP(X40,Feuil1!$C$1:$BL$10,9,FALSE)","v":-64},{"$f":"T40-HLOOKUP(X40,Feuil1!$C$1:$BL$10,10,FALSE)","v":-944},null,null,null,null,null,null,"DEP +"]
["F","NE","ALS",20,381286,"BALLANB SCHMIDT","Zoé",1998,50.2,"SR Obernai HM","F",20,-22,-22,20,-25,25,28,28,48,-52.400000000000006,"DEB ",3,{"$f":"IF(I41=\"\",\"\",IF(A41=\"H\",IF(OR(H41=\"SEN\",H41<1995),VLOOKUP(I41,Feuil1!$A$11:$G$29,6),IF(AND(H41>1994,H41<1998),VLOOKUP(I41,Feuil1!$A$11:$G$29,5),IF(AND(H41>1997,H41<2000),VLOOKUP(I41,Feuil1!$A$11:$G$29,4),IF(AND(H41>1999,H41<2002),VLOOKUP(I41,Feuil1!$A$11:$G$29,3),VLOOKUP(I41,Feuil1!$A$11:$G$29,2))))),IF(OR(H41=\"SEN\",H41<1995),VLOOKUP(I41,Feuil1!$G$11:$L$25,6),IF(AND(H41>1994,H41<1998),VLOOKUP(I41,Feuil1!$G$11:$L$25,5),IF(AND(H41>1997,H41<2000),VLOOKUP(I41,Feuil1!$G$11:$L$25,4),IF(AND(H41>1999,H41<2002),VLOOKUP(I41,Feuil1!$G$11:$L$25,3),VLOOKUP(I41,Feuil1!$G$11:$L$25,2)))))))","v":"FC2 53"},75.707307844271526,null," ",{"$f":"T41-HLOOKUP(X41,Feuil1!$C$1:$BL$10,2,FALSE)","v":3},{"$f":"T41-HLOOKUP(X41,Feuil1!$C$1:$BL$10,3,FALSE)","v":-7},{"$f":"T41-HLOOKUP(X41,Feuil1!$C$1:$BL$10,4,FALSE)","v":-17},{"$f":"T41-HLOOKUP(X41,Feuil1!$C$1:$BL$10,5,FALSE)","v":-27},{"$f":"T41-HLOOKUP(X41,Feuil1!$C$1:$BL$10,6,FALSE)","v":-37},{"$f":"T41-HLOOKUP(X41,Feuil1!$C$1:$BL$10,7,FALSE)","v":-47},{"$f":"T41-HLOOKUP(X41,Feuil1!$C$1:$BL$10,8,FALSE)","v":-57},{"$f":"T41-HLOOKUP(X41,Feuil1!$C$1:$BL$10,9,FALSE)","v":-72},{"$f":"T41-HLOOKUP(X41,Feuil1!$C$1:$BL$10,10,FALSE)","v":-952},null,null,null,null,null,null,"DEB "]
[null,null,null,null,null,null,null,null,null,null,null,null,null,null,null,null,null,null,null,null,null,null,null,null,null,null," ",{"$f":"T42-HLOOKUP(X42,Feuil1!$C$1:$BL$10,2,FALSE)","v":{"$error":"#N/A"}},{"$f":"T42-HLOOKUP(X42,Feuil1!$C$1:$BL$10,3,FALSE)","v":{"$error":"#N/A"}},{"$f":"T42-HLOOKUP(X42,Feuil1!$C$1:$BL$10,4,FALSE)","v":{"$error":"#N/A"}},{"$f":"T42-HLOOKUP(X42,Feuil1!$C$1:$BL$10,5,FALSE)","v":{"$error":"#N/A"}},{"$f":"T42-HLOOKUP(X42,Feuil1!$C$1:$BL$10,6,FALSE)","v":{"$error":"#N/A"}},{"$f":"T42-HLOOKUP(X42,Feuil1!$C$1:$BL$10,7,FALSE)","v":{"$error":"#N/A"}},{"$f":"T42-HLOOKUP(X42,Feuil1!$C$1:$BL$10,8,FALSE)","v":{"$error":"#N/A"}},{"$f":"T42-HLOOKUP(X42,Feuil1!$C$1:$BL$10,9,FALSE)","v":{"$error":"#N/A"}},{"$f":"T42-HLOOKUP(X42,Feuil1!$C$1:$BL$10,10,FALSE)","v":{"$error":"#N/A"}},null,null,null,null,null,null,{"$f":"IF(AJ42>=0,$AJ$4,IF(AI42>=0,$AI$4,IF(AH42>=0,$AH$4,IF(AG42>=0,$AG$4,IF(AF42>=0,$AF$4,IF(AE42>=0,$AE$4,IF(AD42>=0,$AD$4,IF(AC42>=0,$AC$4,$AB$4))))))))","v":{"$error":"#N/A"}}]
["F","N","PIC",1,260923,"ARNOULD","Lutricia",1998,57.9,"Villers-Bretonneux KC","F",54,57,59,{"$f":"IF(H43=\"\",\"\",IF(MAXA(L43:N43)<=0,0,MAXA(L43:N43)))","v":59},70,73,75,{"$f":"IF(H43=\"\",\"\",IF(MAXA(P43:R43)<=0,0,MAXA(P43:R43)))","v":75},{"$f":"IF(H43=\"\",\"\",IF(OR(O43=0,S43=0),0,O43+S43))","v":134},{"$f":"T43-I43*2","v":18.200000000000003},{"$f":"IF(H43=\"\",\"\",AQ43)","v":"INTA +"},{"$f":"IF(AJ43>=0,AJ43,IF(AI43>=0,AI43,IF(AH43>=0,AH43,IF(AG43>=0,AG43,IF(AF43>=0,AF43,IF(AE43>=0,AE43,IF(AD43>=0,AD43,IF(AC43>=0,AC43,AB43))))))))","v":4},{"$f":"IF(I43=\"\",\"\",IF(A43=\"H\",IF(OR(H43=\"SEN\",H43<1995),VLOOKUP(I43,Feuil1!$A$11:$G$29,6),IF(AND(H43>1994,H43<1998),VLOOKUP(I43,Feuil1!$A$11:$G$29,5),IF(AND(H43>1997,H43<2000),VLOOKUP(I43,Feuil1!$A$11:$G$29,4),IF(AND(H43>1999,H43<2002),VLOOKUP(I43,Feuil1!$A$11:$G$29,3),VLOOKUP(I43,Feuil1!$A$11:$G$29,2))))),IF(OR(H43=\"SEN\",H43<1995),VLOOKUP(I43,Feuil1!$G$11:$L$25,6),IF(AND(H43>1994,H43<1998),VLOOKUP(I43,Feuil1!$G$11:$L$25,5),IF(AND(H43>1997,H43<2000),VLOOKUP(I43,Feuil1!$G$11:$L$25,4),IF(AND(H43>1999,H43<2002),VLOOKUP(I43,Feuil1!$G$11:$L$25,3),VLOOKUP(I43,Feuil1!$G$11:$L$25,2)))))))","v":"FC2 58"},{"$f":"IF(I43=\"\",\"\",IF(A43=\"H\",10^(0.794358141*LOG(I43/174.393)^2)*T43,IF(A43=\"F\",10^(0.89726074*LOG(I43/148.026)^2)*T43,\"\")))","v":188.89356718821011},null," ",{"$f":"T43-HLOOKUP(X43,Feuil1!$C$1:$BL$10,2,FALSE)","v":84},{"$f":"T43-HLOOKUP(X43,Feuil1!$C$1:$BL$10,3,FALSE)","v":74},{"$f":"T43-HLOOKUP(X43,Feuil1!$C$1:$BL$10,4,FALSE)","v":64},{"$f":"T43-HLOOKUP(X43,Feuil1!$C$1:$BL$10,5,FALSE)","v":54},{"$f":"T43-HLOOKUP(X43,Feuil1!$C$1:$BL$10,6,FALSE)","v":44},{"$f":"T43-HLOOKUP(X43,Feuil1!$C$1:$BL$10,7,FALSE)","v":34},{"$f":"T43-HLOOKUP(X43,Feuil1!$C$1:$BL$10,8,FALSE)","v":19},{"$f":"T43-HLOOKUP(X43,Feuil1!$C$1:$BL$10,9,FALSE)","v":4},{"$f":"T43-HLOOKUP(X43,Feuil1!$C$1:$BL$10,10,FALSE)","v":-866},null,null,null,null,null,null,{"$f":"IF(AJ43>=0,$AJ$4,IF(AI43>=0,$AI$4,IF(AH43>=0,$AH$4,IF(AG43>=0,$AG$4,IF(AF43>=0,$AF$4,IF(AE43>=0,$AE$4,IF(AD43>=0,$AD$4,IF(AC43>=0,$AC$4,$AB$4))))))))","v":"INTA +"}]
["F","DOM","MAR",2,286912,"KICHENAMA","Clara",1999,57.5,"ABBC/Foyal Didier","F",40,45,-48,45,55,60,-65,60,105,-10,"NAT +",5,{"$f":"IF(I44=\"\",\"\",IF(A44=\"H\",IF(OR(H44=\"SEN\",H44<1995),VLOOKUP(I44,Feuil1!$A$11:$G$29,6),IF(AND(H44>1994,H44<1998),VLOOKUP(I44,Feuil1!$A$11:$G$29,5),IF(AND(H44>1997,H44<2000),VLOOKUP(I44,Feuil1!$A$11:$G$29,4),IF(AND(H44>1999,H44<2002),VLOOKUP(I44,Feuil1!$A$11:$G$29,3),VLOOKUP(I44,Feuil1!$A$11:$G$29,2))))),IF(OR(H44=\"SEN\",H44<1995),VLOOKUP(I44,Feuil1!$G$11:$L$25,6),IF(AND(H44>1994,H44<1998),VLOOKUP(I44,Feuil1!$G$11:$L$25,5),IF(AND(H44>1997,H44<2000),VLOOKUP(I44,Feuil1!$G$11:$L$25,4),IF(AND(H44>1999,H44<2002),VLOOKUP(I44,Feuil1!$G$11:$L$25,3),VLOOKUP(I44,Feuil1!$G$11:$L$25,2)))))))","v":"FC2 58"},148.76895227899516,null," ",{"$f":"T44-HLOOKUP(X44,Feuil1!$C$1:$BL$10,2,FALSE)","v":55},{"$f":"T44-HLOOKUP(X44,Feuil1!$C$1:$BL$10,3,FALSE)","v":45},{"$f":"T44-HLOOKUP(X44,Feuil1!$C$1:$BL$10,4,FALSE)","v":35},{"$f":"T44-HLOOKUP(X44,Feuil1!$C$1:$BL$10,5,FALSE)","v":25},{"$f":"T44-HLOOKUP(X44,Feuil1!$C$1:$BL$10,6,FALSE)","v":15},{"$f":"T44-HLOOKUP(X44,Feuil1!$C$1:$BL$10,7,FALSE)","v":5},{"$f":"T44-HLOOKUP(X44,Feuil1!$C$1:$BL$10,8,FALSE)","v":-10},{"$f":"T44-HLOOKUP(X44,Feuil1!$C$1:$BL$10,9,FALSE)","v":-25},{"$f":"T44-HLOOKUP(X44,Feuil1!$C$1:$BL$10,10,FALSE)","v":-895},null,null,null,null,null,null,"NAT +"]
["F","N","NPC",3,208590,"HOUZE","Océne",1998,57.99,"CHCD COMINES","F",43,45,47,47,53,56,-60,56,103,-12.980000000000004,"NAT +",3,{"$f":"IF(I45=\"\",\"\",IF(A45=\"H\",IF(OR(H45=\"SEN\",H45<1995),VLOOKUP(I45,Feuil1!$A$11:$G$29,6),IF(AND(H45>1994,H45<1998),VLOOKUP(I45,Feuil1!$A$11:$G$29,5),IF(AND(H45>1997,H45<2000),VLOOKUP(I45,Feuil1!$A$11:$G$29,4),IF(AND(H45>1999,H45<2002),VLOOKUP(I45,Feuil1!$A$11:$G$29,3),VLOOKUP(I45,Feuil1!$A$11:$G$29,2))))),IF(OR(H45=\"SEN\",H45<1995),VLOOKUP(I45,Feuil1!$G$11:$L$25,6),IF(AND(H45>1994,H45<1998),VLOOKUP(I45,Feuil1!$G$11:$L$25,5),IF(AND(H45>1997,H45<2000),VLOOKUP(I45,Feuil1!$G$11:$L$25,4),IF(AND(H45>1999,H45<2002),VLOOKUP(I45,Feuil1!$G$11:$L$25,3),VLOOKUP(I45,Feuil1!$G$11:$L$25,2)))))))","v":"FC2 58"},145.02956252053252,null," ",{"$f":"T45-HLOOKUP(X45,Feuil1!$C$1:$BL$10,2,FALSE)","v":53},{"$f":"T45-HLOOKUP(X45,Feuil1!$C$1:$BL$10,3,FALSE)","v":43},{"$f":"T45-HLOOKUP(X45,Feuil1!$C$1:$BL$10,4,FALSE)","v":33},{"$f":"T45-HLOOKUP(X45,Feuil1!$C$1:$BL$10,5,FALSE)","v":23},{"$f":"T45-HLOOKUP(X45,Feuil1!$C$1:$BL$10,6,FALSE)","v":13},{"$f":"T45-HLOOKUP(X45,Feuil1!$C$1:$BL$10,7,FALSE)","v":3},{"$f":"T45-HLOOKUP(X45,Feuil1!$C$1:$BL$10,8,FALSE)","v":-12},{"$f":"T45-HLOOKUP(X45,Feuil1!$C$1:$BL$10,9,FALSE)","v":-27},{"$f":"T45-HLOOKUP(X45,Feuil1!$C$1:$BL$10,10,FALSE)","v":-897},null,null,null,null,null,null,"NAT +"]
["F","N","NPC",4,280129,"BOUDRAHEM","Inès",1999,56.6,"ST POL SUR MER","F",40,43,-45,43,50,55,57,57,100,-13.200000000000003,"NAT +",0,{"$f":"IF(I46=\"\",\"\",IF(A46=\"H\",IF(OR(H46=\"SEN\",H46<1995),VLOOKUP(I46,Feuil1!$A$11:$G$29,6),IF(AND(H46>1994,H46<1998),VLOOKUP(I46,Feuil1!$A$11:$G$29,5),IF(AND(H46>1997,H46<2000),VLOOKUP(I46,Feuil1!$A$11:$G$29,4),IF(AND(H46>1999,H46<2002),VLOOKUP(I46,Feuil1!$A$11:$G$29,3),VLOOKUP(I46,Feuil1!$A$11:$G$29,2))))),IF(OR(H46=\"SEN\",H46<1995),VLOOKUP(I46,Feuil1!$G$11:$L$25,6),IF(AND(H46>1994,H46<1998),VLOOKUP(I46,Feuil1!$G$11:$L$25,5),IF(AND(H46>1997,H46<2000),VLOOKUP(I46,Feuil1!$G$11:$L$25,4),IF(AND(H46>1999,H46<2002),VLOOKUP(I46,Feuil1!$G$11:$L$25,3),VLOOKUP(I46,Feuil1!$G$11:$L$25,2)))))))","v":"FC2 58"},143.35548608473812,null," ",{"$f":"T46-HLOOKUP(X46,Feuil1!$C$1:$BL$10,2,FALSE)","v":50},{"$f":"T46-HLOOKUP(X46,Feuil1!$C$1:$BL$10,3,FALSE)","v":40},{"$f":"T46-HLOOKUP(X46,Feuil1!$C$1:$BL$10,4,FALSE)","v":30},{"$f":"T46-HLOOKUP(X46,Feuil1!$C$1:$BL$10,5,FALSE)","v":20},{"$f":"T46-HLOOKUP(X46,Feuil1!$C$1:$BL$10,6,FALSE)","v":10},{"$f":"T46-HLOOKUP(X46,Feuil1!$C$1:$BL$10,7,FALSE)","v":0},{"$f":"T46-HLOOKUP(X46,Feuil1!$C$1:$BL$10,8,FALSE)","v":-15},{"$f":"T46-HLOOKUP(X46,Feuil1!$C$1:$BL$10,9,FALSE)","v":-30},{"$f":"T46-HLOOKUP(X46,Feuil1!$C$1:$BL$10,10,FALSE)","v":-900},null,null,null,null,null,null,"NAT +"]
["F","SEST","CAZ",5,339283,"DULIO","Ambre",1999,57.15,"ES VILL LOUBET","F",45,-48,-48,45,55,-58,-58,55,100,-14.299999999999997,"NAT +",0,{"$f":"IF(I47=\"\",\"\",IF(A47=\"H\",IF(OR(H47=\"SEN\",H47<1995),VLOOKUP(I47,Feuil1!$A$11:$G$29,6),IF(AND(H47>1994,H47<1998),VLOOKUP(I47,Feuil1!$A$11:$G$29,5),IF(AND(H47>1997,H47<2000),VLOOKUP(I47,Feuil1!$A$11:$G$29,4),IF(AND(H47>1999,H47<2002),VLOOKUP(I47,Feuil1!$A$11:$G$29,3),VLOOKUP(I47,Feuil1!$A$11:$G$29,2))))),IF(OR(H47=\"SEN\",H47<1995),VLOOKUP(I47,Feuil1!$G$11:$L$25,6),IF(AND(H47>1994,H47<1998),VLOOKUP(I47,Feuil1!$G$11:$L$25,5),IF(AND(H47>1997,H47<2000),VLOOKUP(I47,Feuil1!$G$11:$L$25,4),IF(AND(H47>1999,H47<2002),VLOOKUP(I47,Feuil1!$G$11:$L$25,3),VLOOKUP(I47,Feuil1!$G$11:$L$25,2)))))))","v":"FC2 58"},142.32573492388511,null," ",{"$f":"T47-HLOOKUP(X47,Feuil1!$C$1:$BL$10,2,FALSE)","v":50},{"$f":"T47-HLOOKUP(X47,Feuil1!$C$1:$BL$10,3,FALSE)","v":40},{"$f":"T47-HLOOKUP(X47,Feuil1!$C$1:$BL$10,4,FALSE)","v":30},{"$f":"T47-HLOOKUP(X47,Feuil1!$C$1:$BL$10,5,FALSE)","v":20},{"$f":"T47-HLOOKUP(X47,Feuil1!$C$1:$BL$10,6,FALSE)","v":10},{"$f":"T47-HLOOKUP(X47,Feuil1!$C$1:$BL$10,7,FALSE)","v":0},{"$f":"T47-HLOOKUP(X47,Feuil1!$C$1:$BL$10,8,FALSE)","v":-15},{"$f":"T47-HLOOKUP(X47,Feuil1!$C$1:$BL$10,9,FALSE)","v":-30},{"$f":"T47-HLOOKUP(X47,Feuil1!$C$1:$BL$10,10,FALSE)","v":-900},null,null,null,null,null,null,"NAT +"]
["F","N","PIC",6,326995,"BONNIERE","Priscillia",1999,54.8,"Villers-Bretonneux KC","F",38,42,45,45,48,52,-54,52,97,-12.599999999999994,"FED +",7,{"$f":"IF(I48=\"\",\"\",IF(A48=\"H\",IF(OR(H48=\"SEN\",H48<1995),VLOOKUP(I48,Feuil1!$A$11:$G$29,6),IF(AND(H48>1994,H48<1998),VLOOKUP(I48,Feuil1!$A$11:$G$29,5),IF(AND(H48>1997,H48<2000),VLOOKUP(I48,Feuil1!$A$11:$G$29,4),IF(AND(H48>1999,H48<2002),VLOOKUP(I48,Feuil1!$A$11:$G$29,3),VLOOKUP(I48,Feuil1!$A$11:$G$29,2))))),IF(OR(H48=\"SEN\",H48<1995),VLOOKUP(I48,Feuil1!$G$11:$L$25,6),IF(AND(H48>1994,H48<1998),VLOOKUP(I48,Feuil1!$G$11:$L$25,5),IF(AND(H48>1997,H48<2000),VLOOKUP(I48,Feuil1!$G$11:$L$25,4),IF(AND(H48>1999,H48<2002),VLOOKUP(I48,Feuil1!$G$11:$L$25,3),VLOOKUP(I48,Feuil1!$G$11:$L$25,2)))))))","v":"FC2 58"},142.52111623674423,null," ",{"$f":"T48-HLOOKUP(X48,Feuil1!$C$1:$BL$10,2,FALSE)","v":47},{"$f":"T48-HLOOKUP(X48,Feuil1!$C$1:$BL$10,3,FALSE)","v":37},{"$f":"T48-HLOOKUP(X48,Feuil1!$C$1:$BL$10,4,FALSE)","v":27},{"$f":"T48-HLOOKUP(X48,Feuil1!$C$1:$BL$10,5,FALSE)","v":17},{"$f":"T48-HLOOKUP(X48,Feuil1!$C$1:$BL$10,6,FALSE)","v":7},{"$f":"T48-HLOOKUP(X48,Feuil1!$C$1:$BL$10,7,FALSE)","v":-3},{"$f":"T48-HLOOKUP(X48,Feuil1!$C$1:$BL$10,8,FALSE)","v":-18},{"$f":"T48-HLOOKUP(X48,Feuil1!$C$1:$BL$10,9,FALSE)","v":-33},{"$f":"T48-HLOOKUP(X48,Feuil1!$C$1:$BL$10,10,FALSE)","v":-903},null,null,null,null,null,null,"FED +"]
["F","DOM","GUA",7,367889,"UFREN","Aurore",1998,57.9,"AHCS/Pointois","F",35,40,-43,40,45,50,52,52,92,-23.799999999999997,"FED +",2,{"$f":"IF(I49=\"\",\"\",IF(A49=\"H\",IF(OR(H49=\"SEN\",H49<1995),VLOOKUP(I49,Feuil1!$A$11:$G$29,6),IF(AND(H49>1994,H49<1998),VLOOKUP(I49,Feuil1!$A$11:$G$29,5),IF(AND(H49>1997,H49<2000),VLOOKUP(I49,Feuil1!$A$11:$G$29,4),IF(AND(H49>1999,H49<2002),VLOOKUP(I49,Feuil1!$A$11:$G$29,3),VLOOKUP(I49,Feuil1!$A$11:$G$29,2))))),IF(OR(H49=\"SEN\",H49<1995),VLOOKUP(I49,Feuil1!$G$11:$L$25,6),IF(AND(H49>1994,H49<1998),VLOOKUP(I49,Feuil1!$G$11:$L$25,5),IF(AND(H49>1997,H49<2000),VLOOKUP(I49,Feuil1!$G$11:$L$25,4),IF(AND(H49>1999,H49<2002),VLOOKUP(I49,Feuil1!$G$11:$L$25,3),VLOOKUP(I49,Feuil1!$G$11:$L$25,2)))))))","v":"FC2 58"},129.68812075608454,null," ",{"$f":"T49-HLOOKUP(X49,Feuil1!$C$1:$BL$10,2,FALSE)","v":42},{"$f":"T49-HLOOKUP(X49,Feuil1!$C$1:$BL$10,3,FALSE)","v":32},{"$f":"T49-HLOOKUP(X49,Feuil1!$C$1:$BL$10,4,FALSE)","v":22},{"$f":"T49-HLOOKUP(X49,Feuil1!$C$1:$BL$10,5,FALSE)","v":12},{"$f":"T49-HLOOKUP(X49,Feuil1!$C$1:$BL$10,6,FALSE)","v":2},{"$f":"T49-HLOOKUP(X49,Feuil1!$C$1:$BL$10,7,FALSE)","v":-8},{"$f":"T49-HLOOKUP(X49,Feuil1!$C$1:$BL$10,8,FALSE)","v":-23},{"$f":"T49-HLOOKUP(X49,Feuil1!$C$1:$BL$10,9,FALSE)","v":-38},{"$f":"T49-HLOOKUP(X49,Feuil1!$C$1:$BL$10,10,FALSE)","v":-908},null,null,null,null,null,null,"FED +"]
["F","CO","BNO",8,285369,"VILLENEUVE","Irys",1998,53.6,"Caen CHM","F",37,-40,40,40,48,51,-54,51,91,-16.200000000000003,"FED +",1,{"$f":"IF(I50=\"\",\"\",IF(A50=\"H\",IF(OR(H50=\"SEN\",H50<1995),VLOOKUP(I50,Feuil1!$A$11:$G$29,6),IF(AND(H50>1994,H50<1998),VLOOKUP(I50,Feuil1!$A$11:$G$29,5),IF(AND(H50>1997,H50<2000),VLOOKUP(I50,Feuil1!$A$11:$G$29,4),IF(AND(H50>1999,H50<2002),VLOOKUP(I50,Feuil1!$A$11:$G$29,3),VLOOKUP(I50,Feuil1!$A$11:$G$29,2))))),IF(OR(H50=\"SEN\",H50<1995),VLOOKUP(I50,Feuil1!$G$11:$L$25,6),IF(AND(H50>1994,H50<1998),VLOOKUP(I50,Feuil1!$G$11:$L$25,5),IF(AND(H50>1997,H50<2000),VLOOKUP(I50,Feuil1!$G$11:$L$25,4),IF(AND(H50>1999,H50<2002),VLOOKUP(I50,Feuil1!$G$11:$L$25,3),VLOOKUP(I50,Feuil1!$G$11:$L$25,2)))))))","v":"FC2 58"},136.04377173259485,null," ",{"$f":"T50-HLOOKUP(X50,Feuil1!$C$1:$BL$10,2,FALSE)","v":41},{"$f":"T50-HLOOKUP(X50,Feuil1!$C$1:$BL$10,3,FALSE)","v":31},{"$f":"T50-HLOOKUP(X50,Feuil1!$C$1:$BL$10,4,FALSE)","v":21},{"$f":"T50-HLOOKUP(X50,Feuil1!$C$1:$BL$10,5,FALSE)","v":11},{"$f":"T50-HLOOKUP(X50,Feuil1!$C$1:$BL$10,6,FALSE)","v":1},{"$f":"T50-HLOOKUP(X50,Feuil1!$C$1:$BL$10,7,FALSE)","v":-9},{"$f":"T50-HLOOKUP(X50,Feuil1!$C$1:$BL$10,8,FALSE)","v":-24},{"$f":"T50-HLOOKUP(X50,Feuil1!$C$1:$BL$10,9,FALSE)","v":-39},{"$f":"T50-HLOOKUP(X50,Feuil1!$C$1:$BL$10,10,FALSE)","v":-909},null,null,null,null,null,null,"FED +"]
["F","SEST","RAL",9,379666,"RAILLON","Emilie",1998,57.4,"VALENCE","F",37,-40,40,40,47,-50,-50,47,87,-27.799999999999997,"IRG +",7,{"$f":"IF(I51=\"\",\"\",IF(A51=\"H\",IF(OR(H51=\"SEN\",H51<1995),VLOOKUP(I51,Feuil1!$A$11:$G$29,6),IF(AND(H51>1994,H51<1998),VLOOKUP(I51,Feuil1!$A$11:$G$29,5),IF(AND(H51>1997,H51<2000),VLOOKUP(I51,Feuil1!$A$11:$G$29,4),IF(AND(H51>1999,H51<2002),VLOOKUP(I51,Feuil1!$A$11:$G$29,3),VLOOKUP(I51,Feuil1!$A$11:$G$29,2))))),IF(OR(H51=\"SEN\",H51<1995),VLOOKUP(I51,Feuil1!$G$11:$L$25,6),IF(AND(H51>1994,H51<1998),VLOOKUP(I51,Feuil1!$G$11:$L$25,5),IF(AND(H51>1997,H51<2000),VLOOKUP(I51,Feuil1!$G$11:$L$25,4),IF(AND(H51>1999,H51<2002),VLOOKUP(I51,Feuil1!$G$11:$L$25,3),VLOOKUP(I51,Feuil1!$G$11:$L$25,2)))))))","v":"FC2 58"},123.42407317079146,null," ",{"$f":"T51-HLOOKUP(X51,Feuil1!$C$1:$BL$10,2,FALSE)","v":37},{"$f":"T51-HLOOKUP(X51,Feuil1!$C$1:$BL$10,3,FALSE)","v":27},{"$f":"T51-HLOOKUP(X51,Feuil1!$C$1:$BL$10,4,FALSE)","v":17},{"$f":"T51-HLOOKUP(X51,Feuil1!$C$1:$BL$10,5,FALSE)","v":7},{"$f":"T51-HLOOKUP(X51,Feuil1!$C$1:$BL$10,6,FALSE)","v":-3},{"$f":"T51-HLOOKUP(X51,Feuil1!$C$1:$BL$10,7,FALSE)","v":-13},{"$f":"T51-HLOOKUP(X51,Feuil1!$C$1:$BL$10,8,FALSE)","v":-28},{"$f":"T51-HLOOKUP(X51,Feuil1!$C$1:$BL$10,9,FALSE)","v":-43},{"$f":"T51-HLOOKUP(X51,Feuil1!$C$1:$BL$10,10,FALSE)","v":-913},null,null,null,null,null,null,"IRG +"]
["F","SEST","CAZ",10,385817,"POIRSON","Samantha",1998,55,"ASLDD TOULON","F",32,35,37,37,45,-48,-48,45,82,-28,"IRG +",2,{"$f":"IF(I52=\"\",\"\",IF(A52=\"H\",IF(OR(H52=\"SEN\",H52<1995),VLOOKUP(I52,Feuil1!$A$11:$G$29,6),IF(AND(H52>1994,H52<1998),VLOOKUP(I52,Feuil1!$A$11:$G$29,5),IF(AND(H52>1997,H52<2000),VLOOKUP(I52,Feuil1!$A$11:$G$29,4),IF(AND(H52>1999,H52<2002),VLOOKUP(I52,Feuil1!$A$11:$G$29,3),VLOOKUP(I52,Feuil1!$A$11:$G$29,2))))),IF(OR(H52=\"SEN\",H52<1995),VLOOKUP(I52,Feuil1!$G$11:$L$25,6),IF(AND(H52>1994,H52<1998),VLOOKUP(I52,Feuil1!$G$11:$L$25,5),IF(AND(H52>1997,H52<2000),VLOOKUP(I52,Feuil1!$G$11:$L$25,4),IF(AND(H52>1999,H52<2002),VLOOKUP(I52,Feuil1!$G$11:$L$25,3),VLOOKUP(I52,Feuil1!$G$11:$L$25,2)))))))","v":"FC2 58"},120.14295653917677,null," ",{"$f":"T52-HLOOKUP(X52,Feuil1!$C$1:$BL$10,2,FALSE)","v":32},{"$f":"T52-HLOOKUP(X52,Feuil1!$C$1:$BL$10,3,FALSE)","v":22},{"$f":"T52-HLOOKUP(X52,Feuil1!$C$1:$BL$10,4,FALSE)","v":12},{"$f":"T52-HLOOKUP(X52,Feuil1!$C$1:$BL$10,5,FALSE)","v":2},{"$f":"T52-HLOOKUP(X52,Feuil1!$C$1:$BL$10,6,FALSE)","v":-8},{"$f":"T52-HLOOKUP(X52,Feuil1!$C$1:$BL$10,7,FALSE)","v":-18},{"$f":"T52-HLOOKUP(X52,Feuil1!$C$1:$BL$10,8,FALSE)","v":-33},{"$f":"T52-HLOOKUP(X52,Feuil1!$C$1:$BL$10,9,FALSE)","v":-48},{"$f":"T52-HLOOKUP(X52,Feuil1!$C$1:$BL$10,10,FALSE)","v":-918},null,null,null,null,null,null,"IRG +"]
["F","DOM","GUA",11,339433,"CHALDER","Lou Ann",1999,57.5,"AHCS/Pointois","F",30,32,35,35,35,40,-42,40,75,-40,"REG +",5,{"$f":"IF(I53=\"\",\"\",IF(A53=\"H\",IF(OR(H53=\"SEN\",H53<1995),VLOOKUP(I53,Feuil1!$A$11:$G$29,6),IF(AND(H53>1994,H53<1998),VLOOKUP(I53,Feuil1!$A$11:$G$29,5),IF(AND(H53>1997,H53<2000),VLOOKUP(I53,Feuil1!$A$11:$G$29,4),IF(AND(H53>1999,H53<2002),VLOOKUP(I53,Feuil1!$A$11:$G$29,3),VLOOKUP(I53,Feuil1!$A$11:$G$29,2))))),IF(OR(H53=\"SEN\",H53<1995),VLOOKUP(I53,Feuil1!$G$11:$L$25,6),IF(AND(H53>1994,H53<1998),VLOOKUP(I53,Feuil1!$G$11:$L$25,5),IF(AND(H53>1997,H53<2000),VLOOKUP(I53,Feuil1!$G$11:$L$25,4),IF(AND(H53>1999,H53<2002),VLOOKUP(I53,Feuil1!$G$11:$L$25,3),VLOOKUP(I53,Feuil1!$G$11:$L$25,2)))))))","v":"FC2 58"},106.26353734213941,null," ",{"$f":"T53-HLOOKUP(X53,Feuil1!$C$1:$BL$10,2,FALSE)","v":25},{"$f":"T53-HLOOKUP(X53,Feuil1!$C$1:$BL$10,3,FALSE)","v":15},{"$f":"T53-HLOOKUP(X53,Feuil1!$C$1:$BL$10,4,FALSE)","v":5},{"$f":"T53-HLOOKUP(X53,Feuil1!$C$1:$BL$10,5,FALSE)","v":-5},{"$f":"T53-HLOOKUP(X53,Feuil1!$C$1:$BL$10,6,FALSE)","v":-15},{"$f":"T53-HLOOKUP(X53,Feuil1!$C$1:$BL$10,7,FALSE)","v":-25},{"$f":"T53-HLOOKUP(X53,Feuil1!$C$1:$BL$10,8,FALSE)","v":-40},{"$f":"T53-HLOOKUP(X53,Feuil1!$C$1:$BL$10,9,FALSE)","v":-55},{"$f":"T53-HLOOKUP(X53,Feuil1!$C$1:$BL$10,10,FALSE)","v":-925},null,null,null,null,null,null,"REG +"]
["F","SO","MPY",12,279235,"AUNAY","Amélie",1998,57.8,"COLOMIERS US","F",25,28,30,30,35,39,42,42,72,-43.599999999999994,"REG +",2,{"$f":"IF(I54=\"\",\"\",IF(A54=\"H\",IF(OR(H54=\"SEN\",H54<1995),VLOOKUP(I54,Feuil1!$A$11:$G$29,6),IF(AND(H54>1994,H54<1998),VLOOKUP(I54,Feuil1!$A$11:$G$29,5),IF(AND(H54>1997,H54<2000),VLOOKUP(I54,Feuil1!$A$11:$G$29,4),IF(AND(H54>1999,H54<2002),VLOOKUP(I54,Feuil1!$A$11:$G$29,3),VLOOKUP(I54,Feuil1!$A$11:$G$29,2))))),IF(OR(H54=\"SEN\",H54<1995),VLOOKUP(I54,Feuil1!$G$11:$L$25,6),IF(AND(H54>1994,H54<1998),VLOOKUP(I54,Feuil1!$G$11:$L$25,5),IF(AND(H54>1997,H54<2000),VLOOKUP(I54,Feuil1!$G$11:$L$25,4),IF(AND(H54>1999,H54<2002),VLOOKUP(I54,Feuil1!$G$11:$L$25,3),VLOOKUP(I54,Feuil1!$G$11:$L$25,2)))))))","v":"FC2 58"},101.62359814884913,null," ",{"$f":"T54-HLOOKUP(X54,Feuil1!$C$1:$BL$10,2,FALSE)","v":22},{"$f":"T54-HLOOKUP(X54,Feuil1!$C$1:$BL$10,3,FALSE)","v":12},{"$f":"T54-HLOOKUP(X54,Feuil1!$C$1:$BL$10,4,FALSE)","v":2},{"$f":"T54-HLOOKUP(X54,Feuil1!$C$1:$BL$10,5,FALSE)","v":-8},{"$f":"T54-HLOOKUP(X54,Feuil1!$C$1:$BL$10,6,FALSE)","v":-18},{"$f":"T54-HLOOKUP(X54,Feuil1!$C$1:$BL$10,7,FALSE)","v":-28},{"$f":"T54-HLOOKUP(X54,Feuil1!$C$1:$BL$10,8,FALSE)","v":-43},{"$f":"T54-HLOOKUP(X54,Feuil1!$C$1:$BL$10,9,FALSE)","v":-58},{"$f":"T54-HLOOKUP(X54,Feuil1!$C$1:$BL$10,10,FALSE)","v":-928},null,null,null,null,null,null,"REG +"]
["F","N","PIC",13,378361,"CHARRAUD","Manon",1998,53.3,"Villers-Bretonneux KC","F",24,27,28,28,35,38,-40,38,66,-40.599999999999994,"DEP +",6,{"$f":"IF(I55=\"\",\"\",IF(A55=\"H\",IF(OR(H55=\"SEN\",H55<1995),VLOOKUP(I55,Feuil1!$A$11:$G$29,6),IF(AND(H55>1994,H55<1998),VLOOKUP(I55,Feuil1!$A$11:$G$29,5),IF(AND(H55>1997,H55<2000),VLOOKUP(I55,Feuil1!$A$11:$G$29,4),IF(AND(H55>1999,H55<2002),VLOOKUP(I55,Feuil1!$A$11:$G$29,3),VLOOKUP(I55,Feuil1!$A$11:$G$29,2))))),IF(OR(H55=\"SEN\",H55<1995),VLOOKUP(I55,Feuil1!$G$11:$L$25,6),IF(AND(H55>1994,H55<1998),VLOOKUP(I55,Feuil1!$G$11:$L$25,5),IF(AND(H55>1997,H55<2000),VLOOKUP(I55,Feuil1!$G$11:$L$25,4),IF(AND(H55>1999,H55<2002),VLOOKUP(I55,Feuil1!$G$11:$L$25,3),VLOOKUP(I55,Feuil1!$G$11:$L$25,2)))))))","v":"FC2 58"},99.109744946910752,null," ",{"$f":"T55-HLOOKUP(X55,Feuil1!$C$1:$BL$10,2,FALSE)","v":16},{"$f":"T55-HLOOKUP(X55,Feuil1!$C$1:$BL$10,3,FALSE)","v":6},{"$f":"T55-HLOOKUP(X55,Feuil1!$C$1:$BL$10,4,FALSE)","v":-4},{"$f":"T55-HLOOKUP(X55,Feuil1!$C$1:$BL$10,5,FALSE)","v":-14},{"$f":"T55-HLOOKUP(X55,Feuil1!$C$1:$BL$10,6,FALSE)","v":-24},{"$f":"T55-HLOOKUP(X55,Feuil1!$C$1:$BL$10,7,FALSE)","v":-34},{"$f":"T55-HLOOKUP(X55,Feuil1!$C$1:$BL$10,8,FALSE)","v":-49},{"$f":"T55-HLOOKUP(X55,Feuil1!$C$1:$BL$10,9,FALSE)","v":-64},{"$f":"T55-HLOOKUP(X55,Feuil1!$C$1:$BL$10,10,FALSE)","v":-934},null,null,null,null,null,null,"DEP +"]
["F","SEST","RAL",14,391553,"FLASSEUR","Amélie",1998,54.1,"SAINT MARCELLIN","F",25,27,29,29,32,35,37,37,66,-42.2,"DEP +",6,{"$f":"IF(I56=\"\",\"\",IF(A56=\"H\",IF(OR(H56=\"SEN\",H56<1995),VLOOKUP(I56,Feuil1!$A$11:$G$29,6),IF(AND(H56>1994,H56<1998),VLOOKUP(I56,Feuil1!$A$11:$G$29,5),IF(AND(H56>1997,H56<2000),VLOOKUP(I56,Feuil1!$A$11:$G$29,4),IF(AND(H56>1999,H56<2002),VLOOKUP(I56,Feuil1!$A$11:$G$29,3),VLOOKUP(I56,Feuil1!$A$11:$G$29,2))))),IF(OR(H56=\"SEN\",H56<1995),VLOOKUP(I56,Feuil1!$G$11:$L$25,6),IF(AND(H56>1994,H56<1998),VLOOKUP(I56,Feuil1!$G$11:$L$25,5),IF(AND(H56>1997,H56<2000),VLOOKUP(I56,Feuil1!$G$11:$L$25,4),IF(AND(H56>1999,H56<2002),VLOOKUP(I56,Feuil1!$G$11:$L$25,3),VLOOKUP(I56,Feuil1!$G$11:$L$25,2)))))))","v":"FC2 58"},97.949744522155086,null," ",{"$f":"T56-HLOOKUP(X56,Feuil1!$C$1:$BL$10,2,FALSE)","v":16},{"$f":"T56-HLOOKUP(X56,Feuil1!$C$1:$BL$10,3,FALSE)","v":6},{"$f":"T56-HLOOKUP(X56,Feuil1!$C$1:$BL$10,4,FALSE)","v":-4},{"$f":"T56-HLOOKUP(X56,Feuil1!$C$1:$BL$10,5,FALSE)","v":-14},{"$f":"T56-HLOOKUP(X56,Feuil1!$C$1:$BL$10,6,FALSE)","v":-24},{"$f":"T56-HLOOKUP(X56,Feuil1!$C$1:$BL$10,7,FALSE)","v":-34},{"$f":"T56-HLOOKUP(X56,Feuil1!$C$1:$BL$10,8,FALSE)","v":-49},{"$f":"T56-HLOOKUP(X56,Feuil1!$C$1:$BL$10,9,FALSE)","v":-64},{"$f":"T56-HLOOKUP(X56,Feuil1!$C$1:$BL$10,10,FALSE)","v":-934},null,null,null,null,null,null,"DEP +"]
["F","CO","BNO",15,380061,"HELIE","Pauline",1998,55.2,"Stade St Lois","F",25,-27,27,27,32,35,-37,35,62,-48.400000000000006,"DEP +",2,{"$f":"IF(I57=\"\",\"\",IF(A57=\"H\",IF(OR(H57=\"SEN\",H57<1995),VLOOKUP(I57,Feuil1!$A$11:$G$29,6),IF(AND(H57>1994,H57<1998),VLOOKUP(I57,Feuil1!$A$11:$G$29,5),IF(AND(H57>1997,H57<2000),VLOOKUP(I57,Feuil1!$A$11:$G$29,4),IF(AND(H57>1999,H57<2002),VLOOKUP(I57,Feuil1!$A$11:$G$29,3),VLOOKUP(I57,Feuil1!$A$11:$G$29,2))))),IF(OR(H57=\"SEN\",H57<1995),VLOOKUP(I57,Feuil1!$G$11:$L$25,6),IF(AND(H57>1994,H57<1998),VLOOKUP(I57,Feuil1!$G$11:$L$25,5),IF(AND(H57>1997,H57<2000),VLOOKUP(I57,Feuil1!$G$11:$L$25,4),IF(AND(H57>1999,H57<2002),VLOOKUP(I57,Feuil1!$G$11:$L$25,3),VLOOKUP(I57,Feuil1!$G$11:$L$25,2)))))))","v":"FC2 58"},90.586199792287573,null," ",{"$f":"T57-HLOOKUP(X57,Feuil1!$C$1:$BL$10,2,FALSE)","v":12},{"$f":"T57-HLOOKUP(X57,Feuil1!$C$1:$BL$10,3,FALSE)","v":2},{"$f":"T57-HLOOKUP(X57,Feuil1!$C$1:$BL$10,4,FALSE)","v":-8},{"$f":"T57-HLOOKUP(X57,Feuil1!$C$1:$BL$10,5,FALSE)","v":-18},{"$f":"T57-HLOOKUP(X57,Feuil1!$C$1:$BL$10,6,FALSE)","v":-28},{"$f":"T57-HLOOKUP(X57,Feuil1!$C$1:$BL$10,7,FALSE)","v":-38},{"$f":"T57-HLOOKUP(X57,Feuil1!$C$1:$BL$10,8,FALSE)","v":-53},{"$f":"T57-HLOOKUP(X57,Feuil1!$C$1:$BL$10,9,FALSE)","v":-68},{"$f":"T57-HLOOKUP(X57,Feuil1!$C$1:$BL$10,10,FALSE)","v":-938},null,null,null,null,null,null,"DEP +"]
["F","N","PIC",16,357294,"MICHEL PINGUERBE","Chloé",1999,55.8,"Villers-Bretonneux KC","F",15,20,23,23,20,25,28,28,51,-60.599999999999994,"DEB ",1,{"$f":"IF(I58=\"\",\"\",IF(A58=\"H\",IF(OR(H58=\"SEN\",H58<1995),VLOOKUP(I58,Feuil1!$A$11:$G$29,6),IF(AND(H58>1994,H58<1998),VLOOKUP(I58,Feuil1!$A$11:$G$29,5),IF(AND(H58>1997,H58<2000),VLOOKUP(I58,Feuil1!$A$11:$G$29,4),IF(AND(H58>1999,H58<2002),VLOOKUP(I58,Feuil1!$A$11:$G$29,3),VLOOKUP(I58,Feuil1!$A$11:$G$29,2))))),IF(OR(H58=\"SEN\",H58<1995),VLOOKUP(I58,Feuil1!$G$11:$L$25,6),IF(AND(H58>1994,H58<1998),VLOOKUP(I58,Feuil1!$G$11:$L$25,5),IF(AND(H58>1997,H58<2000),VLOOKUP(I58,Feuil1!$G$11:$L$25,4),IF(AND(H58>1999,H58<2002),VLOOKUP(I58,Feuil1!$G$11:$L$25,3),VLOOKUP(I58,Feuil1!$G$11:$L$25,2)))))))","v":"FC2 58"},73.901088190844476,null," ",{"$f":"T58-HLOOKUP(X58,Feuil1!$C$1:$BL$10,2,FALSE)","v":1},{"$f":"T58-HLOOKUP(X58,Feuil1!$C$1:$BL$10,3,FALSE)","v":-9},{"$f":"T58-HLOOKUP(X58,Feuil1!$C$1:$BL$10,4,FALSE)","v":-19},{"$f":"T58-HLOOKUP(X58,Feuil1!$C$1:$BL$10,5,FALSE)","v":-29},{"$f":"T58-HLOOKUP(X58,Feuil1!$C$1:$BL$10,6,FALSE)","v":-39},{"$f":"T58-HLOOKUP(X58,Feuil1!$C$1:$BL$10,7,FALSE)","v":-49},{"$f":"T58-HLOOKUP(X58,Feuil1!$C$1:$BL$10,8,FALSE)","v":-64},{"$f":"T58-HLOOKUP(X58,Feuil1!$C$1:$BL$10,9,FALSE)","v":-79},{"$f":"T58-HLOOKUP(X58,Feuil1!$C$1:$BL$10,10,FALSE)","v":-949},null,null,null,null,null,null,"DEB "]
["F","NE","ALS",17,381288,"PIERRE","Zoé",1998,57.1,"SR Obernai HM","F",21,-23,-23,21,26,28,-30,28,49,-65.2,"DEB ",-1,{"$f":"IF(I59=\"\",\"\",IF(A59=\"H\",IF(OR(H59=\"SEN\",H59<1995),VLOOKUP(I59,Feuil1!$A$11:$G$29,6),IF(AND(H59>1994,H59<1998),VLOOKUP(I59,Feuil1!$A$11:$G$29,5),IF(AND(H59>1997,H59<2000),VLOOKUP(I59,Feuil1!$A$11:$G$29,4),IF(AND(H59>1999,H59<2002),VLOOKUP(I59,Feuil1!$A$11:$G$29,3),VLOOKUP(I59,Feuil1!$A$11:$G$29,2))))),IF(OR(H59=\"SEN\",H59<1995),VLOOKUP(I59,Feuil1!$G$11:$L$25,6),IF(AND(H59>1994,H59<1998),VLOOKUP(I59,Feuil1!$G$11:$L$25,5),IF(AND(H59>1997,H59<2000),VLOOKUP(I59,Feuil1!$G$11:$L$25,4),IF(AND(H59>1999,H59<2002),VLOOKUP(I59,Feuil1!$G$11:$L$25,3),VLOOKUP(I59,Feuil1!$G$11:$L$25,2)))))))","v":"FC2 58"},69.784920834578017,null," ",{"$f":"T59-HLOOKUP(X59,Feuil1!$C$1:$BL$10,2,FALSE)","v":-1},{"$f":"T59-HLOOKUP(X59,Feuil1!$C$1:$BL$10,3,FALSE)","v":-11},{"$f":"T59-HLOOKUP(X59,Feuil1!$C$1:$BL$10,4,FALSE)","v":-21},{"$f":"T59-HLOOKUP(X59,Feuil1!$C$1:$BL$10,5,FALSE)","v":-31},{"$f":"T59-HLOOKUP(X59,Feuil1!$C$1:$BL$10,6,FALSE)","v":-41},{"$f":"T59-HLOOKUP(X59,Feuil1!$C$1:$BL$10,7,FALSE)","v":-51},{"$f":"T59-HLOOKUP(X59,Feuil1!$C$1:$BL$10,8,FALSE)","v":-66},{"$f":"T59-HLOOKUP(X59,Feuil1!$C$1:$BL$10,9,FALSE)","v":-81},{"$f":"T59-HLOOKUP(X59,Feuil1!$C$1:$BL$10,10,FALSE)","v":-951},null,null,null,null,null,null,"DEB "]
["F","SO","MPY",18,365939,"DELPECH","Marine",1999,57.6,"MONTAUBAN HC","F",15,17,-20,17,18,20,22,22,39,-76.2,"DEB ",-11,{"$f":"IF(I60=\"\",\"\",IF(A60=\"H\",IF(OR(H60=\"SEN\",H60<1995),VLOOKUP(I60,Feuil1!$A$11:$G$29,6),IF(AND(H60>1994,H60<1998),VLOOKUP(I60,Feuil1!$A$11:$G$29,5),IF(AND(H60>1997,H60<2000),VLOOKUP(I60,Feuil1!$A$11:$G$29,4),IF(AND(H60>1999,H60<2002),VLOOKUP(I60,Feuil1!$A$11:$G$29,3),VLOOKUP(I60,Feuil1!$A$11:$G$29,2))))),IF(OR(H60=\"SEN\",H60<1995),VLOOKUP(I60,Feuil1!$G$11:$L$25,6),IF(AND(H60>1994,H60<1998),VLOOKUP(I60,Feuil1!$G$11:$L$25,5),IF(AND(H60>1997,H60<2000),VLOOKUP(I60,Feuil1!$G$11:$L$25,4),IF(AND(H60>1999,H60<2002),VLOOKUP(I60,Feuil1!$G$11:$L$25,3),VLOOKUP(I60,Feuil1!$G$11:$L$25,2)))))))","v":"FC2 58"},55.186390224205468,null," ",{"$f":"T60-HLOOKUP(X60,Feuil1!$C$1:$BL$10,2,FALSE)","v":-11},{"$f":"T60-HLOOKUP(X60,Feuil1!$C$1:$BL$10,3,FALSE)","v":-21},{"$f":"T60-HLOOKUP(X60,Feuil1!$C$1:$BL$10,4,FALSE)","v":-31},{"$f":"T60-HLOOKUP(X60,Feuil1!$C$1:$BL$10,5,FALSE)","v":-41},{"$f":"T60-HLOOKUP(X60,Feuil1!$C$1:$BL$10,6,FALSE)","v":-51},{"$f":"T60-HLOOKUP(X60,Feuil1!$C$1:$BL$10,7,FALSE)","v":-61},{"$f":"T60-HLOOKUP(X60,Feuil1!$C$1:$BL$10,8,FALSE)","v":-76},{"$f":"T60-HLOOKUP(X60,Feuil1!$C$1:$BL$10,9,FALSE)","v":-91},{"$f":"T60-HLOOKUP(X60,Feuil1!$C$1:$BL$10,10,FALSE)","v":-961},null,null,null,null,null,null,"DEB "]
[null,null,null,null,null,null,null,null,null,null,null,null,null,null,null,null,null,null,null,null,null,null,null,null,null,null," ",{"$f":"T61-HLOOKUP(X61,Feuil1!$C$1:$BL$10,2,FALSE)","v":{"$error":"#N/A"}},{"$f":"T61-HLOOKUP(X61,Feuil1!$C$1:$BL$10,3,FALSE)","v":{"$error":"#N/A"}},{"$f":"T61-HLOOKUP(X61,Feuil1!$C$1:$BL$10,4,FALSE)","v":{"$error":"#N/A"}},{"$f":"T61-HLOOKUP(X61,Feuil1!$C$1:$BL$10,5,FALSE)","v":{"$error":"#N/A"}},{"$f":"T61-HLOOKUP(X61,Feuil1!$C$1:$BL$10,6,FALSE)","v":{"$error":"#N/A"}},{"$f":"T61-HLOOKUP(X61,Feuil1!$C$1:$BL$10,7,FALSE)","v":{"$error":"#N/A"}},{"$f":"T61-HLOOKUP(X61,Feuil1!$C$1:$BL$10,8,FALSE)","v":{"$error":"#N/A"}},{"$f":"T61-HLOOKUP(X61,Feuil1!$C$1:$BL$10,9,FALSE)","v":{"$error":"#N/A"}},{"$f":"T61-HLOOKUP(X61,Feuil1!$C$1:$BL$10,10,FALSE)","v":{"$error":"#N/A"}},null,null,null,null,null,null,{"$f":"IF(AJ61>=0,$AJ$4,IF(AI61>=0,$AI$4,IF(AH61>=0,$AH$4,IF(AG61>=0,$AG$4,IF(AF61>=0,$AF$4,IF(AE61>=0,$AE$4,IF(AD61>=0,$AD$4,IF(AC61>=0,$AC$4,$AB$4))))))))","v":{"$error":"#N/A"}}]
["F","NE","ALS",1,238723,"OTT","Justine",1998,62.85,"SHC Haguenau","F",64,67,69,{"$f":"IF(H62=\"\",\"\",IF(MAXA(L62:N62)<=0,0,MAXA(L62:N62)))","v":69},82,85,88,{"$f":"IF(H62=\"\",\"\",IF(MAXA(P62:R62)<=0,0,MAXA(P62:R62)))","v":88},{"$f":"IF(H62=\"\",\"\",IF(OR(O62=0,S62=0),0,O62+S62))","v":157},{"$f":"T62-I62*2","v":31.299999999999997},{"$f":"IF(H62=\"\",\"\",AQ62)","v":"INTA +"},{"$f":"IF(AJ62>=0,AJ62,IF(AI62>=0,AI62,IF(AH62>=0,AH62,IF(AG62>=0,AG62,IF(AF62>=0,AF62,IF(AE62>=0,AE62,IF(AD62>=0,AD62,IF(AC62>=0,AC62,AB62))))))))","v":17},{"$f":"IF(I62=\"\",\"\",IF(A62=\"H\",IF(OR(H62=\"SEN\",H62<1995),VLOOKUP(I62,Feuil1!$A$11:$G$29,6),IF(AND(H62>1994,H62<1998),VLOOKUP(I62,Feuil1!$A$11:$G$29,5),IF(AND(H62>1997,H62<2000),VLOOKUP(I62,Feuil1!$A$11:$G$29,4),IF(AND(H62>1999,H62<2002),VLOOKUP(I62,Feuil1!$A$11:$G$29,3),VLOOKUP(I62,Feuil1!$A$11:$G$29,2))))),IF(OR(H62=\"SEN\",H62<1995),VLOOKUP(I62,Feuil1!$G$11:$L$25,6),IF(AND(H62>1994,H62<1998),VLOOKUP(I62,Feuil1!$G$11:$L$25,5),IF(AND(H62>1997,H62<2000),VLOOKUP(I62,Feuil1!$G$11:$L$25,4),IF(AND(H62>1999,H62<2002),VLOOKUP(I62,Feuil1!$G$11:$L$25,3),VLOOKUP(I62,Feuil1!$G$11:$L$25,2)))))))","v":"FC2 63"},{"$f":"IF(I62=\"\",\"\",IF(A62=\"H\",10^(0.794358141*LOG(I62/174.393)^2)*T62,IF(A62=\"F\",10^(0.89726074*LOG(I62/148.026)^2)*T62,\"\")))","v":208.97196541432103},null," ",{"$f":"T62-HLOOKUP(X62,Feuil1!$C$1:$BL$10,2,FALSE)","v":102},{"$f":"T62-HLOOKUP(X62,Feuil1!$C$1:$BL$10,3,FALSE)","v":92},{"$f":"T62-HLOOKUP(X62,Feuil1!$C$1:$BL$10,4,FALSE)","v":82},{"$f":"T62-HLOOKUP(X62,Feuil1!$C$1:$BL$10,5,FALSE)","v":72},{"$f":"T62-HLOOKUP(X62,Feuil1!$C$1:$BL$10,6,FALSE)","v":62},{"$f":"T62-HLOOKUP(X62,Feuil1!$C$1:$BL$10,7,FALSE)","v":47},{"$f":"T62-HLOOKUP(X62,Feuil1!$C$1:$BL$10,8,FALSE)","v":32},{"$f":"T62-HLOOKUP(X62,Feuil1!$C$1:$BL$10,9,FALSE)","v":17},{"$f":"T62-HLOOKUP(X62,Feuil1!$C$1:$BL$10,10,FALSE)","v":-843},null,null,null,null,null,null,{"$f":"IF(AJ62>=0,$AJ$4,IF(AI62>=0,$AI$4,IF(AH62>=0,$AH$4,IF(AG62>=0,$AG$4,IF(AF62>=0,$AF$4,IF(AE62>=0,$AE$4,IF(AD62>=0,$AD$4,IF(AC62>=0,$AC$4,$AB$4))))))))","v":"INTA +"}]
["F","N","PIC",2,260923,"ARNOULD","Lutricia",1998,58.8,"Villers-Bretonneux KC","F",56,59,-61,59,72,74,-76,74,133,15.400000000000006,"INTB +",8,{"$f":"IF(I63=\"\",\"\",IF(A63=\"H\",IF(OR(H63=\"SEN\",H63<1995),VLOOKUP(I63,Feuil1!$A$11:$G$29,6),IF(AND(H63>1994,H63<1998),VLOOKUP(I63,Feuil1!$A$11:$G$29,5),IF(AND(H63>1997,H63<2000),VLOOKUP(I63,Feuil1!$A$11:$G$29,4),IF(AND(H63>1999,H63<2002),VLOOKUP(I63,Feuil1!$A$11:$G$29,3),VLOOKUP(I63,Feuil1!$A$11:$G$29,2))))),IF(OR(H63=\"SEN\",H63<1995),VLOOKUP(I63,Feuil1!$G$11:$L$25,6),IF(AND(H63>1994,H63<1998),VLOOKUP(I63,Feuil1!$G$11:$L$25,5),IF(AND(H63>1997,H63<2000),VLOOKUP(I63,Feuil1!$G$11:$L$25,4),IF(AND(H63>1999,H63<2002),VLOOKUP(I63,Feuil1!$G$11:$L$25,3),VLOOKUP(I63,Feuil1!$G$11:$L$25,2)))))))","v":"FC2 63"},185.39745581446761,null," ",{"$f":"T63-HLOOKUP(X63,Feuil1!$C$1:$BL$10,2,FALSE)","v":78},{"$f":"T63-HLOOKUP(X63,Feuil1!$C$1:$BL$10,3,FALSE)","v":68},{"$f":"T63-HLOOKUP(X63,Feuil1!$C$1:$BL$10,4,FALSE)","v":58},{"$f":"T63-HLOOKUP(X63,Feuil1!$C$1:$BL$10,5,FALSE)","v":48},{"$f":"T63-HLOOKUP(X63,Feuil1!$C$1:$BL$10,6,FALSE)","v":38},{"$f":"T63-HLOOKUP(X63,Feuil1!$C$1:$BL$10,7,FALSE)","v":23},{"$f":"T63-HLOOKUP(X63,Feuil1!$C$1:$BL$10,8,FALSE)","v":8},{"$f":"T63-HLOOKUP(X63,Feuil1!$C$1:$BL$10,9,FALSE)","v":-7},{"$f":"T63-HLOOKUP(X63,Feuil1!$C$1:$BL$10,10,FALSE)","v":-867},null,null,null,null,null,null,"INTB +"]
["F","DOM","GUA",3,382038,"NUIRO","Naomi",1999,62.2,"AHCS/Pointois","F",50,55,57,57,63,67,-70,67,124,-0.40000000000000568,"NAT +",14,{"$f":"IF(I64=\"\",\"\",IF(A64=\"H\",IF(OR(H64=\"SEN\",H64<1995),VLOOKUP(I64,Feuil1!$A$11:$G$29,6),IF(AND(H64>1994,H64<1998),VLOOKUP(I64,Feuil1!$A$11:$G$29,5),IF(AND(H64>1997,H64<2000),VLOOKUP(I64,Feuil1!$A$11:$G$29,4),IF(AND(H64>1999,H64<2002),VLOOKUP(I64,Feuil1!$A$11:$G$29,3),VLOOKUP(I64,Feuil1!$A$11:$G$29,2))))),IF(OR(H64=\"SEN\",H64<1995),VLOOKUP(I64,Feuil1!$G$11:$L$25,6),IF(AND(H64>1994,H64<1998),VLOOKUP(I64,Feuil1!$G$11:$L$25,5),IF(AND(H64>1997,H64<2000),VLOOKUP(I64,Feuil1!$G$11:$L$25,4),IF(AND(H64>1999,H64<2002),VLOOKUP(I64,Feuil1!$G$11:$L$25,3),VLOOKUP(I64,Feuil1!$G$11:$L$25,2)))))))","v":"FC2 63"},166.20442764082253,null," ",{"$f":"T64-HLOOKUP(X64,Feuil1!$C$1:$BL$10,2,FALSE)","v":69},{"$f":"T64-HLOOKUP(X64,Feuil1!$C$1:$BL$10,3,FALSE)","v":59},{"$f":"T64-HLOOKUP(X64,Feuil1!$C$1:$BL$10,4,FALSE)","v":49},{"$f":"T64-HLOOKUP(X64,Feuil1!$C$1:$BL$10,5,FALSE)","v":39},{"$f":"T64-HLOOKUP(X64,Feuil1!$C$1:$BL$10,6,FALSE)","v":29},{"$f":"T64-HLOOKUP(X64,Feuil1!$C$1:$BL$10,7,FALSE)","v":14},{"$f":"T64-HLOOKUP(X64,Feuil1!$C$1:$BL$10,8,FALSE)","v":-1},{"$f":"T64-HLOOKUP(X64,Feuil1!$C$1:$BL$10,9,FALSE)","v":-16},{"$f":"T64-HLOOKUP(X64,Feuil1!$C$1:$BL$10,10,FALSE)","v":-876},null,null,null,null,null,null,"NAT +"]
["F","NE","BOU",4,334936,"COMTE","Pauline",1999,59.65,"HC Avallon","F",-54,-54,54,54,63,67,-70,67,121,1.7000000000000028,"NAT +",11,{"$f":"IF(I65=\"\",\"\",IF(A65=\"H\",IF(OR(H65=\"SEN\",H65<1995),VLOOKUP(I65,Feuil1!$A$11:$G$29,6),IF(AND(H65>1994,H65<1998),VLOOKUP(I65,Feuil1!$A$11:$G$29,5),IF(AND(H65>1997,H65<2000),VLOOKUP(I65,Feuil1!$A$11:$G$29,4),IF(AND(H65>1999,H65<2002),VLOOKUP(I65,Feuil1!$A$11:$G$29,3),VLOOKUP(I65,Feuil1!$A$11:$G$29,2))))),IF(OR(H65=\"SEN\",H65<1995),VLOOKUP(I65,Feuil1!$G$11:$L$25,6),IF(AND(H65>1994,H65<1998),VLOOKUP(I65,Feuil1!$G$11:$L$25,5),IF(AND(H65>1997,H65<2000),VLOOKUP(I65,Feuil1!$G$11:$L$25,4),IF(AND(H65>1999,H65<2002),VLOOKUP(I65,Feuil1!$G$11:$L$25,3),VLOOKUP(I65,Feuil1!$G$11:$L$25,2)))))))","v":"FC2 63"},166.95038523800469,null," ",{"$f":"T65-HLOOKUP(X65,Feuil1!$C$1:$BL$10,2,FALSE)","v":66},{"$f":"T65-HLOOKUP(X65,Feuil1!$C$1:$BL$10,3,FALSE)","v":56},{"$f":"T65-HLOOKUP(X65,Feuil1!$C$1:$BL$10,4,FALSE)","v":46},{"$f":"T65-HLOOKUP(X65,Feuil1!$C$1:$BL$10,5,FALSE)","v":36},{"$f":"T65-HLOOKUP(X65,Feuil1!$C$1:$BL$10,6,FALSE)","v":26},{"$f":"T65-HLOOKUP(X65,Feuil1!$C$1:$BL$10,7,FALSE)","v":11},{"$f":"T65-HLOOKUP(X65,Feuil1!$C$1:$BL$10,8,FALSE)","v":-4},{"$f":"T65-HLOOKUP(X65,Feuil1!$C$1:$BL$10,9,FALSE)","v":-19},{"$f":"T65-HLOOKUP(X65,Feuil1!$C$1:$BL$10,10,FALSE)","v":-879},null,null,null,null,null,null,"NAT +"]
["F","SEST","CAZ",5,339283,"DULIO","Ambre",1999,58.3,"ES VILL LOUBET","F",44,-48,48,48,-54,54,58,58,106,-10.599999999999994,"FED +",11,{"$f":"IF(I66=\"\",\"\",IF(A66=\"H\",IF(OR(H66=\"SEN\",H66<1995),VLOOKUP(I66,Feuil1!$A$11:$G$29,6),IF(AND(H66>1994,H66<1998),VLOOKUP(I66,Feuil1!$A$11:$G$29,5),IF(AND(H66>1997,H66<2000),VLOOKUP(I66,Feuil1!$A$11:$G$29,4),IF(AND(H66>1999,H66<2002),VLOOKUP(I66,Feuil1!$A$11:$G$29,3),VLOOKUP(I66,Feuil1!$A$11:$G$29,2))))),IF(OR(H66=\"SEN\",H66<1995),VLOOKUP(I66,Feuil1!$G$11:$L$25,6),IF(AND(H66>1994,H66<1998),VLOOKUP(I66,Feuil1!$G$11:$L$25,5),IF(AND(H66>1997,H66<2000),VLOOKUP(I66,Feuil1!$G$11:$L$25,4),IF(AND(H66>1999,H66<2002),VLOOKUP(I66,Feuil1!$G$11:$L$25,3),VLOOKUP(I66,Feuil1!$G$11:$L$25,2)))))))","v":"FC2 63"},148.67533230463519,null," ",{"$f":"T66-HLOOKUP(X66,Feuil1!$C$1:$BL$10,2,FALSE)","v":51},{"$f":"T66-HLOOKUP(X66,Feuil1!$C$1:$BL$10,3,FALSE)","v":41},{"$f":"T66-HLOOKUP(X66,Feuil1!$C$1:$BL$10,4,FALSE)","v":31},{"$f":"T66-HLOOKUP(X66,Feuil1!$C$1:$BL$10,5,FALSE)","v":21},{"$f":"T66-HLOOKUP(X66,Feuil1!$C$1:$BL$10,6,FALSE)","v":11},{"$f":"T66-HLOOKUP(X66,Feuil1!$C$1:$BL$10,7,FALSE)","v":-4},{"$f":"T66-HLOOKUP(X66,Feuil1!$C$1:$BL$10,8,FALSE)","v":-19},{"$f":"T66-HLOOKUP(X66,Feuil1!$C$1:$BL$10,9,FALSE)","v":-34},{"$f":"T66-HLOOKUP(X66,Feuil1!$C$1:$BL$10,10,FALSE)","v":-894},null,null,null,null,null,null,"FED +"]
["F","N","NPC",6,208590,"HOUZE","Océne",1998,60,"CHCD COMINES","F",42,46,-49,46,53,57,60,60,106,-14,"FED +",11,{"$f":"IF(I67=\"\",\"\",IF(A67=\"H\",IF(OR(H67=\"SEN\",H67<1995),VLOOKUP(I67,Feuil1!$A$11:$G$29,6),IF(AND(H67>1994,H67<1998),VLOOKUP(I67,Feuil1!$A$11:$G$29,5),IF(AND(H67>1997,H67<2000),VLOOKUP(I67,Feuil1!$A$11:$G$29,4),IF(AND(H67>1999,H67<2002),VLOOKUP(I67,Feuil1!$A$11:$G$29,3),VLOOKUP(I67,Feuil1!$A$11:$G$29,2))))),IF(OR(H67=\"SEN\",H67<1995),VLOOKUP(I67,Feuil1!$G$11:$L$25,6),IF(AND(H67>1994,H67<1998),VLOOKUP(I67,Feuil1!$G$11:$L$25,5),IF(AND(H67>1997,H67<2000),VLOOKUP(I67,Feuil1!$G$11:$L$25,4),IF(AND(H67>1999,H67<2002),VLOOKUP(I67,Feuil1!$G$11:$L$25,3),VLOOKUP(I67,Feuil1!$G$11:$L$25,2)))))))","v":"FC2 63"},145.65115837708652,null," ",{"$f":"T67-HLOOKUP(X67,Feuil1!$C$1:$BL$10,2,FALSE)","v":51},{"$f":"T67-HLOOKUP(X67,Feuil1!$C$1:$BL$10,3,FALSE)","v":41},{"$f":"T67-HLOOKUP(X67,Feuil1!$C$1:$BL$10,4,FALSE)","v":31},{"$f":"T67-HLOOKUP(X67,Feuil1!$C$1:$BL$10,5,FALSE)","v":21},{"$f":"T67-HLOOKUP(X67,Feuil1!$C$1:$BL$10,6,FALSE)","v":11},{"$f":"T67-HLOOKUP(X67,Feuil1!$C$1:$BL$10,7,FALSE)","v":-4},{"$f":"T67-HLOOKUP(X67,Feuil1!$C$1:$BL$10,8,FALSE)","v":-19},{"$f":"T67-HLOOKUP(X67,Feuil1!$C$1:$BL$10,9,FALSE)","v":-34},{"$f":"T67-HLOOKUP(X67,Feuil1!$C$1:$BL$10,10,FALSE)","v":-894},null,null,null,null,null,null,"FED +"]
["F","CO","BNO",7,288978,"BOURRIEN","Laura",1998,59.8,"Stade St Lois","F",40,45,-48,45,-55,-55,55,55,100,-19.599999999999994,"FED +",5,{"$f":"IF(I68=\"\",\"\",IF(A68=\"H\",IF(OR(H68=\"SEN\",H68<1995),VLOOKUP(I68,Feuil1!$A$11:$G$29,6),IF(AND(H68>1994,H68<1998),VLOOKUP(I68,Feuil1!$A$11:$G$29,5),IF(AND(H68>1997,H68<2000),VLOOKUP(I68,Feuil1!$A$11:$G$29,4),IF(AND(H68>1999,H68<2002),VLOOKUP(I68,Feuil1!$A$11:$G$29,3),VLOOKUP(I68,Feuil1!$A$11:$G$29,2))))),IF(OR(H68=\"SEN\",H68<1995),VLOOKUP(I68,Feuil1!$G$11:$L$25,6),IF(AND(H68>1994,H68<1998),VLOOKUP(I68,Feuil1!$G$11:$L$25,5),IF(AND(H68>1997,H68<2000),VLOOKUP(I68,Feuil1!$G$11:$L$25,4),IF(AND(H68>1999,H68<2002),VLOOKUP(I68,Feuil1!$G$11:$L$25,3),VLOOKUP(I68,Feuil1!$G$11:$L$25,2)))))))","v":"FC2 63"},137.73062017622601,null," ",{"$f":"T68-HLOOKUP(X68,Feuil1!$C$1:$BL$10,2,FALSE)","v":45},{"$f":"T68-HLOOKUP(X68,Feuil1!$C$1:$BL$10,3,FALSE)","v":35},{"$f":"T68-HLOOKUP(X68,Feuil1!$C$1:$BL$10,4,FALSE)","v":25},{"$f":"T68-HLOOKUP(X68,Feuil1!$C$1:$BL$10,5,FALSE)","v":15},{"$f":"T68-HLOOKUP(X68,Feuil1!$C$1:$BL$10,6,FALSE)","v":5},{"$f":"T68-HLOOKUP(X68,Feuil1!$C$1:$BL$10,7,FALSE)","v":-10},{"$f":"T68-HLOOKUP(X68,Feuil1!$C$1:$BL$10,8,FALSE)","v":-25},{"$f":"T68-HLOOKUP(X68,Feuil1!$C$1:$BL$10,9,FALSE)","v":-40},{"$f":"T68-HLOOKUP(X68,Feuil1!$C$1:$BL$10,10,FALSE)","v":-900},null,null,null,null,null,null,"FED +"]
["F","SO","MPY",8,360521,"JENNISKEN","Laura",1998,62.1,"TOULOUSE HC","F",40,43,-46,43,50,53,-55,53,96,-28.200000000000003,"FED +",1,{"$f":"IF(I69=\"\",\"\",IF(A69=\"H\",IF(OR(H69=\"SEN\",H69<1995),VLOOKUP(I69,Feuil1!$A$11:$G$29,6),IF(AND(H69>1994,H69<1998),VLOOKUP(I69,Feuil1!$A$11:$G$29,5),IF(AND(H69>1997,H69<2000),VLOOKUP(I69,Feuil1!$A$11:$G$29,4),IF(AND(H69>1999,H69<2002),VLOOKUP(I69,Feuil1!$A$11:$G$29,3),VLOOKUP(I69,Feuil1!$A$11:$G$29,2))))),IF(OR(H69=\"SEN\",H69<1995),VLOOKUP(I69,Feuil1!$G$11:$L$25,6),IF(AND(H69>1994,H69<1998),VLOOKUP(I69,Feuil1!$G$11:$L$25,5),IF(AND(H69>1997,H69<2000),VLOOKUP(I69,Feuil1!$G$11:$L$25,4),IF(AND(H69>1999,H69<2002),VLOOKUP(I69,Feuil1!$G$11:$L$25,3),VLOOKUP(I69,Feuil1!$G$11:$L$25,2)))))))","v":"FC2 63"},128.81450225453412,null," ",{"$f":"T69-HLOOKUP(X69,Feuil1!$C$1:$BL$10,2,FALSE)","v":41},{"$f":"T69-HLOOKUP(X69,Feuil1!$C$1:$BL$10,3,FALSE)","v":31},{"$f":"T69-HLOOKUP(X69,Feuil1!$C$1:$BL$10,4,FALSE)","v":21},{"$f":"T69-HLOOKUP(X69,Feuil1!$C$1:$BL$10,5,FALSE)","v":11},{"$f":"T69-HLOOKUP(X69,Feuil1!$C$1:$BL$10,6,FALSE)","v":1},{"$f":"T69-HLOOKUP(X69,Feuil1!$C$1:$BL$10,7,FALSE)","v":-14},{"$f":"T69-HLOOKUP(X69,Feuil1!$C$1:$BL$10,8,FALSE)","v":-29},{"$f":"T69-HLOOKUP(X69,Feuil1!$C$1:$BL$10,9,FALSE)","v":-44},{"$f":"T69-HLOOKUP(X69,Feuil1!$C$1:$BL$10,10,FALSE)","v":-904},null,null,null,null,null,null,"FED +"]
["F","SEST","RAL",9,344106,"LAFAURIE","Lise",1998,61,"CH Arbresle","F",40,43,45,45,50,-53,-53,50,95,-27,"FED +",0,{"$f":"IF(I70=\"\",\"\",IF(A70=\"H\",IF(OR(H70=\"SEN\",H70<1995),VLOOKUP(I70,Feuil1!$A$11:$G$29,6),IF(AND(H70>1994,H70<1998),VLOOKUP(I70,Feuil1!$A$11:$G$29,5),IF(AND(H70>1997,H70<2000),VLOOKUP(I70,Feuil1!$A$11:$G$29,4),IF(AND(H70>1999,H70<2002),VLOOKUP(I70,Feuil1!$A$11:$G$29,3),VLOOKUP(I70,Feuil1!$A$11:$G$29,2))))),IF(OR(H70=\"SEN\",H70<1995),VLOOKUP(I70,Feuil1!$G$11:$L$25,6),IF(AND(H70>1994,H70<1998),VLOOKUP(I70,Feuil1!$G$11:$L$25,5),IF(AND(H70>1997,H70<2000),VLOOKUP(I70,Feuil1!$G$11:$L$25,4),IF(AND(H70>1999,H70<2002),VLOOKUP(I70,Feuil1!$G$11:$L$25,3),VLOOKUP(I70,Feuil1!$G$11:$L$25,2)))))))","v":"FC2 63"},129.04040641081193,null," ",{"$f":"T70-HLOOKUP(X70,Feuil1!$C$1:$BL$10,2,FALSE)","v":40},{"$f":"T70-HLOOKUP(X70,Feuil1!$C$1:$BL$10,3,FALSE)","v":30},{"$f":"T70-HLOOKUP(X70,Feuil1!$C$1:$BL$10,4,FALSE)","v":20},{"$f":"T70-HLOOKUP(X70,Feuil1!$C$1:$BL$10,5,FALSE)","v":10},{"$f":"T70-HLOOKUP(X70,Feuil1!$C$1:$BL$10,6,FALSE)","v":0},{"$f":"T70-HLOOKUP(X70,Feuil1!$C$1:$BL$10,7,FALSE)","v":-15},{"$f":"T70-HLOOKUP(X70,Feuil1!$C$1:$BL$10,8,FALSE)","v":-30},{"$f":"T70-HLOOKUP(X70,Feuil1!$C$1:$BL$10,9,FALSE)","v":-45},{"$f":"T70-HLOOKUP(X70,Feuil1!$C$1:$BL$10,10,FALSE)","v":-905},null,null,null,null,null,null,"FED +"]
["F","SEST","CAZ",10,365254,"GAUJARD","Marine",1998,62.7,"ASLDD TOULON","F",34,37,-39,37,48,51,53,53,90,-35.400000000000006,"IRG +",5,{"$f":"IF(I71=\"\",\"\",IF(A71=\"H\",IF(OR(H71=\"SEN\",H71<1995),VLOOKUP(I71,Feuil1!$A$11:$G$29,6),IF(AND(H71>1994,H71<1998),VLOOKUP(I71,Feuil1!$A$11:$G$29,5),IF(AND(H71>1997,H71<2000),VLOOKUP(I71,Feuil1!$A$11:$G$29,4),IF(AND(H71>1999,H71<2002),VLOOKUP(I71,Feuil1!$A$11:$G$29,3),VLOOKUP(I71,Feuil1!$A$11:$G$29,2))))),IF(OR(H71=\"SEN\",H71<1995),VLOOKUP(I71,Feuil1!$G$11:$L$25,6),IF(AND(H71>1994,H71<1998),VLOOKUP(I71,Feuil1!$G$11:$L$25,5),IF(AND(H71>1997,H71<2000),VLOOKUP(I71,Feuil1!$G$11:$L$25,4),IF(AND(H71>1999,H71<2002),VLOOKUP(I71,Feuil1!$G$11:$L$25,3),VLOOKUP(I71,Feuil1!$G$11:$L$25,2)))))))","v":"FC2 63"},119.9843679675553,null," ",{"$f":"T71-HLOOKUP(X71,Feuil1!$C$1:$BL$10,2,FALSE)","v":35},{"$f":"T71-HLOOKUP(X71,Feuil1!$C$1:$BL$10,3,FALSE)","v":25},{"$f":"T71-HLOOKUP(X71,Feuil1!$C$1:$BL$10,4,FALSE)","v":15},{"$f":"T71-HLOOKUP(X71,Feuil1!$C$1:$BL$10,5,FALSE)","v":5},{"$f":"T71-HLOOKUP(X71,Feuil1!$C$1:$BL$10,6,FALSE)","v":-5},{"$f":"T71-HLOOKUP(X71,Feuil1!$C$1:$BL$10,7,FALSE)","v":-20},{"$f":"T71-HLOOKUP(X71,Feuil1!$C$1:$BL$10,8,FALSE)","v":-35},{"$f":"T71-HLOOKUP(X71,Feuil1!$C$1:$BL$10,9,FALSE)","v":-50},{"$f":"T71-HLOOKUP(X71,Feuil1!$C$1:$BL$10,10,FALSE)","v":-910},null,null,null,null,null,null,"IRG +"]
["F","SO","MPY",11,378625,"GUILLOT","Léa",1998,60.5,"FIGEAC HC","F",32,34,-36,34,52,-54,-54,52,86,-35,"IRG +",1,{"$f":"IF(I72=\"\",\"\",IF(A72=\"H\",IF(OR(H72=\"SEN\",H72<1995),VLOOKUP(I72,Feuil1!$A$11:$G$29,6),IF(AND(H72>1994,H72<1998),VLOOKUP(I72,Feuil1!$A$11:$G$29,5),IF(AND(H72>1997,H72<2000),VLOOKUP(I72,Feuil1!$A$11:$G$29,4),IF(AND(H72>1999,H72<2002),VLOOKUP(I72,Feuil1!$A$11:$G$29,3),VLOOKUP(I72,Feuil1!$A$11:$G$29,2))))),IF(OR(H72=\"SEN\",H72<1995),VLOOKUP(I72,Feuil1!$G$11:$L$25,6),IF(AND(H72>1994,H72<1998),VLOOKUP(I72,Feuil1!$G$11:$L$25,5),IF(AND(H72>1997,H72<2000),VLOOKUP(I72,Feuil1!$G$11:$L$25,4),IF(AND(H72>1999,H72<2002),VLOOKUP(I72,Feuil1!$G$11:$L$25,3),VLOOKUP(I72,Feuil1!$G$11:$L$25,2)))))))","v":"FC2 63"},117.4847903691996,null," ",{"$f":"T72-HLOOKUP(X72,Feuil1!$C$1:$BL$10,2,FALSE)","v":31},{"$f":"T72-HLOOKUP(X72,Feuil1!$C$1:$BL$10,3,FALSE)","v":21},{"$f":"T72-HLOOKUP(X72,Feuil1!$C$1:$BL$10,4,FALSE)","v":11},{"$f":"T72-HLOOKUP(X72,Feuil1!$C$1:$BL$10,5,FALSE)","v":1},{"$f":"T72-HLOOKUP(X72,Feuil1!$C$1:$BL$10,6,FALSE)","v":-9},{"$f":"T72-HLOOKUP(X72,Feuil1!$C$1:$BL$10,7,FALSE)","v":-24},{"$f":"T72-HLOOKUP(X72,Feuil1!$C$1:$BL$10,8,FALSE)","v":-39},{"$f":"T72-HLOOKUP(X72,Feuil1!$C$1:$BL$10,9,FALSE)","v":-54},{"$f":"T72-HLOOKUP(X72,Feuil1!$C$1:$BL$10,10,FALSE)","v":-914},null,null,null,null,null,null,"IRG +"]
["F","SEST","RAL",12,379666,"RAILLON","Emilie",1998,58.3,"VALENCE","F",-30,32,35,35,42,47,-49,47,82,-34.599999999999994,"REG +",7,{"$f":"IF(I73=\"\",\"\",IF(A73=\"H\",IF(OR(H73=\"SEN\",H73<1995),VLOOKUP(I73,Feuil1!$A$11:$G$29,6),IF(AND(H73>1994,H73<1998),VLOOKUP(I73,Feuil1!$A$11:$G$29,5),IF(AND(H73>1997,H73<2000),VLOOKUP(I73,Feuil1!$A$11:$G$29,4),IF(AND(H73>1999,H73<2002),VLOOKUP(I73,Feuil1!$A$11:$G$29,3),VLOOKUP(I73,Feuil1!$A$11:$G$29,2))))),IF(OR(H73=\"SEN\",H73<1995),VLOOKUP(I73,Feuil1!$G$11:$L$25,6),IF(AND(H73>1994,H73<1998),VLOOKUP(I73,Feuil1!$G$11:$L$25,5),IF(AND(H73>1997,H73<2000),VLOOKUP(I73,Feuil1!$G$11:$L$25,4),IF(AND(H73>1999,H73<2002),VLOOKUP(I73,Feuil1!$G$11:$L$25,3),VLOOKUP(I73,Feuil1!$G$11:$L$25,2)))))))","v":"FC2 63"},115.01299291490646,null," ",{"$f":"T73-HLOOKUP(X73,Feuil1!$C$1:$BL$10,2,FALSE)","v":27},{"$f":"T73-HLOOKUP(X73,Feuil1!$C$1:$BL$10,3,FALSE)","v":17},{"$f":"T73-HLOOKUP(X73,Feuil1!$C$1:$BL$10,4,FALSE)","v":7},{"$f":"T73-HLOOKUP(X73,Feuil1!$C$1:$BL$10,5,FALSE)","v":-3},{"$f":"T73-HLOOKUP(X73,Feuil1!$C$1:$BL$10,6,FALSE)","v":-13},{"$f":"T73-HLOOKUP(X73,Feuil1!$C$1:$BL$10,7,FALSE)","v":-28},{"$f":"T73-HLOOKUP(X73,Feuil1!$C$1:$BL$10,8,FALSE)","v":-43},{"$f":"T73-HLOOKUP(X73,Feuil1!$C$1:$BL$10,9,FALSE)","v":-58},{"$f":"T73-HLOOKUP(X73,Feuil1!$C$1:$BL$10,10,FALSE)","v":-918},null,null,null,null,null,null,"REG +"]
["F","N","PIC",13,367780,"DENAND","Gwendoline",1998,63,"La Ferté Milon CMHM","F",30,34,-36,34,40,45,-47,45,79,-47,"REG +",4,{"$f":"IF(I74=\"\",\"\",IF(A74=\"H\",IF(OR(H74=\"SEN\",H74<1995),VLOOKUP(I74,Feuil1!$A$11:$G$29,6),IF(AND(H74>1994,H74<1998),VLOOKUP(I74,Feuil1!$A$11:$G$29,5),IF(AND(H74>1997,H74<2000),VLOOKUP(I74,Feuil1!$A$11:$G$29,4),IF(AND(H74>1999,H74<2002),VLOOKUP(I74,Feuil1!$A$11:$G$29,3),VLOOKUP(I74,Feuil1!$A$11:$G$29,2))))),IF(OR(H74=\"SEN\",H74<1995),VLOOKUP(I74,Feuil1!$G$11:$L$25,6),IF(AND(H74>1994,H74<1998),VLOOKUP(I74,Feuil1!$G$11:$L$25,5),IF(AND(H74>1997,H74<2000),VLOOKUP(I74,Feuil1!$G$11:$L$25,4),IF(AND(H74>1999,H74<2002),VLOOKUP(I74,Feuil1!$G$11:$L$25,3),VLOOKUP(I74,Feuil1!$G$11:$L$25,2)))))))","v":"FC2 63"},104.98451878563606,null," ",{"$f":"T74-HLOOKUP(X74,Feuil1!$C$1:$BL$10,2,FALSE)","v":24},{"$f":"T74-HLOOKUP(X74,Feuil1!$C$1:$BL$10,3,FALSE)","v":14},{"$f":"T74-HLOOKUP(X74,Feuil1!$C$1:$BL$10,4,FALSE)","v":4},{"$f":"T74-HLOOKUP(X74,Feuil1!$C$1:$BL$10,5,FALSE)","v":-6},{"$f":"T74-HLOOKUP(X74,Feuil1!$C$1:$BL$10,6,FALSE)","v":-16},{"$f":"T74-HLOOKUP(X74,Feuil1!$C$1:$BL$10,7,FALSE)","v":-31},{"$f":"T74-HLOOKUP(X74,Feuil1!$C$1:$BL$10,8,FALSE)","v":-46},{"$f":"T74-HLOOKUP(X74,Feuil1!$C$1:$BL$10,9,FALSE)","v":-61},{"$f":"T74-HLOOKUP(X74,Feuil1!$C$1:$BL$10,10,FALSE)","v":-921},null,null,null,null,null,null,"REG +"]
["F","SO","MPY",14,357559,"MEUNIER","Julie",1999,59.3,"MONTAUBAN HC","F",26,29,32,32,35,39,-43,39,71,-47.599999999999994,"DEP +",6,{"$f":"IF(I75=\"\",\"\",IF(A75=\"H\",IF(OR(H75=\"SEN\",H75<1995),VLOOKUP(I75,Feuil1!$A$11:$G$29,6),IF(AND(H75>1994,H75<1998),VLOOKUP(I75,Feuil1!$A$11:$G$29,5),IF(AND(H75>1997,H75<2000),VLOOKUP(I75,Feuil1!$A$11:$G$29,4),IF(AND(H75>1999,H75<2002),VLOOKUP(I75,Feuil1!$A$11:$G$29,3),VLOOKUP(I75,Feuil1!$A$11:$G$29,2))))),IF(OR(H75=\"SEN\",H75<1995),VLOOKUP(I75,Feuil1!$G$11:$L$25,6),IF(AND(H75>1994,H75<1998),VLOOKUP(I75,Feuil1!$G$11:$L$25,5),IF(AND(H75>1997,H75<2000),VLOOKUP(I75,Feuil1!$G$11:$L$25,4),IF(AND(H75>1999,H75<2002),VLOOKUP(I75,Feuil1!$G$11:$L$25,3),VLOOKUP(I75,Feuil1!$G$11:$L$25,2)))))))","v":"FC2 63"},98.373160857882482,null," ",{"$f":"T75-HLOOKUP(X75,Feuil1!$C$1:$BL$10,2,FALSE)","v":16},{"$f":"T75-HLOOKUP(X75,Feuil1!$C$1:$BL$10,3,FALSE)","v":6},{"$f":"T75-HLOOKUP(X75,Feuil1!$C$1:$BL$10,4,FALSE)","v":-4},{"$f":"T75-HLOOKUP(X75,Feuil1!$C$1:$BL$10,5,FALSE)","v":-14},{"$f":"T75-HLOOKUP(X75,Feuil1!$C$1:$BL$10,6,FALSE)","v":-24},{"$f":"T75-HLOOKUP(X75,Feuil1!$C$1:$BL$10,7,FALSE)","v":-39},{"$f":"T75-HLOOKUP(X75,Feuil1!$C$1:$BL$10,8,FALSE)","v":-54},{"$f":"T75-HLOOKUP(X75,Feuil1!$C$1:$BL$10,9,FALSE)","v":-69},{"$f":"T75-HLOOKUP(X75,Feuil1!$C$1:$BL$10,10,FALSE)","v":-929},null,null,null,null,null,null,"DEP +"]
["F","SEST","RAL",15,391306,"BERTRAND","Morgane",1998,59,"SAINT MARCELLIN","F",27,29,31,31,35,39,-42,39,70,-48,"DEP +",5,{"$f":"IF(I76=\"\",\"\",IF(A76=\"H\",IF(OR(H76=\"SEN\",H76<1995),VLOOKUP(I76,Feuil1!$A$11:$G$29,6),IF(AND(H76>1994,H76<1998),VLOOKUP(I76,Feuil1!$A$11:$G$29,5),IF(AND(H76>1997,H76<2000),VLOOKUP(I76,Feuil1!$A$11:$G$29,4),IF(AND(H76>1999,H76<2002),VLOOKUP(I76,Feuil1!$A$11:$G$29,3),VLOOKUP(I76,Feuil1!$A$11:$G$29,2))))),IF(OR(H76=\"SEN\",H76<1995),VLOOKUP(I76,Feuil1!$G$11:$L$25,6),IF(AND(H76>1994,H76<1998),VLOOKUP(I76,Feuil1!$G$11:$L$25,5),IF(AND(H76>1997,H76<2000),VLOOKUP(I76,Feuil1!$G$11:$L$25,4),IF(AND(H76>1999,H76<2002),VLOOKUP(I76,Feuil1!$G$11:$L$25,3),VLOOKUP(I76,Feuil1!$G$11:$L$25,2)))))))","v":"FC2 63"},97.339931466361861,null," ",{"$f":"T76-HLOOKUP(X76,Feuil1!$C$1:$BL$10,2,FALSE)","v":15},{"$f":"T76-HLOOKUP(X76,Feuil1!$C$1:$BL$10,3,FALSE)","v":5},{"$f":"T76-HLOOKUP(X76,Feuil1!$C$1:$BL$10,4,FALSE)","v":-5},{"$f":"T76-HLOOKUP(X76,Feuil1!$C$1:$BL$10,5,FALSE)","v":-15},{"$f":"T76-HLOOKUP(X76,Feuil1!$C$1:$BL$10,6,FALSE)","v":-25},{"$f":"T76-HLOOKUP(X76,Feuil1!$C$1:$BL$10,7,FALSE)","v":-40},{"$f":"T76-HLOOKUP(X76,Feuil1!$C$1:$BL$10,8,FALSE)","v":-55},{"$f":"T76-HLOOKUP(X76,Feuil1!$C$1:$BL$10,9,FALSE)","v":-70},{"$f":"T76-HLOOKUP(X76,Feuil1!$C$1:$BL$10,10,FALSE)","v":-930},null,null,null,null,null,null,"DEP +"]
["F","SO","MPY",16,269729,"SYRIEIX","Anne",1998,63,"DECAZEVILLE HC","F",28,30,-32,30,35,40,-45,40,70,-56,"DEP +",5,{"$f":"IF(I77=\"\",\"\",IF(A77=\"H\",IF(OR(H77=\"SEN\",H77<1995),VLOOKUP(I77,Feuil1!$A$11:$G$29,6),IF(AND(H77>1994,H77<1998),VLOOKUP(I77,Feuil1!$A$11:$G$29,5),IF(AND(H77>1997,H77<2000),VLOOKUP(I77,Feuil1!$A$11:$G$29,4),IF(AND(H77>1999,H77<2002),VLOOKUP(I77,Feuil1!$A$11:$G$29,3),VLOOKUP(I77,Feuil1!$A$11:$G$29,2))))),IF(OR(H77=\"SEN\",H77<1995),VLOOKUP(I77,Feuil1!$G$11:$L$25,6),IF(AND(H77>1994,H77<1998),VLOOKUP(I77,Feuil1!$G$11:$L$25,5),IF(AND(H77>1997,H77<2000),VLOOKUP(I77,Feuil1!$G$11:$L$25,4),IF(AND(H77>1999,H77<2002),VLOOKUP(I77,Feuil1!$G$11:$L$25,3),VLOOKUP(I77,Feuil1!$G$11:$L$25,2)))))))","v":"FC2 63"},93.024257151829417,null," ",{"$f":"T77-HLOOKUP(X77,Feuil1!$C$1:$BL$10,2,FALSE)","v":15},{"$f":"T77-HLOOKUP(X77,Feuil1!$C$1:$BL$10,3,FALSE)","v":5},{"$f":"T77-HLOOKUP(X77,Feuil1!$C$1:$BL$10,4,FALSE)","v":-5},{"$f":"T77-HLOOKUP(X77,Feuil1!$C$1:$BL$10,5,FALSE)","v":-15},{"$f":"T77-HLOOKUP(X77,Feuil1!$C$1:$BL$10,6,FALSE)","v":-25},{"$f":"T77-HLOOKUP(X77,Feuil1!$C$1:$BL$10,7,FALSE)","v":-40},{"$f":"T77-HLOOKUP(X77,Feuil1!$C$1:$BL$10,8,FALSE)","v":-55},{"$f":"T77-HLOOKUP(X77,Feuil1!$C$1:$BL$10,9,FALSE)","v":-70},{"$f":"T77-HLOOKUP(X77,Feuil1!$C$1:$BL$10,10,FALSE)","v":-930},null,null,null,null,null,null,"DEP +"]
["F","CO","BNO",17,384450,"RIVIERE","Pauline",1998,59.9,"Stade St Lois","F",25,28,-30,28,30,35,38,38,66,-53.8,"DEP +",1,{"$f":"IF(I78=\"\",\"\",IF(A78=\"H\",IF(OR(H78=\"SEN\",H78<1995),VLOOKUP(I78,Feuil1!$A$11:$G$29,6),IF(AND(H78>1994,H78<1998),VLOOKUP(I78,Feuil1!$A$11:$G$29,5),IF(AND(H78>1997,H78<2000),VLOOKUP(I78,Feuil1!$A$11:$G$29,4),IF(AND(H78>1999,H78<2002),VLOOKUP(I78,Feuil1!$A$11:$G$29,3),VLOOKUP(I78,Feuil1!$A$11:$G$29,2))))),IF(OR(H78=\"SEN\",H78<1995),VLOOKUP(I78,Feuil1!$G$11:$L$25,6),IF(AND(H78>1994,H78<1998),VLOOKUP(I78,Feuil1!$G$11:$L$25,5),IF(AND(H78>1997,H78<2000),VLOOKUP(I78,Feuil1!$G$11:$L$25,4),IF(AND(H78>1999,H78<2002),VLOOKUP(I78,Feuil1!$G$11:$L$25,3),VLOOKUP(I78,Feuil1!$G$11:$L$25,2)))))))","v":"FC2 63"},90.795082486872957,null," ",{"$f":"T78-HLOOKUP(X78,Feuil1!$C$1:$BL$10,2,FALSE)","v":11},{"$f":"T78-HLOOKUP(X78,Feuil1!$C$1:$BL$10,3,FALSE)","v":1},{"$f":"T78-HLOOKUP(X78,Feuil1!$C$1:$BL$10,4,FALSE)","v":-9},{"$f":"T78-HLOOKUP(X78,Feuil1!$C$1:$BL$10,5,FALSE)","v":-19},{"$f":"T78-HLOOKUP(X78,Feuil1!$C$1:$BL$10,6,FALSE)","v":-29},{"$f":"T78-HLOOKUP(X78,Feuil1!$C$1:$BL$10,7,FALSE)","v":-44},{"$f":"T78-HLOOKUP(X78,Feuil1!$C$1:$BL$10,8,FALSE)","v":-59},{"$f":"T78-HLOOKUP(X78,Feuil1!$C$1:$BL$10,9,FALSE)","v":-74},{"$f":"T78-HLOOKUP(X78,Feuil1!$C$1:$BL$10,10,FALSE)","v":-934},null,null,null,null,null,null,"DEP +"]
["F","N","PIC",18,357294,"MICHEL PINGUERBE","Chloé",1999,58.82,"Villers-Bretonneux KC","F",20,22,25,25,32,34,36,36,61,-56.64,"DEB ",6,{"$f":"IF(I79=\"\",\"\",IF(A79=\"H\",IF(OR(H79=\"SEN\",H79<1995),VLOOKUP(I79,Feuil1!$A$11:$G$29,6),IF(AND(H79>1994,H79<1998),VLOOKUP(I79,Feuil1!$A$11:$G$29,5),IF(AND(H79>1997,H79<2000),VLOOKUP(I79,Feuil1!$A$11:$G$29,4),IF(AND(H79>1999,H79<2002),VLOOKUP(I79,Feuil1!$A$11:$G$29,3),VLOOKUP(I79,Feuil1!$A$11:$G$29,2))))),IF(OR(H79=\"SEN\",H79<1995),VLOOKUP(I79,Feuil1!$G$11:$L$25,6),IF(AND(H79>1994,H79<1998),VLOOKUP(I79,Feuil1!$G$11:$L$25,5),IF(AND(H79>1997,H79<2000),VLOOKUP(I79,Feuil1!$G$11:$L$25,4),IF(AND(H79>1999,H79<2002),VLOOKUP(I79,Feuil1!$G$11:$L$25,3),VLOOKUP(I79,Feuil1!$G$11:$L$25,2)))))))","v":"FC2 63"},85.011115117000202,null," ",{"$f":"T79-HLOOKUP(X79,Feuil1!$C$1:$BL$10,2,FALSE)","v":6},{"$f":"T79-HLOOKUP(X79,Feuil1!$C$1:$BL$10,3,FALSE)","v":-4},{"$f":"T79-HLOOKUP(X79,Feuil1!$C$1:$BL$10,4,FALSE)","v":-14},{"$f":"T79-HLOOKUP(X79,Feuil1!$C$1:$BL$10,5,FALSE)","v":-24},{"$f":"T79-HLOOKUP(X79,Feuil1!$C$1:$BL$10,6,FALSE)","v":-34},{"$f":"T79-HLOOKUP(X79,Feuil1!$C$1:$BL$10,7,FALSE)","v":-49},{"$f":"T79-HLOOKUP(X79,Feuil1!$C$1:$BL$10,8,FALSE)","v":-64},{"$f":"T79-HLOOKUP(X79,Feuil1!$C$1:$BL$10,9,FALSE)","v":-79},{"$f":"T79-HLOOKUP(X79,Feuil1!$C$1:$BL$10,10,FALSE)","v":-939},null,null,null,null,null,null,"DEB "]
["F","NE","ALS",19,381288,"PIERRE","Zoé",1998,59.2,"SR Obernai HM","F",18,-20,20,20,-24,24,26,26,46,-72.400000000000006,"DEB ",-9,{"$f":"IF(I80=\"\",\"\",IF(A80=\"H\",IF(OR(H80=\"SEN\",H80<1995),VLOOKUP(I80,Feuil1!$A$11:$G$29,6),IF(AND(H80>1994,H80<1998),VLOOKUP(I80,Feuil1!$A$11:$G$29,5),IF(AND(H80>1997,H80<2000),VLOOKUP(I80,Feuil1!$A$11:$G$29,4),IF(AND(H80>1999,H80<2002),VLOOKUP(I80,Feuil1!$A$11:$G$29,3),VLOOKUP(I80,Feuil1!$A$11:$G$29,2))))),IF(OR(H80=\"SEN\",H80<1995),VLOOKUP(I80,Feuil1!$G$11:$L$25,6),IF(AND(H80>1994,H80<1998),VLOOKUP(I80,Feuil1!$G$11:$L$25,5),IF(AND(H80>1997,H80<2000),VLOOKUP(I80,Feuil1!$G$11:$L$25,4),IF(AND(H80>1999,H80<2002),VLOOKUP(I80,Feuil1!$G$11:$L$25,3),VLOOKUP(I80,Feuil1!$G$11:$L$25,2)))))))","v":"FC2 63"},63.81153058965684,null," ",{"$f":"T80-HLOOKUP(X80,Feuil1!$C$1:$BL$10,2,FALSE)","v":-9},{"$f":"T80-HLOOKUP(X80,Feuil1!$C$1:$BL$10,3,FALSE)","v":-19},{"$f":"T80-HLOOKUP(X80,Feuil1!$C$1:$BL$10,4,FALSE)","v":-29},{"$f":"T80-HLOOKUP(X80,Feuil1!$C$1:$BL$10,5,FALSE)","v":-39},{"$f":"T80-HLOOKUP(X80,Feuil1!$C$1:$BL$10,6,FALSE)","v":-49},{"$f":"T80-HLOOKUP(X80,Feuil1!$C$1:$BL$10,7,FALSE)","v":-64},{"$f":"T80-HLOOKUP(X80,Feuil1!$C$1:$BL$10,8,FALSE)","v":-79},{"$f":"T80-HLOOKUP(X80,Feuil1!$C$1:$BL$10,9,FALSE)","v":-94},{"$f":"T80-HLOOKUP(X80,Feuil1!$C$1:$BL$10,10,FALSE)","v":-954},null,null,null,null,null,null,"DEB "]
[null,null,null,null,null,null,null,null,null,null,null,null,null,null,null,null,null,null,null,null,null,null,null,null,null,null," ",{"$f":"T81-HLOOKUP(X81,Feuil1!$C$1:$BL$10,2,FALSE)","v":{"$error":"#N/A"}},{"$f":"T81-HLOOKUP(X81,Feuil1!$C$1:$BL$10,3,FALSE)","v":{"$error":"#N/A"}},{"$f":"T81-HLOOKUP(X81,Feuil1!$C$1:$BL$10,4,FALSE)","v":{"$error":"#N/A"}},{"$f":"T81-HLOOKUP(X81,Feuil1!$C$1:$BL$10,5,FALSE)","v":{"$error":"#N/A"}},{"$f":"T81-HLOOKUP(X81,Feuil1!$C$1:$BL$10,6,FALSE)","v":{"$error":"#N/A"}},{"$f":"T81-HLOOKUP(X81,Feuil1!$C$1:$BL$10,7,FALSE)","v":{"$error":"#N/A"}},{"$f":"T81-HLOOKUP(X81,Feuil1!$C$1:$BL$10,8,FALSE)","v":{"$error":"#N/A"}},{"$f":"T81-HLOOKUP(X81,Feuil1!$C$1:$BL$10,9,FALSE)","v":{"$error":"#N/A"}},{"$f":"T81-HLOOKUP(X81,Feuil1!$C$1:$BL$10,10,FALSE)","v":{"$error":"#N/A"}},null,null,null,null,null,null,{"$f":"IF(AJ81>=0,$AJ$4,IF(AI81>=0,$AI$4,IF(AH81>=0,$AH$4,IF(AG81>=0,$AG$4,IF(AF81>=0,$AF$4,IF(AE81>=0,$AE$4,IF(AD81>=0,$AD$4,IF(AC81>=0,$AC$4,$AB$4))))))))","v":{"$error":"#N/A"}}]
["F","NE","ALS",1,238723,"OTT","Justine",1998,63.75,"SHC Haguenau","F",-64,64,67,{"$f":"IF(H82=\"\",\"\",IF(MAXA(L82:N82)<=0,0,MAXA(L82:N82)))","v":67},83,-87,87,{"$f":"IF(H82=\"\",\"\",IF(MAXA(P82:R82)<=0,0,MAXA(P82:R82)))","v":87},{"$f":"IF(H82=\"\",\"\",IF(OR(O82=0,S82=0),0,O82+S82))","v":154},{"$f":"T82-I82*2","v":26.5},{"$f":"IF(H82=\"\",\"\",AQ82)","v":"INTA +"},{"$f":"IF(AJ82>=0,AJ82,IF(AI82>=0,AI82,IF(AH82>=0,AH82,IF(AG82>=0,AG82,IF(AF82>=0,AF82,IF(AE82>=0,AE82,IF(AD82>=0,AD82,IF(AC82>=0,AC82,AB82))))))))","v":4},{"$f":"IF(I82=\"\",\"\",IF(A82=\"H\",IF(OR(H82=\"SEN\",H82<1995),VLOOKUP(I82,Feuil1!$A$11:$G$29,6),IF(AND(H82>1994,H82<1998),VLOOKUP(I82,Feuil1!$A$11:$G$29,5),IF(AND(H82>1997,H82<2000),VLOOKUP(I82,Feuil1!$A$11:$G$29,4),IF(AND(H82>1999,H82<2002),VLOOKUP(I82,Feuil1!$A$11:$G$29,3),VLOOKUP(I82,Feuil1!$A$11:$G$29,2))))),IF(OR(H82=\"SEN\",H82<1995),VLOOKUP(I82,Feuil1!$G$11:$L$25,6),IF(AND(H82>1994,H82<1998),VLOOKUP(I82,Feuil1!$G$11:$L$25,5),IF(AND(H82>1997,H82<2000),VLOOKUP(I82,Feuil1!$G$11:$L$25,4),IF(AND(H82>1999,H82<2002),VLOOKUP(I82,Feuil1!$G$11:$L$25,3),VLOOKUP(I82,Feuil1!$G$11:$L$25,2)))))))","v":"FC2 69"},{"$f":"IF(I82=\"\",\"\",IF(A82=\"H\",10^(0.794358141*LOG(I82/174.393)^2)*T82,IF(A82=\"F\",10^(0.89726074*LOG(I82/148.026)^2)*T82,\"\")))","v":203.05833087833517},null," ",{"$f":"T82-HLOOKUP(X82,Feuil1!$C$1:$BL$10,2,FALSE)","v":94},{"$f":"T82-HLOOKUP(X82,Feuil1!$C$1:$BL$10,3,FALSE)","v":84},{"$f":"T82-HLOOKUP(X82,Feuil1!$C$1:$BL$10,4,FALSE)","v":74},{"$f":"T82-HLOOKUP(X82,Feuil1!$C$1:$BL$10,5,FALSE)","v":64},{"$f":"T82-HLOOKUP(X82,Feuil1!$C$1:$BL$10,6,FALSE)","v":49},{"$f":"T82-HLOOKUP(X82,Feuil1!$C$1:$BL$10,7,FALSE)","v":34},{"$f":"T82-HLOOKUP(X82,Feuil1!$C$1:$BL$10,8,FALSE)","v":19},{"$f":"T82-HLOOKUP(X82,Feuil1!$C$1:$BL$10,9,FALSE)","v":4},{"$f":"T82-HLOOKUP(X82,Feuil1!$C$1:$BL$10,10,FALSE)","v":-846},null,null,null,null,null,null,{"$f":"IF(AJ82>=0,$AJ$4,IF(AI82>=0,$AI$4,IF(AH82>=0,$AH$4,IF(AG82>=0,$AG$4,IF(AF82>=0,$AF$4,IF(AE82>=0,$AE$4,IF(AD82>=0,$AD$4,IF(AC82>=0,$AC$4,$AB$4))))))))","v":"INTA +"}]
["F","SEST","CAZ",2,362268,"MAZOUZ","Sophie",1998,68.25,"ASLDD TOULON","F",42,44,47,47,61,64,67,67,114,-22.5,"FED +",9,{"$f":"IF(I83=\"\",\"\",IF(A83=\"H\",IF(OR(H83=\"SEN\",H83<1995),VLOOKUP(I83,Feuil1!$A$11:$G$29,6),IF(AND(H83>1994,H83<1998),VLOOKUP(I83,Feuil1!$A$11:$G$29,5),IF(AND(H83>1997,H83<2000),VLOOKUP(I83,Feuil1!$A$11:$G$29,4),IF(AND(H83>1999,H83<2002),VLOOKUP(I83,Feuil1!$A$11:$G$29,3),VLOOKUP(I83,Feuil1!$A$11:$G$29,2))))),IF(OR(H83=\"SEN\",H83<1995),VLOOKUP(I83,Feuil1!$G$11:$L$25,6),IF(AND(H83>1994,H83<1998),VLOOKUP(I83,Feuil1!$G$11:$L$25,5),IF(AND(H83>1997,H83<2000),VLOOKUP(I83,Feuil1!$G$11:$L$25,4),IF(AND(H83>1999,H83<2002),VLOOKUP(I83,Feuil1!$G$11:$L$25,3),VLOOKUP(I83,Feuil1!$G$11:$L$25,2)))))))","v":"FC2 69"},143.99385366451673,null," ",{"$f":"T83-HLOOKUP(X83,Feuil1!$C$1:$BL$10,2,FALSE)","v":54},{"$f":"T83-HLOOKUP(X83,Feuil1!$C$1:$BL$10,3,FALSE)","v":44},{"$f":"T83-HLOOKUP(X83,Feuil1!$C$1:$BL$10,4,FALSE)","v":34},{"$f":"T83-HLOOKUP(X83,Feuil1!$C$1:$BL$10,5,FALSE)","v":24},{"$f":"T83-HLOOKUP(X83,Feuil1!$C$1:$BL$10,6,FALSE)","v":9},{"$f":"T83-HLOOKUP(X83,Feuil1!$C$1:$BL$10,7,FALSE)","v":-6},{"$f":"T83-HLOOKUP(X83,Feuil1!$C$1:$BL$10,8,FALSE)","v":-21},{"$f":"T83-HLOOKUP(X83,Feuil1!$C$1:$BL$10,9,FALSE)","v":-36},{"$f":"T83-HLOOKUP(X83,Feuil1!$C$1:$BL$10,10,FALSE)","v":-886},null,null,null,null,null,null,"FED +"]
["F","NE","CHA",3,239747,"VAUTARD","Priscillia",1999,67.599999999999994,"Langres HM","F",48,-50,50,50,52,55,58,58,108,-27.199999999999989,"FED +",3,{"$f":"IF(I84=\"\",\"\",IF(A84=\"H\",IF(OR(H84=\"SEN\",H84<1995),VLOOKUP(I84,Feuil1!$A$11:$G$29,6),IF(AND(H84>1994,H84<1998),VLOOKUP(I84,Feuil1!$A$11:$G$29,5),IF(AND(H84>1997,H84<2000),VLOOKUP(I84,Feuil1!$A$11:$G$29,4),IF(AND(H84>1999,H84<2002),VLOOKUP(I84,Feuil1!$A$11:$G$29,3),VLOOKUP(I84,Feuil1!$A$11:$G$29,2))))),IF(OR(H84=\"SEN\",H84<1995),VLOOKUP(I84,Feuil1!$G$11:$L$25,6),IF(AND(H84>1994,H84<1998),VLOOKUP(I84,Feuil1!$G$11:$L$25,5),IF(AND(H84>1997,H84<2000),VLOOKUP(I84,Feuil1!$G$11:$L$25,4),IF(AND(H84>1999,H84<2002),VLOOKUP(I84,Feuil1!$G$11:$L$25,3),VLOOKUP(I84,Feuil1!$G$11:$L$25,2)))))))","v":"FC2 69"},137.21006998958327,null," ",{"$f":"T84-HLOOKUP(X84,Feuil1!$C$1:$BL$10,2,FALSE)","v":48},{"$f":"T84-HLOOKUP(X84,Feuil1!$C$1:$BL$10,3,FALSE)","v":38},{"$f":"T84-HLOOKUP(X84,Feuil1!$C$1:$BL$10,4,FALSE)","v":28},{"$f":"T84-HLOOKUP(X84,Feuil1!$C$1:$BL$10,5,FALSE)","v":18},{"$f":"T84-HLOOKUP(X84,Feuil1!$C$1:$BL$10,6,FALSE)","v":3},{"$f":"T84-HLOOKUP(X84,Feuil1!$C$1:$BL$10,7,FALSE)","v":-12},{"$f":"T84-HLOOKUP(X84,Feuil1!$C$1:$BL$10,8,FALSE)","v":-27},{"$f":"T84-HLOOKUP(X84,Feuil1!$C$1:$BL$10,9,FALSE)","v":-42},{"$f":"T84-HLOOKUP(X84,Feuil1!$C$1:$BL$10,10,FALSE)","v":-892},null,null,null,null,null,null,"FED +"]
["F","NE","ALS",4,306518,"BURST","Justine",1998,68.3,"SR Obernai HM","F",45,48,50,50,55,-60,-60,55,105,-31.599999999999994,"FED +",0,{"$f":"IF(I85=\"\",\"\",IF(A85=\"H\",IF(OR(H85=\"SEN\",H85<1995),VLOOKUP(I85,Feuil1!$A$11:$G$29,6),IF(AND(H85>1994,H85<1998),VLOOKUP(I85,Feuil1!$A$11:$G$29,5),IF(AND(H85>1997,H85<2000),VLOOKUP(I85,Feuil1!$A$11:$G$29,4),IF(AND(H85>1999,H85<2002),VLOOKUP(I85,Feuil1!$A$11:$G$29,3),VLOOKUP(I85,Feuil1!$A$11:$G$29,2))))),IF(OR(H85=\"SEN\",H85<1995),VLOOKUP(I85,Feuil1!$G$11:$L$25,6),IF(AND(H85>1994,H85<1998),VLOOKUP(I85,Feuil1!$G$11:$L$25,5),IF(AND(H85>1997,H85<2000),VLOOKUP(I85,Feuil1!$G$11:$L$25,4),IF(AND(H85>1999,H85<2002),VLOOKUP(I85,Feuil1!$G$11:$L$25,3),VLOOKUP(I85,Feuil1!$G$11:$L$25,2)))))))","v":"FC2 69"},132.56735429908028,null," ",{"$f":"T85-HLOOKUP(X85,Feuil1!$C$1:$BL$10,2,FALSE)","v":45},{"$f":"T85-HLOOKUP(X85,Feuil1!$C$1:$BL$10,3,FALSE)","v":35},{"$f":"T85-HLOOKUP(X85,Feuil1!$C$1:$BL$10,4,FALSE)","v":25},{"$f":"T85-HLOOKUP(X85,Feuil1!$C$1:$BL$10,5,FALSE)","v":15},{"$f":"T85-HLOOKUP(X85,Feuil1!$C$1:$BL$10,6,FALSE)","v":0},{"$f":"T85-HLOOKUP(X85,Feuil1!$C$1:$BL$10,7,FALSE)","v":-15},{"$f":"T85-HLOOKUP(X85,Feuil1!$C$1:$BL$10,8,FALSE)","v":-30},{"$f":"T85-HLOOKUP(X85,Feuil1!$C$1:$BL$10,9,FALSE)","v":-45},{"$f":"T85-HLOOKUP(X85,Feuil1!$C$1:$BL$10,10,FALSE)","v":-895},null,null,null,null,null,null,"FED +"]
["F","SEST","CAZ",5,363004,"PEUGNIEZ","Clea",1998,65.099999999999994,"ASLDD TOULON","F",41,-43,44,44,55,-58,59,59,103,-27.199999999999989,"IRG +",13,{"$f":"IF(I86=\"\",\"\",IF(A86=\"H\",IF(OR(H86=\"SEN\",H86<1995),VLOOKUP(I86,Feuil1!$A$11:$G$29,6),IF(AND(H86>1994,H86<1998),VLOOKUP(I86,Feuil1!$A$11:$G$29,5),IF(AND(H86>1997,H86<2000),VLOOKUP(I86,Feuil1!$A$11:$G$29,4),IF(AND(H86>1999,H86<2002),VLOOKUP(I86,Feuil1!$A$11:$G$29,3),VLOOKUP(I86,Feuil1!$A$11:$G$29,2))))),IF(OR(H86=\"SEN\",H86<1995),VLOOKUP(I86,Feuil1!$G$11:$L$25,6),IF(AND(H86>1994,H86<1998),VLOOKUP(I86,Feuil1!$G$11:$L$25,5),IF(AND(H86>1997,H86<2000),VLOOKUP(I86,Feuil1!$G$11:$L$25,4),IF(AND(H86>1999,H86<2002),VLOOKUP(I86,Feuil1!$G$11:$L$25,3),VLOOKUP(I86,Feuil1!$G$11:$L$25,2)))))))","v":"FC2 69"},133.97895771110615,null," ",{"$f":"T86-HLOOKUP(X86,Feuil1!$C$1:$BL$10,2,FALSE)","v":43},{"$f":"T86-HLOOKUP(X86,Feuil1!$C$1:$BL$10,3,FALSE)","v":33},{"$f":"T86-HLOOKUP(X86,Feuil1!$C$1:$BL$10,4,FALSE)","v":23},{"$f":"T86-HLOOKUP(X86,Feuil1!$C$1:$BL$10,5,FALSE)","v":13},{"$f":"T86-HLOOKUP(X86,Feuil1!$C$1:$BL$10,6,FALSE)","v":-2},{"$f":"T86-HLOOKUP(X86,Feuil1!$C$1:$BL$10,7,FALSE)","v":-17},{"$f":"T86-HLOOKUP(X86,Feuil1!$C$1:$BL$10,8,FALSE)","v":-32},{"$f":"T86-HLOOKUP(X86,Feuil1!$C$1:$BL$10,9,FALSE)","v":-47},{"$f":"T86-HLOOKUP(X86,Feuil1!$C$1:$BL$10,10,FALSE)","v":-897},null,null,null,null,null,null,"IRG +"]
["F","SEST","CAZ",6,365254,"GAUJARD","Marine",1998,65.3," ASLDD TOULON","F",42,45,-47,45,54,57,-60,57,102,-28.599999999999994,"IRG +",12,{"$f":"IF(I87=\"\",\"\",IF(A87=\"H\",IF(OR(H87=\"SEN\",H87<1995),VLOOKUP(I87,Feuil1!$A$11:$G$29,6),IF(AND(H87>1994,H87<1998),VLOOKUP(I87,Feuil1!$A$11:$G$29,5),IF(AND(H87>1997,H87<2000),VLOOKUP(I87,Feuil1!$A$11:$G$29,4),IF(AND(H87>1999,H87<2002),VLOOKUP(I87,Feuil1!$A$11:$G$29,3),VLOOKUP(I87,Feuil1!$A$11:$G$29,2))))),IF(OR(H87=\"SEN\",H87<1995),VLOOKUP(I87,Feuil1!$G$11:$L$25,6),IF(AND(H87>1994,H87<1998),VLOOKUP(I87,Feuil1!$G$11:$L$25,5),IF(AND(H87>1997,H87<2000),VLOOKUP(I87,Feuil1!$G$11:$L$25,4),IF(AND(H87>1999,H87<2002),VLOOKUP(I87,Feuil1!$G$11:$L$25,3),VLOOKUP(I87,Feuil1!$G$11:$L$25,2)))))))","v":"FC2 69"},132.41837490716014,null," ",{"$f":"T87-HLOOKUP(X87,Feuil1!$C$1:$BL$10,2,FALSE)","v":42},{"$f":"T87-HLOOKUP(X87,Feuil1!$C$1:$BL$10,3,FALSE)","v":32},{"$f":"T87-HLOOKUP(X87,Feuil1!$C$1:$BL$10,4,FALSE)","v":22},{"$f":"T87-HLOOKUP(X87,Feuil1!$C$1:$BL$10,5,FALSE)","v":12},{"$f":"T87-HLOOKUP(X87,Feuil1!$C$1:$BL$10,6,FALSE)","v":-3},{"$f":"T87-HLOOKUP(X87,Feuil1!$C$1:$BL$10,7,FALSE)","v":-18},{"$f":"T87-HLOOKUP(X87,Feuil1!$C$1:$BL$10,8,FALSE)","v":-33},{"$f":"T87-HLOOKUP(X87,Feuil1!$C$1:$BL$10,9,FALSE)","v":-48},{"$f":"T87-HLOOKUP(X87,Feuil1!$C$1:$BL$10,10,FALSE)","v":-898},null,null,null,null,null,null,"IRG +"]
["F","N","PIC",7,367780,"DENAND","Gwendoline",1998,63.1,"La Ferté Milon CMHM","F",30,33,35,35,40,45,-47,45,80,-46.2,"REG +",0,{"$f":"IF(I88=\"\",\"\",IF(A88=\"H\",IF(OR(H88=\"SEN\",H88<1995),VLOOKUP(I88,Feuil1!$A$11:$G$29,6),IF(AND(H88>1994,H88<1998),VLOOKUP(I88,Feuil1!$A$11:$G$29,5),IF(AND(H88>1997,H88<2000),VLOOKUP(I88,Feuil1!$A$11:$G$29,4),IF(AND(H88>1999,H88<2002),VLOOKUP(I88,Feuil1!$A$11:$G$29,3),VLOOKUP(I88,Feuil1!$A$11:$G$29,2))))),IF(OR(H88=\"SEN\",H88<1995),VLOOKUP(I88,Feuil1!$G$11:$L$25,6),IF(AND(H88>1994,H88<1998),VLOOKUP(I88,Feuil1!$G$11:$L$25,5),IF(AND(H88>1997,H88<2000),VLOOKUP(I88,Feuil1!$G$11:$L$25,4),IF(AND(H88>1999,H88<2002),VLOOKUP(I88,Feuil1!$G$11:$L$25,3),VLOOKUP(I88,Feuil1!$G$11:$L$25,2)))))))","v":"FC2 69"},106.2013406877588,null," ",{"$f":"T88-HLOOKUP(X88,Feuil1!$C$1:$BL$10,2,FALSE)","v":20},{"$f":"T88-HLOOKUP(X88,Feuil1!$C$1:$BL$10,3,FALSE)","v":10},{"$f":"T88-HLOOKUP(X88,Feuil1!$C$1:$BL$10,4,FALSE)","v":0},{"$f":"T88-HLOOKUP(X88,Feuil1!$C$1:$BL$10,5,FALSE)","v":-10},{"$f":"T88-HLOOKUP(X88,Feuil1!$C$1:$BL$10,6,FALSE)","v":-25},{"$f":"T88-HLOOKUP(X88,Feuil1!$C$1:$BL$10,7,FALSE)","v":-40},{"$f":"T88-HLOOKUP(X88,Feuil1!$C$1:$BL$10,8,FALSE)","v":-55},{"$f":"T88-HLOOKUP(X88,Feuil1!$C$1:$BL$10,9,FALSE)","v":-70},{"$f":"T88-HLOOKUP(X88,Feuil1!$C$1:$BL$10,10,FALSE)","v":-920},null,null,null,null,null,null,"REG +"]
["F","NE","FCO",8,370228,"PERRAUT","Fanny",1999,66,"CH Luxeuil","F",25,28,32,32,35,39,42,42,74,-58,"DEP +",4,{"$f":"IF(I89=\"\",\"\",IF(A89=\"H\",IF(OR(H89=\"SEN\",H89<1995),VLOOKUP(I89,Feuil1!$A$11:$G$29,6),IF(AND(H89>1994,H89<1998),VLOOKUP(I89,Feuil1!$A$11:$G$29,5),IF(AND(H89>1997,H89<2000),VLOOKUP(I89,Feuil1!$A$11:$G$29,4),IF(AND(H89>1999,H89<2002),VLOOKUP(I89,Feuil1!$A$11:$G$29,3),VLOOKUP(I89,Feuil1!$A$11:$G$29,2))))),IF(OR(H89=\"SEN\",H89<1995),VLOOKUP(I89,Feuil1!$G$11:$L$25,6),IF(AND(H89>1994,H89<1998),VLOOKUP(I89,Feuil1!$G$11:$L$25,5),IF(AND(H89>1997,H89<2000),VLOOKUP(I89,Feuil1!$G$11:$L$25,4),IF(AND(H89>1999,H89<2002),VLOOKUP(I89,Feuil1!$G$11:$L$25,3),VLOOKUP(I89,Feuil1!$G$11:$L$25,2)))))))","v":"FC2 69"},95.421330200404498,null," ",{"$f":"T89-HLOOKUP(X89,Feuil1!$C$1:$BL$10,2,FALSE)","v":14},{"$f":"T89-HLOOKUP(X89,Feuil1!$C$1:$BL$10,3,FALSE)","v":4},{"$f":"T89-HLOOKUP(X89,Feuil1!$C$1:$BL$10,4,FALSE)","v":-6},{"$f":"T89-HLOOKUP(X89,Feuil1!$C$1:$BL$10,5,FALSE)","v":-16},{"$f":"T89-HLOOKUP(X89,Feuil1!$C$1:$BL$10,6,FALSE)","v":-31},{"$f":"T89-HLOOKUP(X89,Feuil1!$C$1:$BL$10,7,FALSE)","v":-46},{"$f":"T89-HLOOKUP(X89,Feuil1!$C$1:$BL$10,8,FALSE)","v":-61},{"$f":"T89-HLOOKUP(X89,Feuil1!$C$1:$BL$10,9,FALSE)","v":-76},{"$f":"T89-HLOOKUP(X89,Feuil1!$C$1:$BL$10,10,FALSE)","v":-926},null,null,null,null,null,null,"DEP +"]
["F","SO","MPY",9,365941,"BRANCO","Margaux",1999,66.5,"MONTAUBAN HC","F",24,27,30,30,34,37,40,40,70,-63,"DEP +",0,{"$f":"IF(I90=\"\",\"\",IF(A90=\"H\",IF(OR(H90=\"SEN\",H90<1995),VLOOKUP(I90,Feuil1!$A$11:$G$29,6),IF(AND(H90>1994,H90<1998),VLOOKUP(I90,Feuil1!$A$11:$G$29,5),IF(AND(H90>1997,H90<2000),VLOOKUP(I90,Feuil1!$A$11:$G$29,4),IF(AND(H90>1999,H90<2002),VLOOKUP(I90,Feuil1!$A$11:$G$29,3),VLOOKUP(I90,Feuil1!$A$11:$G$29,2))))),IF(OR(H90=\"SEN\",H90<1995),VLOOKUP(I90,Feuil1!$G$11:$L$25,6),IF(AND(H90>1994,H90<1998),VLOOKUP(I90,Feuil1!$G$11:$L$25,5),IF(AND(H90>1997,H90<2000),VLOOKUP(I90,Feuil1!$G$11:$L$25,4),IF(AND(H90>1999,H90<2002),VLOOKUP(I90,Feuil1!$G$11:$L$25,3),VLOOKUP(I90,Feuil1!$G$11:$L$25,2)))))))","v":"FC2 69"},89.83758804735011,null," ",{"$f":"T90-HLOOKUP(X90,Feuil1!$C$1:$BL$10,2,FALSE)","v":10},{"$f":"T90-HLOOKUP(X90,Feuil1!$C$1:$BL$10,3,FALSE)","v":0},{"$f":"T90-HLOOKUP(X90,Feuil1!$C$1:$BL$10,4,FALSE)","v":-10},{"$f":"T90-HLOOKUP(X90,Feuil1!$C$1:$BL$10,5,FALSE)","v":-20},{"$f":"T90-HLOOKUP(X90,Feuil1!$C$1:$BL$10,6,FALSE)","v":-35},{"$f":"T90-HLOOKUP(X90,Feuil1!$C$1:$BL$10,7,FALSE)","v":-50},{"$f":"T90-HLOOKUP(X90,Feuil1!$C$1:$BL$10,8,FALSE)","v":-65},{"$f":"T90-HLOOKUP(X90,Feuil1!$C$1:$BL$10,9,FALSE)","v":-80},{"$f":"T90-HLOOKUP(X90,Feuil1!$C$1:$BL$10,10,FALSE)","v":-930},null,null,null,null,null,null,"DEP +"]
["F","CO","BNO",10,391674,"KADJAIEV","LARA",1999,67.599999999999994,"Stade St Lois","F",20,25,-30,25,30,-35,-35,30,55,-80.199999999999989,"DEB ",-5,{"$f":"IF(I91=\"\",\"\",IF(A91=\"H\",IF(OR(H91=\"SEN\",H91<1995),VLOOKUP(I91,Feuil1!$A$11:$G$29,6),IF(AND(H91>1994,H91<1998),VLOOKUP(I91,Feuil1!$A$11:$G$29,5),IF(AND(H91>1997,H91<2000),VLOOKUP(I91,Feuil1!$A$11:$G$29,4),IF(AND(H91>1999,H91<2002),VLOOKUP(I91,Feuil1!$A$11:$G$29,3),VLOOKUP(I91,Feuil1!$A$11:$G$29,2))))),IF(OR(H91=\"SEN\",H91<1995),VLOOKUP(I91,Feuil1!$G$11:$L$25,6),IF(AND(H91>1994,H91<1998),VLOOKUP(I91,Feuil1!$G$11:$L$25,5),IF(AND(H91>1997,H91<2000),VLOOKUP(I91,Feuil1!$G$11:$L$25,4),IF(AND(H91>1999,H91<2002),VLOOKUP(I91,Feuil1!$G$11:$L$25,3),VLOOKUP(I91,Feuil1!$G$11:$L$25,2)))))))","v":"FC2 69"},69.8754986058063,null," ",{"$f":"T91-HLOOKUP(X91,Feuil1!$C$1:$BL$10,2,FALSE)","v":-5},{"$f":"T91-HLOOKUP(X91,Feuil1!$C$1:$BL$10,3,FALSE)","v":-15},{"$f":"T91-HLOOKUP(X91,Feuil1!$C$1:$BL$10,4,FALSE)","v":-25},{"$f":"T91-HLOOKUP(X91,Feuil1!$C$1:$BL$10,5,FALSE)","v":-35},{"$f":"T91-HLOOKUP(X91,Feuil1!$C$1:$BL$10,6,FALSE)","v":-50},{"$f":"T91-HLOOKUP(X91,Feuil1!$C$1:$BL$10,7,FALSE)","v":-65},{"$f":"T91-HLOOKUP(X91,Feuil1!$C$1:$BL$10,8,FALSE)","v":-80},{"$f":"T91-HLOOKUP(X91,Feuil1!$C$1:$BL$10,9,FALSE)","v":-95},{"$f":"T91-HLOOKUP(X91,Feuil1!$C$1:$BL$10,10,FALSE)","v":-945},null,null,null,null,null,null,"DEB "]
[null,null,null,null,null,null,null,null,null,null,null,null,null,null,null,null,null,null,null,null,null,null,null,null,null,null," ",{"$f":"T92-HLOOKUP(X92,Feuil1!$C$1:$BL$10,2,FALSE)","v":{"$error":"#N/A"}},{"$f":"T92-HLOOKUP(X92,Feuil1!$C$1:$BL$10,3,FALSE)","v":{"$error":"#N/A"}},{"$f":"T92-HLOOKUP(X92,Feuil1!$C$1:$BL$10,4,FALSE)","v":{"$error":"#N/A"}},{"$f":"T92-HLOOKUP(X92,Feuil1!$C$1:$BL$10,5,FALSE)","v":{"$error":"#N/A"}},{"$f":"T92-HLOOKUP(X92,Feuil1!$C$1:$BL$10,6,FALSE)","v":{"$error":"#N/A"}},{"$f":"T92-HLOOKUP(X92,Feuil1!$C$1:$BL$10,7,FALSE)","v":{"$error":"#N/A"}},{"$f":"T92-HLOOKUP(X92,Feuil1!$C$1:$BL$10,8,FALSE)","v":{"$error":"#N/A"}},{"$f":"T92-HLOOKUP(X92,Feuil1!$C$1:$BL$10,9,FALSE)","v":{"$error":"#N/A"}},{"$f":"T92-HLOOKUP(X92,Feuil1!$C$1:$BL$10,10,FALSE)","v":{"$error":"#N/A"}},null,null,null,null,null,null,{"$f":"IF(AJ92>=0,$AJ$4,IF(AI92>=0,$AI$4,IF(AH92>=0,$AH$4,IF(AG92>=0,$AG$4,IF(AF92>=0,$AF$4,IF(AE92>=0,$AE$4,IF(AD92>=0,$AD$4,IF(AC92>=0,$AC$4,$AB$4))))))))","v":{"$error":"#N/A"}}]
["F","CO","BRE",1,210931,"BACCEI","Marilou",1998,80.099999999999994,"CHM Plouhinec PR","F",50,53,-56,{"$f":"IF(H93=\"\",\"\",IF(MAXA(L93:N93)<=0,0,MAXA(L93:N93)))","v":53},58,61,64,{"$f":"IF(H93=\"\",\"\",IF(MAXA(P93:R93)<=0,0,MAXA(P93:R93)))","v":64},{"$f":"IF(H93=\"\",\"\",IF(OR(O93=0,S93=0),0,O93+S93))","v":117},{"$f":"T93-I93*2","v":-43.199999999999989},{"$f":"IF(H93=\"\",\"\",AQ93)","v":"FED +"},{"$f":"IF(AJ93>=0,AJ93,IF(AI93>=0,AI93,IF(AH93>=0,AH93,IF(AG93>=0,AG93,IF(AF93>=0,AF93,IF(AE93>=0,AE93,IF(AD93>=0,AD93,IF(AC93>=0,AC93,AB93))))))))","v":2},{"$f":"IF(I93=\"\",\"\",IF(A93=\"H\",IF(OR(H93=\"SEN\",H93<1995),VLOOKUP(I93,Feuil1!$A$11:$G$29,6),IF(AND(H93>1994,H93<1998),VLOOKUP(I93,Feuil1!$A$11:$G$29,5),IF(AND(H93>1997,H93<2000),VLOOKUP(I93,Feuil1!$A$11:$G$29,4),IF(AND(H93>1999,H93<2002),VLOOKUP(I93,Feuil1!$A$11:$G$29,3),VLOOKUP(I93,Feuil1!$A$11:$G$29,2))))),IF(OR(H93=\"SEN\",H93<1995),VLOOKUP(I93,Feuil1!$G$11:$L$25,6),IF(AND(H93>1994,H93<1998),VLOOKUP(I93,Feuil1!$G$11:$L$25,5),IF(AND(H93>1997,H93<2000),VLOOKUP(I93,Feuil1!$G$11:$L$25,4),IF(AND(H93>1999,H93<2002),VLOOKUP(I93,Feuil1!$G$11:$L$25,3),VLOOKUP(I93,Feuil1!$G$11:$L$25,2)))))))","v":"FC2 +69"},{"$f":"IF(I93=\"\",\"\",IF(A93=\"H\",10^(0.794358141*LOG(I93/174.393)^2)*T93,IF(A93=\"F\",10^(0.89726074*LOG(I93/148.026)^2)*T93,\"\")))","v":135.52195205610326},null," ",{"$f":"T93-HLOOKUP(X93,Feuil1!$C$1:$BL$10,2,FALSE)","v":47},{"$f":"T93-HLOOKUP(X93,Feuil1!$C$1:$BL$10,3,FALSE)","v":37},{"$f":"T93-HLOOKUP(X93,Feuil1!$C$1:$BL$10,4,FALSE)","v":22},{"$f":"T93-HLOOKUP(X93,Feuil1!$C$1:$BL$10,5,FALSE)","v":12},{"$f":"T93-HLOOKUP(X93,Feuil1!$C$1:$BL$10,6,FALSE)","v":2},{"$f":"T93-HLOOKUP(X93,Feuil1!$C$1:$BL$10,7,FALSE)","v":-13},{"$f":"T93-HLOOKUP(X93,Feuil1!$C$1:$BL$10,8,FALSE)","v":-28},{"$f":"T93-HLOOKUP(X93,Feuil1!$C$1:$BL$10,9,FALSE)","v":-43},{"$f":"T93-HLOOKUP(X93,Feuil1!$C$1:$BL$10,10,FALSE)","v":-883},null,null,null,null,null,null,{"$f":"IF(AJ93>=0,$AJ$4,IF(AI93>=0,$AI$4,IF(AH93>=0,$AH$4,IF(AG93>=0,$AG$4,IF(AF93>=0,$AF$4,IF(AE93>=0,$AE$4,IF(AD93>=0,$AD$4,IF(AC93>=0,$AC$4,$AB$4))))))))","v":"FED +"}]
["F","N","NPC",2,362261,"GODEFROIDT","Charline",1999,82.1,"CHCD COMINES","F",46,49,51,51,58,-61,61,61,112,-52.199999999999989,"IRG +",7,{"$f":"IF(I94=\"\",\"\",IF(A94=\"H\",IF(OR(H94=\"SEN\",H94<1995),VLOOKUP(I94,Feuil1!$A$11:$G$29,6),IF(AND(H94>1994,H94<1998),VLOOKUP(I94,Feuil1!$A$11:$G$29,5),IF(AND(H94>1997,H94<2000),VLOOKUP(I94,Feuil1!$A$11:$G$29,4),IF(AND(H94>1999,H94<2002),VLOOKUP(I94,Feuil1!$A$11:$G$29,3),VLOOKUP(I94,Feuil1!$A$11:$G$29,2))))),IF(OR(H94=\"SEN\",H94<1995),VLOOKUP(I94,Feuil1!$G$11:$L$25,6),IF(AND(H94>1994,H94<1998),VLOOKUP(I94,Feuil1!$G$11:$L$25,5),IF(AND(H94>1997,H94<2000),VLOOKUP(I94,Feuil1!$G$11:$L$25,4),IF(AND(H94>1999,H94<2002),VLOOKUP(I94,Feuil1!$G$11:$L$25,3),VLOOKUP(I94,Feuil1!$G$11:$L$25,2)))))))","v":"FC2 +69"},128.23853118645849,null," ",{"$f":"T94-HLOOKUP(X94,Feuil1!$C$1:$BL$10,2,FALSE)","v":42},{"$f":"T94-HLOOKUP(X94,Feuil1!$C$1:$BL$10,3,FALSE)","v":32},{"$f":"T94-HLOOKUP(X94,Feuil1!$C$1:$BL$10,4,FALSE)","v":17},{"$f":"T94-HLOOKUP(X94,Feuil1!$C$1:$BL$10,5,FALSE)","v":7},{"$f":"T94-HLOOKUP(X94,Feuil1!$C$1:$BL$10,6,FALSE)","v":-3},{"$f":"T94-HLOOKUP(X94,Feuil1!$C$1:$BL$10,7,FALSE)","v":-18},{"$f":"T94-HLOOKUP(X94,Feuil1!$C$1:$BL$10,8,FALSE)","v":-33},{"$f":"T94-HLOOKUP(X94,Feuil1!$C$1:$BL$10,9,FALSE)","v":-48},{"$f":"T94-HLOOKUP(X94,Feuil1!$C$1:$BL$10,10,FALSE)","v":-888},null,null,null,null,null,null,"IRG +"]
["F","NE","CHA",3,239747,"VAUTARD","Priscillia",1999,69.3,"Langres HM","F",48,-51,51,51,53,57,60,60,111,-27.599999999999994,"IRG +",6,{"$f":"IF(I95=\"\",\"\",IF(A95=\"H\",IF(OR(H95=\"SEN\",H95<1995),VLOOKUP(I95,Feuil1!$A$11:$G$29,6),IF(AND(H95>1994,H95<1998),VLOOKUP(I95,Feuil1!$A$11:$G$29,5),IF(AND(H95>1997,H95<2000),VLOOKUP(I95,Feuil1!$A$11:$G$29,4),IF(AND(H95>1999,H95<2002),VLOOKUP(I95,Feuil1!$A$11:$G$29,3),VLOOKUP(I95,Feuil1!$A$11:$G$29,2))))),IF(OR(H95=\"SEN\",H95<1995),VLOOKUP(I95,Feuil1!$G$11:$L$25,6),IF(AND(H95>1994,H95<1998),VLOOKUP(I95,Feuil1!$G$11:$L$25,5),IF(AND(H95>1997,H95<2000),VLOOKUP(I95,Feuil1!$G$11:$L$25,4),IF(AND(H95>1999,H95<2002),VLOOKUP(I95,Feuil1!$G$11:$L$25,3),VLOOKUP(I95,Feuil1!$G$11:$L$25,2)))))))","v":"FC2 +69"},138.93151158504367,null," ",{"$f":"T95-HLOOKUP(X95,Feuil1!$C$1:$BL$10,2,FALSE)","v":41},{"$f":"T95-HLOOKUP(X95,Feuil1!$C$1:$BL$10,3,FALSE)","v":31},{"$f":"T95-HLOOKUP(X95,Feuil1!$C$1:$BL$10,4,FALSE)","v":16},{"$f":"T95-HLOOKUP(X95,Feuil1!$C$1:$BL$10,5,FALSE)","v":6},{"$f":"T95-HLOOKUP(X95,Feuil1!$C$1:$BL$10,6,FALSE)","v":-4},{"$f":"T95-HLOOKUP(X95,Feuil1!$C$1:$BL$10,7,FALSE)","v":-19},{"$f":"T95-HLOOKUP(X95,Feuil1!$C$1:$BL$10,8,FALSE)","v":-34},{"$f":"T95-HLOOKUP(X95,Feuil1!$C$1:$BL$10,9,FALSE)","v":-49},{"$f":"T95-HLOOKUP(X95,Feuil1!$C$1:$BL$10,10,FALSE)","v":-889},null,null,null,null,null,null,"IRG +"]
["F","NE","ALS",4,306518,"BURST","Justine",1998,70.099999999999994,"SR Obernai HM","F",43,-46,46,46,52,56,60,60,106,-34.199999999999989,"IRG +",1,{"$f":"IF(I96=\"\",\"\",IF(A96=\"H\",IF(OR(H96=\"SEN\",H96<1995),VLOOKUP(I96,Feuil1!$A$11:$G$29,6),IF(AND(H96>1994,H96<1998),VLOOKUP(I96,Feuil1!$A$11:$G$29,5),IF(AND(H96>1997,H96<2000),VLOOKUP(I96,Feuil1!$A$11:$G$29,4),IF(AND(H96>1999,H96<2002),VLOOKUP(I96,Feuil1!$A$11:$G$29,3),VLOOKUP(I96,Feuil1!$A$11:$G$29,2))))),IF(OR(H96=\"SEN\",H96<1995),VLOOKUP(I96,Feuil1!$G$11:$L$25,6),IF(AND(H96>1994,H96<1998),VLOOKUP(I96,Feuil1!$G$11:$L$25,5),IF(AND(H96>1997,H96<2000),VLOOKUP(I96,Feuil1!$G$11:$L$25,4),IF(AND(H96>1999,H96<2002),VLOOKUP(I96,Feuil1!$G$11:$L$25,3),VLOOKUP(I96,Feuil1!$G$11:$L$25,2)))))))","v":"FC2 +69"},131.78243525241186,null," ",{"$f":"T96-HLOOKUP(X96,Feuil1!$C$1:$BL$10,2,FALSE)","v":36},{"$f":"T96-HLOOKUP(X96,Feuil1!$C$1:$BL$10,3,FALSE)","v":26},{"$f":"T96-HLOOKUP(X96,Feuil1!$C$1:$BL$10,4,FALSE)","v":11},{"$f":"T96-HLOOKUP(X96,Feuil1!$C$1:$BL$10,5,FALSE)","v":1},{"$f":"T96-HLOOKUP(X96,Feuil1!$C$1:$BL$10,6,FALSE)","v":-9},{"$f":"T96-HLOOKUP(X96,Feuil1!$C$1:$BL$10,7,FALSE)","v":-24},{"$f":"T96-HLOOKUP(X96,Feuil1!$C$1:$BL$10,8,FALSE)","v":-39},{"$f":"T96-HLOOKUP(X96,Feuil1!$C$1:$BL$10,9,FALSE)","v":-54},{"$f":"T96-HLOOKUP(X96,Feuil1!$C$1:$BL$10,10,FALSE)","v":-894},null,null,null,null,null,null,"IRG +"]
["F","N","NPC",5,191850,"GONZALES","Naomi",1998,71.599999999999994,"CHCD COMINES","F",33,35,37,37,45,-48,48,48,85,-58.199999999999989,"DEP +",5,{"$f":"IF(I97=\"\",\"\",IF(A97=\"H\",IF(OR(H97=\"SEN\",H97<1995),VLOOKUP(I97,Feuil1!$A$11:$G$29,6),IF(AND(H97>1994,H97<1998),VLOOKUP(I97,Feuil1!$A$11:$G$29,5),IF(AND(H97>1997,H97<2000),VLOOKUP(I97,Feuil1!$A$11:$G$29,4),IF(AND(H97>1999,H97<2002),VLOOKUP(I97,Feuil1!$A$11:$G$29,3),VLOOKUP(I97,Feuil1!$A$11:$G$29,2))))),IF(OR(H97=\"SEN\",H97<1995),VLOOKUP(I97,Feuil1!$G$11:$L$25,6),IF(AND(H97>1994,H97<1998),VLOOKUP(I97,Feuil1!$G$11:$L$25,5),IF(AND(H97>1997,H97<2000),VLOOKUP(I97,Feuil1!$G$11:$L$25,4),IF(AND(H97>1999,H97<2002),VLOOKUP(I97,Feuil1!$G$11:$L$25,3),VLOOKUP(I97,Feuil1!$G$11:$L$25,2)))))))","v":"FC2 +69"},104.39748003674627,null," ",{"$f":"T97-HLOOKUP(X97,Feuil1!$C$1:$BL$10,2,FALSE)","v":15},{"$f":"T97-HLOOKUP(X97,Feuil1!$C$1:$BL$10,3,FALSE)","v":5},{"$f":"T97-HLOOKUP(X97,Feuil1!$C$1:$BL$10,4,FALSE)","v":-10},{"$f":"T97-HLOOKUP(X97,Feuil1!$C$1:$BL$10,5,FALSE)","v":-20},{"$f":"T97-HLOOKUP(X97,Feuil1!$C$1:$BL$10,6,FALSE)","v":-30},{"$f":"T97-HLOOKUP(X97,Feuil1!$C$1:$BL$10,7,FALSE)","v":-45},{"$f":"T97-HLOOKUP(X97,Feuil1!$C$1:$BL$10,8,FALSE)","v":-60},{"$f":"T97-HLOOKUP(X97,Feuil1!$C$1:$BL$10,9,FALSE)","v":-75},{"$f":"T97-HLOOKUP(X97,Feuil1!$C$1:$BL$10,10,FALSE)","v":-915},null,null,null,null,null,null,"DEP +"]
["F","DOM","GUA",6,367888,"BOUDINE","Rémyka",1998,75,"AHCS/Pointois","F",20,25,27,27,30,32,-35,32,59,-91,"DEB ",-11,{"$f":"IF(I98=\"\",\"\",IF(A98=\"H\",IF(OR(H98=\"SEN\",H98<1995),VLOOKUP(I98,Feuil1!$A$11:$G$29,6),IF(AND(H98>1994,H98<1998),VLOOKUP(I98,Feuil1!$A$11:$G$29,5),IF(AND(H98>1997,H98<2000),VLOOKUP(I98,Feuil1!$A$11:$G$29,4),IF(AND(H98>1999,H98<2002),VLOOKUP(I98,Feuil1!$A$11:$G$29,3),VLOOKUP(I98,Feuil1!$A$11:$G$29,2))))),IF(OR(H98=\"SEN\",H98<1995),VLOOKUP(I98,Feuil1!$G$11:$L$25,6),IF(AND(H98>1994,H98<1998),VLOOKUP(I98,Feuil1!$G$11:$L$25,5),IF(AND(H98>1997,H98<2000),VLOOKUP(I98,Feuil1!$G$11:$L$25,4),IF(AND(H98>1999,H98<2002),VLOOKUP(I98,Feuil1!$G$11:$L$25,3),VLOOKUP(I98,Feuil1!$G$11:$L$25,2)))))))","v":"FC2 +69"},70.645206362346556,null," ",{"$f":"T98-HLOOKUP(X98,Feuil1!$C$1:$BL$10,2,FALSE)","v":-11},{"$f":"T98-HLOOKUP(X98,Feuil1!$C$1:$BL$10,3,FALSE)","v":-21},{"$f":"T98-HLOOKUP(X98,Feuil1!$C$1:$BL$10,4,FALSE)","v":-36},{"$f":"T98-HLOOKUP(X98,Feuil1!$C$1:$BL$10,5,FALSE)","v":-46},{"$f":"T98-HLOOKUP(X98,Feuil1!$C$1:$BL$10,6,FALSE)","v":-56},{"$f":"T98-HLOOKUP(X98,Feuil1!$C$1:$BL$10,7,FALSE)","v":-71},{"$f":"T98-HLOOKUP(X98,Feuil1!$C$1:$BL$10,8,FALSE)","v":-86},{"$f":"T98-HLOOKUP(X98,Feuil1!$C$1:$BL$10,9,FALSE)","v":-101},{"$f":"T98-HLOOKUP(X98,Feuil1!$C$1:$BL$10,10,FALSE)","v":-941},null,null,null,null,null,null,"DEB "]
["F","SEST","RAL",7,367662,"BRUNET","Charlie",1998,71.900000000000006,"SAINT MARCELLIN","F",23,-26,26,26,28,30,32,32,58,-85.800000000000011,"DEB ",-12,{"$f":"IF(I99=\"\",\"\",IF(A99=\"H\",IF(OR(H99=\"SEN\",H99<1995),VLOOKUP(I99,Feuil1!$A$11:$G$29,6),IF(AND(H99>1994,H99<1998),VLOOKUP(I99,Feuil1!$A$11:$G$29,5),IF(AND(H99>1997,H99<2000),VLOOKUP(I99,Feuil1!$A$11:$G$29,4),IF(AND(H99>1999,H99<2002),VLOOKUP(I99,Feuil1!$A$11:$G$29,3),VLOOKUP(I99,Feuil1!$A$11:$G$29,2))))),IF(OR(H99=\"SEN\",H99<1995),VLOOKUP(I99,Feuil1!$G$11:$L$25,6),IF(AND(H99>1994,H99<1998),VLOOKUP(I99,Feuil1!$G$11:$L$25,5),IF(AND(H99>1997,H99<2000),VLOOKUP(I99,Feuil1!$G$11:$L$25,4),IF(AND(H99>1999,H99<2002),VLOOKUP(I99,Feuil1!$G$11:$L$25,3),VLOOKUP(I99,Feuil1!$G$11:$L$25,2)))))))","v":"FC2 +69"},71.068016390406115,null," ",{"$f":"T99-HLOOKUP(X99,Feuil1!$C$1:$BL$10,2,FALSE)","v":-12},{"$f":"T99-HLOOKUP(X99,Feuil1!$C$1:$BL$10,3,FALSE)","v":-22},{"$f":"T99-HLOOKUP(X99,Feuil1!$C$1:$BL$10,4,FALSE)","v":-37},{"$f":"T99-HLOOKUP(X99,Feuil1!$C$1:$BL$10,5,FALSE)","v":-47},{"$f":"T99-HLOOKUP(X99,Feuil1!$C$1:$BL$10,6,FALSE)","v":-57},{"$f":"T99-HLOOKUP(X99,Feuil1!$C$1:$BL$10,7,FALSE)","v":-72},{"$f":"T99-HLOOKUP(X99,Feuil1!$C$1:$BL$10,8,FALSE)","v":-87},{"$f":"T99-HLOOKUP(X99,Feuil1!$C$1:$BL$10,9,FALSE)","v":-102},{"$f":"T99-HLOOKUP(X99,Feuil1!$C$1:$BL$10,10,FALSE)","v":-942},null,null,null,null,null,null,"DEB "]
[null,null,null,null,null,null,null,null,null,null,null,null,null,null,null,null,null,null,null,null,null,null,null,null,null,null," ",{"$f":"T100-HLOOKUP(X100,Feuil1!$C$1:$BL$10,2,FALSE)","v":{"$error":"#N/A"}},{"$f":"T100-HLOOKUP(X100,Feuil1!$C$1:$BL$10,3,FALSE)","v":{"$error":"#N/A"}},{"$f":"T100-HLOOKUP(X100,Feuil1!$C$1:$BL$10,4,FALSE)","v":{"$error":"#N/A"}},{"$f":"T100-HLOOKUP(X100,Feuil1!$C$1:$BL$10,5,FALSE)","v":{"$error":"#N/A"}},{"$f":"T100-HLOOKUP(X100,Feuil1!$C$1:$BL$10,6,FALSE)","v":{"$error":"#N/A"}},{"$f":"T100-HLOOKUP(X100,Feuil1!$C$1:$BL$10,7,FALSE)","v":{"$error":"#N/A"}},{"$f":"T100-HLOOKUP(X100,Feuil1!$C$1:$BL$10,8,FALSE)","v":{"$error":"#N/A"}},{"$f":"T100-HLOOKUP(X100,Feuil1!$C$1:$BL$10,9,FALSE)","v":{"$error":"#N/A"}},{"$f":"T100-HLOOKUP(X100,Feuil1!$C$1:$BL$10,10,FALSE)","v":{"$error":"#N/A"}},null,null,null,null,null,null,{"$f":"IF(AJ100>=0,$AJ$4,IF(AI100>=0,$AI$4,IF(AH100>=0,$AH$4,IF(AG100>=0,$AG$4,IF(AF100>=0,$AF$4,IF(AE100>=0,$AE$4,IF(AD100>=0,$AD$4,IF(AC100>=0,$AC$4,$AB$4))))))))","v":{"$error":"#N/A"}}]
[]
[]
[]
[]
[]
[]
[]
[]
[]
[]
[]
[]
[]
[]
[]
[]
[]
[]
[]
[]
[]
[]
[]
[]
[]
[]
[]
[]
[]
[]
[]
[]
[]
[]
[]
[]
[]
[]
[]
[]
[]
[]
[]
[]
[]
[]
[]
[]
[]
[]
[]
[]
[]
[]
[]
[]
[]
[]
[]
[]
[]
[]
[]
[]
[]
[]
[]
[]
[]
[]
[]
[]
[]
[]
[]
[]
[]
[]
[]
[]
[]
[]
[]
[]
[]
[]
[]
[]
[]
[]
[]
[]
[]
[]
[]
[]
[]
[]
[]
[]
[]
[]
[]
[]
[]
[]
[]
[]
[]
[]
[]
[]
[]
[]
[]
[]
[]
[]
[]
[]
[]
[]
[]
[]
[]
[]
[]
[]
[]
[]
[]
[]
[]
[]
[]
[]
[]
[]
[]
[]
[]
[]
[]
[]
[]
[]
[]
[]
[]
[]
[]
[]
[]
[]
[]
[]
[]
[]
[]
[]
[]
[]
[]
[]
[]
[]
[]
[]
[]
[]
[]
[]
[]
[]
[]
[]
[]
[]
[]
[]
[]
[]
[]
[]
[]
[]
[]
[]
[]
[]
[]
[]
[]
[]
[]
[]
[]
[]
[]
[]
[]
[]
[]
[]
[]
[]
[]
[]
[]
[]
[]
[]
[]
[]
[]
[]
[]
[]
[]
[]
[]
[]
[]
[]
[]
[]
[]
[]
[]
[]
[]
[]
[]
[]
[]
[]
[]
[]
[]
[]
[]
[]
[]
[]
[]
[]
[]
[]
[]
[]
[]
[]
[]
[]
[]
[]
[]
[]
[]
[]
[]
[]
[]
[]
[]
[]
[]
[]
[]
[]
[]
[]
[]
[]
[]
[]
[]
[]
[]
[]
[]
[]
[]
[]
[]
[]
[]
[]
[]
[]
[]
[]
[]
[]
[]
[]
[]
[]
[]
[]
[]
[]
[]
[]
[]
[]
[]
[]
[]
[]
[]
[]
[]
[]
[]
[]
[]
[]
[]
[]
[]
[]
[]
[]
[]
[]
[]
[]
[]
[]
[]
[]
[]
[]
[]
[]
[]
[]
[]
[]
[]
[]
[]
[]
[]
[]
[]
[]
[]
[]
[]
[]
[]
[]
[]
[]
[]
[]
[]
[]
[]
[]
[]
[]
[]
[]
[]
[]
[]
[]
[]
[]
[]
[]
[]
[]
[]
[]
[]
[]
[]
[]
[]
[]
[]
[]
[]
[]
[]
[]
[]
[]
[]
[]
[]
[]
[]
[]
[]
[]
[]
[]
[]
[]
[]
[]
[]
[]
[]
[]
[]
[]
[]
[]
[]
[]
[]
[]
[]
[]
[]
[]
[]
[]
[]
[]
[]
[]
[]
[]
[]
[]
[]
[]
[]
[]
[null,null,null,null,null,null,null,null,null,null,null,null,null,null,null,null,null,null,null,null,null,null,null,null,null,null,null,"J77","J85","J94","J105","J+105",null,"J56","J62","J69","J77","J85","J94","J105","J+105",null,"S56","S62","S69","S77","S85","S94","S105","S+105"]
[null,null,null,null,null,null,null,null,null,null,null,null,null,null,null,null,null,null,null,null,null,null,null,null,null,null,null,145,160,170,180,190,null,100,115,130,145,160,170,180,190,null,115,135,150,165,180,190,200,210]
[null,null,null,null,null,null,null,null,null,null,null,null,null,null,null,null,null,null,null,null,null,null,null,null,null,null,null,165,180,190,200,210,null,115,135,150,165,180,190,200,210,null,130,150,165,185,200,210,220,230]
[null,null,null,null,null,null,null,null,null,null,null,null,null,null,null,null,null,null,null,null,null,null,null,null,null,null,null,185,200,210,220,230,null,130,150,165,185,200,210,220,230,null,145,165,180,200,220,230,240,250]
[null,null,null,null,null,null,null,null,null,null,null,null,null,null,null,null,null,null,null,null,null,null,null,null,null,null,null,200,220,230,240,250,null,145,165,180,200,220,230,240,250,null,175,195,215,235,250,260,275,280]
[null,null,null,null,null,null,null,null,null,null,null,null,null,null,null,null,null,null,null,null,null,null,null,null,null,null,null,235,250,260,275,280,null,175,195,215,235,250,260,275,280,null,210,230,250,270,290,300,310,325]
[null,null,null,null,null,null,null,null,null,null,null,null,null,null,null,null,null,null,null,null,null,null,null,null,null,null,null,270,290,300,310,325,null,210,230,250,270,290,300,310,325,null,230,255,275,300,315,335,345,355]
[null,null,null,null,null,null,null,null,null,null,null,null,null,null,null,null,null,null,null,null,null,null,null,null,null,null,null,320,335,355,370,380,null,245,270,295,320,335,355,370,380,null,245,270,295,320,335,355,370,380]

{"sheet":"JUNIORS","index":3,"n_rows":615,"n_cols":50,"rows_kept":615,"cut":false,"hidden":false,"merged":[[3,21,3,22],[0,7,0,14],[0,18,0,21],[1,6,1,10],[1,11,1,13],[1,14,1,17],[1,18,1,19],[1,21,1,22]]}
[null,null,null,null,null,"LISTING NATIONAL",null,"FEMININES",null,null,null,null,null,null,null,null,"DATE :",null,"2015-03-08"]
[null,null,null,null,null," ",null,null,null,null,null,"2° TRIMESTRE"]
[]
["SEXE","ZONE","REG.","CL.","LICENCE","NOMS","Prénoms","AN","POIDS","CLUB","NAT",1,2,3,"ARR",1,2,3,"EP-J","Total","KP-2PC","SERIE",null,"Catég","IWF",null," ","DEB ","DEP +","REG +","IRG +","FED +","NAT +","INTB +","INTA +","OLY +"]
[null,null,null,null,null,null,null,null,null,null,null,null,null,null,null,null,null,null,null,null,null,null,null,null,null,null," ",{"$f":"T5-HLOOKUP(X5,Feuil1!$C$1:$BL$10,2,FALSE)","v":{"$error":"#N/A"}},{"$f":"T5-HLOOKUP(X5,Feuil1!$C$1:$BL$10,3,FALSE)","v":{"$error":"#N/A"}},{"$f":"T5-HLOOKUP(X5,Feuil1!$C$1:$BL$10,4,FALSE)","v":{"$error":"#N/A"}},{"$f":"T5-HLOOKUP(X5,Feuil1!$C$1:$BL$10,5,FALSE)","v":{"$error":"#N/A"}},{"$f":"T5-HLOOKUP(X5,Feuil1!$C$1:$BL$10,6,FALSE)","v":{"$error":"#N/A"}},{"$f":"T5-HLOOKUP(X5,Feuil1!$C$1:$BL$10,7,FALSE)","v":{"$error":"#N/A"}},{"$f":"T5-HLOOKUP(X5,Feuil1!$C$1:$BL$10,8,FALSE)","v":{"$error":"#N/A"}},{"$f":"T5-HLOOKUP(X5,Feuil1!$C$1:$BL$10,9,FALSE)","v":{"$error":"#N/A"}},{"$f":"T5-HLOOKUP(X5,Feuil1!$C$1:$BL$10,10,FALSE)","v":{"$error":"#N/A"}},null,null,null,null,null,null,{"$f":"IF(AJ5>=0,$AJ$4,IF(AI5>=0,$AI$4,IF(AH5>=0,$AH$4,IF(AG5>=0,$AG$4,IF(AF5>=0,$AF$4,IF(AE5>=0,$AE$4,IF(AD5>=0,$AD$4,IF(AC5>=0,$AC$4,$AB$4))))))))","v":{"$error":"#N/A"}}]
["F","SEST","PRO",1,361701,"DELEUIL","Fanny",1995,48,"EEAR MONTEUX",null,43,46,-48,{"$f":"IF(H6=\"\",\"\",IF(MAXA(L6:N6)<=0,0,MAXA(L6:N6)))","v":46},57,61,-64,{"$f":"IF(H6=\"\",\"\",IF(MAXA(P6:R6)<=0,0,MAXA(P6:R6)))","v":61},{"$f":"IF(H6=\"\",\"\",IF(OR(O6=0,S6=0),0,O6+S6))","v":107},{"$f":"T6-I6*2","v":11},{"$f":"IF(H6=\"\",\"\",AQ6)","v":"NAT +"},{"$f":"IF(AJ6>=0,AJ6,IF(AI6>=0,AI6,IF(AH6>=0,AH6,IF(AG6>=0,AG6,IF(AF6>=0,AF6,IF(AE6>=0,AE6,IF(AD6>=0,AD6,IF(AC6>=0,AC6,AB6))))))))","v":12},{"$f":"IF(I6=\"\",\"\",IF(A6=\"H\",IF(OR(H6=\"SEN\",H6<1995),VLOOKUP(I6,Feuil1!$A$11:$F$29,6),IF(AND(H6>1994,H6<1998),VLOOKUP(I6,Feuil1!$A$11:$F$29,5),IF(AND(H6>1997,H6<2000),VLOOKUP(I6,Feuil1!$A$11:$F$29,4),IF(AND(H6>1999,H6<2002),VLOOKUP(I6,Feuil1!$A$11:$F$29,3),VLOOKUP(I6,Feuil1!$A$11:$F$29,2))))),IF(OR(H6=\"SEN\",H6<1995),VLOOKUP(I6,Feuil1!$G$11:$L$25,6),IF(AND(H6>1994,H6<1998),VLOOKUP(I6,Feuil1!$G$11:$L$25,5),IF(AND(H6>1997,H6<2000),VLOOKUP(I6,Feuil1!$G$11:$L$25,4),IF(AND(H6>1999,H6<2002),VLOOKUP(I6,Feuil1!$G$11:$L$25,3),VLOOKUP(I6,Feuil1!$G$11:$L$25,2)))))))","v":"FJ48"},{"$f":"IF(I6=\"\",\"\",IF(A6=\"H\",10^(0.794358141*LOG(I6/174.393)^2)*T6,IF(A6=\"F\",10^(0.89726074*LOG(I6/148.026)^2)*T6,\"\")))","v":175.39717166604439},null," ",{"$f":"T6-HLOOKUP(X6,Feuil1!$C$1:$BL$10,2,FALSE)","v":62},{"$f":"T6-HLOOKUP(X6,Feuil1!$C$1:$BL$10,3,FALSE)","v":52},{"$f":"T6-HLOOKUP(X6,Feuil1!$C$1:$BL$10,4,FALSE)","v":42},{"$f":"T6-HLOOKUP(X6,Feuil1!$C$1:$BL$10,5,FALSE)","v":32},{"$f":"T6-HLOOKUP(X6,Feuil1!$C$1:$BL$10,6,FALSE)","v":22},{"$f":"T6-HLOOKUP(X6,Feuil1!$C$1:$BL$10,7,FALSE)","v":12},{"$f":"T6-HLOOKUP(X6,Feuil1!$C$1:$BL$10,8,FALSE)","v":-3},{"$f":"T6-HLOOKUP(X6,Feuil1!$C$1:$BL$10,9,FALSE)","v":-18},{"$f":"T6-HLOOKUP(X6,Feuil1!$C$1:$BL$10,10,FALSE)","v":-893},null,null,null,null,null,null,{"$f":"IF(AJ6>=0,$AJ$4,IF(AI6>=0,$AI$4,IF(AH6>=0,$AH$4,IF(AG6>=0,$AG$4,IF(AF6>=0,$AF$4,IF(AE6>=0,$AE$4,IF(AD6>=0,$AD$4,IF(AC6>=0,$AC$4,$AB$4))))))))","v":"NAT +"}]
["F","NE","CHA",2,193808,"POIRET ","Kimberley",1997,41.4,"Reims HM","F",43,46,-48,46,54,58,60,60,106,23.200000000000003,"NAT +",11,{"$f":"IF(I7=\"\",\"\",IF(A7=\"H\",IF(OR(H7=\"SEN\",H7<1995),VLOOKUP(I7,Feuil1!$A$11:$F$29,6),IF(AND(H7>1994,H7<1998),VLOOKUP(I7,Feuil1!$A$11:$F$29,5),IF(AND(H7>1997,H7<2000),VLOOKUP(I7,Feuil1!$A$11:$F$29,4),IF(AND(H7>1999,H7<2002),VLOOKUP(I7,Feuil1!$A$11:$F$29,3),VLOOKUP(I7,Feuil1!$A$11:$F$29,2))))),IF(OR(H7=\"SEN\",H7<1995),VLOOKUP(I7,Feuil1!$G$11:$L$25,6),IF(AND(H7>1994,H7<1998),VLOOKUP(I7,Feuil1!$G$11:$L$25,5),IF(AND(H7>1997,H7<2000),VLOOKUP(I7,Feuil1!$G$11:$L$25,4),IF(AND(H7>1999,H7<2002),VLOOKUP(I7,Feuil1!$G$11:$L$25,3),VLOOKUP(I7,Feuil1!$G$11:$L$25,2)))))))","v":"FJ48"},199.54068718264446,null," ",{"$f":"T7-HLOOKUP(X7,Feuil1!$C$1:$BL$10,2,FALSE)","v":61},{"$f":"T7-HLOOKUP(X7,Feuil1!$C$1:$BL$10,3,FALSE)","v":51},{"$f":"T7-HLOOKUP(X7,Feuil1!$C$1:$BL$10,4,FALSE)","v":41},{"$f":"T7-HLOOKUP(X7,Feuil1!$C$1:$BL$10,5,FALSE)","v":31},{"$f":"T7-HLOOKUP(X7,Feuil1!$C$1:$BL$10,6,FALSE)","v":21},{"$f":"T7-HLOOKUP(X7,Feuil1!$C$1:$BL$10,7,FALSE)","v":11},{"$f":"T7-HLOOKUP(X7,Feuil1!$C$1:$BL$10,8,FALSE)","v":-4},{"$f":"T7-HLOOKUP(X7,Feuil1!$C$1:$BL$10,9,FALSE)","v":-19},{"$f":"T7-HLOOKUP(X7,Feuil1!$C$1:$BL$10,10,FALSE)","v":-894},null,null,null,null,null,null,"NAT +"]
["F","CO","PDL",3,97644,"L'HERMIER","Mélanie",1996,47.74,"CJF Laval-Voutré","F",-43,43,45,45,53,56,-59,56,101,5.519999999999996,"NAT +",6,{"$f":"IF(I8=\"\",\"\",IF(A8=\"H\",IF(OR(H8=\"SEN\",H8<1995),VLOOKUP(I8,Feuil1!$A$11:$F$29,6),IF(AND(H8>1994,H8<1998),VLOOKUP(I8,Feuil1!$A$11:$F$29,5),IF(AND(H8>1997,H8<2000),VLOOKUP(I8,Feuil1!$A$11:$F$29,4),IF(AND(H8>1999,H8<2002),VLOOKUP(I8,Feuil1!$A$11:$F$29,3),VLOOKUP(I8,Feuil1!$A$11:$F$29,2))))),IF(OR(H8=\"SEN\",H8<1995),VLOOKUP(I8,Feuil1!$G$11:$L$25,6),IF(AND(H8>1994,H8<1998),VLOOKUP(I8,Feuil1!$G$11:$L$25,5),IF(AND(H8>1997,H8<2000),VLOOKUP(I8,Feuil1!$G$11:$L$25,4),IF(AND(H8>1999,H8<2002),VLOOKUP(I8,Feuil1!$G$11:$L$25,3),VLOOKUP(I8,Feuil1!$G$11:$L$25,2)))))))","v":"FJ48"},166.35486282312925,null," ",{"$f":"T8-HLOOKUP(X8,Feuil1!$C$1:$BL$10,2,FALSE)","v":56},{"$f":"T8-HLOOKUP(X8,Feuil1!$C$1:$BL$10,3,FALSE)","v":46},{"$f":"T8-HLOOKUP(X8,Feuil1!$C$1:$BL$10,4,FALSE)","v":36},{"$f":"T8-HLOOKUP(X8,Feuil1!$C$1:$BL$10,5,FALSE)","v":26},{"$f":"T8-HLOOKUP(X8,Feuil1!$C$1:$BL$10,6,FALSE)","v":16},{"$f":"T8-HLOOKUP(X8,Feuil1!$C$1:$BL$10,7,FALSE)","v":6},{"$f":"T8-HLOOKUP(X8,Feuil1!$C$1:$BL$10,8,FALSE)","v":-9},{"$f":"T8-HLOOKUP(X8,Feuil1!$C$1:$BL$10,9,FALSE)","v":-24},{"$f":"T8-HLOOKUP(X8,Feuil1!$C$1:$BL$10,10,FALSE)","v":-899},null,null,null,null,null,null,"NAT +"]
["F","DOM","REU",4,357739,"VIRAMA","DEBORAH",1996,47.8,"CH LA PLAINE","F",35,40,-45,40,45,50,52,52,92,-3.5999999999999943,"FED +",7,{"$f":"IF(I9=\"\",\"\",IF(A9=\"H\",IF(OR(H9=\"SEN\",H9<1995),VLOOKUP(I9,Feuil1!$A$11:$F$29,6),IF(AND(H9>1994,H9<1998),VLOOKUP(I9,Feuil1!$A$11:$F$29,5),IF(AND(H9>1997,H9<2000),VLOOKUP(I9,Feuil1!$A$11:$F$29,4),IF(AND(H9>1999,H9<2002),VLOOKUP(I9,Feuil1!$A$11:$F$29,3),VLOOKUP(I9,Feuil1!$A$11:$F$29,2))))),IF(OR(H9=\"SEN\",H9<1995),VLOOKUP(I9,Feuil1!$G$11:$L$25,6),IF(AND(H9>1994,H9<1998),VLOOKUP(I9,Feuil1!$G$11:$L$25,5),IF(AND(H9>1997,H9<2000),VLOOKUP(I9,Feuil1!$G$11:$L$25,4),IF(AND(H9>1999,H9<2002),VLOOKUP(I9,Feuil1!$G$11:$L$25,3),VLOOKUP(I9,Feuil1!$G$11:$L$25,2)))))))","v":"FJ48"},151.36349444258383,null," ",{"$f":"T9-HLOOKUP(X9,Feuil1!$C$1:$BL$10,2,FALSE)","v":47},{"$f":"T9-HLOOKUP(X9,Feuil1!$C$1:$BL$10,3,FALSE)","v":37},{"$f":"T9-HLOOKUP(X9,Feuil1!$C$1:$BL$10,4,FALSE)","v":27},{"$f":"T9-HLOOKUP(X9,Feuil1!$C$1:$BL$10,5,FALSE)","v":17},{"$f":"T9-HLOOKUP(X9,Feuil1!$C$1:$BL$10,6,FALSE)","v":7},{"$f":"T9-HLOOKUP(X9,Feuil1!$C$1:$BL$10,7,FALSE)","v":-3},{"$f":"T9-HLOOKUP(X9,Feuil1!$C$1:$BL$10,8,FALSE)","v":-18},{"$f":"T9-HLOOKUP(X9,Feuil1!$C$1:$BL$10,9,FALSE)","v":-33},{"$f":"T9-HLOOKUP(X9,Feuil1!$C$1:$BL$10,10,FALSE)","v":-908},null,null,null,null,null,null,"FED +"]
["F","N","IDF",5,364789,"RICHARD","IRENE",1996,47.85,"BLANC-MESNIL","F",-35,37,39,39,46,49,-51,49,88,-7.7000000000000028,"FED +",3,{"$f":"IF(I10=\"\",\"\",IF(A10=\"H\",IF(OR(H10=\"SEN\",H10<1995),VLOOKUP(I10,Feuil1!$A$11:$F$29,6),IF(AND(H10>1994,H10<1998),VLOOKUP(I10,Feuil1!$A$11:$F$29,5),IF(AND(H10>1997,H10<2000),VLOOKUP(I10,Feuil1!$A$11:$F$29,4),IF(AND(H10>1999,H10<2002),VLOOKUP(I10,Feuil1!$A$11:$F$29,3),VLOOKUP(I10,Feuil1!$A$11:$F$29,2))))),IF(OR(H10=\"SEN\",H10<1995),VLOOKUP(I10,Feuil1!$G$11:$L$25,6),IF(AND(H10>1994,H10<1998),VLOOKUP(I10,Feuil1!$G$11:$L$25,5),IF(AND(H10>1997,H10<2000),VLOOKUP(I10,Feuil1!$G$11:$L$25,4),IF(AND(H10>1999,H10<2002),VLOOKUP(I10,Feuil1!$G$11:$L$25,3),VLOOKUP(I10,Feuil1!$G$11:$L$25,2)))))))","v":"FJ48"},144.64924942165013,null," ",{"$f":"T10-HLOOKUP(X10,Feuil1!$C$1:$BL$10,2,FALSE)","v":43},{"$f":"T10-HLOOKUP(X10,Feuil1!$C$1:$BL$10,3,FALSE)","v":33},{"$f":"T10-HLOOKUP(X10,Feuil1!$C$1:$BL$10,4,FALSE)","v":23},{"$f":"T10-HLOOKUP(X10,Feuil1!$C$1:$BL$10,5,FALSE)","v":13},{"$f":"T10-HLOOKUP(X10,Feuil1!$C$1:$BL$10,6,FALSE)","v":3},{"$f":"T10-HLOOKUP(X10,Feuil1!$C$1:$BL$10,7,FALSE)","v":-7},{"$f":"T10-HLOOKUP(X10,Feuil1!$C$1:$BL$10,8,FALSE)","v":-22},{"$f":"T10-HLOOKUP(X10,Feuil1!$C$1:$BL$10,9,FALSE)","v":-37},{"$f":"T10-HLOOKUP(X10,Feuil1!$C$1:$BL$10,10,FALSE)","v":-912},null,null,null,null,null,null,"FED +"]
["F","NE","ALS",6,316601,"TSCHAEN","Amandine",1996,47.2,"US Wittenheim","F",32,35,-37,35,46,-48,-48,46,81,-13.400000000000006,"IRG +",6,{"$f":"IF(I11=\"\",\"\",IF(A11=\"H\",IF(OR(H11=\"SEN\",H11<1995),VLOOKUP(I11,Feuil1!$A$11:$F$29,6),IF(AND(H11>1994,H11<1998),VLOOKUP(I11,Feuil1!$A$11:$F$29,5),IF(AND(H11>1997,H11<2000),VLOOKUP(I11,Feuil1!$A$11:$F$29,4),IF(AND(H11>1999,H11<2002),VLOOKUP(I11,Feuil1!$A$11:$F$29,3),VLOOKUP(I11,Feuil1!$A$11:$F$29,2))))),IF(OR(H11=\"SEN\",H11<1995),VLOOKUP(I11,Feuil1!$G$11:$L$25,6),IF(AND(H11>1994,H11<1998),VLOOKUP(I11,Feuil1!$G$11:$L$25,5),IF(AND(H11>1997,H11<2000),VLOOKUP(I11,Feuil1!$G$11:$L$25,4),IF(AND(H11>1999,H11<2002),VLOOKUP(I11,Feuil1!$G$11:$L$25,3),VLOOKUP(I11,Feuil1!$G$11:$L$25,2)))))))","v":"FJ48"},134.76531632062608,null," ",{"$f":"T11-HLOOKUP(X11,Feuil1!$C$1:$BL$10,2,FALSE)","v":36},{"$f":"T11-HLOOKUP(X11,Feuil1!$C$1:$BL$10,3,FALSE)","v":26},{"$f":"T11-HLOOKUP(X11,Feuil1!$C$1:$BL$10,4,FALSE)","v":16},{"$f":"T11-HLOOKUP(X11,Feuil1!$C$1:$BL$10,5,FALSE)","v":6},{"$f":"T11-HLOOKUP(X11,Feuil1!$C$1:$BL$10,6,FALSE)","v":-4},{"$f":"T11-HLOOKUP(X11,Feuil1!$C$1:$BL$10,7,FALSE)","v":-14},{"$f":"T11-HLOOKUP(X11,Feuil1!$C$1:$BL$10,8,FALSE)","v":-29},{"$f":"T11-HLOOKUP(X11,Feuil1!$C$1:$BL$10,9,FALSE)","v":-44},{"$f":"T11-HLOOKUP(X11,Feuil1!$C$1:$BL$10,10,FALSE)","v":-919},null,null,null,null,null,null,"IRG +"]
["F","N","PIC",7,308200,"LEBON","Vanessa",1997,45.12,"Hirson CEHT","F",30,32,-34,32,43,45,"-",45,77,-13.239999999999995,"IRG +",2,{"$f":"IF(I12=\"\",\"\",IF(A12=\"H\",IF(OR(H12=\"SEN\",H12<1995),VLOOKUP(I12,Feuil1!$A$11:$F$29,6),IF(AND(H12>1994,H12<1998),VLOOKUP(I12,Feuil1!$A$11:$F$29,5),IF(AND(H12>1997,H12<2000),VLOOKUP(I12,Feuil1!$A$11:$F$29,4),IF(AND(H12>1999,H12<2002),VLOOKUP(I12,Feuil1!$A$11:$F$29,3),VLOOKUP(I12,Feuil1!$A$11:$F$29,2))))),IF(OR(H12=\"SEN\",H12<1995),VLOOKUP(I12,Feuil1!$G$11:$L$25,6),IF(AND(H12>1994,H12<1998),VLOOKUP(I12,Feuil1!$G$11:$L$25,5),IF(AND(H12>1997,H12<2000),VLOOKUP(I12,Feuil1!$G$11:$L$25,4),IF(AND(H12>1999,H12<2002),VLOOKUP(I12,Feuil1!$G$11:$L$25,3),VLOOKUP(I12,Feuil1!$G$11:$L$25,2)))))))","v":"FJ48"},133.46364930598085,null," ",{"$f":"T12-HLOOKUP(X12,Feuil1!$C$1:$BL$10,2,FALSE)","v":32},{"$f":"T12-HLOOKUP(X12,Feuil1!$C$1:$BL$10,3,FALSE)","v":22},{"$f":"T12-HLOOKUP(X12,Feuil1!$C$1:$BL$10,4,FALSE)","v":12},{"$f":"T12-HLOOKUP(X12,Feuil1!$C$1:$BL$10,5,FALSE)","v":2},{"$f":"T12-HLOOKUP(X12,Feuil1!$C$1:$BL$10,6,FALSE)","v":-8},{"$f":"T12-HLOOKUP(X12,Feuil1!$C$1:$BL$10,7,FALSE)","v":-18},{"$f":"T12-HLOOKUP(X12,Feuil1!$C$1:$BL$10,8,FALSE)","v":-33},{"$f":"T12-HLOOKUP(X12,Feuil1!$C$1:$BL$10,9,FALSE)","v":-48},{"$f":"T12-HLOOKUP(X12,Feuil1!$C$1:$BL$10,10,FALSE)","v":-923},null,null,null,null,null,null,"IRG +"]
["F","SEST","CAZ",8,341745,"DOLET","Oceane",1997,47.8,"ASLDD TOULON","F",25,30,-32,30,35,37,-40,37,67,-28.599999999999994,"REG +",2,{"$f":"IF(I13=\"\",\"\",IF(A13=\"H\",IF(OR(H13=\"SEN\",H13<1995),VLOOKUP(I13,Feuil1!$A$11:$F$29,6),IF(AND(H13>1994,H13<1998),VLOOKUP(I13,Feuil1!$A$11:$F$29,5),IF(AND(H13>1997,H13<2000),VLOOKUP(I13,Feuil1!$A$11:$F$29,4),IF(AND(H13>1999,H13<2002),VLOOKUP(I13,Feuil1!$A$11:$F$29,3),VLOOKUP(I13,Feuil1!$A$11:$F$29,2))))),IF(OR(H13=\"SEN\",H13<1995),VLOOKUP(I13,Feuil1!$G$11:$L$25,6),IF(AND(H13>1994,H13<1998),VLOOKUP(I13,Feuil1!$G$11:$L$25,5),IF(AND(H13>1997,H13<2000),VLOOKUP(I13,Feuil1!$G$11:$L$25,4),IF(AND(H13>1999,H13<2002),VLOOKUP(I13,Feuil1!$G$11:$L$25,3),VLOOKUP(I13,Feuil1!$G$11:$L$25,2)))))))","v":"FJ48"},110.23211008318606,null," ",{"$f":"T13-HLOOKUP(X13,Feuil1!$C$1:$BL$10,2,FALSE)","v":22},{"$f":"T13-HLOOKUP(X13,Feuil1!$C$1:$BL$10,3,FALSE)","v":12},{"$f":"T13-HLOOKUP(X13,Feuil1!$C$1:$BL$10,4,FALSE)","v":2},{"$f":"T13-HLOOKUP(X13,Feuil1!$C$1:$BL$10,5,FALSE)","v":-8},{"$f":"T13-HLOOKUP(X13,Feuil1!$C$1:$BL$10,6,FALSE)","v":-18},{"$f":"T13-HLOOKUP(X13,Feuil1!$C$1:$BL$10,7,FALSE)","v":-28},{"$f":"T13-HLOOKUP(X13,Feuil1!$C$1:$BL$10,8,FALSE)","v":-43},{"$f":"T13-HLOOKUP(X13,Feuil1!$C$1:$BL$10,9,FALSE)","v":-58},{"$f":"T13-HLOOKUP(X13,Feuil1!$C$1:$BL$10,10,FALSE)","v":-933},null,null,null,null,null,null,"REG +"]
["F","SEST","RAL",9,366936,"MARESCAUX","Amandine",1997,38.200000000000003,"VALENCE","F",22,26,27,27,27,31,34,34,61,-15.400000000000006,"DEP +",6,{"$f":"IF(I14=\"\",\"\",IF(A14=\"H\",IF(OR(H14=\"SEN\",H14<1995),VLOOKUP(I14,Feuil1!$A$11:$F$29,6),IF(AND(H14>1994,H14<1998),VLOOKUP(I14,Feuil1!$A$11:$F$29,5),IF(AND(H14>1997,H14<2000),VLOOKUP(I14,Feuil1!$A$11:$F$29,4),IF(AND(H14>1999,H14<2002),VLOOKUP(I14,Feuil1!$A$11:$F$29,3),VLOOKUP(I14,Feuil1!$A$11:$F$29,2))))),IF(OR(H14=\"SEN\",H14<1995),VLOOKUP(I14,Feuil1!$G$11:$L$25,6),IF(AND(H14>1994,H14<1998),VLOOKUP(I14,Feuil1!$G$11:$L$25,5),IF(AND(H14>1997,H14<2000),VLOOKUP(I14,Feuil1!$G$11:$L$25,4),IF(AND(H14>1999,H14<2002),VLOOKUP(I14,Feuil1!$G$11:$L$25,3),VLOOKUP(I14,Feuil1!$G$11:$L$25,2)))))))","v":"FJ48"},124.69304055394602,null," ",{"$f":"T14-HLOOKUP(X14,Feuil1!$C$1:$BL$10,2,FALSE)","v":16},{"$f":"T14-HLOOKUP(X14,Feuil1!$C$1:$BL$10,3,FALSE)","v":6},{"$f":"T14-HLOOKUP(X14,Feuil1!$C$1:$BL$10,4,FALSE)","v":-4},{"$f":"T14-HLOOKUP(X14,Feuil1!$C$1:$BL$10,5,FALSE)","v":-14},{"$f":"T14-HLOOKUP(X14,Feuil1!$C$1:$BL$10,6,FALSE)","v":-24},{"$f":"T14-HLOOKUP(X14,Feuil1!$C$1:$BL$10,7,FALSE)","v":-34},{"$f":"T14-HLOOKUP(X14,Feuil1!$C$1:$BL$10,8,FALSE)","v":-49},{"$f":"T14-HLOOKUP(X14,Feuil1!$C$1:$BL$10,9,FALSE)","v":-64},{"$f":"T14-HLOOKUP(X14,Feuil1!$C$1:$BL$10,10,FALSE)","v":-939},null,null,null,null,null,null,"DEP +"]
[null,null,null,null,null,null,null,null,null,null,null,null,null,null,null,null,null,null,null,null,null,null,null,null,null,null," ",{"$f":"T15-HLOOKUP(X15,Feuil1!$C$1:$BL$10,2,FALSE)","v":{"$error":"#N/A"}},{"$f":"T15-HLOOKUP(X15,Feuil1!$C$1:$BL$10,3,FALSE)","v":{"$error":"#N/A"}},{"$f":"T15-HLOOKUP(X15,Feuil1!$C$1:$BL$10,4,FALSE)","v":{"$error":"#N/A"}},{"$f":"T15-HLOOKUP(X15,Feuil1!$C$1:$BL$10,5,FALSE)","v":{"$error":"#N/A"}},{"$f":"T15-HLOOKUP(X15,Feuil1!$C$1:$BL$10,6,FALSE)","v":{"$error":"#N/A"}},{"$f":"T15-HLOOKUP(X15,Feuil1!$C$1:$BL$10,7,FALSE)","v":{"$error":"#N/A"}},{"$f":"T15-HLOOKUP(X15,Feuil1!$C$1:$BL$10,8,FALSE)","v":{"$error":"#N/A"}},{"$f":"T15-HLOOKUP(X15,Feuil1!$C$1:$BL$10,9,FALSE)","v":{"$error":"#N/A"}},{"$f":"T15-HLOOKUP(X15,Feuil1!$C$1:$BL$10,10,FALSE)","v":{"$error":"#N/A"}},null,null,null,null,null,null,{"$f":"IF(AJ15>=0,$AJ$4,IF(AI15>=0,$AI$4,IF(AH15>=0,$AH$4,IF(AG15>=0,$AG$4,IF(AF15>=0,$AF$4,IF(AE15>=0,$AE$4,IF(AD15>=0,$AD$4,IF(AC15>=0,$AC$4,$AB$4))))))))","v":{"$error":"#N/A"}}]
["F","NE","BOU",1,196470,"BALACE","Julie",1996,52.01,"HMDB21","F",-58,58,62,{"$f":"IF(H16=\"\",\"\",IF(MAXA(L16:N16)<=0,0,MAXA(L16:N16)))","v":62},70,74,-77,{"$f":"IF(H16=\"\",\"\",IF(MAXA(P16:R16)<=0,0,MAXA(P16:R16)))","v":74},{"$f":"IF(H16=\"\",\"\",IF(OR(O16=0,S16=0),0,O16+S16))","v":136},{"$f":"T16-I16*2","v":31.980000000000004},{"$f":"IF(H16=\"\",\"\",AQ16)","v":"INTA +"},{"$f":"IF(AJ16>=0,AJ16,IF(AI16>=0,AI16,IF(AH16>=0,AH16,IF(AG16>=0,AG16,IF(AF16>=0,AF16,IF(AE16>=0,AE16,IF(AD16>=0,AD16,IF(AC16>=0,AC16,AB16))))))))","v":1},{"$f":"IF(I16=\"\",\"\",IF(A16=\"H\",IF(OR(H16=\"SEN\",H16<1995),VLOOKUP(I16,Feuil1!$A$11:$F$29,6),IF(AND(H16>1994,H16<1998),VLOOKUP(I16,Feuil1!$A$11:$F$29,5),IF(AND(H16>1997,H16<2000),VLOOKUP(I16,Feuil1!$A$11:$F$29,4),IF(AND(H16>1999,H16<2002),VLOOKUP(I16,Feuil1!$A$11:$F$29,3),VLOOKUP(I16,Feuil1!$A$11:$F$29,2))))),IF(OR(H16=\"SEN\",H16<1995),VLOOKUP(I16,Feuil1!$G$11:$L$25,6),IF(AND(H16>1994,H16<1998),VLOOKUP(I16,Feuil1!$G$11:$L$25,5),IF(AND(H16>1997,H16<2000),VLOOKUP(I16,Feuil1!$G$11:$L$25,4),IF(AND(H16>1999,H16<2002),VLOOKUP(I16,Feuil1!$G$11:$L$25,3),VLOOKUP(I16,Feuil1!$G$11:$L$25,2)))))))","v":"FJ53"},{"$f":"IF(I16=\"\",\"\",IF(A16=\"H\",10^(0.794358141*LOG(I16/174.393)^2)*T16,IF(A16=\"F\",10^(0.89726074*LOG(I16/148.026)^2)*T16,\"\")))","v":208.2971724783859},null," ",{"$f":"T16-HLOOKUP(X16,Feuil1!$C$1:$BL$10,2,FALSE)","v":81},{"$f":"T16-HLOOKUP(X16,Feuil1!$C$1:$BL$10,3,FALSE)","v":71},{"$f":"T16-HLOOKUP(X16,Feuil1!$C$1:$BL$10,4,FALSE)","v":61},{"$f":"T16-HLOOKUP(X16,Feuil1!$C$1:$BL$10,5,FALSE)","v":51},{"$f":"T16-HLOOKUP(X16,Feuil1!$C$1:$BL$10,6,FALSE)","v":41},{"$f":"T16-HLOOKUP(X16,Feuil1!$C$1:$BL$10,7,FALSE)","v":31},{"$f":"T16-HLOOKUP(X16,Feuil1!$C$1:$BL$10,8,FALSE)","v":16},{"$f":"T16-HLOOKUP(X16,Feuil1!$C$1:$BL$10,9,FALSE)","v":1},{"$f":"T16-HLOOKUP(X16,Feuil1!$C$1:$BL$10,10,FALSE)","v":-864},null,null,null,null,null,null,{"$f":"IF(AJ16>=0,$AJ$4,IF(AI16>=0,$AI$4,IF(AH16>=0,$AH$4,IF(AG16>=0,$AG$4,IF(AF16>=0,$AF$4,IF(AE16>=0,$AE$4,IF(AD16>=0,$AD$4,IF(AC16>=0,$AC$4,$AB$4))))))))","v":"INTA +"}]
["F","N","PIC",2,280885,"CABON","Ophélie",1997,52.86,"Péronne AAEEP","F",57,-60,60,60,70,75,-80,75,135,29.28,"INTA +",0,{"$f":"IF(I17=\"\",\"\",IF(A17=\"H\",IF(OR(H17=\"SEN\",H17<1995),VLOOKUP(I17,Feuil1!$A$11:$F$29,6),IF(AND(H17>1994,H17<1998),VLOOKUP(I17,Feuil1!$A$11:$F$29,5),IF(AND(H17>1997,H17<2000),VLOOKUP(I17,Feuil1!$A$11:$F$29,4),IF(AND(H17>1999,H17<2002),VLOOKUP(I17,Feuil1!$A$11:$F$29,3),VLOOKUP(I17,Feuil1!$A$11:$F$29,2))))),IF(OR(H17=\"SEN\",H17<1995),VLOOKUP(I17,Feuil1!$G$11:$L$25,6),IF(AND(H17>1994,H17<1998),VLOOKUP(I17,Feuil1!$G$11:$L$25,5),IF(AND(H17>1997,H17<2000),VLOOKUP(I17,Feuil1!$G$11:$L$25,4),IF(AND(H17>1999,H17<2002),VLOOKUP(I17,Feuil1!$G$11:$L$25,3),VLOOKUP(I17,Feuil1!$G$11:$L$25,2)))))))","v":"FJ53"},204.07213544321601,null," ",{"$f":"T17-HLOOKUP(X17,Feuil1!$C$1:$BL$10,2,FALSE)","v":80},{"$f":"T17-HLOOKUP(X17,Feuil1!$C$1:$BL$10,3,FALSE)","v":70},{"$f":"T17-HLOOKUP(X17,Feuil1!$C$1:$BL$10,4,FALSE)","v":60},{"$f":"T17-HLOOKUP(X17,Feuil1!$C$1:$BL$10,5,FALSE)","v":50},{"$f":"T17-HLOOKUP(X17,Feuil1!$C$1:$BL$10,6,FALSE)","v":40},{"$f":"T17-HLOOKUP(X17,Feuil1!$C$1:$BL$10,7,FALSE)","v":30},{"$f":"T17-HLOOKUP(X17,Feuil1!$C$1:$BL$10,8,FALSE)","v":15},{"$f":"T17-HLOOKUP(X17,Feuil1!$C$1:$BL$10,9,FALSE)","v":0},{"$f":"T17-HLOOKUP(X17,Feuil1!$C$1:$BL$10,10,FALSE)","v":-865},null,null,null,null,null,null,"INTA +"]
["F","CO","CEN",3,357364,"DAUMAS","Solène",1995,52.7,"AAJ Blois","F",53,56,-59,56,62,65,68,68,124,18.599999999999994,"INTB +",4,{"$f":"IF(I18=\"\",\"\",IF(A18=\"H\",IF(OR(H18=\"SEN\",H18<1995),VLOOKUP(I18,Feuil1!$A$11:$F$29,6),IF(AND(H18>1994,H18<1998),VLOOKUP(I18,Feuil1!$A$11:$F$29,5),IF(AND(H18>1997,H18<2000),VLOOKUP(I18,Feuil1!$A$11:$F$29,4),IF(AND(H18>1999,H18<2002),VLOOKUP(I18,Feuil1!$A$11:$F$29,3),VLOOKUP(I18,Feuil1!$A$11:$F$29,2))))),IF(OR(H18=\"SEN\",H18<1995),VLOOKUP(I18,Feuil1!$G$11:$L$25,6),IF(AND(H18>1994,H18<1998),VLOOKUP(I18,Feuil1!$G$11:$L$25,5),IF(AND(H18>1997,H18<2000),VLOOKUP(I18,Feuil1!$G$11:$L$25,4),IF(AND(H18>1999,H18<2002),VLOOKUP(I18,Feuil1!$G$11:$L$25,3),VLOOKUP(I18,Feuil1!$G$11:$L$25,2)))))))","v":"FJ53"},187.90128318692223,null," ",{"$f":"T18-HLOOKUP(X18,Feuil1!$C$1:$BL$10,2,FALSE)","v":69},{"$f":"T18-HLOOKUP(X18,Feuil1!$C$1:$BL$10,3,FALSE)","v":59},{"$f":"T18-HLOOKUP(X18,Feuil1!$C$1:$BL$10,4,FALSE)","v":49},{"$f":"T18-HLOOKUP(X18,Feuil1!$C$1:$BL$10,5,FALSE)","v":39},{"$f":"T18-HLOOKUP(X18,Feuil1!$C$1:$BL$10,6,FALSE)","v":29},{"$f":"T18-HLOOKUP(X18,Feuil1!$C$1:$BL$10,7,FALSE)","v":19},{"$f":"T18-HLOOKUP(X18,Feuil1!$C$1:$BL$10,8,FALSE)","v":4},{"$f":"T18-HLOOKUP(X18,Feuil1!$C$1:$BL$10,9,FALSE)","v":-11},{"$f":"T18-HLOOKUP(X18,Feuil1!$C$1:$BL$10,10,FALSE)","v":-876},null,null,null,null,null,null,"INTB +"]
["F","N","PIC",4,187400,"CARON","Amélie",1996,52.46,"Saleux CHM","F",47,50,53,53,55,60,65,65,118,13.079999999999998,"NAT +",13,{"$f":"IF(I19=\"\",\"\",IF(A19=\"H\",IF(OR(H19=\"SEN\",H19<1995),VLOOKUP(I19,Feuil1!$A$11:$F$29,6),IF(AND(H19>1994,H19<1998),VLOOKUP(I19,Feuil1!$A$11:$F$29,5),IF(AND(H19>1997,H19<2000),VLOOKUP(I19,Feuil1!$A$11:$F$29,4),IF(AND(H19>1999,H19<2002),VLOOKUP(I19,Feuil1!$A$11:$F$29,3),VLOOKUP(I19,Feuil1!$A$11:$F$29,2))))),IF(OR(H19=\"SEN\",H19<1995),VLOOKUP(I19,Feuil1!$G$11:$L$25,6),IF(AND(H19>1994,H19<1998),VLOOKUP(I19,Feuil1!$G$11:$L$25,5),IF(AND(H19>1997,H19<2000),VLOOKUP(I19,Feuil1!$G$11:$L$25,4),IF(AND(H19>1999,H19<2002),VLOOKUP(I19,Feuil1!$G$11:$L$25,3),VLOOKUP(I19,Feuil1!$G$11:$L$25,2)))))))","v":"FJ53"},179.46888091406777,null," ",{"$f":"T19-HLOOKUP(X19,Feuil1!$C$1:$BL$10,2,FALSE)","v":63},{"$f":"T19-HLOOKUP(X19,Feuil1!$C$1:$BL$10,3,FALSE)","v":53},{"$f":"T19-HLOOKUP(X19,Feuil1!$C$1:$BL$10,4,FALSE)","v":43},{"$f":"T19-HLOOKUP(X19,Feuil1!$C$1:$BL$10,5,FALSE)","v":33},{"$f":"T19-HLOOKUP(X19,Feuil1!$C$1:$BL$10,6,FALSE)","v":23},{"$f":"T19-HLOOKUP(X19,Feuil1!$C$1:$BL$10,7,FALSE)","v":13},{"$f":"T19-HLOOKUP(X19,Feuil1!$C$1:$BL$10,8,FALSE)","v":-2},{"$f":"T19-HLOOKUP(X19,Feuil1!$C$1:$BL$10,9,FALSE)","v":-17},{"$f":"T19-HLOOKUP(X19,Feuil1!$C$1:$BL$10,10,FALSE)","v":-882},null,null,null,null,null,null,"NAT +"]
["F","SEST","PRO",5,361701,"DELEUIL","Fanny",1995,48.1,"EEAR MONTEUX",null,45,47,-50,47,55,58,62,62,109,12.799999999999997,"NAT +",4,{"$f":"IF(I20=\"\",\"\",IF(A20=\"H\",IF(OR(H20=\"SEN\",H20<1995),VLOOKUP(I20,Feuil1!$A$11:$F$29,6),IF(AND(H20>1994,H20<1998),VLOOKUP(I20,Feuil1!$A$11:$F$29,5),IF(AND(H20>1997,H20<2000),VLOOKUP(I20,Feuil1!$A$11:$F$29,4),IF(AND(H20>1999,H20<2002),VLOOKUP(I20,Feuil1!$A$11:$F$29,3),VLOOKUP(I20,Feuil1!$A$11:$F$29,2))))),IF(OR(H20=\"SEN\",H20<1995),VLOOKUP(I20,Feuil1!$G$11:$L$25,6),IF(AND(H20>1994,H20<1998),VLOOKUP(I20,Feuil1!$G$11:$L$25,5),IF(AND(H20>1997,H20<2000),VLOOKUP(I20,Feuil1!$G$11:$L$25,4),IF(AND(H20>1999,H20<2002),VLOOKUP(I20,Feuil1!$G$11:$L$25,3),VLOOKUP(I20,Feuil1!$G$11:$L$25,2)))))))","v":"FJ53"},178.34984841202242,null," ",{"$f":"T20-HLOOKUP(X20,Feuil1!$C$1:$BL$10,2,FALSE)","v":54},{"$f":"T20-HLOOKUP(X20,Feuil1!$C$1:$BL$10,3,FALSE)","v":44},{"$f":"T20-HLOOKUP(X20,Feuil1!$C$1:$BL$10,4,FALSE)","v":34},{"$f":"T20-HLOOKUP(X20,Feuil1!$C$1:$BL$10,5,FALSE)","v":24},{"$f":"T20-HLOOKUP(X20,Feuil1!$C$1:$BL$10,6,FALSE)","v":14},{"$f":"T20-HLOOKUP(X20,Feuil1!$C$1:$BL$10,7,FALSE)","v":4},{"$f":"T20-HLOOKUP(X20,Feuil1!$C$1:$BL$10,8,FALSE)","v":-11},{"$f":"T20-HLOOKUP(X20,Feuil1!$C$1:$BL$10,9,FALSE)","v":-26},{"$f":"T20-HLOOKUP(X20,Feuil1!$C$1:$BL$10,10,FALSE)","v":-891},null,null,null,null,null,null,"NAT +"]
["F","N","PIC",6,309751,"SEIGNEUR","Manon",1995,52.4,"Villers-Bretonneux KC","F",45,-48,48,48,57,61,-63,61,109,4.2000000000000028,"NAT +",4,{"$f":"IF(I21=\"\",\"\",IF(A21=\"H\",IF(OR(H21=\"SEN\",H21<1995),VLOOKUP(I21,Feuil1!$A$11:$F$29,6),IF(AND(H21>1994,H21<1998),VLOOKUP(I21,Feuil1!$A$11:$F$29,5),IF(AND(H21>1997,H21<2000),VLOOKUP(I21,Feuil1!$A$11:$F$29,4),IF(AND(H21>1999,H21<2002),VLOOKUP(I21,Feuil1!$A$11:$F$29,3),VLOOKUP(I21,Feuil1!$A$11:$F$29,2))))),IF(OR(H21=\"SEN\",H21<1995),VLOOKUP(I21,Feuil1!$G$11:$L$25,6),IF(AND(H21>1994,H21<1998),VLOOKUP(I21,Feuil1!$G$11:$L$25,5),IF(AND(H21>1997,H21<2000),VLOOKUP(I21,Feuil1!$G$11:$L$25,4),IF(AND(H21>1999,H21<2002),VLOOKUP(I21,Feuil1!$G$11:$L$25,3),VLOOKUP(I21,Feuil1!$G$11:$L$25,2)))))))","v":"FJ53"},165.93410826693139,null," ",{"$f":"T21-HLOOKUP(X21,Feuil1!$C$1:$BL$10,2,FALSE)","v":54},{"$f":"T21-HLOOKUP(X21,Feuil1!$C$1:$BL$10,3,FALSE)","v":44},{"$f":"T21-HLOOKUP(X21,Feuil1!$C$1:$BL$10,4,FALSE)","v":34},{"$f":"T21-HLOOKUP(X21,Feuil1!$C$1:$BL$10,5,FALSE)","v":24},{"$f":"T21-HLOOKUP(X21,Feuil1!$C$1:$BL$10,6,FALSE)","v":14},{"$f":"T21-HLOOKUP(X21,Feuil1!$C$1:$BL$10,7,FALSE)","v":4},{"$f":"T21-HLOOKUP(X21,Feuil1!$C$1:$BL$10,8,FALSE)","v":-11},{"$f":"T21-HLOOKUP(X21,Feuil1!$C$1:$BL$10,9,FALSE)","v":-26},{"$f":"T21-HLOOKUP(X21,Feuil1!$C$1:$BL$10,10,FALSE)","v":-891},null,null,null,null,null,null,"NAT +"]
["F","CO","PDL",7,97644,"L'HERMIER","Mélanie",1996,49.3,"CJF Laval-Voutré","F",44,47,49,49,54,59,-61,59,108,9.4000000000000057,"NAT +",3,{"$f":"IF(I22=\"\",\"\",IF(A22=\"H\",IF(OR(H22=\"SEN\",H22<1995),VLOOKUP(I22,Feuil1!$A$11:$F$29,6),IF(AND(H22>1994,H22<1998),VLOOKUP(I22,Feuil1!$A$11:$F$29,5),IF(AND(H22>1997,H22<2000),VLOOKUP(I22,Feuil1!$A$11:$F$29,4),IF(AND(H22>1999,H22<2002),VLOOKUP(I22,Feuil1!$A$11:$F$29,3),VLOOKUP(I22,Feuil1!$A$11:$F$29,2))))),IF(OR(H22=\"SEN\",H22<1995),VLOOKUP(I22,Feuil1!$G$11:$L$25,6),IF(AND(H22>1994,H22<1998),VLOOKUP(I22,Feuil1!$G$11:$L$25,5),IF(AND(H22>1997,H22<2000),VLOOKUP(I22,Feuil1!$G$11:$L$25,4),IF(AND(H22>1999,H22<2002),VLOOKUP(I22,Feuil1!$G$11:$L$25,3),VLOOKUP(I22,Feuil1!$G$11:$L$25,2)))))))","v":"FJ53"},172.98050972484239,null," ",{"$f":"T22-HLOOKUP(X22,Feuil1!$C$1:$BL$10,2,FALSE)","v":53},{"$f":"T22-HLOOKUP(X22,Feuil1!$C$1:$BL$10,3,FALSE)","v":43},{"$f":"T22-HLOOKUP(X22,Feuil1!$C$1:$BL$10,4,FALSE)","v":33},{"$f":"T22-HLOOKUP(X22,Feuil1!$C$1:$BL$10,5,FALSE)","v":23},{"$f":"T22-HLOOKUP(X22,Feuil1!$C$1:$BL$10,6,FALSE)","v":13},{"$f":"T22-HLOOKUP(X22,Feuil1!$C$1:$BL$10,7,FALSE)","v":3},{"$f":"T22-HLOOKUP(X22,Feuil1!$C$1:$BL$10,8,FALSE)","v":-12},{"$f":"T22-HLOOKUP(X22,Feuil1!$C$1:$BL$10,9,FALSE)","v":-27},{"$f":"T22-HLOOKUP(X22,Feuil1!$C$1:$BL$10,10,FALSE)","v":-892},null,null,null,null,null,null,"NAT +"]
["F","SO","MPY",8,253454,"JOURNET","Mégane",1995,50.6,"FIGEAC HC","F",40,43,45,45,50,55,60,60,105,3.7999999999999972,"NAT +",0,{"$f":"IF(I23=\"\",\"\",IF(A23=\"H\",IF(OR(H23=\"SEN\",H23<1995),VLOOKUP(I23,Feuil1!$A$11:$F$29,6),IF(AND(H23>1994,H23<1998),VLOOKUP(I23,Feuil1!$A$11:$F$29,5),IF(AND(H23>1997,H23<2000),VLOOKUP(I23,Feuil1!$A$11:$F$29,4),IF(AND(H23>1999,H23<2002),VLOOKUP(I23,Feuil1!$A$11:$F$29,3),VLOOKUP(I23,Feuil1!$A$11:$F$29,2))))),IF(OR(H23=\"SEN\",H23<1995),VLOOKUP(I23,Feuil1!$G$11:$L$25,6),IF(AND(H23>1994,H23<1998),VLOOKUP(I23,Feuil1!$G$11:$L$25,5),IF(AND(H23>1997,H23<2000),VLOOKUP(I23,Feuil1!$G$11:$L$25,4),IF(AND(H23>1999,H23<2002),VLOOKUP(I23,Feuil1!$G$11:$L$25,3),VLOOKUP(I23,Feuil1!$G$11:$L$25,2)))))))","v":"FJ53"},164.50976014626144,null," ",{"$f":"T23-HLOOKUP(X23,Feuil1!$C$1:$BL$10,2,FALSE)","v":50},{"$f":"T23-HLOOKUP(X23,Feuil1!$C$1:$BL$10,3,FALSE)","v":40},{"$f":"T23-HLOOKUP(X23,Feuil1!$C$1:$BL$10,4,FALSE)","v":30},{"$f":"T23-HLOOKUP(X23,Feuil1!$C$1:$BL$10,5,FALSE)","v":20},{"$f":"T23-HLOOKUP(X23,Feuil1!$C$1:$BL$10,6,FALSE)","v":10},{"$f":"T23-HLOOKUP(X23,Feuil1!$C$1:$BL$10,7,FALSE)","v":0},{"$f":"T23-HLOOKUP(X23,Feuil1!$C$1:$BL$10,8,FALSE)","v":-15},{"$f":"T23-HLOOKUP(X23,Feuil1!$C$1:$BL$10,9,FALSE)","v":-30},{"$f":"T23-HLOOKUP(X23,Feuil1!$C$1:$BL$10,10,FALSE)","v":-895},null,null,null,null,null,null,"NAT +"]
["F","SEST","CAZ",9,323896,"DUPEYROUX","Elise",1997,53,"ASLDD TOULON","F",-46,46,-48,46,53,56,58,58,104,-2,"FED +",9,{"$f":"IF(I24=\"\",\"\",IF(A24=\"H\",IF(OR(H24=\"SEN\",H24<1995),VLOOKUP(I24,Feuil1!$A$11:$F$29,6),IF(AND(H24>1994,H24<1998),VLOOKUP(I24,Feuil1!$A$11:$F$29,5),IF(AND(H24>1997,H24<2000),VLOOKUP(I24,Feuil1!$A$11:$F$29,4),IF(AND(H24>1999,H24<2002),VLOOKUP(I24,Feuil1!$A$11:$F$29,3),VLOOKUP(I24,Feuil1!$A$11:$F$29,2))))),IF(OR(H24=\"SEN\",H24<1995),VLOOKUP(I24,Feuil1!$G$11:$L$25,6),IF(AND(H24>1994,H24<1998),VLOOKUP(I24,Feuil1!$G$11:$L$25,5),IF(AND(H24>1997,H24<2000),VLOOKUP(I24,Feuil1!$G$11:$L$25,4),IF(AND(H24>1999,H24<2002),VLOOKUP(I24,Feuil1!$G$11:$L$25,3),VLOOKUP(I24,Feuil1!$G$11:$L$25,2)))))))","v":"FJ53"},156.8781970676591,null," ",{"$f":"T24-HLOOKUP(X24,Feuil1!$C$1:$BL$10,2,FALSE)","v":49},{"$f":"T24-HLOOKUP(X24,Feuil1!$C$1:$BL$10,3,FALSE)","v":39},{"$f":"T24-HLOOKUP(X24,Feuil1!$C$1:$BL$10,4,FALSE)","v":29},{"$f":"T24-HLOOKUP(X24,Feuil1!$C$1:$BL$10,5,FALSE)","v":19},{"$f":"T24-HLOOKUP(X24,Feuil1!$C$1:$BL$10,6,FALSE)","v":9},{"$f":"T24-HLOOKUP(X24,Feuil1!$C$1:$BL$10,7,FALSE)","v":-1},{"$f":"T24-HLOOKUP(X24,Feuil1!$C$1:$BL$10,8,FALSE)","v":-16},{"$f":"T24-HLOOKUP(X24,Feuil1!$C$1:$BL$10,9,FALSE)","v":-31},{"$f":"T24-HLOOKUP(X24,Feuil1!$C$1:$BL$10,10,FALSE)","v":-896},null,null,null,null,null,null,"FED +"]
["F","N","IDF",10,364789,"RICHARD","IRENE",1996,51.2,"BLANC-MESNIL","F",32,36,-39,36,44,47,50,50,86,-16.400000000000006,"IRG +",1,{"$f":"IF(I25=\"\",\"\",IF(A25=\"H\",IF(OR(H25=\"SEN\",H25<1995),VLOOKUP(I25,Feuil1!$A$11:$F$29,6),IF(AND(H25>1994,H25<1998),VLOOKUP(I25,Feuil1!$A$11:$F$29,5),IF(AND(H25>1997,H25<2000),VLOOKUP(I25,Feuil1!$A$11:$F$29,4),IF(AND(H25>1999,H25<2002),VLOOKUP(I25,Feuil1!$A$11:$F$29,3),VLOOKUP(I25,Feuil1!$A$11:$F$29,2))))),IF(OR(H25=\"SEN\",H25<1995),VLOOKUP(I25,Feuil1!$G$11:$L$25,6),IF(AND(H25>1994,H25<1998),VLOOKUP(I25,Feuil1!$G$11:$L$25,5),IF(AND(H25>1997,H25<2000),VLOOKUP(I25,Feuil1!$G$11:$L$25,4),IF(AND(H25>1999,H25<2002),VLOOKUP(I25,Feuil1!$G$11:$L$25,3),VLOOKUP(I25,Feuil1!$G$11:$L$25,2)))))))","v":"FJ53"},133.42631603283752,null," ",{"$f":"T25-HLOOKUP(X25,Feuil1!$C$1:$BL$10,2,FALSE)","v":31},{"$f":"T25-HLOOKUP(X25,Feuil1!$C$1:$BL$10,3,FALSE)","v":21},{"$f":"T25-HLOOKUP(X25,Feuil1!$C$1:$BL$10,4,FALSE)","v":11},{"$f":"T25-HLOOKUP(X25,Feuil1!$C$1:$BL$10,5,FALSE)","v":1},{"$f":"T25-HLOOKUP(X25,Feuil1!$C$1:$BL$10,6,FALSE)","v":-9},{"$f":"T25-HLOOKUP(X25,Feuil1!$C$1:$BL$10,7,FALSE)","v":-19},{"$f":"T25-HLOOKUP(X25,Feuil1!$C$1:$BL$10,8,FALSE)","v":-34},{"$f":"T25-HLOOKUP(X25,Feuil1!$C$1:$BL$10,9,FALSE)","v":-49},{"$f":"T25-HLOOKUP(X25,Feuil1!$C$1:$BL$10,10,FALSE)","v":-914},null,null,null,null,null,null,"IRG +"]
["F","N","NPC",11,381945,"DEZERABLE","Khaty",1997,50.2,"A.O.SALLAUMINES","F",30,33,36,36,45,49,-51,49,85,-15.400000000000006,"IRG +",0,{"$f":"IF(I26=\"\",\"\",IF(A26=\"H\",IF(OR(H26=\"SEN\",H26<1995),VLOOKUP(I26,Feuil1!$A$11:$F$29,6),IF(AND(H26>1994,H26<1998),VLOOKUP(I26,Feuil1!$A$11:$F$29,5),IF(AND(H26>1997,H26<2000),VLOOKUP(I26,Feuil1!$A$11:$F$29,4),IF(AND(H26>1999,H26<2002),VLOOKUP(I26,Feuil1!$A$11:$F$29,3),VLOOKUP(I26,Feuil1!$A$11:$F$29,2))))),IF(OR(H26=\"SEN\",H26<1995),VLOOKUP(I26,Feuil1!$G$11:$L$25,6),IF(AND(H26>1994,H26<1998),VLOOKUP(I26,Feuil1!$G$11:$L$25,5),IF(AND(H26>1997,H26<2000),VLOOKUP(I26,Feuil1!$G$11:$L$25,4),IF(AND(H26>1999,H26<2002),VLOOKUP(I26,Feuil1!$G$11:$L$25,3),VLOOKUP(I26,Feuil1!$G$11:$L$25,2)))))))","v":"FJ53"},134.06502430756416,null," ",{"$f":"T26-HLOOKUP(X26,Feuil1!$C$1:$BL$10,2,FALSE)","v":30},{"$f":"T26-HLOOKUP(X26,Feuil1!$C$1:$BL$10,3,FALSE)","v":20},{"$f":"T26-HLOOKUP(X26,Feuil1!$C$1:$BL$10,4,FALSE)","v":10},{"$f":"T26-HLOOKUP(X26,Feuil1!$C$1:$BL$10,5,FALSE)","v":0},{"$f":"T26-HLOOKUP(X26,Feuil1!$C$1:$BL$10,6,FALSE)","v":-10},{"$f":"T26-HLOOKUP(X26,Feuil1!$C$1:$BL$10,7,FALSE)","v":-20},{"$f":"T26-HLOOKUP(X26,Feuil1!$C$1:$BL$10,8,FALSE)","v":-35},{"$f":"T26-HLOOKUP(X26,Feuil1!$C$1:$BL$10,9,FALSE)","v":-50},{"$f":"T26-HLOOKUP(X26,Feuil1!$C$1:$BL$10,10,FALSE)","v":-915},null,null,null,null,null,null,"IRG +"]
["F","N","NPC",12,211905,"FREMAUX","Julie",1995,52.4,"CHCD COMINES","F",33,36,-38,36,43,46,49,49,85,-19.799999999999997,"IRG +",0,{"$f":"IF(I27=\"\",\"\",IF(A27=\"H\",IF(OR(H27=\"SEN\",H27<1995),VLOOKUP(I27,Feuil1!$A$11:$F$29,6),IF(AND(H27>1994,H27<1998),VLOOKUP(I27,Feuil1!$A$11:$F$29,5),IF(AND(H27>1997,H27<2000),VLOOKUP(I27,Feuil1!$A$11:$F$29,4),IF(AND(H27>1999,H27<2002),VLOOKUP(I27,Feuil1!$A$11:$F$29,3),VLOOKUP(I27,Feuil1!$A$11:$F$29,2))))),IF(OR(H27=\"SEN\",H27<1995),VLOOKUP(I27,Feuil1!$G$11:$L$25,6),IF(AND(H27>1994,H27<1998),VLOOKUP(I27,Feuil1!$G$11:$L$25,5),IF(AND(H27>1997,H27<2000),VLOOKUP(I27,Feuil1!$G$11:$L$25,4),IF(AND(H27>1999,H27<2002),VLOOKUP(I27,Feuil1!$G$11:$L$25,3),VLOOKUP(I27,Feuil1!$G$11:$L$25,2)))))))","v":"FJ53"},129.3981578228364,null," ",{"$f":"T27-HLOOKUP(X27,Feuil1!$C$1:$BL$10,2,FALSE)","v":30},{"$f":"T27-HLOOKUP(X27,Feuil1!$C$1:$BL$10,3,FALSE)","v":20},{"$f":"T27-HLOOKUP(X27,Feuil1!$C$1:$BL$10,4,FALSE)","v":10},{"$f":"T27-HLOOKUP(X27,Feuil1!$C$1:$BL$10,5,FALSE)","v":0},{"$f":"T27-HLOOKUP(X27,Feuil1!$C$1:$BL$10,6,FALSE)","v":-10},{"$f":"T27-HLOOKUP(X27,Feuil1!$C$1:$BL$10,7,FALSE)","v":-20},{"$f":"T27-HLOOKUP(X27,Feuil1!$C$1:$BL$10,8,FALSE)","v":-35},{"$f":"T27-HLOOKUP(X27,Feuil1!$C$1:$BL$10,9,FALSE)","v":-50},{"$f":"T27-HLOOKUP(X27,Feuil1!$C$1:$BL$10,10,FALSE)","v":-915},null,null,null,null,null,null,"IRG +"]
["F","SEST","RAL",13,385864,"BERRUYER","Amélie",1997,52.6,"SAINT MARCELLIN","F",38,-40,40,40,45,-50,-50,45,85,-20.200000000000003,"IRG +",0,{"$f":"IF(I28=\"\",\"\",IF(A28=\"H\",IF(OR(H28=\"SEN\",H28<1995),VLOOKUP(I28,Feuil1!$A$11:$F$29,6),IF(AND(H28>1994,H28<1998),VLOOKUP(I28,Feuil1!$A$11:$F$29,5),IF(AND(H28>1997,H28<2000),VLOOKUP(I28,Feuil1!$A$11:$F$29,4),IF(AND(H28>1999,H28<2002),VLOOKUP(I28,Feuil1!$A$11:$F$29,3),VLOOKUP(I28,Feuil1!$A$11:$F$29,2))))),IF(OR(H28=\"SEN\",H28<1995),VLOOKUP(I28,Feuil1!$G$11:$L$25,6),IF(AND(H28>1994,H28<1998),VLOOKUP(I28,Feuil1!$G$11:$L$25,5),IF(AND(H28>1997,H28<2000),VLOOKUP(I28,Feuil1!$G$11:$L$25,4),IF(AND(H28>1999,H28<2002),VLOOKUP(I28,Feuil1!$G$11:$L$25,3),VLOOKUP(I28,Feuil1!$G$11:$L$25,2)))))))","v":"FJ53"},129.00054025514771,null," ",{"$f":"T28-HLOOKUP(X28,Feuil1!$C$1:$BL$10,2,FALSE)","v":30},{"$f":"T28-HLOOKUP(X28,Feuil1!$C$1:$BL$10,3,FALSE)","v":20},{"$f":"T28-HLOOKUP(X28,Feuil1!$C$1:$BL$10,4,FALSE)","v":10},{"$f":"T28-HLOOKUP(X28,Feuil1!$C$1:$BL$10,5,FALSE)","v":0},{"$f":"T28-HLOOKUP(X28,Feuil1!$C$1:$BL$10,6,FALSE)","v":-10},{"$f":"T28-HLOOKUP(X28,Feuil1!$C$1:$BL$10,7,FALSE)","v":-20},{"$f":"T28-HLOOKUP(X28,Feuil1!$C$1:$BL$10,8,FALSE)","v":-35},{"$f":"T28-HLOOKUP(X28,Feuil1!$C$1:$BL$10,9,FALSE)","v":-50},{"$f":"T28-HLOOKUP(X28,Feuil1!$C$1:$BL$10,10,FALSE)","v":-915},null,null,null,null,null,null,"IRG +"]
["F","NE","ALS",14,316601,"TSCHAEN","Amandine",1996,48.8,"US Wittenheim","F",-32,32,35,35,42,45,48,48,83,-14.599999999999994,"REG +",8,{"$f":"IF(I29=\"\",\"\",IF(A29=\"H\",IF(OR(H29=\"SEN\",H29<1995),VLOOKUP(I29,Feuil1!$A$11:$F$29,6),IF(AND(H29>1994,H29<1998),VLOOKUP(I29,Feuil1!$A$11:$F$29,5),IF(AND(H29>1997,H29<2000),VLOOKUP(I29,Feuil1!$A$11:$F$29,4),IF(AND(H29>1999,H29<2002),VLOOKUP(I29,Feuil1!$A$11:$F$29,3),VLOOKUP(I29,Feuil1!$A$11:$F$29,2))))),IF(OR(H29=\"SEN\",H29<1995),VLOOKUP(I29,Feuil1!$G$11:$L$25,6),IF(AND(H29>1994,H29<1998),VLOOKUP(I29,Feuil1!$G$11:$L$25,5),IF(AND(H29>1997,H29<2000),VLOOKUP(I29,Feuil1!$G$11:$L$25,4),IF(AND(H29>1999,H29<2002),VLOOKUP(I29,Feuil1!$G$11:$L$25,3),VLOOKUP(I29,Feuil1!$G$11:$L$25,2)))))))","v":"FJ53"},134.11042321040139,null," ",{"$f":"T29-HLOOKUP(X29,Feuil1!$C$1:$BL$10,2,FALSE)","v":28},{"$f":"T29-HLOOKUP(X29,Feuil1!$C$1:$BL$10,3,FALSE)","v":18},{"$f":"T29-HLOOKUP(X29,Feuil1!$C$1:$BL$10,4,FALSE)","v":8},{"$f":"T29-HLOOKUP(X29,Feuil1!$C$1:$BL$10,5,FALSE)","v":-2},{"$f":"T29-HLOOKUP(X29,Feuil1!$C$1:$BL$10,6,FALSE)","v":-12},{"$f":"T29-HLOOKUP(X29,Feuil1!$C$1:$BL$10,7,FALSE)","v":-22},{"$f":"T29-HLOOKUP(X29,Feuil1!$C$1:$BL$10,8,FALSE)","v":-37},{"$f":"T29-HLOOKUP(X29,Feuil1!$C$1:$BL$10,9,FALSE)","v":-52},{"$f":"T29-HLOOKUP(X29,Feuil1!$C$1:$BL$10,10,FALSE)","v":-917},null,null,null,null,null,null,"REG +"]
["F","N","IDF",15,371173,"HERVET","JUSTINE",1997,51.4,"MANTES","F",30,35,37,37,40,45,-48,45,82,-20.799999999999997,"REG +",7,{"$f":"IF(I30=\"\",\"\",IF(A30=\"H\",IF(OR(H30=\"SEN\",H30<1995),VLOOKUP(I30,Feuil1!$A$11:$F$29,6),IF(AND(H30>1994,H30<1998),VLOOKUP(I30,Feuil1!$A$11:$F$29,5),IF(AND(H30>1997,H30<2000),VLOOKUP(I30,Feuil1!$A$11:$F$29,4),IF(AND(H30>1999,H30<2002),VLOOKUP(I30,Feuil1!$A$11:$F$29,3),VLOOKUP(I30,Feuil1!$A$11:$F$29,2))))),IF(OR(H30=\"SEN\",H30<1995),VLOOKUP(I30,Feuil1!$G$11:$L$25,6),IF(AND(H30>1994,H30<1998),VLOOKUP(I30,Feuil1!$G$11:$L$25,5),IF(AND(H30>1997,H30<2000),VLOOKUP(I30,Feuil1!$G$11:$L$25,4),IF(AND(H30>1999,H30<2002),VLOOKUP(I30,Feuil1!$G$11:$L$25,3),VLOOKUP(I30,Feuil1!$G$11:$L$25,2)))))))","v":"FJ53"},126.81147541401454,null," ",{"$f":"T30-HLOOKUP(X30,Feuil1!$C$1:$BL$10,2,FALSE)","v":27},{"$f":"T30-HLOOKUP(X30,Feuil1!$C$1:$BL$10,3,FALSE)","v":17},{"$f":"T30-HLOOKUP(X30,Feuil1!$C$1:$BL$10,4,FALSE)","v":7},{"$f":"T30-HLOOKUP(X30,Feuil1!$C$1:$BL$10,5,FALSE)","v":-3},{"$f":"T30-HLOOKUP(X30,Feuil1!$C$1:$BL$10,6,FALSE)","v":-13},{"$f":"T30-HLOOKUP(X30,Feuil1!$C$1:$BL$10,7,FALSE)","v":-23},{"$f":"T30-HLOOKUP(X30,Feuil1!$C$1:$BL$10,8,FALSE)","v":-38},{"$f":"T30-HLOOKUP(X30,Feuil1!$C$1:$BL$10,9,FALSE)","v":-53},{"$f":"T30-HLOOKUP(X30,Feuil1!$C$1:$BL$10,10,FALSE)","v":-918},null,null,null,null,null,null,"REG +"]
["F","DOM","GUA",16,383633,"BONNET","Mélissa",1996,52.1,"AHCS/Pointois","F",30,34,-36,34,38,41,-44,41,75,-29.200000000000003,"REG +",0,{"$f":"IF(I31=\"\",\"\",IF(A31=\"H\",IF(OR(H31=\"SEN\",H31<1995),VLOOKUP(I31,Feuil1!$A$11:$F$29,6),IF(AND(H31>1994,H31<1998),VLOOKUP(I31,Feuil1!$A$11:$F$29,5),IF(AND(H31>1997,H31<2000),VLOOKUP(I31,Feuil1!$A$11:$F$29,4),IF(AND(H31>1999,H31<2002),VLOOKUP(I31,Feuil1!$A$11:$F$29,3),VLOOKUP(I31,Feuil1!$A$11:$F$29,2))))),IF(OR(H31=\"SEN\",H31<1995),VLOOKUP(I31,Feuil1!$G$11:$L$25,6),IF(AND(H31>1994,H31<1998),VLOOKUP(I31,Feuil1!$G$11:$L$25,5),IF(AND(H31>1997,H31<2000),VLOOKUP(I31,Feuil1!$G$11:$L$25,4),IF(AND(H31>1999,H31<2002),VLOOKUP(I31,Feuil1!$G$11:$L$25,3),VLOOKUP(I31,Feuil1!$G$11:$L$25,2)))))))","v":"FJ53"},114.70811794048728,null," ",{"$f":"T31-HLOOKUP(X31,Feuil1!$C$1:$BL$10,2,FALSE)","v":20},{"$f":"T31-HLOOKUP(X31,Feuil1!$C$1:$BL$10,3,FALSE)","v":10},{"$f":"T31-HLOOKUP(X31,Feuil1!$C$1:$BL$10,4,FALSE)","v":0},{"$f":"T31-HLOOKUP(X31,Feuil1!$C$1:$BL$10,5,FALSE)","v":-10},{"$f":"T31-HLOOKUP(X31,Feuil1!$C$1:$BL$10,6,FALSE)","v":-20},{"$f":"T31-HLOOKUP(X31,Feuil1!$C$1:$BL$10,7,FALSE)","v":-30},{"$f":"T31-HLOOKUP(X31,Feuil1!$C$1:$BL$10,8,FALSE)","v":-45},{"$f":"T31-HLOOKUP(X31,Feuil1!$C$1:$BL$10,9,FALSE)","v":-60},{"$f":"T31-HLOOKUP(X31,Feuil1!$C$1:$BL$10,10,FALSE)","v":-925},null,null,null,null,null,null,"REG +"]
["F","N","PIC",17,386134,"MERLIER","Marie",1997,52.9,"Péronne AAEEP","F",30,-32,-32,30,41,-45,45,45,75,-30.799999999999997,"REG +",0,{"$f":"IF(I32=\"\",\"\",IF(A32=\"H\",IF(OR(H32=\"SEN\",H32<1995),VLOOKUP(I32,Feuil1!$A$11:$F$29,6),IF(AND(H32>1994,H32<1998),VLOOKUP(I32,Feuil1!$A$11:$F$29,5),IF(AND(H32>1997,H32<2000),VLOOKUP(I32,Feuil1!$A$11:$F$29,4),IF(AND(H32>1999,H32<2002),VLOOKUP(I32,Feuil1!$A$11:$F$29,3),VLOOKUP(I32,Feuil1!$A$11:$F$29,2))))),IF(OR(H32=\"SEN\",H32<1995),VLOOKUP(I32,Feuil1!$G$11:$L$25,6),IF(AND(H32>1994,H32<1998),VLOOKUP(I32,Feuil1!$G$11:$L$25,5),IF(AND(H32>1997,H32<2000),VLOOKUP(I32,Feuil1!$G$11:$L$25,4),IF(AND(H32>1999,H32<2002),VLOOKUP(I32,Feuil1!$G$11:$L$25,3),VLOOKUP(I32,Feuil1!$G$11:$L$25,2)))))))","v":"FJ53"},113.30463059430764,null," ",{"$f":"T32-HLOOKUP(X32,Feuil1!$C$1:$BL$10,2,FALSE)","v":20},{"$f":"T32-HLOOKUP(X32,Feuil1!$C$1:$BL$10,3,FALSE)","v":10},{"$f":"T32-HLOOKUP(X32,Feuil1!$C$1:$BL$10,4,FALSE)","v":0},{"$f":"T32-HLOOKUP(X32,Feuil1!$C$1:$BL$10,5,FALSE)","v":-10},{"$f":"T32-HLOOKUP(X32,Feuil1!$C$1:$BL$10,6,FALSE)","v":-20},{"$f":"T32-HLOOKUP(X32,Feuil1!$C$1:$BL$10,7,FALSE)","v":-30},{"$f":"T32-HLOOKUP(X32,Feuil1!$C$1:$BL$10,8,FALSE)","v":-45},{"$f":"T32-HLOOKUP(X32,Feuil1!$C$1:$BL$10,9,FALSE)","v":-60},{"$f":"T32-HLOOKUP(X32,Feuil1!$C$1:$BL$10,10,FALSE)","v":-925},null,null,null,null,null,null,"REG +"]
["F","SEST","CAZ",18,341745,"DOLET","Oceane",1997,49.4," ASLDD TOULON","F",27,30,-32,30,33,36,-38,36,66,-32.799999999999997,"DEP +",1,{"$f":"IF(I33=\"\",\"\",IF(A33=\"H\",IF(OR(H33=\"SEN\",H33<1995),VLOOKUP(I33,Feuil1!$A$11:$F$29,6),IF(AND(H33>1994,H33<1998),VLOOKUP(I33,Feuil1!$A$11:$F$29,5),IF(AND(H33>1997,H33<2000),VLOOKUP(I33,Feuil1!$A$11:$F$29,4),IF(AND(H33>1999,H33<2002),VLOOKUP(I33,Feuil1!$A$11:$F$29,3),VLOOKUP(I33,Feuil1!$A$11:$F$29,2))))),IF(OR(H33=\"SEN\",H33<1995),VLOOKUP(I33,Feuil1!$G$11:$L$25,6),IF(AND(H33>1994,H33<1998),VLOOKUP(I33,Feuil1!$G$11:$L$25,5),IF(AND(H33>1997,H33<2000),VLOOKUP(I33,Feuil1!$G$11:$L$25,4),IF(AND(H33>1999,H33<2002),VLOOKUP(I33,Feuil1!$G$11:$L$25,3),VLOOKUP(I33,Feuil1!$G$11:$L$25,2)))))))","v":"FJ53"},105.5270938746802,null," ",{"$f":"T33-HLOOKUP(X33,Feuil1!$C$1:$BL$10,2,FALSE)","v":11},{"$f":"T33-HLOOKUP(X33,Feuil1!$C$1:$BL$10,3,FALSE)","v":1},{"$f":"T33-HLOOKUP(X33,Feuil1!$C$1:$BL$10,4,FALSE)","v":-9},{"$f":"T33-HLOOKUP(X33,Feuil1!$C$1:$BL$10,5,FALSE)","v":-19},{"$f":"T33-HLOOKUP(X33,Feuil1!$C$1:$BL$10,6,FALSE)","v":-29},{"$f":"T33-HLOOKUP(X33,Feuil1!$C$1:$BL$10,7,FALSE)","v":-39},{"$f":"T33-HLOOKUP(X33,Feuil1!$C$1:$BL$10,8,FALSE)","v":-54},{"$f":"T33-HLOOKUP(X33,Feuil1!$C$1:$BL$10,9,FALSE)","v":-69},{"$f":"T33-HLOOKUP(X33,Feuil1!$C$1:$BL$10,10,FALSE)","v":-934},null,null,null,null,null,null,"DEP +"]
["F","N","IDF",19,380780,"MACE","GWENAELLE",1996,50.1,"US METRO","F",15,18,20,20,20,23,25,25,45,-55.2,"DEB ",-10,{"$f":"IF(I34=\"\",\"\",IF(A34=\"H\",IF(OR(H34=\"SEN\",H34<1995),VLOOKUP(I34,Feuil1!$A$11:$F$29,6),IF(AND(H34>1994,H34<1998),VLOOKUP(I34,Feuil1!$A$11:$F$29,5),IF(AND(H34>1997,H34<2000),VLOOKUP(I34,Feuil1!$A$11:$F$29,4),IF(AND(H34>1999,H34<2002),VLOOKUP(I34,Feuil1!$A$11:$F$29,3),VLOOKUP(I34,Feuil1!$A$11:$F$29,2))))),IF(OR(H34=\"SEN\",H34<1995),VLOOKUP(I34,Feuil1!$G$11:$L$25,6),IF(AND(H34>1994,H34<1998),VLOOKUP(I34,Feuil1!$G$11:$L$25,5),IF(AND(H34>1997,H34<2000),VLOOKUP(I34,Feuil1!$G$11:$L$25,4),IF(AND(H34>1999,H34<2002),VLOOKUP(I34,Feuil1!$G$11:$L$25,3),VLOOKUP(I34,Feuil1!$G$11:$L$25,2)))))))","v":"FJ53"},71.095085797572878,null," ",{"$f":"T34-HLOOKUP(X34,Feuil1!$C$1:$BL$10,2,FALSE)","v":-10},{"$f":"T34-HLOOKUP(X34,Feuil1!$C$1:$BL$10,3,FALSE)","v":-20},{"$f":"T34-HLOOKUP(X34,Feuil1!$C$1:$BL$10,4,FALSE)","v":-30},{"$f":"T34-HLOOKUP(X34,Feuil1!$C$1:$BL$10,5,FALSE)","v":-40},{"$f":"T34-HLOOKUP(X34,Feuil1!$C$1:$BL$10,6,FALSE)","v":-50},{"$f":"T34-HLOOKUP(X34,Feuil1!$C$1:$BL$10,7,FALSE)","v":-60},{"$f":"T34-HLOOKUP(X34,Feuil1!$C$1:$BL$10,8,FALSE)","v":-75},{"$f":"T34-HLOOKUP(X34,Feuil1!$C$1:$BL$10,9,FALSE)","v":-90},{"$f":"T34-HLOOKUP(X34,Feuil1!$C$1:$BL$10,10,FALSE)","v":-955},null,null,null,null,null,null,"DEB "]
[null,null,null,null,null,null,null,null,null,null,null,null,null,null,null,null,null,null,null,null,null,null,null,null,null,null," ",{"$f":"T35-HLOOKUP(X35,Feuil1!$C$1:$BL$10,2,FALSE)","v":{"$error":"#N/A"}},{"$f":"T35-HLOOKUP(X35,Feuil1!$C$1:$BL$10,3,FALSE)","v":{"$error":"#N/A"}},{"$f":"T35-HLOOKUP(X35,Feuil1!$C$1:$BL$10,4,FALSE)","v":{"$error":"#N/A"}},{"$f":"T35-HLOOKUP(X35,Feuil1!$C$1:$BL$10,5,FALSE)","v":{"$error":"#N/A"}},{"$f":"T35-HLOOKUP(X35,Feuil1!$C$1:$BL$10,6,FALSE)","v":{"$error":"#N/A"}},{"$f":"T35-HLOOKUP(X35,Feuil1!$C$1:$BL$10,7,FALSE)","v":{"$error":"#N/A"}},{"$f":"T35-HLOOKUP(X35,Feuil1!$C$1:$BL$10,8,FALSE)","v":{"$error":"#N/A"}},{"$f":"T35-HLOOKUP(X35,Feuil1!$C$1:$BL$10,9,FALSE)","v":{"$error":"#N/A"}},{"$f":"T35-HLOOKUP(X35,Feuil1!$C$1:$BL$10,10,FALSE)","v":{"$error":"#N/A"}},null,null,null,null,null,null,{"$f":"IF(AJ35>=0,$AJ$4,IF(AI35>=0,$AI$4,IF(AH35>=0,$AH$4,IF(AG35>=0,$AG$4,IF(AF35>=0,$AF$4,IF(AE35>=0,$AE$4,IF(AD35>=0,$AD$4,IF(AC35>=0,$AC$4,$AB$4))))))))","v":{"$error":"#N/A"}}]
["F","N","IDF",1,153936,"TCHAKOUNTE","DORA",1995,56.48,"BLANC-MESNIL","F",80,84,87,{"$f":"IF(H36=\"\",\"\",IF(MAXA(L36:N36)<=0,0,MAXA(L36:N36)))","v":87},96,100,-104,{"$f":"IF(H36=\"\",\"\",IF(MAXA(P36:R36)<=0,0,MAXA(P36:R36)))","v":100},{"$f":"IF(H36=\"\",\"\",IF(OR(O36=0,S36=0),0,O36+S36))","v":187},{"$f":"T36-I36*2","v":74.040000000000006},{"$f":"IF(H36=\"\",\"\",AQ36)","v":"INTA +"},{"$f":"IF(AJ36>=0,AJ36,IF(AI36>=0,AI36,IF(AH36>=0,AH36,IF(AG36>=0,AG36,IF(AF36>=0,AF36,IF(AE36>=0,AE36,IF(AD36>=0,AD36,IF(AC36>=0,AC36,AB36))))))))","v":37},{"$f":"IF(I36=\"\",\"\",IF(A36=\"H\",IF(OR(H36=\"SEN\",H36<1995),VLOOKUP(I36,Feuil1!$A$11:$F$29,6),IF(AND(H36>1994,H36<1998),VLOOKUP(I36,Feuil1!$A$11:$F$29,5),IF(AND(H36>1997,H36<2000),VLOOKUP(I36,Feuil1!$A$11:$F$29,4),IF(AND(H36>1999,H36<2002),VLOOKUP(I36,Feuil1!$A$11:$F$29,3),VLOOKUP(I36,Feuil1!$A$11:$F$29,2))))),IF(OR(H36=\"SEN\",H36<1995),VLOOKUP(I36,Feuil1!$G$11:$L$25,6),IF(AND(H36>1994,H36<1998),VLOOKUP(I36,Feuil1!$G$11:$L$25,5),IF(AND(H36>1997,H36<2000),VLOOKUP(I36,Feuil1!$G$11:$L$25,4),IF(AND(H36>1999,H36<2002),VLOOKUP(I36,Feuil1!$G$11:$L$25,3),VLOOKUP(I36,Feuil1!$G$11:$L$25,2)))))))","v":"FJ58"},{"$f":"IF(I36=\"\",\"\",IF(A36=\"H\",10^(0.794358141*LOG(I36/174.393)^2)*T36,IF(A36=\"F\",10^(0.89726074*LOG(I36/148.026)^2)*T36,\"\")))","v":268.50186330124143},null," ",{"$f":"T36-HLOOKUP(X36,Feuil1!$C$1:$BL$10,2,FALSE)","v":127},{"$f":"T36-HLOOKUP(X36,Feuil1!$C$1:$BL$10,3,FALSE)","v":117},{"$f":"T36-HLOOKUP(X36,Feuil1!$C$1:$BL$10,4,FALSE)","v":107},{"$f":"T36-HLOOKUP(X36,Feuil1!$C$1:$BL$10,5,FALSE)","v":97},{"$f":"T36-HLOOKUP(X36,Feuil1!$C$1:$BL$10,6,FALSE)","v":87},{"$f":"T36-HLOOKUP(X36,Feuil1!$C$1:$BL$10,7,FALSE)","v":72},{"$f":"T36-HLOOKUP(X36,Feuil1!$C$1:$BL$10,8,FALSE)","v":57},{"$f":"T36-HLOOKUP(X36,Feuil1!$C$1:$BL$10,9,FALSE)","v":37},{"$f":"T36-HLOOKUP(X36,Feuil1!$C$1:$BL$10,10,FALSE)","v":-813},null,null,null,null,null,null,{"$f":"IF(AJ36>=0,$AJ$4,IF(AI36>=0,$AI$4,IF(AH36>=0,$AH$4,IF(AG36>=0,$AG$4,IF(AF36>=0,$AF$4,IF(AE36>=0,$AE$4,IF(AD36>=0,$AD$4,IF(AC36>=0,$AC$4,$AB$4))))))))","v":"INTA +"}]
["F","N","PIC",2,280885,"CABON","Ophélie",1997,55.22,"Péronne AAEEP","F",57,60,63,63,70,75,-80,75,138,27.560000000000002,"INTB +",8,{"$f":"IF(I37=\"\",\"\",IF(A37=\"H\",IF(OR(H37=\"SEN\",H37<1995),VLOOKUP(I37,Feuil1!$A$11:$F$29,6),IF(AND(H37>1994,H37<1998),VLOOKUP(I37,Feuil1!$A$11:$F$29,5),IF(AND(H37>1997,H37<2000),VLOOKUP(I37,Feuil1!$A$11:$F$29,4),IF(AND(H37>1999,H37<2002),VLOOKUP(I37,Feuil1!$A$11:$F$29,3),VLOOKUP(I37,Feuil1!$A$11:$F$29,2))))),IF(OR(H37=\"SEN\",H37<1995),VLOOKUP(I37,Feuil1!$G$11:$L$25,6),IF(AND(H37>1994,H37<1998),VLOOKUP(I37,Feuil1!$G$11:$L$25,5),IF(AND(H37>1997,H37<2000),VLOOKUP(I37,Feuil1!$G$11:$L$25,4),IF(AND(H37>1999,H37<2002),VLOOKUP(I37,Feuil1!$G$11:$L$25,3),VLOOKUP(I37,Feuil1!$G$11:$L$25,2)))))))","v":"FJ58"},201.57121489129219,null," ",{"$f":"T37-HLOOKUP(X37,Feuil1!$C$1:$BL$10,2,FALSE)","v":78},{"$f":"T37-HLOOKUP(X37,Feuil1!$C$1:$BL$10,3,FALSE)","v":68},{"$f":"T37-HLOOKUP(X37,Feuil1!$C$1:$BL$10,4,FALSE)","v":58},{"$f":"T37-HLOOKUP(X37,Feuil1!$C$1:$BL$10,5,FALSE)","v":48},{"$f":"T37-HLOOKUP(X37,Feuil1!$C$1:$BL$10,6,FALSE)","v":38},{"$f":"T37-HLOOKUP(X37,Feuil1!$C$1:$BL$10,7,FALSE)","v":23},{"$f":"T37-HLOOKUP(X37,Feuil1!$C$1:$BL$10,8,FALSE)","v":8},{"$f":"T37-HLOOKUP(X37,Feuil1!$C$1:$BL$10,9,FALSE)","v":-12},{"$f":"T37-HLOOKUP(X37,Feuil1!$C$1:$BL$10,10,FALSE)","v":-862},null,null,null,null,null,null,"INTB +"]
["F","CO","CEN",3,357364,"DAUMAS","Solène",1995,55.9,"AAJ Blois","F",55,57,59,59,-68,68,71,71,130,18.200000000000003,"INTB +",0,{"$f":"IF(I38=\"\",\"\",IF(A38=\"H\",IF(OR(H38=\"SEN\",H38<1995),VLOOKUP(I38,Feuil1!$A$11:$F$29,6),IF(AND(H38>1994,H38<1998),VLOOKUP(I38,Feuil1!$A$11:$F$29,5),IF(AND(H38>1997,H38<2000),VLOOKUP(I38,Feuil1!$A$11:$F$29,4),IF(AND(H38>1999,H38<2002),VLOOKUP(I38,Feuil1!$A$11:$F$29,3),VLOOKUP(I38,Feuil1!$A$11:$F$29,2))))),IF(OR(H38=\"SEN\",H38<1995),VLOOKUP(I38,Feuil1!$G$11:$L$25,6),IF(AND(H38>1994,H38<1998),VLOOKUP(I38,Feuil1!$G$11:$L$25,5),IF(AND(H38>1997,H38<2000),VLOOKUP(I38,Feuil1!$G$11:$L$25,4),IF(AND(H38>1999,H38<2002),VLOOKUP(I38,Feuil1!$G$11:$L$25,3),VLOOKUP(I38,Feuil1!$G$11:$L$25,2)))))))","v":"FJ58"},188.11927686843555,null," ",{"$f":"T38-HLOOKUP(X38,Feuil1!$C$1:$BL$10,2,FALSE)","v":70},{"$f":"T38-HLOOKUP(X38,Feuil1!$C$1:$BL$10,3,FALSE)","v":60},{"$f":"T38-HLOOKUP(X38,Feuil1!$C$1:$BL$10,4,FALSE)","v":50},{"$f":"T38-HLOOKUP(X38,Feuil1!$C$1:$BL$10,5,FALSE)","v":40},{"$f":"T38-HLOOKUP(X38,Feuil1!$C$1:$BL$10,6,FALSE)","v":30},{"$f":"T38-HLOOKUP(X38,Feuil1!$C$1:$BL$10,7,FALSE)","v":15},{"$f":"T38-HLOOKUP(X38,Feuil1!$C$1:$BL$10,8,FALSE)","v":0},{"$f":"T38-HLOOKUP(X38,Feuil1!$C$1:$BL$10,9,FALSE)","v":-20},{"$f":"T38-HLOOKUP(X38,Feuil1!$C$1:$BL$10,10,FALSE)","v":-870},null,null,null,null,null,null,"INTB +"]
["F","N","PIC",4,187400,"CARON","Amélie",1996,53.79,"Saleux CHM","F",50,53,55,55,60,65,67,67,122,14.420000000000002,"NAT +",7,{"$f":"IF(I39=\"\",\"\",IF(A39=\"H\",IF(OR(H39=\"SEN\",H39<1995),VLOOKUP(I39,Feuil1!$A$11:$F$29,6),IF(AND(H39>1994,H39<1998),VLOOKUP(I39,Feuil1!$A$11:$F$29,5),IF(AND(H39>1997,H39<2000),VLOOKUP(I39,Feuil1!$A$11:$F$29,4),IF(AND(H39>1999,H39<2002),VLOOKUP(I39,Feuil1!$A$11:$F$29,3),VLOOKUP(I39,Feuil1!$A$11:$F$29,2))))),IF(OR(H39=\"SEN\",H39<1995),VLOOKUP(I39,Feuil1!$G$11:$L$25,6),IF(AND(H39>1994,H39<1998),VLOOKUP(I39,Feuil1!$G$11:$L$25,5),IF(AND(H39>1997,H39<2000),VLOOKUP(I39,Feuil1!$G$11:$L$25,4),IF(AND(H39>1999,H39<2002),VLOOKUP(I39,Feuil1!$G$11:$L$25,3),VLOOKUP(I39,Feuil1!$G$11:$L$25,2)))))))","v":"FJ58"},181.87900962047587,null," ",{"$f":"T39-HLOOKUP(X39,Feuil1!$C$1:$BL$10,2,FALSE)","v":62},{"$f":"T39-HLOOKUP(X39,Feuil1!$C$1:$BL$10,3,FALSE)","v":52},{"$f":"T39-HLOOKUP(X39,Feuil1!$C$1:$BL$10,4,FALSE)","v":42},{"$f":"T39-HLOOKUP(X39,Feuil1!$C$1:$BL$10,5,FALSE)","v":32},{"$f":"T39-HLOOKUP(X39,Feuil1!$C$1:$BL$10,6,FALSE)","v":22},{"$f":"T39-HLOOKUP(X39,Feuil1!$C$1:$BL$10,7,FALSE)","v":7},{"$f":"T39-HLOOKUP(X39,Feuil1!$C$1:$BL$10,8,FALSE)","v":-8},{"$f":"T39-HLOOKUP(X39,Feuil1!$C$1:$BL$10,9,FALSE)","v":-28},{"$f":"T39-HLOOKUP(X39,Feuil1!$C$1:$BL$10,10,FALSE)","v":-878},null,null,null,null,null,null,"NAT +"]
["F","SEST","RAL",5,171425,"HOSTALIER","Melinda",1997,54.96,"SAINT BALDOPH","F",50,53,-54,53,64,-68,68,68,121,11.079999999999998,"NAT +",6,{"$f":"IF(I40=\"\",\"\",IF(A40=\"H\",IF(OR(H40=\"SEN\",H40<1995),VLOOKUP(I40,Feuil1!$A$11:$F$29,6),IF(AND(H40>1994,H40<1998),VLOOKUP(I40,Feuil1!$A$11:$F$29,5),IF(AND(H40>1997,H40<2000),VLOOKUP(I40,Feuil1!$A$11:$F$29,4),IF(AND(H40>1999,H40<2002),VLOOKUP(I40,Feuil1!$A$11:$F$29,3),VLOOKUP(I40,Feuil1!$A$11:$F$29,2))))),IF(OR(H40=\"SEN\",H40<1995),VLOOKUP(I40,Feuil1!$G$11:$L$25,6),IF(AND(H40>1994,H40<1998),VLOOKUP(I40,Feuil1!$G$11:$L$25,5),IF(AND(H40>1997,H40<2000),VLOOKUP(I40,Feuil1!$G$11:$L$25,4),IF(AND(H40>1999,H40<2002),VLOOKUP(I40,Feuil1!$G$11:$L$25,3),VLOOKUP(I40,Feuil1!$G$11:$L$25,2)))))))","v":"FJ58"},177.38370490870759,null," ",{"$f":"T40-HLOOKUP(X40,Feuil1!$C$1:$BL$10,2,FALSE)","v":61},{"$f":"T40-HLOOKUP(X40,Feuil1!$C$1:$BL$10,3,FALSE)","v":51},{"$f":"T40-HLOOKUP(X40,Feuil1!$C$1:$BL$10,4,FALSE)","v":41},{"$f":"T40-HLOOKUP(X40,Feuil1!$C$1:$BL$10,5,FALSE)","v":31},{"$f":"T40-HLOOKUP(X40,Feuil1!$C$1:$BL$10,6,FALSE)","v":21},{"$f":"T40-HLOOKUP(X40,Feuil1!$C$1:$BL$10,7,FALSE)","v":6},{"$f":"T40-HLOOKUP(X40,Feuil1!$C$1:$BL$10,8,FALSE)","v":-9},{"$f":"T40-HLOOKUP(X40,Feuil1!$C$1:$BL$10,9,FALSE)","v":-29},{"$f":"T40-HLOOKUP(X40,Feuil1!$C$1:$BL$10,10,FALSE)","v":-879},null,null,null,null,null,null,"NAT +"]
["F","N","PIC",6,140592,"ARANJO","Caroline",1995,56.8,"Villers-Bretonneux KC","F",51,54,-56,54,62,65,67,67,121,7.4000000000000057,"NAT +",6,{"$f":"IF(I41=\"\",\"\",IF(A41=\"H\",IF(OR(H41=\"SEN\",H41<1995),VLOOKUP(I41,Feuil1!$A$11:$F$29,6),IF(AND(H41>1994,H41<1998),VLOOKUP(I41,Feuil1!$A$11:$F$29,5),IF(AND(H41>1997,H41<2000),VLOOKUP(I41,Feuil1!$A$11:$F$29,4),IF(AND(H41>1999,H41<2002),VLOOKUP(I41,Feuil1!$A$11:$F$29,3),VLOOKUP(I41,Feuil1!$A$11:$F$29,2))))),IF(OR(H41=\"SEN\",H41<1995),VLOOKUP(I41,Feuil1!$G$11:$L$25,6),IF(AND(H41>1994,H41<1998),VLOOKUP(I41,Feuil1!$G$11:$L$25,5),IF(AND(H41>1997,H41<2000),VLOOKUP(I41,Feuil1!$G$11:$L$25,4),IF(AND(H41>1999,H41<2002),VLOOKUP(I41,Feuil1!$G$11:$L$25,3),VLOOKUP(I41,Feuil1!$G$11:$L$25,2)))))))","v":"FJ58"},173.00315048534537,null," ",{"$f":"T41-HLOOKUP(X41,Feuil1!$C$1:$BL$10,2,FALSE)","v":61},{"$f":"T41-HLOOKUP(X41,Feuil1!$C$1:$BL$10,3,FALSE)","v":51},{"$f":"T41-HLOOKUP(X41,Feuil1!$C$1:$BL$10,4,FALSE)","v":41},{"$f":"T41-HLOOKUP(X41,Feuil1!$C$1:$BL$10,5,FALSE)","v":31},{"$f":"T41-HLOOKUP(X41,Feuil1!$C$1:$BL$10,6,FALSE)","v":21},{"$f":"T41-HLOOKUP(X41,Feuil1!$C$1:$BL$10,7,FALSE)","v":6},{"$f":"T41-HLOOKUP(X41,Feuil1!$C$1:$BL$10,8,FALSE)","v":-9},{"$f":"T41-HLOOKUP(X41,Feuil1!$C$1:$BL$10,9,FALSE)","v":-29},{"$f":"T41-HLOOKUP(X41,Feuil1!$C$1:$BL$10,10,FALSE)","v":-879},null,null,null,null,null,null,"NAT +"]
["F","N","PIC",7,219978,"GAUTIER","Ophélie",1997,57.15,"La Vaillante Saint Quentin","F",48,50,52,52,63,-67,67,67,119,4.7000000000000028,"NAT +",4,{"$f":"IF(I42=\"\",\"\",IF(A42=\"H\",IF(OR(H42=\"SEN\",H42<1995),VLOOKUP(I42,Feuil1!$A$11:$F$29,6),IF(AND(H42>1994,H42<1998),VLOOKUP(I42,Feuil1!$A$11:$F$29,5),IF(AND(H42>1997,H42<2000),VLOOKUP(I42,Feuil1!$A$11:$F$29,4),IF(AND(H42>1999,H42<2002),VLOOKUP(I42,Feuil1!$A$11:$F$29,3),VLOOKUP(I42,Feuil1!$A$11:$F$29,2))))),IF(OR(H42=\"SEN\",H42<1995),VLOOKUP(I42,Feuil1!$G$11:$L$25,6),IF(AND(H42>1994,H42<1998),VLOOKUP(I42,Feuil1!$G$11:$L$25,5),IF(AND(H42>1997,H42<2000),VLOOKUP(I42,Feuil1!$G$11:$L$25,4),IF(AND(H42>1999,H42<2002),VLOOKUP(I42,Feuil1!$G$11:$L$25,3),VLOOKUP(I42,Feuil1!$G$11:$L$25,2)))))))","v":"FJ58"},169.36762455942326,null," ",{"$f":"T42-HLOOKUP(X42,Feuil1!$C$1:$BL$10,2,FALSE)","v":59},{"$f":"T42-HLOOKUP(X42,Feuil1!$C$1:$BL$10,3,FALSE)","v":49},{"$f":"T42-HLOOKUP(X42,Feuil1!$C$1:$BL$10,4,FALSE)","v":39},{"$f":"T42-HLOOKUP(X42,Feuil1!$C$1:$BL$10,5,FALSE)","v":29},{"$f":"T42-HLOOKUP(X42,Feuil1!$C$1:$BL$10,6,FALSE)","v":19},{"$f":"T42-HLOOKUP(X42,Feuil1!$C$1:$BL$10,7,FALSE)","v":4},{"$f":"T42-HLOOKUP(X42,Feuil1!$C$1:$BL$10,8,FALSE)","v":-11},{"$f":"T42-HLOOKUP(X42,Feuil1!$C$1:$BL$10,9,FALSE)","v":-31},{"$f":"T42-HLOOKUP(X42,Feuil1!$C$1:$BL$10,10,FALSE)","v":-881},null,null,null,null,null,null,"NAT +"]
["F","N","PIC",8,309751,"SEIGNEUR","Manon",1995,53.6,"Villers-Bretonneux KC","F",45,-48,48,48,56,60,-63,60,108,0.79999999999999716,"FED +",8,{"$f":"IF(I43=\"\",\"\",IF(A43=\"H\",IF(OR(H43=\"SEN\",H43<1995),VLOOKUP(I43,Feuil1!$A$11:$F$29,6),IF(AND(H43>1994,H43<1998),VLOOKUP(I43,Feuil1!$A$11:$F$29,5),IF(AND(H43>1997,H43<2000),VLOOKUP(I43,Feuil1!$A$11:$F$29,4),IF(AND(H43>1999,H43<2002),VLOOKUP(I43,Feuil1!$A$11:$F$29,3),VLOOKUP(I43,Feuil1!$A$11:$F$29,2))))),IF(OR(H43=\"SEN\",H43<1995),VLOOKUP(I43,Feuil1!$G$11:$L$25,6),IF(AND(H43>1994,H43<1998),VLOOKUP(I43,Feuil1!$G$11:$L$25,5),IF(AND(H43>1997,H43<2000),VLOOKUP(I43,Feuil1!$G$11:$L$25,4),IF(AND(H43>1999,H43<2002),VLOOKUP(I43,Feuil1!$G$11:$L$25,3),VLOOKUP(I43,Feuil1!$G$11:$L$25,2)))))))","v":"FJ58"},161.45854227604664,null," ",{"$f":"T43-HLOOKUP(X43,Feuil1!$C$1:$BL$10,2,FALSE)","v":48},{"$f":"T43-HLOOKUP(X43,Feuil1!$C$1:$BL$10,3,FALSE)","v":38},{"$f":"T43-HLOOKUP(X43,Feuil1!$C$1:$BL$10,4,FALSE)","v":28},{"$f":"T43-HLOOKUP(X43,Feuil1!$C$1:$BL$10,5,FALSE)","v":18},{"$f":"T43-HLOOKUP(X43,Feuil1!$C$1:$BL$10,6,FALSE)","v":8},{"$f":"T43-HLOOKUP(X43,Feuil1!$C$1:$BL$10,7,FALSE)","v":-7},{"$f":"T43-HLOOKUP(X43,Feuil1!$C$1:$BL$10,8,FALSE)","v":-22},{"$f":"T43-HLOOKUP(X43,Feuil1!$C$1:$BL$10,9,FALSE)","v":-42},{"$f":"T43-HLOOKUP(X43,Feuil1!$C$1:$BL$10,10,FALSE)","v":-892},null,null,null,null,null,null,"FED +"]
["F","SO","MPY",9,302368,"BEN KHELIFA","Julie",1995,57,"COLOMIERS US","F",47,51,-54,51,57,-61,-64,57,108,-6,"FED +",8,{"$f":"IF(I44=\"\",\"\",IF(A44=\"H\",IF(OR(H44=\"SEN\",H44<1995),VLOOKUP(I44,Feuil1!$A$11:$F$29,6),IF(AND(H44>1994,H44<1998),VLOOKUP(I44,Feuil1!$A$11:$F$29,5),IF(AND(H44>1997,H44<2000),VLOOKUP(I44,Feuil1!$A$11:$F$29,4),IF(AND(H44>1999,H44<2002),VLOOKUP(I44,Feuil1!$A$11:$F$29,3),VLOOKUP(I44,Feuil1!$A$11:$F$29,2))))),IF(OR(H44=\"SEN\",H44<1995),VLOOKUP(I44,Feuil1!$G$11:$L$25,6),IF(AND(H44>1994,H44<1998),VLOOKUP(I44,Feuil1!$G$11:$L$25,5),IF(AND(H44>1997,H44<2000),VLOOKUP(I44,Feuil1!$G$11:$L$25,4),IF(AND(H44>1999,H44<2002),VLOOKUP(I44,Feuil1!$G$11:$L$25,3),VLOOKUP(I44,Feuil1!$G$11:$L$25,2)))))))","v":"FJ58"},154.01213352383942,null," ",{"$f":"T44-HLOOKUP(X44,Feuil1!$C$1:$BL$10,2,FALSE)","v":48},{"$f":"T44-HLOOKUP(X44,Feuil1!$C$1:$BL$10,3,FALSE)","v":38},{"$f":"T44-HLOOKUP(X44,Feuil1!$C$1:$BL$10,4,FALSE)","v":28},{"$f":"T44-HLOOKUP(X44,Feuil1!$C$1:$BL$10,5,FALSE)","v":18},{"$f":"T44-HLOOKUP(X44,Feuil1!$C$1:$BL$10,6,FALSE)","v":8},{"$f":"T44-HLOOKUP(X44,Feuil1!$C$1:$BL$10,7,FALSE)","v":-7},{"$f":"T44-HLOOKUP(X44,Feuil1!$C$1:$BL$10,8,FALSE)","v":-22},{"$f":"T44-HLOOKUP(X44,Feuil1!$C$1:$BL$10,9,FALSE)","v":-42},{"$f":"T44-HLOOKUP(X44,Feuil1!$C$1:$BL$10,10,FALSE)","v":-892},null,null,null,null,null,null,"FED +"]
["F","SEST","CAZ",10,323896,"DUPEYROUX","Elise",1997,53.2,"ASLDD TOULON","F",46,48,-50,48,53,56,58,58,106,-0.40000000000000568,"FED +",6,{"$f":"IF(I45=\"\",\"\",IF(A45=\"H\",IF(OR(H45=\"SEN\",H45<1995),VLOOKUP(I45,Feuil1!$A$11:$F$29,6),IF(AND(H45>1994,H45<1998),VLOOKUP(I45,Feuil1!$A$11:$F$29,5),IF(AND(H45>1997,H45<2000),VLOOKUP(I45,Feuil1!$A$11:$F$29,4),IF(AND(H45>1999,H45<2002),VLOOKUP(I45,Feuil1!$A$11:$F$29,3),VLOOKUP(I45,Feuil1!$A$11:$F$29,2))))),IF(OR(H45=\"SEN\",H45<1995),VLOOKUP(I45,Feuil1!$G$11:$L$25,6),IF(AND(H45>1994,H45<1998),VLOOKUP(I45,Feuil1!$G$11:$L$25,5),IF(AND(H45>1997,H45<2000),VLOOKUP(I45,Feuil1!$G$11:$L$25,4),IF(AND(H45>1999,H45<2002),VLOOKUP(I45,Feuil1!$G$11:$L$25,3),VLOOKUP(I45,Feuil1!$G$11:$L$25,2)))))))","v":"FJ58"},159.41461714642094,null," ",{"$f":"T45-HLOOKUP(X45,Feuil1!$C$1:$BL$10,2,FALSE)","v":46},{"$f":"T45-HLOOKUP(X45,Feuil1!$C$1:$BL$10,3,FALSE)","v":36},{"$f":"T45-HLOOKUP(X45,Feuil1!$C$1:$BL$10,4,FALSE)","v":26},{"$f":"T45-HLOOKUP(X45,Feuil1!$C$1:$BL$10,5,FALSE)","v":16},{"$f":"T45-HLOOKUP(X45,Feuil1!$C$1:$BL$10,6,FALSE)","v":6},{"$f":"T45-HLOOKUP(X45,Feuil1!$C$1:$BL$10,7,FALSE)","v":-9},{"$f":"T45-HLOOKUP(X45,Feuil1!$C$1:$BL$10,8,FALSE)","v":-24},{"$f":"T45-HLOOKUP(X45,Feuil1!$C$1:$BL$10,9,FALSE)","v":-44},{"$f":"T45-HLOOKUP(X45,Feuil1!$C$1:$BL$10,10,FALSE)","v":-894},null,null,null,null,null,null,"FED +"]
["F","CO","BRE",11,146079,"DEBIAIS","Joanna",1996,53.83,"ES Saint Avé","F",45,48,-50,48,52,56,58,58,106,-1.6599999999999966,"FED +",6,{"$f":"IF(I46=\"\",\"\",IF(A46=\"H\",IF(OR(H46=\"SEN\",H46<1995),VLOOKUP(I46,Feuil1!$A$11:$F$29,6),IF(AND(H46>1994,H46<1998),VLOOKUP(I46,Feuil1!$A$11:$F$29,5),IF(AND(H46>1997,H46<2000),VLOOKUP(I46,Feuil1!$A$11:$F$29,4),IF(AND(H46>1999,H46<2002),VLOOKUP(I46,Feuil1!$A$11:$F$29,3),VLOOKUP(I46,Feuil1!$A$11:$F$29,2))))),IF(OR(H46=\"SEN\",H46<1995),VLOOKUP(I46,Feuil1!$G$11:$L$25,6),IF(AND(H46>1994,H46<1998),VLOOKUP(I46,Feuil1!$G$11:$L$25,5),IF(AND(H46>1997,H46<2000),VLOOKUP(I46,Feuil1!$G$11:$L$25,4),IF(AND(H46>1999,H46<2002),VLOOKUP(I46,Feuil1!$G$11:$L$25,3),VLOOKUP(I46,Feuil1!$G$11:$L$25,2)))))))","v":"FJ58"},157.93340977672801,null," ",{"$f":"T46-HLOOKUP(X46,Feuil1!$C$1:$BL$10,2,FALSE)","v":46},{"$f":"T46-HLOOKUP(X46,Feuil1!$C$1:$BL$10,3,FALSE)","v":36},{"$f":"T46-HLOOKUP(X46,Feuil1!$C$1:$BL$10,4,FALSE)","v":26},{"$f":"T46-HLOOKUP(X46,Feuil1!$C$1:$BL$10,5,FALSE)","v":16},{"$f":"T46-HLOOKUP(X46,Feuil1!$C$1:$BL$10,6,FALSE)","v":6},{"$f":"T46-HLOOKUP(X46,Feuil1!$C$1:$BL$10,7,FALSE)","v":-9},{"$f":"T46-HLOOKUP(X46,Feuil1!$C$1:$BL$10,8,FALSE)","v":-24},{"$f":"T46-HLOOKUP(X46,Feuil1!$C$1:$BL$10,9,FALSE)","v":-44},{"$f":"T46-HLOOKUP(X46,Feuil1!$C$1:$BL$10,10,FALSE)","v":-894},null,null,null,null,null,null,"FED +"]
["F","N","NPC",12,345628,"HENIN","Manon",1995,55.6,"CAHC BERCK/MER","F",42,45,-47,45,54,56,-60,56,101,-10.200000000000003,"FED +",1,{"$f":"IF(I47=\"\",\"\",IF(A47=\"H\",IF(OR(H47=\"SEN\",H47<1995),VLOOKUP(I47,Feuil1!$A$11:$F$29,6),IF(AND(H47>1994,H47<1998),VLOOKUP(I47,Feuil1!$A$11:$F$29,5),IF(AND(H47>1997,H47<2000),VLOOKUP(I47,Feuil1!$A$11:$F$29,4),IF(AND(H47>1999,H47<2002),VLOOKUP(I47,Feuil1!$A$11:$F$29,3),VLOOKUP(I47,Feuil1!$A$11:$F$29,2))))),IF(OR(H47=\"SEN\",H47<1995),VLOOKUP(I47,Feuil1!$G$11:$L$25,6),IF(AND(H47>1994,H47<1998),VLOOKUP(I47,Feuil1!$G$11:$L$25,5),IF(AND(H47>1997,H47<2000),VLOOKUP(I47,Feuil1!$G$11:$L$25,4),IF(AND(H47>1999,H47<2002),VLOOKUP(I47,Feuil1!$G$11:$L$25,3),VLOOKUP(I47,Feuil1!$G$11:$L$25,2)))))))","v":"FJ58"},146.75398448064229,null," ",{"$f":"T47-HLOOKUP(X47,Feuil1!$C$1:$BL$10,2,FALSE)","v":41},{"$f":"T47-HLOOKUP(X47,Feuil1!$C$1:$BL$10,3,FALSE)","v":31},{"$f":"T47-HLOOKUP(X47,Feuil1!$C$1:$BL$10,4,FALSE)","v":21},{"$f":"T47-HLOOKUP(X47,Feuil1!$C$1:$BL$10,5,FALSE)","v":11},{"$f":"T47-HLOOKUP(X47,Feuil1!$C$1:$BL$10,6,FALSE)","v":1},{"$f":"T47-HLOOKUP(X47,Feuil1!$C$1:$BL$10,7,FALSE)","v":-14},{"$f":"T47-HLOOKUP(X47,Feuil1!$C$1:$BL$10,8,FALSE)","v":-29},{"$f":"T47-HLOOKUP(X47,Feuil1!$C$1:$BL$10,9,FALSE)","v":-49},{"$f":"T47-HLOOKUP(X47,Feuil1!$C$1:$BL$10,10,FALSE)","v":-899},null,null,null,null,null,null,"FED +"]
["F","NE","BOU",13,154500,"LAMBERT","Cécile",1995,54.6,"Saint honoré les bains","F",45,-47,47,47,53,-57,-58,53,100,-9.2000000000000028,"FED +",0,{"$f":"IF(I48=\"\",\"\",IF(A48=\"H\",IF(OR(H48=\"SEN\",H48<1995),VLOOKUP(I48,Feuil1!$A$11:$F$29,6),IF(AND(H48>1994,H48<1998),VLOOKUP(I48,Feuil1!$A$11:$F$29,5),IF(AND(H48>1997,H48<2000),VLOOKUP(I48,Feuil1!$A$11:$F$29,4),IF(AND(H48>1999,H48<2002),VLOOKUP(I48,Feuil1!$A$11:$F$29,3),VLOOKUP(I48,Feuil1!$A$11:$F$29,2))))),IF(OR(H48=\"SEN\",H48<1995),VLOOKUP(I48,Feuil1!$G$11:$L$25,6),IF(AND(H48>1994,H48<1998),VLOOKUP(I48,Feuil1!$G$11:$L$25,5),IF(AND(H48>1997,H48<2000),VLOOKUP(I48,Feuil1!$G$11:$L$25,4),IF(AND(H48>1999,H48<2002),VLOOKUP(I48,Feuil1!$G$11:$L$25,3),VLOOKUP(I48,Feuil1!$G$11:$L$25,2)))))))","v":"FJ58"},147.34638568801054,null," ",{"$f":"T48-HLOOKUP(X48,Feuil1!$C$1:$BL$10,2,FALSE)","v":40},{"$f":"T48-HLOOKUP(X48,Feuil1!$C$1:$BL$10,3,FALSE)","v":30},{"$f":"T48-HLOOKUP(X48,Feuil1!$C$1:$BL$10,4,FALSE)","v":20},{"$f":"T48-HLOOKUP(X48,Feuil1!$C$1:$BL$10,5,FALSE)","v":10},{"$f":"T48-HLOOKUP(X48,Feuil1!$C$1:$BL$10,6,FALSE)","v":0},{"$f":"T48-HLOOKUP(X48,Feuil1!$C$1:$BL$10,7,FALSE)","v":-15},{"$f":"T48-HLOOKUP(X48,Feuil1!$C$1:$BL$10,8,FALSE)","v":-30},{"$f":"T48-HLOOKUP(X48,Feuil1!$C$1:$BL$10,9,FALSE)","v":-50},{"$f":"T48-HLOOKUP(X48,Feuil1!$C$1:$BL$10,10,FALSE)","v":-900},null,null,null,null,null,null,"FED +"]
["F","NE","ALS",14,327036,"HELL","MARINE",1997,56.1,"US Wittenheim","F",40,43,45,45,52,55,-57,55,100,-12.200000000000003,"FED +",0,{"$f":"IF(I49=\"\",\"\",IF(A49=\"H\",IF(OR(H49=\"SEN\",H49<1995),VLOOKUP(I49,Feuil1!$A$11:$F$29,6),IF(AND(H49>1994,H49<1998),VLOOKUP(I49,Feuil1!$A$11:$F$29,5),IF(AND(H49>1997,H49<2000),VLOOKUP(I49,Feuil1!$A$11:$F$29,4),IF(AND(H49>1999,H49<2002),VLOOKUP(I49,Feuil1!$A$11:$F$29,3),VLOOKUP(I49,Feuil1!$A$11:$F$29,2))))),IF(OR(H49=\"SEN\",H49<1995),VLOOKUP(I49,Feuil1!$G$11:$L$25,6),IF(AND(H49>1994,H49<1998),VLOOKUP(I49,Feuil1!$G$11:$L$25,5),IF(AND(H49>1997,H49<2000),VLOOKUP(I49,Feuil1!$G$11:$L$25,4),IF(AND(H49>1999,H49<2002),VLOOKUP(I49,Feuil1!$G$11:$L$25,3),VLOOKUP(I49,Feuil1!$G$11:$L$25,2)))))))","v":"FJ58"},144.31615010627868,null," ",{"$f":"T49-HLOOKUP(X49,Feuil1!$C$1:$BL$10,2,FALSE)","v":40},{"$f":"T49-HLOOKUP(X49,Feuil1!$C$1:$BL$10,3,FALSE)","v":30},{"$f":"T49-HLOOKUP(X49,Feuil1!$C$1:$BL$10,4,FALSE)","v":20},{"$f":"T49-HLOOKUP(X49,Feuil1!$C$1:$BL$10,5,FALSE)","v":10},{"$f":"T49-HLOOKUP(X49,Feuil1!$C$1:$BL$10,6,FALSE)","v":0},{"$f":"T49-HLOOKUP(X49,Feuil1!$C$1:$BL$10,7,FALSE)","v":-15},{"$f":"T49-HLOOKUP(X49,Feuil1!$C$1:$BL$10,8,FALSE)","v":-30},{"$f":"T49-HLOOKUP(X49,Feuil1!$C$1:$BL$10,9,FALSE)","v":-50},{"$f":"T49-HLOOKUP(X49,Feuil1!$C$1:$BL$10,10,FALSE)","v":-900},null,null,null,null,null,null,"FED +"]
["F","N","NPC",15,192187,"BAERT","Blandine",1995,54.25,"CHCD COMINES","F",40,43,-45,43,50,54,-57,54,97,-11.5,"IRG +",7,{"$f":"IF(I50=\"\",\"\",IF(A50=\"H\",IF(OR(H50=\"SEN\",H50<1995),VLOOKUP(I50,Feuil1!$A$11:$F$29,6),IF(AND(H50>1994,H50<1998),VLOOKUP(I50,Feuil1!$A$11:$F$29,5),IF(AND(H50>1997,H50<2000),VLOOKUP(I50,Feuil1!$A$11:$F$29,4),IF(AND(H50>1999,H50<2002),VLOOKUP(I50,Feuil1!$A$11:$F$29,3),VLOOKUP(I50,Feuil1!$A$11:$F$29,2))))),IF(OR(H50=\"SEN\",H50<1995),VLOOKUP(I50,Feuil1!$G$11:$L$25,6),IF(AND(H50>1994,H50<1998),VLOOKUP(I50,Feuil1!$G$11:$L$25,5),IF(AND(H50>1997,H50<2000),VLOOKUP(I50,Feuil1!$G$11:$L$25,4),IF(AND(H50>1999,H50<2002),VLOOKUP(I50,Feuil1!$G$11:$L$25,3),VLOOKUP(I50,Feuil1!$G$11:$L$25,2)))))))","v":"FJ58"},143.64453578152725,null," ",{"$f":"T50-HLOOKUP(X50,Feuil1!$C$1:$BL$10,2,FALSE)","v":37},{"$f":"T50-HLOOKUP(X50,Feuil1!$C$1:$BL$10,3,FALSE)","v":27},{"$f":"T50-HLOOKUP(X50,Feuil1!$C$1:$BL$10,4,FALSE)","v":17},{"$f":"T50-HLOOKUP(X50,Feuil1!$C$1:$BL$10,5,FALSE)","v":7},{"$f":"T50-HLOOKUP(X50,Feuil1!$C$1:$BL$10,6,FALSE)","v":-3},{"$f":"T50-HLOOKUP(X50,Feuil1!$C$1:$BL$10,7,FALSE)","v":-18},{"$f":"T50-HLOOKUP(X50,Feuil1!$C$1:$BL$10,8,FALSE)","v":-33},{"$f":"T50-HLOOKUP(X50,Feuil1!$C$1:$BL$10,9,FALSE)","v":-53},{"$f":"T50-HLOOKUP(X50,Feuil1!$C$1:$BL$10,10,FALSE)","v":-903},null,null,null,null,null,null,"IRG +"]
["F","SEST","RAL",16,385864,"BERRUYER","Amélie",1997,54.3,"SAINT MARCELLIN","F",-39,39,41,41,48,51,55,55,96,-12.599999999999994,"IRG +",6,{"$f":"IF(I51=\"\",\"\",IF(A51=\"H\",IF(OR(H51=\"SEN\",H51<1995),VLOOKUP(I51,Feuil1!$A$11:$F$29,6),IF(AND(H51>1994,H51<1998),VLOOKUP(I51,Feuil1!$A$11:$F$29,5),IF(AND(H51>1997,H51<2000),VLOOKUP(I51,Feuil1!$A$11:$F$29,4),IF(AND(H51>1999,H51<2002),VLOOKUP(I51,Feuil1!$A$11:$F$29,3),VLOOKUP(I51,Feuil1!$A$11:$F$29,2))))),IF(OR(H51=\"SEN\",H51<1995),VLOOKUP(I51,Feuil1!$G$11:$L$25,6),IF(AND(H51>1994,H51<1998),VLOOKUP(I51,Feuil1!$G$11:$L$25,5),IF(AND(H51>1997,H51<2000),VLOOKUP(I51,Feuil1!$G$11:$L$25,4),IF(AND(H51>1999,H51<2002),VLOOKUP(I51,Feuil1!$G$11:$L$25,3),VLOOKUP(I51,Feuil1!$G$11:$L$25,2)))))))","v":"FJ58"},142.06129333357072,null," ",{"$f":"T51-HLOOKUP(X51,Feuil1!$C$1:$BL$10,2,FALSE)","v":36},{"$f":"T51-HLOOKUP(X51,Feuil1!$C$1:$BL$10,3,FALSE)","v":26},{"$f":"T51-HLOOKUP(X51,Feuil1!$C$1:$BL$10,4,FALSE)","v":16},{"$f":"T51-HLOOKUP(X51,Feuil1!$C$1:$BL$10,5,FALSE)","v":6},{"$f":"T51-HLOOKUP(X51,Feuil1!$C$1:$BL$10,6,FALSE)","v":-4},{"$f":"T51-HLOOKUP(X51,Feuil1!$C$1:$BL$10,7,FALSE)","v":-19},{"$f":"T51-HLOOKUP(X51,Feuil1!$C$1:$BL$10,8,FALSE)","v":-34},{"$f":"T51-HLOOKUP(X51,Feuil1!$C$1:$BL$10,9,FALSE)","v":-54},{"$f":"T51-HLOOKUP(X51,Feuil1!$C$1:$BL$10,10,FALSE)","v":-904},null,null,null,null,null,null,"IRG +"]
["F","CO","BRE",17,389192,"RAHARISOA","Karen",1997,58,"AL Quimper","F",39,42,-45,42,48,53,-58,53,95,-21,"IRG +",5,{"$f":"IF(I52=\"\",\"\",IF(A52=\"H\",IF(OR(H52=\"SEN\",H52<1995),VLOOKUP(I52,Feuil1!$A$11:$F$29,6),IF(AND(H52>1994,H52<1998),VLOOKUP(I52,Feuil1!$A$11:$F$29,5),IF(AND(H52>1997,H52<2000),VLOOKUP(I52,Feuil1!$A$11:$F$29,4),IF(AND(H52>1999,H52<2002),VLOOKUP(I52,Feuil1!$A$11:$F$29,3),VLOOKUP(I52,Feuil1!$A$11:$F$29,2))))),IF(OR(H52=\"SEN\",H52<1995),VLOOKUP(I52,Feuil1!$G$11:$L$25,6),IF(AND(H52>1994,H52<1998),VLOOKUP(I52,Feuil1!$G$11:$L$25,5),IF(AND(H52>1997,H52<2000),VLOOKUP(I52,Feuil1!$G$11:$L$25,4),IF(AND(H52>1999,H52<2002),VLOOKUP(I52,Feuil1!$G$11:$L$25,3),VLOOKUP(I52,Feuil1!$G$11:$L$25,2)))))))","v":"FJ58"},133.7482877682763,null," ",{"$f":"T52-HLOOKUP(X52,Feuil1!$C$1:$BL$10,2,FALSE)","v":35},{"$f":"T52-HLOOKUP(X52,Feuil1!$C$1:$BL$10,3,FALSE)","v":25},{"$f":"T52-HLOOKUP(X52,Feuil1!$C$1:$BL$10,4,FALSE)","v":15},{"$f":"T52-HLOOKUP(X52,Feuil1!$C$1:$BL$10,5,FALSE)","v":5},{"$f":"T52-HLOOKUP(X52,Feuil1!$C$1:$BL$10,6,FALSE)","v":-5},{"$f":"T52-HLOOKUP(X52,Feuil1!$C$1:$BL$10,7,FALSE)","v":-20},{"$f":"T52-HLOOKUP(X52,Feuil1!$C$1:$BL$10,8,FALSE)","v":-35},{"$f":"T52-HLOOKUP(X52,Feuil1!$C$1:$BL$10,9,FALSE)","v":-55},{"$f":"T52-HLOOKUP(X52,Feuil1!$C$1:$BL$10,10,FALSE)","v":-905},null,null,null,null,null,null,"IRG +"]
["F","SEST","LAN",18,279459,"MAUSSIERE","Emeline",1996,54.2,"Clermont Sports","F",35,38,40,40,45,50,53,53,93,-15.400000000000006,"IRG +",3,{"$f":"IF(I53=\"\",\"\",IF(A53=\"H\",IF(OR(H53=\"SEN\",H53<1995),VLOOKUP(I53,Feuil1!$A$11:$F$29,6),IF(AND(H53>1994,H53<1998),VLOOKUP(I53,Feuil1!$A$11:$F$29,5),IF(AND(H53>1997,H53<2000),VLOOKUP(I53,Feuil1!$A$11:$F$29,4),IF(AND(H53>1999,H53<2002),VLOOKUP(I53,Feuil1!$A$11:$F$29,3),VLOOKUP(I53,Feuil1!$A$11:$F$29,2))))),IF(OR(H53=\"SEN\",H53<1995),VLOOKUP(I53,Feuil1!$G$11:$L$25,6),IF(AND(H53>1994,H53<1998),VLOOKUP(I53,Feuil1!$G$11:$L$25,5),IF(AND(H53>1997,H53<2000),VLOOKUP(I53,Feuil1!$G$11:$L$25,4),IF(AND(H53>1999,H53<2002),VLOOKUP(I53,Feuil1!$G$11:$L$25,3),VLOOKUP(I53,Feuil1!$G$11:$L$25,2)))))))","v":"FJ58"},137.82047591343118,null," ",{"$f":"T53-HLOOKUP(X53,Feuil1!$C$1:$BL$10,2,FALSE)","v":33},{"$f":"T53-HLOOKUP(X53,Feuil1!$C$1:$BL$10,3,FALSE)","v":23},{"$f":"T53-HLOOKUP(X53,Feuil1!$C$1:$BL$10,4,FALSE)","v":13},{"$f":"T53-HLOOKUP(X53,Feuil1!$C$1:$BL$10,5,FALSE)","v":3},{"$f":"T53-HLOOKUP(X53,Feuil1!$C$1:$BL$10,6,FALSE)","v":-7},{"$f":"T53-HLOOKUP(X53,Feuil1!$C$1:$BL$10,7,FALSE)","v":-22},{"$f":"T53-HLOOKUP(X53,Feuil1!$C$1:$BL$10,8,FALSE)","v":-37},{"$f":"T53-HLOOKUP(X53,Feuil1!$C$1:$BL$10,9,FALSE)","v":-57},{"$f":"T53-HLOOKUP(X53,Feuil1!$C$1:$BL$10,10,FALSE)","v":-907},null,null,null,null,null,null,"IRG +"]
["F","SEST","RAL",19,142218,"MONTORIER","Clara",1997,57.54,"ST QUENTIN FALLAVIER","F",38,41,43,43,44,47,50,50,93,-22.08,"IRG +",3,{"$f":"IF(I54=\"\",\"\",IF(A54=\"H\",IF(OR(H54=\"SEN\",H54<1995),VLOOKUP(I54,Feuil1!$A$11:$F$29,6),IF(AND(H54>1994,H54<1998),VLOOKUP(I54,Feuil1!$A$11:$F$29,5),IF(AND(H54>1997,H54<2000),VLOOKUP(I54,Feuil1!$A$11:$F$29,4),IF(AND(H54>1999,H54<2002),VLOOKUP(I54,Feuil1!$A$11:$F$29,3),VLOOKUP(I54,Feuil1!$A$11:$F$29,2))))),IF(OR(H54=\"SEN\",H54<1995),VLOOKUP(I54,Feuil1!$G$11:$L$25,6),IF(AND(H54>1994,H54<1998),VLOOKUP(I54,Feuil1!$G$11:$L$25,5),IF(AND(H54>1997,H54<2000),VLOOKUP(I54,Feuil1!$G$11:$L$25,4),IF(AND(H54>1999,H54<2002),VLOOKUP(I54,Feuil1!$G$11:$L$25,3),VLOOKUP(I54,Feuil1!$G$11:$L$25,2)))))))","v":"FJ58"},131.69929964490248,null," ",{"$f":"T54-HLOOKUP(X54,Feuil1!$C$1:$BL$10,2,FALSE)","v":33},{"$f":"T54-HLOOKUP(X54,Feuil1!$C$1:$BL$10,3,FALSE)","v":23},{"$f":"T54-HLOOKUP(X54,Feuil1!$C$1:$BL$10,4,FALSE)","v":13},{"$f":"T54-HLOOKUP(X54,Feuil1!$C$1:$BL$10,5,FALSE)","v":3},{"$f":"T54-HLOOKUP(X54,Feuil1!$C$1:$BL$10,6,FALSE)","v":-7},{"$f":"T54-HLOOKUP(X54,Feuil1!$C$1:$BL$10,7,FALSE)","v":-22},{"$f":"T54-HLOOKUP(X54,Feuil1!$C$1:$BL$10,8,FALSE)","v":-37},{"$f":"T54-HLOOKUP(X54,Feuil1!$C$1:$BL$10,9,FALSE)","v":-57},{"$f":"T54-HLOOKUP(X54,Feuil1!$C$1:$BL$10,10,FALSE)","v":-907},null,null,null,null,null,null,"IRG +"]
["F","SEST","RAL",20,279492,"DOMINGUEZ","Marion",1996,56.95,"GAULOISE DE VAISE","F",35,40,43,43,40,45,48,48,91,-22.900000000000006,"IRG +",1,{"$f":"IF(I55=\"\",\"\",IF(A55=\"H\",IF(OR(H55=\"SEN\",H55<1995),VLOOKUP(I55,Feuil1!$A$11:$F$29,6),IF(AND(H55>1994,H55<1998),VLOOKUP(I55,Feuil1!$A$11:$F$29,5),IF(AND(H55>1997,H55<2000),VLOOKUP(I55,Feuil1!$A$11:$F$29,4),IF(AND(H55>1999,H55<2002),VLOOKUP(I55,Feuil1!$A$11:$F$29,3),VLOOKUP(I55,Feuil1!$A$11:$F$29,2))))),IF(OR(H55=\"SEN\",H55<1995),VLOOKUP(I55,Feuil1!$G$11:$L$25,6),IF(AND(H55>1994,H55<1998),VLOOKUP(I55,Feuil1!$G$11:$L$25,5),IF(AND(H55>1997,H55<2000),VLOOKUP(I55,Feuil1!$G$11:$L$25,4),IF(AND(H55>1999,H55<2002),VLOOKUP(I55,Feuil1!$G$11:$L$25,3),VLOOKUP(I55,Feuil1!$G$11:$L$25,2)))))))","v":"FJ58"},129.85425133741771,null," ",{"$f":"T55-HLOOKUP(X55,Feuil1!$C$1:$BL$10,2,FALSE)","v":31},{"$f":"T55-HLOOKUP(X55,Feuil1!$C$1:$BL$10,3,FALSE)","v":21},{"$f":"T55-HLOOKUP(X55,Feuil1!$C$1:$BL$10,4,FALSE)","v":11},{"$f":"T55-HLOOKUP(X55,Feuil1!$C$1:$BL$10,5,FALSE)","v":1},{"$f":"T55-HLOOKUP(X55,Feuil1!$C$1:$BL$10,6,FALSE)","v":-9},{"$f":"T55-HLOOKUP(X55,Feuil1!$C$1:$BL$10,7,FALSE)","v":-24},{"$f":"T55-HLOOKUP(X55,Feuil1!$C$1:$BL$10,8,FALSE)","v":-39},{"$f":"T55-HLOOKUP(X55,Feuil1!$C$1:$BL$10,9,FALSE)","v":-59},{"$f":"T55-HLOOKUP(X55,Feuil1!$C$1:$BL$10,10,FALSE)","v":-909},null,null,null,null,null,null,"IRG +"]
["F","CO","CEN",21,381459,"LAMBERT","Emeline",1995,56.8,"CM Orléans","F",37,-40,-40,37,-45,47,50,50,87,-26.599999999999994,"REG +",7,{"$f":"IF(I56=\"\",\"\",IF(A56=\"H\",IF(OR(H56=\"SEN\",H56<1995),VLOOKUP(I56,Feuil1!$A$11:$F$29,6),IF(AND(H56>1994,H56<1998),VLOOKUP(I56,Feuil1!$A$11:$F$29,5),IF(AND(H56>1997,H56<2000),VLOOKUP(I56,Feuil1!$A$11:$F$29,4),IF(AND(H56>1999,H56<2002),VLOOKUP(I56,Feuil1!$A$11:$F$29,3),VLOOKUP(I56,Feuil1!$A$11:$F$29,2))))),IF(OR(H56=\"SEN\",H56<1995),VLOOKUP(I56,Feuil1!$G$11:$L$25,6),IF(AND(H56>1994,H56<1998),VLOOKUP(I56,Feuil1!$G$11:$L$25,5),IF(AND(H56>1997,H56<2000),VLOOKUP(I56,Feuil1!$G$11:$L$25,4),IF(AND(H56>1999,H56<2002),VLOOKUP(I56,Feuil1!$G$11:$L$25,3),VLOOKUP(I56,Feuil1!$G$11:$L$25,2)))))))","v":"FJ58"},124.39069497706652,null," ",{"$f":"T56-HLOOKUP(X56,Feuil1!$C$1:$BL$10,2,FALSE)","v":27},{"$f":"T56-HLOOKUP(X56,Feuil1!$C$1:$BL$10,3,FALSE)","v":17},{"$f":"T56-HLOOKUP(X56,Feuil1!$C$1:$BL$10,4,FALSE)","v":7},{"$f":"T56-HLOOKUP(X56,Feuil1!$C$1:$BL$10,5,FALSE)","v":-3},{"$f":"T56-HLOOKUP(X56,Feuil1!$C$1:$BL$10,6,FALSE)","v":-13},{"$f":"T56-HLOOKUP(X56,Feuil1!$C$1:$BL$10,7,FALSE)","v":-28},{"$f":"T56-HLOOKUP(X56,Feuil1!$C$1:$BL$10,8,FALSE)","v":-43},{"$f":"T56-HLOOKUP(X56,Feuil1!$C$1:$BL$10,9,FALSE)","v":-63},{"$f":"T56-HLOOKUP(X56,Feuil1!$C$1:$BL$10,10,FALSE)","v":-913},null,null,null,null,null,null,"REG +"]
["F","SO","MPY",22,383457,"GARET","Clara",1995,55.8,"MONTAUBAN HC","F",-31,-32,34,34,36,41,46,46,80,-31.599999999999994,"REG +",0,{"$f":"IF(I57=\"\",\"\",IF(A57=\"H\",IF(OR(H57=\"SEN\",H57<1995),VLOOKUP(I57,Feuil1!$A$11:$F$29,6),IF(AND(H57>1994,H57<1998),VLOOKUP(I57,Feuil1!$A$11:$F$29,5),IF(AND(H57>1997,H57<2000),VLOOKUP(I57,Feuil1!$A$11:$F$29,4),IF(AND(H57>1999,H57<2002),VLOOKUP(I57,Feuil1!$A$11:$F$29,3),VLOOKUP(I57,Feuil1!$A$11:$F$29,2))))),IF(OR(H57=\"SEN\",H57<1995),VLOOKUP(I57,Feuil1!$G$11:$L$25,6),IF(AND(H57>1994,H57<1998),VLOOKUP(I57,Feuil1!$G$11:$L$25,5),IF(AND(H57>1997,H57<2000),VLOOKUP(I57,Feuil1!$G$11:$L$25,4),IF(AND(H57>1999,H57<2002),VLOOKUP(I57,Feuil1!$G$11:$L$25,3),VLOOKUP(I57,Feuil1!$G$11:$L$25,2)))))))","v":"FJ58"},115.92327559348152,null," ",{"$f":"T57-HLOOKUP(X57,Feuil1!$C$1:$BL$10,2,FALSE)","v":20},{"$f":"T57-HLOOKUP(X57,Feuil1!$C$1:$BL$10,3,FALSE)","v":10},{"$f":"T57-HLOOKUP(X57,Feuil1!$C$1:$BL$10,4,FALSE)","v":0},{"$f":"T57-HLOOKUP(X57,Feuil1!$C$1:$BL$10,5,FALSE)","v":-10},{"$f":"T57-HLOOKUP(X57,Feuil1!$C$1:$BL$10,6,FALSE)","v":-20},{"$f":"T57-HLOOKUP(X57,Feuil1!$C$1:$BL$10,7,FALSE)","v":-35},{"$f":"T57-HLOOKUP(X57,Feuil1!$C$1:$BL$10,8,FALSE)","v":-50},{"$f":"T57-HLOOKUP(X57,Feuil1!$C$1:$BL$10,9,FALSE)","v":-70},{"$f":"T57-HLOOKUP(X57,Feuil1!$C$1:$BL$10,10,FALSE)","v":-920},null,null,null,null,null,null,"REG +"]
["F","N","NPC",23,362262,"GILLIERS","Océane",1997,55.1,"CHCD COMINES","F",27,30,-32,30,44,-47,48,48,78,-32.200000000000003,"DEP +",8,{"$f":"IF(I58=\"\",\"\",IF(A58=\"H\",IF(OR(H58=\"SEN\",H58<1995),VLOOKUP(I58,Feuil1!$A$11:$F$29,6),IF(AND(H58>1994,H58<1998),VLOOKUP(I58,Feuil1!$A$11:$F$29,5),IF(AND(H58>1997,H58<2000),VLOOKUP(I58,Feuil1!$A$11:$F$29,4),IF(AND(H58>1999,H58<2002),VLOOKUP(I58,Feuil1!$A$11:$F$29,3),VLOOKUP(I58,Feuil1!$A$11:$F$29,2))))),IF(OR(H58=\"SEN\",H58<1995),VLOOKUP(I58,Feuil1!$G$11:$L$25,6),IF(AND(H58>1994,H58<1998),VLOOKUP(I58,Feuil1!$G$11:$L$25,5),IF(AND(H58>1997,H58<2000),VLOOKUP(I58,Feuil1!$G$11:$L$25,4),IF(AND(H58>1999,H58<2002),VLOOKUP(I58,Feuil1!$G$11:$L$25,3),VLOOKUP(I58,Feuil1!$G$11:$L$25,2)))))))","v":"FJ58"},114.12240133959217,null," ",{"$f":"T58-HLOOKUP(X58,Feuil1!$C$1:$BL$10,2,FALSE)","v":18},{"$f":"T58-HLOOKUP(X58,Feuil1!$C$1:$BL$10,3,FALSE)","v":8},{"$f":"T58-HLOOKUP(X58,Feuil1!$C$1:$BL$10,4,FALSE)","v":-2},{"$f":"T58-HLOOKUP(X58,Feuil1!$C$1:$BL$10,5,FALSE)","v":-12},{"$f":"T58-HLOOKUP(X58,Feuil1!$C$1:$BL$10,6,FALSE)","v":-22},{"$f":"T58-HLOOKUP(X58,Feuil1!$C$1:$BL$10,7,FALSE)","v":-37},{"$f":"T58-HLOOKUP(X58,Feuil1!$C$1:$BL$10,8,FALSE)","v":-52},{"$f":"T58-HLOOKUP(X58,Feuil1!$C$1:$BL$10,9,FALSE)","v":-72},{"$f":"T58-HLOOKUP(X58,Feuil1!$C$1:$BL$10,10,FALSE)","v":-922},null,null,null,null,null,null,"DEP +"]
["F","N","PIC",24,386134,"MERLIER","Marie",1997,53.4,"Péronne AAEEP","F",30,-32,32,32,42,45,-48,45,77,-29.799999999999997,"DEP +",7,{"$f":"IF(I59=\"\",\"\",IF(A59=\"H\",IF(OR(H59=\"SEN\",H59<1995),VLOOKUP(I59,Feuil1!$A$11:$F$29,6),IF(AND(H59>1994,H59<1998),VLOOKUP(I59,Feuil1!$A$11:$F$29,5),IF(AND(H59>1997,H59<2000),VLOOKUP(I59,Feuil1!$A$11:$F$29,4),IF(AND(H59>1999,H59<2002),VLOOKUP(I59,Feuil1!$A$11:$F$29,3),VLOOKUP(I59,Feuil1!$A$11:$F$29,2))))),IF(OR(H59=\"SEN\",H59<1995),VLOOKUP(I59,Feuil1!$G$11:$L$25,6),IF(AND(H59>1994,H59<1998),VLOOKUP(I59,Feuil1!$G$11:$L$25,5),IF(AND(H59>1997,H59<2000),VLOOKUP(I59,Feuil1!$G$11:$L$25,4),IF(AND(H59>1999,H59<2002),VLOOKUP(I59,Feuil1!$G$11:$L$25,3),VLOOKUP(I59,Feuil1!$G$11:$L$25,2)))))))","v":"FJ58"},115.45578654602501,null," ",{"$f":"T59-HLOOKUP(X59,Feuil1!$C$1:$BL$10,2,FALSE)","v":17},{"$f":"T59-HLOOKUP(X59,Feuil1!$C$1:$BL$10,3,FALSE)","v":7},{"$f":"T59-HLOOKUP(X59,Feuil1!$C$1:$BL$10,4,FALSE)","v":-3},{"$f":"T59-HLOOKUP(X59,Feuil1!$C$1:$BL$10,5,FALSE)","v":-13},{"$f":"T59-HLOOKUP(X59,Feuil1!$C$1:$BL$10,6,FALSE)","v":-23},{"$f":"T59-HLOOKUP(X59,Feuil1!$C$1:$BL$10,7,FALSE)","v":-38},{"$f":"T59-HLOOKUP(X59,Feuil1!$C$1:$BL$10,8,FALSE)","v":-53},{"$f":"T59-HLOOKUP(X59,Feuil1!$C$1:$BL$10,9,FALSE)","v":-73},{"$f":"T59-HLOOKUP(X59,Feuil1!$C$1:$BL$10,10,FALSE)","v":-923},null,null,null,null,null,null,"DEP +"]
["F","DOM","REU",25,391831,"ROGER","LUCIE",1996,53.74,"CH TAMPON","F",25,28,30,30,30,35,40,40,70,-37.480000000000004,"DEP +",0,{"$f":"IF(I60=\"\",\"\",IF(A60=\"H\",IF(OR(H60=\"SEN\",H60<1995),VLOOKUP(I60,Feuil1!$A$11:$F$29,6),IF(AND(H60>1994,H60<1998),VLOOKUP(I60,Feuil1!$A$11:$F$29,5),IF(AND(H60>1997,H60<2000),VLOOKUP(I60,Feuil1!$A$11:$F$29,4),IF(AND(H60>1999,H60<2002),VLOOKUP(I60,Feuil1!$A$11:$F$29,3),VLOOKUP(I60,Feuil1!$A$11:$F$29,2))))),IF(OR(H60=\"SEN\",H60<1995),VLOOKUP(I60,Feuil1!$G$11:$L$25,6),IF(AND(H60>1994,H60<1998),VLOOKUP(I60,Feuil1!$G$11:$L$25,5),IF(AND(H60>1997,H60<2000),VLOOKUP(I60,Feuil1!$G$11:$L$25,4),IF(AND(H60>1999,H60<2002),VLOOKUP(I60,Feuil1!$G$11:$L$25,3),VLOOKUP(I60,Feuil1!$G$11:$L$25,2)))))))","v":"FJ58"},104.43343766161037,null," ",{"$f":"T60-HLOOKUP(X60,Feuil1!$C$1:$BL$10,2,FALSE)","v":10},{"$f":"T60-HLOOKUP(X60,Feuil1!$C$1:$BL$10,3,FALSE)","v":0},{"$f":"T60-HLOOKUP(X60,Feuil1!$C$1:$BL$10,4,FALSE)","v":-10},{"$f":"T60-HLOOKUP(X60,Feuil1!$C$1:$BL$10,5,FALSE)","v":-20},{"$f":"T60-HLOOKUP(X60,Feuil1!$C$1:$BL$10,6,FALSE)","v":-30},{"$f":"T60-HLOOKUP(X60,Feuil1!$C$1:$BL$10,7,FALSE)","v":-45},{"$f":"T60-HLOOKUP(X60,Feuil1!$C$1:$BL$10,8,FALSE)","v":-60},{"$f":"T60-HLOOKUP(X60,Feuil1!$C$1:$BL$10,9,FALSE)","v":-80},{"$f":"T60-HLOOKUP(X60,Feuil1!$C$1:$BL$10,10,FALSE)","v":-930},null,null,null,null,null,null,"DEP +"]
["F","N","IDF",26,390557,"GRAVIL","LOU",1995,56.7,"SAINT-MAUR","F",25,30,-33,30,32,35,40,40,70,-43.400000000000006,"DEP +",0,{"$f":"IF(I61=\"\",\"\",IF(A61=\"H\",IF(OR(H61=\"SEN\",H61<1995),VLOOKUP(I61,Feuil1!$A$11:$F$29,6),IF(AND(H61>1994,H61<1998),VLOOKUP(I61,Feuil1!$A$11:$F$29,5),IF(AND(H61>1997,H61<2000),VLOOKUP(I61,Feuil1!$A$11:$F$29,4),IF(AND(H61>1999,H61<2002),VLOOKUP(I61,Feuil1!$A$11:$F$29,3),VLOOKUP(I61,Feuil1!$A$11:$F$29,2))))),IF(OR(H61=\"SEN\",H61<1995),VLOOKUP(I61,Feuil1!$G$11:$L$25,6),IF(AND(H61>1994,H61<1998),VLOOKUP(I61,Feuil1!$G$11:$L$25,5),IF(AND(H61>1997,H61<2000),VLOOKUP(I61,Feuil1!$G$11:$L$25,4),IF(AND(H61>1999,H61<2002),VLOOKUP(I61,Feuil1!$G$11:$L$25,3),VLOOKUP(I61,Feuil1!$G$11:$L$25,2)))))))","v":"FJ58"},100.21632852502846,null," ",{"$f":"T61-HLOOKUP(X61,Feuil1!$C$1:$BL$10,2,FALSE)","v":10},{"$f":"T61-HLOOKUP(X61,Feuil1!$C$1:$BL$10,3,FALSE)","v":0},{"$f":"T61-HLOOKUP(X61,Feuil1!$C$1:$BL$10,4,FALSE)","v":-10},{"$f":"T61-HLOOKUP(X61,Feuil1!$C$1:$BL$10,5,FALSE)","v":-20},{"$f":"T61-HLOOKUP(X61,Feuil1!$C$1:$BL$10,6,FALSE)","v":-30},{"$f":"T61-HLOOKUP(X61,Feuil1!$C$1:$BL$10,7,FALSE)","v":-45},{"$f":"T61-HLOOKUP(X61,Feuil1!$C$1:$BL$10,8,FALSE)","v":-60},{"$f":"T61-HLOOKUP(X61,Feuil1!$C$1:$BL$10,9,FALSE)","v":-80},{"$f":"T61-HLOOKUP(X61,Feuil1!$C$1:$BL$10,10,FALSE)","v":-930},null,null,null,null,null,null,"DEP +"]
["F","NE","FCO",27,392420,"DURIN","Zoé",1995,55.5,"CH Luxeuil","F",25,27,29,29,30,-33,33,33,62,-49,"DEB ",2,{"$f":"IF(I62=\"\",\"\",IF(A62=\"H\",IF(OR(H62=\"SEN\",H62<1995),VLOOKUP(I62,Feuil1!$A$11:$F$29,6),IF(AND(H62>1994,H62<1998),VLOOKUP(I62,Feuil1!$A$11:$F$29,5),IF(AND(H62>1997,H62<2000),VLOOKUP(I62,Feuil1!$A$11:$F$29,4),IF(AND(H62>1999,H62<2002),VLOOKUP(I62,Feuil1!$A$11:$F$29,3),VLOOKUP(I62,Feuil1!$A$11:$F$29,2))))),IF(OR(H62=\"SEN\",H62<1995),VLOOKUP(I62,Feuil1!$G$11:$L$25,6),IF(AND(H62>1994,H62<1998),VLOOKUP(I62,Feuil1!$G$11:$L$25,5),IF(AND(H62>1997,H62<2000),VLOOKUP(I62,Feuil1!$G$11:$L$25,4),IF(AND(H62>1999,H62<2002),VLOOKUP(I62,Feuil1!$G$11:$L$25,3),VLOOKUP(I62,Feuil1!$G$11:$L$25,2)))))))","v":"FJ58"},90.210563999849271,null," ",{"$f":"T62-HLOOKUP(X62,Feuil1!$C$1:$BL$10,2,FALSE)","v":2},{"$f":"T62-HLOOKUP(X62,Feuil1!$C$1:$BL$10,3,FALSE)","v":-8},{"$f":"T62-HLOOKUP(X62,Feuil1!$C$1:$BL$10,4,FALSE)","v":-18},{"$f":"T62-HLOOKUP(X62,Feuil1!$C$1:$BL$10,5,FALSE)","v":-28},{"$f":"T62-HLOOKUP(X62,Feuil1!$C$1:$BL$10,6,FALSE)","v":-38},{"$f":"T62-HLOOKUP(X62,Feuil1!$C$1:$BL$10,7,FALSE)","v":-53},{"$f":"T62-HLOOKUP(X62,Feuil1!$C$1:$BL$10,8,FALSE)","v":-68},{"$f":"T62-HLOOKUP(X62,Feuil1!$C$1:$BL$10,9,FALSE)","v":-88},{"$f":"T62-HLOOKUP(X62,Feuil1!$C$1:$BL$10,10,FALSE)","v":-938},null,null,null,null,null,null,"DEB "]
["F","CO","BRE",28,380873,"GERNIER","Gaelle",1996,54.7,"ES Saint Avé","F",23,-25,27,27,28,-33,-33,28,55,-54.400000000000006,"DEB ",-5,{"$f":"IF(I63=\"\",\"\",IF(A63=\"H\",IF(OR(H63=\"SEN\",H63<1995),VLOOKUP(I63,Feuil1!$A$11:$F$29,6),IF(AND(H63>1994,H63<1998),VLOOKUP(I63,Feuil1!$A$11:$F$29,5),IF(AND(H63>1997,H63<2000),VLOOKUP(I63,Feuil1!$A$11:$F$29,4),IF(AND(H63>1999,H63<2002),VLOOKUP(I63,Feuil1!$A$11:$F$29,3),VLOOKUP(I63,Feuil1!$A$11:$F$29,2))))),IF(OR(H63=\"SEN\",H63<1995),VLOOKUP(I63,Feuil1!$G$11:$L$25,6),IF(AND(H63>1994,H63<1998),VLOOKUP(I63,Feuil1!$G$11:$L$25,5),IF(AND(H63>1997,H63<2000),VLOOKUP(I63,Feuil1!$G$11:$L$25,4),IF(AND(H63>1999,H63<2002),VLOOKUP(I63,Feuil1!$G$11:$L$25,3),VLOOKUP(I63,Feuil1!$G$11:$L$25,2)))))))","v":"FJ58"},80.925435440938472,null," ",{"$f":"T63-HLOOKUP(X63,Feuil1!$C$1:$BL$10,2,FALSE)","v":-5},{"$f":"T63-HLOOKUP(X63,Feuil1!$C$1:$BL$10,3,FALSE)","v":-15},{"$f":"T63-HLOOKUP(X63,Feuil1!$C$1:$BL$10,4,FALSE)","v":-25},{"$f":"T63-HLOOKUP(X63,Feuil1!$C$1:$BL$10,5,FALSE)","v":-35},{"$f":"T63-HLOOKUP(X63,Feuil1!$C$1:$BL$10,6,FALSE)","v":-45},{"$f":"T63-HLOOKUP(X63,Feuil1!$C$1:$BL$10,7,FALSE)","v":-60},{"$f":"T63-HLOOKUP(X63,Feuil1!$C$1:$BL$10,8,FALSE)","v":-75},{"$f":"T63-HLOOKUP(X63,Feuil1!$C$1:$BL$10,9,FALSE)","v":-95},{"$f":"T63-HLOOKUP(X63,Feuil1!$C$1:$BL$10,10,FALSE)","v":-945},null,null,null,null,null,null,"DEB "]
[null,null,null,null,null,null,null,null,null,null,null,null,null,null,null,null,null,null,null,null,null,null,null,null,null,null," ",{"$f":"T64-HLOOKUP(X64,Feuil1!$C$1:$BL$10,2,FALSE)","v":{"$error":"#N/A"}},{"$f":"T64-HLOOKUP(X64,Feuil1!$C$1:$BL$10,3,FALSE)","v":{"$error":"#N/A"}},{"$f":"T64-HLOOKUP(X64,Feuil1!$C$1:$BL$10,4,FALSE)","v":{"$error":"#N/A"}},{"$f":"T64-HLOOKUP(X64,Feuil1!$C$1:$BL$10,5,FALSE)","v":{"$error":"#N/A"}},{"$f":"T64-HLOOKUP(X64,Feuil1!$C$1:$BL$10,6,FALSE)","v":{"$error":"#N/A"}},{"$f":"T64-HLOOKUP(X64,Feuil1!$C$1:$BL$10,7,FALSE)","v":{"$error":"#N/A"}},{"$f":"T64-HLOOKUP(X64,Feuil1!$C$1:$BL$10,8,FALSE)","v":{"$error":"#N/A"}},{"$f":"T64-HLOOKUP(X64,Feuil1!$C$1:$BL$10,9,FALSE)","v":{"$error":"#N/A"}},{"$f":"T64-HLOOKUP(X64,Feuil1!$C$1:$BL$10,10,FALSE)","v":{"$error":"#N/A"}},null,null,null,null,null,null,{"$f":"IF(AJ64>=0,$AJ$4,IF(AI64>=0,$AI$4,IF(AH64>=0,$AH$4,IF(AG64>=0,$AG$4,IF(AF64>=0,$AF$4,IF(AE64>=0,$AE$4,IF(AD64>=0,$AD$4,IF(AC64>=0,$AC$4,$AB$4))))))))","v":{"$error":"#N/A"}}]
["F","NE","CHA",1,274946,"GROSJEAN","Loriane",1997,61.9,"Langres HM","F",57,60,63,{"$f":"IF(H65=\"\",\"\",IF(MAXA(L65:N65)<=0,0,MAXA(L65:N65)))","v":63},67,-72,74,{"$f":"IF(H65=\"\",\"\",IF(MAXA(P65:R65)<=0,0,MAXA(P65:R65)))","v":74},{"$f":"IF(H65=\"\",\"\",IF(OR(O65=0,S65=0),0,O65+S65))","v":137},{"$f":"T65-I65*2","v":13.200000000000003},{"$f":"IF(H65=\"\",\"\",AQ65)","v":"NAT +"},{"$f":"IF(AJ65>=0,AJ65,IF(AI65>=0,AI65,IF(AH65>=0,AH65,IF(AG65>=0,AG65,IF(AF65>=0,AF65,IF(AE65>=0,AE65,IF(AD65>=0,AD65,IF(AC65>=0,AC65,AB65))))))))","v":12},{"$f":"IF(I65=\"\",\"\",IF(A65=\"H\",IF(OR(H65=\"SEN\",H65<1995),VLOOKUP(I65,Feuil1!$A$11:$F$29,6),IF(AND(H65>1994,H65<1998),VLOOKUP(I65,Feuil1!$A$11:$F$29,5),IF(AND(H65>1997,H65<2000),VLOOKUP(I65,Feuil1!$A$11:$F$29,4),IF(AND(H65>1999,H65<2002),VLOOKUP(I65,Feuil1!$A$11:$F$29,3),VLOOKUP(I65,Feuil1!$A$11:$F$29,2))))),IF(OR(H65=\"SEN\",H65<1995),VLOOKUP(I65,Feuil1!$G$11:$L$25,6),IF(AND(H65>1994,H65<1998),VLOOKUP(I65,Feuil1!$G$11:$L$25,5),IF(AND(H65>1997,H65<2000),VLOOKUP(I65,Feuil1!$G$11:$L$25,4),IF(AND(H65>1999,H65<2002),VLOOKUP(I65,Feuil1!$G$11:$L$25,3),VLOOKUP(I65,Feuil1!$G$11:$L$25,2)))))))","v":"FJ63"},{"$f":"IF(I65=\"\",\"\",IF(A65=\"H\",10^(0.794358141*LOG(I65/174.393)^2)*T65,IF(A65=\"F\",10^(0.89726074*LOG(I65/148.026)^2)*T65,\"\")))","v":184.23166041137546},null," ",{"$f":"T65-HLOOKUP(X65,Feuil1!$C$1:$BL$10,2,FALSE)","v":72},{"$f":"T65-HLOOKUP(X65,Feuil1!$C$1:$BL$10,3,FALSE)","v":62},{"$f":"T65-HLOOKUP(X65,Feuil1!$C$1:$BL$10,4,FALSE)","v":52},{"$f":"T65-HLOOKUP(X65,Feuil1!$C$1:$BL$10,5,FALSE)","v":42},{"$f":"T65-HLOOKUP(X65,Feuil1!$C$1:$BL$10,6,FALSE)","v":27},{"$f":"T65-HLOOKUP(X65,Feuil1!$C$1:$BL$10,7,FALSE)","v":12},{"$f":"T65-HLOOKUP(X65,Feuil1!$C$1:$BL$10,8,FALSE)","v":-3},{"$f":"T65-HLOOKUP(X65,Feuil1!$C$1:$BL$10,9,FALSE)","v":-23},{"$f":"T65-HLOOKUP(X65,Feuil1!$C$1:$BL$10,10,FALSE)","v":-863},null,null,null,null,null,null,{"$f":"IF(AJ65>=0,$AJ$4,IF(AI65>=0,$AI$4,IF(AH65>=0,$AH$4,IF(AG65>=0,$AG$4,IF(AF65>=0,$AF$4,IF(AE65>=0,$AE$4,IF(AD65>=0,$AD$4,IF(AC65>=0,$AC$4,$AB$4))))))))","v":"NAT +"}]
["F","N","IDF",2,379288,"MARKHUS","HELENE",1995,60.2,"SAINT-MAUR","Nor",50,55,-57,55,67,-70,70,70,125,4.5999999999999943,"NAT +",0,{"$f":"IF(I66=\"\",\"\",IF(A66=\"H\",IF(OR(H66=\"SEN\",H66<1995),VLOOKUP(I66,Feuil1!$A$11:$F$29,6),IF(AND(H66>1994,H66<1998),VLOOKUP(I66,Feuil1!$A$11:$F$29,5),IF(AND(H66>1997,H66<2000),VLOOKUP(I66,Feuil1!$A$11:$F$29,4),IF(AND(H66>1999,H66<2002),VLOOKUP(I66,Feuil1!$A$11:$F$29,3),VLOOKUP(I66,Feuil1!$A$11:$F$29,2))))),IF(OR(H66=\"SEN\",H66<1995),VLOOKUP(I66,Feuil1!$G$11:$L$25,6),IF(AND(H66>1994,H66<1998),VLOOKUP(I66,Feuil1!$G$11:$L$25,5),IF(AND(H66>1997,H66<2000),VLOOKUP(I66,Feuil1!$G$11:$L$25,4),IF(AND(H66>1999,H66<2002),VLOOKUP(I66,Feuil1!$G$11:$L$25,3),VLOOKUP(I66,Feuil1!$G$11:$L$25,2)))))))","v":"FJ63"},171.35738354333972,null," ",{"$f":"T66-HLOOKUP(X66,Feuil1!$C$1:$BL$10,2,FALSE)","v":60},{"$f":"T66-HLOOKUP(X66,Feuil1!$C$1:$BL$10,3,FALSE)","v":50},{"$f":"T66-HLOOKUP(X66,Feuil1!$C$1:$BL$10,4,FALSE)","v":40},{"$f":"T66-HLOOKUP(X66,Feuil1!$C$1:$BL$10,5,FALSE)","v":30},{"$f":"T66-HLOOKUP(X66,Feuil1!$C$1:$BL$10,6,FALSE)","v":15},{"$f":"T66-HLOOKUP(X66,Feuil1!$C$1:$BL$10,7,FALSE)","v":0},{"$f":"T66-HLOOKUP(X66,Feuil1!$C$1:$BL$10,8,FALSE)","v":-15},{"$f":"T66-HLOOKUP(X66,Feuil1!$C$1:$BL$10,9,FALSE)","v":-35},{"$f":"T66-HLOOKUP(X66,Feuil1!$C$1:$BL$10,10,FALSE)","v":-875},null,null,null,null,null,null,"NAT +"]
["F","SEST","CAZ",3,231757,"RONCO","Emmanuelle",1995,62.7,"ES VILL LOUBET","F",-55,-58,58,58,63,67,-70,67,125,-0.40000000000000568,"NAT +",0,{"$f":"IF(I67=\"\",\"\",IF(A67=\"H\",IF(OR(H67=\"SEN\",H67<1995),VLOOKUP(I67,Feuil1!$A$11:$F$29,6),IF(AND(H67>1994,H67<1998),VLOOKUP(I67,Feuil1!$A$11:$F$29,5),IF(AND(H67>1997,H67<2000),VLOOKUP(I67,Feuil1!$A$11:$F$29,4),IF(AND(H67>1999,H67<2002),VLOOKUP(I67,Feuil1!$A$11:$F$29,3),VLOOKUP(I67,Feuil1!$A$11:$F$29,2))))),IF(OR(H67=\"SEN\",H67<1995),VLOOKUP(I67,Feuil1!$G$11:$L$25,6),IF(AND(H67>1994,H67<1998),VLOOKUP(I67,Feuil1!$G$11:$L$25,5),IF(AND(H67>1997,H67<2000),VLOOKUP(I67,Feuil1!$G$11:$L$25,4),IF(AND(H67>1999,H67<2002),VLOOKUP(I67,Feuil1!$G$11:$L$25,3),VLOOKUP(I67,Feuil1!$G$11:$L$25,2)))))))","v":"FJ63"},166.64495551049347,null," ",{"$f":"T67-HLOOKUP(X67,Feuil1!$C$1:$BL$10,2,FALSE)","v":60},{"$f":"T67-HLOOKUP(X67,Feuil1!$C$1:$BL$10,3,FALSE)","v":50},{"$f":"T67-HLOOKUP(X67,Feuil1!$C$1:$BL$10,4,FALSE)","v":40},{"$f":"T67-HLOOKUP(X67,Feuil1!$C$1:$BL$10,5,FALSE)","v":30},{"$f":"T67-HLOOKUP(X67,Feuil1!$C$1:$BL$10,6,FALSE)","v":15},{"$f":"T67-HLOOKUP(X67,Feuil1!$C$1:$BL$10,7,FALSE)","v":0},{"$f":"T67-HLOOKUP(X67,Feuil1!$C$1:$BL$10,8,FALSE)","v":-15},{"$f":"T67-HLOOKUP(X67,Feuil1!$C$1:$BL$10,9,FALSE)","v":-35},{"$f":"T67-HLOOKUP(X67,Feuil1!$C$1:$BL$10,10,FALSE)","v":-875},null,null,null,null,null,null,"NAT +"]
["F","N","PIC",4,140592,"ARANJO","Caroline",1995,58.1,"Villers-Bretonneux KC","F",-52,52,55,55,63,67,-68,67,122,5.7999999999999972,"FED +",12,{"$f":"IF(I68=\"\",\"\",IF(A68=\"H\",IF(OR(H68=\"SEN\",H68<1995),VLOOKUP(I68,Feuil1!$A$11:$F$29,6),IF(AND(H68>1994,H68<1998),VLOOKUP(I68,Feuil1!$A$11:$F$29,5),IF(AND(H68>1997,H68<2000),VLOOKUP(I68,Feuil1!$A$11:$F$29,4),IF(AND(H68>1999,H68<2002),VLOOKUP(I68,Feuil1!$A$11:$F$29,3),VLOOKUP(I68,Feuil1!$A$11:$F$29,2))))),IF(OR(H68=\"SEN\",H68<1995),VLOOKUP(I68,Feuil1!$G$11:$L$25,6),IF(AND(H68>1994,H68<1998),VLOOKUP(I68,Feuil1!$G$11:$L$25,5),IF(AND(H68>1997,H68<2000),VLOOKUP(I68,Feuil1!$G$11:$L$25,4),IF(AND(H68>1999,H68<2002),VLOOKUP(I68,Feuil1!$G$11:$L$25,3),VLOOKUP(I68,Feuil1!$G$11:$L$25,2)))))))","v":"FJ63"},171.54523571740054,null," ",{"$f":"T68-HLOOKUP(X68,Feuil1!$C$1:$BL$10,2,FALSE)","v":57},{"$f":"T68-HLOOKUP(X68,Feuil1!$C$1:$BL$10,3,FALSE)","v":47},{"$f":"T68-HLOOKUP(X68,Feuil1!$C$1:$BL$10,4,FALSE)","v":37},{"$f":"T68-HLOOKUP(X68,Feuil1!$C$1:$BL$10,5,FALSE)","v":27},{"$f":"T68-HLOOKUP(X68,Feuil1!$C$1:$BL$10,6,FALSE)","v":12},{"$f":"T68-HLOOKUP(X68,Feuil1!$C$1:$BL$10,7,FALSE)","v":-3},{"$f":"T68-HLOOKUP(X68,Feuil1!$C$1:$BL$10,8,FALSE)","v":-18},{"$f":"T68-HLOOKUP(X68,Feuil1!$C$1:$BL$10,9,FALSE)","v":-38},{"$f":"T68-HLOOKUP(X68,Feuil1!$C$1:$BL$10,10,FALSE)","v":-878},null,null,null,null,null,null,"FED +"]
["F","SO","MPY",5,253453,"JOURNET","Anaïs",1995,62.8,"FIGEAC HC","F",45,-50,50,50,60,65,70,70,120,-5.5999999999999943,"FED +",10,{"$f":"IF(I69=\"\",\"\",IF(A69=\"H\",IF(OR(H69=\"SEN\",H69<1995),VLOOKUP(I69,Feuil1!$A$11:$F$29,6),IF(AND(H69>1994,H69<1998),VLOOKUP(I69,Feuil1!$A$11:$F$29,5),IF(AND(H69>1997,H69<2000),VLOOKUP(I69,Feuil1!$A$11:$F$29,4),IF(AND(H69>1999,H69<2002),VLOOKUP(I69,Feuil1!$A$11:$F$29,3),VLOOKUP(I69,Feuil1!$A$11:$F$29,2))))),IF(OR(H69=\"SEN\",H69<1995),VLOOKUP(I69,Feuil1!$G$11:$L$25,6),IF(AND(H69>1994,H69<1998),VLOOKUP(I69,Feuil1!$G$11:$L$25,5),IF(AND(H69>1997,H69<2000),VLOOKUP(I69,Feuil1!$G$11:$L$25,4),IF(AND(H69>1999,H69<2002),VLOOKUP(I69,Feuil1!$G$11:$L$25,3),VLOOKUP(I69,Feuil1!$G$11:$L$25,2)))))))","v":"FJ63"},159.80872384407496,null," ",{"$f":"T69-HLOOKUP(X69,Feuil1!$C$1:$BL$10,2,FALSE)","v":55},{"$f":"T69-HLOOKUP(X69,Feuil1!$C$1:$BL$10,3,FALSE)","v":45},{"$f":"T69-HLOOKUP(X69,Feuil1!$C$1:$BL$10,4,FALSE)","v":35},{"$f":"T69-HLOOKUP(X69,Feuil1!$C$1:$BL$10,5,FALSE)","v":25},{"$f":"T69-HLOOKUP(X69,Feuil1!$C$1:$BL$10,6,FALSE)","v":10},{"$f":"T69-HLOOKUP(X69,Feuil1!$C$1:$BL$10,7,FALSE)","v":-5},{"$f":"T69-HLOOKUP(X69,Feuil1!$C$1:$BL$10,8,FALSE)","v":-20},{"$f":"T69-HLOOKUP(X69,Feuil1!$C$1:$BL$10,9,FALSE)","v":-40},{"$f":"T69-HLOOKUP(X69,Feuil1!$C$1:$BL$10,10,FALSE)","v":-880},null,null,null,null,null,null,"FED +"]
["F","N","IDF",6,326999,"BIFANO","ELENA",1997,62.75,"BLANC-MESNIL","F",-50,-50,51,51,59,62,-65,62,113,-12.5,"FED +",3,{"$f":"IF(I70=\"\",\"\",IF(A70=\"H\",IF(OR(H70=\"SEN\",H70<1995),VLOOKUP(I70,Feuil1!$A$11:$F$29,6),IF(AND(H70>1994,H70<1998),VLOOKUP(I70,Feuil1!$A$11:$F$29,5),IF(AND(H70>1997,H70<2000),VLOOKUP(I70,Feuil1!$A$11:$F$29,4),IF(AND(H70>1999,H70<2002),VLOOKUP(I70,Feuil1!$A$11:$F$29,3),VLOOKUP(I70,Feuil1!$A$11:$F$29,2))))),IF(OR(H70=\"SEN\",H70<1995),VLOOKUP(I70,Feuil1!$G$11:$L$25,6),IF(AND(H70>1994,H70<1998),VLOOKUP(I70,Feuil1!$G$11:$L$25,5),IF(AND(H70>1997,H70<2000),VLOOKUP(I70,Feuil1!$G$11:$L$25,4),IF(AND(H70>1999,H70<2002),VLOOKUP(I70,Feuil1!$G$11:$L$25,3),VLOOKUP(I70,Feuil1!$G$11:$L$25,2)))))))","v":"FJ63"},150.56670342820445,null," ",{"$f":"T70-HLOOKUP(X70,Feuil1!$C$1:$BL$10,2,FALSE)","v":48},{"$f":"T70-HLOOKUP(X70,Feuil1!$C$1:$BL$10,3,FALSE)","v":38},{"$f":"T70-HLOOKUP(X70,Feuil1!$C$1:$BL$10,4,FALSE)","v":28},{"$f":"T70-HLOOKUP(X70,Feuil1!$C$1:$BL$10,5,FALSE)","v":18},{"$f":"T70-HLOOKUP(X70,Feuil1!$C$1:$BL$10,6,FALSE)","v":3},{"$f":"T70-HLOOKUP(X70,Feuil1!$C$1:$BL$10,7,FALSE)","v":-12},{"$f":"T70-HLOOKUP(X70,Feuil1!$C$1:$BL$10,8,FALSE)","v":-27},{"$f":"T70-HLOOKUP(X70,Feuil1!$C$1:$BL$10,9,FALSE)","v":-47},{"$f":"T70-HLOOKUP(X70,Feuil1!$C$1:$BL$10,10,FALSE)","v":-887},null,null,null,null,null,null,"FED +"]
["F","SEST","PRO",7,375285,"GIRARD","Sarah",1996,61,"ISTRES SPORTS","F",40,-45,50,50,52,57,62,62,112,-10,"FED +",2,{"$f":"IF(I71=\"\",\"\",IF(A71=\"H\",IF(OR(H71=\"SEN\",H71<1995),VLOOKUP(I71,Feuil1!$A$11:$F$29,6),IF(AND(H71>1994,H71<1998),VLOOKUP(I71,Feuil1!$A$11:$F$29,5),IF(AND(H71>1997,H71<2000),VLOOKUP(I71,Feuil1!$A$11:$F$29,4),IF(AND(H71>1999,H71<2002),VLOOKUP(I71,Feuil1!$A$11:$F$29,3),VLOOKUP(I71,Feuil1!$A$11:$F$29,2))))),IF(OR(H71=\"SEN\",H71<1995),VLOOKUP(I71,Feuil1!$G$11:$L$25,6),IF(AND(H71>1994,H71<1998),VLOOKUP(I71,Feuil1!$G$11:$L$25,5),IF(AND(H71>1997,H71<2000),VLOOKUP(I71,Feuil1!$G$11:$L$25,4),IF(AND(H71>1999,H71<2002),VLOOKUP(I71,Feuil1!$G$11:$L$25,3),VLOOKUP(I71,Feuil1!$G$11:$L$25,2)))))))","v":"FJ63"},152.13184755800987,null," ",{"$f":"T71-HLOOKUP(X71,Feuil1!$C$1:$BL$10,2,FALSE)","v":47},{"$f":"T71-HLOOKUP(X71,Feuil1!$C$1:$BL$10,3,FALSE)","v":37},{"$f":"T71-HLOOKUP(X71,Feuil1!$C$1:$BL$10,4,FALSE)","v":27},{"$f":"T71-HLOOKUP(X71,Feuil1!$C$1:$BL$10,5,FALSE)","v":17},{"$f":"T71-HLOOKUP(X71,Feuil1!$C$1:$BL$10,6,FALSE)","v":2},{"$f":"T71-HLOOKUP(X71,Feuil1!$C$1:$BL$10,7,FALSE)","v":-13},{"$f":"T71-HLOOKUP(X71,Feuil1!$C$1:$BL$10,8,FALSE)","v":-28},{"$f":"T71-HLOOKUP(X71,Feuil1!$C$1:$BL$10,9,FALSE)","v":-48},{"$f":"T71-HLOOKUP(X71,Feuil1!$C$1:$BL$10,10,FALSE)","v":-888},null,null,null,null,null,null,"FED +"]
["F","DOM","REU",8,250369,"MARKA","SEVELTANA",1997,62.53,"CSPJ St Denis","F",45,50,-53,50,52,55,-60,55,105,-20.060000000000002,"IRG +",10,{"$f":"IF(I72=\"\",\"\",IF(A72=\"H\",IF(OR(H72=\"SEN\",H72<1995),VLOOKUP(I72,Feuil1!$A$11:$F$29,6),IF(AND(H72>1994,H72<1998),VLOOKUP(I72,Feuil1!$A$11:$F$29,5),IF(AND(H72>1997,H72<2000),VLOOKUP(I72,Feuil1!$A$11:$F$29,4),IF(AND(H72>1999,H72<2002),VLOOKUP(I72,Feuil1!$A$11:$F$29,3),VLOOKUP(I72,Feuil1!$A$11:$F$29,2))))),IF(OR(H72=\"SEN\",H72<1995),VLOOKUP(I72,Feuil1!$G$11:$L$25,6),IF(AND(H72>1994,H72<1998),VLOOKUP(I72,Feuil1!$G$11:$L$25,5),IF(AND(H72>1997,H72<2000),VLOOKUP(I72,Feuil1!$G$11:$L$25,4),IF(AND(H72>1999,H72<2002),VLOOKUP(I72,Feuil1!$G$11:$L$25,3),VLOOKUP(I72,Feuil1!$G$11:$L$25,2)))))))","v":"FJ63"},140.23683471548784,null," ",{"$f":"T72-HLOOKUP(X72,Feuil1!$C$1:$BL$10,2,FALSE)","v":40},{"$f":"T72-HLOOKUP(X72,Feuil1!$C$1:$BL$10,3,FALSE)","v":30},{"$f":"T72-HLOOKUP(X72,Feuil1!$C$1:$BL$10,4,FALSE)","v":20},{"$f":"T72-HLOOKUP(X72,Feuil1!$C$1:$BL$10,5,FALSE)","v":10},{"$f":"T72-HLOOKUP(X72,Feuil1!$C$1:$BL$10,6,FALSE)","v":-5},{"$f":"T72-HLOOKUP(X72,Feuil1!$C$1:$BL$10,7,FALSE)","v":-20},{"$f":"T72-HLOOKUP(X72,Feuil1!$C$1:$BL$10,8,FALSE)","v":-35},{"$f":"T72-HLOOKUP(X72,Feuil1!$C$1:$BL$10,9,FALSE)","v":-55},{"$f":"T72-HLOOKUP(X72,Feuil1!$C$1:$BL$10,10,FALSE)","v":-895},null,null,null,null,null,null,"IRG +"]
["F","SEST","RAL",9,356024,"PARENTI","Elora",1995,62.6,"CH Arbresle","F",-40,-40,40,40,50,55,-60,55,95,-30.200000000000003,"IRG +",0,{"$f":"IF(I73=\"\",\"\",IF(A73=\"H\",IF(OR(H73=\"SEN\",H73<1995),VLOOKUP(I73,Feuil1!$A$11:$F$29,6),IF(AND(H73>1994,H73<1998),VLOOKUP(I73,Feuil1!$A$11:$F$29,5),IF(AND(H73>1997,H73<2000),VLOOKUP(I73,Feuil1!$A$11:$F$29,4),IF(AND(H73>1999,H73<2002),VLOOKUP(I73,Feuil1!$A$11:$F$29,3),VLOOKUP(I73,Feuil1!$A$11:$F$29,2))))),IF(OR(H73=\"SEN\",H73<1995),VLOOKUP(I73,Feuil1!$G$11:$L$25,6),IF(AND(H73>1994,H73<1998),VLOOKUP(I73,Feuil1!$G$11:$L$25,5),IF(AND(H73>1997,H73<2000),VLOOKUP(I73,Feuil1!$G$11:$L$25,4),IF(AND(H73>1999,H73<2002),VLOOKUP(I73,Feuil1!$G$11:$L$25,3),VLOOKUP(I73,Feuil1!$G$11:$L$25,2)))))))","v":"FJ63"},126.78570381776743,null," ",{"$f":"T73-HLOOKUP(X73,Feuil1!$C$1:$BL$10,2,FALSE)","v":30},{"$f":"T73-HLOOKUP(X73,Feuil1!$C$1:$BL$10,3,FALSE)","v":20},{"$f":"T73-HLOOKUP(X73,Feuil1!$C$1:$BL$10,4,FALSE)","v":10},{"$f":"T73-HLOOKUP(X73,Feuil1!$C$1:$BL$10,5,FALSE)","v":0},{"$f":"T73-HLOOKUP(X73,Feuil1!$C$1:$BL$10,6,FALSE)","v":-15},{"$f":"T73-HLOOKUP(X73,Feuil1!$C$1:$BL$10,7,FALSE)","v":-30},{"$f":"T73-HLOOKUP(X73,Feuil1!$C$1:$BL$10,8,FALSE)","v":-45},{"$f":"T73-HLOOKUP(X73,Feuil1!$C$1:$BL$10,9,FALSE)","v":-65},{"$f":"T73-HLOOKUP(X73,Feuil1!$C$1:$BL$10,10,FALSE)","v":-905},null,null,null,null,null,null,"IRG +"]
["F","CO","CEN",10,381459,"LAMBERT","Emeline",1995,58.4,"CM Orléans","F",35,-38,-38,35,48,50,52,52,87,-29.799999999999997,"REG +",2,{"$f":"IF(I74=\"\",\"\",IF(A74=\"H\",IF(OR(H74=\"SEN\",H74<1995),VLOOKUP(I74,Feuil1!$A$11:$F$29,6),IF(AND(H74>1994,H74<1998),VLOOKUP(I74,Feuil1!$A$11:$F$29,5),IF(AND(H74>1997,H74<2000),VLOOKUP(I74,Feuil1!$A$11:$F$29,4),IF(AND(H74>1999,H74<2002),VLOOKUP(I74,Feuil1!$A$11:$F$29,3),VLOOKUP(I74,Feuil1!$A$11:$F$29,2))))),IF(OR(H74=\"SEN\",H74<1995),VLOOKUP(I74,Feuil1!$G$11:$L$25,6),IF(AND(H74>1994,H74<1998),VLOOKUP(I74,Feuil1!$G$11:$L$25,5),IF(AND(H74>1997,H74<2000),VLOOKUP(I74,Feuil1!$G$11:$L$25,4),IF(AND(H74>1999,H74<2002),VLOOKUP(I74,Feuil1!$G$11:$L$25,3),VLOOKUP(I74,Feuil1!$G$11:$L$25,2)))))))","v":"FJ63"},121.87434821049382,null," ",{"$f":"T74-HLOOKUP(X74,Feuil1!$C$1:$BL$10,2,FALSE)","v":22},{"$f":"T74-HLOOKUP(X74,Feuil1!$C$1:$BL$10,3,FALSE)","v":12},{"$f":"T74-HLOOKUP(X74,Feuil1!$C$1:$BL$10,4,FALSE)","v":2},{"$f":"T74-HLOOKUP(X74,Feuil1!$C$1:$BL$10,5,FALSE)","v":-8},{"$f":"T74-HLOOKUP(X74,Feuil1!$C$1:$BL$10,6,FALSE)","v":-23},{"$f":"T74-HLOOKUP(X74,Feuil1!$C$1:$BL$10,7,FALSE)","v":-38},{"$f":"T74-HLOOKUP(X74,Feuil1!$C$1:$BL$10,8,FALSE)","v":-53},{"$f":"T74-HLOOKUP(X74,Feuil1!$C$1:$BL$10,9,FALSE)","v":-73},{"$f":"T74-HLOOKUP(X74,Feuil1!$C$1:$BL$10,10,FALSE)","v":-913},null,null,null,null,null,null,"REG +"]
["F","SEST","CAZ",11,375353,"ELHAMDANI","Ouiam",1997,62.2," ASLDD TOULON","F",-34,34,-36,34,49,-51,51,51,85,-39.400000000000006,"REG +",0,{"$f":"IF(I75=\"\",\"\",IF(A75=\"H\",IF(OR(H75=\"SEN\",H75<1995),VLOOKUP(I75,Feuil1!$A$11:$F$29,6),IF(AND(H75>1994,H75<1998),VLOOKUP(I75,Feuil1!$A$11:$F$29,5),IF(AND(H75>1997,H75<2000),VLOOKUP(I75,Feuil1!$A$11:$F$29,4),IF(AND(H75>1999,H75<2002),VLOOKUP(I75,Feuil1!$A$11:$F$29,3),VLOOKUP(I75,Feuil1!$A$11:$F$29,2))))),IF(OR(H75=\"SEN\",H75<1995),VLOOKUP(I75,Feuil1!$G$11:$L$25,6),IF(AND(H75>1994,H75<1998),VLOOKUP(I75,Feuil1!$G$11:$L$25,5),IF(AND(H75>1997,H75<2000),VLOOKUP(I75,Feuil1!$G$11:$L$25,4),IF(AND(H75>1999,H75<2002),VLOOKUP(I75,Feuil1!$G$11:$L$25,3),VLOOKUP(I75,Feuil1!$G$11:$L$25,2)))))))","v":"FJ63"},113.93045443120899,null," ",{"$f":"T75-HLOOKUP(X75,Feuil1!$C$1:$BL$10,2,FALSE)","v":20},{"$f":"T75-HLOOKUP(X75,Feuil1!$C$1:$BL$10,3,FALSE)","v":10},{"$f":"T75-HLOOKUP(X75,Feuil1!$C$1:$BL$10,4,FALSE)","v":0},{"$f":"T75-HLOOKUP(X75,Feuil1!$C$1:$BL$10,5,FALSE)","v":-10},{"$f":"T75-HLOOKUP(X75,Feuil1!$C$1:$BL$10,6,FALSE)","v":-25},{"$f":"T75-HLOOKUP(X75,Feuil1!$C$1:$BL$10,7,FALSE)","v":-40},{"$f":"T75-HLOOKUP(X75,Feuil1!$C$1:$BL$10,8,FALSE)","v":-55},{"$f":"T75-HLOOKUP(X75,Feuil1!$C$1:$BL$10,9,FALSE)","v":-75},{"$f":"T75-HLOOKUP(X75,Feuil1!$C$1:$BL$10,10,FALSE)","v":-915},null,null,null,null,null,null,"REG +"]
["F","DOM","GUA",12,392883,"BRIN","Cindy",1996,63,"AHCS/Pointois","F",30,35,37,37,40,45,48,48,85,-41,"REG +",0,{"$f":"IF(I76=\"\",\"\",IF(A76=\"H\",IF(OR(H76=\"SEN\",H76<1995),VLOOKUP(I76,Feuil1!$A$11:$F$29,6),IF(AND(H76>1994,H76<1998),VLOOKUP(I76,Feuil1!$A$11:$F$29,5),IF(AND(H76>1997,H76<2000),VLOOKUP(I76,Feuil1!$A$11:$F$29,4),IF(AND(H76>1999,H76<2002),VLOOKUP(I76,Feuil1!$A$11:$F$29,3),VLOOKUP(I76,Feuil1!$A$11:$F$29,2))))),IF(OR(H76=\"SEN\",H76<1995),VLOOKUP(I76,Feuil1!$G$11:$L$25,6),IF(AND(H76>1994,H76<1998),VLOOKUP(I76,Feuil1!$G$11:$L$25,5),IF(AND(H76>1997,H76<2000),VLOOKUP(I76,Feuil1!$G$11:$L$25,4),IF(AND(H76>1999,H76<2002),VLOOKUP(I76,Feuil1!$G$11:$L$25,3),VLOOKUP(I76,Feuil1!$G$11:$L$25,2)))))))","v":"FJ63"},112.95802654150714,null," ",{"$f":"T76-HLOOKUP(X76,Feuil1!$C$1:$BL$10,2,FALSE)","v":20},{"$f":"T76-HLOOKUP(X76,Feuil1!$C$1:$BL$10,3,FALSE)","v":10},{"$f":"T76-HLOOKUP(X76,Feuil1!$C$1:$BL$10,4,FALSE)","v":0},{"$f":"T76-HLOOKUP(X76,Feuil1!$C$1:$BL$10,5,FALSE)","v":-10},{"$f":"T76-HLOOKUP(X76,Feuil1!$C$1:$BL$10,6,FALSE)","v":-25},{"$f":"T76-HLOOKUP(X76,Feuil1!$C$1:$BL$10,7,FALSE)","v":-40},{"$f":"T76-HLOOKUP(X76,Feuil1!$C$1:$BL$10,8,FALSE)","v":-55},{"$f":"T76-HLOOKUP(X76,Feuil1!$C$1:$BL$10,9,FALSE)","v":-75},{"$f":"T76-HLOOKUP(X76,Feuil1!$C$1:$BL$10,10,FALSE)","v":-915},null,null,null,null,null,null,"REG +"]
["F","SEST","CAZ",13,392168,"THEOBALD","Coralie",1997,59.1,"ASLDD TOULON","F",27,30,-33,30,35,38,-41,38,68,-50.2,"DEB ",3,{"$f":"IF(I77=\"\",\"\",IF(A77=\"H\",IF(OR(H77=\"SEN\",H77<1995),VLOOKUP(I77,Feuil1!$A$11:$F$29,6),IF(AND(H77>1994,H77<1998),VLOOKUP(I77,Feuil1!$A$11:$F$29,5),IF(AND(H77>1997,H77<2000),VLOOKUP(I77,Feuil1!$A$11:$F$29,4),IF(AND(H77>1999,H77<2002),VLOOKUP(I77,Feuil1!$A$11:$F$29,3),VLOOKUP(I77,Feuil1!$A$11:$F$29,2))))),IF(OR(H77=\"SEN\",H77<1995),VLOOKUP(I77,Feuil1!$G$11:$L$25,6),IF(AND(H77>1994,H77<1998),VLOOKUP(I77,Feuil1!$G$11:$L$25,5),IF(AND(H77>1997,H77<2000),VLOOKUP(I77,Feuil1!$G$11:$L$25,4),IF(AND(H77>1999,H77<2002),VLOOKUP(I77,Feuil1!$G$11:$L$25,3),VLOOKUP(I77,Feuil1!$G$11:$L$25,2)))))))","v":"FJ63"},94.444168295501086,null," ",{"$f":"T77-HLOOKUP(X77,Feuil1!$C$1:$BL$10,2,FALSE)","v":3},{"$f":"T77-HLOOKUP(X77,Feuil1!$C$1:$BL$10,3,FALSE)","v":-7},{"$f":"T77-HLOOKUP(X77,Feuil1!$C$1:$BL$10,4,FALSE)","v":-17},{"$f":"T77-HLOOKUP(X77,Feuil1!$C$1:$BL$10,5,FALSE)","v":-27},{"$f":"T77-HLOOKUP(X77,Feuil1!$C$1:$BL$10,6,FALSE)","v":-42},{"$f":"T77-HLOOKUP(X77,Feuil1!$C$1:$BL$10,7,FALSE)","v":-57},{"$f":"T77-HLOOKUP(X77,Feuil1!$C$1:$BL$10,8,FALSE)","v":-72},{"$f":"T77-HLOOKUP(X77,Feuil1!$C$1:$BL$10,9,FALSE)","v":-92},{"$f":"T77-HLOOKUP(X77,Feuil1!$C$1:$BL$10,10,FALSE)","v":-932},null,null,null,null,null,null,"DEB "]
["F","SEST","RAL",14,379663,"BLAIN","Laurine",1997,58.2,"VALENCE","F",24,26,28,28,34,-36,-38,34,62,-54.400000000000006,"DEB ",-3,{"$f":"IF(I78=\"\",\"\",IF(A78=\"H\",IF(OR(H78=\"SEN\",H78<1995),VLOOKUP(I78,Feuil1!$A$11:$F$29,6),IF(AND(H78>1994,H78<1998),VLOOKUP(I78,Feuil1!$A$11:$F$29,5),IF(AND(H78>1997,H78<2000),VLOOKUP(I78,Feuil1!$A$11:$F$29,4),IF(AND(H78>1999,H78<2002),VLOOKUP(I78,Feuil1!$A$11:$F$29,3),VLOOKUP(I78,Feuil1!$A$11:$F$29,2))))),IF(OR(H78=\"SEN\",H78<1995),VLOOKUP(I78,Feuil1!$G$11:$L$25,6),IF(AND(H78>1994,H78<1998),VLOOKUP(I78,Feuil1!$G$11:$L$25,5),IF(AND(H78>1997,H78<2000),VLOOKUP(I78,Feuil1!$G$11:$L$25,4),IF(AND(H78>1999,H78<2002),VLOOKUP(I78,Feuil1!$G$11:$L$25,3),VLOOKUP(I78,Feuil1!$G$11:$L$25,2)))))))","v":"FJ63"},87.069623183985584,null," ",{"$f":"T78-HLOOKUP(X78,Feuil1!$C$1:$BL$10,2,FALSE)","v":-3},{"$f":"T78-HLOOKUP(X78,Feuil1!$C$1:$BL$10,3,FALSE)","v":-13},{"$f":"T78-HLOOKUP(X78,Feuil1!$C$1:$BL$10,4,FALSE)","v":-23},{"$f":"T78-HLOOKUP(X78,Feuil1!$C$1:$BL$10,5,FALSE)","v":-33},{"$f":"T78-HLOOKUP(X78,Feuil1!$C$1:$BL$10,6,FALSE)","v":-48},{"$f":"T78-HLOOKUP(X78,Feuil1!$C$1:$BL$10,7,FALSE)","v":-63},{"$f":"T78-HLOOKUP(X78,Feuil1!$C$1:$BL$10,8,FALSE)","v":-78},{"$f":"T78-HLOOKUP(X78,Feuil1!$C$1:$BL$10,9,FALSE)","v":-98},{"$f":"T78-HLOOKUP(X78,Feuil1!$C$1:$BL$10,10,FALSE)","v":-938},null,null,null,null,null,null,"DEB "]
["F","SEST","RAL",15,366671,"TARAKU","Rachel",1997,58.95,"VALENCE","F",-27,27,-31,27,32,-35,35,35,62,-55.900000000000006,"DEB ",-3,{"$f":"IF(I79=\"\",\"\",IF(A79=\"H\",IF(OR(H79=\"SEN\",H79<1995),VLOOKUP(I79,Feuil1!$A$11:$F$29,6),IF(AND(H79>1994,H79<1998),VLOOKUP(I79,Feuil1!$A$11:$F$29,5),IF(AND(H79>1997,H79<2000),VLOOKUP(I79,Feuil1!$A$11:$F$29,4),IF(AND(H79>1999,H79<2002),VLOOKUP(I79,Feuil1!$A$11:$F$29,3),VLOOKUP(I79,Feuil1!$A$11:$F$29,2))))),IF(OR(H79=\"SEN\",H79<1995),VLOOKUP(I79,Feuil1!$G$11:$L$25,6),IF(AND(H79>1994,H79<1998),VLOOKUP(I79,Feuil1!$G$11:$L$25,5),IF(AND(H79>1997,H79<2000),VLOOKUP(I79,Feuil1!$G$11:$L$25,4),IF(AND(H79>1999,H79<2002),VLOOKUP(I79,Feuil1!$G$11:$L$25,3),VLOOKUP(I79,Feuil1!$G$11:$L$25,2)))))))","v":"FJ63"},86.267808648219557,null," ",{"$f":"T79-HLOOKUP(X79,Feuil1!$C$1:$BL$10,2,FALSE)","v":-3},{"$f":"T79-HLOOKUP(X79,Feuil1!$C$1:$BL$10,3,FALSE)","v":-13},{"$f":"T79-HLOOKUP(X79,Feuil1!$C$1:$BL$10,4,FALSE)","v":-23},{"$f":"T79-HLOOKUP(X79,Feuil1!$C$1:$BL$10,5,FALSE)","v":-33},{"$f":"T79-HLOOKUP(X79,Feuil1!$C$1:$BL$10,6,FALSE)","v":-48},{"$f":"T79-HLOOKUP(X79,Feuil1!$C$1:$BL$10,7,FALSE)","v":-63},{"$f":"T79-HLOOKUP(X79,Feuil1!$C$1:$BL$10,8,FALSE)","v":-78},{"$f":"T79-HLOOKUP(X79,Feuil1!$C$1:$BL$10,9,FALSE)","v":-98},{"$f":"T79-HLOOKUP(X79,Feuil1!$C$1:$BL$10,10,FALSE)","v":-938},null,null,null,null,null,null,"DEB "]
["F","NE","BOU",16,336127,"COSTA","Charlène",97,61.6,"Olympique Mâcon","F",20,23,-26,23,33,-36,39,39,62,-61.2,"DEB ",-13,{"$f":"IF(I80=\"\",\"\",IF(A80=\"H\",IF(OR(H80=\"SEN\",H80<1995),VLOOKUP(I80,Feuil1!$A$11:$F$29,6),IF(AND(H80>1994,H80<1998),VLOOKUP(I80,Feuil1!$A$11:$F$29,5),IF(AND(H80>1997,H80<2000),VLOOKUP(I80,Feuil1!$A$11:$F$29,4),IF(AND(H80>1999,H80<2002),VLOOKUP(I80,Feuil1!$A$11:$F$29,3),VLOOKUP(I80,Feuil1!$A$11:$F$29,2))))),IF(OR(H80=\"SEN\",H80<1995),VLOOKUP(I80,Feuil1!$G$11:$L$25,6),IF(AND(H80>1994,H80<1998),VLOOKUP(I80,Feuil1!$G$11:$L$25,5),IF(AND(H80>1997,H80<2000),VLOOKUP(I80,Feuil1!$G$11:$L$25,4),IF(AND(H80>1999,H80<2002),VLOOKUP(I80,Feuil1!$G$11:$L$25,3),VLOOKUP(I80,Feuil1!$G$11:$L$25,2)))))))","v":"FS63"},83.651371491634364,null," ",{"$f":"T80-HLOOKUP(X80,Feuil1!$C$1:$BL$10,2,FALSE)","v":-13},{"$f":"T80-HLOOKUP(X80,Feuil1!$C$1:$BL$10,3,FALSE)","v":-23},{"$f":"T80-HLOOKUP(X80,Feuil1!$C$1:$BL$10,4,FALSE)","v":-33},{"$f":"T80-HLOOKUP(X80,Feuil1!$C$1:$BL$10,5,FALSE)","v":-48},{"$f":"T80-HLOOKUP(X80,Feuil1!$C$1:$BL$10,6,FALSE)","v":-63},{"$f":"T80-HLOOKUP(X80,Feuil1!$C$1:$BL$10,7,FALSE)","v":-78},{"$f":"T80-HLOOKUP(X80,Feuil1!$C$1:$BL$10,8,FALSE)","v":-98},{"$f":"T80-HLOOKUP(X80,Feuil1!$C$1:$BL$10,9,FALSE)","v":-118},{"$f":"T80-HLOOKUP(X80,Feuil1!$C$1:$BL$10,10,FALSE)","v":-138},null,null,null,null,null,null,"DEB "]
["F","NE","ALS",17,369423,"JEANNINGROS","HELENE",1997,59.35,"US Wittenheim","F",23,25,-27,25,27,-30,30,30,55,-63.7,"DEB ",-10,{"$f":"IF(I81=\"\",\"\",IF(A81=\"H\",IF(OR(H81=\"SEN\",H81<1995),VLOOKUP(I81,Feuil1!$A$11:$F$29,6),IF(AND(H81>1994,H81<1998),VLOOKUP(I81,Feuil1!$A$11:$F$29,5),IF(AND(H81>1997,H81<2000),VLOOKUP(I81,Feuil1!$A$11:$F$29,4),IF(AND(H81>1999,H81<2002),VLOOKUP(I81,Feuil1!$A$11:$F$29,3),VLOOKUP(I81,Feuil1!$A$11:$F$29,2))))),IF(OR(H81=\"SEN\",H81<1995),VLOOKUP(I81,Feuil1!$G$11:$L$25,6),IF(AND(H81>1994,H81<1998),VLOOKUP(I81,Feuil1!$G$11:$L$25,5),IF(AND(H81>1997,H81<2000),VLOOKUP(I81,Feuil1!$G$11:$L$25,4),IF(AND(H81>1999,H81<2002),VLOOKUP(I81,Feuil1!$G$11:$L$25,3),VLOOKUP(I81,Feuil1!$G$11:$L$25,2)))))))","v":"FJ63"},76.158806949545806,null," ",{"$f":"T81-HLOOKUP(X81,Feuil1!$C$1:$BL$10,2,FALSE)","v":-10},{"$f":"T81-HLOOKUP(X81,Feuil1!$C$1:$BL$10,3,FALSE)","v":-20},{"$f":"T81-HLOOKUP(X81,Feuil1!$C$1:$BL$10,4,FALSE)","v":-30},{"$f":"T81-HLOOKUP(X81,Feuil1!$C$1:$BL$10,5,FALSE)","v":-40},{"$f":"T81-HLOOKUP(X81,Feuil1!$C$1:$BL$10,6,FALSE)","v":-55},{"$f":"T81-HLOOKUP(X81,Feuil1!$C$1:$BL$10,7,FALSE)","v":-70},{"$f":"T81-HLOOKUP(X81,Feuil1!$C$1:$BL$10,8,FALSE)","v":-85},{"$f":"T81-HLOOKUP(X81,Feuil1!$C$1:$BL$10,9,FALSE)","v":-105},{"$f":"T81-HLOOKUP(X81,Feuil1!$C$1:$BL$10,10,FALSE)","v":-945},null,null,null,null,null,null,"DEB "]
[null,null,null,null,null,null,null,null,null,null,null,null,null,null,null,null,null,null,null,null,null,null,null,null,null,null," ",{"$f":"T82-HLOOKUP(X82,Feuil1!$C$1:$BL$10,2,FALSE)","v":{"$error":"#N/A"}},{"$f":"T82-HLOOKUP(X82,Feuil1!$C$1:$BL$10,3,FALSE)","v":{"$error":"#N/A"}},{"$f":"T82-HLOOKUP(X82,Feuil1!$C$1:$BL$10,4,FALSE)","v":{"$error":"#N/A"}},{"$f":"T82-HLOOKUP(X82,Feuil1!$C$1:$BL$10,5,FALSE)","v":{"$error":"#N/A"}},{"$f":"T82-HLOOKUP(X82,Feuil1!$C$1:$BL$10,6,FALSE)","v":{"$error":"#N/A"}},{"$f":"T82-HLOOKUP(X82,Feuil1!$C$1:$BL$10,7,FALSE)","v":{"$error":"#N/A"}},{"$f":"T82-HLOOKUP(X82,Feuil1!$C$1:$BL$10,8,FALSE)","v":{"$error":"#N/A"}},{"$f":"T82-HLOOKUP(X82,Feuil1!$C$1:$BL$10,9,FALSE)","v":{"$error":"#N/A"}},{"$f":"T82-HLOOKUP(X82,Feuil1!$C$1:$BL$10,10,FALSE)","v":{"$error":"#N/A"}},null,null,null,null,null,null,{"$f":"IF(AJ82>=0,$AJ$4,IF(AI82>=0,$AI$4,IF(AH82>=0,$AH$4,IF(AG82>=0,$AG$4,IF(AF82>=0,$AF$4,IF(AE82>=0,$AE$4,IF(AD82>=0,$AD$4,IF(AC82>=0,$AC$4,$AB$4))))))))","v":{"$error":"#N/A"}}]
["F","DOM","GUA",1,183203,"GRAVA","Naomi",1996,68.8,"AHCS/Pointois","F",65,70,72,{"$f":"IF(H83=\"\",\"\",IF(MAXA(L83:N83)<=0,0,MAXA(L83:N83)))","v":72},80,85,-89,{"$f":"IF(H83=\"\",\"\",IF(MAXA(P83:R83)<=0,0,MAXA(P83:R83)))","v":85},{"$f":"IF(H83=\"\",\"\",IF(OR(O83=0,S83=0),0,O83+S83))","v":157},{"$f":"T83-I83*2","v":19.400000000000006},{"$f":"IF(H83=\"\",\"\",AQ83)","v":"INTB +"},{"$f":"IF(AJ83>=0,AJ83,IF(AI83>=0,AI83,IF(AH83>=0,AH83,IF(AG83>=0,AG83,IF(AF83>=0,AF83,IF(AE83>=0,AE83,IF(AD83>=0,AD83,IF(AC83>=0,AC83,AB83))))))))","v":7},{"$f":"IF(I83=\"\",\"\",IF(A83=\"H\",IF(OR(H83=\"SEN\",H83<1995),VLOOKUP(I83,Feuil1!$A$11:$F$29,6),IF(AND(H83>1994,H83<1998),VLOOKUP(I83,Feuil1!$A$11:$F$29,5),IF(AND(H83>1997,H83<2000),VLOOKUP(I83,Feuil1!$A$11:$F$29,4),IF(AND(H83>1999,H83<2002),VLOOKUP(I83,Feuil1!$A$11:$F$29,3),VLOOKUP(I83,Feuil1!$A$11:$F$29,2))))),IF(OR(H83=\"SEN\",H83<1995),VLOOKUP(I83,Feuil1!$G$11:$L$25,6),IF(AND(H83>1994,H83<1998),VLOOKUP(I83,Feuil1!$G$11:$L$25,5),IF(AND(H83>1997,H83<2000),VLOOKUP(I83,Feuil1!$G$11:$L$25,4),IF(AND(H83>1999,H83<2002),VLOOKUP(I83,Feuil1!$G$11:$L$25,3),VLOOKUP(I83,Feuil1!$G$11:$L$25,2)))))))","v":"FJ69"},{"$f":"IF(I83=\"\",\"\",IF(A83=\"H\",10^(0.794358141*LOG(I83/174.393)^2)*T83,IF(A83=\"F\",10^(0.89726074*LOG(I83/148.026)^2)*T83,\"\")))","v":197.35421272392091},null," ",{"$f":"T83-HLOOKUP(X83,Feuil1!$C$1:$BL$10,2,FALSE)","v":87},{"$f":"T83-HLOOKUP(X83,Feuil1!$C$1:$BL$10,3,FALSE)","v":77},{"$f":"T83-HLOOKUP(X83,Feuil1!$C$1:$BL$10,4,FALSE)","v":67},{"$f":"T83-HLOOKUP(X83,Feuil1!$C$1:$BL$10,5,FALSE)","v":52},{"$f":"T83-HLOOKUP(X83,Feuil1!$C$1:$BL$10,6,FALSE)","v":37},{"$f":"T83-HLOOKUP(X83,Feuil1!$C$1:$BL$10,7,FALSE)","v":22},{"$f":"T83-HLOOKUP(X83,Feuil1!$C$1:$BL$10,8,FALSE)","v":7},{"$f":"T83-HLOOKUP(X83,Feuil1!$C$1:$BL$10,9,FALSE)","v":-13},{"$f":"T83-HLOOKUP(X83,Feuil1!$C$1:$BL$10,10,FALSE)","v":-843},null,null,null,null,null,null,{"$f":"IF(AJ83>=0,$AJ$4,IF(AI83>=0,$AI$4,IF(AH83>=0,$AH$4,IF(AG83>=0,$AG$4,IF(AF83>=0,$AF$4,IF(AE83>=0,$AE$4,IF(AD83>=0,$AD$4,IF(AC83>=0,$AC$4,$AB$4))))))))","v":"INTB +"}]
["F","NE","ALS",2,298196,"CERDAN","MARGOT",1997,65.7,"US Wittenheim","F",53,57,-60,57,73,-77,77,77,134,2.5999999999999943,"FED +",14,{"$f":"IF(I84=\"\",\"\",IF(A84=\"H\",IF(OR(H84=\"SEN\",H84<1995),VLOOKUP(I84,Feuil1!$A$11:$F$29,6),IF(AND(H84>1994,H84<1998),VLOOKUP(I84,Feuil1!$A$11:$F$29,5),IF(AND(H84>1997,H84<2000),VLOOKUP(I84,Feuil1!$A$11:$F$29,4),IF(AND(H84>1999,H84<2002),VLOOKUP(I84,Feuil1!$A$11:$F$29,3),VLOOKUP(I84,Feuil1!$A$11:$F$29,2))))),IF(OR(H84=\"SEN\",H84<1995),VLOOKUP(I84,Feuil1!$G$11:$L$25,6),IF(AND(H84>1994,H84<1998),VLOOKUP(I84,Feuil1!$G$11:$L$25,5),IF(AND(H84>1997,H84<2000),VLOOKUP(I84,Feuil1!$G$11:$L$25,4),IF(AND(H84>1999,H84<2002),VLOOKUP(I84,Feuil1!$G$11:$L$25,3),VLOOKUP(I84,Feuil1!$G$11:$L$25,2)))))))","v":"FJ69"},173.28763704939607,null," ",{"$f":"T84-HLOOKUP(X84,Feuil1!$C$1:$BL$10,2,FALSE)","v":64},{"$f":"T84-HLOOKUP(X84,Feuil1!$C$1:$BL$10,3,FALSE)","v":54},{"$f":"T84-HLOOKUP(X84,Feuil1!$C$1:$BL$10,4,FALSE)","v":44},{"$f":"T84-HLOOKUP(X84,Feuil1!$C$1:$BL$10,5,FALSE)","v":29},{"$f":"T84-HLOOKUP(X84,Feuil1!$C$1:$BL$10,6,FALSE)","v":14},{"$f":"T84-HLOOKUP(X84,Feuil1!$C$1:$BL$10,7,FALSE)","v":-1},{"$f":"T84-HLOOKUP(X84,Feuil1!$C$1:$BL$10,8,FALSE)","v":-16},{"$f":"T84-HLOOKUP(X84,Feuil1!$C$1:$BL$10,9,FALSE)","v":-36},{"$f":"T84-HLOOKUP(X84,Feuil1!$C$1:$BL$10,10,FALSE)","v":-866},null,null,null,null,null,null,"FED +"]
["F","NE","ALS",3,348083,"LEIBUNDGUTH","LISA",1997,68.099999999999994,"ASI Avenir HM","F",-54,-54,54,54,74,77,-79,77,131,-5.1999999999999886,"FED +",11,{"$f":"IF(I85=\"\",\"\",IF(A85=\"H\",IF(OR(H85=\"SEN\",H85<1995),VLOOKUP(I85,Feuil1!$A$11:$F$29,6),IF(AND(H85>1994,H85<1998),VLOOKUP(I85,Feuil1!$A$11:$F$29,5),IF(AND(H85>1997,H85<2000),VLOOKUP(I85,Feuil1!$A$11:$F$29,4),IF(AND(H85>1999,H85<2002),VLOOKUP(I85,Feuil1!$A$11:$F$29,3),VLOOKUP(I85,Feuil1!$A$11:$F$29,2))))),IF(OR(H85=\"SEN\",H85<1995),VLOOKUP(I85,Feuil1!$G$11:$L$25,6),IF(AND(H85>1994,H85<1998),VLOOKUP(I85,Feuil1!$G$11:$L$25,5),IF(AND(H85>1997,H85<2000),VLOOKUP(I85,Feuil1!$G$11:$L$25,4),IF(AND(H85>1999,H85<2002),VLOOKUP(I85,Feuil1!$G$11:$L$25,3),VLOOKUP(I85,Feuil1!$G$11:$L$25,2)))))))","v":"FJ69"},165.68674871774004,null," ",{"$f":"T85-HLOOKUP(X85,Feuil1!$C$1:$BL$10,2,FALSE)","v":61},{"$f":"T85-HLOOKUP(X85,Feuil1!$C$1:$BL$10,3,FALSE)","v":51},{"$f":"T85-HLOOKUP(X85,Feuil1!$C$1:$BL$10,4,FALSE)","v":41},{"$f":"T85-HLOOKUP(X85,Feuil1!$C$1:$BL$10,5,FALSE)","v":26},{"$f":"T85-HLOOKUP(X85,Feuil1!$C$1:$BL$10,6,FALSE)","v":11},{"$f":"T85-HLOOKUP(X85,Feuil1!$C$1:$BL$10,7,FALSE)","v":-4},{"$f":"T85-HLOOKUP(X85,Feuil1!$C$1:$BL$10,8,FALSE)","v":-19},{"$f":"T85-HLOOKUP(X85,Feuil1!$C$1:$BL$10,9,FALSE)","v":-39},{"$f":"T85-HLOOKUP(X85,Feuil1!$C$1:$BL$10,10,FALSE)","v":-869},null,null,null,null,null,null,"FED +"]
["F","SEST","CAZ",4,231757,"RONCO","Emmanuelle",1995,65,"ES VILL LOUBET","F",51,55,57,57,60,63,66,66,123,-7,"FED +",3,{"$f":"IF(I86=\"\",\"\",IF(A86=\"H\",IF(OR(H86=\"SEN\",H86<1995),VLOOKUP(I86,Feuil1!$A$11:$F$29,6),IF(AND(H86>1994,H86<1998),VLOOKUP(I86,Feuil1!$A$11:$F$29,5),IF(AND(H86>1997,H86<2000),VLOOKUP(I86,Feuil1!$A$11:$F$29,4),IF(AND(H86>1999,H86<2002),VLOOKUP(I86,Feuil1!$A$11:$F$29,3),VLOOKUP(I86,Feuil1!$A$11:$F$29,2))))),IF(OR(H86=\"SEN\",H86<1995),VLOOKUP(I86,Feuil1!$G$11:$L$25,6),IF(AND(H86>1994,H86<1998),VLOOKUP(I86,Feuil1!$G$11:$L$25,5),IF(AND(H86>1997,H86<2000),VLOOKUP(I86,Feuil1!$G$11:$L$25,4),IF(AND(H86>1999,H86<2002),VLOOKUP(I86,Feuil1!$G$11:$L$25,3),VLOOKUP(I86,Feuil1!$G$11:$L$25,2)))))))","v":"FJ69"},160.15197727306952,null," ",{"$f":"T86-HLOOKUP(X86,Feuil1!$C$1:$BL$10,2,FALSE)","v":53},{"$f":"T86-HLOOKUP(X86,Feuil1!$C$1:$BL$10,3,FALSE)","v":43},{"$f":"T86-HLOOKUP(X86,Feuil1!$C$1:$BL$10,4,FALSE)","v":33},{"$f":"T86-HLOOKUP(X86,Feuil1!$C$1:$BL$10,5,FALSE)","v":18},{"$f":"T86-HLOOKUP(X86,Feuil1!$C$1:$BL$10,6,FALSE)","v":3},{"$f":"T86-HLOOKUP(X86,Feuil1!$C$1:$BL$10,7,FALSE)","v":-12},{"$f":"T86-HLOOKUP(X86,Feuil1!$C$1:$BL$10,8,FALSE)","v":-27},{"$f":"T86-HLOOKUP(X86,Feuil1!$C$1:$BL$10,9,FALSE)","v":-47},{"$f":"T86-HLOOKUP(X86,Feuil1!$C$1:$BL$10,10,FALSE)","v":-877},null,null,null,null,null,null,"FED +"]
["F","SO","MPY",5,253453,"JOURNET","Anaïs",1995,65.3,"FIGEAC HC","F",45,50,-55,50,67,70,-73,70,120,-10.599999999999994,"FED +",0,{"$f":"IF(I87=\"\",\"\",IF(A87=\"H\",IF(OR(H87=\"SEN\",H87<1995),VLOOKUP(I87,Feuil1!$A$11:$F$29,6),IF(AND(H87>1994,H87<1998),VLOOKUP(I87,Feuil1!$A$11:$F$29,5),IF(AND(H87>1997,H87<2000),VLOOKUP(I87,Feuil1!$A$11:$F$29,4),IF(AND(H87>1999,H87<2002),VLOOKUP(I87,Feuil1!$A$11:$F$29,3),VLOOKUP(I87,Feuil1!$A$11:$F$29,2))))),IF(OR(H87=\"SEN\",H87<1995),VLOOKUP(I87,Feuil1!$G$11:$L$25,6),IF(AND(H87>1994,H87<1998),VLOOKUP(I87,Feuil1!$G$11:$L$25,5),IF(AND(H87>1997,H87<2000),VLOOKUP(I87,Feuil1!$G$11:$L$25,4),IF(AND(H87>1999,H87<2002),VLOOKUP(I87,Feuil1!$G$11:$L$25,3),VLOOKUP(I87,Feuil1!$G$11:$L$25,2)))))))","v":"FJ69"},155.78632342018841,null," ",{"$f":"T87-HLOOKUP(X87,Feuil1!$C$1:$BL$10,2,FALSE)","v":50},{"$f":"T87-HLOOKUP(X87,Feuil1!$C$1:$BL$10,3,FALSE)","v":40},{"$f":"T87-HLOOKUP(X87,Feuil1!$C$1:$BL$10,4,FALSE)","v":30},{"$f":"T87-HLOOKUP(X87,Feuil1!$C$1:$BL$10,5,FALSE)","v":15},{"$f":"T87-HLOOKUP(X87,Feuil1!$C$1:$BL$10,6,FALSE)","v":0},{"$f":"T87-HLOOKUP(X87,Feuil1!$C$1:$BL$10,7,FALSE)","v":-15},{"$f":"T87-HLOOKUP(X87,Feuil1!$C$1:$BL$10,8,FALSE)","v":-30},{"$f":"T87-HLOOKUP(X87,Feuil1!$C$1:$BL$10,9,FALSE)","v":-50},{"$f":"T87-HLOOKUP(X87,Feuil1!$C$1:$BL$10,10,FALSE)","v":-880},null,null,null,null,null,null,"FED +"]
["F","N","IDF",6,326999,"BIFANO","ELENA",1997,63.6,"BLANC-MESNIL","F",40,45,49,49,53,58,-60,58,107,-20.200000000000003,"IRG +",2,{"$f":"IF(I88=\"\",\"\",IF(A88=\"H\",IF(OR(H88=\"SEN\",H88<1995),VLOOKUP(I88,Feuil1!$A$11:$F$29,6),IF(AND(H88>1994,H88<1998),VLOOKUP(I88,Feuil1!$A$11:$F$29,5),IF(AND(H88>1997,H88<2000),VLOOKUP(I88,Feuil1!$A$11:$F$29,4),IF(AND(H88>1999,H88<2002),VLOOKUP(I88,Feuil1!$A$11:$F$29,3),VLOOKUP(I88,Feuil1!$A$11:$F$29,2))))),IF(OR(H88=\"SEN\",H88<1995),VLOOKUP(I88,Feuil1!$G$11:$L$25,6),IF(AND(H88>1994,H88<1998),VLOOKUP(I88,Feuil1!$G$11:$L$25,5),IF(AND(H88>1997,H88<2000),VLOOKUP(I88,Feuil1!$G$11:$L$25,4),IF(AND(H88>1999,H88<2002),VLOOKUP(I88,Feuil1!$G$11:$L$25,3),VLOOKUP(I88,Feuil1!$G$11:$L$25,2)))))))","v":"FJ69"},141.30466387973715,null," ",{"$f":"T88-HLOOKUP(X88,Feuil1!$C$1:$BL$10,2,FALSE)","v":37},{"$f":"T88-HLOOKUP(X88,Feuil1!$C$1:$BL$10,3,FALSE)","v":27},{"$f":"T88-HLOOKUP(X88,Feuil1!$C$1:$BL$10,4,FALSE)","v":17},{"$f":"T88-HLOOKUP(X88,Feuil1!$C$1:$BL$10,5,FALSE)","v":2},{"$f":"T88-HLOOKUP(X88,Feuil1!$C$1:$BL$10,6,FALSE)","v":-13},{"$f":"T88-HLOOKUP(X88,Feuil1!$C$1:$BL$10,7,FALSE)","v":-28},{"$f":"T88-HLOOKUP(X88,Feuil1!$C$1:$BL$10,8,FALSE)","v":-43},{"$f":"T88-HLOOKUP(X88,Feuil1!$C$1:$BL$10,9,FALSE)","v":-63},{"$f":"T88-HLOOKUP(X88,Feuil1!$C$1:$BL$10,10,FALSE)","v":-893},null,null,null,null,null,null,"IRG +"]
["F","SO","AQU",7,332615,"SUBE","Julie",1997,66.569999999999993,"ASOA Aquitaine","F",40,45,-47,45,50,55,-59,55,100,-33.139999999999986,"REG +",10,{"$f":"IF(I89=\"\",\"\",IF(A89=\"H\",IF(OR(H89=\"SEN\",H89<1995),VLOOKUP(I89,Feuil1!$A$11:$F$29,6),IF(AND(H89>1994,H89<1998),VLOOKUP(I89,Feuil1!$A$11:$F$29,5),IF(AND(H89>1997,H89<2000),VLOOKUP(I89,Feuil1!$A$11:$F$29,4),IF(AND(H89>1999,H89<2002),VLOOKUP(I89,Feuil1!$A$11:$F$29,3),VLOOKUP(I89,Feuil1!$A$11:$F$29,2))))),IF(OR(H89=\"SEN\",H89<1995),VLOOKUP(I89,Feuil1!$G$11:$L$25,6),IF(AND(H89>1994,H89<1998),VLOOKUP(I89,Feuil1!$G$11:$L$25,5),IF(AND(H89>1997,H89<2000),VLOOKUP(I89,Feuil1!$G$11:$L$25,4),IF(AND(H89>1999,H89<2002),VLOOKUP(I89,Feuil1!$G$11:$L$25,3),VLOOKUP(I89,Feuil1!$G$11:$L$25,2)))))))","v":"FJ69"},128.25529059644433,null," ",{"$f":"T89-HLOOKUP(X89,Feuil1!$C$1:$BL$10,2,FALSE)","v":30},{"$f":"T89-HLOOKUP(X89,Feuil1!$C$1:$BL$10,3,FALSE)","v":20},{"$f":"T89-HLOOKUP(X89,Feuil1!$C$1:$BL$10,4,FALSE)","v":10},{"$f":"T89-HLOOKUP(X89,Feuil1!$C$1:$BL$10,5,FALSE)","v":-5},{"$f":"T89-HLOOKUP(X89,Feuil1!$C$1:$BL$10,6,FALSE)","v":-20},{"$f":"T89-HLOOKUP(X89,Feuil1!$C$1:$BL$10,7,FALSE)","v":-35},{"$f":"T89-HLOOKUP(X89,Feuil1!$C$1:$BL$10,8,FALSE)","v":-50},{"$f":"T89-HLOOKUP(X89,Feuil1!$C$1:$BL$10,9,FALSE)","v":-70},{"$f":"T89-HLOOKUP(X89,Feuil1!$C$1:$BL$10,10,FALSE)","v":-900},null,null,null,null,null,null,"REG +"]
["F","SEST","RAL",8,356024,"PARENTI","Elora",1995,63.5,"CH Arbresle","F",-40,40,-44,40,-55,56,-63,56,96,-31,"REG +",6,{"$f":"IF(I90=\"\",\"\",IF(A90=\"H\",IF(OR(H90=\"SEN\",H90<1995),VLOOKUP(I90,Feuil1!$A$11:$F$29,6),IF(AND(H90>1994,H90<1998),VLOOKUP(I90,Feuil1!$A$11:$F$29,5),IF(AND(H90>1997,H90<2000),VLOOKUP(I90,Feuil1!$A$11:$F$29,4),IF(AND(H90>1999,H90<2002),VLOOKUP(I90,Feuil1!$A$11:$F$29,3),VLOOKUP(I90,Feuil1!$A$11:$F$29,2))))),IF(OR(H90=\"SEN\",H90<1995),VLOOKUP(I90,Feuil1!$G$11:$L$25,6),IF(AND(H90>1994,H90<1998),VLOOKUP(I90,Feuil1!$G$11:$L$25,5),IF(AND(H90>1997,H90<2000),VLOOKUP(I90,Feuil1!$G$11:$L$25,4),IF(AND(H90>1999,H90<2002),VLOOKUP(I90,Feuil1!$G$11:$L$25,3),VLOOKUP(I90,Feuil1!$G$11:$L$25,2)))))))","v":"FJ69"},126.90954828135125,null," ",{"$f":"T90-HLOOKUP(X90,Feuil1!$C$1:$BL$10,2,FALSE)","v":26},{"$f":"T90-HLOOKUP(X90,Feuil1!$C$1:$BL$10,3,FALSE)","v":16},{"$f":"T90-HLOOKUP(X90,Feuil1!$C$1:$BL$10,4,FALSE)","v":6},{"$f":"T90-HLOOKUP(X90,Feuil1!$C$1:$BL$10,5,FALSE)","v":-9},{"$f":"T90-HLOOKUP(X90,Feuil1!$C$1:$BL$10,6,FALSE)","v":-24},{"$f":"T90-HLOOKUP(X90,Feuil1!$C$1:$BL$10,7,FALSE)","v":-39},{"$f":"T90-HLOOKUP(X90,Feuil1!$C$1:$BL$10,8,FALSE)","v":-54},{"$f":"T90-HLOOKUP(X90,Feuil1!$C$1:$BL$10,9,FALSE)","v":-74},{"$f":"T90-HLOOKUP(X90,Feuil1!$C$1:$BL$10,10,FALSE)","v":-904},null,null,null,null,null,null,"REG +"]
["F","SO","AQU",9,300660,"DARMON","MELODIE",1997,64.150000000000006,"BORDEAUX ASPOM","F",33,35,37,37,52,-55,55,55,92,-36.300000000000011,"REG +",2,{"$f":"IF(I91=\"\",\"\",IF(A91=\"H\",IF(OR(H91=\"SEN\",H91<1995),VLOOKUP(I91,Feuil1!$A$11:$F$29,6),IF(AND(H91>1994,H91<1998),VLOOKUP(I91,Feuil1!$A$11:$F$29,5),IF(AND(H91>1997,H91<2000),VLOOKUP(I91,Feuil1!$A$11:$F$29,4),IF(AND(H91>1999,H91<2002),VLOOKUP(I91,Feuil1!$A$11:$F$29,3),VLOOKUP(I91,Feuil1!$A$11:$F$29,2))))),IF(OR(H91=\"SEN\",H91<1995),VLOOKUP(I91,Feuil1!$G$11:$L$25,6),IF(AND(H91>1994,H91<1998),VLOOKUP(I91,Feuil1!$G$11:$L$25,5),IF(AND(H91>1997,H91<2000),VLOOKUP(I91,Feuil1!$G$11:$L$25,4),IF(AND(H91>1999,H91<2002),VLOOKUP(I91,Feuil1!$G$11:$L$25,3),VLOOKUP(I91,Feuil1!$G$11:$L$25,2)))))))","v":"FJ69"},120.81227655073607,null," ",{"$f":"T91-HLOOKUP(X91,Feuil1!$C$1:$BL$10,2,FALSE)","v":22},{"$f":"T91-HLOOKUP(X91,Feuil1!$C$1:$BL$10,3,FALSE)","v":12},{"$f":"T91-HLOOKUP(X91,Feuil1!$C$1:$BL$10,4,FALSE)","v":2},{"$f":"T91-HLOOKUP(X91,Feuil1!$C$1:$BL$10,5,FALSE)","v":-13},{"$f":"T91-HLOOKUP(X91,Feuil1!$C$1:$BL$10,6,FALSE)","v":-28},{"$f":"T91-HLOOKUP(X91,Feuil1!$C$1:$BL$10,7,FALSE)","v":-43},{"$f":"T91-HLOOKUP(X91,Feuil1!$C$1:$BL$10,8,FALSE)","v":-58},{"$f":"T91-HLOOKUP(X91,Feuil1!$C$1:$BL$10,9,FALSE)","v":-78},{"$f":"T91-HLOOKUP(X91,Feuil1!$C$1:$BL$10,10,FALSE)","v":-908},null,null,null,null,null,null,"REG +"]
["F","N","PIC",10,387839,"PADIEU","Eléonore",1995,65.599999999999994,"La Ferté Milon CMHM","F",30,33,-35,33,40,43,46,46,79,-52.199999999999989,"DEB ",9,{"$f":"IF(I92=\"\",\"\",IF(A92=\"H\",IF(OR(H92=\"SEN\",H92<1995),VLOOKUP(I92,Feuil1!$A$11:$F$29,6),IF(AND(H92>1994,H92<1998),VLOOKUP(I92,Feuil1!$A$11:$F$29,5),IF(AND(H92>1997,H92<2000),VLOOKUP(I92,Feuil1!$A$11:$F$29,4),IF(AND(H92>1999,H92<2002),VLOOKUP(I92,Feuil1!$A$11:$F$29,3),VLOOKUP(I92,Feuil1!$A$11:$F$29,2))))),IF(OR(H92=\"SEN\",H92<1995),VLOOKUP(I92,Feuil1!$G$11:$L$25,6),IF(AND(H92>1994,H92<1998),VLOOKUP(I92,Feuil1!$G$11:$L$25,5),IF(AND(H92>1997,H92<2000),VLOOKUP(I92,Feuil1!$G$11:$L$25,4),IF(AND(H92>1999,H92<2002),VLOOKUP(I92,Feuil1!$G$11:$L$25,3),VLOOKUP(I92,Feuil1!$G$11:$L$25,2)))))))","v":"FJ69"},102.26076853743477,null," ",{"$f":"T92-HLOOKUP(X92,Feuil1!$C$1:$BL$10,2,FALSE)","v":9},{"$f":"T92-HLOOKUP(X92,Feuil1!$C$1:$BL$10,3,FALSE)","v":-1},{"$f":"T92-HLOOKUP(X92,Feuil1!$C$1:$BL$10,4,FALSE)","v":-11},{"$f":"T92-HLOOKUP(X92,Feuil1!$C$1:$BL$10,5,FALSE)","v":-26},{"$f":"T92-HLOOKUP(X92,Feuil1!$C$1:$BL$10,6,FALSE)","v":-41},{"$f":"T92-HLOOKUP(X92,Feuil1!$C$1:$BL$10,7,FALSE)","v":-56},{"$f":"T92-HLOOKUP(X92,Feuil1!$C$1:$BL$10,8,FALSE)","v":-71},{"$f":"T92-HLOOKUP(X92,Feuil1!$C$1:$BL$10,9,FALSE)","v":-91},{"$f":"T92-HLOOKUP(X92,Feuil1!$C$1:$BL$10,10,FALSE)","v":-921},null,null,null,null,null,null,"DEB "]
[null,null,null,null,null,null,null,null,null,null,null,null,null,null,null,null,null,null,null,null,null,null,null,null,null,null," ",{"$f":"T93-HLOOKUP(X93,Feuil1!$C$1:$BL$10,2,FALSE)","v":{"$error":"#N/A"}},{"$f":"T93-HLOOKUP(X93,Feuil1!$C$1:$BL$10,3,FALSE)","v":{"$error":"#N/A"}},{"$f":"T93-HLOOKUP(X93,Feuil1!$C$1:$BL$10,4,FALSE)","v":{"$error":"#N/A"}},{"$f":"T93-HLOOKUP(X93,Feuil1!$C$1:$BL$10,5,FALSE)","v":{"$error":"#N/A"}},{"$f":"T93-HLOOKUP(X93,Feuil1!$C$1:$BL$10,6,FALSE)","v":{"$error":"#N/A"}},{"$f":"T93-HLOOKUP(X93,Feuil1!$C$1:$BL$10,7,FALSE)","v":{"$error":"#N/A"}},{"$f":"T93-HLOOKUP(X93,Feuil1!$C$1:$BL$10,8,FALSE)","v":{"$error":"#N/A"}},{"$f":"T93-HLOOKUP(X93,Feuil1!$C$1:$BL$10,9,FALSE)","v":{"$error":"#N/A"}},{"$f":"T93-HLOOKUP(X93,Feuil1!$C$1:$BL$10,10,FALSE)","v":{"$error":"#N/A"}},null,null,null,null,null,null,{"$f":"IF(AJ93>=0,$AJ$4,IF(AI93>=0,$AI$4,IF(AH93>=0,$AH$4,IF(AG93>=0,$AG$4,IF(AF93>=0,$AF$4,IF(AE93>=0,$AE$4,IF(AD93>=0,$AD$4,IF(AC93>=0,$AC$4,$AB$4))))))))","v":{"$error":"#N/A"}}]
["F","DOM","GUA",1,183203,"GRAVA","Naomi",1996,70,"AHCS/Pointois","F",65,70,74,{"$f":"IF(H94=\"\",\"\",IF(MAXA(L94:N94)<=0,0,MAXA(L94:N94)))","v":74},85,90,-92,{"$f":"IF(H94=\"\",\"\",IF(MAXA(P94:R94)<=0,0,MAXA(P94:R94)))","v":90},{"$f":"IF(H94=\"\",\"\",IF(OR(O94=0,S94=0),0,O94+S94))","v":164},{"$f":"T94-I94*2","v":24},{"$f":"IF(H94=\"\",\"\",AQ94)","v":"INTB +"},{"$f":"IF(AJ94>=0,AJ94,IF(AI94>=0,AI94,IF(AH94>=0,AH94,IF(AG94>=0,AG94,IF(AF94>=0,AF94,IF(AE94>=0,AE94,IF(AD94>=0,AD94,IF(AC94>=0,AC94,AB94))))))))","v":4},{"$f":"IF(I94=\"\",\"\",IF(A94=\"H\",IF(OR(H94=\"SEN\",H94<1995),VLOOKUP(I94,Feuil1!$A$11:$F$29,6),IF(AND(H94>1994,H94<1998),VLOOKUP(I94,Feuil1!$A$11:$F$29,5),IF(AND(H94>1997,H94<2000),VLOOKUP(I94,Feuil1!$A$11:$F$29,4),IF(AND(H94>1999,H94<2002),VLOOKUP(I94,Feuil1!$A$11:$F$29,3),VLOOKUP(I94,Feuil1!$A$11:$F$29,2))))),IF(OR(H94=\"SEN\",H94<1995),VLOOKUP(I94,Feuil1!$G$11:$L$25,6),IF(AND(H94>1994,H94<1998),VLOOKUP(I94,Feuil1!$G$11:$L$25,5),IF(AND(H94>1997,H94<2000),VLOOKUP(I94,Feuil1!$G$11:$L$25,4),IF(AND(H94>1999,H94<2002),VLOOKUP(I94,Feuil1!$G$11:$L$25,3),VLOOKUP(I94,Feuil1!$G$11:$L$25,2)))))))","v":"FJ75"},{"$f":"IF(I94=\"\",\"\",IF(A94=\"H\",10^(0.794358141*LOG(I94/174.393)^2)*T94,IF(A94=\"F\",10^(0.89726074*LOG(I94/148.026)^2)*T94,\"\")))","v":204.05959335039677},null," ",{"$f":"T94-HLOOKUP(X94,Feuil1!$C$1:$BL$10,2,FALSE)","v":84},{"$f":"T94-HLOOKUP(X94,Feuil1!$C$1:$BL$10,3,FALSE)","v":69},{"$f":"T94-HLOOKUP(X94,Feuil1!$C$1:$BL$10,4,FALSE)","v":59},{"$f":"T94-HLOOKUP(X94,Feuil1!$C$1:$BL$10,5,FALSE)","v":49},{"$f":"T94-HLOOKUP(X94,Feuil1!$C$1:$BL$10,6,FALSE)","v":34},{"$f":"T94-HLOOKUP(X94,Feuil1!$C$1:$BL$10,7,FALSE)","v":19},{"$f":"T94-HLOOKUP(X94,Feuil1!$C$1:$BL$10,8,FALSE)","v":4},{"$f":"T94-HLOOKUP(X94,Feuil1!$C$1:$BL$10,9,FALSE)","v":-16},{"$f":"T94-HLOOKUP(X94,Feuil1!$C$1:$BL$10,10,FALSE)","v":-836},null,null,null,null,null,null,{"$f":"IF(AJ94>=0,$AJ$4,IF(AI94>=0,$AI$4,IF(AH94>=0,$AH$4,IF(AG94>=0,$AG$4,IF(AF94>=0,$AF$4,IF(AE94>=0,$AE$4,IF(AD94>=0,$AD$4,IF(AC94>=0,$AC$4,$AB$4))))))))","v":"INTB +"}]
["F","DOM","GUA",2,212730,"ROSAN","Kysia",1996,74.7,"AHCS/Pointois","F",60,65,67,67,80,85,-90,85,152,2.5999999999999943,"NAT +",7,{"$f":"IF(I95=\"\",\"\",IF(A95=\"H\",IF(OR(H95=\"SEN\",H95<1995),VLOOKUP(I95,Feuil1!$A$11:$F$29,6),IF(AND(H95>1994,H95<1998),VLOOKUP(I95,Feuil1!$A$11:$F$29,5),IF(AND(H95>1997,H95<2000),VLOOKUP(I95,Feuil1!$A$11:$F$29,4),IF(AND(H95>1999,H95<2002),VLOOKUP(I95,Feuil1!$A$11:$F$29,3),VLOOKUP(I95,Feuil1!$A$11:$F$29,2))))),IF(OR(H95=\"SEN\",H95<1995),VLOOKUP(I95,Feuil1!$G$11:$L$25,6),IF(AND(H95>1994,H95<1998),VLOOKUP(I95,Feuil1!$G$11:$L$25,5),IF(AND(H95>1997,H95<2000),VLOOKUP(I95,Feuil1!$G$11:$L$25,4),IF(AND(H95>1999,H95<2002),VLOOKUP(I95,Feuil1!$G$11:$L$25,3),VLOOKUP(I95,Feuil1!$G$11:$L$25,2)))))))","v":"FJ75"},182.38929118396118,null," ",{"$f":"T95-HLOOKUP(X95,Feuil1!$C$1:$BL$10,2,FALSE)","v":72},{"$f":"T95-HLOOKUP(X95,Feuil1!$C$1:$BL$10,3,FALSE)","v":57},{"$f":"T95-HLOOKUP(X95,Feuil1!$C$1:$BL$10,4,FALSE)","v":47},{"$f":"T95-HLOOKUP(X95,Feuil1!$C$1:$BL$10,5,FALSE)","v":37},{"$f":"T95-HLOOKUP(X95,Feuil1!$C$1:$BL$10,6,FALSE)","v":22},{"$f":"T95-HLOOKUP(X95,Feuil1!$C$1:$BL$10,7,FALSE)","v":7},{"$f":"T95-HLOOKUP(X95,Feuil1!$C$1:$BL$10,8,FALSE)","v":-8},{"$f":"T95-HLOOKUP(X95,Feuil1!$C$1:$BL$10,9,FALSE)","v":-28},{"$f":"T95-HLOOKUP(X95,Feuil1!$C$1:$BL$10,10,FALSE)","v":-848},null,null,null,null,null,null,"NAT +"]
["F","NE","ALS",3,217169,"RUOLT","CELINE",1997,72.8,"MJC Ungersheim","F",52,57,-60,57,67,71,-75,71,128,-17.599999999999994,"IRG +",13,{"$f":"IF(I96=\"\",\"\",IF(A96=\"H\",IF(OR(H96=\"SEN\",H96<1995),VLOOKUP(I96,Feuil1!$A$11:$F$29,6),IF(AND(H96>1994,H96<1998),VLOOKUP(I96,Feuil1!$A$11:$F$29,5),IF(AND(H96>1997,H96<2000),VLOOKUP(I96,Feuil1!$A$11:$F$29,4),IF(AND(H96>1999,H96<2002),VLOOKUP(I96,Feuil1!$A$11:$F$29,3),VLOOKUP(I96,Feuil1!$A$11:$F$29,2))))),IF(OR(H96=\"SEN\",H96<1995),VLOOKUP(I96,Feuil1!$G$11:$L$25,6),IF(AND(H96>1994,H96<1998),VLOOKUP(I96,Feuil1!$G$11:$L$25,5),IF(AND(H96>1997,H96<2000),VLOOKUP(I96,Feuil1!$G$11:$L$25,4),IF(AND(H96>1999,H96<2002),VLOOKUP(I96,Feuil1!$G$11:$L$25,3),VLOOKUP(I96,Feuil1!$G$11:$L$25,2)))))))","v":"FJ75"},155.75498477160914,null," ",{"$f":"T96-HLOOKUP(X96,Feuil1!$C$1:$BL$10,2,FALSE)","v":48},{"$f":"T96-HLOOKUP(X96,Feuil1!$C$1:$BL$10,3,FALSE)","v":33},{"$f":"T96-HLOOKUP(X96,Feuil1!$C$1:$BL$10,4,FALSE)","v":23},{"$f":"T96-HLOOKUP(X96,Feuil1!$C$1:$BL$10,5,FALSE)","v":13},{"$f":"T96-HLOOKUP(X96,Feuil1!$C$1:$BL$10,6,FALSE)","v":-2},{"$f":"T96-HLOOKUP(X96,Feuil1!$C$1:$BL$10,7,FALSE)","v":-17},{"$f":"T96-HLOOKUP(X96,Feuil1!$C$1:$BL$10,8,FALSE)","v":-32},{"$f":"T96-HLOOKUP(X96,Feuil1!$C$1:$BL$10,9,FALSE)","v":-52},{"$f":"T96-HLOOKUP(X96,Feuil1!$C$1:$BL$10,10,FALSE)","v":-872},null,null,null,null,null,null,"IRG +"]
["F","NE","ALS",4,348083,"LEIBUNDGUTH","LISA",1997,69.2,"ASI Avenir HM","F",50,54,-57,54,70,-73,-73,70,124,-14.400000000000006,"IRG +",9,{"$f":"IF(I97=\"\",\"\",IF(A97=\"H\",IF(OR(H97=\"SEN\",H97<1995),VLOOKUP(I97,Feuil1!$A$11:$F$29,6),IF(AND(H97>1994,H97<1998),VLOOKUP(I97,Feuil1!$A$11:$F$29,5),IF(AND(H97>1997,H97<2000),VLOOKUP(I97,Feuil1!$A$11:$F$29,4),IF(AND(H97>1999,H97<2002),VLOOKUP(I97,Feuil1!$A$11:$F$29,3),VLOOKUP(I97,Feuil1!$A$11:$F$29,2))))),IF(OR(H97=\"SEN\",H97<1995),VLOOKUP(I97,Feuil1!$G$11:$L$25,6),IF(AND(H97>1994,H97<1998),VLOOKUP(I97,Feuil1!$G$11:$L$25,5),IF(AND(H97>1997,H97<2000),VLOOKUP(I97,Feuil1!$G$11:$L$25,4),IF(AND(H97>1999,H97<2002),VLOOKUP(I97,Feuil1!$G$11:$L$25,3),VLOOKUP(I97,Feuil1!$G$11:$L$25,2)))))))","v":"FJ75"},155.33551542379823,null," ",{"$f":"T97-HLOOKUP(X97,Feuil1!$C$1:$BL$10,2,FALSE)","v":44},{"$f":"T97-HLOOKUP(X97,Feuil1!$C$1:$BL$10,3,FALSE)","v":29},{"$f":"T97-HLOOKUP(X97,Feuil1!$C$1:$BL$10,4,FALSE)","v":19},{"$f":"T97-HLOOKUP(X97,Feuil1!$C$1:$BL$10,5,FALSE)","v":9},{"$f":"T97-HLOOKUP(X97,Feuil1!$C$1:$BL$10,6,FALSE)","v":-6},{"$f":"T97-HLOOKUP(X97,Feuil1!$C$1:$BL$10,7,FALSE)","v":-21},{"$f":"T97-HLOOKUP(X97,Feuil1!$C$1:$BL$10,8,FALSE)","v":-36},{"$f":"T97-HLOOKUP(X97,Feuil1!$C$1:$BL$10,9,FALSE)","v":-56},{"$f":"T97-HLOOKUP(X97,Feuil1!$C$1:$BL$10,10,FALSE)","v":-876},null,null,null,null,null,null,"IRG +"]
["F","NE","CHA",5,247364,"LECUREUIL ","Adeline",1996,74.099999999999994,"Langres HM","F",51,53,-55,53,62,66,68,68,121,-27.199999999999989,"IRG +",6,{"$f":"IF(I98=\"\",\"\",IF(A98=\"H\",IF(OR(H98=\"SEN\",H98<1995),VLOOKUP(I98,Feuil1!$A$11:$F$29,6),IF(AND(H98>1994,H98<1998),VLOOKUP(I98,Feuil1!$A$11:$F$29,5),IF(AND(H98>1997,H98<2000),VLOOKUP(I98,Feuil1!$A$11:$F$29,4),IF(AND(H98>1999,H98<2002),VLOOKUP(I98,Feuil1!$A$11:$F$29,3),VLOOKUP(I98,Feuil1!$A$11:$F$29,2))))),IF(OR(H98=\"SEN\",H98<1995),VLOOKUP(I98,Feuil1!$G$11:$L$25,6),IF(AND(H98>1994,H98<1998),VLOOKUP(I98,Feuil1!$G$11:$L$25,5),IF(AND(H98>1997,H98<2000),VLOOKUP(I98,Feuil1!$G$11:$L$25,4),IF(AND(H98>1999,H98<2002),VLOOKUP(I98,Feuil1!$G$11:$L$25,3),VLOOKUP(I98,Feuil1!$G$11:$L$25,2)))))))","v":"FJ75"},145.8206113604343,null," ",{"$f":"T98-HLOOKUP(X98,Feuil1!$C$1:$BL$10,2,FALSE)","v":41},{"$f":"T98-HLOOKUP(X98,Feuil1!$C$1:$BL$10,3,FALSE)","v":26},{"$f":"T98-HLOOKUP(X98,Feuil1!$C$1:$BL$10,4,FALSE)","v":16},{"$f":"T98-HLOOKUP(X98,Feuil1!$C$1:$BL$10,5,FALSE)","v":6},{"$f":"T98-HLOOKUP(X98,Feuil1!$C$1:$BL$10,6,FALSE)","v":-9},{"$f":"T98-HLOOKUP(X98,Feuil1!$C$1:$BL$10,7,FALSE)","v":-24},{"$f":"T98-HLOOKUP(X98,Feuil1!$C$1:$BL$10,8,FALSE)","v":-39},{"$f":"T98-HLOOKUP(X98,Feuil1!$C$1:$BL$10,9,FALSE)","v":-59},{"$f":"T98-HLOOKUP(X98,Feuil1!$C$1:$BL$10,10,FALSE)","v":-879},null,null,null,null,null,null,"IRG +"]
["F","SO","AQU",6,300660,"DARMON","MELODIE",1997,69.8,"BORDEAUX ASPOM","F",28,-30,30,30,35,38,40,40,70,-69.599999999999994,"DEB ",-10,{"$f":"IF(I99=\"\",\"\",IF(A99=\"H\",IF(OR(H99=\"SEN\",H99<1995),VLOOKUP(I99,Feuil1!$A$11:$F$29,6),IF(AND(H99>1994,H99<1998),VLOOKUP(I99,Feuil1!$A$11:$F$29,5),IF(AND(H99>1997,H99<2000),VLOOKUP(I99,Feuil1!$A$11:$F$29,4),IF(AND(H99>1999,H99<2002),VLOOKUP(I99,Feuil1!$A$11:$F$29,3),VLOOKUP(I99,Feuil1!$A$11:$F$29,2))))),IF(OR(H99=\"SEN\",H99<1995),VLOOKUP(I99,Feuil1!$G$11:$L$25,6),IF(AND(H99>1994,H99<1998),VLOOKUP(I99,Feuil1!$G$11:$L$25,5),IF(AND(H99>1997,H99<2000),VLOOKUP(I99,Feuil1!$G$11:$L$25,4),IF(AND(H99>1999,H99<2002),VLOOKUP(I99,Feuil1!$G$11:$L$25,3),VLOOKUP(I99,Feuil1!$G$11:$L$25,2)))))))","v":"FJ75"},87.244457815150597,null," ",{"$f":"T99-HLOOKUP(X99,Feuil1!$C$1:$BL$10,2,FALSE)","v":-10},{"$f":"T99-HLOOKUP(X99,Feuil1!$C$1:$BL$10,3,FALSE)","v":-25},{"$f":"T99-HLOOKUP(X99,Feuil1!$C$1:$BL$10,4,FALSE)","v":-35},{"$f":"T99-HLOOKUP(X99,Feuil1!$C$1:$BL$10,5,FALSE)","v":-45},{"$f":"T99-HLOOKUP(X99,Feuil1!$C$1:$BL$10,6,FALSE)","v":-60},{"$f":"T99-HLOOKUP(X99,Feuil1!$C$1:$BL$10,7,FALSE)","v":-75},{"$f":"T99-HLOOKUP(X99,Feuil1!$C$1:$BL$10,8,FALSE)","v":-90},{"$f":"T99-HLOOKUP(X99,Feuil1!$C$1:$BL$10,9,FALSE)","v":-110},{"$f":"T99-HLOOKUP(X99,Feuil1!$C$1:$BL$10,10,FALSE)","v":-930},null,null,null,null,null,null,"DEB "]
["F","N","PIC",7,386785,"HUGUET","Lauriane",1997,70.8,"La Vaillante Saint Quentin","F",27,30,33,33,34,37,-40,37,70,-71.599999999999994,"DEB ",-10,{"$f":"IF(I100=\"\",\"\",IF(A100=\"H\",IF(OR(H100=\"SEN\",H100<1995),VLOOKUP(I100,Feuil1!$A$11:$F$29,6),IF(AND(H100>1994,H100<1998),VLOOKUP(I100,Feuil1!$A$11:$F$29,5),IF(AND(H100>1997,H100<2000),VLOOKUP(I100,Feuil1!$A$11:$F$29,4),IF(AND(H100>1999,H100<2002),VLOOKUP(I100,Feuil1!$A$11:$F$29,3),VLOOKUP(I100,Feuil1!$A$11:$F$29,2))))),IF(OR(H100=\"SEN\",H100<1995),VLOOKUP(I100,Feuil1!$G$11:$L$25,6),IF(AND(H100>1994,H100<1998),VLOOKUP(I100,Feuil1!$G$11:$L$25,5),IF(AND(H100>1997,H100<2000),VLOOKUP(I100,Feuil1!$G$11:$L$25,4),IF(AND(H100>1999,H100<2002),VLOOKUP(I100,Feuil1!$G$11:$L$25,3),VLOOKUP(I100,Feuil1!$G$11:$L$25,2)))))))","v":"FJ75"},86.527194475464469,null," ",{"$f":"T100-HLOOKUP(X100,Feuil1!$C$1:$BL$10,2,FALSE)","v":-10},{"$f":"T100-HLOOKUP(X100,Feuil1!$C$1:$BL$10,3,FALSE)","v":-25},{"$f":"T100-HLOOKUP(X100,Feuil1!$C$1:$BL$10,4,FALSE)","v":-35},{"$f":"T100-HLOOKUP(X100,Feuil1!$C$1:$BL$10,5,FALSE)","v":-45},{"$f":"T100-HLOOKUP(X100,Feuil1!$C$1:$BL$10,6,FALSE)","v":-60},{"$f":"T100-HLOOKUP(X100,Feuil1!$C$1:$BL$10,7,FALSE)","v":-75},{"$f":"T100-HLOOKUP(X100,Feuil1!$C$1:$BL$10,8,FALSE)","v":-90},{"$f":"T100-HLOOKUP(X100,Feuil1!$C$1:$BL$10,9,FALSE)","v":-110},{"$f":"T100-HLOOKUP(X100,Feuil1!$C$1:$BL$10,10,FALSE)","v":-930},null,null,null,null,null,null,"DEB "]
["F","SEST","CAZ",8,374710,"SENE","Lobe",1996,72.599999999999994,"ASLDD TOULON","F",24,27,30,30,36,-39,-39,36,66,-79.199999999999989,"DEB ",-14,{"$f":"IF(I101=\"\",\"\",IF(A101=\"H\",IF(OR(H101=\"SEN\",H101<1995),VLOOKUP(I101,Feuil1!$A$11:$F$29,6),IF(AND(H101>1994,H101<1998),VLOOKUP(I101,Feuil1!$A$11:$F$29,5),IF(AND(H101>1997,H101<2000),VLOOKUP(I101,Feuil1!$A$11:$F$29,4),IF(AND(H101>1999,H101<2002),VLOOKUP(I101,Feuil1!$A$11:$F$29,3),VLOOKUP(I101,Feuil1!$A$11:$F$29,2))))),IF(OR(H101=\"SEN\",H101<1995),VLOOKUP(I101,Feuil1!$G$11:$L$25,6),IF(AND(H101>1994,H101<1998),VLOOKUP(I101,Feuil1!$G$11:$L$25,5),IF(AND(H101>1997,H101<2000),VLOOKUP(I101,Feuil1!$G$11:$L$25,4),IF(AND(H101>1999,H101<2002),VLOOKUP(I101,Feuil1!$G$11:$L$25,3),VLOOKUP(I101,Feuil1!$G$11:$L$25,2)))))))","v":"FJ75"},80.433691769256825,null," ",{"$f":"T101-HLOOKUP(X101,Feuil1!$C$1:$BL$10,2,FALSE)","v":-14},{"$f":"T101-HLOOKUP(X101,Feuil1!$C$1:$BL$10,3,FALSE)","v":-29},{"$f":"T101-HLOOKUP(X101,Feuil1!$C$1:$BL$10,4,FALSE)","v":-39},{"$f":"T101-HLOOKUP(X101,Feuil1!$C$1:$BL$10,5,FALSE)","v":-49},{"$f":"T101-HLOOKUP(X101,Feuil1!$C$1:$BL$10,6,FALSE)","v":-64},{"$f":"T101-HLOOKUP(X101,Feuil1!$C$1:$BL$10,7,FALSE)","v":-79},{"$f":"T101-HLOOKUP(X101,Feuil1!$C$1:$BL$10,8,FALSE)","v":-94},{"$f":"T101-HLOOKUP(X101,Feuil1!$C$1:$BL$10,9,FALSE)","v":-114},{"$f":"T101-HLOOKUP(X101,Feuil1!$C$1:$BL$10,10,FALSE)","v":-934},null,null,null,null,null,null,"DEB "]
[null,null,null,null,null,null,null,null,null,null,null,null,null,null,null,null,null,null,null,null,null,null,null,null,null,null," ",{"$f":"T102-HLOOKUP(X102,Feuil1!$C$1:$BL$10,2,FALSE)","v":{"$error":"#N/A"}},{"$f":"T102-HLOOKUP(X102,Feuil1!$C$1:$BL$10,3,FALSE)","v":{"$error":"#N/A"}},{"$f":"T102-HLOOKUP(X102,Feuil1!$C$1:$BL$10,4,FALSE)","v":{"$error":"#N/A"}},{"$f":"T102-HLOOKUP(X102,Feuil1!$C$1:$BL$10,5,FALSE)","v":{"$error":"#N/A"}},{"$f":"T102-HLOOKUP(X102,Feuil1!$C$1:$BL$10,6,FALSE)","v":{"$error":"#N/A"}},{"$f":"T102-HLOOKUP(X102,Feuil1!$C$1:$BL$10,7,FALSE)","v":{"$error":"#N/A"}},{"$f":"T102-HLOOKUP(X102,Feuil1!$C$1:$BL$10,8,FALSE)","v":{"$error":"#N/A"}},{"$f":"T102-HLOOKUP(X102,Feuil1!$C$1:$BL$10,9,FALSE)","v":{"$error":"#N/A"}},{"$f":"T102-HLOOKUP(X102,Feuil1!$C$1:$BL$10,10,FALSE)","v":{"$error":"#N/A"}},null,null,null,null,null,null,{"$error":"#N/A"}]
["F","DOM","GUA",1,212730,"ROSAN","Kysia",1996,80,"AHCS/Pointois","F",60,65,-70,{"$f":"IF(H103=\"\",\"\",IF(MAXA(L103:N103)<=0,0,MAXA(L103:N103)))","v":65},83,-86,88,{"$f":"IF(H103=\"\",\"\",IF(MAXA(P103:R103)<=0,0,MAXA(P103:R103)))","v":88},{"$f":"IF(H103=\"\",\"\",IF(OR(O103=0,S103=0),0,O103+S103))","v":153},{"$f":"T103-I103*2","v":-7},{"$f":"IF(H103=\"\",\"\",AQ103)","v":"NAT +"},{"$f":"IF(AJ103>=0,AJ103,IF(AI103>=0,AI103,IF(AH103>=0,AH103,IF(AG103>=0,AG103,IF(AF103>=0,AF103,IF(AE103>=0,AE103,IF(AD103>=0,AD103,IF(AC103>=0,AC103,AB103))))))))","v":3},{"$f":"IF(I103=\"\",\"\",IF(A103=\"H\",IF(OR(H103=\"SEN\",H103<1995),VLOOKUP(I103,Feuil1!$A$11:$F$29,6),IF(AND(H103>1994,H103<1998),VLOOKUP(I103,Feuil1!$A$11:$F$29,5),IF(AND(H103>1997,H103<2000),VLOOKUP(I103,Feuil1!$A$11:$F$29,4),IF(AND(H103>1999,H103<2002),VLOOKUP(I103,Feuil1!$A$11:$F$29,3),VLOOKUP(I103,Feuil1!$A$11:$F$29,2))))),IF(OR(H103=\"SEN\",H103<1995),VLOOKUP(I103,Feuil1!$G$11:$L$25,6),IF(AND(H103>1994,H103<1998),VLOOKUP(I103,Feuil1!$G$11:$L$25,5),IF(AND(H103>1997,H103<2000),VLOOKUP(I103,Feuil1!$G$11:$L$25,4),IF(AND(H103>1999,H103<2002),VLOOKUP(I103,Feuil1!$G$11:$L$25,3),VLOOKUP(I103,Feuil1!$G$11:$L$25,2)))))))","v":"FJ+75"},{"$f":"IF(I103=\"\",\"\",IF(A103=\"H\",10^(0.794358141*LOG(I103/174.393)^2)*T103,IF(A103=\"F\",10^(0.89726074*LOG(I103/148.026)^2)*T103,\"\")))","v":177.32711193776782},null," ",{"$f":"T103-HLOOKUP(X103,Feuil1!$C$1:$BL$10,2,FALSE)","v":63},{"$f":"T103-HLOOKUP(X103,Feuil1!$C$1:$BL$10,3,FALSE)","v":53},{"$f":"T103-HLOOKUP(X103,Feuil1!$C$1:$BL$10,4,FALSE)","v":43},{"$f":"T103-HLOOKUP(X103,Feuil1!$C$1:$BL$10,5,FALSE)","v":28},{"$f":"T103-HLOOKUP(X103,Feuil1!$C$1:$BL$10,6,FALSE)","v":13},{"$f":"T103-HLOOKUP(X103,Feuil1!$C$1:$BL$10,7,FALSE)","v":3},{"$f":"T103-HLOOKUP(X103,Feuil1!$C$1:$BL$10,8,FALSE)","v":-17},{"$f":"T103-HLOOKUP(X103,Feuil1!$C$1:$BL$10,9,FALSE)","v":-37},{"$f":"T103-HLOOKUP(X103,Feuil1!$C$1:$BL$10,10,FALSE)","v":-847},null,null,null,null,null,null,{"$f":"IF(AJ103>=0,$AJ$4,IF(AI103>=0,$AI$4,IF(AH103>=0,$AH$4,IF(AG103>=0,$AG$4,IF(AF103>=0,$AF$4,IF(AE103>=0,$AE$4,IF(AD103>=0,$AD$4,IF(AC103>=0,$AC$4,$AB$4))))))))","v":"NAT +"}]
["F","NE","ALS",2,219700,"BOIGEOL","Manon",1995,78.75,"US Wittenheim","F",39,-42,42,{"$f":"IF(H104=\"\",\"\",IF(MAXA(L104:N104)<=0,0,MAXA(L104:N104)))","v":42},55,-58,60,{"$f":"IF(H104=\"\",\"\",IF(MAXA(P104:R104)<=0,0,MAXA(P104:R104)))","v":60},{"$f":"IF(H104=\"\",\"\",IF(OR(O104=0,S104=0),0,O104+S104))","v":102},{"$f":"T104-I104*2","v":-55.5},{"$f":"IF(H104=\"\",\"\",AQ104)","v":"DEP +"},{"$f":"IF(AJ104>=0,AJ104,IF(AI104>=0,AI104,IF(AH104>=0,AH104,IF(AG104>=0,AG104,IF(AF104>=0,AF104,IF(AE104>=0,AE104,IF(AD104>=0,AD104,IF(AC104>=0,AC104,AB104))))))))","v":2},{"$f":"IF(I104=\"\",\"\",IF(A104=\"H\",IF(OR(H104=\"SEN\",H104<1995),VLOOKUP(I104,Feuil1!$A$11:$F$29,6),IF(AND(H104>1994,H104<1998),VLOOKUP(I104,Feuil1!$A$11:$F$29,5),IF(AND(H104>1997,H104<2000),VLOOKUP(I104,Feuil1!$A$11:$F$29,4),IF(AND(H104>1999,H104<2002),VLOOKUP(I104,Feuil1!$A$11:$F$29,3),VLOOKUP(I104,Feuil1!$A$11:$F$29,2))))),IF(OR(H104=\"SEN\",H104<1995),VLOOKUP(I104,Feuil1!$G$11:$L$25,6),IF(AND(H104>1994,H104<1998),VLOOKUP(I104,Feuil1!$G$11:$L$25,5),IF(AND(H104>1997,H104<2000),VLOOKUP(I104,Feuil1!$G$11:$L$25,4),IF(AND(H104>1999,H104<2002),VLOOKUP(I104,Feuil1!$G$11:$L$25,3),VLOOKUP(I104,Feuil1!$G$11:$L$25,2)))))))","v":"FJ+75"},{"$f":"IF(I104=\"\",\"\",IF(A104=\"H\",10^(0.794358141*LOG(I104/174.393)^2)*T104,IF(A104=\"F\",10^(0.89726074*LOG(I104/148.026)^2)*T104,\"\")))","v":119.12582481948786},null," ",{"$f":"T104-HLOOKUP(X104,Feuil1!$C$1:$BL$10,2,FALSE)","v":12},{"$f":"T104-HLOOKUP(X104,Feuil1!$C$1:$BL$10,3,FALSE)","v":2},{"$f":"T104-HLOOKUP(X104,Feuil1!$C$1:$BL$10,4,FALSE)","v":-8},{"$f":"T104-HLOOKUP(X104,Feuil1!$C$1:$BL$10,5,FALSE)","v":-23},{"$f":"T104-HLOOKUP(X104,Feuil1!$C$1:$BL$10,6,FALSE)","v":-38},{"$f":"T104-HLOOKUP(X104,Feuil1!$C$1:$BL$10,7,FALSE)","v":-48},{"$f":"T104-HLOOKUP(X104,Feuil1!$C$1:$BL$10,8,FALSE)","v":-68},{"$f":"T104-HLOOKUP(X104,Feuil1!$C$1:$BL$10,9,FALSE)","v":-88},{"$f":"T104-HLOOKUP(X104,Feuil1!$C$1:$BL$10,10,FALSE)","v":-898},null,null,null,null,null,null,"DEP +"]
["F","N","NPC",3,362647,"VAMBESIEN","Estelle",1996,82.2,"C.A.ROSENDAEL","F",24,27,30,30,-31,35,40,40,70,-94.4,"DEB ",-20,{"$f":"IF(I105=\"\",\"\",IF(A105=\"H\",IF(OR(H105=\"SEN\",H105<1995),VLOOKUP(I105,Feuil1!$A$11:$F$29,6),IF(AND(H105>1994,H105<1998),VLOOKUP(I105,Feuil1!$A$11:$F$29,5),IF(AND(H105>1997,H105<2000),VLOOKUP(I105,Feuil1!$A$11:$F$29,4),IF(AND(H105>1999,H105<2002),VLOOKUP(I105,Feuil1!$A$11:$F$29,3),VLOOKUP(I105,Feuil1!$A$11:$F$29,2))))),IF(OR(H105=\"SEN\",H105<1995),VLOOKUP(I105,Feuil1!$G$11:$L$25,6),IF(AND(H105>1994,H105<1998),VLOOKUP(I105,Feuil1!$G$11:$L$25,5),IF(AND(H105>1997,H105<2000),VLOOKUP(I105,Feuil1!$G$11:$L$25,4),IF(AND(H105>1999,H105<2002),VLOOKUP(I105,Feuil1!$G$11:$L$25,3),VLOOKUP(I105,Feuil1!$G$11:$L$25,2)))))))","v":"FJ+75"},80.104320870409381,null," ",{"$f":"T105-HLOOKUP(X105,Feuil1!$C$1:$BL$10,2,FALSE)","v":-20},{"$f":"T105-HLOOKUP(X105,Feuil1!$C$1:$BL$10,3,FALSE)","v":-30},{"$f":"T105-HLOOKUP(X105,Feuil1!$C$1:$BL$10,4,FALSE)","v":-40},{"$f":"T105-HLOOKUP(X105,Feuil1!$C$1:$BL$10,5,FALSE)","v":-55},{"$f":"T105-HLOOKUP(X105,Feuil1!$C$1:$BL$10,6,FALSE)","v":-70},{"$f":"T105-HLOOKUP(X105,Feuil1!$C$1:$BL$10,7,FALSE)","v":-80},{"$f":"T105-HLOOKUP(X105,Feuil1!$C$1:$BL$10,8,FALSE)","v":-100},{"$f":"T105-HLOOKUP(X105,Feuil1!$C$1:$BL$10,9,FALSE)","v":-120},{"$f":"T105-HLOOKUP(X105,Feuil1!$C$1:$BL$10,10,FALSE)","v":-930},null,null,null,null,null,null,"DEB "]
[null,null,null,null,null,null,null,null,null,null,null,null,null,null,null,null,null,null,null,null,null,null,null,null,null,null," ",{"$f":"T106-HLOOKUP(X106,Feuil1!$C$1:$BL$10,2,FALSE)","v":{"$error":"#N/A"}},{"$f":"T106-HLOOKUP(X106,Feuil1!$C$1:$BL$10,3,FALSE)","v":{"$error":"#N/A"}},{"$f":"T106-HLOOKUP(X106,Feuil1!$C$1:$BL$10,4,FALSE)","v":{"$error":"#N/A"}},{"$f":"T106-HLOOKUP(X106,Feuil1!$C$1:$BL$10,5,FALSE)","v":{"$error":"#N/A"}},{"$f":"T106-HLOOKUP(X106,Feuil1!$C$1:$BL$10,6,FALSE)","v":{"$error":"#N/A"}},{"$f":"T106-HLOOKUP(X106,Feuil1!$C$1:$BL$10,7,FALSE)","v":{"$error":"#N/A"}},{"$f":"T106-HLOOKUP(X106,Feuil1!$C$1:$BL$10,8,FALSE)","v":{"$error":"#N/A"}},{"$f":"T106-HLOOKUP(X106,Feuil1!$C$1:$BL$10,9,FALSE)","v":{"$error":"#N/A"}},{"$f":"T106-HLOOKUP(X106,Feuil1!$C$1:$BL$10,10,FALSE)","v":{"$error":"#N/A"}},null,null,null,null,null,null,{"$error":"#N/A"}]
[null,null,null,null,null,null,null,null,null,null,null,null," "," ",null,null,null,null,null,null,null,null,null,null,null,null,null,null,null,null,null,null,null,null,null,null,null,null,null,null,null,null," "]
[]
[]
[]
[]
[]
[]
[]
[]
[]
[]
[]
[]
[]
[]
[]
[]
[]
[]
[]
[]
[]
[]
[]
[]
[]
[]
[]
[]
[]
[]
[]
[]
[]
[]
[]
[]
[]
[]
[]
[]
[]
[]
[]
[]
[]
[]
[]
[]
[]
[]
[]
[]
[]
[]
[]
[]
[]
[]
[]
[]
[]
[]
[]
[]
[]
[]
[]
[]
[]
[]
[]
[]
[]
[]
[]
[]
[]
[]
[]
[]
[]
[]
[]
[]
[]
[]
[]
[]
[]
[]
[]
[]
[]
[]
[]
[]
[]
[]
[]
[]
[]
[]
[]
[]
[]
[]
[]
[]
[]
[]
[]
[]
[]
[]
[]
[]
[]
[]
[]
[]
[]
[]
[]
[]
[]
[]
[]
[]
[]
[]
[]
[]
[]
[]
[]
[]
[]
[]
[]
[]
[]
[]
[]
[]
[]
[]
[]
[]
[]
[]
[]
[]
[]
[]
[]
[]
[]
[]
[]
[]
[]
[]
[]
[]
[]
[]
[]
[]
[]
[]
[]
[]
[]
[]
[]
[]
[]
[]
[]
[]
[]
[]
[]
[]
[]
[]
[]
[]
[]
[]
[]
[]
[]
[]
[]
[]
[]
[]
[]
[]
[]
[]
[]
[]
[]
[]
[]
[]
[]
[]
[]
[]
[]
[]
[]
[]
[]
[]
[]
[]
[]
[]
[]
[]
[]
[]
[]
[]
[]
[]
[]
[]
[]
[]
[]
[]
[]
[]
[]
[]
[]
[]
[]
[]
[]
[]
[]
[]
[]
[]
[]
[]
[]
[]
[]
[]
[]
[]
[]
[]
[]
[]
[]
[]
[]
[]
[]
[]
[]
[]
[]
[]
[]
[]
[]
[]
[]
[]
[]
[]
[]
[]
[]
[]
[]
[]
[]
[]
[]
[]
[]
[]
[]
[]
[]
[]
[]
[]
[]
[]
[]
[]
[]
[]
[]
[]
[]
[]
[]
[]
[]
[]
[]
[]
[]
[]
[]
[]
[]
[]
[]
[]
[]
[]
[]
[]
[]
[]
[]
[]
[]
[]
[]
[]
[]
[]
[]
[]
[]
[]
[]
[]
[]
[]
[]
[]
[]
[]
[]
[]
[]
[]
[]
[]
[]
[]
[]
[]
[]
[]
[]
[]
[]
[]
[]
[]
[]
[]
[]
[]
[]
[]
[]
[]
[]
[]
[]
[]
[]
[]
[]
[]
[]
[]
[]
[]
[]
[]
[]
[]
[]
[]
[]
[]
[]
[]
[]
[]
[]
[]
[]
[]
[]
[]
[]
[]
[]
[]
[]
[]
[]
[]
[]
[]
[]
[]
[]
[]
[]
[]
[]
[]
[]
[]
[]
[]
[]
[]
[]
[]
[]
[]
[]
[]
[]
[]
[]
[]
[]
[]
[]
[]
[]
[]
[]
[]
[]
[]
[]
[]
[]
[]
[]
[]
[]
[]
[]
[]
[]
[]
[]
[]
[]
[]
[]
[]
[]
[]
[]
[]
[]
[]
[]
[]
[]
[]
[]
[]
[]
[]
[]
[]
[]
[]
[]
[]
[]
[]
[]
[]
[]
[]
[]
[]
[]
[]
[]
[]
[]
[]
[null,null,null,null,null,null,null,null,null,null,null,null,null,null,null,null,null,null,null,null,null,null,null,null,null,null,null,"J77","J85","J94","J105","J+105",null,"J56","J62","J69","J77","J85","J94","J105","J+105",null,"S56","S62","S69","S77","S85","S94","S105","S+105"]
[null,null,null,null,null,null,null,null,null,null,null,null,null,null,null,null,null,null,null,null,null,null,null,null,null,null,null,145,160,170,180,190,null,100,115,130,145,160,170,180,190,null,115,135,150,165,180,190,200,210]
[null,null,null,null,null,null,null,null,null,null,null,null,null,null,null,null,null,null,null,null,null,null,null,null,null,null,null,165,180,190,200,210,null,115,135,150,165,180,190,200,210,null,130,150,165,185,200,210,220,230]
[null,null,null,null,null,null,null,null,null,null,null,null,null,null,null,null,null,null,null,null,null,null,null,null,null,null,null,185,200,210,220,230,null,130,150,165,185,200,210,220,230,null,145,165,180,200,220,230,240,250]
[null,null,null,null,null,null,null,null,null,null,null,null,null,null,null,null,null,null,null,null,null,null,null,null,null,null,null,200,220,230,240,250,null,145,165,180,200,220,230,240,250,null,175,195,215,235,250,260,275,280]
[null,null,null,null,null,null,null,null,null,null,null,null,null,null,null,null,null,null,null,null,null,null,null,null,null,null,null,235,250,260,275,280,null,175,195,215,235,250,260,275,280,null,210,230,250,270,290,300,310,325]
[null,null,null,null,null,null,null,null,null,null,null,null,null,null,null,null,null,null,null,null,null,null,null,null,null,null,null,270,290,300,310,325,null,210,230,250,270,290,300,310,325,null,230,255,275,300,315,335,345,355]
[null,null,null,null,null,null,null,null,null,null,null,null,null,null,null,null,null,null,null,null,null,null,null,null,null,null,null,320,335,355,370,380,null,245,270,295,320,335,355,370,380,null,245,270,295,320,335,355,370,380]

{"sheet":"SENIORS","index":4,"n_rows":739,"n_cols":50,"rows_kept":739,"cut":false,"hidden":false,"merged":[[3,21,3,22],[0,7,0,14],[0,18,0,21],[1,6,1,10],[1,11,1,13],[1,14,1,17],[1,18,1,19],[1,21,1,22]]}
[null,null,null,null,null,"LISTING NATIONAL",null," FEMININES",null,null,null,null,null,null,null,null,"DATE :",null,"2015-03-08"]
[null,null,null,null,null," ",null,null,null,null,null,"2° TRIMESTRE"]
[]
["SEXE","ZONE","REG.","CL.","LICENCE","NOMS","Prénoms","AN","POIDS","CLUB","NAT",1,2,3,"ARR",1,2,3,"EP-J","Total","KP-2PC","SERIE",null,"Catég","IWF",null," ","DEB ","DEP +","REG +","IRG +","FED +","NAT +","INTB +","INTA +","OLY +"]
[null,null,null,null,null,null,null,null,null,null,null,null,null,null,null,null,null,null,null,null,null,null,null,null,null,null," ",{"$f":"T5-HLOOKUP(X5,Feuil1!$C$1:$BL$10,2,FALSE)","v":{"$error":"#N/A"}},{"$f":"T5-HLOOKUP(X5,Feuil1!$C$1:$BL$10,3,FALSE)","v":{"$error":"#N/A"}},{"$f":"T5-HLOOKUP(X5,Feuil1!$C$1:$BL$10,4,FALSE)","v":{"$error":"#N/A"}},{"$f":"T5-HLOOKUP(X5,Feuil1!$C$1:$BL$10,5,FALSE)","v":{"$error":"#N/A"}},{"$f":"T5-HLOOKUP(X5,Feuil1!$C$1:$BL$10,6,FALSE)","v":{"$error":"#N/A"}},{"$f":"T5-HLOOKUP(X5,Feuil1!$C$1:$BL$10,7,FALSE)","v":{"$error":"#N/A"}},{"$f":"T5-HLOOKUP(X5,Feuil1!$C$1:$BL$10,8,FALSE)","v":{"$error":"#N/A"}},{"$f":"T5-HLOOKUP(X5,Feuil1!$C$1:$BL$10,9,FALSE)","v":{"$error":"#N/A"}},{"$f":"T5-HLOOKUP(X5,Feuil1!$C$1:$BL$10,10,FALSE)","v":{"$error":"#N/A"}},null,null,null,null,null,null,{"$f":"IF(AJ5>=0,$AJ$4,IF(AI5>=0,$AI$4,IF(AH5>=0,$AH$4,IF(AG5>=0,$AG$4,IF(AF5>=0,$AF$4,IF(AE5>=0,$AE$4,IF(AD5>=0,$AD$4,IF(AC5>=0,$AC$4,$AB$4))))))))","v":{"$error":"#N/A"}}]
["F","CO","CEN",1,129989,"MICHEL","Anais",1988,47.82,"AAJ Blois","F",73,75,-77,{"$f":"IF(H6=\"\",\"\",IF(MAXA(L6:N6)<=0,0,MAXA(L6:N6)))","v":75},93,96,-98,{"$f":"IF(H6=\"\",\"\",IF(MAXA(P6:R6)<=0,0,MAXA(P6:R6)))","v":96},{"$f":"IF(H6=\"\",\"\",IF(OR(O6=0,S6=0),0,O6+S6))","v":171},{"$f":"T6-I6*2","v":75.36},{"$f":"IF(H6=\"\",\"\",AQ6)","v":"OLY +"},{"$f":"IF(AJ6>=0,AJ6,IF(AI6>=0,AI6,IF(AH6>=0,AH6,IF(AG6>=0,AG6,IF(AF6>=0,AF6,IF(AE6>=0,AE6,IF(AD6>=0,AD6,IF(AC6>=0,AC6,AB6))))))))","v":16},{"$f":"IF(I6=\"\",\"\",IF(A6=\"H\",IF(OR(H6=\"SEN\",H6<1995),VLOOKUP(I6,Feuil1!$A$11:$F$29,6),IF(AND(H6>1994,H6<1998),VLOOKUP(I6,Feuil1!$A$11:$F$29,5),IF(AND(H6>1997,H6<2000),VLOOKUP(I6,Feuil1!$A$11:$F$29,4),IF(AND(H6>1999,H6<2002),VLOOKUP(I6,Feuil1!$A$11:$F$29,3),VLOOKUP(I6,Feuil1!$A$11:$F$29,2))))),IF(OR(H6=\"SEN\",H6<1995),VLOOKUP(I6,Feuil1!$G$11:$L$25,6),IF(AND(H6>1994,H6<1998),VLOOKUP(I6,Feuil1!$G$11:$L$25,5),IF(AND(H6>1997,H6<2000),VLOOKUP(I6,Feuil1!$G$11:$L$25,4),IF(AND(H6>1999,H6<2002),VLOOKUP(I6,Feuil1!$G$11:$L$25,3),VLOOKUP(I6,Feuil1!$G$11:$L$25,2)))))))","v":"FS48"},{"$f":"IF(I6=\"\",\"\",IF(A6=\"H\",10^(0.794358141*LOG(I6/174.393)^2)*T6,IF(A6=\"F\",10^(0.89726074*LOG(I6/148.026)^2)*T6,\"\")))","v":281.23502817293343},null," ",{"$f":"T6-HLOOKUP(X6,Feuil1!$C$1:$BL$10,2,FALSE)","v":116},{"$f":"T6-HLOOKUP(X6,Feuil1!$C$1:$BL$10,3,FALSE)","v":106},{"$f":"T6-HLOOKUP(X6,Feuil1!$C$1:$BL$10,4,FALSE)","v":96},{"$f":"T6-HLOOKUP(X6,Feuil1!$C$1:$BL$10,5,FALSE)","v":86},{"$f":"T6-HLOOKUP(X6,Feuil1!$C$1:$BL$10,6,FALSE)","v":76},{"$f":"T6-HLOOKUP(X6,Feuil1!$C$1:$BL$10,7,FALSE)","v":61},{"$f":"T6-HLOOKUP(X6,Feuil1!$C$1:$BL$10,8,FALSE)","v":46},{"$f":"T6-HLOOKUP(X6,Feuil1!$C$1:$BL$10,9,FALSE)","v":31},{"$f":"T6-HLOOKUP(X6,Feuil1!$C$1:$BL$10,10,FALSE)","v":16},null,null,null,null,null,null,{"$f":"IF(AJ6>=0,$AJ$4,IF(AI6>=0,$AI$4,IF(AH6>=0,$AH$4,IF(AG6>=0,$AG$4,IF(AF6>=0,$AF$4,IF(AE6>=0,$AE$4,IF(AD6>=0,$AD$4,IF(AC6>=0,$AC$4,$AB$4))))))))","v":"OLY +"}]
["F","SEST","RAL",2,79011,"BAILLET ","Florence",1990,46.9,"SAINT BALDOPH","F",57,-60,60,60,75,78,80,80,140,46.2,"INTA +",0,{"$f":"IF(I7=\"\",\"\",IF(A7=\"H\",IF(OR(H7=\"SEN\",H7<1995),VLOOKUP(I7,Feuil1!$A$11:$F$29,6),IF(AND(H7>1994,H7<1998),VLOOKUP(I7,Feuil1!$A$11:$F$29,5),IF(AND(H7>1997,H7<2000),VLOOKUP(I7,Feuil1!$A$11:$F$29,4),IF(AND(H7>1999,H7<2002),VLOOKUP(I7,Feuil1!$A$11:$F$29,3),VLOOKUP(I7,Feuil1!$A$11:$F$29,2))))),IF(OR(H7=\"SEN\",H7<1995),VLOOKUP(I7,Feuil1!$G$11:$L$25,6),IF(AND(H7>1994,H7<1998),VLOOKUP(I7,Feuil1!$G$11:$L$25,5),IF(AND(H7>1997,H7<2000),VLOOKUP(I7,Feuil1!$G$11:$L$25,4),IF(AND(H7>1999,H7<2002),VLOOKUP(I7,Feuil1!$G$11:$L$25,3),VLOOKUP(I7,Feuil1!$G$11:$L$25,2)))))))","v":"FS48"},234.25818695348539,null," ",{"$f":"T7-HLOOKUP(X7,Feuil1!$C$1:$BL$10,2,FALSE)","v":85},{"$f":"T7-HLOOKUP(X7,Feuil1!$C$1:$BL$10,3,FALSE)","v":75},{"$f":"T7-HLOOKUP(X7,Feuil1!$C$1:$BL$10,4,FALSE)","v":65},{"$f":"T7-HLOOKUP(X7,Feuil1!$C$1:$BL$10,5,FALSE)","v":55},{"$f":"T7-HLOOKUP(X7,Feuil1!$C$1:$BL$10,6,FALSE)","v":45},{"$f":"T7-HLOOKUP(X7,Feuil1!$C$1:$BL$10,7,FALSE)","v":30},{"$f":"T7-HLOOKUP(X7,Feuil1!$C$1:$BL$10,8,FALSE)","v":15},{"$f":"T7-HLOOKUP(X7,Feuil1!$C$1:$BL$10,9,FALSE)","v":0},{"$f":"T7-HLOOKUP(X7,Feuil1!$C$1:$BL$10,10,FALSE)","v":-15},null,null,null,null,null,null,"INTA +"]
["F","DOM","REU",3,94140,"EDMOND","NEIGE LINE",1978,48,"CH LAPLAINE","F",55,60,-65,60,65,70,-75,70,130,34,"INTB +",5,{"$f":"IF(I8=\"\",\"\",IF(A8=\"H\",IF(OR(H8=\"SEN\",H8<1995),VLOOKUP(I8,Feuil1!$A$11:$F$29,6),IF(AND(H8>1994,H8<1998),VLOOKUP(I8,Feuil1!$A$11:$F$29,5),IF(AND(H8>1997,H8<2000),VLOOKUP(I8,Feuil1!$A$11:$F$29,4),IF(AND(H8>1999,H8<2002),VLOOKUP(I8,Feuil1!$A$11:$F$29,3),VLOOKUP(I8,Feuil1!$A$11:$F$29,2))))),IF(OR(H8=\"SEN\",H8<1995),VLOOKUP(I8,Feuil1!$G$11:$L$25,6),IF(AND(H8>1994,H8<1998),VLOOKUP(I8,Feuil1!$G$11:$L$25,5),IF(AND(H8>1997,H8<2000),VLOOKUP(I8,Feuil1!$G$11:$L$25,4),IF(AND(H8>1999,H8<2002),VLOOKUP(I8,Feuil1!$G$11:$L$25,3),VLOOKUP(I8,Feuil1!$G$11:$L$25,2)))))))","v":"FS48"},213.09936744472682,null," ",{"$f":"T8-HLOOKUP(X8,Feuil1!$C$1:$BL$10,2,FALSE)","v":75},{"$f":"T8-HLOOKUP(X8,Feuil1!$C$1:$BL$10,3,FALSE)","v":65},{"$f":"T8-HLOOKUP(X8,Feuil1!$C$1:$BL$10,4,FALSE)","v":55},{"$f":"T8-HLOOKUP(X8,Feuil1!$C$1:$BL$10,5,FALSE)","v":45},{"$f":"T8-HLOOKUP(X8,Feuil1!$C$1:$BL$10,6,FALSE)","v":35},{"$f":"T8-HLOOKUP(X8,Feuil1!$C$1:$BL$10,7,FALSE)","v":20},{"$f":"T8-HLOOKUP(X8,Feuil1!$C$1:$BL$10,8,FALSE)","v":5},{"$f":"T8-HLOOKUP(X8,Feuil1!$C$1:$BL$10,9,FALSE)","v":-10},{"$f":"T8-HLOOKUP(X8,Feuil1!$C$1:$BL$10,10,FALSE)","v":-25},null,null,null,null,null,null,"INTB +"]
["F","SEST","RAL",4,21779,"LYAUDET","Chrystel",1972,47.8,"H.C. OYONNAX","F",44,46,49,49,58,61,-63,61,110,14.400000000000006,"NAT +",0,{"$f":"IF(I9=\"\",\"\",IF(A9=\"H\",IF(OR(H9=\"SEN\",H9<1995),VLOOKUP(I9,Feuil1!$A$11:$F$29,6),IF(AND(H9>1994,H9<1998),VLOOKUP(I9,Feuil1!$A$11:$F$29,5),IF(AND(H9>1997,H9<2000),VLOOKUP(I9,Feuil1!$A$11:$F$29,4),IF(AND(H9>1999,H9<2002),VLOOKUP(I9,Feuil1!$A$11:$F$29,3),VLOOKUP(I9,Feuil1!$A$11:$F$29,2))))),IF(OR(H9=\"SEN\",H9<1995),VLOOKUP(I9,Feuil1!$G$11:$L$25,6),IF(AND(H9>1994,H9<1998),VLOOKUP(I9,Feuil1!$G$11:$L$25,5),IF(AND(H9>1997,H9<2000),VLOOKUP(I9,Feuil1!$G$11:$L$25,4),IF(AND(H9>1999,H9<2002),VLOOKUP(I9,Feuil1!$G$11:$L$25,3),VLOOKUP(I9,Feuil1!$G$11:$L$25,2)))))))","v":"FS48"},180.97809118135024,null," ",{"$f":"T9-HLOOKUP(X9,Feuil1!$C$1:$BL$10,2,FALSE)","v":55},{"$f":"T9-HLOOKUP(X9,Feuil1!$C$1:$BL$10,3,FALSE)","v":45},{"$f":"T9-HLOOKUP(X9,Feuil1!$C$1:$BL$10,4,FALSE)","v":35},{"$f":"T9-HLOOKUP(X9,Feuil1!$C$1:$BL$10,5,FALSE)","v":25},{"$f":"T9-HLOOKUP(X9,Feuil1!$C$1:$BL$10,6,FALSE)","v":15},{"$f":"T9-HLOOKUP(X9,Feuil1!$C$1:$BL$10,7,FALSE)","v":0},{"$f":"T9-HLOOKUP(X9,Feuil1!$C$1:$BL$10,8,FALSE)","v":-15},{"$f":"T9-HLOOKUP(X9,Feuil1!$C$1:$BL$10,9,FALSE)","v":-30},{"$f":"T9-HLOOKUP(X9,Feuil1!$C$1:$BL$10,10,FALSE)","v":-45},null,null,null,null,null,null,"NAT +"]
["F","N","PIC",5,167624,"DELACOURT","Marine",1990,46.2,"La Vaillante Saint Quentin","F",42,45,47,47,52,55,57,57,104,11.599999999999994,"FED +",9,{"$f":"IF(I10=\"\",\"\",IF(A10=\"H\",IF(OR(H10=\"SEN\",H10<1995),VLOOKUP(I10,Feuil1!$A$11:$F$29,6),IF(AND(H10>1994,H10<1998),VLOOKUP(I10,Feuil1!$A$11:$F$29,5),IF(AND(H10>1997,H10<2000),VLOOKUP(I10,Feuil1!$A$11:$F$29,4),IF(AND(H10>1999,H10<2002),VLOOKUP(I10,Feuil1!$A$11:$F$29,3),VLOOKUP(I10,Feuil1!$A$11:$F$29,2))))),IF(OR(H10=\"SEN\",H10<1995),VLOOKUP(I10,Feuil1!$G$11:$L$25,6),IF(AND(H10>1994,H10<1998),VLOOKUP(I10,Feuil1!$G$11:$L$25,5),IF(AND(H10>1997,H10<2000),VLOOKUP(I10,Feuil1!$G$11:$L$25,4),IF(AND(H10>1999,H10<2002),VLOOKUP(I10,Feuil1!$G$11:$L$25,3),VLOOKUP(I10,Feuil1!$G$11:$L$25,2)))))))","v":"FS48"},176.39588844685454,null," ",{"$f":"T10-HLOOKUP(X10,Feuil1!$C$1:$BL$10,2,FALSE)","v":49},{"$f":"T10-HLOOKUP(X10,Feuil1!$C$1:$BL$10,3,FALSE)","v":39},{"$f":"T10-HLOOKUP(X10,Feuil1!$C$1:$BL$10,4,FALSE)","v":29},{"$f":"T10-HLOOKUP(X10,Feuil1!$C$1:$BL$10,5,FALSE)","v":19},{"$f":"T10-HLOOKUP(X10,Feuil1!$C$1:$BL$10,6,FALSE)","v":9},{"$f":"T10-HLOOKUP(X10,Feuil1!$C$1:$BL$10,7,FALSE)","v":-6},{"$f":"T10-HLOOKUP(X10,Feuil1!$C$1:$BL$10,8,FALSE)","v":-21},{"$f":"T10-HLOOKUP(X10,Feuil1!$C$1:$BL$10,9,FALSE)","v":-36},{"$f":"T10-HLOOKUP(X10,Feuil1!$C$1:$BL$10,10,FALSE)","v":-51},null,null,null,null,null,null,"FED +"]
["F","N","NPC",6,368810,"CRET","Crinuta",1989,48,"C.A.ROSENDAEL","ROU",-47,47,-50,47,50,54,-58,54,101,5,"FED +",6,{"$f":"IF(I11=\"\",\"\",IF(A11=\"H\",IF(OR(H11=\"SEN\",H11<1995),VLOOKUP(I11,Feuil1!$A$11:$F$29,6),IF(AND(H11>1994,H11<1998),VLOOKUP(I11,Feuil1!$A$11:$F$29,5),IF(AND(H11>1997,H11<2000),VLOOKUP(I11,Feuil1!$A$11:$F$29,4),IF(AND(H11>1999,H11<2002),VLOOKUP(I11,Feuil1!$A$11:$F$29,3),VLOOKUP(I11,Feuil1!$A$11:$F$29,2))))),IF(OR(H11=\"SEN\",H11<1995),VLOOKUP(I11,Feuil1!$G$11:$L$25,6),IF(AND(H11>1994,H11<1998),VLOOKUP(I11,Feuil1!$G$11:$L$25,5),IF(AND(H11>1997,H11<2000),VLOOKUP(I11,Feuil1!$G$11:$L$25,4),IF(AND(H11>1999,H11<2002),VLOOKUP(I11,Feuil1!$G$11:$L$25,3),VLOOKUP(I11,Feuil1!$G$11:$L$25,2)))))))","v":"FS48"},165.56181624551851,null," ",{"$f":"T11-HLOOKUP(X11,Feuil1!$C$1:$BL$10,2,FALSE)","v":46},{"$f":"T11-HLOOKUP(X11,Feuil1!$C$1:$BL$10,3,FALSE)","v":36},{"$f":"T11-HLOOKUP(X11,Feuil1!$C$1:$BL$10,4,FALSE)","v":26},{"$f":"T11-HLOOKUP(X11,Feuil1!$C$1:$BL$10,5,FALSE)","v":16},{"$f":"T11-HLOOKUP(X11,Feuil1!$C$1:$BL$10,6,FALSE)","v":6},{"$f":"T11-HLOOKUP(X11,Feuil1!$C$1:$BL$10,7,FALSE)","v":-9},{"$f":"T11-HLOOKUP(X11,Feuil1!$C$1:$BL$10,8,FALSE)","v":-24},{"$f":"T11-HLOOKUP(X11,Feuil1!$C$1:$BL$10,9,FALSE)","v":-39},{"$f":"T11-HLOOKUP(X11,Feuil1!$C$1:$BL$10,10,FALSE)","v":-54},null,null,null,null,null,null,"FED +"]
["F","SO","POI",7,86179,"MARTIN","Anaëlle",1983,44.1,"Aytré","F",43,45,46,46,50,53,-55,53,99,10.799999999999997,"FED +",4,{"$f":"IF(I12=\"\",\"\",IF(A12=\"H\",IF(OR(H12=\"SEN\",H12<1995),VLOOKUP(I12,Feuil1!$A$11:$F$29,6),IF(AND(H12>1994,H12<1998),VLOOKUP(I12,Feuil1!$A$11:$F$29,5),IF(AND(H12>1997,H12<2000),VLOOKUP(I12,Feuil1!$A$11:$F$29,4),IF(AND(H12>1999,H12<2002),VLOOKUP(I12,Feuil1!$A$11:$F$29,3),VLOOKUP(I12,Feuil1!$A$11:$F$29,2))))),IF(OR(H12=\"SEN\",H12<1995),VLOOKUP(I12,Feuil1!$G$11:$L$25,6),IF(AND(H12>1994,H12<1998),VLOOKUP(I12,Feuil1!$G$11:$L$25,5),IF(AND(H12>1997,H12<2000),VLOOKUP(I12,Feuil1!$G$11:$L$25,4),IF(AND(H12>1999,H12<2002),VLOOKUP(I12,Feuil1!$G$11:$L$25,3),VLOOKUP(I12,Feuil1!$G$11:$L$25,2)))))))","v":"FS48"},175.30357442082504,null," ",{"$f":"T12-HLOOKUP(X12,Feuil1!$C$1:$BL$10,2,FALSE)","v":44},{"$f":"T12-HLOOKUP(X12,Feuil1!$C$1:$BL$10,3,FALSE)","v":34},{"$f":"T12-HLOOKUP(X12,Feuil1!$C$1:$BL$10,4,FALSE)","v":24},{"$f":"T12-HLOOKUP(X12,Feuil1!$C$1:$BL$10,5,FALSE)","v":14},{"$f":"T12-HLOOKUP(X12,Feuil1!$C$1:$BL$10,6,FALSE)","v":4},{"$f":"T12-HLOOKUP(X12,Feuil1!$C$1:$BL$10,7,FALSE)","v":-11},{"$f":"T12-HLOOKUP(X12,Feuil1!$C$1:$BL$10,8,FALSE)","v":-26},{"$f":"T12-HLOOKUP(X12,Feuil1!$C$1:$BL$10,9,FALSE)","v":-41},{"$f":"T12-HLOOKUP(X12,Feuil1!$C$1:$BL$10,10,FALSE)","v":-56},null,null,null,null,null,null,"FED +"]
["F","CO","BNO",8,270512,"SAYAH","Nadia",1965,47.9,"Caen CHM","F",40,42,44,44,47,50,-51,50,94,-1.7999999999999972,"IRG +",9,{"$f":"IF(I13=\"\",\"\",IF(A13=\"H\",IF(OR(H13=\"SEN\",H13<1995),VLOOKUP(I13,Feuil1!$A$11:$F$29,6),IF(AND(H13>1994,H13<1998),VLOOKUP(I13,Feuil1!$A$11:$F$29,5),IF(AND(H13>1997,H13<2000),VLOOKUP(I13,Feuil1!$A$11:$F$29,4),IF(AND(H13>1999,H13<2002),VLOOKUP(I13,Feuil1!$A$11:$F$29,3),VLOOKUP(I13,Feuil1!$A$11:$F$29,2))))),IF(OR(H13=\"SEN\",H13<1995),VLOOKUP(I13,Feuil1!$G$11:$L$25,6),IF(AND(H13>1994,H13<1998),VLOOKUP(I13,Feuil1!$G$11:$L$25,5),IF(AND(H13>1997,H13<2000),VLOOKUP(I13,Feuil1!$G$11:$L$25,4),IF(AND(H13>1999,H13<2002),VLOOKUP(I13,Feuil1!$G$11:$L$25,3),VLOOKUP(I13,Feuil1!$G$11:$L$25,2)))))))","v":"FS48"},154.36980195836958,null," ",{"$f":"T13-HLOOKUP(X13,Feuil1!$C$1:$BL$10,2,FALSE)","v":39},{"$f":"T13-HLOOKUP(X13,Feuil1!$C$1:$BL$10,3,FALSE)","v":29},{"$f":"T13-HLOOKUP(X13,Feuil1!$C$1:$BL$10,4,FALSE)","v":19},{"$f":"T13-HLOOKUP(X13,Feuil1!$C$1:$BL$10,5,FALSE)","v":9},{"$f":"T13-HLOOKUP(X13,Feuil1!$C$1:$BL$10,6,FALSE)","v":-1},{"$f":"T13-HLOOKUP(X13,Feuil1!$C$1:$BL$10,7,FALSE)","v":-16},{"$f":"T13-HLOOKUP(X13,Feuil1!$C$1:$BL$10,8,FALSE)","v":-31},{"$f":"T13-HLOOKUP(X13,Feuil1!$C$1:$BL$10,9,FALSE)","v":-46},{"$f":"T13-HLOOKUP(X13,Feuil1!$C$1:$BL$10,10,FALSE)","v":-61},null,null,null,null,null,null,"IRG +"]
["F","N","IDF",9,304799,"HERVE","SANDRINE",1977,48,"FRANCONVILLE","F",35,37,38,38,45,47,-49,47,85,-11,"IRG +",0,{"$f":"IF(I14=\"\",\"\",IF(A14=\"H\",IF(OR(H14=\"SEN\",H14<1995),VLOOKUP(I14,Feuil1!$A$11:$F$29,6),IF(AND(H14>1994,H14<1998),VLOOKUP(I14,Feuil1!$A$11:$F$29,5),IF(AND(H14>1997,H14<2000),VLOOKUP(I14,Feuil1!$A$11:$F$29,4),IF(AND(H14>1999,H14<2002),VLOOKUP(I14,Feuil1!$A$11:$F$29,3),VLOOKUP(I14,Feuil1!$A$11:$F$29,2))))),IF(OR(H14=\"SEN\",H14<1995),VLOOKUP(I14,Feuil1!$G$11:$L$25,6),IF(AND(H14>1994,H14<1998),VLOOKUP(I14,Feuil1!$G$11:$L$25,5),IF(AND(H14>1997,H14<2000),VLOOKUP(I14,Feuil1!$G$11:$L$25,4),IF(AND(H14>1999,H14<2002),VLOOKUP(I14,Feuil1!$G$11:$L$25,3),VLOOKUP(I14,Feuil1!$G$11:$L$25,2)))))))","v":"FS48"},139.33420179078291,null," ",{"$f":"T14-HLOOKUP(X14,Feuil1!$C$1:$BL$10,2,FALSE)","v":30},{"$f":"T14-HLOOKUP(X14,Feuil1!$C$1:$BL$10,3,FALSE)","v":20},{"$f":"T14-HLOOKUP(X14,Feuil1!$C$1:$BL$10,4,FALSE)","v":10},{"$f":"T14-HLOOKUP(X14,Feuil1!$C$1:$BL$10,5,FALSE)","v":0},{"$f":"T14-HLOOKUP(X14,Feuil1!$C$1:$BL$10,6,FALSE)","v":-10},{"$f":"T14-HLOOKUP(X14,Feuil1!$C$1:$BL$10,7,FALSE)","v":-25},{"$f":"T14-HLOOKUP(X14,Feuil1!$C$1:$BL$10,8,FALSE)","v":-40},{"$f":"T14-HLOOKUP(X14,Feuil1!$C$1:$BL$10,9,FALSE)","v":-55},{"$f":"T14-HLOOKUP(X14,Feuil1!$C$1:$BL$10,10,FALSE)","v":-70},null,null,null,null,null,null,"IRG +"]
["F","N","IDF",10,222560,"FERAUD","NATHALIE",1967,46.9,"VELIZY","F",32,35,37,37,42,45,47,47,84,-9.7999999999999972,"REG +",9,{"$f":"IF(I15=\"\",\"\",IF(A15=\"H\",IF(OR(H15=\"SEN\",H15<1995),VLOOKUP(I15,Feuil1!$A$11:$F$29,6),IF(AND(H15>1994,H15<1998),VLOOKUP(I15,Feuil1!$A$11:$F$29,5),IF(AND(H15>1997,H15<2000),VLOOKUP(I15,Feuil1!$A$11:$F$29,4),IF(AND(H15>1999,H15<2002),VLOOKUP(I15,Feuil1!$A$11:$F$29,3),VLOOKUP(I15,Feuil1!$A$11:$F$29,2))))),IF(OR(H15=\"SEN\",H15<1995),VLOOKUP(I15,Feuil1!$G$11:$L$25,6),IF(AND(H15>1994,H15<1998),VLOOKUP(I15,Feuil1!$G$11:$L$25,5),IF(AND(H15>1997,H15<2000),VLOOKUP(I15,Feuil1!$G$11:$L$25,4),IF(AND(H15>1999,H15<2002),VLOOKUP(I15,Feuil1!$G$11:$L$25,3),VLOOKUP(I15,Feuil1!$G$11:$L$25,2)))))))","v":"FS48"},140.55491217209124,null," ",{"$f":"T15-HLOOKUP(X15,Feuil1!$C$1:$BL$10,2,FALSE)","v":29},{"$f":"T15-HLOOKUP(X15,Feuil1!$C$1:$BL$10,3,FALSE)","v":19},{"$f":"T15-HLOOKUP(X15,Feuil1!$C$1:$BL$10,4,FALSE)","v":9},{"$f":"T15-HLOOKUP(X15,Feuil1!$C$1:$BL$10,5,FALSE)","v":-1},{"$f":"T15-HLOOKUP(X15,Feuil1!$C$1:$BL$10,6,FALSE)","v":-11},{"$f":"T15-HLOOKUP(X15,Feuil1!$C$1:$BL$10,7,FALSE)","v":-26},{"$f":"T15-HLOOKUP(X15,Feuil1!$C$1:$BL$10,8,FALSE)","v":-41},{"$f":"T15-HLOOKUP(X15,Feuil1!$C$1:$BL$10,9,FALSE)","v":-56},{"$f":"T15-HLOOKUP(X15,Feuil1!$C$1:$BL$10,10,FALSE)","v":-71},null,null,null,null,null,null,"REG +"]
["F","N","IDF",11,360068,"DRAPEAU","FLORIANE",1989,48,"SAINT-MAUR","F",30,-34,35,35,43,47,-50,47,82,-14,"REG +",7,{"$f":"IF(I16=\"\",\"\",IF(A16=\"H\",IF(OR(H16=\"SEN\",H16<1995),VLOOKUP(I16,Feuil1!$A$11:$F$29,6),IF(AND(H16>1994,H16<1998),VLOOKUP(I16,Feuil1!$A$11:$F$29,5),IF(AND(H16>1997,H16<2000),VLOOKUP(I16,Feuil1!$A$11:$F$29,4),IF(AND(H16>1999,H16<2002),VLOOKUP(I16,Feuil1!$A$11:$F$29,3),VLOOKUP(I16,Feuil1!$A$11:$F$29,2))))),IF(OR(H16=\"SEN\",H16<1995),VLOOKUP(I16,Feuil1!$G$11:$L$25,6),IF(AND(H16>1994,H16<1998),VLOOKUP(I16,Feuil1!$G$11:$L$25,5),IF(AND(H16>1997,H16<2000),VLOOKUP(I16,Feuil1!$G$11:$L$25,4),IF(AND(H16>1999,H16<2002),VLOOKUP(I16,Feuil1!$G$11:$L$25,3),VLOOKUP(I16,Feuil1!$G$11:$L$25,2)))))))","v":"FS48"},134.41652408051999,null," ",{"$f":"T16-HLOOKUP(X16,Feuil1!$C$1:$BL$10,2,FALSE)","v":27},{"$f":"T16-HLOOKUP(X16,Feuil1!$C$1:$BL$10,3,FALSE)","v":17},{"$f":"T16-HLOOKUP(X16,Feuil1!$C$1:$BL$10,4,FALSE)","v":7},{"$f":"T16-HLOOKUP(X16,Feuil1!$C$1:$BL$10,5,FALSE)","v":-3},{"$f":"T16-HLOOKUP(X16,Feuil1!$C$1:$BL$10,6,FALSE)","v":-13},{"$f":"T16-HLOOKUP(X16,Feuil1!$C$1:$BL$10,7,FALSE)","v":-28},{"$f":"T16-HLOOKUP(X16,Feuil1!$C$1:$BL$10,8,FALSE)","v":-43},{"$f":"T16-HLOOKUP(X16,Feuil1!$C$1:$BL$10,9,FALSE)","v":-58},{"$f":"T16-HLOOKUP(X16,Feuil1!$C$1:$BL$10,10,FALSE)","v":-73},null,null,null,null,null,null,"REG +"]
["F","CO","PDL",12,374035,"HAMMOUDI","Nassira",1975,46.8,"BBFC ALLONNES","F",30,-34,-34,30,40,45,48,48,78,-15.599999999999994,"REG +",3,{"$f":"IF(I17=\"\",\"\",IF(A17=\"H\",IF(OR(H17=\"SEN\",H17<1995),VLOOKUP(I17,Feuil1!$A$11:$F$29,6),IF(AND(H17>1994,H17<1998),VLOOKUP(I17,Feuil1!$A$11:$F$29,5),IF(AND(H17>1997,H17<2000),VLOOKUP(I17,Feuil1!$A$11:$F$29,4),IF(AND(H17>1999,H17<2002),VLOOKUP(I17,Feuil1!$A$11:$F$29,3),VLOOKUP(I17,Feuil1!$A$11:$F$29,2))))),IF(OR(H17=\"SEN\",H17<1995),VLOOKUP(I17,Feuil1!$G$11:$L$25,6),IF(AND(H17>1994,H17<1998),VLOOKUP(I17,Feuil1!$G$11:$L$25,5),IF(AND(H17>1997,H17<2000),VLOOKUP(I17,Feuil1!$G$11:$L$25,4),IF(AND(H17>1999,H17<2002),VLOOKUP(I17,Feuil1!$G$11:$L$25,3),VLOOKUP(I17,Feuil1!$G$11:$L$25,2)))))))","v":"FS48"},130.76528913885065,null," ",{"$f":"T17-HLOOKUP(X17,Feuil1!$C$1:$BL$10,2,FALSE)","v":23},{"$f":"T17-HLOOKUP(X17,Feuil1!$C$1:$BL$10,3,FALSE)","v":13},{"$f":"T17-HLOOKUP(X17,Feuil1!$C$1:$BL$10,4,FALSE)","v":3},{"$f":"T17-HLOOKUP(X17,Feuil1!$C$1:$BL$10,5,FALSE)","v":-7},{"$f":"T17-HLOOKUP(X17,Feuil1!$C$1:$BL$10,6,FALSE)","v":-17},{"$f":"T17-HLOOKUP(X17,Feuil1!$C$1:$BL$10,7,FALSE)","v":-32},{"$f":"T17-HLOOKUP(X17,Feuil1!$C$1:$BL$10,8,FALSE)","v":-47},{"$f":"T17-HLOOKUP(X17,Feuil1!$C$1:$BL$10,9,FALSE)","v":-62},{"$f":"T17-HLOOKUP(X17,Feuil1!$C$1:$BL$10,10,FALSE)","v":-77},null,null,null,null,null,null,"REG +"]
["F","N","NPC",13,391262,"THIRY","Maïte",1990,47.3,"C.A.ROSENDAEL","BEL",30,33,-35,33,42,44,-46,44,77,-17.599999999999994,"REG +",2,{"$f":"IF(I18=\"\",\"\",IF(A18=\"H\",IF(OR(H18=\"SEN\",H18<1995),VLOOKUP(I18,Feuil1!$A$11:$F$29,6),IF(AND(H18>1994,H18<1998),VLOOKUP(I18,Feuil1!$A$11:$F$29,5),IF(AND(H18>1997,H18<2000),VLOOKUP(I18,Feuil1!$A$11:$F$29,4),IF(AND(H18>1999,H18<2002),VLOOKUP(I18,Feuil1!$A$11:$F$29,3),VLOOKUP(I18,Feuil1!$A$11:$F$29,2))))),IF(OR(H18=\"SEN\",H18<1995),VLOOKUP(I18,Feuil1!$G$11:$L$25,6),IF(AND(H18>1994,H18<1998),VLOOKUP(I18,Feuil1!$G$11:$L$25,5),IF(AND(H18>1997,H18<2000),VLOOKUP(I18,Feuil1!$G$11:$L$25,4),IF(AND(H18>1999,H18<2002),VLOOKUP(I18,Feuil1!$G$11:$L$25,3),VLOOKUP(I18,Feuil1!$G$11:$L$25,2)))))))","v":"FS48"},127.86916632974027,null," ",{"$f":"T18-HLOOKUP(X18,Feuil1!$C$1:$BL$10,2,FALSE)","v":22},{"$f":"T18-HLOOKUP(X18,Feuil1!$C$1:$BL$10,3,FALSE)","v":12},{"$f":"T18-HLOOKUP(X18,Feuil1!$C$1:$BL$10,4,FALSE)","v":2},{"$f":"T18-HLOOKUP(X18,Feuil1!$C$1:$BL$10,5,FALSE)","v":-8},{"$f":"T18-HLOOKUP(X18,Feuil1!$C$1:$BL$10,6,FALSE)","v":-18},{"$f":"T18-HLOOKUP(X18,Feuil1!$C$1:$BL$10,7,FALSE)","v":-33},{"$f":"T18-HLOOKUP(X18,Feuil1!$C$1:$BL$10,8,FALSE)","v":-48},{"$f":"T18-HLOOKUP(X18,Feuil1!$C$1:$BL$10,9,FALSE)","v":-63},{"$f":"T18-HLOOKUP(X18,Feuil1!$C$1:$BL$10,10,FALSE)","v":-78},null,null,null,null,null,null,"REG +"]
["F","NE","FCO",14,349251,"VALERA","Alice",1991,41.25,"LF Besançon","F",31,33,-35,33,40,42,-44,42,75,-7.5,"REG +",0,{"$f":"IF(I19=\"\",\"\",IF(A19=\"H\",IF(OR(H19=\"SEN\",H19<1995),VLOOKUP(I19,Feuil1!$A$11:$F$29,6),IF(AND(H19>1994,H19<1998),VLOOKUP(I19,Feuil1!$A$11:$F$29,5),IF(AND(H19>1997,H19<2000),VLOOKUP(I19,Feuil1!$A$11:$F$29,4),IF(AND(H19>1999,H19<2002),VLOOKUP(I19,Feuil1!$A$11:$F$29,3),VLOOKUP(I19,Feuil1!$A$11:$F$29,2))))),IF(OR(H19=\"SEN\",H19<1995),VLOOKUP(I19,Feuil1!$G$11:$L$25,6),IF(AND(H19>1994,H19<1998),VLOOKUP(I19,Feuil1!$G$11:$L$25,5),IF(AND(H19>1997,H19<2000),VLOOKUP(I19,Feuil1!$G$11:$L$25,4),IF(AND(H19>1999,H19<2002),VLOOKUP(I19,Feuil1!$G$11:$L$25,3),VLOOKUP(I19,Feuil1!$G$11:$L$25,2)))))))","v":"FS48"},141.69496149603842,null," ",{"$f":"T19-HLOOKUP(X19,Feuil1!$C$1:$BL$10,2,FALSE)","v":20},{"$f":"T19-HLOOKUP(X19,Feuil1!$C$1:$BL$10,3,FALSE)","v":10},{"$f":"T19-HLOOKUP(X19,Feuil1!$C$1:$BL$10,4,FALSE)","v":0},{"$f":"T19-HLOOKUP(X19,Feuil1!$C$1:$BL$10,5,FALSE)","v":-10},{"$f":"T19-HLOOKUP(X19,Feuil1!$C$1:$BL$10,6,FALSE)","v":-20},{"$f":"T19-HLOOKUP(X19,Feuil1!$C$1:$BL$10,7,FALSE)","v":-35},{"$f":"T19-HLOOKUP(X19,Feuil1!$C$1:$BL$10,8,FALSE)","v":-50},{"$f":"T19-HLOOKUP(X19,Feuil1!$C$1:$BL$10,9,FALSE)","v":-65},{"$f":"T19-HLOOKUP(X19,Feuil1!$C$1:$BL$10,10,FALSE)","v":-80},null,null,null,null,null,null,"REG +"]
["F","CO","BNO",15,376363,"MARIE","Julie",1989,46.7,"Caen CHM","F",28,30,32,32,38,43,-45,43,75,-18.400000000000006,"REG +",0,{"$f":"IF(I20=\"\",\"\",IF(A20=\"H\",IF(OR(H20=\"SEN\",H20<1995),VLOOKUP(I20,Feuil1!$A$11:$F$29,6),IF(AND(H20>1994,H20<1998),VLOOKUP(I20,Feuil1!$A$11:$F$29,5),IF(AND(H20>1997,H20<2000),VLOOKUP(I20,Feuil1!$A$11:$F$29,4),IF(AND(H20>1999,H20<2002),VLOOKUP(I20,Feuil1!$A$11:$F$29,3),VLOOKUP(I20,Feuil1!$A$11:$F$29,2))))),IF(OR(H20=\"SEN\",H20<1995),VLOOKUP(I20,Feuil1!$G$11:$L$25,6),IF(AND(H20>1994,H20<1998),VLOOKUP(I20,Feuil1!$G$11:$L$25,5),IF(AND(H20>1997,H20<2000),VLOOKUP(I20,Feuil1!$G$11:$L$25,4),IF(AND(H20>1999,H20<2002),VLOOKUP(I20,Feuil1!$G$11:$L$25,3),VLOOKUP(I20,Feuil1!$G$11:$L$25,2)))))))","v":"FS48"},125.97767753254338,null," ",{"$f":"T20-HLOOKUP(X20,Feuil1!$C$1:$BL$10,2,FALSE)","v":20},{"$f":"T20-HLOOKUP(X20,Feuil1!$C$1:$BL$10,3,FALSE)","v":10},{"$f":"T20-HLOOKUP(X20,Feuil1!$C$1:$BL$10,4,FALSE)","v":0},{"$f":"T20-HLOOKUP(X20,Feuil1!$C$1:$BL$10,5,FALSE)","v":-10},{"$f":"T20-HLOOKUP(X20,Feuil1!$C$1:$BL$10,6,FALSE)","v":-20},{"$f":"T20-HLOOKUP(X20,Feuil1!$C$1:$BL$10,7,FALSE)","v":-35},{"$f":"T20-HLOOKUP(X20,Feuil1!$C$1:$BL$10,8,FALSE)","v":-50},{"$f":"T20-HLOOKUP(X20,Feuil1!$C$1:$BL$10,9,FALSE)","v":-65},{"$f":"T20-HLOOKUP(X20,Feuil1!$C$1:$BL$10,10,FALSE)","v":-80},null,null,null,null,null,null,"REG +"]
["F","CO","CEN",16,77655,"BOURGE","Christine",1952,45.7,"CM Orléans","F",28,-30,30,30,38,40,-43,40,70,-21.400000000000006,"DEP +",5,{"$f":"IF(I21=\"\",\"\",IF(A21=\"H\",IF(OR(H21=\"SEN\",H21<1995),VLOOKUP(I21,Feuil1!$A$11:$F$29,6),IF(AND(H21>1994,H21<1998),VLOOKUP(I21,Feuil1!$A$11:$F$29,5),IF(AND(H21>1997,H21<2000),VLOOKUP(I21,Feuil1!$A$11:$F$29,4),IF(AND(H21>1999,H21<2002),VLOOKUP(I21,Feuil1!$A$11:$F$29,3),VLOOKUP(I21,Feuil1!$A$11:$F$29,2))))),IF(OR(H21=\"SEN\",H21<1995),VLOOKUP(I21,Feuil1!$G$11:$L$25,6),IF(AND(H21>1994,H21<1998),VLOOKUP(I21,Feuil1!$G$11:$L$25,5),IF(AND(H21>1997,H21<2000),VLOOKUP(I21,Feuil1!$G$11:$L$25,4),IF(AND(H21>1999,H21<2002),VLOOKUP(I21,Feuil1!$G$11:$L$25,3),VLOOKUP(I21,Feuil1!$G$11:$L$25,2)))))))","v":"FS48"},119.91175390587333,null," ",{"$f":"T21-HLOOKUP(X21,Feuil1!$C$1:$BL$10,2,FALSE)","v":15},{"$f":"T21-HLOOKUP(X21,Feuil1!$C$1:$BL$10,3,FALSE)","v":5},{"$f":"T21-HLOOKUP(X21,Feuil1!$C$1:$BL$10,4,FALSE)","v":-5},{"$f":"T21-HLOOKUP(X21,Feuil1!$C$1:$BL$10,5,FALSE)","v":-15},{"$f":"T21-HLOOKUP(X21,Feuil1!$C$1:$BL$10,6,FALSE)","v":-25},{"$f":"T21-HLOOKUP(X21,Feuil1!$C$1:$BL$10,7,FALSE)","v":-40},{"$f":"T21-HLOOKUP(X21,Feuil1!$C$1:$BL$10,8,FALSE)","v":-55},{"$f":"T21-HLOOKUP(X21,Feuil1!$C$1:$BL$10,9,FALSE)","v":-70},{"$f":"T21-HLOOKUP(X21,Feuil1!$C$1:$BL$10,10,FALSE)","v":-85},null,null,null,null,null,null,"DEP +"]
["F","NE","LOR",17,190306,"BANKA","Karéne",1989,46.7,"H.VALLEROY-AUBOUÉ","F",25,30,32,32,30,35,-40,35,67,-26.400000000000006,"DEP +",2,{"$f":"IF(I22=\"\",\"\",IF(A22=\"H\",IF(OR(H22=\"SEN\",H22<1995),VLOOKUP(I22,Feuil1!$A$11:$F$29,6),IF(AND(H22>1994,H22<1998),VLOOKUP(I22,Feuil1!$A$11:$F$29,5),IF(AND(H22>1997,H22<2000),VLOOKUP(I22,Feuil1!$A$11:$F$29,4),IF(AND(H22>1999,H22<2002),VLOOKUP(I22,Feuil1!$A$11:$F$29,3),VLOOKUP(I22,Feuil1!$A$11:$F$29,2))))),IF(OR(H22=\"SEN\",H22<1995),VLOOKUP(I22,Feuil1!$G$11:$L$25,6),IF(AND(H22>1994,H22<1998),VLOOKUP(I22,Feuil1!$G$11:$L$25,5),IF(AND(H22>1997,H22<2000),VLOOKUP(I22,Feuil1!$G$11:$L$25,4),IF(AND(H22>1999,H22<2002),VLOOKUP(I22,Feuil1!$G$11:$L$25,3),VLOOKUP(I22,Feuil1!$G$11:$L$25,2)))))))","v":"FS48"},112.54005859573876,null," ",{"$f":"T22-HLOOKUP(X22,Feuil1!$C$1:$BL$10,2,FALSE)","v":12},{"$f":"T22-HLOOKUP(X22,Feuil1!$C$1:$BL$10,3,FALSE)","v":2},{"$f":"T22-HLOOKUP(X22,Feuil1!$C$1:$BL$10,4,FALSE)","v":-8},{"$f":"T22-HLOOKUP(X22,Feuil1!$C$1:$BL$10,5,FALSE)","v":-18},{"$f":"T22-HLOOKUP(X22,Feuil1!$C$1:$BL$10,6,FALSE)","v":-28},{"$f":"T22-HLOOKUP(X22,Feuil1!$C$1:$BL$10,7,FALSE)","v":-43},{"$f":"T22-HLOOKUP(X22,Feuil1!$C$1:$BL$10,8,FALSE)","v":-58},{"$f":"T22-HLOOKUP(X22,Feuil1!$C$1:$BL$10,9,FALSE)","v":-73},{"$f":"T22-HLOOKUP(X22,Feuil1!$C$1:$BL$10,10,FALSE)","v":-88},null,null,null,null,null,null,"DEP +"]
["F","SEST","CAZ",18,390121,"SAURIAC","Stephanie",1979,45.2,"ASPTT DRAGUIGNAN","F",25,28,-30,28,35,38,-40,38,66,-24.400000000000006,"DEP +",1,{"$f":"IF(I23=\"\",\"\",IF(A23=\"H\",IF(OR(H23=\"SEN\",H23<1995),VLOOKUP(I23,Feuil1!$A$11:$F$29,6),IF(AND(H23>1994,H23<1998),VLOOKUP(I23,Feuil1!$A$11:$F$29,5),IF(AND(H23>1997,H23<2000),VLOOKUP(I23,Feuil1!$A$11:$F$29,4),IF(AND(H23>1999,H23<2002),VLOOKUP(I23,Feuil1!$A$11:$F$29,3),VLOOKUP(I23,Feuil1!$A$11:$F$29,2))))),IF(OR(H23=\"SEN\",H23<1995),VLOOKUP(I23,Feuil1!$G$11:$L$25,6),IF(AND(H23>1994,H23<1998),VLOOKUP(I23,Feuil1!$G$11:$L$25,5),IF(AND(H23>1997,H23<2000),VLOOKUP(I23,Feuil1!$G$11:$L$25,4),IF(AND(H23>1999,H23<2002),VLOOKUP(I23,Feuil1!$G$11:$L$25,3),VLOOKUP(I23,Feuil1!$G$11:$L$25,2)))))))","v":"FS48"},114.21006752538217,null," ",{"$f":"T23-HLOOKUP(X23,Feuil1!$C$1:$BL$10,2,FALSE)","v":11},{"$f":"T23-HLOOKUP(X23,Feuil1!$C$1:$BL$10,3,FALSE)","v":1},{"$f":"T23-HLOOKUP(X23,Feuil1!$C$1:$BL$10,4,FALSE)","v":-9},{"$f":"T23-HLOOKUP(X23,Feuil1!$C$1:$BL$10,5,FALSE)","v":-19},{"$f":"T23-HLOOKUP(X23,Feuil1!$C$1:$BL$10,6,FALSE)","v":-29},{"$f":"T23-HLOOKUP(X23,Feuil1!$C$1:$BL$10,7,FALSE)","v":-44},{"$f":"T23-HLOOKUP(X23,Feuil1!$C$1:$BL$10,8,FALSE)","v":-59},{"$f":"T23-HLOOKUP(X23,Feuil1!$C$1:$BL$10,9,FALSE)","v":-74},{"$f":"T23-HLOOKUP(X23,Feuil1!$C$1:$BL$10,10,FALSE)","v":-89},null,null,null,null,null,null,"DEP +"]
["F","N","IDF",19,379292,"POLLASTRI","VICTORIA",1994,39.4,"SAINT-MAUR","F",20,-25,25,25,-30,30,-35,30,55,-23.799999999999997,"DEB ",0,{"$f":"IF(I24=\"\",\"\",IF(A24=\"H\",IF(OR(H24=\"SEN\",H24<1995),VLOOKUP(I24,Feuil1!$A$11:$F$29,6),IF(AND(H24>1994,H24<1998),VLOOKUP(I24,Feuil1!$A$11:$F$29,5),IF(AND(H24>1997,H24<2000),VLOOKUP(I24,Feuil1!$A$11:$F$29,4),IF(AND(H24>1999,H24<2002),VLOOKUP(I24,Feuil1!$A$11:$F$29,3),VLOOKUP(I24,Feuil1!$A$11:$F$29,2))))),IF(OR(H24=\"SEN\",H24<1995),VLOOKUP(I24,Feuil1!$G$11:$L$25,6),IF(AND(H24>1994,H24<1998),VLOOKUP(I24,Feuil1!$G$11:$L$25,5),IF(AND(H24>1997,H24<2000),VLOOKUP(I24,Feuil1!$G$11:$L$25,4),IF(AND(H24>1999,H24<2002),VLOOKUP(I24,Feuil1!$G$11:$L$25,3),VLOOKUP(I24,Feuil1!$G$11:$L$25,2)))))))","v":"FS48"},108.85698128970147,null," ",{"$f":"T24-HLOOKUP(X24,Feuil1!$C$1:$BL$10,2,FALSE)","v":0},{"$f":"T24-HLOOKUP(X24,Feuil1!$C$1:$BL$10,3,FALSE)","v":-10},{"$f":"T24-HLOOKUP(X24,Feuil1!$C$1:$BL$10,4,FALSE)","v":-20},{"$f":"T24-HLOOKUP(X24,Feuil1!$C$1:$BL$10,5,FALSE)","v":-30},{"$f":"T24-HLOOKUP(X24,Feuil1!$C$1:$BL$10,6,FALSE)","v":-40},{"$f":"T24-HLOOKUP(X24,Feuil1!$C$1:$BL$10,7,FALSE)","v":-55},{"$f":"T24-HLOOKUP(X24,Feuil1!$C$1:$BL$10,8,FALSE)","v":-70},{"$f":"T24-HLOOKUP(X24,Feuil1!$C$1:$BL$10,9,FALSE)","v":-85},{"$f":"T24-HLOOKUP(X24,Feuil1!$C$1:$BL$10,10,FALSE)","v":-100},null,null,null,null,null,null,"DEB "]
["F","CO","BNO",20,381139,"Loubar","Léa",1991,47.66,"Caen CHM","F",17,20,22,22,25,30,-33,30,52,-43.319999999999993,"DEB ",-3,{"$f":"IF(I25=\"\",\"\",IF(A25=\"H\",IF(OR(H25=\"SEN\",H25<1995),VLOOKUP(I25,Feuil1!$A$11:$F$29,6),IF(AND(H25>1994,H25<1998),VLOOKUP(I25,Feuil1!$A$11:$F$29,5),IF(AND(H25>1997,H25<2000),VLOOKUP(I25,Feuil1!$A$11:$F$29,4),IF(AND(H25>1999,H25<2002),VLOOKUP(I25,Feuil1!$A$11:$F$29,3),VLOOKUP(I25,Feuil1!$A$11:$F$29,2))))),IF(OR(H25=\"SEN\",H25<1995),VLOOKUP(I25,Feuil1!$G$11:$L$25,6),IF(AND(H25>1994,H25<1998),VLOOKUP(I25,Feuil1!$G$11:$L$25,5),IF(AND(H25>1997,H25<2000),VLOOKUP(I25,Feuil1!$G$11:$L$25,4),IF(AND(H25>1999,H25<2002),VLOOKUP(I25,Feuil1!$G$11:$L$25,3),VLOOKUP(I25,Feuil1!$G$11:$L$25,2)))))))","v":"FS48"},85.774920042838346,null," ",{"$f":"T25-HLOOKUP(X25,Feuil1!$C$1:$BL$10,2,FALSE)","v":-3},{"$f":"T25-HLOOKUP(X25,Feuil1!$C$1:$BL$10,3,FALSE)","v":-13},{"$f":"T25-HLOOKUP(X25,Feuil1!$C$1:$BL$10,4,FALSE)","v":-23},{"$f":"T25-HLOOKUP(X25,Feuil1!$C$1:$BL$10,5,FALSE)","v":-33},{"$f":"T25-HLOOKUP(X25,Feuil1!$C$1:$BL$10,6,FALSE)","v":-43},{"$f":"T25-HLOOKUP(X25,Feuil1!$C$1:$BL$10,7,FALSE)","v":-58},{"$f":"T25-HLOOKUP(X25,Feuil1!$C$1:$BL$10,8,FALSE)","v":-73},{"$f":"T25-HLOOKUP(X25,Feuil1!$C$1:$BL$10,9,FALSE)","v":-88},{"$f":"T25-HLOOKUP(X25,Feuil1!$C$1:$BL$10,10,FALSE)","v":-103},null,null,null,null,null,null,"DEB "]
["F","CO","PDL",21,380413,"CALVEZ","Mélanie",1980,47.64,"Saint Herblain","F",20,-22,23,23,28,-31,-31,28,51,-44.28,"DEB ",-4,{"$f":"IF(I26=\"\",\"\",IF(A26=\"H\",IF(OR(H26=\"SEN\",H26<1995),VLOOKUP(I26,Feuil1!$A$11:$F$29,6),IF(AND(H26>1994,H26<1998),VLOOKUP(I26,Feuil1!$A$11:$F$29,5),IF(AND(H26>1997,H26<2000),VLOOKUP(I26,Feuil1!$A$11:$F$29,4),IF(AND(H26>1999,H26<2002),VLOOKUP(I26,Feuil1!$A$11:$F$29,3),VLOOKUP(I26,Feuil1!$A$11:$F$29,2))))),IF(OR(H26=\"SEN\",H26<1995),VLOOKUP(I26,Feuil1!$G$11:$L$25,6),IF(AND(H26>1994,H26<1998),VLOOKUP(I26,Feuil1!$G$11:$L$25,5),IF(AND(H26>1997,H26<2000),VLOOKUP(I26,Feuil1!$G$11:$L$25,4),IF(AND(H26>1999,H26<2002),VLOOKUP(I26,Feuil1!$G$11:$L$25,3),VLOOKUP(I26,Feuil1!$G$11:$L$25,2)))))))","v":"FS48"},84.156600676767169,null," ",{"$f":"T26-HLOOKUP(X26,Feuil1!$C$1:$BL$10,2,FALSE)","v":-4},{"$f":"T26-HLOOKUP(X26,Feuil1!$C$1:$BL$10,3,FALSE)","v":-14},{"$f":"T26-HLOOKUP(X26,Feuil1!$C$1:$BL$10,4,FALSE)","v":-24},{"$f":"T26-HLOOKUP(X26,Feuil1!$C$1:$BL$10,5,FALSE)","v":-34},{"$f":"T26-HLOOKUP(X26,Feuil1!$C$1:$BL$10,6,FALSE)","v":-44},{"$f":"T26-HLOOKUP(X26,Feuil1!$C$1:$BL$10,7,FALSE)","v":-59},{"$f":"T26-HLOOKUP(X26,Feuil1!$C$1:$BL$10,8,FALSE)","v":-74},{"$f":"T26-HLOOKUP(X26,Feuil1!$C$1:$BL$10,9,FALSE)","v":-89},{"$f":"T26-HLOOKUP(X26,Feuil1!$C$1:$BL$10,10,FALSE)","v":-104},null,null,null,null,null,null,"DEB "]
[null,null,null,null,null,null,null,null,null,null,null,null,null,null,null,null,null,null,null,null,null,null,null,null,null,null," ",{"$f":"T27-HLOOKUP(X27,Feuil1!$C$1:$BL$10,2,FALSE)","v":{"$error":"#N/A"}},{"$f":"T27-HLOOKUP(X27,Feuil1!$C$1:$BL$10,3,FALSE)","v":{"$error":"#N/A"}},{"$f":"T27-HLOOKUP(X27,Feuil1!$C$1:$BL$10,4,FALSE)","v":{"$error":"#N/A"}},{"$f":"T27-HLOOKUP(X27,Feuil1!$C$1:$BL$10,5,FALSE)","v":{"$error":"#N/A"}},{"$f":"T27-HLOOKUP(X27,Feuil1!$C$1:$BL$10,6,FALSE)","v":{"$error":"#N/A"}},{"$f":"T27-HLOOKUP(X27,Feuil1!$C$1:$BL$10,7,FALSE)","v":{"$error":"#N/A"}},{"$f":"T27-HLOOKUP(X27,Feuil1!$C$1:$BL$10,8,FALSE)","v":{"$error":"#N/A"}},{"$f":"T27-HLOOKUP(X27,Feuil1!$C$1:$BL$10,9,FALSE)","v":{"$error":"#N/A"}},{"$f":"T27-HLOOKUP(X27,Feuil1!$C$1:$BL$10,10,FALSE)","v":{"$error":"#N/A"}},null,null,null,null,null,null,{"$f":"IF(AJ27>=0,$AJ$4,IF(AI27>=0,$AI$4,IF(AH27>=0,$AH$4,IF(AG27>=0,$AG$4,IF(AF27>=0,$AF$4,IF(AE27>=0,$AE$4,IF(AD27>=0,$AD$4,IF(AC27>=0,$AC$4,$AB$4))))))))","v":{"$error":"#N/A"}}]
["F","CO","CEN",1,129989,"MICHEL","Anais",1988,49.2,"AAJ Blois","F",73,75,77,{"$f":"IF(H28=\"\",\"\",IF(MAXA(L28:N28)<=0,0,MAXA(L28:N28)))","v":77},93,96,-99,{"$f":"IF(H28=\"\",\"\",IF(MAXA(P28:R28)<=0,0,MAXA(P28:R28)))","v":96},{"$f":"IF(H28=\"\",\"\",IF(OR(O28=0,S28=0),0,O28+S28))","v":173},{"$f":"T28-I28*2","v":74.599999999999994},{"$f":"IF(H28=\"\",\"\",AQ28)","v":"INTA +"},{"$f":"IF(AJ28>=0,AJ28,IF(AI28>=0,AI28,IF(AH28>=0,AH28,IF(AG28>=0,AG28,IF(AF28>=0,AF28,IF(AE28>=0,AE28,IF(AD28>=0,AD28,IF(AC28>=0,AC28,AB28))))))))","v":13},{"$f":"IF(I28=\"\",\"\",IF(A28=\"H\",IF(OR(H28=\"SEN\",H28<1995),VLOOKUP(I28,Feuil1!$A$11:$F$29,6),IF(AND(H28>1994,H28<1998),VLOOKUP(I28,Feuil1!$A$11:$F$29,5),IF(AND(H28>1997,H28<2000),VLOOKUP(I28,Feuil1!$A$11:$F$29,4),IF(AND(H28>1999,H28<2002),VLOOKUP(I28,Feuil1!$A$11:$F$29,3),VLOOKUP(I28,Feuil1!$A$11:$F$29,2))))),IF(OR(H28=\"SEN\",H28<1995),VLOOKUP(I28,Feuil1!$G$11:$L$25,6),IF(AND(H28>1994,H28<1998),VLOOKUP(I28,Feuil1!$G$11:$L$25,5),IF(AND(H28>1997,H28<2000),VLOOKUP(I28,Feuil1!$G$11:$L$25,4),IF(AND(H28>1999,H28<2002),VLOOKUP(I28,Feuil1!$G$11:$L$25,3),VLOOKUP(I28,Feuil1!$G$11:$L$25,2)))))))","v":"FS53"},{"$f":"IF(I28=\"\",\"\",IF(A28=\"H\",10^(0.794358141*LOG(I28/174.393)^2)*T28,IF(A28=\"F\",10^(0.89726074*LOG(I28/148.026)^2)*T28,\"\")))","v":277.57210454338809},null," ",{"$f":"T28-HLOOKUP(X28,Feuil1!$C$1:$BL$10,2,FALSE)","v":108},{"$f":"T28-HLOOKUP(X28,Feuil1!$C$1:$BL$10,3,FALSE)","v":98},{"$f":"T28-HLOOKUP(X28,Feuil1!$C$1:$BL$10,4,FALSE)","v":88},{"$f":"T28-HLOOKUP(X28,Feuil1!$C$1:$BL$10,5,FALSE)","v":78},{"$f":"T28-HLOOKUP(X28,Feuil1!$C$1:$BL$10,6,FALSE)","v":68},{"$f":"T28-HLOOKUP(X28,Feuil1!$C$1:$BL$10,7,FALSE)","v":53},{"$f":"T28-HLOOKUP(X28,Feuil1!$C$1:$BL$10,8,FALSE)","v":33},{"$f":"T28-HLOOKUP(X28,Feuil1!$C$1:$BL$10,9,FALSE)","v":13},{"$f":"T28-HLOOKUP(X28,Feuil1!$C$1:$BL$10,10,FALSE)","v":-2},null,null,null,null,null,null,{"$f":"IF(AJ28>=0,$AJ$4,IF(AI28>=0,$AI$4,IF(AH28>=0,$AH$4,IF(AG28>=0,$AG$4,IF(AF28>=0,$AF$4,IF(AE28>=0,$AE$4,IF(AD28>=0,$AD$4,IF(AC28>=0,$AC$4,$AB$4))))))))","v":"INTA +"}]
["F","NE","ALS",2,107889,"LORENTZ","Manon",1991,49.2,"SR Obernai HM","F",73,75,77,77,88,91,-93,91,168,69.599999999999994,"INTA +",8,{"$f":"IF(I29=\"\",\"\",IF(A29=\"H\",IF(OR(H29=\"SEN\",H29<1995),VLOOKUP(I29,Feuil1!$A$11:$F$29,6),IF(AND(H29>1994,H29<1998),VLOOKUP(I29,Feuil1!$A$11:$F$29,5),IF(AND(H29>1997,H29<2000),VLOOKUP(I29,Feuil1!$A$11:$F$29,4),IF(AND(H29>1999,H29<2002),VLOOKUP(I29,Feuil1!$A$11:$F$29,3),VLOOKUP(I29,Feuil1!$A$11:$F$29,2))))),IF(OR(H29=\"SEN\",H29<1995),VLOOKUP(I29,Feuil1!$G$11:$L$25,6),IF(AND(H29>1994,H29<1998),VLOOKUP(I29,Feuil1!$G$11:$L$25,5),IF(AND(H29>1997,H29<2000),VLOOKUP(I29,Feuil1!$G$11:$L$25,4),IF(AND(H29>1999,H29<2002),VLOOKUP(I29,Feuil1!$G$11:$L$25,3),VLOOKUP(I29,Feuil1!$G$11:$L$25,2)))))))","v":"FS53"},269.54978938317458,null," ",{"$f":"T29-HLOOKUP(X29,Feuil1!$C$1:$BL$10,2,FALSE)","v":103},{"$f":"T29-HLOOKUP(X29,Feuil1!$C$1:$BL$10,3,FALSE)","v":93},{"$f":"T29-HLOOKUP(X29,Feuil1!$C$1:$BL$10,4,FALSE)","v":83},{"$f":"T29-HLOOKUP(X29,Feuil1!$C$1:$BL$10,5,FALSE)","v":73},{"$f":"T29-HLOOKUP(X29,Feuil1!$C$1:$BL$10,6,FALSE)","v":63},{"$f":"T29-HLOOKUP(X29,Feuil1!$C$1:$BL$10,7,FALSE)","v":48},{"$f":"T29-HLOOKUP(X29,Feuil1!$C$1:$BL$10,8,FALSE)","v":28},{"$f":"T29-HLOOKUP(X29,Feuil1!$C$1:$BL$10,9,FALSE)","v":8},{"$f":"T29-HLOOKUP(X29,Feuil1!$C$1:$BL$10,10,FALSE)","v":-7},null,null,null,null,null,null,"INTA +"]
["F","N","NPC",3,250225,"PLANCQ","Déborah",1993,52.2,"C.A.ROSENDAEL","F",57,60,63,63,73,77,80,80,143,38.599999999999994,"INTB +",3,{"$f":"IF(I30=\"\",\"\",IF(A30=\"H\",IF(OR(H30=\"SEN\",H30<1995),VLOOKUP(I30,Feuil1!$A$11:$F$29,6),IF(AND(H30>1994,H30<1998),VLOOKUP(I30,Feuil1!$A$11:$F$29,5),IF(AND(H30>1997,H30<2000),VLOOKUP(I30,Feuil1!$A$11:$F$29,4),IF(AND(H30>1999,H30<2002),VLOOKUP(I30,Feuil1!$A$11:$F$29,3),VLOOKUP(I30,Feuil1!$A$11:$F$29,2))))),IF(OR(H30=\"SEN\",H30<1995),VLOOKUP(I30,Feuil1!$G$11:$L$25,6),IF(AND(H30>1994,H30<1998),VLOOKUP(I30,Feuil1!$G$11:$L$25,5),IF(AND(H30>1997,H30<2000),VLOOKUP(I30,Feuil1!$G$11:$L$25,4),IF(AND(H30>1999,H30<2002),VLOOKUP(I30,Feuil1!$G$11:$L$25,3),VLOOKUP(I30,Feuil1!$G$11:$L$25,2)))))))","v":"FS53"},218.36942024906929,null," ",{"$f":"T30-HLOOKUP(X30,Feuil1!$C$1:$BL$10,2,FALSE)","v":78},{"$f":"T30-HLOOKUP(X30,Feuil1!$C$1:$BL$10,3,FALSE)","v":68},{"$f":"T30-HLOOKUP(X30,Feuil1!$C$1:$BL$10,4,FALSE)","v":58},{"$f":"T30-HLOOKUP(X30,Feuil1!$C$1:$BL$10,5,FALSE)","v":48},{"$f":"T30-HLOOKUP(X30,Feuil1!$C$1:$BL$10,6,FALSE)","v":38},{"$f":"T30-HLOOKUP(X30,Feuil1!$C$1:$BL$10,7,FALSE)","v":23},{"$f":"T30-HLOOKUP(X30,Feuil1!$C$1:$BL$10,8,FALSE)","v":3},{"$f":"T30-HLOOKUP(X30,Feuil1!$C$1:$BL$10,9,FALSE)","v":-17},{"$f":"T30-HLOOKUP(X30,Feuil1!$C$1:$BL$10,10,FALSE)","v":-32},null,null,null,null,null,null,"INTB +"]
["F","NE","BOU",4,7051,"BARDIS","Mélanie",1986,48.2,"HMDB21","F",57,61,65,65,70,75,-80,75,140,43.599999999999994,"INTB +",0,{"$f":"IF(I31=\"\",\"\",IF(A31=\"H\",IF(OR(H31=\"SEN\",H31<1995),VLOOKUP(I31,Feuil1!$A$11:$F$29,6),IF(AND(H31>1994,H31<1998),VLOOKUP(I31,Feuil1!$A$11:$F$29,5),IF(AND(H31>1997,H31<2000),VLOOKUP(I31,Feuil1!$A$11:$F$29,4),IF(AND(H31>1999,H31<2002),VLOOKUP(I31,Feuil1!$A$11:$F$29,3),VLOOKUP(I31,Feuil1!$A$11:$F$29,2))))),IF(OR(H31=\"SEN\",H31<1995),VLOOKUP(I31,Feuil1!$G$11:$L$25,6),IF(AND(H31>1994,H31<1998),VLOOKUP(I31,Feuil1!$G$11:$L$25,5),IF(AND(H31>1997,H31<2000),VLOOKUP(I31,Feuil1!$G$11:$L$25,4),IF(AND(H31>1999,H31<2002),VLOOKUP(I31,Feuil1!$G$11:$L$25,3),VLOOKUP(I31,Feuil1!$G$11:$L$25,2)))))))","v":"FS53"},228.65717209534532,null," ",{"$f":"T31-HLOOKUP(X31,Feuil1!$C$1:$BL$10,2,FALSE)","v":75},{"$f":"T31-HLOOKUP(X31,Feuil1!$C$1:$BL$10,3,FALSE)","v":65},{"$f":"T31-HLOOKUP(X31,Feuil1!$C$1:$BL$10,4,FALSE)","v":55},{"$f":"T31-HLOOKUP(X31,Feuil1!$C$1:$BL$10,5,FALSE)","v":45},{"$f":"T31-HLOOKUP(X31,Feuil1!$C$1:$BL$10,6,FALSE)","v":35},{"$f":"T31-HLOOKUP(X31,Feuil1!$C$1:$BL$10,7,FALSE)","v":20},{"$f":"T31-HLOOKUP(X31,Feuil1!$C$1:$BL$10,8,FALSE)","v":0},{"$f":"T31-HLOOKUP(X31,Feuil1!$C$1:$BL$10,9,FALSE)","v":-20},{"$f":"T31-HLOOKUP(X31,Feuil1!$C$1:$BL$10,10,FALSE)","v":-35},null,null,null,null,null,null,"INTB +"]
["F","NE","ALS",5,124208,"BONNAMANT","MELANIE",1992,51.6,"ASPTT Strasbourg","F",55,58,61,61,70,74,-76,74,135,31.799999999999997,"NAT +",15,{"$f":"IF(I32=\"\",\"\",IF(A32=\"H\",IF(OR(H32=\"SEN\",H32<1995),VLOOKUP(I32,Feuil1!$A$11:$F$29,6),IF(AND(H32>1994,H32<1998),VLOOKUP(I32,Feuil1!$A$11:$F$29,5),IF(AND(H32>1997,H32<2000),VLOOKUP(I32,Feuil1!$A$11:$F$29,4),IF(AND(H32>1999,H32<2002),VLOOKUP(I32,Feuil1!$A$11:$F$29,3),VLOOKUP(I32,Feuil1!$A$11:$F$29,2))))),IF(OR(H32=\"SEN\",H32<1995),VLOOKUP(I32,Feuil1!$G$11:$L$25,6),IF(AND(H32>1994,H32<1998),VLOOKUP(I32,Feuil1!$G$11:$L$25,5),IF(AND(H32>1997,H32<2000),VLOOKUP(I32,Feuil1!$G$11:$L$25,4),IF(AND(H32>1999,H32<2002),VLOOKUP(I32,Feuil1!$G$11:$L$25,3),VLOOKUP(I32,Feuil1!$G$11:$L$25,2)))))))","v":"FS53"},208.10891061987655,null," ",{"$f":"T32-HLOOKUP(X32,Feuil1!$C$1:$BL$10,2,FALSE)","v":70},{"$f":"T32-HLOOKUP(X32,Feuil1!$C$1:$BL$10,3,FALSE)","v":60},{"$f":"T32-HLOOKUP(X32,Feuil1!$C$1:$BL$10,4,FALSE)","v":50},{"$f":"T32-HLOOKUP(X32,Feuil1!$C$1:$BL$10,5,FALSE)","v":40},{"$f":"T32-HLOOKUP(X32,Feuil1!$C$1:$BL$10,6,FALSE)","v":30},{"$f":"T32-HLOOKUP(X32,Feuil1!$C$1:$BL$10,7,FALSE)","v":15},{"$f":"T32-HLOOKUP(X32,Feuil1!$C$1:$BL$10,8,FALSE)","v":-5},{"$f":"T32-HLOOKUP(X32,Feuil1!$C$1:$BL$10,9,FALSE)","v":-25},{"$f":"T32-HLOOKUP(X32,Feuil1!$C$1:$BL$10,10,FALSE)","v":-40},null,null,null,null,null,null,"NAT +"]
["F","SEST","RAL",6,79011,"BAILLET ","Florence",1990,48.4,"SAINT BALDOPH","F",53,56,59,59,71,75,-78,75,134,37.200000000000003,"NAT +",14,{"$f":"IF(I33=\"\",\"\",IF(A33=\"H\",IF(OR(H33=\"SEN\",H33<1995),VLOOKUP(I33,Feuil1!$A$11:$F$29,6),IF(AND(H33>1994,H33<1998),VLOOKUP(I33,Feuil1!$A$11:$F$29,5),IF(AND(H33>1997,H33<2000),VLOOKUP(I33,Feuil1!$A$11:$F$29,4),IF(AND(H33>1999,H33<2002),VLOOKUP(I33,Feuil1!$A$11:$F$29,3),VLOOKUP(I33,Feuil1!$A$11:$F$29,2))))),IF(OR(H33=\"SEN\",H33<1995),VLOOKUP(I33,Feuil1!$G$11:$L$25,6),IF(AND(H33>1994,H33<1998),VLOOKUP(I33,Feuil1!$G$11:$L$25,5),IF(AND(H33>1997,H33<2000),VLOOKUP(I33,Feuil1!$G$11:$L$25,4),IF(AND(H33>1999,H33<2002),VLOOKUP(I33,Feuil1!$G$11:$L$25,3),VLOOKUP(I33,Feuil1!$G$11:$L$25,2)))))))","v":"FS53"},218.06800035507709,null," ",{"$f":"T33-HLOOKUP(X33,Feuil1!$C$1:$BL$10,2,FALSE)","v":69},{"$f":"T33-HLOOKUP(X33,Feuil1!$C$1:$BL$10,3,FALSE)","v":59},{"$f":"T33-HLOOKUP(X33,Feuil1!$C$1:$BL$10,4,FALSE)","v":49},{"$f":"T33-HLOOKUP(X33,Feuil1!$C$1:$BL$10,5,FALSE)","v":39},{"$f":"T33-HLOOKUP(X33,Feuil1!$C$1:$BL$10,6,FALSE)","v":29},{"$f":"T33-HLOOKUP(X33,Feuil1!$C$1:$BL$10,7,FALSE)","v":14},{"$f":"T33-HLOOKUP(X33,Feuil1!$C$1:$BL$10,8,FALSE)","v":-6},{"$f":"T33-HLOOKUP(X33,Feuil1!$C$1:$BL$10,9,FALSE)","v":-26},{"$f":"T33-HLOOKUP(X33,Feuil1!$C$1:$BL$10,10,FALSE)","v":-41},null,null,null,null,null,null,"NAT +"]
["F","CO","BNO",7,32998,"FLEURY","Laura",1988,52.2,"Caen CHM","F",55,58,60,60,66,69,-72,69,129,24.599999999999994,"NAT +",9,{"$f":"IF(I34=\"\",\"\",IF(A34=\"H\",IF(OR(H34=\"SEN\",H34<1995),VLOOKUP(I34,Feuil1!$A$11:$F$29,6),IF(AND(H34>1994,H34<1998),VLOOKUP(I34,Feuil1!$A$11:$F$29,5),IF(AND(H34>1997,H34<2000),VLOOKUP(I34,Feuil1!$A$11:$F$29,4),IF(AND(H34>1999,H34<2002),VLOOKUP(I34,Feuil1!$A$11:$F$29,3),VLOOKUP(I34,Feuil1!$A$11:$F$29,2))))),IF(OR(H34=\"SEN\",H34<1995),VLOOKUP(I34,Feuil1!$G$11:$L$25,6),IF(AND(H34>1994,H34<1998),VLOOKUP(I34,Feuil1!$G$11:$L$25,5),IF(AND(H34>1997,H34<2000),VLOOKUP(I34,Feuil1!$G$11:$L$25,4),IF(AND(H34>1999,H34<2002),VLOOKUP(I34,Feuil1!$G$11:$L$25,3),VLOOKUP(I34,Feuil1!$G$11:$L$25,2)))))))","v":"FS53"},196.99059588902054,null," ",{"$f":"T34-HLOOKUP(X34,Feuil1!$C$1:$BL$10,2,FALSE)","v":64},{"$f":"T34-HLOOKUP(X34,Feuil1!$C$1:$BL$10,3,FALSE)","v":54},{"$f":"T34-HLOOKUP(X34,Feuil1!$C$1:$BL$10,4,FALSE)","v":44},{"$f":"T34-HLOOKUP(X34,Feuil1!$C$1:$BL$10,5,FALSE)","v":34},{"$f":"T34-HLOOKUP(X34,Feuil1!$C$1:$BL$10,6,FALSE)","v":24},{"$f":"T34-HLOOKUP(X34,Feuil1!$C$1:$BL$10,7,FALSE)","v":9},{"$f":"T34-HLOOKUP(X34,Feuil1!$C$1:$BL$10,8,FALSE)","v":-11},{"$f":"T34-HLOOKUP(X34,Feuil1!$C$1:$BL$10,9,FALSE)","v":-31},{"$f":"T34-HLOOKUP(X34,Feuil1!$C$1:$BL$10,10,FALSE)","v":-46},null,null,null,null,null,null,"NAT +"]
["F","NE","ALS",8,88574,"HERRMANN","Mélissa",1988,52.3,"SR Obernai HM","F",53,-56,56,56,66,70,-73,70,126,21.400000000000006,"NAT +",6,{"$f":"IF(I35=\"\",\"\",IF(A35=\"H\",IF(OR(H35=\"SEN\",H35<1995),VLOOKUP(I35,Feuil1!$A$11:$F$29,6),IF(AND(H35>1994,H35<1998),VLOOKUP(I35,Feuil1!$A$11:$F$29,5),IF(AND(H35>1997,H35<2000),VLOOKUP(I35,Feuil1!$A$11:$F$29,4),IF(AND(H35>1999,H35<2002),VLOOKUP(I35,Feuil1!$A$11:$F$29,3),VLOOKUP(I35,Feuil1!$A$11:$F$29,2))))),IF(OR(H35=\"SEN\",H35<1995),VLOOKUP(I35,Feuil1!$G$11:$L$25,6),IF(AND(H35>1994,H35<1998),VLOOKUP(I35,Feuil1!$G$11:$L$25,5),IF(AND(H35>1997,H35<2000),VLOOKUP(I35,Feuil1!$G$11:$L$25,4),IF(AND(H35>1999,H35<2002),VLOOKUP(I35,Feuil1!$G$11:$L$25,3),VLOOKUP(I35,Feuil1!$G$11:$L$25,2)))))))","v":"FS53"},192.11079023103167,null," ",{"$f":"T35-HLOOKUP(X35,Feuil1!$C$1:$BL$10,2,FALSE)","v":61},{"$f":"T35-HLOOKUP(X35,Feuil1!$C$1:$BL$10,3,FALSE)","v":51},{"$f":"T35-HLOOKUP(X35,Feuil1!$C$1:$BL$10,4,FALSE)","v":41},{"$f":"T35-HLOOKUP(X35,Feuil1!$C$1:$BL$10,5,FALSE)","v":31},{"$f":"T35-HLOOKUP(X35,Feuil1!$C$1:$BL$10,6,FALSE)","v":21},{"$f":"T35-HLOOKUP(X35,Feuil1!$C$1:$BL$10,7,FALSE)","v":6},{"$f":"T35-HLOOKUP(X35,Feuil1!$C$1:$BL$10,8,FALSE)","v":-14},{"$f":"T35-HLOOKUP(X35,Feuil1!$C$1:$BL$10,9,FALSE)","v":-34},{"$f":"T35-HLOOKUP(X35,Feuil1!$C$1:$BL$10,10,FALSE)","v":-49},null,null,null,null,null,null,"NAT +"]
["F","DOM","REU",9,241107,"EDMOND","NEIGE LINE",1978,48.5,"CH LA PLAINE","F",50,55,-57,55,60,65,-70,65,120,23,"NAT +",0,{"$f":"IF(I36=\"\",\"\",IF(A36=\"H\",IF(OR(H36=\"SEN\",H36<1995),VLOOKUP(I36,Feuil1!$A$11:$F$29,6),IF(AND(H36>1994,H36<1998),VLOOKUP(I36,Feuil1!$A$11:$F$29,5),IF(AND(H36>1997,H36<2000),VLOOKUP(I36,Feuil1!$A$11:$F$29,4),IF(AND(H36>1999,H36<2002),VLOOKUP(I36,Feuil1!$A$11:$F$29,3),VLOOKUP(I36,Feuil1!$A$11:$F$29,2))))),IF(OR(H36=\"SEN\",H36<1995),VLOOKUP(I36,Feuil1!$G$11:$L$25,6),IF(AND(H36>1994,H36<1998),VLOOKUP(I36,Feuil1!$G$11:$L$25,5),IF(AND(H36>1997,H36<2000),VLOOKUP(I36,Feuil1!$G$11:$L$25,4),IF(AND(H36>1999,H36<2002),VLOOKUP(I36,Feuil1!$G$11:$L$25,3),VLOOKUP(I36,Feuil1!$G$11:$L$25,2)))))))","v":"FS53"},194.9342547363718,null," ",{"$f":"T36-HLOOKUP(X36,Feuil1!$C$1:$BL$10,2,FALSE)","v":55},{"$f":"T36-HLOOKUP(X36,Feuil1!$C$1:$BL$10,3,FALSE)","v":45},{"$f":"T36-HLOOKUP(X36,Feuil1!$C$1:$BL$10,4,FALSE)","v":35},{"$f":"T36-HLOOKUP(X36,Feuil1!$C$1:$BL$10,5,FALSE)","v":25},{"$f":"T36-HLOOKUP(X36,Feuil1!$C$1:$BL$10,6,FALSE)","v":15},{"$f":"T36-HLOOKUP(X36,Feuil1!$C$1:$BL$10,7,FALSE)","v":0},{"$f":"T36-HLOOKUP(X36,Feuil1!$C$1:$BL$10,8,FALSE)","v":-20},{"$f":"T36-HLOOKUP(X36,Feuil1!$C$1:$BL$10,9,FALSE)","v":-40},{"$f":"T36-HLOOKUP(X36,Feuil1!$C$1:$BL$10,10,FALSE)","v":-55},null,null,null,null,null,null,"NAT +"]
["F","SO","MPY",10,330764,"PERROUAULT ","Marion",1989,49.2,"COLOMIERS US","F",48,51,-53,51,63,66,69,69,120,21.599999999999994,"NAT +",0,{"$f":"IF(I37=\"\",\"\",IF(A37=\"H\",IF(OR(H37=\"SEN\",H37<1995),VLOOKUP(I37,Feuil1!$A$11:$F$29,6),IF(AND(H37>1994,H37<1998),VLOOKUP(I37,Feuil1!$A$11:$F$29,5),IF(AND(H37>1997,H37<2000),VLOOKUP(I37,Feuil1!$A$11:$F$29,4),IF(AND(H37>1999,H37<2002),VLOOKUP(I37,Feuil1!$A$11:$F$29,3),VLOOKUP(I37,Feuil1!$A$11:$F$29,2))))),IF(OR(H37=\"SEN\",H37<1995),VLOOKUP(I37,Feuil1!$G$11:$L$25,6),IF(AND(H37>1994,H37<1998),VLOOKUP(I37,Feuil1!$G$11:$L$25,5),IF(AND(H37>1997,H37<2000),VLOOKUP(I37,Feuil1!$G$11:$L$25,4),IF(AND(H37>1999,H37<2002),VLOOKUP(I37,Feuil1!$G$11:$L$25,3),VLOOKUP(I37,Feuil1!$G$11:$L$25,2)))))))","v":"FS53"},192.5355638451247,null," ",{"$f":"T37-HLOOKUP(X37,Feuil1!$C$1:$BL$10,2,FALSE)","v":55},{"$f":"T37-HLOOKUP(X37,Feuil1!$C$1:$BL$10,3,FALSE)","v":45},{"$f":"T37-HLOOKUP(X37,Feuil1!$C$1:$BL$10,4,FALSE)","v":35},{"$f":"T37-HLOOKUP(X37,Feuil1!$C$1:$BL$10,5,FALSE)","v":25},{"$f":"T37-HLOOKUP(X37,Feuil1!$C$1:$BL$10,6,FALSE)","v":15},{"$f":"T37-HLOOKUP(X37,Feuil1!$C$1:$BL$10,7,FALSE)","v":0},{"$f":"T37-HLOOKUP(X37,Feuil1!$C$1:$BL$10,8,FALSE)","v":-20},{"$f":"T37-HLOOKUP(X37,Feuil1!$C$1:$BL$10,9,FALSE)","v":-40},{"$f":"T37-HLOOKUP(X37,Feuil1!$C$1:$BL$10,10,FALSE)","v":-55},null,null,null,null,null,null,"NAT +"]
["F","SEST","CAZ",11,31729,"DRAGO","Sylvie",1982,50.6,"ASLDD TOULON","F",51,53,-55,53,67,-70,-70,67,120,18.799999999999997,"NAT +",0,{"$f":"IF(I38=\"\",\"\",IF(A38=\"H\",IF(OR(H38=\"SEN\",H38<1995),VLOOKUP(I38,Feuil1!$A$11:$F$29,6),IF(AND(H38>1994,H38<1998),VLOOKUP(I38,Feuil1!$A$11:$F$29,5),IF(AND(H38>1997,H38<2000),VLOOKUP(I38,Feuil1!$A$11:$F$29,4),IF(AND(H38>1999,H38<2002),VLOOKUP(I38,Feuil1!$A$11:$F$29,3),VLOOKUP(I38,Feuil1!$A$11:$F$29,2))))),IF(OR(H38=\"SEN\",H38<1995),VLOOKUP(I38,Feuil1!$G$11:$L$25,6),IF(AND(H38>1994,H38<1998),VLOOKUP(I38,Feuil1!$G$11:$L$25,5),IF(AND(H38>1997,H38<2000),VLOOKUP(I38,Feuil1!$G$11:$L$25,4),IF(AND(H38>1999,H38<2002),VLOOKUP(I38,Feuil1!$G$11:$L$25,3),VLOOKUP(I38,Feuil1!$G$11:$L$25,2)))))))","v":"FS53"},188.01115445287022,null," ",{"$f":"T38-HLOOKUP(X38,Feuil1!$C$1:$BL$10,2,FALSE)","v":55},{"$f":"T38-HLOOKUP(X38,Feuil1!$C$1:$BL$10,3,FALSE)","v":45},{"$f":"T38-HLOOKUP(X38,Feuil1!$C$1:$BL$10,4,FALSE)","v":35},{"$f":"T38-HLOOKUP(X38,Feuil1!$C$1:$BL$10,5,FALSE)","v":25},{"$f":"T38-HLOOKUP(X38,Feuil1!$C$1:$BL$10,6,FALSE)","v":15},{"$f":"T38-HLOOKUP(X38,Feuil1!$C$1:$BL$10,7,FALSE)","v":0},{"$f":"T38-HLOOKUP(X38,Feuil1!$C$1:$BL$10,8,FALSE)","v":-20},{"$f":"T38-HLOOKUP(X38,Feuil1!$C$1:$BL$10,9,FALSE)","v":-40},{"$f":"T38-HLOOKUP(X38,Feuil1!$C$1:$BL$10,10,FALSE)","v":-55},null,null,null,null,null,null,"NAT +"]
["F","ZCO","BRE",12,1312,"LE GUENNEC","Isabelle",1972,52.5,"Vannes AC","F",49,51,53,53,59,62,64,64,117,12,"FED +",12,{"$f":"IF(I39=\"\",\"\",IF(A39=\"H\",IF(OR(H39=\"SEN\",H39<1995),VLOOKUP(I39,Feuil1!$A$11:$F$29,6),IF(AND(H39>1994,H39<1998),VLOOKUP(I39,Feuil1!$A$11:$F$29,5),IF(AND(H39>1997,H39<2000),VLOOKUP(I39,Feuil1!$A$11:$F$29,4),IF(AND(H39>1999,H39<2002),VLOOKUP(I39,Feuil1!$A$11:$F$29,3),VLOOKUP(I39,Feuil1!$A$11:$F$29,2))))),IF(OR(H39=\"SEN\",H39<1995),VLOOKUP(I39,Feuil1!$G$11:$L$25,6),IF(AND(H39>1994,H39<1998),VLOOKUP(I39,Feuil1!$G$11:$L$25,5),IF(AND(H39>1997,H39<2000),VLOOKUP(I39,Feuil1!$G$11:$L$25,4),IF(AND(H39>1999,H39<2002),VLOOKUP(I39,Feuil1!$G$11:$L$25,3),VLOOKUP(I39,Feuil1!$G$11:$L$25,2)))))))","v":"FS53"},177.83838137531035,null," ",{"$f":"T39-HLOOKUP(X39,Feuil1!$C$1:$BL$10,2,FALSE)","v":52},{"$f":"T39-HLOOKUP(X39,Feuil1!$C$1:$BL$10,3,FALSE)","v":42},{"$f":"T39-HLOOKUP(X39,Feuil1!$C$1:$BL$10,4,FALSE)","v":32},{"$f":"T39-HLOOKUP(X39,Feuil1!$C$1:$BL$10,5,FALSE)","v":22},{"$f":"T39-HLOOKUP(X39,Feuil1!$C$1:$BL$10,6,FALSE)","v":12},{"$f":"T39-HLOOKUP(X39,Feuil1!$C$1:$BL$10,7,FALSE)","v":-3},{"$f":"T39-HLOOKUP(X39,Feuil1!$C$1:$BL$10,8,FALSE)","v":-23},{"$f":"T39-HLOOKUP(X39,Feuil1!$C$1:$BL$10,9,FALSE)","v":-43},{"$f":"T39-HLOOKUP(X39,Feuil1!$C$1:$BL$10,10,FALSE)","v":-58},null,null,null,null,null,null,"FED +"]
["F","SO","MPY",13,376138,"ROUGEMONT","Mathilde",1992,52.4,"TOULOUSE HC","F",43,46,48,48,60,63,66,66,114,9.2000000000000028,"FED +",9,{"$f":"IF(I40=\"\",\"\",IF(A40=\"H\",IF(OR(H40=\"SEN\",H40<1995),VLOOKUP(I40,Feuil1!$A$11:$F$29,6),IF(AND(H40>1994,H40<1998),VLOOKUP(I40,Feuil1!$A$11:$F$29,5),IF(AND(H40>1997,H40<2000),VLOOKUP(I40,Feuil1!$A$11:$F$29,4),IF(AND(H40>1999,H40<2002),VLOOKUP(I40,Feuil1!$A$11:$F$29,3),VLOOKUP(I40,Feuil1!$A$11:$F$29,2))))),IF(OR(H40=\"SEN\",H40<1995),VLOOKUP(I40,Feuil1!$G$11:$L$25,6),IF(AND(H40>1994,H40<1998),VLOOKUP(I40,Feuil1!$G$11:$L$25,5),IF(AND(H40>1997,H40<2000),VLOOKUP(I40,Feuil1!$G$11:$L$25,4),IF(AND(H40>1999,H40<2002),VLOOKUP(I40,Feuil1!$G$11:$L$25,3),VLOOKUP(I40,Feuil1!$G$11:$L$25,2)))))))","v":"FS53"},173.54576460945117,null," ",{"$f":"T40-HLOOKUP(X40,Feuil1!$C$1:$BL$10,2,FALSE)","v":49},{"$f":"T40-HLOOKUP(X40,Feuil1!$C$1:$BL$10,3,FALSE)","v":39},{"$f":"T40-HLOOKUP(X40,Feuil1!$C$1:$BL$10,4,FALSE)","v":29},{"$f":"T40-HLOOKUP(X40,Feuil1!$C$1:$BL$10,5,FALSE)","v":19},{"$f":"T40-HLOOKUP(X40,Feuil1!$C$1:$BL$10,6,FALSE)","v":9},{"$f":"T40-HLOOKUP(X40,Feuil1!$C$1:$BL$10,7,FALSE)","v":-6},{"$f":"T40-HLOOKUP(X40,Feuil1!$C$1:$BL$10,8,FALSE)","v":-26},{"$f":"T40-HLOOKUP(X40,Feuil1!$C$1:$BL$10,9,FALSE)","v":-46},{"$f":"T40-HLOOKUP(X40,Feuil1!$C$1:$BL$10,10,FALSE)","v":-61},null,null,null,null,null,null,"FED +"]
["F","SEST","RAL",14,331889,"LAGRANGE","Isabelle",1976,51.3,"CH Arbresle","F",42,44,46,46,55,60,64,64,110,7.4000000000000057,"FED +",5,{"$f":"IF(I41=\"\",\"\",IF(A41=\"H\",IF(OR(H41=\"SEN\",H41<1995),VLOOKUP(I41,Feuil1!$A$11:$F$29,6),IF(AND(H41>1994,H41<1998),VLOOKUP(I41,Feuil1!$A$11:$F$29,5),IF(AND(H41>1997,H41<2000),VLOOKUP(I41,Feuil1!$A$11:$F$29,4),IF(AND(H41>1999,H41<2002),VLOOKUP(I41,Feuil1!$A$11:$F$29,3),VLOOKUP(I41,Feuil1!$A$11:$F$29,2))))),IF(OR(H41=\"SEN\",H41<1995),VLOOKUP(I41,Feuil1!$G$11:$L$25,6),IF(AND(H41>1994,H41<1998),VLOOKUP(I41,Feuil1!$G$11:$L$25,5),IF(AND(H41>1997,H41<2000),VLOOKUP(I41,Feuil1!$G$11:$L$25,4),IF(AND(H41>1999,H41<2002),VLOOKUP(I41,Feuil1!$G$11:$L$25,3),VLOOKUP(I41,Feuil1!$G$11:$L$25,2)))))))","v":"FS53"},170.38652047135858,null," ",{"$f":"T41-HLOOKUP(X41,Feuil1!$C$1:$BL$10,2,FALSE)","v":45},{"$f":"T41-HLOOKUP(X41,Feuil1!$C$1:$BL$10,3,FALSE)","v":35},{"$f":"T41-HLOOKUP(X41,Feuil1!$C$1:$BL$10,4,FALSE)","v":25},{"$f":"T41-HLOOKUP(X41,Feuil1!$C$1:$BL$10,5,FALSE)","v":15},{"$f":"T41-HLOOKUP(X41,Feuil1!$C$1:$BL$10,6,FALSE)","v":5},{"$f":"T41-HLOOKUP(X41,Feuil1!$C$1:$BL$10,7,FALSE)","v":-10},{"$f":"T41-HLOOKUP(X41,Feuil1!$C$1:$BL$10,8,FALSE)","v":-30},{"$f":"T41-HLOOKUP(X41,Feuil1!$C$1:$BL$10,9,FALSE)","v":-50},{"$f":"T41-HLOOKUP(X41,Feuil1!$C$1:$BL$10,10,FALSE)","v":-65},null,null,null,null,null,null,"FED +"]
["F","N","IDF",15,388572,"DJEBARI-LEBOUC","NADEGE",1978,51.5,"SA MONTMARTRE","F",45,48,-50,48,57,60,62,62,110,7,"FED +",5,{"$f":"IF(I42=\"\",\"\",IF(A42=\"H\",IF(OR(H42=\"SEN\",H42<1995),VLOOKUP(I42,Feuil1!$A$11:$F$29,6),IF(AND(H42>1994,H42<1998),VLOOKUP(I42,Feuil1!$A$11:$F$29,5),IF(AND(H42>1997,H42<2000),VLOOKUP(I42,Feuil1!$A$11:$F$29,4),IF(AND(H42>1999,H42<2002),VLOOKUP(I42,Feuil1!$A$11:$F$29,3),VLOOKUP(I42,Feuil1!$A$11:$F$29,2))))),IF(OR(H42=\"SEN\",H42<1995),VLOOKUP(I42,Feuil1!$G$11:$L$25,6),IF(AND(H42>1994,H42<1998),VLOOKUP(I42,Feuil1!$G$11:$L$25,5),IF(AND(H42>1997,H42<2000),VLOOKUP(I42,Feuil1!$G$11:$L$25,4),IF(AND(H42>1999,H42<2002),VLOOKUP(I42,Feuil1!$G$11:$L$25,3),VLOOKUP(I42,Feuil1!$G$11:$L$25,2)))))))","v":"FS53"},169.84085936064275,null," ",{"$f":"T42-HLOOKUP(X42,Feuil1!$C$1:$BL$10,2,FALSE)","v":45},{"$f":"T42-HLOOKUP(X42,Feuil1!$C$1:$BL$10,3,FALSE)","v":35},{"$f":"T42-HLOOKUP(X42,Feuil1!$C$1:$BL$10,4,FALSE)","v":25},{"$f":"T42-HLOOKUP(X42,Feuil1!$C$1:$BL$10,5,FALSE)","v":15},{"$f":"T42-HLOOKUP(X42,Feuil1!$C$1:$BL$10,6,FALSE)","v":5},{"$f":"T42-HLOOKUP(X42,Feuil1!$C$1:$BL$10,7,FALSE)","v":-10},{"$f":"T42-HLOOKUP(X42,Feuil1!$C$1:$BL$10,8,FALSE)","v":-30},{"$f":"T42-HLOOKUP(X42,Feuil1!$C$1:$BL$10,9,FALSE)","v":-50},{"$f":"T42-HLOOKUP(X42,Feuil1!$C$1:$BL$10,10,FALSE)","v":-65},null,null,null,null,null,null,"FED +"]
["F","SEST","RAL",16,351973,"MARTIN","Cécile",1980,51,"CH Arbresle","F",43,45,46,46,60,63,-65,63,109,7,"FED +",4,{"$f":"IF(I43=\"\",\"\",IF(A43=\"H\",IF(OR(H43=\"SEN\",H43<1995),VLOOKUP(I43,Feuil1!$A$11:$F$29,6),IF(AND(H43>1994,H43<1998),VLOOKUP(I43,Feuil1!$A$11:$F$29,5),IF(AND(H43>1997,H43<2000),VLOOKUP(I43,Feuil1!$A$11:$F$29,4),IF(AND(H43>1999,H43<2002),VLOOKUP(I43,Feuil1!$A$11:$F$29,3),VLOOKUP(I43,Feuil1!$A$11:$F$29,2))))),IF(OR(H43=\"SEN\",H43<1995),VLOOKUP(I43,Feuil1!$G$11:$L$25,6),IF(AND(H43>1994,H43<1998),VLOOKUP(I43,Feuil1!$G$11:$L$25,5),IF(AND(H43>1997,H43<2000),VLOOKUP(I43,Feuil1!$G$11:$L$25,4),IF(AND(H43>1999,H43<2002),VLOOKUP(I43,Feuil1!$G$11:$L$25,3),VLOOKUP(I43,Feuil1!$G$11:$L$25,2)))))))","v":"FS53"},169.65963576439202,null," ",{"$f":"T43-HLOOKUP(X43,Feuil1!$C$1:$BL$10,2,FALSE)","v":44},{"$f":"T43-HLOOKUP(X43,Feuil1!$C$1:$BL$10,3,FALSE)","v":34},{"$f":"T43-HLOOKUP(X43,Feuil1!$C$1:$BL$10,4,FALSE)","v":24},{"$f":"T43-HLOOKUP(X43,Feuil1!$C$1:$BL$10,5,FALSE)","v":14},{"$f":"T43-HLOOKUP(X43,Feuil1!$C$1:$BL$10,6,FALSE)","v":4},{"$f":"T43-HLOOKUP(X43,Feuil1!$C$1:$BL$10,7,FALSE)","v":-11},{"$f":"T43-HLOOKUP(X43,Feuil1!$C$1:$BL$10,8,FALSE)","v":-31},{"$f":"T43-HLOOKUP(X43,Feuil1!$C$1:$BL$10,9,FALSE)","v":-51},{"$f":"T43-HLOOKUP(X43,Feuil1!$C$1:$BL$10,10,FALSE)","v":-66},null,null,null,null,null,null,"FED +"]
["F","SEST","PRO",17,384036,"ICARD","LAURE",1986,51.5,"HM STE TULLE","F",45,-48,48,48,55,58,-60,58,106,3,"FED +",1,{"$f":"IF(I44=\"\",\"\",IF(A44=\"H\",IF(OR(H44=\"SEN\",H44<1995),VLOOKUP(I44,Feuil1!$A$11:$F$29,6),IF(AND(H44>1994,H44<1998),VLOOKUP(I44,Feuil1!$A$11:$F$29,5),IF(AND(H44>1997,H44<2000),VLOOKUP(I44,Feuil1!$A$11:$F$29,4),IF(AND(H44>1999,H44<2002),VLOOKUP(I44,Feuil1!$A$11:$F$29,3),VLOOKUP(I44,Feuil1!$A$11:$F$29,2))))),IF(OR(H44=\"SEN\",H44<1995),VLOOKUP(I44,Feuil1!$G$11:$L$25,6),IF(AND(H44>1994,H44<1998),VLOOKUP(I44,Feuil1!$G$11:$L$25,5),IF(AND(H44>1997,H44<2000),VLOOKUP(I44,Feuil1!$G$11:$L$25,4),IF(AND(H44>1999,H44<2002),VLOOKUP(I44,Feuil1!$G$11:$L$25,3),VLOOKUP(I44,Feuil1!$G$11:$L$25,2)))))))","v":"FS53"},163.66482811116484,null," ",{"$f":"T44-HLOOKUP(X44,Feuil1!$C$1:$BL$10,2,FALSE)","v":41},{"$f":"T44-HLOOKUP(X44,Feuil1!$C$1:$BL$10,3,FALSE)","v":31},{"$f":"T44-HLOOKUP(X44,Feuil1!$C$1:$BL$10,4,FALSE)","v":21},{"$f":"T44-HLOOKUP(X44,Feuil1!$C$1:$BL$10,5,FALSE)","v":11},{"$f":"T44-HLOOKUP(X44,Feuil1!$C$1:$BL$10,6,FALSE)","v":1},{"$f":"T44-HLOOKUP(X44,Feuil1!$C$1:$BL$10,7,FALSE)","v":-14},{"$f":"T44-HLOOKUP(X44,Feuil1!$C$1:$BL$10,8,FALSE)","v":-34},{"$f":"T44-HLOOKUP(X44,Feuil1!$C$1:$BL$10,9,FALSE)","v":-54},{"$f":"T44-HLOOKUP(X44,Feuil1!$C$1:$BL$10,10,FALSE)","v":-69},null,null,null,null,null,null,"FED +"]
["F","ZCO","BRE",18,377412,"PERVIER","Raphaelle",1992,51.65,"Vannes AC","F",45,47,-48,47,-56,58,-60,58,105,1.7000000000000028,"FED +",0,{"$f":"IF(I45=\"\",\"\",IF(A45=\"H\",IF(OR(H45=\"SEN\",H45<1995),VLOOKUP(I45,Feuil1!$A$11:$F$29,6),IF(AND(H45>1994,H45<1998),VLOOKUP(I45,Feuil1!$A$11:$F$29,5),IF(AND(H45>1997,H45<2000),VLOOKUP(I45,Feuil1!$A$11:$F$29,4),IF(AND(H45>1999,H45<2002),VLOOKUP(I45,Feuil1!$A$11:$F$29,3),VLOOKUP(I45,Feuil1!$A$11:$F$29,2))))),IF(OR(H45=\"SEN\",H45<1995),VLOOKUP(I45,Feuil1!$G$11:$L$25,6),IF(AND(H45>1994,H45<1998),VLOOKUP(I45,Feuil1!$G$11:$L$25,5),IF(AND(H45>1997,H45<2000),VLOOKUP(I45,Feuil1!$G$11:$L$25,4),IF(AND(H45>1999,H45<2002),VLOOKUP(I45,Feuil1!$G$11:$L$25,3),VLOOKUP(I45,Feuil1!$G$11:$L$25,2)))))))","v":"FS53"},161.73383822688049,null," ",{"$f":"T45-HLOOKUP(X45,Feuil1!$C$1:$BL$10,2,FALSE)","v":40},{"$f":"T45-HLOOKUP(X45,Feuil1!$C$1:$BL$10,3,FALSE)","v":30},{"$f":"T45-HLOOKUP(X45,Feuil1!$C$1:$BL$10,4,FALSE)","v":20},{"$f":"T45-HLOOKUP(X45,Feuil1!$C$1:$BL$10,5,FALSE)","v":10},{"$f":"T45-HLOOKUP(X45,Feuil1!$C$1:$BL$10,6,FALSE)","v":0},{"$f":"T45-HLOOKUP(X45,Feuil1!$C$1:$BL$10,7,FALSE)","v":-15},{"$f":"T45-HLOOKUP(X45,Feuil1!$C$1:$BL$10,8,FALSE)","v":-35},{"$f":"T45-HLOOKUP(X45,Feuil1!$C$1:$BL$10,9,FALSE)","v":-55},{"$f":"T45-HLOOKUP(X45,Feuil1!$C$1:$BL$10,10,FALSE)","v":-70},null,null,null,null,null,null,"FED +"]
["F","NE","ALS",19,25608,"WITKOWSKI","DAGMAR",1958,53,"ASPTT Strasbourg","F",43,46,49,49,53,56,-58,56,105,-1,"FED +",0,{"$f":"IF(I46=\"\",\"\",IF(A46=\"H\",IF(OR(H46=\"SEN\",H46<1995),VLOOKUP(I46,Feuil1!$A$11:$F$29,6),IF(AND(H46>1994,H46<1998),VLOOKUP(I46,Feuil1!$A$11:$F$29,5),IF(AND(H46>1997,H46<2000),VLOOKUP(I46,Feuil1!$A$11:$F$29,4),IF(AND(H46>1999,H46<2002),VLOOKUP(I46,Feuil1!$A$11:$F$29,3),VLOOKUP(I46,Feuil1!$A$11:$F$29,2))))),IF(OR(H46=\"SEN\",H46<1995),VLOOKUP(I46,Feuil1!$G$11:$L$25,6),IF(AND(H46>1994,H46<1998),VLOOKUP(I46,Feuil1!$G$11:$L$25,5),IF(AND(H46>1997,H46<2000),VLOOKUP(I46,Feuil1!$G$11:$L$25,4),IF(AND(H46>1999,H46<2002),VLOOKUP(I46,Feuil1!$G$11:$L$25,3),VLOOKUP(I46,Feuil1!$G$11:$L$25,2)))))))","v":"FS53"},158.38664127023276,null," ",{"$f":"T46-HLOOKUP(X46,Feuil1!$C$1:$BL$10,2,FALSE)","v":40},{"$f":"T46-HLOOKUP(X46,Feuil1!$C$1:$BL$10,3,FALSE)","v":30},{"$f":"T46-HLOOKUP(X46,Feuil1!$C$1:$BL$10,4,FALSE)","v":20},{"$f":"T46-HLOOKUP(X46,Feuil1!$C$1:$BL$10,5,FALSE)","v":10},{"$f":"T46-HLOOKUP(X46,Feuil1!$C$1:$BL$10,6,FALSE)","v":0},{"$f":"T46-HLOOKUP(X46,Feuil1!$C$1:$BL$10,7,FALSE)","v":-15},{"$f":"T46-HLOOKUP(X46,Feuil1!$C$1:$BL$10,8,FALSE)","v":-35},{"$f":"T46-HLOOKUP(X46,Feuil1!$C$1:$BL$10,9,FALSE)","v":-55},{"$f":"T46-HLOOKUP(X46,Feuil1!$C$1:$BL$10,10,FALSE)","v":-70},null,null,null,null,null,null,"FED +"]
["F","SEST","RAL",20,21779,"LYAUDET","Chrystel",1972,48.7,"H.C. OYONNAX","F",42,44,46,46,52,55,57,57,103,5.5999999999999943,"IRG +",8,{"$f":"IF(I47=\"\",\"\",IF(A47=\"H\",IF(OR(H47=\"SEN\",H47<1995),VLOOKUP(I47,Feuil1!$A$11:$F$29,6),IF(AND(H47>1994,H47<1998),VLOOKUP(I47,Feuil1!$A$11:$F$29,5),IF(AND(H47>1997,H47<2000),VLOOKUP(I47,Feuil1!$A$11:$F$29,4),IF(AND(H47>1999,H47<2002),VLOOKUP(I47,Feuil1!$A$11:$F$29,3),VLOOKUP(I47,Feuil1!$A$11:$F$29,2))))),IF(OR(H47=\"SEN\",H47<1995),VLOOKUP(I47,Feuil1!$G$11:$L$25,6),IF(AND(H47>1994,H47<1998),VLOOKUP(I47,Feuil1!$G$11:$L$25,5),IF(AND(H47>1997,H47<2000),VLOOKUP(I47,Feuil1!$G$11:$L$25,4),IF(AND(H47>1999,H47<2002),VLOOKUP(I47,Feuil1!$G$11:$L$25,3),VLOOKUP(I47,Feuil1!$G$11:$L$25,2)))))))","v":"FS53"},166.72195913532661,null," ",{"$f":"T47-HLOOKUP(X47,Feuil1!$C$1:$BL$10,2,FALSE)","v":38},{"$f":"T47-HLOOKUP(X47,Feuil1!$C$1:$BL$10,3,FALSE)","v":28},{"$f":"T47-HLOOKUP(X47,Feuil1!$C$1:$BL$10,4,FALSE)","v":18},{"$f":"T47-HLOOKUP(X47,Feuil1!$C$1:$BL$10,5,FALSE)","v":8},{"$f":"T47-HLOOKUP(X47,Feuil1!$C$1:$BL$10,6,FALSE)","v":-2},{"$f":"T47-HLOOKUP(X47,Feuil1!$C$1:$BL$10,7,FALSE)","v":-17},{"$f":"T47-HLOOKUP(X47,Feuil1!$C$1:$BL$10,8,FALSE)","v":-37},{"$f":"T47-HLOOKUP(X47,Feuil1!$C$1:$BL$10,9,FALSE)","v":-57},{"$f":"T47-HLOOKUP(X47,Feuil1!$C$1:$BL$10,10,FALSE)","v":-72},null,null,null,null,null,null,"IRG +"]
["F","CO","CEN",21,118442,"JOLIVEAU","Sandrine",1985,49.1,"AAJ Blois","F",42,45,47,47,52,54,-56,54,101,2.7999999999999972,"IRG +",6,{"$f":"IF(I48=\"\",\"\",IF(A48=\"H\",IF(OR(H48=\"SEN\",H48<1995),VLOOKUP(I48,Feuil1!$A$11:$F$29,6),IF(AND(H48>1994,H48<1998),VLOOKUP(I48,Feuil1!$A$11:$F$29,5),IF(AND(H48>1997,H48<2000),VLOOKUP(I48,Feuil1!$A$11:$F$29,4),IF(AND(H48>1999,H48<2002),VLOOKUP(I48,Feuil1!$A$11:$F$29,3),VLOOKUP(I48,Feuil1!$A$11:$F$29,2))))),IF(OR(H48=\"SEN\",H48<1995),VLOOKUP(I48,Feuil1!$G$11:$L$25,6),IF(AND(H48>1994,H48<1998),VLOOKUP(I48,Feuil1!$G$11:$L$25,5),IF(AND(H48>1997,H48<2000),VLOOKUP(I48,Feuil1!$G$11:$L$25,4),IF(AND(H48>1999,H48<2002),VLOOKUP(I48,Feuil1!$G$11:$L$25,3),VLOOKUP(I48,Feuil1!$G$11:$L$25,2)))))))","v":"FS53"},162.33431224082929,null," ",{"$f":"T48-HLOOKUP(X48,Feuil1!$C$1:$BL$10,2,FALSE)","v":36},{"$f":"T48-HLOOKUP(X48,Feuil1!$C$1:$BL$10,3,FALSE)","v":26},{"$f":"T48-HLOOKUP(X48,Feuil1!$C$1:$BL$10,4,FALSE)","v":16},{"$f":"T48-HLOOKUP(X48,Feuil1!$C$1:$BL$10,5,FALSE)","v":6},{"$f":"T48-HLOOKUP(X48,Feuil1!$C$1:$BL$10,6,FALSE)","v":-4},{"$f":"T48-HLOOKUP(X48,Feuil1!$C$1:$BL$10,7,FALSE)","v":-19},{"$f":"T48-HLOOKUP(X48,Feuil1!$C$1:$BL$10,8,FALSE)","v":-39},{"$f":"T48-HLOOKUP(X48,Feuil1!$C$1:$BL$10,9,FALSE)","v":-59},{"$f":"T48-HLOOKUP(X48,Feuil1!$C$1:$BL$10,10,FALSE)","v":-74},null,null,null,null,null,null,"IRG +"]
["F","SEST","RAL",22,212210,"BUFFA","MELODY",1990,51,"BOURG DE PEAGE","F",38,41,44,44,51,55,-58,55,99,-3,"IRG +",4,{"$f":"IF(I49=\"\",\"\",IF(A49=\"H\",IF(OR(H49=\"SEN\",H49<1995),VLOOKUP(I49,Feuil1!$A$11:$F$29,6),IF(AND(H49>1994,H49<1998),VLOOKUP(I49,Feuil1!$A$11:$F$29,5),IF(AND(H49>1997,H49<2000),VLOOKUP(I49,Feuil1!$A$11:$F$29,4),IF(AND(H49>1999,H49<2002),VLOOKUP(I49,Feuil1!$A$11:$F$29,3),VLOOKUP(I49,Feuil1!$A$11:$F$29,2))))),IF(OR(H49=\"SEN\",H49<1995),VLOOKUP(I49,Feuil1!$G$11:$L$25,6),IF(AND(H49>1994,H49<1998),VLOOKUP(I49,Feuil1!$G$11:$L$25,5),IF(AND(H49>1997,H49<2000),VLOOKUP(I49,Feuil1!$G$11:$L$25,4),IF(AND(H49>1999,H49<2002),VLOOKUP(I49,Feuil1!$G$11:$L$25,3),VLOOKUP(I49,Feuil1!$G$11:$L$25,2)))))))","v":"FS53"},154.09453156582396,null," ",{"$f":"T49-HLOOKUP(X49,Feuil1!$C$1:$BL$10,2,FALSE)","v":34},{"$f":"T49-HLOOKUP(X49,Feuil1!$C$1:$BL$10,3,FALSE)","v":24},{"$f":"T49-HLOOKUP(X49,Feuil1!$C$1:$BL$10,4,FALSE)","v":14},{"$f":"T49-HLOOKUP(X49,Feuil1!$C$1:$BL$10,5,FALSE)","v":4},{"$f":"T49-HLOOKUP(X49,Feuil1!$C$1:$BL$10,6,FALSE)","v":-6},{"$f":"T49-HLOOKUP(X49,Feuil1!$C$1:$BL$10,7,FALSE)","v":-21},{"$f":"T49-HLOOKUP(X49,Feuil1!$C$1:$BL$10,8,FALSE)","v":-41},{"$f":"T49-HLOOKUP(X49,Feuil1!$C$1:$BL$10,9,FALSE)","v":-61},{"$f":"T49-HLOOKUP(X49,Feuil1!$C$1:$BL$10,10,FALSE)","v":-76},null,null,null,null,null,null,"IRG +"]
["F","N","PIC",23,364228,"PETIT","Juliette",1985,53,"Villers-Bretonneux KC","F",-42,42,-47,42,53,-56,56,56,98,-8,"IRG +",3,{"$f":"IF(I50=\"\",\"\",IF(A50=\"H\",IF(OR(H50=\"SEN\",H50<1995),VLOOKUP(I50,Feuil1!$A$11:$F$29,6),IF(AND(H50>1994,H50<1998),VLOOKUP(I50,Feuil1!$A$11:$F$29,5),IF(AND(H50>1997,H50<2000),VLOOKUP(I50,Feuil1!$A$11:$F$29,4),IF(AND(H50>1999,H50<2002),VLOOKUP(I50,Feuil1!$A$11:$F$29,3),VLOOKUP(I50,Feuil1!$A$11:$F$29,2))))),IF(OR(H50=\"SEN\",H50<1995),VLOOKUP(I50,Feuil1!$G$11:$L$25,6),IF(AND(H50>1994,H50<1998),VLOOKUP(I50,Feuil1!$G$11:$L$25,5),IF(AND(H50>1997,H50<2000),VLOOKUP(I50,Feuil1!$G$11:$L$25,4),IF(AND(H50>1999,H50<2002),VLOOKUP(I50,Feuil1!$G$11:$L$25,3),VLOOKUP(I50,Feuil1!$G$11:$L$25,2)))))))","v":"FS53"},147.82753185221725,null," ",{"$f":"T50-HLOOKUP(X50,Feuil1!$C$1:$BL$10,2,FALSE)","v":33},{"$f":"T50-HLOOKUP(X50,Feuil1!$C$1:$BL$10,3,FALSE)","v":23},{"$f":"T50-HLOOKUP(X50,Feuil1!$C$1:$BL$10,4,FALSE)","v":13},{"$f":"T50-HLOOKUP(X50,Feuil1!$C$1:$BL$10,5,FALSE)","v":3},{"$f":"T50-HLOOKUP(X50,Feuil1!$C$1:$BL$10,6,FALSE)","v":-7},{"$f":"T50-HLOOKUP(X50,Feuil1!$C$1:$BL$10,7,FALSE)","v":-22},{"$f":"T50-HLOOKUP(X50,Feuil1!$C$1:$BL$10,8,FALSE)","v":-42},{"$f":"T50-HLOOKUP(X50,Feuil1!$C$1:$BL$10,9,FALSE)","v":-62},{"$f":"T50-HLOOKUP(X50,Feuil1!$C$1:$BL$10,10,FALSE)","v":-77},null,null,null,null,null,null,"IRG +"]
["F","SEST","RAL",24,249165,"MORLIERE","Lise",1990,52.85,"VAULX EN VELIN ","F",40,-43,-43,40,52,-56,56,56,96,-9.7000000000000028,"IRG +",1,{"$f":"IF(I51=\"\",\"\",IF(A51=\"H\",IF(OR(H51=\"SEN\",H51<1995),VLOOKUP(I51,Feuil1!$A$11:$F$29,6),IF(AND(H51>1994,H51<1998),VLOOKUP(I51,Feuil1!$A$11:$F$29,5),IF(AND(H51>1997,H51<2000),VLOOKUP(I51,Feuil1!$A$11:$F$29,4),IF(AND(H51>1999,H51<2002),VLOOKUP(I51,Feuil1!$A$11:$F$29,3),VLOOKUP(I51,Feuil1!$A$11:$F$29,2))))),IF(OR(H51=\"SEN\",H51<1995),VLOOKUP(I51,Feuil1!$G$11:$L$25,6),IF(AND(H51>1994,H51<1998),VLOOKUP(I51,Feuil1!$G$11:$L$25,5),IF(AND(H51>1997,H51<2000),VLOOKUP(I51,Feuil1!$G$11:$L$25,4),IF(AND(H51>1999,H51<2002),VLOOKUP(I51,Feuil1!$G$11:$L$25,3),VLOOKUP(I51,Feuil1!$G$11:$L$25,2)))))))","v":"FS53"},145.14000081825006,null," ",{"$f":"T51-HLOOKUP(X51,Feuil1!$C$1:$BL$10,2,FALSE)","v":31},{"$f":"T51-HLOOKUP(X51,Feuil1!$C$1:$BL$10,3,FALSE)","v":21},{"$f":"T51-HLOOKUP(X51,Feuil1!$C$1:$BL$10,4,FALSE)","v":11},{"$f":"T51-HLOOKUP(X51,Feuil1!$C$1:$BL$10,5,FALSE)","v":1},{"$f":"T51-HLOOKUP(X51,Feuil1!$C$1:$BL$10,6,FALSE)","v":-9},{"$f":"T51-HLOOKUP(X51,Feuil1!$C$1:$BL$10,7,FALSE)","v":-24},{"$f":"T51-HLOOKUP(X51,Feuil1!$C$1:$BL$10,8,FALSE)","v":-44},{"$f":"T51-HLOOKUP(X51,Feuil1!$C$1:$BL$10,9,FALSE)","v":-64},{"$f":"T51-HLOOKUP(X51,Feuil1!$C$1:$BL$10,10,FALSE)","v":-79},null,null,null,null,null,null,"IRG +"]
["F","N","PIC",25,32266,"ANDRIEUX KOHUEINUI","Cécile",1989,49,"La Ferté Milon CMHM","F",37,42,45,45,45,50,-55,50,95,-3,"IRG +",0,{"$f":"IF(I52=\"\",\"\",IF(A52=\"H\",IF(OR(H52=\"SEN\",H52<1995),VLOOKUP(I52,Feuil1!$A$11:$F$29,6),IF(AND(H52>1994,H52<1998),VLOOKUP(I52,Feuil1!$A$11:$F$29,5),IF(AND(H52>1997,H52<2000),VLOOKUP(I52,Feuil1!$A$11:$F$29,4),IF(AND(H52>1999,H52<2002),VLOOKUP(I52,Feuil1!$A$11:$F$29,3),VLOOKUP(I52,Feuil1!$A$11:$F$29,2))))),IF(OR(H52=\"SEN\",H52<1995),VLOOKUP(I52,Feuil1!$G$11:$L$25,6),IF(AND(H52>1994,H52<1998),VLOOKUP(I52,Feuil1!$G$11:$L$25,5),IF(AND(H52>1997,H52<2000),VLOOKUP(I52,Feuil1!$G$11:$L$25,4),IF(AND(H52>1999,H52<2002),VLOOKUP(I52,Feuil1!$G$11:$L$25,3),VLOOKUP(I52,Feuil1!$G$11:$L$25,2)))))))","v":"FS53"},152.95889821921779,null," ",{"$f":"T52-HLOOKUP(X52,Feuil1!$C$1:$BL$10,2,FALSE)","v":30},{"$f":"T52-HLOOKUP(X52,Feuil1!$C$1:$BL$10,3,FALSE)","v":20},{"$f":"T52-HLOOKUP(X52,Feuil1!$C$1:$BL$10,4,FALSE)","v":10},{"$f":"T52-HLOOKUP(X52,Feuil1!$C$1:$BL$10,5,FALSE)","v":0},{"$f":"T52-HLOOKUP(X52,Feuil1!$C$1:$BL$10,6,FALSE)","v":-10},{"$f":"T52-HLOOKUP(X52,Feuil1!$C$1:$BL$10,7,FALSE)","v":-25},{"$f":"T52-HLOOKUP(X52,Feuil1!$C$1:$BL$10,8,FALSE)","v":-45},{"$f":"T52-HLOOKUP(X52,Feuil1!$C$1:$BL$10,9,FALSE)","v":-65},{"$f":"T52-HLOOKUP(X52,Feuil1!$C$1:$BL$10,10,FALSE)","v":-80},null,null,null,null,null,null,"IRG +"]
["F","N","IDF",26,388580,"MAROUBI","SALIMA",1988,52.15,"SA MONTMARTRE","F",36,39,41,41,51,54,-57,54,95,-9.2999999999999972,"IRG +",0,{"$f":"IF(I53=\"\",\"\",IF(A53=\"H\",IF(OR(H53=\"SEN\",H53<1995),VLOOKUP(I53,Feuil1!$A$11:$F$29,6),IF(AND(H53>1994,H53<1998),VLOOKUP(I53,Feuil1!$A$11:$F$29,5),IF(AND(H53>1997,H53<2000),VLOOKUP(I53,Feuil1!$A$11:$F$29,4),IF(AND(H53>1999,H53<2002),VLOOKUP(I53,Feuil1!$A$11:$F$29,3),VLOOKUP(I53,Feuil1!$A$11:$F$29,2))))),IF(OR(H53=\"SEN\",H53<1995),VLOOKUP(I53,Feuil1!$G$11:$L$25,6),IF(AND(H53>1994,H53<1998),VLOOKUP(I53,Feuil1!$G$11:$L$25,5),IF(AND(H53>1997,H53<2000),VLOOKUP(I53,Feuil1!$G$11:$L$25,4),IF(AND(H53>1999,H53<2002),VLOOKUP(I53,Feuil1!$G$11:$L$25,3),VLOOKUP(I53,Feuil1!$G$11:$L$25,2)))))))","v":"FS53"},145.18362125602744,null," ",{"$f":"T53-HLOOKUP(X53,Feuil1!$C$1:$BL$10,2,FALSE)","v":30},{"$f":"T53-HLOOKUP(X53,Feuil1!$C$1:$BL$10,3,FALSE)","v":20},{"$f":"T53-HLOOKUP(X53,Feuil1!$C$1:$BL$10,4,FALSE)","v":10},{"$f":"T53-HLOOKUP(X53,Feuil1!$C$1:$BL$10,5,FALSE)","v":0},{"$f":"T53-HLOOKUP(X53,Feuil1!$C$1:$BL$10,6,FALSE)","v":-10},{"$f":"T53-HLOOKUP(X53,Feuil1!$C$1:$BL$10,7,FALSE)","v":-25},{"$f":"T53-HLOOKUP(X53,Feuil1!$C$1:$BL$10,8,FALSE)","v":-45},{"$f":"T53-HLOOKUP(X53,Feuil1!$C$1:$BL$10,9,FALSE)","v":-65},{"$f":"T53-HLOOKUP(X53,Feuil1!$C$1:$BL$10,10,FALSE)","v":-80},null,null,null,null,null,null,"IRG +"]
["F","SEST","AUV",27,390738,"SEMANA","Aurélie",1986,52.4,"CROSSWOD TEAM","F",40,42,-44,42,-53,-53,53,53,95,-9.7999999999999972,"IRG +",0,{"$f":"IF(I54=\"\",\"\",IF(A54=\"H\",IF(OR(H54=\"SEN\",H54<1995),VLOOKUP(I54,Feuil1!$A$11:$F$29,6),IF(AND(H54>1994,H54<1998),VLOOKUP(I54,Feuil1!$A$11:$F$29,5),IF(AND(H54>1997,H54<2000),VLOOKUP(I54,Feuil1!$A$11:$F$29,4),IF(AND(H54>1999,H54<2002),VLOOKUP(I54,Feuil1!$A$11:$F$29,3),VLOOKUP(I54,Feuil1!$A$11:$F$29,2))))),IF(OR(H54=\"SEN\",H54<1995),VLOOKUP(I54,Feuil1!$G$11:$L$25,6),IF(AND(H54>1994,H54<1998),VLOOKUP(I54,Feuil1!$G$11:$L$25,5),IF(AND(H54>1997,H54<2000),VLOOKUP(I54,Feuil1!$G$11:$L$25,4),IF(AND(H54>1999,H54<2002),VLOOKUP(I54,Feuil1!$G$11:$L$25,3),VLOOKUP(I54,Feuil1!$G$11:$L$25,2)))))))","v":"FS53"},144.62147050787598,null," ",{"$f":"T54-HLOOKUP(X54,Feuil1!$C$1:$BL$10,2,FALSE)","v":30},{"$f":"T54-HLOOKUP(X54,Feuil1!$C$1:$BL$10,3,FALSE)","v":20},{"$f":"T54-HLOOKUP(X54,Feuil1!$C$1:$BL$10,4,FALSE)","v":10},{"$f":"T54-HLOOKUP(X54,Feuil1!$C$1:$BL$10,5,FALSE)","v":0},{"$f":"T54-HLOOKUP(X54,Feuil1!$C$1:$BL$10,6,FALSE)","v":-10},{"$f":"T54-HLOOKUP(X54,Feuil1!$C$1:$BL$10,7,FALSE)","v":-25},{"$f":"T54-HLOOKUP(X54,Feuil1!$C$1:$BL$10,8,FALSE)","v":-45},{"$f":"T54-HLOOKUP(X54,Feuil1!$C$1:$BL$10,9,FALSE)","v":-65},{"$f":"T54-HLOOKUP(X54,Feuil1!$C$1:$BL$10,10,FALSE)","v":-80},null,null,null,null,null,null,"IRG +"]
["F","SEST","CAZ",28,361669,"CARON","Axelle",1985,52.4,"ES VILLE LOUBET","F",38,-41,41,41,48,51,-54,51,92,-12.799999999999997,"REG +",7,{"$f":"IF(I55=\"\",\"\",IF(A55=\"H\",IF(OR(H55=\"SEN\",H55<1995),VLOOKUP(I55,Feuil1!$A$11:$F$29,6),IF(AND(H55>1994,H55<1998),VLOOKUP(I55,Feuil1!$A$11:$F$29,5),IF(AND(H55>1997,H55<2000),VLOOKUP(I55,Feuil1!$A$11:$F$29,4),IF(AND(H55>1999,H55<2002),VLOOKUP(I55,Feuil1!$A$11:$F$29,3),VLOOKUP(I55,Feuil1!$A$11:$F$29,2))))),IF(OR(H55=\"SEN\",H55<1995),VLOOKUP(I55,Feuil1!$G$11:$L$25,6),IF(AND(H55>1994,H55<1998),VLOOKUP(I55,Feuil1!$G$11:$L$25,5),IF(AND(H55>1997,H55<2000),VLOOKUP(I55,Feuil1!$G$11:$L$25,4),IF(AND(H55>1999,H55<2002),VLOOKUP(I55,Feuil1!$G$11:$L$25,3),VLOOKUP(I55,Feuil1!$G$11:$L$25,2)))))))","v":"FS53"},140.0544767023641,null," ",{"$f":"T55-HLOOKUP(X55,Feuil1!$C$1:$BL$10,2,FALSE)","v":27},{"$f":"T55-HLOOKUP(X55,Feuil1!$C$1:$BL$10,3,FALSE)","v":17},{"$f":"T55-HLOOKUP(X55,Feuil1!$C$1:$BL$10,4,FALSE)","v":7},{"$f":"T55-HLOOKUP(X55,Feuil1!$C$1:$BL$10,5,FALSE)","v":-3},{"$f":"T55-HLOOKUP(X55,Feuil1!$C$1:$BL$10,6,FALSE)","v":-13},{"$f":"T55-HLOOKUP(X55,Feuil1!$C$1:$BL$10,7,FALSE)","v":-28},{"$f":"T55-HLOOKUP(X55,Feuil1!$C$1:$BL$10,8,FALSE)","v":-48},{"$f":"T55-HLOOKUP(X55,Feuil1!$C$1:$BL$10,9,FALSE)","v":-68},{"$f":"T55-HLOOKUP(X55,Feuil1!$C$1:$BL$10,10,FALSE)","v":-83},null,null,null,null,null,null,"REG +"]
["F","CO","BNO",29,270512,"SAYAH","Nadia",1965,48.35,"Caen CHM","F",40,-43,-44,40,-47,47,50,50,90,-6.7000000000000028,"REG +",5,{"$f":"IF(I56=\"\",\"\",IF(A56=\"H\",IF(OR(H56=\"SEN\",H56<1995),VLOOKUP(I56,Feuil1!$A$11:$F$29,6),IF(AND(H56>1994,H56<1998),VLOOKUP(I56,Feuil1!$A$11:$F$29,5),IF(AND(H56>1997,H56<2000),VLOOKUP(I56,Feuil1!$A$11:$F$29,4),IF(AND(H56>1999,H56<2002),VLOOKUP(I56,Feuil1!$A$11:$F$29,3),VLOOKUP(I56,Feuil1!$A$11:$F$29,2))))),IF(OR(H56=\"SEN\",H56<1995),VLOOKUP(I56,Feuil1!$G$11:$L$25,6),IF(AND(H56>1994,H56<1998),VLOOKUP(I56,Feuil1!$G$11:$L$25,5),IF(AND(H56>1997,H56<2000),VLOOKUP(I56,Feuil1!$G$11:$L$25,4),IF(AND(H56>1999,H56<2002),VLOOKUP(I56,Feuil1!$G$11:$L$25,3),VLOOKUP(I56,Feuil1!$G$11:$L$25,2)))))))","v":"FS53"},146.59559219754561,null," ",{"$f":"T56-HLOOKUP(X56,Feuil1!$C$1:$BL$10,2,FALSE)","v":25},{"$f":"T56-HLOOKUP(X56,Feuil1!$C$1:$BL$10,3,FALSE)","v":15},{"$f":"T56-HLOOKUP(X56,Feuil1!$C$1:$BL$10,4,FALSE)","v":5},{"$f":"T56-HLOOKUP(X56,Feuil1!$C$1:$BL$10,5,FALSE)","v":-5},{"$f":"T56-HLOOKUP(X56,Feuil1!$C$1:$BL$10,6,FALSE)","v":-15},{"$f":"T56-HLOOKUP(X56,Feuil1!$C$1:$BL$10,7,FALSE)","v":-30},{"$f":"T56-HLOOKUP(X56,Feuil1!$C$1:$BL$10,8,FALSE)","v":-50},{"$f":"T56-HLOOKUP(X56,Feuil1!$C$1:$BL$10,9,FALSE)","v":-70},{"$f":"T56-HLOOKUP(X56,Feuil1!$C$1:$BL$10,10,FALSE)","v":-85},null,null,null,null,null,null,"REG +"]
["F","N","IDF",30,360068,"DRAPEAU","FLORIANE",1989,50.3,"SAINT-MAUR","F",35,37,40,40,45,48,50,50,90,-10.599999999999994,"REG +",5,{"$f":"IF(I57=\"\",\"\",IF(A57=\"H\",IF(OR(H57=\"SEN\",H57<1995),VLOOKUP(I57,Feuil1!$A$11:$F$29,6),IF(AND(H57>1994,H57<1998),VLOOKUP(I57,Feuil1!$A$11:$F$29,5),IF(AND(H57>1997,H57<2000),VLOOKUP(I57,Feuil1!$A$11:$F$29,4),IF(AND(H57>1999,H57<2002),VLOOKUP(I57,Feuil1!$A$11:$F$29,3),VLOOKUP(I57,Feuil1!$A$11:$F$29,2))))),IF(OR(H57=\"SEN\",H57<1995),VLOOKUP(I57,Feuil1!$G$11:$L$25,6),IF(AND(H57>1994,H57<1998),VLOOKUP(I57,Feuil1!$G$11:$L$25,5),IF(AND(H57>1997,H57<2000),VLOOKUP(I57,Feuil1!$G$11:$L$25,4),IF(AND(H57>1999,H57<2002),VLOOKUP(I57,Feuil1!$G$11:$L$25,3),VLOOKUP(I57,Feuil1!$G$11:$L$25,2)))))))","v":"FS53"},141.71354663326957,null," ",{"$f":"T57-HLOOKUP(X57,Feuil1!$C$1:$BL$10,2,FALSE)","v":25},{"$f":"T57-HLOOKUP(X57,Feuil1!$C$1:$BL$10,3,FALSE)","v":15},{"$f":"T57-HLOOKUP(X57,Feuil1!$C$1:$BL$10,4,FALSE)","v":5},{"$f":"T57-HLOOKUP(X57,Feuil1!$C$1:$BL$10,5,FALSE)","v":-5},{"$f":"T57-HLOOKUP(X57,Feuil1!$C$1:$BL$10,6,FALSE)","v":-15},{"$f":"T57-HLOOKUP(X57,Feuil1!$C$1:$BL$10,7,FALSE)","v":-30},{"$f":"T57-HLOOKUP(X57,Feuil1!$C$1:$BL$10,8,FALSE)","v":-50},{"$f":"T57-HLOOKUP(X57,Feuil1!$C$1:$BL$10,9,FALSE)","v":-70},{"$f":"T57-HLOOKUP(X57,Feuil1!$C$1:$BL$10,10,FALSE)","v":-85},null,null,null,null,null,null,"REG +"]
["F","SO","AQU",31,380921,"SAIB","LINDA",1977,52,"EA St Médard","F",30,34,36,36,46,49,52,52,88,-16,"REG +",3,{"$f":"IF(I58=\"\",\"\",IF(A58=\"H\",IF(OR(H58=\"SEN\",H58<1995),VLOOKUP(I58,Feuil1!$A$11:$F$29,6),IF(AND(H58>1994,H58<1998),VLOOKUP(I58,Feuil1!$A$11:$F$29,5),IF(AND(H58>1997,H58<2000),VLOOKUP(I58,Feuil1!$A$11:$F$29,4),IF(AND(H58>1999,H58<2002),VLOOKUP(I58,Feuil1!$A$11:$F$29,3),VLOOKUP(I58,Feuil1!$A$11:$F$29,2))))),IF(OR(H58=\"SEN\",H58<1995),VLOOKUP(I58,Feuil1!$G$11:$L$25,6),IF(AND(H58>1994,H58<1998),VLOOKUP(I58,Feuil1!$G$11:$L$25,5),IF(AND(H58>1997,H58<2000),VLOOKUP(I58,Feuil1!$G$11:$L$25,4),IF(AND(H58>1999,H58<2002),VLOOKUP(I58,Feuil1!$G$11:$L$25,3),VLOOKUP(I58,Feuil1!$G$11:$L$25,2)))))))","v":"FS53"},134.80165342665813,null," ",{"$f":"T58-HLOOKUP(X58,Feuil1!$C$1:$BL$10,2,FALSE)","v":23},{"$f":"T58-HLOOKUP(X58,Feuil1!$C$1:$BL$10,3,FALSE)","v":13},{"$f":"T58-HLOOKUP(X58,Feuil1!$C$1:$BL$10,4,FALSE)","v":3},{"$f":"T58-HLOOKUP(X58,Feuil1!$C$1:$BL$10,5,FALSE)","v":-7},{"$f":"T58-HLOOKUP(X58,Feuil1!$C$1:$BL$10,6,FALSE)","v":-17},{"$f":"T58-HLOOKUP(X58,Feuil1!$C$1:$BL$10,7,FALSE)","v":-32},{"$f":"T58-HLOOKUP(X58,Feuil1!$C$1:$BL$10,8,FALSE)","v":-52},{"$f":"T58-HLOOKUP(X58,Feuil1!$C$1:$BL$10,9,FALSE)","v":-72},{"$f":"T58-HLOOKUP(X58,Feuil1!$C$1:$BL$10,10,FALSE)","v":-87},null,null,null,null,null,null,"REG +"]
["F","N","IDF",32,150691,"CARRE","Mélanie",1988,50.7,"BLANC-MESNIL","F",35,38,40,40,40,45,47,47,87,-14.400000000000006,"REG +",2,{"$f":"IF(I59=\"\",\"\",IF(A59=\"H\",IF(OR(H59=\"SEN\",H59<1995),VLOOKUP(I59,Feuil1!$A$11:$F$29,6),IF(AND(H59>1994,H59<1998),VLOOKUP(I59,Feuil1!$A$11:$F$29,5),IF(AND(H59>1997,H59<2000),VLOOKUP(I59,Feuil1!$A$11:$F$29,4),IF(AND(H59>1999,H59<2002),VLOOKUP(I59,Feuil1!$A$11:$F$29,3),VLOOKUP(I59,Feuil1!$A$11:$F$29,2))))),IF(OR(H59=\"SEN\",H59<1995),VLOOKUP(I59,Feuil1!$G$11:$L$25,6),IF(AND(H59>1994,H59<1998),VLOOKUP(I59,Feuil1!$G$11:$L$25,5),IF(AND(H59>1997,H59<2000),VLOOKUP(I59,Feuil1!$G$11:$L$25,4),IF(AND(H59>1999,H59<2002),VLOOKUP(I59,Feuil1!$G$11:$L$25,3),VLOOKUP(I59,Feuil1!$G$11:$L$25,2)))))))","v":"FS53"},136.08334006788755,null," ",{"$f":"T59-HLOOKUP(X59,Feuil1!$C$1:$BL$10,2,FALSE)","v":22},{"$f":"T59-HLOOKUP(X59,Feuil1!$C$1:$BL$10,3,FALSE)","v":12},{"$f":"T59-HLOOKUP(X59,Feuil1!$C$1:$BL$10,4,FALSE)","v":2},{"$f":"T59-HLOOKUP(X59,Feuil1!$C$1:$BL$10,5,FALSE)","v":-8},{"$f":"T59-HLOOKUP(X59,Feuil1!$C$1:$BL$10,6,FALSE)","v":-18},{"$f":"T59-HLOOKUP(X59,Feuil1!$C$1:$BL$10,7,FALSE)","v":-33},{"$f":"T59-HLOOKUP(X59,Feuil1!$C$1:$BL$10,8,FALSE)","v":-53},{"$f":"T59-HLOOKUP(X59,Feuil1!$C$1:$BL$10,9,FALSE)","v":-73},{"$f":"T59-HLOOKUP(X59,Feuil1!$C$1:$BL$10,10,FALSE)","v":-88},null,null,null,null,null,null,"REG +"]
["F","NE","FCO",33,377509,"RAMDANI","Cindy",1989,51.1,"LF Besançon","F",35,-38,38,{"$f":"IF(H60=\"\",\"\",IF(MAXA(L60:N60)<=0,0,MAXA(L60:N60)))","v":38},40,43,46,{"$f":"IF(H60=\"\",\"\",IF(MAXA(P60:R60)<=0,0,MAXA(P60:R60)))","v":46},{"$f":"IF(H60=\"\",\"\",IF(OR(O60=0,S60=0),0,O60+S60))","v":84},{"$f":"T60-I60*2","v":-18.200000000000003},{"$f":"IF(H60=\"\",\"\",AQ60)","v":"DEP +"},{"$f":"IF(AJ60>=0,AJ60,IF(AI60>=0,AI60,IF(AH60>=0,AH60,IF(AG60>=0,AG60,IF(AF60>=0,AF60,IF(AE60>=0,AE60,IF(AD60>=0,AD60,IF(AC60>=0,AC60,AB60))))))))","v":9},{"$f":"IF(I60=\"\",\"\",IF(A60=\"H\",IF(OR(H60=\"SEN\",H60<1995),VLOOKUP(I60,Feuil1!$A$11:$F$29,6),IF(AND(H60>1994,H60<1998),VLOOKUP(I60,Feuil1!$A$11:$F$29,5),IF(AND(H60>1997,H60<2000),VLOOKUP(I60,Feuil1!$A$11:$F$29,4),IF(AND(H60>1999,H60<2002),VLOOKUP(I60,Feuil1!$A$11:$F$29,3),VLOOKUP(I60,Feuil1!$A$11:$F$29,2))))),IF(OR(H60=\"SEN\",H60<1995),VLOOKUP(I60,Feuil1!$G$11:$L$25,6),IF(AND(H60>1994,H60<1998),VLOOKUP(I60,Feuil1!$G$11:$L$25,5),IF(AND(H60>1997,H60<2000),VLOOKUP(I60,Feuil1!$G$11:$L$25,4),IF(AND(H60>1999,H60<2002),VLOOKUP(I60,Feuil1!$G$11:$L$25,3),VLOOKUP(I60,Feuil1!$G$11:$L$25,2)))))))","v":"FS53"},{"$f":"IF(I60=\"\",\"\",IF(A60=\"H\",10^(0.794358141*LOG(I60/174.393)^2)*T60,IF(A60=\"F\",10^(0.89726074*LOG(I60/148.026)^2)*T60,\"\")))","v":130.53455312515013},null," ",{"$f":"T60-HLOOKUP(X60,Feuil1!$C$1:$BL$10,2,FALSE)","v":19},{"$f":"T60-HLOOKUP(X60,Feuil1!$C$1:$BL$10,3,FALSE)","v":9},{"$f":"T60-HLOOKUP(X60,Feuil1!$C$1:$BL$10,4,FALSE)","v":-1},{"$f":"T60-HLOOKUP(X60,Feuil1!$C$1:$BL$10,5,FALSE)","v":-11},{"$f":"T60-HLOOKUP(X60,Feuil1!$C$1:$BL$10,6,FALSE)","v":-21},{"$f":"T60-HLOOKUP(X60,Feuil1!$C$1:$BL$10,7,FALSE)","v":-36},{"$f":"T60-HLOOKUP(X60,Feuil1!$C$1:$BL$10,8,FALSE)","v":-56},{"$f":"T60-HLOOKUP(X60,Feuil1!$C$1:$BL$10,9,FALSE)","v":-76},{"$f":"T60-HLOOKUP(X60,Feuil1!$C$1:$BL$10,10,FALSE)","v":-91},null,null,null,null,null,null,{"$f":"IF(AJ60>=0,$AJ$4,IF(AI60>=0,$AI$4,IF(AH60>=0,$AH$4,IF(AG60>=0,$AG$4,IF(AF60>=0,$AF$4,IF(AE60>=0,$AE$4,IF(AD60>=0,$AD$4,IF(AC60>=0,$AC$4,$AB$4))))))))","v":"DEP +"}]
["F","SO","LIM",34,363013,"PREUVOT","SEVERINE",1989,50.81,"LIMOGES ASPTT","F",33,35,-38,35,43,46,48,48,83,-18.620000000000005,"DEP +",8,{"$f":"IF(I61=\"\",\"\",IF(A61=\"H\",IF(OR(H61=\"SEN\",H61<1995),VLOOKUP(I61,Feuil1!$A$11:$F$29,6),IF(AND(H61>1994,H61<1998),VLOOKUP(I61,Feuil1!$A$11:$F$29,5),IF(AND(H61>1997,H61<2000),VLOOKUP(I61,Feuil1!$A$11:$F$29,4),IF(AND(H61>1999,H61<2002),VLOOKUP(I61,Feuil1!$A$11:$F$29,3),VLOOKUP(I61,Feuil1!$A$11:$F$29,2))))),IF(OR(H61=\"SEN\",H61<1995),VLOOKUP(I61,Feuil1!$G$11:$L$25,6),IF(AND(H61>1994,H61<1998),VLOOKUP(I61,Feuil1!$G$11:$L$25,5),IF(AND(H61>1997,H61<2000),VLOOKUP(I61,Feuil1!$G$11:$L$25,4),IF(AND(H61>1999,H61<2002),VLOOKUP(I61,Feuil1!$G$11:$L$25,3),VLOOKUP(I61,Feuil1!$G$11:$L$25,2)))))))","v":"FS53"},129.59212789349237,null," ",{"$f":"T61-HLOOKUP(X61,Feuil1!$C$1:$BL$10,2,FALSE)","v":18},{"$f":"T61-HLOOKUP(X61,Feuil1!$C$1:$BL$10,3,FALSE)","v":8},{"$f":"T61-HLOOKUP(X61,Feuil1!$C$1:$BL$10,4,FALSE)","v":-2},{"$f":"T61-HLOOKUP(X61,Feuil1!$C$1:$BL$10,5,FALSE)","v":-12},{"$f":"T61-HLOOKUP(X61,Feuil1!$C$1:$BL$10,6,FALSE)","v":-22},{"$f":"T61-HLOOKUP(X61,Feuil1!$C$1:$BL$10,7,FALSE)","v":-37},{"$f":"T61-HLOOKUP(X61,Feuil1!$C$1:$BL$10,8,FALSE)","v":-57},{"$f":"T61-HLOOKUP(X61,Feuil1!$C$1:$BL$10,9,FALSE)","v":-77},{"$f":"T61-HLOOKUP(X61,Feuil1!$C$1:$BL$10,10,FALSE)","v":-92},null,null,null,null,null,null,"DEP +"]
["F","N","PIC",35,391500,"DI PAOLA","Charlène",1988,51.4,"Saleux CHM","F",30,-35,35,35,37,42,46,46,81,-21.799999999999997,"DEP +",6,{"$f":"IF(I62=\"\",\"\",IF(A62=\"H\",IF(OR(H62=\"SEN\",H62<1995),VLOOKUP(I62,Feuil1!$A$11:$F$29,6),IF(AND(H62>1994,H62<1998),VLOOKUP(I62,Feuil1!$A$11:$F$29,5),IF(AND(H62>1997,H62<2000),VLOOKUP(I62,Feuil1!$A$11:$F$29,4),IF(AND(H62>1999,H62<2002),VLOOKUP(I62,Feuil1!$A$11:$F$29,3),VLOOKUP(I62,Feuil1!$A$11:$F$29,2))))),IF(OR(H62=\"SEN\",H62<1995),VLOOKUP(I62,Feuil1!$G$11:$L$25,6),IF(AND(H62>1994,H62<1998),VLOOKUP(I62,Feuil1!$G$11:$L$25,5),IF(AND(H62>1997,H62<2000),VLOOKUP(I62,Feuil1!$G$11:$L$25,4),IF(AND(H62>1999,H62<2002),VLOOKUP(I62,Feuil1!$G$11:$L$25,3),VLOOKUP(I62,Feuil1!$G$11:$L$25,2)))))))","v":"FS53"},125.26499400652656,null," ",{"$f":"T62-HLOOKUP(X62,Feuil1!$C$1:$BL$10,2,FALSE)","v":16},{"$f":"T62-HLOOKUP(X62,Feuil1!$C$1:$BL$10,3,FALSE)","v":6},{"$f":"T62-HLOOKUP(X62,Feuil1!$C$1:$BL$10,4,FALSE)","v":-4},{"$f":"T62-HLOOKUP(X62,Feuil1!$C$1:$BL$10,5,FALSE)","v":-14},{"$f":"T62-HLOOKUP(X62,Feuil1!$C$1:$BL$10,6,FALSE)","v":-24},{"$f":"T62-HLOOKUP(X62,Feuil1!$C$1:$BL$10,7,FALSE)","v":-39},{"$f":"T62-HLOOKUP(X62,Feuil1!$C$1:$BL$10,8,FALSE)","v":-59},{"$f":"T62-HLOOKUP(X62,Feuil1!$C$1:$BL$10,9,FALSE)","v":-79},{"$f":"T62-HLOOKUP(X62,Feuil1!$C$1:$BL$10,10,FALSE)","v":-94},null,null,null,null,null,null,"DEP +"]
["F","NE","LOR",36,190306,"BANKA","Karéne",1989,49.2,"H.VALLEROY-AUBOUÉ","F",32,-35,35,35,42,-45,45,45,80,-18.400000000000006,"DEP +",5,{"$f":"IF(I63=\"\",\"\",IF(A63=\"H\",IF(OR(H63=\"SEN\",H63<1995),VLOOKUP(I63,Feuil1!$A$11:$F$29,6),IF(AND(H63>1994,H63<1998),VLOOKUP(I63,Feuil1!$A$11:$F$29,5),IF(AND(H63>1997,H63<2000),VLOOKUP(I63,Feuil1!$A$11:$F$29,4),IF(AND(H63>1999,H63<2002),VLOOKUP(I63,Feuil1!$A$11:$F$29,3),VLOOKUP(I63,Feuil1!$A$11:$F$29,2))))),IF(OR(H63=\"SEN\",H63<1995),VLOOKUP(I63,Feuil1!$G$11:$L$25,6),IF(AND(H63>1994,H63<1998),VLOOKUP(I63,Feuil1!$G$11:$L$25,5),IF(AND(H63>1997,H63<2000),VLOOKUP(I63,Feuil1!$G$11:$L$25,4),IF(AND(H63>1999,H63<2002),VLOOKUP(I63,Feuil1!$G$11:$L$25,3),VLOOKUP(I63,Feuil1!$G$11:$L$25,2)))))))","v":"FS53"},128.35704256341646,null," ",{"$f":"T63-HLOOKUP(X63,Feuil1!$C$1:$BL$10,2,FALSE)","v":15},{"$f":"T63-HLOOKUP(X63,Feuil1!$C$1:$BL$10,3,FALSE)","v":5},{"$f":"T63-HLOOKUP(X63,Feuil1!$C$1:$BL$10,4,FALSE)","v":-5},{"$f":"T63-HLOOKUP(X63,Feuil1!$C$1:$BL$10,5,FALSE)","v":-15},{"$f":"T63-HLOOKUP(X63,Feuil1!$C$1:$BL$10,6,FALSE)","v":-25},{"$f":"T63-HLOOKUP(X63,Feuil1!$C$1:$BL$10,7,FALSE)","v":-40},{"$f":"T63-HLOOKUP(X63,Feuil1!$C$1:$BL$10,8,FALSE)","v":-60},{"$f":"T63-HLOOKUP(X63,Feuil1!$C$1:$BL$10,9,FALSE)","v":-80},{"$f":"T63-HLOOKUP(X63,Feuil1!$C$1:$BL$10,10,FALSE)","v":-95},null,null,null,null,null,null,"DEP +"]
["F","N","IDF",37,366669,"ZIARH","SHERYNE",1994,51.3,"NEUILLY","F",25,30,35,35,35,40,43,43,78,-24.599999999999994,"DEP +",3,{"$f":"IF(I64=\"\",\"\",IF(A64=\"H\",IF(OR(H64=\"SEN\",H64<1995),VLOOKUP(I64,Feuil1!$A$11:$F$29,6),IF(AND(H64>1994,H64<1998),VLOOKUP(I64,Feuil1!$A$11:$F$29,5),IF(AND(H64>1997,H64<2000),VLOOKUP(I64,Feuil1!$A$11:$F$29,4),IF(AND(H64>1999,H64<2002),VLOOKUP(I64,Feuil1!$A$11:$F$29,3),VLOOKUP(I64,Feuil1!$A$11:$F$29,2))))),IF(OR(H64=\"SEN\",H64<1995),VLOOKUP(I64,Feuil1!$G$11:$L$25,6),IF(AND(H64>1994,H64<1998),VLOOKUP(I64,Feuil1!$G$11:$L$25,5),IF(AND(H64>1997,H64<2000),VLOOKUP(I64,Feuil1!$G$11:$L$25,4),IF(AND(H64>1999,H64<2002),VLOOKUP(I64,Feuil1!$G$11:$L$25,3),VLOOKUP(I64,Feuil1!$G$11:$L$25,2)))))))","v":"FS53"},120.81953269787245,null," ",{"$f":"T64-HLOOKUP(X64,Feuil1!$C$1:$BL$10,2,FALSE)","v":13},{"$f":"T64-HLOOKUP(X64,Feuil1!$C$1:$BL$10,3,FALSE)","v":3},{"$f":"T64-HLOOKUP(X64,Feuil1!$C$1:$BL$10,4,FALSE)","v":-7},{"$f":"T64-HLOOKUP(X64,Feuil1!$C$1:$BL$10,5,FALSE)","v":-17},{"$f":"T64-HLOOKUP(X64,Feuil1!$C$1:$BL$10,6,FALSE)","v":-27},{"$f":"T64-HLOOKUP(X64,Feuil1!$C$1:$BL$10,7,FALSE)","v":-42},{"$f":"T64-HLOOKUP(X64,Feuil1!$C$1:$BL$10,8,FALSE)","v":-62},{"$f":"T64-HLOOKUP(X64,Feuil1!$C$1:$BL$10,9,FALSE)","v":-82},{"$f":"T64-HLOOKUP(X64,Feuil1!$C$1:$BL$10,10,FALSE)","v":-97},null,null,null,null,null,null,"DEP +"]
["F","CO","CEN",38,321930,"CAUMON","Mylène",1979,52.2,"CM Orléans","F",34,-37,-37,34,44,-46,-46,44,78,-26.400000000000006,"DEP +",3,{"$f":"IF(I65=\"\",\"\",IF(A65=\"H\",IF(OR(H65=\"SEN\",H65<1995),VLOOKUP(I65,Feuil1!$A$11:$F$29,6),IF(AND(H65>1994,H65<1998),VLOOKUP(I65,Feuil1!$A$11:$F$29,5),IF(AND(H65>1997,H65<2000),VLOOKUP(I65,Feuil1!$A$11:$F$29,4),IF(AND(H65>1999,H65<2002),VLOOKUP(I65,Feuil1!$A$11:$F$29,3),VLOOKUP(I65,Feuil1!$A$11:$F$29,2))))),IF(OR(H65=\"SEN\",H65<1995),VLOOKUP(I65,Feuil1!$G$11:$L$25,6),IF(AND(H65>1994,H65<1998),VLOOKUP(I65,Feuil1!$G$11:$L$25,5),IF(AND(H65>1997,H65<2000),VLOOKUP(I65,Feuil1!$G$11:$L$25,4),IF(AND(H65>1999,H65<2002),VLOOKUP(I65,Feuil1!$G$11:$L$25,3),VLOOKUP(I65,Feuil1!$G$11:$L$25,2)))))))","v":"FS53"},119.1105928631287,null," ",{"$f":"T65-HLOOKUP(X65,Feuil1!$C$1:$BL$10,2,FALSE)","v":13},{"$f":"T65-HLOOKUP(X65,Feuil1!$C$1:$BL$10,3,FALSE)","v":3},{"$f":"T65-HLOOKUP(X65,Feuil1!$C$1:$BL$10,4,FALSE)","v":-7},{"$f":"T65-HLOOKUP(X65,Feuil1!$C$1:$BL$10,5,FALSE)","v":-17},{"$f":"T65-HLOOKUP(X65,Feuil1!$C$1:$BL$10,6,FALSE)","v":-27},{"$f":"T65-HLOOKUP(X65,Feuil1!$C$1:$BL$10,7,FALSE)","v":-42},{"$f":"T65-HLOOKUP(X65,Feuil1!$C$1:$BL$10,8,FALSE)","v":-62},{"$f":"T65-HLOOKUP(X65,Feuil1!$C$1:$BL$10,9,FALSE)","v":-82},{"$f":"T65-HLOOKUP(X65,Feuil1!$C$1:$BL$10,10,FALSE)","v":-97},null,null,null,null,null,null,"DEP +"]
["F","CO","BNO",39,376363,"MARIE","Julie",1989,48.3,"Caen CHM","F",28,-31,31,31,40,43,45,45,76,-20.599999999999994,"DEP +",1,{"$f":"IF(I66=\"\",\"\",IF(A66=\"H\",IF(OR(H66=\"SEN\",H66<1995),VLOOKUP(I66,Feuil1!$A$11:$F$29,6),IF(AND(H66>1994,H66<1998),VLOOKUP(I66,Feuil1!$A$11:$F$29,5),IF(AND(H66>1997,H66<2000),VLOOKUP(I66,Feuil1!$A$11:$F$29,4),IF(AND(H66>1999,H66<2002),VLOOKUP(I66,Feuil1!$A$11:$F$29,3),VLOOKUP(I66,Feuil1!$A$11:$F$29,2))))),IF(OR(H66=\"SEN\",H66<1995),VLOOKUP(I66,Feuil1!$G$11:$L$25,6),IF(AND(H66>1994,H66<1998),VLOOKUP(I66,Feuil1!$G$11:$L$25,5),IF(AND(H66>1997,H66<2000),VLOOKUP(I66,Feuil1!$G$11:$L$25,4),IF(AND(H66>1999,H66<2002),VLOOKUP(I66,Feuil1!$G$11:$L$25,3),VLOOKUP(I66,Feuil1!$G$11:$L$25,2)))))))","v":"FS53"},123.90362770221522,null," ",{"$f":"T66-HLOOKUP(X66,Feuil1!$C$1:$BL$10,2,FALSE)","v":11},{"$f":"T66-HLOOKUP(X66,Feuil1!$C$1:$BL$10,3,FALSE)","v":1},{"$f":"T66-HLOOKUP(X66,Feuil1!$C$1:$BL$10,4,FALSE)","v":-9},{"$f":"T66-HLOOKUP(X66,Feuil1!$C$1:$BL$10,5,FALSE)","v":-19},{"$f":"T66-HLOOKUP(X66,Feuil1!$C$1:$BL$10,6,FALSE)","v":-29},{"$f":"T66-HLOOKUP(X66,Feuil1!$C$1:$BL$10,7,FALSE)","v":-44},{"$f":"T66-HLOOKUP(X66,Feuil1!$C$1:$BL$10,8,FALSE)","v":-64},{"$f":"T66-HLOOKUP(X66,Feuil1!$C$1:$BL$10,9,FALSE)","v":-84},{"$f":"T66-HLOOKUP(X66,Feuil1!$C$1:$BL$10,10,FALSE)","v":-99},null,null,null,null,null,null,"DEP +"]
["F","DOM","REU",40,372876,"LAURET","Stéphanie",1986,51,"CH TAMPON","F",-30,-30,30,30,40,43,46,46,76,-26,"DEP +",1,{"$f":"IF(I67=\"\",\"\",IF(A67=\"H\",IF(OR(H67=\"SEN\",H67<1995),VLOOKUP(I67,Feuil1!$A$11:$F$29,6),IF(AND(H67>1994,H67<1998),VLOOKUP(I67,Feuil1!$A$11:$F$29,5),IF(AND(H67>1997,H67<2000),VLOOKUP(I67,Feuil1!$A$11:$F$29,4),IF(AND(H67>1999,H67<2002),VLOOKUP(I67,Feuil1!$A$11:$F$29,3),VLOOKUP(I67,Feuil1!$A$11:$F$29,2))))),IF(OR(H67=\"SEN\",H67<1995),VLOOKUP(I67,Feuil1!$G$11:$L$25,6),IF(AND(H67>1994,H67<1998),VLOOKUP(I67,Feuil1!$G$11:$L$25,5),IF(AND(H67>1997,H67<2000),VLOOKUP(I67,Feuil1!$G$11:$L$25,4),IF(AND(H67>1999,H67<2002),VLOOKUP(I67,Feuil1!$G$11:$L$25,3),VLOOKUP(I67,Feuil1!$G$11:$L$25,2)))))))","v":"FS53"},118.29479190911738,null," ",{"$f":"T67-HLOOKUP(X67,Feuil1!$C$1:$BL$10,2,FALSE)","v":11},{"$f":"T67-HLOOKUP(X67,Feuil1!$C$1:$BL$10,3,FALSE)","v":1},{"$f":"T67-HLOOKUP(X67,Feuil1!$C$1:$BL$10,4,FALSE)","v":-9},{"$f":"T67-HLOOKUP(X67,Feuil1!$C$1:$BL$10,5,FALSE)","v":-19},{"$f":"T67-HLOOKUP(X67,Feuil1!$C$1:$BL$10,6,FALSE)","v":-29},{"$f":"T67-HLOOKUP(X67,Feuil1!$C$1:$BL$10,7,FALSE)","v":-44},{"$f":"T67-HLOOKUP(X67,Feuil1!$C$1:$BL$10,8,FALSE)","v":-64},{"$f":"T67-HLOOKUP(X67,Feuil1!$C$1:$BL$10,9,FALSE)","v":-84},{"$f":"T67-HLOOKUP(X67,Feuil1!$C$1:$BL$10,10,FALSE)","v":-99},null,null,null,null,null,null,"DEP +"]
["F","N","PIC",41,87282,"ARANJO","Estelle",1992,51.8,"Villers-Bretonneux KC","F",-30,30,35,35,35,38,40,40,75,-28.599999999999994,"DEP +",0,{"$f":"IF(I68=\"\",\"\",IF(A68=\"H\",IF(OR(H68=\"SEN\",H68<1995),VLOOKUP(I68,Feuil1!$A$11:$F$29,6),IF(AND(H68>1994,H68<1998),VLOOKUP(I68,Feuil1!$A$11:$F$29,5),IF(AND(H68>1997,H68<2000),VLOOKUP(I68,Feuil1!$A$11:$F$29,4),IF(AND(H68>1999,H68<2002),VLOOKUP(I68,Feuil1!$A$11:$F$29,3),VLOOKUP(I68,Feuil1!$A$11:$F$29,2))))),IF(OR(H68=\"SEN\",H68<1995),VLOOKUP(I68,Feuil1!$G$11:$L$25,6),IF(AND(H68>1994,H68<1998),VLOOKUP(I68,Feuil1!$G$11:$L$25,5),IF(AND(H68>1997,H68<2000),VLOOKUP(I68,Feuil1!$G$11:$L$25,4),IF(AND(H68>1999,H68<2002),VLOOKUP(I68,Feuil1!$G$11:$L$25,3),VLOOKUP(I68,Feuil1!$G$11:$L$25,2)))))))","v":"FS53"},115.24996938728493,null," ",{"$f":"T68-HLOOKUP(X68,Feuil1!$C$1:$BL$10,2,FALSE)","v":10},{"$f":"T68-HLOOKUP(X68,Feuil1!$C$1:$BL$10,3,FALSE)","v":0},{"$f":"T68-HLOOKUP(X68,Feuil1!$C$1:$BL$10,4,FALSE)","v":-10},{"$f":"T68-HLOOKUP(X68,Feuil1!$C$1:$BL$10,5,FALSE)","v":-20},{"$f":"T68-HLOOKUP(X68,Feuil1!$C$1:$BL$10,6,FALSE)","v":-30},{"$f":"T68-HLOOKUP(X68,Feuil1!$C$1:$BL$10,7,FALSE)","v":-45},{"$f":"T68-HLOOKUP(X68,Feuil1!$C$1:$BL$10,8,FALSE)","v":-65},{"$f":"T68-HLOOKUP(X68,Feuil1!$C$1:$BL$10,9,FALSE)","v":-85},{"$f":"T68-HLOOKUP(X68,Feuil1!$C$1:$BL$10,10,FALSE)","v":-100},null,null,null,null,null,null,"DEP +"]
["F","NE","ALS",42,287490,"GLUCK","CLEMENCE",1992,52.95,"US Wittenheim","F",26,29,32,32,36,39,-42,39,71,-34.900000000000006,"DEB ",6,{"$f":"IF(I69=\"\",\"\",IF(A69=\"H\",IF(OR(H69=\"SEN\",H69<1995),VLOOKUP(I69,Feuil1!$A$11:$F$29,6),IF(AND(H69>1994,H69<1998),VLOOKUP(I69,Feuil1!$A$11:$F$29,5),IF(AND(H69>1997,H69<2000),VLOOKUP(I69,Feuil1!$A$11:$F$29,4),IF(AND(H69>1999,H69<2002),VLOOKUP(I69,Feuil1!$A$11:$F$29,3),VLOOKUP(I69,Feuil1!$A$11:$F$29,2))))),IF(OR(H69=\"SEN\",H69<1995),VLOOKUP(I69,Feuil1!$G$11:$L$25,6),IF(AND(H69>1994,H69<1998),VLOOKUP(I69,Feuil1!$G$11:$L$25,5),IF(AND(H69>1997,H69<2000),VLOOKUP(I69,Feuil1!$G$11:$L$25,4),IF(AND(H69>1999,H69<2002),VLOOKUP(I69,Feuil1!$G$11:$L$25,3),VLOOKUP(I69,Feuil1!$G$11:$L$25,2)))))))","v":"FS53"},107.18052147066042,null," ",{"$f":"T69-HLOOKUP(X69,Feuil1!$C$1:$BL$10,2,FALSE)","v":6},{"$f":"T69-HLOOKUP(X69,Feuil1!$C$1:$BL$10,3,FALSE)","v":-4},{"$f":"T69-HLOOKUP(X69,Feuil1!$C$1:$BL$10,4,FALSE)","v":-14},{"$f":"T69-HLOOKUP(X69,Feuil1!$C$1:$BL$10,5,FALSE)","v":-24},{"$f":"T69-HLOOKUP(X69,Feuil1!$C$1:$BL$10,6,FALSE)","v":-34},{"$f":"T69-HLOOKUP(X69,Feuil1!$C$1:$BL$10,7,FALSE)","v":-49},{"$f":"T69-HLOOKUP(X69,Feuil1!$C$1:$BL$10,8,FALSE)","v":-69},{"$f":"T69-HLOOKUP(X69,Feuil1!$C$1:$BL$10,9,FALSE)","v":-89},{"$f":"T69-HLOOKUP(X69,Feuil1!$C$1:$BL$10,10,FALSE)","v":-104},null,null,null,null,null,null,"DEB "]
["F","SO","MPY",43,379254,"CHAILLET","Perrine",1991,53,"TOULOUSE HC","F",27,29,31,31,37,40,-42,40,71,-35,"DEB ",6,{"$f":"IF(I70=\"\",\"\",IF(A70=\"H\",IF(OR(H70=\"SEN\",H70<1995),VLOOKUP(I70,Feuil1!$A$11:$F$29,6),IF(AND(H70>1994,H70<1998),VLOOKUP(I70,Feuil1!$A$11:$F$29,5),IF(AND(H70>1997,H70<2000),VLOOKUP(I70,Feuil1!$A$11:$F$29,4),IF(AND(H70>1999,H70<2002),VLOOKUP(I70,Feuil1!$A$11:$F$29,3),VLOOKUP(I70,Feuil1!$A$11:$F$29,2))))),IF(OR(H70=\"SEN\",H70<1995),VLOOKUP(I70,Feuil1!$G$11:$L$25,6),IF(AND(H70>1994,H70<1998),VLOOKUP(I70,Feuil1!$G$11:$L$25,5),IF(AND(H70>1997,H70<2000),VLOOKUP(I70,Feuil1!$G$11:$L$25,4),IF(AND(H70>1999,H70<2002),VLOOKUP(I70,Feuil1!$G$11:$L$25,3),VLOOKUP(I70,Feuil1!$G$11:$L$25,2)))))))","v":"FS53"},107.09953838272882,null," ",{"$f":"T70-HLOOKUP(X70,Feuil1!$C$1:$BL$10,2,FALSE)","v":6},{"$f":"T70-HLOOKUP(X70,Feuil1!$C$1:$BL$10,3,FALSE)","v":-4},{"$f":"T70-HLOOKUP(X70,Feuil1!$C$1:$BL$10,4,FALSE)","v":-14},{"$f":"T70-HLOOKUP(X70,Feuil1!$C$1:$BL$10,5,FALSE)","v":-24},{"$f":"T70-HLOOKUP(X70,Feuil1!$C$1:$BL$10,6,FALSE)","v":-34},{"$f":"T70-HLOOKUP(X70,Feuil1!$C$1:$BL$10,7,FALSE)","v":-49},{"$f":"T70-HLOOKUP(X70,Feuil1!$C$1:$BL$10,8,FALSE)","v":-69},{"$f":"T70-HLOOKUP(X70,Feuil1!$C$1:$BL$10,9,FALSE)","v":-89},{"$f":"T70-HLOOKUP(X70,Feuil1!$C$1:$BL$10,10,FALSE)","v":-104},null,null,null,null,null,null,"DEB "]
["F","NE","FCO",44,374652,"CREVOISIER","Lucie",1993,51.6,"CH Luxeuil","F",23,-26,26,26,32,-35,35,35,61,-42.2,"DEB ",-4,{"$f":"IF(I71=\"\",\"\",IF(A71=\"H\",IF(OR(H71=\"SEN\",H71<1995),VLOOKUP(I71,Feuil1!$A$11:$F$29,6),IF(AND(H71>1994,H71<1998),VLOOKUP(I71,Feuil1!$A$11:$F$29,5),IF(AND(H71>1997,H71<2000),VLOOKUP(I71,Feuil1!$A$11:$F$29,4),IF(AND(H71>1999,H71<2002),VLOOKUP(I71,Feuil1!$A$11:$F$29,3),VLOOKUP(I71,Feuil1!$A$11:$F$29,2))))),IF(OR(H71=\"SEN\",H71<1995),VLOOKUP(I71,Feuil1!$G$11:$L$25,6),IF(AND(H71>1994,H71<1998),VLOOKUP(I71,Feuil1!$G$11:$L$25,5),IF(AND(H71>1997,H71<2000),VLOOKUP(I71,Feuil1!$G$11:$L$25,4),IF(AND(H71>1999,H71<2002),VLOOKUP(I71,Feuil1!$G$11:$L$25,3),VLOOKUP(I71,Feuil1!$G$11:$L$25,2)))))))","v":"FS53"},94.034396650462739,null," ",{"$f":"T71-HLOOKUP(X71,Feuil1!$C$1:$BL$10,2,FALSE)","v":-4},{"$f":"T71-HLOOKUP(X71,Feuil1!$C$1:$BL$10,3,FALSE)","v":-14},{"$f":"T71-HLOOKUP(X71,Feuil1!$C$1:$BL$10,4,FALSE)","v":-24},{"$f":"T71-HLOOKUP(X71,Feuil1!$C$1:$BL$10,5,FALSE)","v":-34},{"$f":"T71-HLOOKUP(X71,Feuil1!$C$1:$BL$10,6,FALSE)","v":-44},{"$f":"T71-HLOOKUP(X71,Feuil1!$C$1:$BL$10,7,FALSE)","v":-59},{"$f":"T71-HLOOKUP(X71,Feuil1!$C$1:$BL$10,8,FALSE)","v":-79},{"$f":"T71-HLOOKUP(X71,Feuil1!$C$1:$BL$10,9,FALSE)","v":-99},{"$f":"T71-HLOOKUP(X71,Feuil1!$C$1:$BL$10,10,FALSE)","v":-114},null,null,null,null,null,null,"DEB "]
["F","SEST","RAL",45,292689,"MENDEZ PACHECO","Belkis",1994,51.55,"VAULX EN VELIN ","F",25,-28,"_",25,32,35,-38,35,60,-43.099999999999994,"DEB ",-5,{"$f":"IF(I72=\"\",\"\",IF(A72=\"H\",IF(OR(H72=\"SEN\",H72<1995),VLOOKUP(I72,Feuil1!$A$11:$F$29,6),IF(AND(H72>1994,H72<1998),VLOOKUP(I72,Feuil1!$A$11:$F$29,5),IF(AND(H72>1997,H72<2000),VLOOKUP(I72,Feuil1!$A$11:$F$29,4),IF(AND(H72>1999,H72<2002),VLOOKUP(I72,Feuil1!$A$11:$F$29,3),VLOOKUP(I72,Feuil1!$A$11:$F$29,2))))),IF(OR(H72=\"SEN\",H72<1995),VLOOKUP(I72,Feuil1!$G$11:$L$25,6),IF(AND(H72>1994,H72<1998),VLOOKUP(I72,Feuil1!$G$11:$L$25,5),IF(AND(H72>1997,H72<2000),VLOOKUP(I72,Feuil1!$G$11:$L$25,4),IF(AND(H72>1999,H72<2002),VLOOKUP(I72,Feuil1!$G$11:$L$25,3),VLOOKUP(I72,Feuil1!$G$11:$L$25,2)))))))","v":"FS53"},92.566559796829154,null," ",{"$f":"T72-HLOOKUP(X72,Feuil1!$C$1:$BL$10,2,FALSE)","v":-5},{"$f":"T72-HLOOKUP(X72,Feuil1!$C$1:$BL$10,3,FALSE)","v":-15},{"$f":"T72-HLOOKUP(X72,Feuil1!$C$1:$BL$10,4,FALSE)","v":-25},{"$f":"T72-HLOOKUP(X72,Feuil1!$C$1:$BL$10,5,FALSE)","v":-35},{"$f":"T72-HLOOKUP(X72,Feuil1!$C$1:$BL$10,6,FALSE)","v":-45},{"$f":"T72-HLOOKUP(X72,Feuil1!$C$1:$BL$10,7,FALSE)","v":-60},{"$f":"T72-HLOOKUP(X72,Feuil1!$C$1:$BL$10,8,FALSE)","v":-80},{"$f":"T72-HLOOKUP(X72,Feuil1!$C$1:$BL$10,9,FALSE)","v":-100},{"$f":"T72-HLOOKUP(X72,Feuil1!$C$1:$BL$10,10,FALSE)","v":-115},null,null,null,null,null,null,"DEB "]
["F","SO","LIM",46,19193,"FARGETAS","MARIE PIERRE",1975,52.25,"LIMOGES ASPTT","F",20,23,25,25,30,35,-36,35,60,-44.5,"DEB ",-5,{"$f":"IF(I73=\"\",\"\",IF(A73=\"H\",IF(OR(H73=\"SEN\",H73<1995),VLOOKUP(I73,Feuil1!$A$11:$F$29,6),IF(AND(H73>1994,H73<1998),VLOOKUP(I73,Feuil1!$A$11:$F$29,5),IF(AND(H73>1997,H73<2000),VLOOKUP(I73,Feuil1!$A$11:$F$29,4),IF(AND(H73>1999,H73<2002),VLOOKUP(I73,Feuil1!$A$11:$F$29,3),VLOOKUP(I73,Feuil1!$A$11:$F$29,2))))),IF(OR(H73=\"SEN\",H73<1995),VLOOKUP(I73,Feuil1!$G$11:$L$25,6),IF(AND(H73>1994,H73<1998),VLOOKUP(I73,Feuil1!$G$11:$L$25,5),IF(AND(H73>1997,H73<2000),VLOOKUP(I73,Feuil1!$G$11:$L$25,4),IF(AND(H73>1999,H73<2002),VLOOKUP(I73,Feuil1!$G$11:$L$25,3),VLOOKUP(I73,Feuil1!$G$11:$L$25,2)))))))","v":"FS53"},91.552336527113255,null," ",{"$f":"T73-HLOOKUP(X73,Feuil1!$C$1:$BL$10,2,FALSE)","v":-5},{"$f":"T73-HLOOKUP(X73,Feuil1!$C$1:$BL$10,3,FALSE)","v":-15},{"$f":"T73-HLOOKUP(X73,Feuil1!$C$1:$BL$10,4,FALSE)","v":-25},{"$f":"T73-HLOOKUP(X73,Feuil1!$C$1:$BL$10,5,FALSE)","v":-35},{"$f":"T73-HLOOKUP(X73,Feuil1!$C$1:$BL$10,6,FALSE)","v":-45},{"$f":"T73-HLOOKUP(X73,Feuil1!$C$1:$BL$10,7,FALSE)","v":-60},{"$f":"T73-HLOOKUP(X73,Feuil1!$C$1:$BL$10,8,FALSE)","v":-80},{"$f":"T73-HLOOKUP(X73,Feuil1!$C$1:$BL$10,9,FALSE)","v":-100},{"$f":"T73-HLOOKUP(X73,Feuil1!$C$1:$BL$10,10,FALSE)","v":-115},null,null,null,null,null,null,"DEB "]
["F","SO","MPY",47,379250,"REBELO","Marie-Pierre",1959,52.6,"PAMIERS HC","F",20,22,24,24,25,28,31,31,55,-50.2,"DEB ",-10,{"$f":"IF(I74=\"\",\"\",IF(A74=\"H\",IF(OR(H74=\"SEN\",H74<1995),VLOOKUP(I74,Feuil1!$A$11:$F$29,6),IF(AND(H74>1994,H74<1998),VLOOKUP(I74,Feuil1!$A$11:$F$29,5),IF(AND(H74>1997,H74<2000),VLOOKUP(I74,Feuil1!$A$11:$F$29,4),IF(AND(H74>1999,H74<2002),VLOOKUP(I74,Feuil1!$A$11:$F$29,3),VLOOKUP(I74,Feuil1!$A$11:$F$29,2))))),IF(OR(H74=\"SEN\",H74<1995),VLOOKUP(I74,Feuil1!$G$11:$L$25,6),IF(AND(H74>1994,H74<1998),VLOOKUP(I74,Feuil1!$G$11:$L$25,5),IF(AND(H74>1997,H74<2000),VLOOKUP(I74,Feuil1!$G$11:$L$25,4),IF(AND(H74>1999,H74<2002),VLOOKUP(I74,Feuil1!$G$11:$L$25,3),VLOOKUP(I74,Feuil1!$G$11:$L$25,2)))))))","v":"FS53"},83.470937812154389,null," ",{"$f":"T74-HLOOKUP(X74,Feuil1!$C$1:$BL$10,2,FALSE)","v":-10},{"$f":"T74-HLOOKUP(X74,Feuil1!$C$1:$BL$10,3,FALSE)","v":-20},{"$f":"T74-HLOOKUP(X74,Feuil1!$C$1:$BL$10,4,FALSE)","v":-30},{"$f":"T74-HLOOKUP(X74,Feuil1!$C$1:$BL$10,5,FALSE)","v":-40},{"$f":"T74-HLOOKUP(X74,Feuil1!$C$1:$BL$10,6,FALSE)","v":-50},{"$f":"T74-HLOOKUP(X74,Feuil1!$C$1:$BL$10,7,FALSE)","v":-65},{"$f":"T74-HLOOKUP(X74,Feuil1!$C$1:$BL$10,8,FALSE)","v":-85},{"$f":"T74-HLOOKUP(X74,Feuil1!$C$1:$BL$10,9,FALSE)","v":-105},{"$f":"T74-HLOOKUP(X74,Feuil1!$C$1:$BL$10,10,FALSE)","v":-120},null,null,null,null,null,null,"DEB "]
["F","NE","FCO",48,374245,"PATTE","Mélisande",1987,51.5,"CH Luxeuil","F",19,-22,22,22,28,-31,31,31,53,-50,"DEB ",-12,{"$f":"IF(I75=\"\",\"\",IF(A75=\"H\",IF(OR(H75=\"SEN\",H75<1995),VLOOKUP(I75,Feuil1!$A$11:$F$29,6),IF(AND(H75>1994,H75<1998),VLOOKUP(I75,Feuil1!$A$11:$F$29,5),IF(AND(H75>1997,H75<2000),VLOOKUP(I75,Feuil1!$A$11:$F$29,4),IF(AND(H75>1999,H75<2002),VLOOKUP(I75,Feuil1!$A$11:$F$29,3),VLOOKUP(I75,Feuil1!$A$11:$F$29,2))))),IF(OR(H75=\"SEN\",H75<1995),VLOOKUP(I75,Feuil1!$G$11:$L$25,6),IF(AND(H75>1994,H75<1998),VLOOKUP(I75,Feuil1!$G$11:$L$25,5),IF(AND(H75>1997,H75<2000),VLOOKUP(I75,Feuil1!$G$11:$L$25,4),IF(AND(H75>1999,H75<2002),VLOOKUP(I75,Feuil1!$G$11:$L$25,3),VLOOKUP(I75,Feuil1!$G$11:$L$25,2)))))))","v":"FS53"},81.832414055582419,null," ",{"$f":"T75-HLOOKUP(X75,Feuil1!$C$1:$BL$10,2,FALSE)","v":-12},{"$f":"T75-HLOOKUP(X75,Feuil1!$C$1:$BL$10,3,FALSE)","v":-22},{"$f":"T75-HLOOKUP(X75,Feuil1!$C$1:$BL$10,4,FALSE)","v":-32},{"$f":"T75-HLOOKUP(X75,Feuil1!$C$1:$BL$10,5,FALSE)","v":-42},{"$f":"T75-HLOOKUP(X75,Feuil1!$C$1:$BL$10,6,FALSE)","v":-52},{"$f":"T75-HLOOKUP(X75,Feuil1!$C$1:$BL$10,7,FALSE)","v":-67},{"$f":"T75-HLOOKUP(X75,Feuil1!$C$1:$BL$10,8,FALSE)","v":-87},{"$f":"T75-HLOOKUP(X75,Feuil1!$C$1:$BL$10,9,FALSE)","v":-107},{"$f":"T75-HLOOKUP(X75,Feuil1!$C$1:$BL$10,10,FALSE)","v":-122},null,null,null,null,null,null,"DEB "]
["F","CO","PDL",49,380413,"CALVEZ","Mélanie",1980,48.84,"Saint Herblain","F",17,19,20,20,24,27,30,30,50,-47.680000000000007,"DEB ",-15,{"$f":"IF(I76=\"\",\"\",IF(A76=\"H\",IF(OR(H76=\"SEN\",H76<1995),VLOOKUP(I76,Feuil1!$A$11:$F$29,6),IF(AND(H76>1994,H76<1998),VLOOKUP(I76,Feuil1!$A$11:$F$29,5),IF(AND(H76>1997,H76<2000),VLOOKUP(I76,Feuil1!$A$11:$F$29,4),IF(AND(H76>1999,H76<2002),VLOOKUP(I76,Feuil1!$A$11:$F$29,3),VLOOKUP(I76,Feuil1!$A$11:$F$29,2))))),IF(OR(H76=\"SEN\",H76<1995),VLOOKUP(I76,Feuil1!$G$11:$L$25,6),IF(AND(H76>1994,H76<1998),VLOOKUP(I76,Feuil1!$G$11:$L$25,5),IF(AND(H76>1997,H76<2000),VLOOKUP(I76,Feuil1!$G$11:$L$25,4),IF(AND(H76>1999,H76<2002),VLOOKUP(I76,Feuil1!$G$11:$L$25,3),VLOOKUP(I76,Feuil1!$G$11:$L$25,2)))))))","v":"FS53"},80.732207823159129,null," ",{"$f":"T76-HLOOKUP(X76,Feuil1!$C$1:$BL$10,2,FALSE)","v":-15},{"$f":"T76-HLOOKUP(X76,Feuil1!$C$1:$BL$10,3,FALSE)","v":-25},{"$f":"T76-HLOOKUP(X76,Feuil1!$C$1:$BL$10,4,FALSE)","v":-35},{"$f":"T76-HLOOKUP(X76,Feuil1!$C$1:$BL$10,5,FALSE)","v":-45},{"$f":"T76-HLOOKUP(X76,Feuil1!$C$1:$BL$10,6,FALSE)","v":-55},{"$f":"T76-HLOOKUP(X76,Feuil1!$C$1:$BL$10,7,FALSE)","v":-70},{"$f":"T76-HLOOKUP(X76,Feuil1!$C$1:$BL$10,8,FALSE)","v":-90},{"$f":"T76-HLOOKUP(X76,Feuil1!$C$1:$BL$10,9,FALSE)","v":-110},{"$f":"T76-HLOOKUP(X76,Feuil1!$C$1:$BL$10,10,FALSE)","v":-125},null,null,null,null,null,null,"DEB "]
["F","CO","PDL",50,354035,"MADEC","Cecile",1983,51.75,"Saint Herblain","F",12,18,19,19,20,24,26,26,45,-58.5,"DEB ",-20,{"$f":"IF(I77=\"\",\"\",IF(A77=\"H\",IF(OR(H77=\"SEN\",H77<1995),VLOOKUP(I77,Feuil1!$A$11:$F$29,6),IF(AND(H77>1994,H77<1998),VLOOKUP(I77,Feuil1!$A$11:$F$29,5),IF(AND(H77>1997,H77<2000),VLOOKUP(I77,Feuil1!$A$11:$F$29,4),IF(AND(H77>1999,H77<2002),VLOOKUP(I77,Feuil1!$A$11:$F$29,3),VLOOKUP(I77,Feuil1!$A$11:$F$29,2))))),IF(OR(H77=\"SEN\",H77<1995),VLOOKUP(I77,Feuil1!$G$11:$L$25,6),IF(AND(H77>1994,H77<1998),VLOOKUP(I77,Feuil1!$G$11:$L$25,5),IF(AND(H77>1997,H77<2000),VLOOKUP(I77,Feuil1!$G$11:$L$25,4),IF(AND(H77>1999,H77<2002),VLOOKUP(I77,Feuil1!$G$11:$L$25,3),VLOOKUP(I77,Feuil1!$G$11:$L$25,2)))))))","v":"FS53"},69.204675006906712,null," ",{"$f":"T77-HLOOKUP(X77,Feuil1!$C$1:$BL$10,2,FALSE)","v":-20},{"$f":"T77-HLOOKUP(X77,Feuil1!$C$1:$BL$10,3,FALSE)","v":-30},{"$f":"T77-HLOOKUP(X77,Feuil1!$C$1:$BL$10,4,FALSE)","v":-40},{"$f":"T77-HLOOKUP(X77,Feuil1!$C$1:$BL$10,5,FALSE)","v":-50},{"$f":"T77-HLOOKUP(X77,Feuil1!$C$1:$BL$10,6,FALSE)","v":-60},{"$f":"T77-HLOOKUP(X77,Feuil1!$C$1:$BL$10,7,FALSE)","v":-75},{"$f":"T77-HLOOKUP(X77,Feuil1!$C$1:$BL$10,8,FALSE)","v":-95},{"$f":"T77-HLOOKUP(X77,Feuil1!$C$1:$BL$10,9,FALSE)","v":-115},{"$f":"T77-HLOOKUP(X77,Feuil1!$C$1:$BL$10,10,FALSE)","v":-130},null,null,null,null,null,null,"DEB "]
["F","N","NPC",51,389914,"KICHOU","Nasséra",1974,52.8,"LOMME","F",13,16,19,19,-22,22,-25,22,41,-64.599999999999994,"DEB ",-24,{"$f":"IF(I78=\"\",\"\",IF(A78=\"H\",IF(OR(H78=\"SEN\",H78<1995),VLOOKUP(I78,Feuil1!$A$11:$F$29,6),IF(AND(H78>1994,H78<1998),VLOOKUP(I78,Feuil1!$A$11:$F$29,5),IF(AND(H78>1997,H78<2000),VLOOKUP(I78,Feuil1!$A$11:$F$29,4),IF(AND(H78>1999,H78<2002),VLOOKUP(I78,Feuil1!$A$11:$F$29,3),VLOOKUP(I78,Feuil1!$A$11:$F$29,2))))),IF(OR(H78=\"SEN\",H78<1995),VLOOKUP(I78,Feuil1!$G$11:$L$25,6),IF(AND(H78>1994,H78<1998),VLOOKUP(I78,Feuil1!$G$11:$L$25,5),IF(AND(H78>1997,H78<2000),VLOOKUP(I78,Feuil1!$G$11:$L$25,4),IF(AND(H78>1999,H78<2002),VLOOKUP(I78,Feuil1!$G$11:$L$25,3),VLOOKUP(I78,Feuil1!$G$11:$L$25,2)))))))","v":"FS53"},62.03400949410608,null," ",{"$f":"T78-HLOOKUP(X78,Feuil1!$C$1:$BL$10,2,FALSE)","v":-24},{"$f":"T78-HLOOKUP(X78,Feuil1!$C$1:$BL$10,3,FALSE)","v":-34},{"$f":"T78-HLOOKUP(X78,Feuil1!$C$1:$BL$10,4,FALSE)","v":-44},{"$f":"T78-HLOOKUP(X78,Feuil1!$C$1:$BL$10,5,FALSE)","v":-54},{"$f":"T78-HLOOKUP(X78,Feuil1!$C$1:$BL$10,6,FALSE)","v":-64},{"$f":"T78-HLOOKUP(X78,Feuil1!$C$1:$BL$10,7,FALSE)","v":-79},{"$f":"T78-HLOOKUP(X78,Feuil1!$C$1:$BL$10,8,FALSE)","v":-99},{"$f":"T78-HLOOKUP(X78,Feuil1!$C$1:$BL$10,9,FALSE)","v":-119},{"$f":"T78-HLOOKUP(X78,Feuil1!$C$1:$BL$10,10,FALSE)","v":-134},null,null,null,null,null,null,"DEB "]
[null,null,null,null,null,null,null,null,null,null,null,null,null,null,null,null,null,null,null,null,null,null,null,null,null,null," ",{"$f":"T79-HLOOKUP(X79,Feuil1!$C$1:$BL$10,2,FALSE)","v":{"$error":"#N/A"}},{"$f":"T79-HLOOKUP(X79,Feuil1!$C$1:$BL$10,3,FALSE)","v":{"$error":"#N/A"}},{"$f":"T79-HLOOKUP(X79,Feuil1!$C$1:$BL$10,4,FALSE)","v":{"$error":"#N/A"}},{"$f":"T79-HLOOKUP(X79,Feuil1!$C$1:$BL$10,5,FALSE)","v":{"$error":"#N/A"}},{"$f":"T79-HLOOKUP(X79,Feuil1!$C$1:$BL$10,6,FALSE)","v":{"$error":"#N/A"}},{"$f":"T79-HLOOKUP(X79,Feuil1!$C$1:$BL$10,7,FALSE)","v":{"$error":"#N/A"}},{"$f":"T79-HLOOKUP(X79,Feuil1!$C$1:$BL$10,8,FALSE)","v":{"$error":"#N/A"}},{"$f":"T79-HLOOKUP(X79,Feuil1!$C$1:$BL$10,9,FALSE)","v":{"$error":"#N/A"}},{"$f":"T79-HLOOKUP(X79,Feuil1!$C$1:$BL$10,10,FALSE)","v":{"$error":"#N/A"}},null,null,null,null,null,null,{"$f":"IF(AJ79>=0,$AJ$4,IF(AI79>=0,$AI$4,IF(AH79>=0,$AH$4,IF(AG79>=0,$AG$4,IF(AF79>=0,$AF$4,IF(AE79>=0,$AE$4,IF(AD79>=0,$AD$4,IF(AC79>=0,$AC$4,$AB$4))))))))","v":{"$error":"#N/A"}}]
["F","N","IDF",1,357827,"IVANOVA","MAYA",1991,55.9,"BLANC MESNIL","Bul",72,77,-80,{"$f":"IF(H80=\"\",\"\",IF(MAXA(L80:N80)<=0,0,MAXA(L80:N80)))","v":77},95,98,100,{"$f":"IF(H80=\"\",\"\",IF(MAXA(P80:R80)<=0,0,MAXA(P80:R80)))","v":100},{"$f":"IF(H80=\"\",\"\",IF(OR(O80=0,S80=0),0,O80+S80))","v":177},{"$f":"T80-I80*2","v":65.2},{"$f":"IF(H80=\"\",\"\",AQ80)","v":"INTA +"},{"$f":"IF(AJ80>=0,AJ80,IF(AI80>=0,AI80,IF(AH80>=0,AH80,IF(AG80>=0,AG80,IF(AF80>=0,AF80,IF(AE80>=0,AE80,IF(AD80>=0,AD80,IF(AC80>=0,AC80,AB80))))))))","v":7},{"$f":"IF(I80=\"\",\"\",IF(A80=\"H\",IF(OR(H80=\"SEN\",H80<1995),VLOOKUP(I80,Feuil1!$A$11:$F$29,6),IF(AND(H80>1994,H80<1998),VLOOKUP(I80,Feuil1!$A$11:$F$29,5),IF(AND(H80>1997,H80<2000),VLOOKUP(I80,Feuil1!$A$11:$F$29,4),IF(AND(H80>1999,H80<2002),VLOOKUP(I80,Feuil1!$A$11:$F$29,3),VLOOKUP(I80,Feuil1!$A$11:$F$29,2))))),IF(OR(H80=\"SEN\",H80<1995),VLOOKUP(I80,Feuil1!$G$11:$L$25,6),IF(AND(H80>1994,H80<1998),VLOOKUP(I80,Feuil1!$G$11:$L$25,5),IF(AND(H80>1997,H80<2000),VLOOKUP(I80,Feuil1!$G$11:$L$25,4),IF(AND(H80>1999,H80<2002),VLOOKUP(I80,Feuil1!$G$11:$L$25,3),VLOOKUP(I80,Feuil1!$G$11:$L$25,2)))))))","v":"FS58"},{"$f":"IF(I80=\"\",\"\",IF(A80=\"H\",10^(0.794358141*LOG(I80/174.393)^2)*T80,IF(A80=\"F\",10^(0.89726074*LOG(I80/148.026)^2)*T80,\"\")))","v":256.13163081317765},null," ",{"$f":"T80-HLOOKUP(X80,Feuil1!$C$1:$BL$10,2,FALSE)","v":107},{"$f":"T80-HLOOKUP(X80,Feuil1!$C$1:$BL$10,3,FALSE)","v":97},{"$f":"T80-HLOOKUP(X80,Feuil1!$C$1:$BL$10,4,FALSE)","v":87},{"$f":"T80-HLOOKUP(X80,Feuil1!$C$1:$BL$10,5,FALSE)","v":77},{"$f":"T80-HLOOKUP(X80,Feuil1!$C$1:$BL$10,6,FALSE)","v":62},{"$f":"T80-HLOOKUP(X80,Feuil1!$C$1:$BL$10,7,FALSE)","v":47},{"$f":"T80-HLOOKUP(X80,Feuil1!$C$1:$BL$10,8,FALSE)","v":27},{"$f":"T80-HLOOKUP(X80,Feuil1!$C$1:$BL$10,9,FALSE)","v":7},{"$f":"T80-HLOOKUP(X80,Feuil1!$C$1:$BL$10,10,FALSE)","v":-13},null,null,null,null,null,null,{"$f":"IF(AJ80>=0,$AJ$4,IF(AI80>=0,$AI$4,IF(AH80>=0,$AH$4,IF(AG80>=0,$AG$4,IF(AF80>=0,$AF$4,IF(AE80>=0,$AE$4,IF(AD80>=0,$AD$4,IF(AC80>=0,$AC$4,$AB$4))))))))","v":"INTA +"}]
["F","SO","MPY",2,264816,"LABRUNIE","Elise",1988,56.9,"TOULOUSE HC","F",69,73,76,76,88,92,94,94,170,56.2,"INTA +",0,{"$f":"IF(I81=\"\",\"\",IF(A81=\"H\",IF(OR(H81=\"SEN\",H81<1995),VLOOKUP(I81,Feuil1!$A$11:$F$29,6),IF(AND(H81>1994,H81<1998),VLOOKUP(I81,Feuil1!$A$11:$F$29,5),IF(AND(H81>1997,H81<2000),VLOOKUP(I81,Feuil1!$A$11:$F$29,4),IF(AND(H81>1999,H81<2002),VLOOKUP(I81,Feuil1!$A$11:$F$29,3),VLOOKUP(I81,Feuil1!$A$11:$F$29,2))))),IF(OR(H81=\"SEN\",H81<1995),VLOOKUP(I81,Feuil1!$G$11:$L$25,6),IF(AND(H81>1994,H81<1998),VLOOKUP(I81,Feuil1!$G$11:$L$25,5),IF(AND(H81>1997,H81<2000),VLOOKUP(I81,Feuil1!$G$11:$L$25,4),IF(AND(H81>1999,H81<2002),VLOOKUP(I81,Feuil1!$G$11:$L$25,3),VLOOKUP(I81,Feuil1!$G$11:$L$25,2)))))))","v":"FS58"},242.74361236253478,null," ",{"$f":"T81-HLOOKUP(X81,Feuil1!$C$1:$BL$10,2,FALSE)","v":100},{"$f":"T81-HLOOKUP(X81,Feuil1!$C$1:$BL$10,3,FALSE)","v":90},{"$f":"T81-HLOOKUP(X81,Feuil1!$C$1:$BL$10,4,FALSE)","v":80},{"$f":"T81-HLOOKUP(X81,Feuil1!$C$1:$BL$10,5,FALSE)","v":70},{"$f":"T81-HLOOKUP(X81,Feuil1!$C$1:$BL$10,6,FALSE)","v":55},{"$f":"T81-HLOOKUP(X81,Feuil1!$C$1:$BL$10,7,FALSE)","v":40},{"$f":"T81-HLOOKUP(X81,Feuil1!$C$1:$BL$10,8,FALSE)","v":20},{"$f":"T81-HLOOKUP(X81,Feuil1!$C$1:$BL$10,9,FALSE)","v":0},{"$f":"T81-HLOOKUP(X81,Feuil1!$C$1:$BL$10,10,FALSE)","v":-20},null,null,null,null,null,null,"INTA +"]
["F","N","PIC",3,32268,"ANDRIEUX","Virginie",1980,55.8,"La Ferté Milon CMHM","F",65,70,-72,70,85,90,93,93,163,51.400000000000006,"INTB +",13,{"$f":"IF(I82=\"\",\"\",IF(A82=\"H\",IF(OR(H82=\"SEN\",H82<1995),VLOOKUP(I82,Feuil1!$A$11:$F$29,6),IF(AND(H82>1994,H82<1998),VLOOKUP(I82,Feuil1!$A$11:$F$29,5),IF(AND(H82>1997,H82<2000),VLOOKUP(I82,Feuil1!$A$11:$F$29,4),IF(AND(H82>1999,H82<2002),VLOOKUP(I82,Feuil1!$A$11:$F$29,3),VLOOKUP(I82,Feuil1!$A$11:$F$29,2))))),IF(OR(H82=\"SEN\",H82<1995),VLOOKUP(I82,Feuil1!$G$11:$L$25,6),IF(AND(H82>1994,H82<1998),VLOOKUP(I82,Feuil1!$G$11:$L$25,5),IF(AND(H82>1997,H82<2000),VLOOKUP(I82,Feuil1!$G$11:$L$25,4),IF(AND(H82>1999,H82<2002),VLOOKUP(I82,Feuil1!$G$11:$L$25,3),VLOOKUP(I82,Feuil1!$G$11:$L$25,2)))))))","v":"FS58"},236.19367402171861,null," ",{"$f":"T82-HLOOKUP(X82,Feuil1!$C$1:$BL$10,2,FALSE)","v":93},{"$f":"T82-HLOOKUP(X82,Feuil1!$C$1:$BL$10,3,FALSE)","v":83},{"$f":"T82-HLOOKUP(X82,Feuil1!$C$1:$BL$10,4,FALSE)","v":73},{"$f":"T82-HLOOKUP(X82,Feuil1!$C$1:$BL$10,5,FALSE)","v":63},{"$f":"T82-HLOOKUP(X82,Feuil1!$C$1:$BL$10,6,FALSE)","v":48},{"$f":"T82-HLOOKUP(X82,Feuil1!$C$1:$BL$10,7,FALSE)","v":33},{"$f":"T82-HLOOKUP(X82,Feuil1!$C$1:$BL$10,8,FALSE)","v":13},{"$f":"T82-HLOOKUP(X82,Feuil1!$C$1:$BL$10,9,FALSE)","v":-7},{"$f":"T82-HLOOKUP(X82,Feuil1!$C$1:$BL$10,10,FALSE)","v":-27},null,null,null,null,null,null,"INTB +"]
["F","NE","ALS",4,191152,"ESTNER","Sarah",1994,53.1,"US Wittenheim","F",60,63,65,65,78,81,-83,81,146,39.799999999999997,"NAT +",16,{"$f":"IF(I83=\"\",\"\",IF(A83=\"H\",IF(OR(H83=\"SEN\",H83<1995),VLOOKUP(I83,Feuil1!$A$11:$F$29,6),IF(AND(H83>1994,H83<1998),VLOOKUP(I83,Feuil1!$A$11:$F$29,5),IF(AND(H83>1997,H83<2000),VLOOKUP(I83,Feuil1!$A$11:$F$29,4),IF(AND(H83>1999,H83<2002),VLOOKUP(I83,Feuil1!$A$11:$F$29,3),VLOOKUP(I83,Feuil1!$A$11:$F$29,2))))),IF(OR(H83=\"SEN\",H83<1995),VLOOKUP(I83,Feuil1!$G$11:$L$25,6),IF(AND(H83>1994,H83<1998),VLOOKUP(I83,Feuil1!$G$11:$L$25,5),IF(AND(H83>1997,H83<2000),VLOOKUP(I83,Feuil1!$G$11:$L$25,4),IF(AND(H83>1999,H83<2002),VLOOKUP(I83,Feuil1!$G$11:$L$25,3),VLOOKUP(I83,Feuil1!$G$11:$L$25,2)))))))","v":"FS58"},219.90110058653761,null," ",{"$f":"T83-HLOOKUP(X83,Feuil1!$C$1:$BL$10,2,FALSE)","v":76},{"$f":"T83-HLOOKUP(X83,Feuil1!$C$1:$BL$10,3,FALSE)","v":66},{"$f":"T83-HLOOKUP(X83,Feuil1!$C$1:$BL$10,4,FALSE)","v":56},{"$f":"T83-HLOOKUP(X83,Feuil1!$C$1:$BL$10,5,FALSE)","v":46},{"$f":"T83-HLOOKUP(X83,Feuil1!$C$1:$BL$10,6,FALSE)","v":31},{"$f":"T83-HLOOKUP(X83,Feuil1!$C$1:$BL$10,7,FALSE)","v":16},{"$f":"T83-HLOOKUP(X83,Feuil1!$C$1:$BL$10,8,FALSE)","v":-4},{"$f":"T83-HLOOKUP(X83,Feuil1!$C$1:$BL$10,9,FALSE)","v":-24},{"$f":"T83-HLOOKUP(X83,Feuil1!$C$1:$BL$10,10,FALSE)","v":-44},null,null,null,null,null,null,"NAT +"]
["F","SEST","PRO",5,245793,"SIMEONOV","Sevginar",1990,54.5,"EEAR MONTEUX","Bul",60,64,-66,64,72,80,82,82,146,37,"NAT +",16,{"$f":"IF(I84=\"\",\"\",IF(A84=\"H\",IF(OR(H84=\"SEN\",H84<1995),VLOOKUP(I84,Feuil1!$A$11:$F$29,6),IF(AND(H84>1994,H84<1998),VLOOKUP(I84,Feuil1!$A$11:$F$29,5),IF(AND(H84>1997,H84<2000),VLOOKUP(I84,Feuil1!$A$11:$F$29,4),IF(AND(H84>1999,H84<2002),VLOOKUP(I84,Feuil1!$A$11:$F$29,3),VLOOKUP(I84,Feuil1!$A$11:$F$29,2))))),IF(OR(H84=\"SEN\",H84<1995),VLOOKUP(I84,Feuil1!$G$11:$L$25,6),IF(AND(H84>1994,H84<1998),VLOOKUP(I84,Feuil1!$G$11:$L$25,5),IF(AND(H84>1997,H84<2000),VLOOKUP(I84,Feuil1!$G$11:$L$25,4),IF(AND(H84>1999,H84<2002),VLOOKUP(I84,Feuil1!$G$11:$L$25,3),VLOOKUP(I84,Feuil1!$G$11:$L$25,2)))))))","v":"FS58"},215.43275869335014,null," ",{"$f":"T84-HLOOKUP(X84,Feuil1!$C$1:$BL$10,2,FALSE)","v":76},{"$f":"T84-HLOOKUP(X84,Feuil1!$C$1:$BL$10,3,FALSE)","v":66},{"$f":"T84-HLOOKUP(X84,Feuil1!$C$1:$BL$10,4,FALSE)","v":56},{"$f":"T84-HLOOKUP(X84,Feuil1!$C$1:$BL$10,5,FALSE)","v":46},{"$f":"T84-HLOOKUP(X84,Feuil1!$C$1:$BL$10,6,FALSE)","v":31},{"$f":"T84-HLOOKUP(X84,Feuil1!$C$1:$BL$10,7,FALSE)","v":16},{"$f":"T84-HLOOKUP(X84,Feuil1!$C$1:$BL$10,8,FALSE)","v":-4},{"$f":"T84-HLOOKUP(X84,Feuil1!$C$1:$BL$10,9,FALSE)","v":-24},{"$f":"T84-HLOOKUP(X84,Feuil1!$C$1:$BL$10,10,FALSE)","v":-44},null,null,null,null,null,null,"NAT +"]
["F","SEST","LAN",6,375907,"SUNE ","Caroline",1985,58,"MGC Fabreguois","F",55,59,63,63,73,78,83,83,146,30,"NAT +",16,{"$f":"IF(I85=\"\",\"\",IF(A85=\"H\",IF(OR(H85=\"SEN\",H85<1995),VLOOKUP(I85,Feuil1!$A$11:$F$29,6),IF(AND(H85>1994,H85<1998),VLOOKUP(I85,Feuil1!$A$11:$F$29,5),IF(AND(H85>1997,H85<2000),VLOOKUP(I85,Feuil1!$A$11:$F$29,4),IF(AND(H85>1999,H85<2002),VLOOKUP(I85,Feuil1!$A$11:$F$29,3),VLOOKUP(I85,Feuil1!$A$11:$F$29,2))))),IF(OR(H85=\"SEN\",H85<1995),VLOOKUP(I85,Feuil1!$G$11:$L$25,6),IF(AND(H85>1994,H85<1998),VLOOKUP(I85,Feuil1!$G$11:$L$25,5),IF(AND(H85>1997,H85<2000),VLOOKUP(I85,Feuil1!$G$11:$L$25,4),IF(AND(H85>1999,H85<2002),VLOOKUP(I85,Feuil1!$G$11:$L$25,3),VLOOKUP(I85,Feuil1!$G$11:$L$25,2)))))))","v":"FS58"},205.5500001491404,null," ",{"$f":"T85-HLOOKUP(X85,Feuil1!$C$1:$BL$10,2,FALSE)","v":76},{"$f":"T85-HLOOKUP(X85,Feuil1!$C$1:$BL$10,3,FALSE)","v":66},{"$f":"T85-HLOOKUP(X85,Feuil1!$C$1:$BL$10,4,FALSE)","v":56},{"$f":"T85-HLOOKUP(X85,Feuil1!$C$1:$BL$10,5,FALSE)","v":46},{"$f":"T85-HLOOKUP(X85,Feuil1!$C$1:$BL$10,6,FALSE)","v":31},{"$f":"T85-HLOOKUP(X85,Feuil1!$C$1:$BL$10,7,FALSE)","v":16},{"$f":"T85-HLOOKUP(X85,Feuil1!$C$1:$BL$10,8,FALSE)","v":-4},{"$f":"T85-HLOOKUP(X85,Feuil1!$C$1:$BL$10,9,FALSE)","v":-24},{"$f":"T85-HLOOKUP(X85,Feuil1!$C$1:$BL$10,10,FALSE)","v":-44},null,null,null,null,null,null,"NAT +"]
["F","CO","BNO",7,32998,"FLEURY","Laura",1988,54.1,"CAEN CHM","F",55,58,61,61,69,72,75,75,136,27.799999999999997,"NAT +",6,{"$f":"IF(I86=\"\",\"\",IF(A86=\"H\",IF(OR(H86=\"SEN\",H86<1995),VLOOKUP(I86,Feuil1!$A$11:$F$29,6),IF(AND(H86>1994,H86<1998),VLOOKUP(I86,Feuil1!$A$11:$F$29,5),IF(AND(H86>1997,H86<2000),VLOOKUP(I86,Feuil1!$A$11:$F$29,4),IF(AND(H86>1999,H86<2002),VLOOKUP(I86,Feuil1!$A$11:$F$29,3),VLOOKUP(I86,Feuil1!$A$11:$F$29,2))))),IF(OR(H86=\"SEN\",H86<1995),VLOOKUP(I86,Feuil1!$G$11:$L$25,6),IF(AND(H86>1994,H86<1998),VLOOKUP(I86,Feuil1!$G$11:$L$25,5),IF(AND(H86>1997,H86<2000),VLOOKUP(I86,Feuil1!$G$11:$L$25,4),IF(AND(H86>1999,H86<2002),VLOOKUP(I86,Feuil1!$G$11:$L$25,3),VLOOKUP(I86,Feuil1!$G$11:$L$25,2)))))))","v":"FS58"},201.83583719716808,null," ",{"$f":"T86-HLOOKUP(X86,Feuil1!$C$1:$BL$10,2,FALSE)","v":66},{"$f":"T86-HLOOKUP(X86,Feuil1!$C$1:$BL$10,3,FALSE)","v":56},{"$f":"T86-HLOOKUP(X86,Feuil1!$C$1:$BL$10,4,FALSE)","v":46},{"$f":"T86-HLOOKUP(X86,Feuil1!$C$1:$BL$10,5,FALSE)","v":36},{"$f":"T86-HLOOKUP(X86,Feuil1!$C$1:$BL$10,6,FALSE)","v":21},{"$f":"T86-HLOOKUP(X86,Feuil1!$C$1:$BL$10,7,FALSE)","v":6},{"$f":"T86-HLOOKUP(X86,Feuil1!$C$1:$BL$10,8,FALSE)","v":-14},{"$f":"T86-HLOOKUP(X86,Feuil1!$C$1:$BL$10,9,FALSE)","v":-34},{"$f":"T86-HLOOKUP(X86,Feuil1!$C$1:$BL$10,10,FALSE)","v":-54},null,null,null,null,null,null,"NAT +"]
["F","SEST","CAZ",8,377635,"GABBIANI","Celia",1990,58,"AS MONACO","F",55,58,60,60,70,75,-77,75,135,19,"NAT +",5,{"$f":"IF(I87=\"\",\"\",IF(A87=\"H\",IF(OR(H87=\"SEN\",H87<1995),VLOOKUP(I87,Feuil1!$A$11:$F$29,6),IF(AND(H87>1994,H87<1998),VLOOKUP(I87,Feuil1!$A$11:$F$29,5),IF(AND(H87>1997,H87<2000),VLOOKUP(I87,Feuil1!$A$11:$F$29,4),IF(AND(H87>1999,H87<2002),VLOOKUP(I87,Feuil1!$A$11:$F$29,3),VLOOKUP(I87,Feuil1!$A$11:$F$29,2))))),IF(OR(H87=\"SEN\",H87<1995),VLOOKUP(I87,Feuil1!$G$11:$L$25,6),IF(AND(H87>1994,H87<1998),VLOOKUP(I87,Feuil1!$G$11:$L$25,5),IF(AND(H87>1997,H87<2000),VLOOKUP(I87,Feuil1!$G$11:$L$25,4),IF(AND(H87>1999,H87<2002),VLOOKUP(I87,Feuil1!$G$11:$L$25,3),VLOOKUP(I87,Feuil1!$G$11:$L$25,2)))))))","v":"FS58"},190.06335630228736,null," ",{"$f":"T87-HLOOKUP(X87,Feuil1!$C$1:$BL$10,2,FALSE)","v":65},{"$f":"T87-HLOOKUP(X87,Feuil1!$C$1:$BL$10,3,FALSE)","v":55},{"$f":"T87-HLOOKUP(X87,Feuil1!$C$1:$BL$10,4,FALSE)","v":45},{"$f":"T87-HLOOKUP(X87,Feuil1!$C$1:$BL$10,5,FALSE)","v":35},{"$f":"T87-HLOOKUP(X87,Feuil1!$C$1:$BL$10,6,FALSE)","v":20},{"$f":"T87-HLOOKUP(X87,Feuil1!$C$1:$BL$10,7,FALSE)","v":5},{"$f":"T87-HLOOKUP(X87,Feuil1!$C$1:$BL$10,8,FALSE)","v":-15},{"$f":"T87-HLOOKUP(X87,Feuil1!$C$1:$BL$10,9,FALSE)","v":-35},{"$f":"T87-HLOOKUP(X87,Feuil1!$C$1:$BL$10,10,FALSE)","v":-55},null,null,null,null,null,null,"NAT +"]
["F","ZCO","BRE",9,66154,"TROUDET","Annabelle",1974,56.4,"Vannes AC","F",56,59,61,61,68,71,73,73,134,21.200000000000003,"NAT +",4,{"$f":"IF(I88=\"\",\"\",IF(A88=\"H\",IF(OR(H88=\"SEN\",H88<1995),VLOOKUP(I88,Feuil1!$A$11:$F$29,6),IF(AND(H88>1994,H88<1998),VLOOKUP(I88,Feuil1!$A$11:$F$29,5),IF(AND(H88>1997,H88<2000),VLOOKUP(I88,Feuil1!$A$11:$F$29,4),IF(AND(H88>1999,H88<2002),VLOOKUP(I88,Feuil1!$A$11:$F$29,3),VLOOKUP(I88,Feuil1!$A$11:$F$29,2))))),IF(OR(H88=\"SEN\",H88<1995),VLOOKUP(I88,Feuil1!$G$11:$L$25,6),IF(AND(H88>1994,H88<1998),VLOOKUP(I88,Feuil1!$G$11:$L$25,5),IF(AND(H88>1997,H88<2000),VLOOKUP(I88,Feuil1!$G$11:$L$25,4),IF(AND(H88>1999,H88<2002),VLOOKUP(I88,Feuil1!$G$11:$L$25,3),VLOOKUP(I88,Feuil1!$G$11:$L$25,2)))))))","v":"FS58"},192.60744986489692,null," ",{"$f":"T88-HLOOKUP(X88,Feuil1!$C$1:$BL$10,2,FALSE)","v":64},{"$f":"T88-HLOOKUP(X88,Feuil1!$C$1:$BL$10,3,FALSE)","v":54},{"$f":"T88-HLOOKUP(X88,Feuil1!$C$1:$BL$10,4,FALSE)","v":44},{"$f":"T88-HLOOKUP(X88,Feuil1!$C$1:$BL$10,5,FALSE)","v":34},{"$f":"T88-HLOOKUP(X88,Feuil1!$C$1:$BL$10,6,FALSE)","v":19},{"$f":"T88-HLOOKUP(X88,Feuil1!$C$1:$BL$10,7,FALSE)","v":4},{"$f":"T88-HLOOKUP(X88,Feuil1!$C$1:$BL$10,8,FALSE)","v":-16},{"$f":"T88-HLOOKUP(X88,Feuil1!$C$1:$BL$10,9,FALSE)","v":-36},{"$f":"T88-HLOOKUP(X88,Feuil1!$C$1:$BL$10,10,FALSE)","v":-56},null,null,null,null,null,null,"NAT +"]
["F","SO","MPY",10,326408,"GARGAGLI","Marine",1993,56.5,"TOULOUSE HC","F",56,59,-61,59,70,73,75,75,134,21,"NAT +",4,{"$f":"IF(I89=\"\",\"\",IF(A89=\"H\",IF(OR(H89=\"SEN\",H89<1995),VLOOKUP(I89,Feuil1!$A$11:$F$29,6),IF(AND(H89>1994,H89<1998),VLOOKUP(I89,Feuil1!$A$11:$F$29,5),IF(AND(H89>1997,H89<2000),VLOOKUP(I89,Feuil1!$A$11:$F$29,4),IF(AND(H89>1999,H89<2002),VLOOKUP(I89,Feuil1!$A$11:$F$29,3),VLOOKUP(I89,Feuil1!$A$11:$F$29,2))))),IF(OR(H89=\"SEN\",H89<1995),VLOOKUP(I89,Feuil1!$G$11:$L$25,6),IF(AND(H89>1994,H89<1998),VLOOKUP(I89,Feuil1!$G$11:$L$25,5),IF(AND(H89>1997,H89<2000),VLOOKUP(I89,Feuil1!$G$11:$L$25,4),IF(AND(H89>1999,H89<2002),VLOOKUP(I89,Feuil1!$G$11:$L$25,3),VLOOKUP(I89,Feuil1!$G$11:$L$25,2)))))))","v":"FS58"},192.35126990227536,null," ",{"$f":"T89-HLOOKUP(X89,Feuil1!$C$1:$BL$10,2,FALSE)","v":64},{"$f":"T89-HLOOKUP(X89,Feuil1!$C$1:$BL$10,3,FALSE)","v":54},{"$f":"T89-HLOOKUP(X89,Feuil1!$C$1:$BL$10,4,FALSE)","v":44},{"$f":"T89-HLOOKUP(X89,Feuil1!$C$1:$BL$10,5,FALSE)","v":34},{"$f":"T89-HLOOKUP(X89,Feuil1!$C$1:$BL$10,6,FALSE)","v":19},{"$f":"T89-HLOOKUP(X89,Feuil1!$C$1:$BL$10,7,FALSE)","v":4},{"$f":"T89-HLOOKUP(X89,Feuil1!$C$1:$BL$10,8,FALSE)","v":-16},{"$f":"T89-HLOOKUP(X89,Feuil1!$C$1:$BL$10,9,FALSE)","v":-36},{"$f":"T89-HLOOKUP(X89,Feuil1!$C$1:$BL$10,10,FALSE)","v":-56},null,null,null,null,null,null,"NAT +"]
["F","SEST","RAL",11,372599,"SAINT AIME","Sarah",1991,57.11,"VAULX EN VELIN ","F",54,-58,58,58,72,76,-78,76,134,19.78,"NAT +",4,{"$f":"IF(I90=\"\",\"\",IF(A90=\"H\",IF(OR(H90=\"SEN\",H90<1995),VLOOKUP(I90,Feuil1!$A$11:$F$29,6),IF(AND(H90>1994,H90<1998),VLOOKUP(I90,Feuil1!$A$11:$F$29,5),IF(AND(H90>1997,H90<2000),VLOOKUP(I90,Feuil1!$A$11:$F$29,4),IF(AND(H90>1999,H90<2002),VLOOKUP(I90,Feuil1!$A$11:$F$29,3),VLOOKUP(I90,Feuil1!$A$11:$F$29,2))))),IF(OR(H90=\"SEN\",H90<1995),VLOOKUP(I90,Feuil1!$G$11:$L$25,6),IF(AND(H90>1994,H90<1998),VLOOKUP(I90,Feuil1!$G$11:$L$25,5),IF(AND(H90>1997,H90<2000),VLOOKUP(I90,Feuil1!$G$11:$L$25,4),IF(AND(H90>1999,H90<2002),VLOOKUP(I90,Feuil1!$G$11:$L$25,3),VLOOKUP(I90,Feuil1!$G$11:$L$25,2)))))))","v":"FS58"},190.815589325708,null," ",{"$f":"T90-HLOOKUP(X90,Feuil1!$C$1:$BL$10,2,FALSE)","v":64},{"$f":"T90-HLOOKUP(X90,Feuil1!$C$1:$BL$10,3,FALSE)","v":54},{"$f":"T90-HLOOKUP(X90,Feuil1!$C$1:$BL$10,4,FALSE)","v":44},{"$f":"T90-HLOOKUP(X90,Feuil1!$C$1:$BL$10,5,FALSE)","v":34},{"$f":"T90-HLOOKUP(X90,Feuil1!$C$1:$BL$10,6,FALSE)","v":19},{"$f":"T90-HLOOKUP(X90,Feuil1!$C$1:$BL$10,7,FALSE)","v":4},{"$f":"T90-HLOOKUP(X90,Feuil1!$C$1:$BL$10,8,FALSE)","v":-16},{"$f":"T90-HLOOKUP(X90,Feuil1!$C$1:$BL$10,9,FALSE)","v":-36},{"$f":"T90-HLOOKUP(X90,Feuil1!$C$1:$BL$10,10,FALSE)","v":-56},null,null,null,null,null,null,"NAT +"]
["F","SEST","PRO",12,139713,"GAMONDES","Cendrine",1976,56.3,"EEAR MONTEUX","F",55,59,61,61,65,70,72,72,133,20.400000000000006,"NAT +",3,{"$f":"IF(I91=\"\",\"\",IF(A91=\"H\",IF(OR(H91=\"SEN\",H91<1995),VLOOKUP(I91,Feuil1!$A$11:$F$29,6),IF(AND(H91>1994,H91<1998),VLOOKUP(I91,Feuil1!$A$11:$F$29,5),IF(AND(H91>1997,H91<2000),VLOOKUP(I91,Feuil1!$A$11:$F$29,4),IF(AND(H91>1999,H91<2002),VLOOKUP(I91,Feuil1!$A$11:$F$29,3),VLOOKUP(I91,Feuil1!$A$11:$F$29,2))))),IF(OR(H91=\"SEN\",H91<1995),VLOOKUP(I91,Feuil1!$G$11:$L$25,6),IF(AND(H91>1994,H91<1998),VLOOKUP(I91,Feuil1!$G$11:$L$25,5),IF(AND(H91>1997,H91<2000),VLOOKUP(I91,Feuil1!$G$11:$L$25,4),IF(AND(H91>1999,H91<2002),VLOOKUP(I91,Feuil1!$G$11:$L$25,3),VLOOKUP(I91,Feuil1!$G$11:$L$25,2)))))))","v":"FS58"},191.42560920181697,null," ",{"$f":"T91-HLOOKUP(X91,Feuil1!$C$1:$BL$10,2,FALSE)","v":63},{"$f":"T91-HLOOKUP(X91,Feuil1!$C$1:$BL$10,3,FALSE)","v":53},{"$f":"T91-HLOOKUP(X91,Feuil1!$C$1:$BL$10,4,FALSE)","v":43},{"$f":"T91-HLOOKUP(X91,Feuil1!$C$1:$BL$10,5,FALSE)","v":33},{"$f":"T91-HLOOKUP(X91,Feuil1!$C$1:$BL$10,6,FALSE)","v":18},{"$f":"T91-HLOOKUP(X91,Feuil1!$C$1:$BL$10,7,FALSE)","v":3},{"$f":"T91-HLOOKUP(X91,Feuil1!$C$1:$BL$10,8,FALSE)","v":-17},{"$f":"T91-HLOOKUP(X91,Feuil1!$C$1:$BL$10,9,FALSE)","v":-37},{"$f":"T91-HLOOKUP(X91,Feuil1!$C$1:$BL$10,10,FALSE)","v":-57},null,null,null,null,null,null,"NAT +"]
["F","NE","BOU",13,34097,"EYANGO","Delphine",1986,57.3,"HMDB21","F",57,59,60,60,70,72,"-",72,132,17.400000000000006,"NAT +",2,{"$f":"IF(I92=\"\",\"\",IF(A92=\"H\",IF(OR(H92=\"SEN\",H92<1995),VLOOKUP(I92,Feuil1!$A$11:$F$29,6),IF(AND(H92>1994,H92<1998),VLOOKUP(I92,Feuil1!$A$11:$F$29,5),IF(AND(H92>1997,H92<2000),VLOOKUP(I92,Feuil1!$A$11:$F$29,4),IF(AND(H92>1999,H92<2002),VLOOKUP(I92,Feuil1!$A$11:$F$29,3),VLOOKUP(I92,Feuil1!$A$11:$F$29,2))))),IF(OR(H92=\"SEN\",H92<1995),VLOOKUP(I92,Feuil1!$G$11:$L$25,6),IF(AND(H92>1994,H92<1998),VLOOKUP(I92,Feuil1!$G$11:$L$25,5),IF(AND(H92>1997,H92<2000),VLOOKUP(I92,Feuil1!$G$11:$L$25,4),IF(AND(H92>1999,H92<2002),VLOOKUP(I92,Feuil1!$G$11:$L$25,3),VLOOKUP(I92,Feuil1!$G$11:$L$25,2)))))))","v":"FS58"},187.50556873405543,null," ",{"$f":"T92-HLOOKUP(X92,Feuil1!$C$1:$BL$10,2,FALSE)","v":62},{"$f":"T92-HLOOKUP(X92,Feuil1!$C$1:$BL$10,3,FALSE)","v":52},{"$f":"T92-HLOOKUP(X92,Feuil1!$C$1:$BL$10,4,FALSE)","v":42},{"$f":"T92-HLOOKUP(X92,Feuil1!$C$1:$BL$10,5,FALSE)","v":32},{"$f":"T92-HLOOKUP(X92,Feuil1!$C$1:$BL$10,6,FALSE)","v":17},{"$f":"T92-HLOOKUP(X92,Feuil1!$C$1:$BL$10,7,FALSE)","v":2},{"$f":"T92-HLOOKUP(X92,Feuil1!$C$1:$BL$10,8,FALSE)","v":-18},{"$f":"T92-HLOOKUP(X92,Feuil1!$C$1:$BL$10,9,FALSE)","v":-38},{"$f":"T92-HLOOKUP(X92,Feuil1!$C$1:$BL$10,10,FALSE)","v":-58},null,null,null,null,null,null,"NAT +"]
["F","SEST","PRO",14,112257,"CONDE ","Fabienne",1985,57.5,"ISTRES SPORTS","F",51,55,-57,55,70,75,-78,75,130,15,"NAT +",0,{"$f":"IF(I93=\"\",\"\",IF(A93=\"H\",IF(OR(H93=\"SEN\",H93<1995),VLOOKUP(I93,Feuil1!$A$11:$F$29,6),IF(AND(H93>1994,H93<1998),VLOOKUP(I93,Feuil1!$A$11:$F$29,5),IF(AND(H93>1997,H93<2000),VLOOKUP(I93,Feuil1!$A$11:$F$29,4),IF(AND(H93>1999,H93<2002),VLOOKUP(I93,Feuil1!$A$11:$F$29,3),VLOOKUP(I93,Feuil1!$A$11:$F$29,2))))),IF(OR(H93=\"SEN\",H93<1995),VLOOKUP(I93,Feuil1!$G$11:$L$25,6),IF(AND(H93>1994,H93<1998),VLOOKUP(I93,Feuil1!$G$11:$L$25,5),IF(AND(H93>1997,H93<2000),VLOOKUP(I93,Feuil1!$G$11:$L$25,4),IF(AND(H93>1999,H93<2002),VLOOKUP(I93,Feuil1!$G$11:$L$25,3),VLOOKUP(I93,Feuil1!$G$11:$L$25,2)))))))","v":"FS58"},184.19013139304164,null," ",{"$f":"T93-HLOOKUP(X93,Feuil1!$C$1:$BL$10,2,FALSE)","v":60},{"$f":"T93-HLOOKUP(X93,Feuil1!$C$1:$BL$10,3,FALSE)","v":50},{"$f":"T93-HLOOKUP(X93,Feuil1!$C$1:$BL$10,4,FALSE)","v":40},{"$f":"T93-HLOOKUP(X93,Feuil1!$C$1:$BL$10,5,FALSE)","v":30},{"$f":"T93-HLOOKUP(X93,Feuil1!$C$1:$BL$10,6,FALSE)","v":15},{"$f":"T93-HLOOKUP(X93,Feuil1!$C$1:$BL$10,7,FALSE)","v":0},{"$f":"T93-HLOOKUP(X93,Feuil1!$C$1:$BL$10,8,FALSE)","v":-20},{"$f":"T93-HLOOKUP(X93,Feuil1!$C$1:$BL$10,9,FALSE)","v":-40},{"$f":"T93-HLOOKUP(X93,Feuil1!$C$1:$BL$10,10,FALSE)","v":-60},null,null,null,null,null,null,"NAT +"]
["F","NE","ALS",15,88574,"HERRMANN","Mélissa",1988,54.4,"SR Obernai HM","F",53,56,-59,56,68,72,-74,72,128,19.200000000000003,"FED +",13,{"$f":"IF(I94=\"\",\"\",IF(A94=\"H\",IF(OR(H94=\"SEN\",H94<1995),VLOOKUP(I94,Feuil1!$A$11:$F$29,6),IF(AND(H94>1994,H94<1998),VLOOKUP(I94,Feuil1!$A$11:$F$29,5),IF(AND(H94>1997,H94<2000),VLOOKUP(I94,Feuil1!$A$11:$F$29,4),IF(AND(H94>1999,H94<2002),VLOOKUP(I94,Feuil1!$A$11:$F$29,3),VLOOKUP(I94,Feuil1!$A$11:$F$29,2))))),IF(OR(H94=\"SEN\",H94<1995),VLOOKUP(I94,Feuil1!$G$11:$L$25,6),IF(AND(H94>1994,H94<1998),VLOOKUP(I94,Feuil1!$G$11:$L$25,5),IF(AND(H94>1997,H94<2000),VLOOKUP(I94,Feuil1!$G$11:$L$25,4),IF(AND(H94>1999,H94<2002),VLOOKUP(I94,Feuil1!$G$11:$L$25,3),VLOOKUP(I94,Feuil1!$G$11:$L$25,2)))))))","v":"FS58"},189.14311380440839,null," ",{"$f":"T94-HLOOKUP(X94,Feuil1!$C$1:$BL$10,2,FALSE)","v":58},{"$f":"T94-HLOOKUP(X94,Feuil1!$C$1:$BL$10,3,FALSE)","v":48},{"$f":"T94-HLOOKUP(X94,Feuil1!$C$1:$BL$10,4,FALSE)","v":38},{"$f":"T94-HLOOKUP(X94,Feuil1!$C$1:$BL$10,5,FALSE)","v":28},{"$f":"T94-HLOOKUP(X94,Feuil1!$C$1:$BL$10,6,FALSE)","v":13},{"$f":"T94-HLOOKUP(X94,Feuil1!$C$1:$BL$10,7,FALSE)","v":-2},{"$f":"T94-HLOOKUP(X94,Feuil1!$C$1:$BL$10,8,FALSE)","v":-22},{"$f":"T94-HLOOKUP(X94,Feuil1!$C$1:$BL$10,9,FALSE)","v":-42},{"$f":"T94-HLOOKUP(X94,Feuil1!$C$1:$BL$10,10,FALSE)","v":-62},null,null,null,null,null,null,"FED +"]
["F","SEST","PRO",16,384034,"MOEGLIN","TINA",1993,56.2,"HM STE TULLE","F",48,51,54,54,65,70,73,73,127,14.599999999999994,"FED +",12,{"$f":"IF(I95=\"\",\"\",IF(A95=\"H\",IF(OR(H95=\"SEN\",H95<1995),VLOOKUP(I95,Feuil1!$A$11:$F$29,6),IF(AND(H95>1994,H95<1998),VLOOKUP(I95,Feuil1!$A$11:$F$29,5),IF(AND(H95>1997,H95<2000),VLOOKUP(I95,Feuil1!$A$11:$F$29,4),IF(AND(H95>1999,H95<2002),VLOOKUP(I95,Feuil1!$A$11:$F$29,3),VLOOKUP(I95,Feuil1!$A$11:$F$29,2))))),IF(OR(H95=\"SEN\",H95<1995),VLOOKUP(I95,Feuil1!$G$11:$L$25,6),IF(AND(H95>1994,H95<1998),VLOOKUP(I95,Feuil1!$G$11:$L$25,5),IF(AND(H95>1997,H95<2000),VLOOKUP(I95,Feuil1!$G$11:$L$25,4),IF(AND(H95>1999,H95<2002),VLOOKUP(I95,Feuil1!$G$11:$L$25,3),VLOOKUP(I95,Feuil1!$G$11:$L$25,2)))))))","v":"FS58"},183.03507943769748,null," ",{"$f":"T95-HLOOKUP(X95,Feuil1!$C$1:$BL$10,2,FALSE)","v":57},{"$f":"T95-HLOOKUP(X95,Feuil1!$C$1:$BL$10,3,FALSE)","v":47},{"$f":"T95-HLOOKUP(X95,Feuil1!$C$1:$BL$10,4,FALSE)","v":37},{"$f":"T95-HLOOKUP(X95,Feuil1!$C$1:$BL$10,5,FALSE)","v":27},{"$f":"T95-HLOOKUP(X95,Feuil1!$C$1:$BL$10,6,FALSE)","v":12},{"$f":"T95-HLOOKUP(X95,Feuil1!$C$1:$BL$10,7,FALSE)","v":-3},{"$f":"T95-HLOOKUP(X95,Feuil1!$C$1:$BL$10,8,FALSE)","v":-23},{"$f":"T95-HLOOKUP(X95,Feuil1!$C$1:$BL$10,9,FALSE)","v":-43},{"$f":"T95-HLOOKUP(X95,Feuil1!$C$1:$BL$10,10,FALSE)","v":-63},null,null,null,null,null,null,"FED +"]
["F","SEST","PRO",17,356006,"CARON","SABRINA",1991,56.4,"AP AIX","F",50,53,-55,53,65,70,-75,70,123,10.200000000000003,"FED +",8,{"$f":"IF(I96=\"\",\"\",IF(A96=\"H\",IF(OR(H96=\"SEN\",H96<1995),VLOOKUP(I96,Feuil1!$A$11:$F$29,6),IF(AND(H96>1994,H96<1998),VLOOKUP(I96,Feuil1!$A$11:$F$29,5),IF(AND(H96>1997,H96<2000),VLOOKUP(I96,Feuil1!$A$11:$F$29,4),IF(AND(H96>1999,H96<2002),VLOOKUP(I96,Feuil1!$A$11:$F$29,3),VLOOKUP(I96,Feuil1!$A$11:$F$29,2))))),IF(OR(H96=\"SEN\",H96<1995),VLOOKUP(I96,Feuil1!$G$11:$L$25,6),IF(AND(H96>1994,H96<1998),VLOOKUP(I96,Feuil1!$G$11:$L$25,5),IF(AND(H96>1997,H96<2000),VLOOKUP(I96,Feuil1!$G$11:$L$25,4),IF(AND(H96>1999,H96<2002),VLOOKUP(I96,Feuil1!$G$11:$L$25,3),VLOOKUP(I96,Feuil1!$G$11:$L$25,2)))))))","v":"FS58"},176.79639054762924,null," ",{"$f":"T96-HLOOKUP(X96,Feuil1!$C$1:$BL$10,2,FALSE)","v":53},{"$f":"T96-HLOOKUP(X96,Feuil1!$C$1:$BL$10,3,FALSE)","v":43},{"$f":"T96-HLOOKUP(X96,Feuil1!$C$1:$BL$10,4,FALSE)","v":33},{"$f":"T96-HLOOKUP(X96,Feuil1!$C$1:$BL$10,5,FALSE)","v":23},{"$f":"T96-HLOOKUP(X96,Feuil1!$C$1:$BL$10,6,FALSE)","v":8},{"$f":"T96-HLOOKUP(X96,Feuil1!$C$1:$BL$10,7,FALSE)","v":-7},{"$f":"T96-HLOOKUP(X96,Feuil1!$C$1:$BL$10,8,FALSE)","v":-27},{"$f":"T96-HLOOKUP(X96,Feuil1!$C$1:$BL$10,9,FALSE)","v":-47},{"$f":"T96-HLOOKUP(X96,Feuil1!$C$1:$BL$10,10,FALSE)","v":-67},null,null,null,null,null,null,"FED +"]
["F","SO","MPY",18,331243,"ASPE","Camille",1991,57.6,"TARBES CUTPH","F",52,-56,56,56,65,-69,-69,65,121,5.7999999999999972,"FED +",6,{"$f":"IF(I97=\"\",\"\",IF(A97=\"H\",IF(OR(H97=\"SEN\",H97<1995),VLOOKUP(I97,Feuil1!$A$11:$F$29,6),IF(AND(H97>1994,H97<1998),VLOOKUP(I97,Feuil1!$A$11:$F$29,5),IF(AND(H97>1997,H97<2000),VLOOKUP(I97,Feuil1!$A$11:$F$29,4),IF(AND(H97>1999,H97<2002),VLOOKUP(I97,Feuil1!$A$11:$F$29,3),VLOOKUP(I97,Feuil1!$A$11:$F$29,2))))),IF(OR(H97=\"SEN\",H97<1995),VLOOKUP(I97,Feuil1!$G$11:$L$25,6),IF(AND(H97>1994,H97<1998),VLOOKUP(I97,Feuil1!$G$11:$L$25,5),IF(AND(H97>1997,H97<2000),VLOOKUP(I97,Feuil1!$G$11:$L$25,4),IF(AND(H97>1999,H97<2002),VLOOKUP(I97,Feuil1!$G$11:$L$25,3),VLOOKUP(I97,Feuil1!$G$11:$L$25,2)))))))","v":"FS58"},171.2193132597144,null," ",{"$f":"T97-HLOOKUP(X97,Feuil1!$C$1:$BL$10,2,FALSE)","v":51},{"$f":"T97-HLOOKUP(X97,Feuil1!$C$1:$BL$10,3,FALSE)","v":41},{"$f":"T97-HLOOKUP(X97,Feuil1!$C$1:$BL$10,4,FALSE)","v":31},{"$f":"T97-HLOOKUP(X97,Feuil1!$C$1:$BL$10,5,FALSE)","v":21},{"$f":"T97-HLOOKUP(X97,Feuil1!$C$1:$BL$10,6,FALSE)","v":6},{"$f":"T97-HLOOKUP(X97,Feuil1!$C$1:$BL$10,7,FALSE)","v":-9},{"$f":"T97-HLOOKUP(X97,Feuil1!$C$1:$BL$10,8,FALSE)","v":-29},{"$f":"T97-HLOOKUP(X97,Feuil1!$C$1:$BL$10,9,FALSE)","v":-49},{"$f":"T97-HLOOKUP(X97,Feuil1!$C$1:$BL$10,10,FALSE)","v":-69},null,null,null,null,null,null,"FED +"]
["F","DOM","REU",19,250371,"OULOUMENI","AURELIA",1993,57.8,"CSPJ St Denis","F",55,58,-60,58,63,-66,-66,63,121,5.4000000000000057,"FED +",6,{"$f":"IF(I98=\"\",\"\",IF(A98=\"H\",IF(OR(H98=\"SEN\",H98<1995),VLOOKUP(I98,Feuil1!$A$11:$F$29,6),IF(AND(H98>1994,H98<1998),VLOOKUP(I98,Feuil1!$A$11:$F$29,5),IF(AND(H98>1997,H98<2000),VLOOKUP(I98,Feuil1!$A$11:$F$29,4),IF(AND(H98>1999,H98<2002),VLOOKUP(I98,Feuil1!$A$11:$F$29,3),VLOOKUP(I98,Feuil1!$A$11:$F$29,2))))),IF(OR(H98=\"SEN\",H98<1995),VLOOKUP(I98,Feuil1!$G$11:$L$25,6),IF(AND(H98>1994,H98<1998),VLOOKUP(I98,Feuil1!$G$11:$L$25,5),IF(AND(H98>1997,H98<2000),VLOOKUP(I98,Feuil1!$G$11:$L$25,4),IF(AND(H98>1999,H98<2002),VLOOKUP(I98,Feuil1!$G$11:$L$25,3),VLOOKUP(I98,Feuil1!$G$11:$L$25,2)))))))","v":"FS58"},170.78410244459366,null," ",{"$f":"T98-HLOOKUP(X98,Feuil1!$C$1:$BL$10,2,FALSE)","v":51},{"$f":"T98-HLOOKUP(X98,Feuil1!$C$1:$BL$10,3,FALSE)","v":41},{"$f":"T98-HLOOKUP(X98,Feuil1!$C$1:$BL$10,4,FALSE)","v":31},{"$f":"T98-HLOOKUP(X98,Feuil1!$C$1:$BL$10,5,FALSE)","v":21},{"$f":"T98-HLOOKUP(X98,Feuil1!$C$1:$BL$10,6,FALSE)","v":6},{"$f":"T98-HLOOKUP(X98,Feuil1!$C$1:$BL$10,7,FALSE)","v":-9},{"$f":"T98-HLOOKUP(X98,Feuil1!$C$1:$BL$10,8,FALSE)","v":-29},{"$f":"T98-HLOOKUP(X98,Feuil1!$C$1:$BL$10,9,FALSE)","v":-49},{"$f":"T98-HLOOKUP(X98,Feuil1!$C$1:$BL$10,10,FALSE)","v":-69},null,null,null,null,null,null,"FED +"]
["F","N","IDF",20,313076,"GHERARDI","ANNE SOPHIE",1978,56.2,"SAINT-MAUR","F",-50,50,52,52,65,-68,68,68,120,7.5999999999999943,"FED +",5,{"$f":"IF(I99=\"\",\"\",IF(A99=\"H\",IF(OR(H99=\"SEN\",H99<1995),VLOOKUP(I99,Feuil1!$A$11:$F$29,6),IF(AND(H99>1994,H99<1998),VLOOKUP(I99,Feuil1!$A$11:$F$29,5),IF(AND(H99>1997,H99<2000),VLOOKUP(I99,Feuil1!$A$11:$F$29,4),IF(AND(H99>1999,H99<2002),VLOOKUP(I99,Feuil1!$A$11:$F$29,3),VLOOKUP(I99,Feuil1!$A$11:$F$29,2))))),IF(OR(H99=\"SEN\",H99<1995),VLOOKUP(I99,Feuil1!$G$11:$L$25,6),IF(AND(H99>1994,H99<1998),VLOOKUP(I99,Feuil1!$G$11:$L$25,5),IF(AND(H99>1997,H99<2000),VLOOKUP(I99,Feuil1!$G$11:$L$25,4),IF(AND(H99>1999,H99<2002),VLOOKUP(I99,Feuil1!$G$11:$L$25,3),VLOOKUP(I99,Feuil1!$G$11:$L$25,2)))))))","v":"FS58"},172.9465317521551,null," ",{"$f":"T99-HLOOKUP(X99,Feuil1!$C$1:$BL$10,2,FALSE)","v":50},{"$f":"T99-HLOOKUP(X99,Feuil1!$C$1:$BL$10,3,FALSE)","v":40},{"$f":"T99-HLOOKUP(X99,Feuil1!$C$1:$BL$10,4,FALSE)","v":30},{"$f":"T99-HLOOKUP(X99,Feuil1!$C$1:$BL$10,5,FALSE)","v":20},{"$f":"T99-HLOOKUP(X99,Feuil1!$C$1:$BL$10,6,FALSE)","v":5},{"$f":"T99-HLOOKUP(X99,Feuil1!$C$1:$BL$10,7,FALSE)","v":-10},{"$f":"T99-HLOOKUP(X99,Feuil1!$C$1:$BL$10,8,FALSE)","v":-30},{"$f":"T99-HLOOKUP(X99,Feuil1!$C$1:$BL$10,9,FALSE)","v":-50},{"$f":"T99-HLOOKUP(X99,Feuil1!$C$1:$BL$10,10,FALSE)","v":-70},null,null,null,null,null,null,"FED +"]
["F","N","PIC",21,174473,"DE COSTER","Sarah",1986,57.2,"La Ferté Milon CMHM","Belge",50,-54,54,54,60,65,"-",65,119,4.5999999999999943,"FED +",4,{"$f":"IF(I100=\"\",\"\",IF(A100=\"H\",IF(OR(H100=\"SEN\",H100<1995),VLOOKUP(I100,Feuil1!$A$11:$F$29,6),IF(AND(H100>1994,H100<1998),VLOOKUP(I100,Feuil1!$A$11:$F$29,5),IF(AND(H100>1997,H100<2000),VLOOKUP(I100,Feuil1!$A$11:$F$29,4),IF(AND(H100>1999,H100<2002),VLOOKUP(I100,Feuil1!$A$11:$F$29,3),VLOOKUP(I100,Feuil1!$A$11:$F$29,2))))),IF(OR(H100=\"SEN\",H100<1995),VLOOKUP(I100,Feuil1!$G$11:$L$25,6),IF(AND(H100>1994,H100<1998),VLOOKUP(I100,Feuil1!$G$11:$L$25,5),IF(AND(H100>1997,H100<2000),VLOOKUP(I100,Feuil1!$G$11:$L$25,4),IF(AND(H100>1999,H100<2002),VLOOKUP(I100,Feuil1!$G$11:$L$25,3),VLOOKUP(I100,Feuil1!$G$11:$L$25,2)))))))","v":"FS58"},169.25785274570029,null," ",{"$f":"T100-HLOOKUP(X100,Feuil1!$C$1:$BL$10,2,FALSE)","v":49},{"$f":"T100-HLOOKUP(X100,Feuil1!$C$1:$BL$10,3,FALSE)","v":39},{"$f":"T100-HLOOKUP(X100,Feuil1!$C$1:$BL$10,4,FALSE)","v":29},{"$f":"T100-HLOOKUP(X100,Feuil1!$C$1:$BL$10,5,FALSE)","v":19},{"$f":"T100-HLOOKUP(X100,Feuil1!$C$1:$BL$10,6,FALSE)","v":4},{"$f":"T100-HLOOKUP(X100,Feuil1!$C$1:$BL$10,7,FALSE)","v":-11},{"$f":"T100-HLOOKUP(X100,Feuil1!$C$1:$BL$10,8,FALSE)","v":-31},{"$f":"T100-HLOOKUP(X100,Feuil1!$C$1:$BL$10,9,FALSE)","v":-51},{"$f":"T100-HLOOKUP(X100,Feuil1!$C$1:$BL$10,10,FALSE)","v":-71},null,null,null,null,null,null,"FED +"]
["F","SEST","CAZ",22,326048,"DURAN","Sandra",1994,53.3,"ASPTT DRAGUIGNAN","F",45,-50,52,52,-63,63,66,66,118,11.400000000000006,"FED +",3,{"$f":"IF(I101=\"\",\"\",IF(A101=\"H\",IF(OR(H101=\"SEN\",H101<1995),VLOOKUP(I101,Feuil1!$A$11:$F$29,6),IF(AND(H101>1994,H101<1998),VLOOKUP(I101,Feuil1!$A$11:$F$29,5),IF(AND(H101>1997,H101<2000),VLOOKUP(I101,Feuil1!$A$11:$F$29,4),IF(AND(H101>1999,H101<2002),VLOOKUP(I101,Feuil1!$A$11:$F$29,3),VLOOKUP(I101,Feuil1!$A$11:$F$29,2))))),IF(OR(H101=\"SEN\",H101<1995),VLOOKUP(I101,Feuil1!$G$11:$L$25,6),IF(AND(H101>1994,H101<1998),VLOOKUP(I101,Feuil1!$G$11:$L$25,5),IF(AND(H101>1997,H101<2000),VLOOKUP(I101,Feuil1!$G$11:$L$25,4),IF(AND(H101>1999,H101<2002),VLOOKUP(I101,Feuil1!$G$11:$L$25,3),VLOOKUP(I101,Feuil1!$G$11:$L$25,2)))))))","v":"FS58"},177.19621066265861,null," ",{"$f":"T101-HLOOKUP(X101,Feuil1!$C$1:$BL$10,2,FALSE)","v":48},{"$f":"T101-HLOOKUP(X101,Feuil1!$C$1:$BL$10,3,FALSE)","v":38},{"$f":"T101-HLOOKUP(X101,Feuil1!$C$1:$BL$10,4,FALSE)","v":28},{"$f":"T101-HLOOKUP(X101,Feuil1!$C$1:$BL$10,5,FALSE)","v":18},{"$f":"T101-HLOOKUP(X101,Feuil1!$C$1:$BL$10,6,FALSE)","v":3},{"$f":"T101-HLOOKUP(X101,Feuil1!$C$1:$BL$10,7,FALSE)","v":-12},{"$f":"T101-HLOOKUP(X101,Feuil1!$C$1:$BL$10,8,FALSE)","v":-32},{"$f":"T101-HLOOKUP(X101,Feuil1!$C$1:$BL$10,9,FALSE)","v":-52},{"$f":"T101-HLOOKUP(X101,Feuil1!$C$1:$BL$10,10,FALSE)","v":-72},null,null,null,null,null,null,"FED +"]
["F","SO","POI",23,186557,"SABOURIN","Pauline",1992,55.8,"Poitiers","F",46,50,53,53,54,58,62,62,115,3.4000000000000057,"FED +",0,{"$f":"IF(I102=\"\",\"\",IF(A102=\"H\",IF(OR(H102=\"SEN\",H102<1995),VLOOKUP(I102,Feuil1!$A$11:$F$29,6),IF(AND(H102>1994,H102<1998),VLOOKUP(I102,Feuil1!$A$11:$F$29,5),IF(AND(H102>1997,H102<2000),VLOOKUP(I102,Feuil1!$A$11:$F$29,4),IF(AND(H102>1999,H102<2002),VLOOKUP(I102,Feuil1!$A$11:$F$29,3),VLOOKUP(I102,Feuil1!$A$11:$F$29,2))))),IF(OR(H102=\"SEN\",H102<1995),VLOOKUP(I102,Feuil1!$G$11:$L$25,6),IF(AND(H102>1994,H102<1998),VLOOKUP(I102,Feuil1!$G$11:$L$25,5),IF(AND(H102>1997,H102<2000),VLOOKUP(I102,Feuil1!$G$11:$L$25,4),IF(AND(H102>1999,H102<2002),VLOOKUP(I102,Feuil1!$G$11:$L$25,3),VLOOKUP(I102,Feuil1!$G$11:$L$25,2)))))))","v":"FS58"},166.63970866562968,null," ",{"$f":"T102-HLOOKUP(X102,Feuil1!$C$1:$BL$10,2,FALSE)","v":45},{"$f":"T102-HLOOKUP(X102,Feuil1!$C$1:$BL$10,3,FALSE)","v":35},{"$f":"T102-HLOOKUP(X102,Feuil1!$C$1:$BL$10,4,FALSE)","v":25},{"$f":"T102-HLOOKUP(X102,Feuil1!$C$1:$BL$10,5,FALSE)","v":15},{"$f":"T102-HLOOKUP(X102,Feuil1!$C$1:$BL$10,6,FALSE)","v":0},{"$f":"T102-HLOOKUP(X102,Feuil1!$C$1:$BL$10,7,FALSE)","v":-15},{"$f":"T102-HLOOKUP(X102,Feuil1!$C$1:$BL$10,8,FALSE)","v":-35},{"$f":"T102-HLOOKUP(X102,Feuil1!$C$1:$BL$10,9,FALSE)","v":-55},{"$f":"T102-HLOOKUP(X102,Feuil1!$C$1:$BL$10,10,FALSE)","v":-75},null,null,null,null,null,null,"FED +"]
["F","N","IDF",24,383141,"FOSSE","AMELIE",1989,57.4,"US METRO","F",40,45,47,47,64,68,-70,68,115,0.20000000000000284,"FED +",0,{"$f":"IF(I103=\"\",\"\",IF(A103=\"H\",IF(OR(H103=\"SEN\",H103<1995),VLOOKUP(I103,Feuil1!$A$11:$F$29,6),IF(AND(H103>1994,H103<1998),VLOOKUP(I103,Feuil1!$A$11:$F$29,5),IF(AND(H103>1997,H103<2000),VLOOKUP(I103,Feuil1!$A$11:$F$29,4),IF(AND(H103>1999,H103<2002),VLOOKUP(I103,Feuil1!$A$11:$F$29,3),VLOOKUP(I103,Feuil1!$A$11:$F$29,2))))),IF(OR(H103=\"SEN\",H103<1995),VLOOKUP(I103,Feuil1!$G$11:$L$25,6),IF(AND(H103>1994,H103<1998),VLOOKUP(I103,Feuil1!$G$11:$L$25,5),IF(AND(H103>1997,H103<2000),VLOOKUP(I103,Feuil1!$G$11:$L$25,4),IF(AND(H103>1999,H103<2002),VLOOKUP(I103,Feuil1!$G$11:$L$25,3),VLOOKUP(I103,Feuil1!$G$11:$L$25,2)))))))","v":"FS58"},163.14676338667837,null," ",{"$f":"T103-HLOOKUP(X103,Feuil1!$C$1:$BL$10,2,FALSE)","v":45},{"$f":"T103-HLOOKUP(X103,Feuil1!$C$1:$BL$10,3,FALSE)","v":35},{"$f":"T103-HLOOKUP(X103,Feuil1!$C$1:$BL$10,4,FALSE)","v":25},{"$f":"T103-HLOOKUP(X103,Feuil1!$C$1:$BL$10,5,FALSE)","v":15},{"$f":"T103-HLOOKUP(X103,Feuil1!$C$1:$BL$10,6,FALSE)","v":0},{"$f":"T103-HLOOKUP(X103,Feuil1!$C$1:$BL$10,7,FALSE)","v":-15},{"$f":"T103-HLOOKUP(X103,Feuil1!$C$1:$BL$10,8,FALSE)","v":-35},{"$f":"T103-HLOOKUP(X103,Feuil1!$C$1:$BL$10,9,FALSE)","v":-55},{"$f":"T103-HLOOKUP(X103,Feuil1!$C$1:$BL$10,10,FALSE)","v":-75},null,null,null,null,null,null,"FED +"]
["F","SEST","RAL",25,198067,"LAROIX","Adeline",1991,57.4,"CHARLIEU","F",46,50,52,52,55,59,63,63,115,0.20000000000000284,"FED +",0,{"$f":"IF(I104=\"\",\"\",IF(A104=\"H\",IF(OR(H104=\"SEN\",H104<1995),VLOOKUP(I104,Feuil1!$A$11:$F$29,6),IF(AND(H104>1994,H104<1998),VLOOKUP(I104,Feuil1!$A$11:$F$29,5),IF(AND(H104>1997,H104<2000),VLOOKUP(I104,Feuil1!$A$11:$F$29,4),IF(AND(H104>1999,H104<2002),VLOOKUP(I104,Feuil1!$A$11:$F$29,3),VLOOKUP(I104,Feuil1!$A$11:$F$29,2))))),IF(OR(H104=\"SEN\",H104<1995),VLOOKUP(I104,Feuil1!$G$11:$L$25,6),IF(AND(H104>1994,H104<1998),VLOOKUP(I104,Feuil1!$G$11:$L$25,5),IF(AND(H104>1997,H104<2000),VLOOKUP(I104,Feuil1!$G$11:$L$25,4),IF(AND(H104>1999,H104<2002),VLOOKUP(I104,Feuil1!$G$11:$L$25,3),VLOOKUP(I104,Feuil1!$G$11:$L$25,2)))))))","v":"FS58"},163.14676338667837,null," ",{"$f":"T104-HLOOKUP(X104,Feuil1!$C$1:$BL$10,2,FALSE)","v":45},{"$f":"T104-HLOOKUP(X104,Feuil1!$C$1:$BL$10,3,FALSE)","v":35},{"$f":"T104-HLOOKUP(X104,Feuil1!$C$1:$BL$10,4,FALSE)","v":25},{"$f":"T104-HLOOKUP(X104,Feuil1!$C$1:$BL$10,5,FALSE)","v":15},{"$f":"T104-HLOOKUP(X104,Feuil1!$C$1:$BL$10,6,FALSE)","v":0},{"$f":"T104-HLOOKUP(X104,Feuil1!$C$1:$BL$10,7,FALSE)","v":-15},{"$f":"T104-HLOOKUP(X104,Feuil1!$C$1:$BL$10,8,FALSE)","v":-35},{"$f":"T104-HLOOKUP(X104,Feuil1!$C$1:$BL$10,9,FALSE)","v":-55},{"$f":"T104-HLOOKUP(X104,Feuil1!$C$1:$BL$10,10,FALSE)","v":-75},null,null,null,null,null,null,"FED +"]
["F","NE","ALS",26,377053,"DREYFUS","ANNE CLAIRE",1986,57.8,"MJC Ungersheim","F",45,50,-53,50,60,-65,65,65,115,-0.59999999999999432,"FED +",0,{"$f":"IF(I105=\"\",\"\",IF(A105=\"H\",IF(OR(H105=\"SEN\",H105<1995),VLOOKUP(I105,Feuil1!$A$11:$F$29,6),IF(AND(H105>1994,H105<1998),VLOOKUP(I105,Feuil1!$A$11:$F$29,5),IF(AND(H105>1997,H105<2000),VLOOKUP(I105,Feuil1!$A$11:$F$29,4),IF(AND(H105>1999,H105<2002),VLOOKUP(I105,Feuil1!$A$11:$F$29,3),VLOOKUP(I105,Feuil1!$A$11:$F$29,2))))),IF(OR(H105=\"SEN\",H105<1995),VLOOKUP(I105,Feuil1!$G$11:$L$25,6),IF(AND(H105>1994,H105<1998),VLOOKUP(I105,Feuil1!$G$11:$L$25,5),IF(AND(H105>1997,H105<2000),VLOOKUP(I105,Feuil1!$G$11:$L$25,4),IF(AND(H105>1999,H105<2002),VLOOKUP(I105,Feuil1!$G$11:$L$25,3),VLOOKUP(I105,Feuil1!$G$11:$L$25,2)))))))","v":"FS58"},162.31546926552289,null," ",{"$f":"T105-HLOOKUP(X105,Feuil1!$C$1:$BL$10,2,FALSE)","v":45},{"$f":"T105-HLOOKUP(X105,Feuil1!$C$1:$BL$10,3,FALSE)","v":35},{"$f":"T105-HLOOKUP(X105,Feuil1!$C$1:$BL$10,4,FALSE)","v":25},{"$f":"T105-HLOOKUP(X105,Feuil1!$C$1:$BL$10,5,FALSE)","v":15},{"$f":"T105-HLOOKUP(X105,Feuil1!$C$1:$BL$10,6,FALSE)","v":0},{"$f":"T105-HLOOKUP(X105,Feuil1!$C$1:$BL$10,7,FALSE)","v":-15},{"$f":"T105-HLOOKUP(X105,Feuil1!$C$1:$BL$10,8,FALSE)","v":-35},{"$f":"T105-HLOOKUP(X105,Feuil1!$C$1:$BL$10,9,FALSE)","v":-55},{"$f":"T105-HLOOKUP(X105,Feuil1!$C$1:$BL$10,10,FALSE)","v":-75},null,null,null,null,null,null,"FED +"]
["F","NE","FCO",27,367034,"SANTI","Léonie",1989,55.5,"LF Besançon","F",45,48,50,50,59,63,-66,63,113,2,"IRG +",13,{"$f":"IF(I106=\"\",\"\",IF(A106=\"H\",IF(OR(H106=\"SEN\",H106<1995),VLOOKUP(I106,Feuil1!$A$11:$F$29,6),IF(AND(H106>1994,H106<1998),VLOOKUP(I106,Feuil1!$A$11:$F$29,5),IF(AND(H106>1997,H106<2000),VLOOKUP(I106,Feuil1!$A$11:$F$29,4),IF(AND(H106>1999,H106<2002),VLOOKUP(I106,Feuil1!$A$11:$F$29,3),VLOOKUP(I106,Feuil1!$A$11:$F$29,2))))),IF(OR(H106=\"SEN\",H106<1995),VLOOKUP(I106,Feuil1!$G$11:$L$25,6),IF(AND(H106>1994,H106<1998),VLOOKUP(I106,Feuil1!$G$11:$L$25,5),IF(AND(H106>1997,H106<2000),VLOOKUP(I106,Feuil1!$G$11:$L$25,4),IF(AND(H106>1999,H106<2002),VLOOKUP(I106,Feuil1!$G$11:$L$25,3),VLOOKUP(I106,Feuil1!$G$11:$L$25,2)))))))","v":"FS58"},164.41602793520914,null," ",{"$f":"T106-HLOOKUP(X106,Feuil1!$C$1:$BL$10,2,FALSE)","v":43},{"$f":"T106-HLOOKUP(X106,Feuil1!$C$1:$BL$10,3,FALSE)","v":33},{"$f":"T106-HLOOKUP(X106,Feuil1!$C$1:$BL$10,4,FALSE)","v":23},{"$f":"T106-HLOOKUP(X106,Feuil1!$C$1:$BL$10,5,FALSE)","v":13},{"$f":"T106-HLOOKUP(X106,Feuil1!$C$1:$BL$10,6,FALSE)","v":-2},{"$f":"T106-HLOOKUP(X106,Feuil1!$C$1:$BL$10,7,FALSE)","v":-17},{"$f":"T106-HLOOKUP(X106,Feuil1!$C$1:$BL$10,8,FALSE)","v":-37},{"$f":"T106-HLOOKUP(X106,Feuil1!$C$1:$BL$10,9,FALSE)","v":-57},{"$f":"T106-HLOOKUP(X106,Feuil1!$C$1:$BL$10,10,FALSE)","v":-77},null,null,null,null,null,null,"IRG +"]
["F","SEST","RAL",28,351973,"MARTIN ","Céline",1980,53.4,"CH Arbresle","F",-47,47,-51,47,65,-70,-71,65,112,5.2000000000000028,"IRG +",12,{"$f":"IF(I107=\"\",\"\",IF(A107=\"H\",IF(OR(H107=\"SEN\",H107<1995),VLOOKUP(I107,Feuil1!$A$11:$F$29,6),IF(AND(H107>1994,H107<1998),VLOOKUP(I107,Feuil1!$A$11:$F$29,5),IF(AND(H107>1997,H107<2000),VLOOKUP(I107,Feuil1!$A$11:$F$29,4),IF(AND(H107>1999,H107<2002),VLOOKUP(I107,Feuil1!$A$11:$F$29,3),VLOOKUP(I107,Feuil1!$A$11:$F$29,2))))),IF(OR(H107=\"SEN\",H107<1995),VLOOKUP(I107,Feuil1!$G$11:$L$25,6),IF(AND(H107>1994,H107<1998),VLOOKUP(I107,Feuil1!$G$11:$L$25,5),IF(AND(H107>1997,H107<2000),VLOOKUP(I107,Feuil1!$G$11:$L$25,4),IF(AND(H107>1999,H107<2002),VLOOKUP(I107,Feuil1!$G$11:$L$25,3),VLOOKUP(I107,Feuil1!$G$11:$L$25,2)))))))","v":"FS58"},167.93568952149093,null," ",{"$f":"T107-HLOOKUP(X107,Feuil1!$C$1:$BL$10,2,FALSE)","v":42},{"$f":"T107-HLOOKUP(X107,Feuil1!$C$1:$BL$10,3,FALSE)","v":32},{"$f":"T107-HLOOKUP(X107,Feuil1!$C$1:$BL$10,4,FALSE)","v":22},{"$f":"T107-HLOOKUP(X107,Feuil1!$C$1:$BL$10,5,FALSE)","v":12},{"$f":"T107-HLOOKUP(X107,Feuil1!$C$1:$BL$10,6,FALSE)","v":-3},{"$f":"T107-HLOOKUP(X107,Feuil1!$C$1:$BL$10,7,FALSE)","v":-18},{"$f":"T107-HLOOKUP(X107,Feuil1!$C$1:$BL$10,8,FALSE)","v":-38},{"$f":"T107-HLOOKUP(X107,Feuil1!$C$1:$BL$10,9,FALSE)","v":-58},{"$f":"T107-HLOOKUP(X107,Feuil1!$C$1:$BL$10,10,FALSE)","v":-78},null,null,null,null,null,null,"IRG +"]
["F","SEST","RAL",29,142132,"BAILLET ","Nathalie",1994,57,"SAINT BALDOPH","F",48,-50,51,51,61,-64,-64,61,112,-2,"IRG +",12,{"$f":"IF(I108=\"\",\"\",IF(A108=\"H\",IF(OR(H108=\"SEN\",H108<1995),VLOOKUP(I108,Feuil1!$A$11:$F$29,6),IF(AND(H108>1994,H108<1998),VLOOKUP(I108,Feuil1!$A$11:$F$29,5),IF(AND(H108>1997,H108<2000),VLOOKUP(I108,Feuil1!$A$11:$F$29,4),IF(AND(H108>1999,H108<2002),VLOOKUP(I108,Feuil1!$A$11:$F$29,3),VLOOKUP(I108,Feuil1!$A$11:$F$29,2))))),IF(OR(H108=\"SEN\",H108<1995),VLOOKUP(I108,Feuil1!$G$11:$L$25,6),IF(AND(H108>1994,H108<1998),VLOOKUP(I108,Feuil1!$G$11:$L$25,5),IF(AND(H108>1997,H108<2000),VLOOKUP(I108,Feuil1!$G$11:$L$25,4),IF(AND(H108>1999,H108<2002),VLOOKUP(I108,Feuil1!$G$11:$L$25,3),VLOOKUP(I108,Feuil1!$G$11:$L$25,2)))))))","v":"FS58"},159.71628661731495,null," ",{"$f":"T108-HLOOKUP(X108,Feuil1!$C$1:$BL$10,2,FALSE)","v":42},{"$f":"T108-HLOOKUP(X108,Feuil1!$C$1:$BL$10,3,FALSE)","v":32},{"$f":"T108-HLOOKUP(X108,Feuil1!$C$1:$BL$10,4,FALSE)","v":22},{"$f":"T108-HLOOKUP(X108,Feuil1!$C$1:$BL$10,5,FALSE)","v":12},{"$f":"T108-HLOOKUP(X108,Feuil1!$C$1:$BL$10,6,FALSE)","v":-3},{"$f":"T108-HLOOKUP(X108,Feuil1!$C$1:$BL$10,7,FALSE)","v":-18},{"$f":"T108-HLOOKUP(X108,Feuil1!$C$1:$BL$10,8,FALSE)","v":-38},{"$f":"T108-HLOOKUP(X108,Feuil1!$C$1:$BL$10,9,FALSE)","v":-58},{"$f":"T108-HLOOKUP(X108,Feuil1!$C$1:$BL$10,10,FALSE)","v":-78},null,null,null,null,null,null,"IRG +"]
["F","SO","MPY",30,376138,"ROUGEMONT","Mathilde",1992,55,"TOULOUSE HC","F",42,45,-48,45,60,-63,63,63,108,-2,"IRG +",8,{"$f":"IF(I109=\"\",\"\",IF(A109=\"H\",IF(OR(H109=\"SEN\",H109<1995),VLOOKUP(I109,Feuil1!$A$11:$F$29,6),IF(AND(H109>1994,H109<1998),VLOOKUP(I109,Feuil1!$A$11:$F$29,5),IF(AND(H109>1997,H109<2000),VLOOKUP(I109,Feuil1!$A$11:$F$29,4),IF(AND(H109>1999,H109<2002),VLOOKUP(I109,Feuil1!$A$11:$F$29,3),VLOOKUP(I109,Feuil1!$A$11:$F$29,2))))),IF(OR(H109=\"SEN\",H109<1995),VLOOKUP(I109,Feuil1!$G$11:$L$25,6),IF(AND(H109>1994,H109<1998),VLOOKUP(I109,Feuil1!$G$11:$L$25,5),IF(AND(H109>1997,H109<2000),VLOOKUP(I109,Feuil1!$G$11:$L$25,4),IF(AND(H109>1999,H109<2002),VLOOKUP(I109,Feuil1!$G$11:$L$25,3),VLOOKUP(I109,Feuil1!$G$11:$L$25,2)))))))","v":"FS58"},158.23706471013526,null," ",{"$f":"T109-HLOOKUP(X109,Feuil1!$C$1:$BL$10,2,FALSE)","v":38},{"$f":"T109-HLOOKUP(X109,Feuil1!$C$1:$BL$10,3,FALSE)","v":28},{"$f":"T109-HLOOKUP(X109,Feuil1!$C$1:$BL$10,4,FALSE)","v":18},{"$f":"T109-HLOOKUP(X109,Feuil1!$C$1:$BL$10,5,FALSE)","v":8},{"$f":"T109-HLOOKUP(X109,Feuil1!$C$1:$BL$10,6,FALSE)","v":-7},{"$f":"T109-HLOOKUP(X109,Feuil1!$C$1:$BL$10,7,FALSE)","v":-22},{"$f":"T109-HLOOKUP(X109,Feuil1!$C$1:$BL$10,8,FALSE)","v":-42},{"$f":"T109-HLOOKUP(X109,Feuil1!$C$1:$BL$10,9,FALSE)","v":-62},{"$f":"T109-HLOOKUP(X109,Feuil1!$C$1:$BL$10,10,FALSE)","v":-82},null,null,null,null,null,null,"IRG +"]
["F","SEST","RAL",31,386221,"SLAVOVA","Mariya",1982,54.83,"VAULX EN VELIN ","BUL",-47,47,50,50,57,-65,-65,57,107,-2.6599999999999966,"IRG +",7,{"$f":"IF(I110=\"\",\"\",IF(A110=\"H\",IF(OR(H110=\"SEN\",H110<1995),VLOOKUP(I110,Feuil1!$A$11:$F$29,6),IF(AND(H110>1994,H110<1998),VLOOKUP(I110,Feuil1!$A$11:$F$29,5),IF(AND(H110>1997,H110<2000),VLOOKUP(I110,Feuil1!$A$11:$F$29,4),IF(AND(H110>1999,H110<2002),VLOOKUP(I110,Feuil1!$A$11:$F$29,3),VLOOKUP(I110,Feuil1!$A$11:$F$29,2))))),IF(OR(H110=\"SEN\",H110<1995),VLOOKUP(I110,Feuil1!$G$11:$L$25,6),IF(AND(H110>1994,H110<1998),VLOOKUP(I110,Feuil1!$G$11:$L$25,5),IF(AND(H110>1997,H110<2000),VLOOKUP(I110,Feuil1!$G$11:$L$25,4),IF(AND(H110>1999,H110<2002),VLOOKUP(I110,Feuil1!$G$11:$L$25,3),VLOOKUP(I110,Feuil1!$G$11:$L$25,2)))))))","v":"FS58"},157.14741258983972,null," ",{"$f":"T110-HLOOKUP(X110,Feuil1!$C$1:$BL$10,2,FALSE)","v":37},{"$f":"T110-HLOOKUP(X110,Feuil1!$C$1:$BL$10,3,FALSE)","v":27},{"$f":"T110-HLOOKUP(X110,Feuil1!$C$1:$BL$10,4,FALSE)","v":17},{"$f":"T110-HLOOKUP(X110,Feuil1!$C$1:$BL$10,5,FALSE)","v":7},{"$f":"T110-HLOOKUP(X110,Feuil1!$C$1:$BL$10,6,FALSE)","v":-8},{"$f":"T110-HLOOKUP(X110,Feuil1!$C$1:$BL$10,7,FALSE)","v":-23},{"$f":"T110-HLOOKUP(X110,Feuil1!$C$1:$BL$10,8,FALSE)","v":-43},{"$f":"T110-HLOOKUP(X110,Feuil1!$C$1:$BL$10,9,FALSE)","v":-63},{"$f":"T110-HLOOKUP(X110,Feuil1!$C$1:$BL$10,10,FALSE)","v":-83},null,null,null,null,null,null,"IRG +"]
["F","NE","ALS",32,25608,"WITKOWSKI","DAGMAR",1958,53.4,"ASPTT Strasbourg","F",43,46,48,48,52,55,57,57,105,-1.7999999999999972,"IRG +",5,{"$f":"IF(I111=\"\",\"\",IF(A111=\"H\",IF(OR(H111=\"SEN\",H111<1995),VLOOKUP(I111,Feuil1!$A$11:$F$29,6),IF(AND(H111>1994,H111<1998),VLOOKUP(I111,Feuil1!$A$11:$F$29,5),IF(AND(H111>1997,H111<2000),VLOOKUP(I111,Feuil1!$A$11:$F$29,4),IF(AND(H111>1999,H111<2002),VLOOKUP(I111,Feuil1!$A$11:$F$29,3),VLOOKUP(I111,Feuil1!$A$11:$F$29,2))))),IF(OR(H111=\"SEN\",H111<1995),VLOOKUP(I111,Feuil1!$G$11:$L$25,6),IF(AND(H111>1994,H111<1998),VLOOKUP(I111,Feuil1!$G$11:$L$25,5),IF(AND(H111>1997,H111<2000),VLOOKUP(I111,Feuil1!$G$11:$L$25,4),IF(AND(H111>1999,H111<2002),VLOOKUP(I111,Feuil1!$G$11:$L$25,3),VLOOKUP(I111,Feuil1!$G$11:$L$25,2)))))))","v":"FS58"},157.43970892639774,null," ",{"$f":"T111-HLOOKUP(X111,Feuil1!$C$1:$BL$10,2,FALSE)","v":35},{"$f":"T111-HLOOKUP(X111,Feuil1!$C$1:$BL$10,3,FALSE)","v":25},{"$f":"T111-HLOOKUP(X111,Feuil1!$C$1:$BL$10,4,FALSE)","v":15},{"$f":"T111-HLOOKUP(X111,Feuil1!$C$1:$BL$10,5,FALSE)","v":5},{"$f":"T111-HLOOKUP(X111,Feuil1!$C$1:$BL$10,6,FALSE)","v":-10},{"$f":"T111-HLOOKUP(X111,Feuil1!$C$1:$BL$10,7,FALSE)","v":-25},{"$f":"T111-HLOOKUP(X111,Feuil1!$C$1:$BL$10,8,FALSE)","v":-45},{"$f":"T111-HLOOKUP(X111,Feuil1!$C$1:$BL$10,9,FALSE)","v":-65},{"$f":"T111-HLOOKUP(X111,Feuil1!$C$1:$BL$10,10,FALSE)","v":-85},null,null,null,null,null,null,"IRG +"]
["F","N","IDF",33,386103,"NEZONDET","MELANIE",1985,56,"MELUN","F",40,-45,45,{"$f":"IF(H112=\"\",\"\",IF(MAXA(L112:N112)<=0,0,MAXA(L112:N112)))","v":45},55,60,-65,{"$f":"IF(H112=\"\",\"\",IF(MAXA(P112:R112)<=0,0,MAXA(P112:R112)))","v":60},{"$f":"IF(H112=\"\",\"\",IF(OR(O112=0,S112=0),0,O112+S112))","v":105},{"$f":"T112-I112*2","v":-7},{"$f":"IF(H112=\"\",\"\",AQ112)","v":"IRG +"},{"$f":"IF(AJ112>=0,AJ112,IF(AI112>=0,AI112,IF(AH112>=0,AH112,IF(AG112>=0,AG112,IF(AF112>=0,AF112,IF(AE112>=0,AE112,IF(AD112>=0,AD112,IF(AC112>=0,AC112,AB112))))))))","v":5},{"$f":"IF(I112=\"\",\"\",IF(A112=\"H\",IF(OR(H112=\"SEN\",H112<1995),VLOOKUP(I112,Feuil1!$A$11:$F$29,6),IF(AND(H112>1994,H112<1998),VLOOKUP(I112,Feuil1!$A$11:$F$29,5),IF(AND(H112>1997,H112<2000),VLOOKUP(I112,Feuil1!$A$11:$F$29,4),IF(AND(H112>1999,H112<2002),VLOOKUP(I112,Feuil1!$A$11:$F$29,3),VLOOKUP(I112,Feuil1!$A$11:$F$29,2))))),IF(OR(H112=\"SEN\",H112<1995),VLOOKUP(I112,Feuil1!$G$11:$L$25,6),IF(AND(H112>1994,H112<1998),VLOOKUP(I112,Feuil1!$G$11:$L$25,5),IF(AND(H112>1997,H112<2000),VLOOKUP(I112,Feuil1!$G$11:$L$25,4),IF(AND(H112>1999,H112<2002),VLOOKUP(I112,Feuil1!$G$11:$L$25,3),VLOOKUP(I112,Feuil1!$G$11:$L$25,2)))))))","v":"FS58"},{"$f":"IF(I112=\"\",\"\",IF(A112=\"H\",10^(0.794358141*LOG(I112/174.393)^2)*T112,IF(A112=\"F\",10^(0.89726074*LOG(I112/148.026)^2)*T112,\"\")))","v":151.73671457095878},null," ",{"$f":"T112-HLOOKUP(X112,Feuil1!$C$1:$BL$10,2,FALSE)","v":35},{"$f":"T112-HLOOKUP(X112,Feuil1!$C$1:$BL$10,3,FALSE)","v":25},{"$f":"T112-HLOOKUP(X112,Feuil1!$C$1:$BL$10,4,FALSE)","v":15},{"$f":"T112-HLOOKUP(X112,Feuil1!$C$1:$BL$10,5,FALSE)","v":5},{"$f":"T112-HLOOKUP(X112,Feuil1!$C$1:$BL$10,6,FALSE)","v":-10},{"$f":"T112-HLOOKUP(X112,Feuil1!$C$1:$BL$10,7,FALSE)","v":-25},{"$f":"T112-HLOOKUP(X112,Feuil1!$C$1:$BL$10,8,FALSE)","v":-45},{"$f":"T112-HLOOKUP(X112,Feuil1!$C$1:$BL$10,9,FALSE)","v":-65},{"$f":"T112-HLOOKUP(X112,Feuil1!$C$1:$BL$10,10,FALSE)","v":-85},null,null,null,null,null,null,{"$f":"IF(AJ112>=0,$AJ$4,IF(AI112>=0,$AI$4,IF(AH112>=0,$AH$4,IF(AG112>=0,$AG$4,IF(AF112>=0,$AF$4,IF(AE112>=0,$AE$4,IF(AD112>=0,$AD$4,IF(AC112>=0,$AC$4,$AB$4))))))))","v":"IRG +"}]
["F","DOM","GUY",34,186614,"BOROT","Lenaïc",1994,57.8,"ASCPG/Guyane","F",40,45,47,47,50,55,57,57,104,-11.599999999999994,"IRG +",4,{"$f":"IF(I113=\"\",\"\",IF(A113=\"H\",IF(OR(H113=\"SEN\",H113<1995),VLOOKUP(I113,Feuil1!$A$11:$F$29,6),IF(AND(H113>1994,H113<1998),VLOOKUP(I113,Feuil1!$A$11:$F$29,5),IF(AND(H113>1997,H113<2000),VLOOKUP(I113,Feuil1!$A$11:$F$29,4),IF(AND(H113>1999,H113<2002),VLOOKUP(I113,Feuil1!$A$11:$F$29,3),VLOOKUP(I113,Feuil1!$A$11:$F$29,2))))),IF(OR(H113=\"SEN\",H113<1995),VLOOKUP(I113,Feuil1!$G$11:$L$25,6),IF(AND(H113>1994,H113<1998),VLOOKUP(I113,Feuil1!$G$11:$L$25,5),IF(AND(H113>1997,H113<2000),VLOOKUP(I113,Feuil1!$G$11:$L$25,4),IF(AND(H113>1999,H113<2002),VLOOKUP(I113,Feuil1!$G$11:$L$25,3),VLOOKUP(I113,Feuil1!$G$11:$L$25,2)))))))","v":"FS58"},146.78964177055985,null," ",{"$f":"T113-HLOOKUP(X113,Feuil1!$C$1:$BL$10,2,FALSE)","v":34},{"$f":"T113-HLOOKUP(X113,Feuil1!$C$1:$BL$10,3,FALSE)","v":24},{"$f":"T113-HLOOKUP(X113,Feuil1!$C$1:$BL$10,4,FALSE)","v":14},{"$f":"T113-HLOOKUP(X113,Feuil1!$C$1:$BL$10,5,FALSE)","v":4},{"$f":"T113-HLOOKUP(X113,Feuil1!$C$1:$BL$10,6,FALSE)","v":-11},{"$f":"T113-HLOOKUP(X113,Feuil1!$C$1:$BL$10,7,FALSE)","v":-26},{"$f":"T113-HLOOKUP(X113,Feuil1!$C$1:$BL$10,8,FALSE)","v":-46},{"$f":"T113-HLOOKUP(X113,Feuil1!$C$1:$BL$10,9,FALSE)","v":-66},{"$f":"T113-HLOOKUP(X113,Feuil1!$C$1:$BL$10,10,FALSE)","v":-86},null,null,null,null,null,null,"IRG +"]
["F","N","NPC",35,275254,"DEMARCQ","Julie",1992,56.6,"CHCD COMINES","F",43,46,48,48,52,-55,55,55,103,-10.200000000000003,"IRG +",3,{"$f":"IF(I114=\"\",\"\",IF(A114=\"H\",IF(OR(H114=\"SEN\",H114<1995),VLOOKUP(I114,Feuil1!$A$11:$F$29,6),IF(AND(H114>1994,H114<1998),VLOOKUP(I114,Feuil1!$A$11:$F$29,5),IF(AND(H114>1997,H114<2000),VLOOKUP(I114,Feuil1!$A$11:$F$29,4),IF(AND(H114>1999,H114<2002),VLOOKUP(I114,Feuil1!$A$11:$F$29,3),VLOOKUP(I114,Feuil1!$A$11:$F$29,2))))),IF(OR(H114=\"SEN\",H114<1995),VLOOKUP(I114,Feuil1!$G$11:$L$25,6),IF(AND(H114>1994,H114<1998),VLOOKUP(I114,Feuil1!$G$11:$L$25,5),IF(AND(H114>1997,H114<2000),VLOOKUP(I114,Feuil1!$G$11:$L$25,4),IF(AND(H114>1999,H114<2002),VLOOKUP(I114,Feuil1!$G$11:$L$25,3),VLOOKUP(I114,Feuil1!$G$11:$L$25,2)))))))","v":"FS58"},147.65615066728026,null," ",{"$f":"T114-HLOOKUP(X114,Feuil1!$C$1:$BL$10,2,FALSE)","v":33},{"$f":"T114-HLOOKUP(X114,Feuil1!$C$1:$BL$10,3,FALSE)","v":23},{"$f":"T114-HLOOKUP(X114,Feuil1!$C$1:$BL$10,4,FALSE)","v":13},{"$f":"T114-HLOOKUP(X114,Feuil1!$C$1:$BL$10,5,FALSE)","v":3},{"$f":"T114-HLOOKUP(X114,Feuil1!$C$1:$BL$10,6,FALSE)","v":-12},{"$f":"T114-HLOOKUP(X114,Feuil1!$C$1:$BL$10,7,FALSE)","v":-27},{"$f":"T114-HLOOKUP(X114,Feuil1!$C$1:$BL$10,8,FALSE)","v":-47},{"$f":"T114-HLOOKUP(X114,Feuil1!$C$1:$BL$10,9,FALSE)","v":-67},{"$f":"T114-HLOOKUP(X114,Feuil1!$C$1:$BL$10,10,FALSE)","v":-87},null,null,null,null,null,null,"IRG +"]
["F","CO","BNO",36,355102,"ROUSSEAU","Aurore",1991,58,"Caen CHM","F",41,44,46,46,50,54,57,57,103,-13,"IRG +",3,{"$f":"IF(I115=\"\",\"\",IF(A115=\"H\",IF(OR(H115=\"SEN\",H115<1995),VLOOKUP(I115,Feuil1!$A$11:$F$29,6),IF(AND(H115>1994,H115<1998),VLOOKUP(I115,Feuil1!$A$11:$F$29,5),IF(AND(H115>1997,H115<2000),VLOOKUP(I115,Feuil1!$A$11:$F$29,4),IF(AND(H115>1999,H115<2002),VLOOKUP(I115,Feuil1!$A$11:$F$29,3),VLOOKUP(I115,Feuil1!$A$11:$F$29,2))))),IF(OR(H115=\"SEN\",H115<1995),VLOOKUP(I115,Feuil1!$G$11:$L$25,6),IF(AND(H115>1994,H115<1998),VLOOKUP(I115,Feuil1!$G$11:$L$25,5),IF(AND(H115>1997,H115<2000),VLOOKUP(I115,Feuil1!$G$11:$L$25,4),IF(AND(H115>1999,H115<2002),VLOOKUP(I115,Feuil1!$G$11:$L$25,3),VLOOKUP(I115,Feuil1!$G$11:$L$25,2)))))))","v":"FS58"},145.01130147507851,null," ",{"$f":"T115-HLOOKUP(X115,Feuil1!$C$1:$BL$10,2,FALSE)","v":33},{"$f":"T115-HLOOKUP(X115,Feuil1!$C$1:$BL$10,3,FALSE)","v":23},{"$f":"T115-HLOOKUP(X115,Feuil1!$C$1:$BL$10,4,FALSE)","v":13},{"$f":"T115-HLOOKUP(X115,Feuil1!$C$1:$BL$10,5,FALSE)","v":3},{"$f":"T115-HLOOKUP(X115,Feuil1!$C$1:$BL$10,6,FALSE)","v":-12},{"$f":"T115-HLOOKUP(X115,Feuil1!$C$1:$BL$10,7,FALSE)","v":-27},{"$f":"T115-HLOOKUP(X115,Feuil1!$C$1:$BL$10,8,FALSE)","v":-47},{"$f":"T115-HLOOKUP(X115,Feuil1!$C$1:$BL$10,9,FALSE)","v":-67},{"$f":"T115-HLOOKUP(X115,Feuil1!$C$1:$BL$10,10,FALSE)","v":-87},null,null,null,null,null,null,"IRG +"]
["F","NE","FCO",37,1144,"LOISEAU","Corinne",1963,57.9,"CH Luxeuil","F",40,43,-46,43,50,54,-57,54,97,-18.799999999999997,"REG +",7,{"$f":"IF(I116=\"\",\"\",IF(A116=\"H\",IF(OR(H116=\"SEN\",H116<1995),VLOOKUP(I116,Feuil1!$A$11:$F$29,6),IF(AND(H116>1994,H116<1998),VLOOKUP(I116,Feuil1!$A$11:$F$29,5),IF(AND(H116>1997,H116<2000),VLOOKUP(I116,Feuil1!$A$11:$F$29,4),IF(AND(H116>1999,H116<2002),VLOOKUP(I116,Feuil1!$A$11:$F$29,3),VLOOKUP(I116,Feuil1!$A$11:$F$29,2))))),IF(OR(H116=\"SEN\",H116<1995),VLOOKUP(I116,Feuil1!$G$11:$L$25,6),IF(AND(H116>1994,H116<1998),VLOOKUP(I116,Feuil1!$G$11:$L$25,5),IF(AND(H116>1997,H116<2000),VLOOKUP(I116,Feuil1!$G$11:$L$25,4),IF(AND(H116>1999,H116<2002),VLOOKUP(I116,Feuil1!$G$11:$L$25,3),VLOOKUP(I116,Feuil1!$G$11:$L$25,2)))))))","v":"FS58"},136.73638818848045,null," ",{"$f":"T116-HLOOKUP(X116,Feuil1!$C$1:$BL$10,2,FALSE)","v":27},{"$f":"T116-HLOOKUP(X116,Feuil1!$C$1:$BL$10,3,FALSE)","v":17},{"$f":"T116-HLOOKUP(X116,Feuil1!$C$1:$BL$10,4,FALSE)","v":7},{"$f":"T116-HLOOKUP(X116,Feuil1!$C$1:$BL$10,5,FALSE)","v":-3},{"$f":"T116-HLOOKUP(X116,Feuil1!$C$1:$BL$10,6,FALSE)","v":-18},{"$f":"T116-HLOOKUP(X116,Feuil1!$C$1:$BL$10,7,FALSE)","v":-33},{"$f":"T116-HLOOKUP(X116,Feuil1!$C$1:$BL$10,8,FALSE)","v":-53},{"$f":"T116-HLOOKUP(X116,Feuil1!$C$1:$BL$10,9,FALSE)","v":-73},{"$f":"T116-HLOOKUP(X116,Feuil1!$C$1:$BL$10,10,FALSE)","v":-93},null,null,null,null,null,null,"REG +"]
["F","N","IDF",38,247918,"BLANCHARD","ISABELLE",1966,57.9,"MASSY","F",37,40,42,42,50,52,55,55,97,-18.799999999999997,"REG +",7,{"$f":"IF(I117=\"\",\"\",IF(A117=\"H\",IF(OR(H117=\"SEN\",H117<1995),VLOOKUP(I117,Feuil1!$A$11:$F$29,6),IF(AND(H117>1994,H117<1998),VLOOKUP(I117,Feuil1!$A$11:$F$29,5),IF(AND(H117>1997,H117<2000),VLOOKUP(I117,Feuil1!$A$11:$F$29,4),IF(AND(H117>1999,H117<2002),VLOOKUP(I117,Feuil1!$A$11:$F$29,3),VLOOKUP(I117,Feuil1!$A$11:$F$29,2))))),IF(OR(H117=\"SEN\",H117<1995),VLOOKUP(I117,Feuil1!$G$11:$L$25,6),IF(AND(H117>1994,H117<1998),VLOOKUP(I117,Feuil1!$G$11:$L$25,5),IF(AND(H117>1997,H117<2000),VLOOKUP(I117,Feuil1!$G$11:$L$25,4),IF(AND(H117>1999,H117<2002),VLOOKUP(I117,Feuil1!$G$11:$L$25,3),VLOOKUP(I117,Feuil1!$G$11:$L$25,2)))))))","v":"FS58"},136.73638818848045,null," ",{"$f":"T117-HLOOKUP(X117,Feuil1!$C$1:$BL$10,2,FALSE)","v":27},{"$f":"T117-HLOOKUP(X117,Feuil1!$C$1:$BL$10,3,FALSE)","v":17},{"$f":"T117-HLOOKUP(X117,Feuil1!$C$1:$BL$10,4,FALSE)","v":7},{"$f":"T117-HLOOKUP(X117,Feuil1!$C$1:$BL$10,5,FALSE)","v":-3},{"$f":"T117-HLOOKUP(X117,Feuil1!$C$1:$BL$10,6,FALSE)","v":-18},{"$f":"T117-HLOOKUP(X117,Feuil1!$C$1:$BL$10,7,FALSE)","v":-33},{"$f":"T117-HLOOKUP(X117,Feuil1!$C$1:$BL$10,8,FALSE)","v":-53},{"$f":"T117-HLOOKUP(X117,Feuil1!$C$1:$BL$10,9,FALSE)","v":-73},{"$f":"T117-HLOOKUP(X117,Feuil1!$C$1:$BL$10,10,FALSE)","v":-93},null,null,null,null,null,null,"REG +"]
["F","N","PIC",39,364228,"PETIT","Juliette",1985,53.8,"Villers-Bretonneux KC","F",40,-43,43,43,50,53,-56,53,96,-11.599999999999994,"REG +",6,{"$f":"IF(I118=\"\",\"\",IF(A118=\"H\",IF(OR(H118=\"SEN\",H118<1995),VLOOKUP(I118,Feuil1!$A$11:$F$29,6),IF(AND(H118>1994,H118<1998),VLOOKUP(I118,Feuil1!$A$11:$F$29,5),IF(AND(H118>1997,H118<2000),VLOOKUP(I118,Feuil1!$A$11:$F$29,4),IF(AND(H118>1999,H118<2002),VLOOKUP(I118,Feuil1!$A$11:$F$29,3),VLOOKUP(I118,Feuil1!$A$11:$F$29,2))))),IF(OR(H118=\"SEN\",H118<1995),VLOOKUP(I118,Feuil1!$G$11:$L$25,6),IF(AND(H118>1994,H118<1998),VLOOKUP(I118,Feuil1!$G$11:$L$25,5),IF(AND(H118>1997,H118<2000),VLOOKUP(I118,Feuil1!$G$11:$L$25,4),IF(AND(H118>1999,H118<2002),VLOOKUP(I118,Feuil1!$G$11:$L$25,3),VLOOKUP(I118,Feuil1!$G$11:$L$25,2)))))))","v":"FS58"},143.09692354553869,null," ",{"$f":"T118-HLOOKUP(X118,Feuil1!$C$1:$BL$10,2,FALSE)","v":26},{"$f":"T118-HLOOKUP(X118,Feuil1!$C$1:$BL$10,3,FALSE)","v":16},{"$f":"T118-HLOOKUP(X118,Feuil1!$C$1:$BL$10,4,FALSE)","v":6},{"$f":"T118-HLOOKUP(X118,Feuil1!$C$1:$BL$10,5,FALSE)","v":-4},{"$f":"T118-HLOOKUP(X118,Feuil1!$C$1:$BL$10,6,FALSE)","v":-19},{"$f":"T118-HLOOKUP(X118,Feuil1!$C$1:$BL$10,7,FALSE)","v":-34},{"$f":"T118-HLOOKUP(X118,Feuil1!$C$1:$BL$10,8,FALSE)","v":-54},{"$f":"T118-HLOOKUP(X118,Feuil1!$C$1:$BL$10,9,FALSE)","v":-74},{"$f":"T118-HLOOKUP(X118,Feuil1!$C$1:$BL$10,10,FALSE)","v":-94},null,null,null,null,null,null,"REG +"]
["F","N","NPC",40,231359,"BAUQUEL","Bénédicte",1993,54.6,"C.A.ROSENDAEL","F",35,38,41,41,50,53,-55,53,94,-15.200000000000003,"REG +",4,{"$f":"IF(I119=\"\",\"\",IF(A119=\"H\",IF(OR(H119=\"SEN\",H119<1995),VLOOKUP(I119,Feuil1!$A$11:$F$29,6),IF(AND(H119>1994,H119<1998),VLOOKUP(I119,Feuil1!$A$11:$F$29,5),IF(AND(H119>1997,H119<2000),VLOOKUP(I119,Feuil1!$A$11:$F$29,4),IF(AND(H119>1999,H119<2002),VLOOKUP(I119,Feuil1!$A$11:$F$29,3),VLOOKUP(I119,Feuil1!$A$11:$F$29,2))))),IF(OR(H119=\"SEN\",H119<1995),VLOOKUP(I119,Feuil1!$G$11:$L$25,6),IF(AND(H119>1994,H119<1998),VLOOKUP(I119,Feuil1!$G$11:$L$25,5),IF(AND(H119>1997,H119<2000),VLOOKUP(I119,Feuil1!$G$11:$L$25,4),IF(AND(H119>1999,H119<2002),VLOOKUP(I119,Feuil1!$G$11:$L$25,3),VLOOKUP(I119,Feuil1!$G$11:$L$25,2)))))))","v":"FS58"},138.5056025467299,null," ",{"$f":"T119-HLOOKUP(X119,Feuil1!$C$1:$BL$10,2,FALSE)","v":24},{"$f":"T119-HLOOKUP(X119,Feuil1!$C$1:$BL$10,3,FALSE)","v":14},{"$f":"T119-HLOOKUP(X119,Feuil1!$C$1:$BL$10,4,FALSE)","v":4},{"$f":"T119-HLOOKUP(X119,Feuil1!$C$1:$BL$10,5,FALSE)","v":-6},{"$f":"T119-HLOOKUP(X119,Feuil1!$C$1:$BL$10,6,FALSE)","v":-21},{"$f":"T119-HLOOKUP(X119,Feuil1!$C$1:$BL$10,7,FALSE)","v":-36},{"$f":"T119-HLOOKUP(X119,Feuil1!$C$1:$BL$10,8,FALSE)","v":-56},{"$f":"T119-HLOOKUP(X119,Feuil1!$C$1:$BL$10,9,FALSE)","v":-76},{"$f":"T119-HLOOKUP(X119,Feuil1!$C$1:$BL$10,10,FALSE)","v":-96},null,null,null,null,null,null,"REG +"]
["F","SO","MPY",41,356135,"VALENCIA","Caroline",1994,56.7,"TARBES CUTPH","F",38,40,42,42,48,50,52,52,94,-19.400000000000006,"REG +",4,{"$f":"IF(I120=\"\",\"\",IF(A120=\"H\",IF(OR(H120=\"SEN\",H120<1995),VLOOKUP(I120,Feuil1!$A$11:$F$29,6),IF(AND(H120>1994,H120<1998),VLOOKUP(I120,Feuil1!$A$11:$F$29,5),IF(AND(H120>1997,H120<2000),VLOOKUP(I120,Feuil1!$A$11:$F$29,4),IF(AND(H120>1999,H120<2002),VLOOKUP(I120,Feuil1!$A$11:$F$29,3),VLOOKUP(I120,Feuil1!$A$11:$F$29,2))))),IF(OR(H120=\"SEN\",H120<1995),VLOOKUP(I120,Feuil1!$G$11:$L$25,6),IF(AND(H120>1994,H120<1998),VLOOKUP(I120,Feuil1!$G$11:$L$25,5),IF(AND(H120>1997,H120<2000),VLOOKUP(I120,Feuil1!$G$11:$L$25,4),IF(AND(H120>1999,H120<2002),VLOOKUP(I120,Feuil1!$G$11:$L$25,3),VLOOKUP(I120,Feuil1!$G$11:$L$25,2)))))))","v":"FS58"},134.5762125907525,null," ",{"$f":"T120-HLOOKUP(X120,Feuil1!$C$1:$BL$10,2,FALSE)","v":24},{"$f":"T120-HLOOKUP(X120,Feuil1!$C$1:$BL$10,3,FALSE)","v":14},{"$f":"T120-HLOOKUP(X120,Feuil1!$C$1:$BL$10,4,FALSE)","v":4},{"$f":"T120-HLOOKUP(X120,Feuil1!$C$1:$BL$10,5,FALSE)","v":-6},{"$f":"T120-HLOOKUP(X120,Feuil1!$C$1:$BL$10,6,FALSE)","v":-21},{"$f":"T120-HLOOKUP(X120,Feuil1!$C$1:$BL$10,7,FALSE)","v":-36},{"$f":"T120-HLOOKUP(X120,Feuil1!$C$1:$BL$10,8,FALSE)","v":-56},{"$f":"T120-HLOOKUP(X120,Feuil1!$C$1:$BL$10,9,FALSE)","v":-76},{"$f":"T120-HLOOKUP(X120,Feuil1!$C$1:$BL$10,10,FALSE)","v":-96},null,null,null,null,null,null,"REG +"]
["F","N","PIC",42,268516,"BEY","Louise",1994,58,"Saleux CHM","F",-39,40,-42,40,50,54,-56,54,94,-22,"REG +",4,{"$f":"IF(I121=\"\",\"\",IF(A121=\"H\",IF(OR(H121=\"SEN\",H121<1995),VLOOKUP(I121,Feuil1!$A$11:$F$29,6),IF(AND(H121>1994,H121<1998),VLOOKUP(I121,Feuil1!$A$11:$F$29,5),IF(AND(H121>1997,H121<2000),VLOOKUP(I121,Feuil1!$A$11:$F$29,4),IF(AND(H121>1999,H121<2002),VLOOKUP(I121,Feuil1!$A$11:$F$29,3),VLOOKUP(I121,Feuil1!$A$11:$F$29,2))))),IF(OR(H121=\"SEN\",H121<1995),VLOOKUP(I121,Feuil1!$G$11:$L$25,6),IF(AND(H121>1994,H121<1998),VLOOKUP(I121,Feuil1!$G$11:$L$25,5),IF(AND(H121>1997,H121<2000),VLOOKUP(I121,Feuil1!$G$11:$L$25,4),IF(AND(H121>1999,H121<2002),VLOOKUP(I121,Feuil1!$G$11:$L$25,3),VLOOKUP(I121,Feuil1!$G$11:$L$25,2)))))))","v":"FS58"},132.34041105492602,null," ",{"$f":"T121-HLOOKUP(X121,Feuil1!$C$1:$BL$10,2,FALSE)","v":24},{"$f":"T121-HLOOKUP(X121,Feuil1!$C$1:$BL$10,3,FALSE)","v":14},{"$f":"T121-HLOOKUP(X121,Feuil1!$C$1:$BL$10,4,FALSE)","v":4},{"$f":"T121-HLOOKUP(X121,Feuil1!$C$1:$BL$10,5,FALSE)","v":-6},{"$f":"T121-HLOOKUP(X121,Feuil1!$C$1:$BL$10,6,FALSE)","v":-21},{"$f":"T121-HLOOKUP(X121,Feuil1!$C$1:$BL$10,7,FALSE)","v":-36},{"$f":"T121-HLOOKUP(X121,Feuil1!$C$1:$BL$10,8,FALSE)","v":-56},{"$f":"T121-HLOOKUP(X121,Feuil1!$C$1:$BL$10,9,FALSE)","v":-76},{"$f":"T121-HLOOKUP(X121,Feuil1!$C$1:$BL$10,10,FALSE)","v":-96},null,null,null,null,null,null,"REG +"]
["F","N","IDF",43,385692,"PATTE","AURELIE",1981,54.7,"FRANCONVILLE","F",38,40,-42,40,50,52,-53,52,92,-17.400000000000006,"REG +",2,{"$f":"IF(I122=\"\",\"\",IF(A122=\"H\",IF(OR(H122=\"SEN\",H122<1995),VLOOKUP(I122,Feuil1!$A$11:$F$29,6),IF(AND(H122>1994,H122<1998),VLOOKUP(I122,Feuil1!$A$11:$F$29,5),IF(AND(H122>1997,H122<2000),VLOOKUP(I122,Feuil1!$A$11:$F$29,4),IF(AND(H122>1999,H122<2002),VLOOKUP(I122,Feuil1!$A$11:$F$29,3),VLOOKUP(I122,Feuil1!$A$11:$F$29,2))))),IF(OR(H122=\"SEN\",H122<1995),VLOOKUP(I122,Feuil1!$G$11:$L$25,6),IF(AND(H122>1994,H122<1998),VLOOKUP(I122,Feuil1!$G$11:$L$25,5),IF(AND(H122>1997,H122<2000),VLOOKUP(I122,Feuil1!$G$11:$L$25,4),IF(AND(H122>1999,H122<2002),VLOOKUP(I122,Feuil1!$G$11:$L$25,3),VLOOKUP(I122,Feuil1!$G$11:$L$25,2)))))))","v":"FS58"},135.366182919388,null," ",{"$f":"T122-HLOOKUP(X122,Feuil1!$C$1:$BL$10,2,FALSE)","v":22},{"$f":"T122-HLOOKUP(X122,Feuil1!$C$1:$BL$10,3,FALSE)","v":12},{"$f":"T122-HLOOKUP(X122,Feuil1!$C$1:$BL$10,4,FALSE)","v":2},{"$f":"T122-HLOOKUP(X122,Feuil1!$C$1:$BL$10,5,FALSE)","v":-8},{"$f":"T122-HLOOKUP(X122,Feuil1!$C$1:$BL$10,6,FALSE)","v":-23},{"$f":"T122-HLOOKUP(X122,Feuil1!$C$1:$BL$10,7,FALSE)","v":-38},{"$f":"T122-HLOOKUP(X122,Feuil1!$C$1:$BL$10,8,FALSE)","v":-58},{"$f":"T122-HLOOKUP(X122,Feuil1!$C$1:$BL$10,9,FALSE)","v":-78},{"$f":"T122-HLOOKUP(X122,Feuil1!$C$1:$BL$10,10,FALSE)","v":-98},null,null,null,null,null,null,"REG +"]
["F","SEST","LAN",44,374524,"RIBEIRO","Lucie",1991,55,"HC Grand Combe","F",37,41,-45,41,47,-51,51,51,92,-18,"REG +",2,{"$f":"IF(I123=\"\",\"\",IF(A123=\"H\",IF(OR(H123=\"SEN\",H123<1995),VLOOKUP(I123,Feuil1!$A$11:$F$29,6),IF(AND(H123>1994,H123<1998),VLOOKUP(I123,Feuil1!$A$11:$F$29,5),IF(AND(H123>1997,H123<2000),VLOOKUP(I123,Feuil1!$A$11:$F$29,4),IF(AND(H123>1999,H123<2002),VLOOKUP(I123,Feuil1!$A$11:$F$29,3),VLOOKUP(I123,Feuil1!$A$11:$F$29,2))))),IF(OR(H123=\"SEN\",H123<1995),VLOOKUP(I123,Feuil1!$G$11:$L$25,6),IF(AND(H123>1994,H123<1998),VLOOKUP(I123,Feuil1!$G$11:$L$25,5),IF(AND(H123>1997,H123<2000),VLOOKUP(I123,Feuil1!$G$11:$L$25,4),IF(AND(H123>1999,H123<2002),VLOOKUP(I123,Feuil1!$G$11:$L$25,3),VLOOKUP(I123,Feuil1!$G$11:$L$25,2)))))))","v":"FS58"},134.79453660493004,null," ",{"$f":"T123-HLOOKUP(X123,Feuil1!$C$1:$BL$10,2,FALSE)","v":22},{"$f":"T123-HLOOKUP(X123,Feuil1!$C$1:$BL$10,3,FALSE)","v":12},{"$f":"T123-HLOOKUP(X123,Feuil1!$C$1:$BL$10,4,FALSE)","v":2},{"$f":"T123-HLOOKUP(X123,Feuil1!$C$1:$BL$10,5,FALSE)","v":-8},{"$f":"T123-HLOOKUP(X123,Feuil1!$C$1:$BL$10,6,FALSE)","v":-23},{"$f":"T123-HLOOKUP(X123,Feuil1!$C$1:$BL$10,7,FALSE)","v":-38},{"$f":"T123-HLOOKUP(X123,Feuil1!$C$1:$BL$10,8,FALSE)","v":-58},{"$f":"T123-HLOOKUP(X123,Feuil1!$C$1:$BL$10,9,FALSE)","v":-78},{"$f":"T123-HLOOKUP(X123,Feuil1!$C$1:$BL$10,10,FALSE)","v":-98},null,null,null,null,null,null,"REG +"]
["F","SEST","CAZ",45,307137,"FERRARI","Elodie",1991,54,"ES VILLE LOUBET","F",35,38,41,41,45,48,50,50,91,-17,"REG +",1,{"$f":"IF(I124=\"\",\"\",IF(A124=\"H\",IF(OR(H124=\"SEN\",H124<1995),VLOOKUP(I124,Feuil1!$A$11:$F$29,6),IF(AND(H124>1994,H124<1998),VLOOKUP(I124,Feuil1!$A$11:$F$29,5),IF(AND(H124>1997,H124<2000),VLOOKUP(I124,Feuil1!$A$11:$F$29,4),IF(AND(H124>1999,H124<2002),VLOOKUP(I124,Feuil1!$A$11:$F$29,3),VLOOKUP(I124,Feuil1!$A$11:$F$29,2))))),IF(OR(H124=\"SEN\",H124<1995),VLOOKUP(I124,Feuil1!$G$11:$L$25,6),IF(AND(H124>1994,H124<1998),VLOOKUP(I124,Feuil1!$G$11:$L$25,5),IF(AND(H124>1997,H124<2000),VLOOKUP(I124,Feuil1!$G$11:$L$25,4),IF(AND(H124>1999,H124<2002),VLOOKUP(I124,Feuil1!$G$11:$L$25,3),VLOOKUP(I124,Feuil1!$G$11:$L$25,2)))))))","v":"FS58"},135.2482517911119,null," ",{"$f":"T124-HLOOKUP(X124,Feuil1!$C$1:$BL$10,2,FALSE)","v":21},{"$f":"T124-HLOOKUP(X124,Feuil1!$C$1:$BL$10,3,FALSE)","v":11},{"$f":"T124-HLOOKUP(X124,Feuil1!$C$1:$BL$10,4,FALSE)","v":1},{"$f":"T124-HLOOKUP(X124,Feuil1!$C$1:$BL$10,5,FALSE)","v":-9},{"$f":"T124-HLOOKUP(X124,Feuil1!$C$1:$BL$10,6,FALSE)","v":-24},{"$f":"T124-HLOOKUP(X124,Feuil1!$C$1:$BL$10,7,FALSE)","v":-39},{"$f":"T124-HLOOKUP(X124,Feuil1!$C$1:$BL$10,8,FALSE)","v":-59},{"$f":"T124-HLOOKUP(X124,Feuil1!$C$1:$BL$10,9,FALSE)","v":-79},{"$f":"T124-HLOOKUP(X124,Feuil1!$C$1:$BL$10,10,FALSE)","v":-99},null,null,null,null,null,null,"REG +"]
["F","CO","BNO",46,167445,"LOUDIERE","Nathalie",1966,56.6,"Caen CHM","F",-36,36,39,39,50,52,-53,52,91,-22.200000000000003,"REG +",1,{"$f":"IF(I125=\"\",\"\",IF(A125=\"H\",IF(OR(H125=\"SEN\",H125<1995),VLOOKUP(I125,Feuil1!$A$11:$F$29,6),IF(AND(H125>1994,H125<1998),VLOOKUP(I125,Feuil1!$A$11:$F$29,5),IF(AND(H125>1997,H125<2000),VLOOKUP(I125,Feuil1!$A$11:$F$29,4),IF(AND(H125>1999,H125<2002),VLOOKUP(I125,Feuil1!$A$11:$F$29,3),VLOOKUP(I125,Feuil1!$A$11:$F$29,2))))),IF(OR(H125=\"SEN\",H125<1995),VLOOKUP(I125,Feuil1!$G$11:$L$25,6),IF(AND(H125>1994,H125<1998),VLOOKUP(I125,Feuil1!$G$11:$L$25,5),IF(AND(H125>1997,H125<2000),VLOOKUP(I125,Feuil1!$G$11:$L$25,4),IF(AND(H125>1999,H125<2002),VLOOKUP(I125,Feuil1!$G$11:$L$25,3),VLOOKUP(I125,Feuil1!$G$11:$L$25,2)))))))","v":"FS58"},130.4534923371117,null," ",{"$f":"T125-HLOOKUP(X125,Feuil1!$C$1:$BL$10,2,FALSE)","v":21},{"$f":"T125-HLOOKUP(X125,Feuil1!$C$1:$BL$10,3,FALSE)","v":11},{"$f":"T125-HLOOKUP(X125,Feuil1!$C$1:$BL$10,4,FALSE)","v":1},{"$f":"T125-HLOOKUP(X125,Feuil1!$C$1:$BL$10,5,FALSE)","v":-9},{"$f":"T125-HLOOKUP(X125,Feuil1!$C$1:$BL$10,6,FALSE)","v":-24},{"$f":"T125-HLOOKUP(X125,Feuil1!$C$1:$BL$10,7,FALSE)","v":-39},{"$f":"T125-HLOOKUP(X125,Feuil1!$C$1:$BL$10,8,FALSE)","v":-59},{"$f":"T125-HLOOKUP(X125,Feuil1!$C$1:$BL$10,9,FALSE)","v":-79},{"$f":"T125-HLOOKUP(X125,Feuil1!$C$1:$BL$10,10,FALSE)","v":-99},null,null,null,null,null,null,"REG +"]
["F","N","PIC",47,390951,"ANCRI","Cynthia",1994,56.9,"Saleux CHM","F",35,38,41,41,40,45,50,50,91,-22.799999999999997,"REG +",1,{"$f":"IF(I126=\"\",\"\",IF(A126=\"H\",IF(OR(H126=\"SEN\",H126<1995),VLOOKUP(I126,Feuil1!$A$11:$F$29,6),IF(AND(H126>1994,H126<1998),VLOOKUP(I126,Feuil1!$A$11:$F$29,5),IF(AND(H126>1997,H126<2000),VLOOKUP(I126,Feuil1!$A$11:$F$29,4),IF(AND(H126>1999,H126<2002),VLOOKUP(I126,Feuil1!$A$11:$F$29,3),VLOOKUP(I126,Feuil1!$A$11:$F$29,2))))),IF(OR(H126=\"SEN\",H126<1995),VLOOKUP(I126,Feuil1!$G$11:$L$25,6),IF(AND(H126>1994,H126<1998),VLOOKUP(I126,Feuil1!$G$11:$L$25,5),IF(AND(H126>1997,H126<2000),VLOOKUP(I126,Feuil1!$G$11:$L$25,4),IF(AND(H126>1999,H126<2002),VLOOKUP(I126,Feuil1!$G$11:$L$25,3),VLOOKUP(I126,Feuil1!$G$11:$L$25,2)))))))","v":"FS58"},129.93922779406273,null," ",{"$f":"T126-HLOOKUP(X126,Feuil1!$C$1:$BL$10,2,FALSE)","v":21},{"$f":"T126-HLOOKUP(X126,Feuil1!$C$1:$BL$10,3,FALSE)","v":11},{"$f":"T126-HLOOKUP(X126,Feuil1!$C$1:$BL$10,4,FALSE)","v":1},{"$f":"T126-HLOOKUP(X126,Feuil1!$C$1:$BL$10,5,FALSE)","v":-9},{"$f":"T126-HLOOKUP(X126,Feuil1!$C$1:$BL$10,6,FALSE)","v":-24},{"$f":"T126-HLOOKUP(X126,Feuil1!$C$1:$BL$10,7,FALSE)","v":-39},{"$f":"T126-HLOOKUP(X126,Feuil1!$C$1:$BL$10,8,FALSE)","v":-59},{"$f":"T126-HLOOKUP(X126,Feuil1!$C$1:$BL$10,9,FALSE)","v":-79},{"$f":"T126-HLOOKUP(X126,Feuil1!$C$1:$BL$10,10,FALSE)","v":-99},null,null,null,null,null,null,"REG +"]
["F","NE","CHA",48,368816,"MICHOT","Cécile",1974,57.2,"Reims HM","F",35,-38,38,38,48,52,-54,52,90,-24.400000000000006,"REG +",0,{"$f":"IF(I127=\"\",\"\",IF(A127=\"H\",IF(OR(H127=\"SEN\",H127<1995),VLOOKUP(I127,Feuil1!$A$11:$F$29,6),IF(AND(H127>1994,H127<1998),VLOOKUP(I127,Feuil1!$A$11:$F$29,5),IF(AND(H127>1997,H127<2000),VLOOKUP(I127,Feuil1!$A$11:$F$29,4),IF(AND(H127>1999,H127<2002),VLOOKUP(I127,Feuil1!$A$11:$F$29,3),VLOOKUP(I127,Feuil1!$A$11:$F$29,2))))),IF(OR(H127=\"SEN\",H127<1995),VLOOKUP(I127,Feuil1!$G$11:$L$25,6),IF(AND(H127>1994,H127<1998),VLOOKUP(I127,Feuil1!$G$11:$L$25,5),IF(AND(H127>1997,H127<2000),VLOOKUP(I127,Feuil1!$G$11:$L$25,4),IF(AND(H127>1999,H127<2002),VLOOKUP(I127,Feuil1!$G$11:$L$25,3),VLOOKUP(I127,Feuil1!$G$11:$L$25,2)))))))","v":"FS58"},128.01014073204223,null," ",{"$f":"T127-HLOOKUP(X127,Feuil1!$C$1:$BL$10,2,FALSE)","v":20},{"$f":"T127-HLOOKUP(X127,Feuil1!$C$1:$BL$10,3,FALSE)","v":10},{"$f":"T127-HLOOKUP(X127,Feuil1!$C$1:$BL$10,4,FALSE)","v":0},{"$f":"T127-HLOOKUP(X127,Feuil1!$C$1:$BL$10,5,FALSE)","v":-10},{"$f":"T127-HLOOKUP(X127,Feuil1!$C$1:$BL$10,6,FALSE)","v":-25},{"$f":"T127-HLOOKUP(X127,Feuil1!$C$1:$BL$10,7,FALSE)","v":-40},{"$f":"T127-HLOOKUP(X127,Feuil1!$C$1:$BL$10,8,FALSE)","v":-60},{"$f":"T127-HLOOKUP(X127,Feuil1!$C$1:$BL$10,9,FALSE)","v":-80},{"$f":"T127-HLOOKUP(X127,Feuil1!$C$1:$BL$10,10,FALSE)","v":-100},null,null,null,null,null,null,"REG +"]
["F","SO","AQU",49,169799,"GIRAUD","ISABELLE",1966,55.24,"ASOA Aquitaine","F",34,36,38,38,48,51,-53,51,89,-21.480000000000004,"DEP +",9,{"$f":"IF(I128=\"\",\"\",IF(A128=\"H\",IF(OR(H128=\"SEN\",H128<1995),VLOOKUP(I128,Feuil1!$A$11:$F$29,6),IF(AND(H128>1994,H128<1998),VLOOKUP(I128,Feuil1!$A$11:$F$29,5),IF(AND(H128>1997,H128<2000),VLOOKUP(I128,Feuil1!$A$11:$F$29,4),IF(AND(H128>1999,H128<2002),VLOOKUP(I128,Feuil1!$A$11:$F$29,3),VLOOKUP(I128,Feuil1!$A$11:$F$29,2))))),IF(OR(H128=\"SEN\",H128<1995),VLOOKUP(I128,Feuil1!$G$11:$L$25,6),IF(AND(H128>1994,H128<1998),VLOOKUP(I128,Feuil1!$G$11:$L$25,5),IF(AND(H128>1997,H128<2000),VLOOKUP(I128,Feuil1!$G$11:$L$25,4),IF(AND(H128>1999,H128<2002),VLOOKUP(I128,Feuil1!$G$11:$L$25,3),VLOOKUP(I128,Feuil1!$G$11:$L$25,2)))))))","v":"FS58"},129.96266172300602,null," ",{"$f":"T128-HLOOKUP(X128,Feuil1!$C$1:$BL$10,2,FALSE)","v":19},{"$f":"T128-HLOOKUP(X128,Feuil1!$C$1:$BL$10,3,FALSE)","v":9},{"$f":"T128-HLOOKUP(X128,Feuil1!$C$1:$BL$10,4,FALSE)","v":-1},{"$f":"T128-HLOOKUP(X128,Feuil1!$C$1:$BL$10,5,FALSE)","v":-11},{"$f":"T128-HLOOKUP(X128,Feuil1!$C$1:$BL$10,6,FALSE)","v":-26},{"$f":"T128-HLOOKUP(X128,Feuil1!$C$1:$BL$10,7,FALSE)","v":-41},{"$f":"T128-HLOOKUP(X128,Feuil1!$C$1:$BL$10,8,FALSE)","v":-61},{"$f":"T128-HLOOKUP(X128,Feuil1!$C$1:$BL$10,9,FALSE)","v":-81},{"$f":"T128-HLOOKUP(X128,Feuil1!$C$1:$BL$10,10,FALSE)","v":-101},null,null,null,null,null,null,"DEP +"]
["F","CO","CEN",50,342483,"ROBIN","Marion",1993,56.2,"CM Orléans","F",35,37,-40,37,49,-51,51,51,88,-24.400000000000006,"DEP +",8,{"$f":"IF(I129=\"\",\"\",IF(A129=\"H\",IF(OR(H129=\"SEN\",H129<1995),VLOOKUP(I129,Feuil1!$A$11:$F$29,6),IF(AND(H129>1994,H129<1998),VLOOKUP(I129,Feuil1!$A$11:$F$29,5),IF(AND(H129>1997,H129<2000),VLOOKUP(I129,Feuil1!$A$11:$F$29,4),IF(AND(H129>1999,H129<2002),VLOOKUP(I129,Feuil1!$A$11:$F$29,3),VLOOKUP(I129,Feuil1!$A$11:$F$29,2))))),IF(OR(H129=\"SEN\",H129<1995),VLOOKUP(I129,Feuil1!$G$11:$L$25,6),IF(AND(H129>1994,H129<1998),VLOOKUP(I129,Feuil1!$G$11:$L$25,5),IF(AND(H129>1997,H129<2000),VLOOKUP(I129,Feuil1!$G$11:$L$25,4),IF(AND(H129>1999,H129<2002),VLOOKUP(I129,Feuil1!$G$11:$L$25,3),VLOOKUP(I129,Feuil1!$G$11:$L$25,2)))))))","v":"FS58"},126.82745661824707,null," ",{"$f":"T129-HLOOKUP(X129,Feuil1!$C$1:$BL$10,2,FALSE)","v":18},{"$f":"T129-HLOOKUP(X129,Feuil1!$C$1:$BL$10,3,FALSE)","v":8},{"$f":"T129-HLOOKUP(X129,Feuil1!$C$1:$BL$10,4,FALSE)","v":-2},{"$f":"T129-HLOOKUP(X129,Feuil1!$C$1:$BL$10,5,FALSE)","v":-12},{"$f":"T129-HLOOKUP(X129,Feuil1!$C$1:$BL$10,6,FALSE)","v":-27},{"$f":"T129-HLOOKUP(X129,Feuil1!$C$1:$BL$10,7,FALSE)","v":-42},{"$f":"T129-HLOOKUP(X129,Feuil1!$C$1:$BL$10,8,FALSE)","v":-62},{"$f":"T129-HLOOKUP(X129,Feuil1!$C$1:$BL$10,9,FALSE)","v":-82},{"$f":"T129-HLOOKUP(X129,Feuil1!$C$1:$BL$10,10,FALSE)","v":-102},null,null,null,null,null,null,"DEP +"]
["F","NE","BOU",51,384514,"SENELAS","Celine",1990,58,"HMDB21","F",34,-37,-37,34,50,54,-58,54,88,-28,"DEP +",8,{"$f":"IF(I130=\"\",\"\",IF(A130=\"H\",IF(OR(H130=\"SEN\",H130<1995),VLOOKUP(I130,Feuil1!$A$11:$F$29,6),IF(AND(H130>1994,H130<1998),VLOOKUP(I130,Feuil1!$A$11:$F$29,5),IF(AND(H130>1997,H130<2000),VLOOKUP(I130,Feuil1!$A$11:$F$29,4),IF(AND(H130>1999,H130<2002),VLOOKUP(I130,Feuil1!$A$11:$F$29,3),VLOOKUP(I130,Feuil1!$A$11:$F$29,2))))),IF(OR(H130=\"SEN\",H130<1995),VLOOKUP(I130,Feuil1!$G$11:$L$25,6),IF(AND(H130>1994,H130<1998),VLOOKUP(I130,Feuil1!$G$11:$L$25,5),IF(AND(H130>1997,H130<2000),VLOOKUP(I130,Feuil1!$G$11:$L$25,4),IF(AND(H130>1999,H130<2002),VLOOKUP(I130,Feuil1!$G$11:$L$25,3),VLOOKUP(I130,Feuil1!$G$11:$L$25,2)))))))","v":"FS58"},123.89315077482435,null," ",{"$f":"T130-HLOOKUP(X130,Feuil1!$C$1:$BL$10,2,FALSE)","v":18},{"$f":"T130-HLOOKUP(X130,Feuil1!$C$1:$BL$10,3,FALSE)","v":8},{"$f":"T130-HLOOKUP(X130,Feuil1!$C$1:$BL$10,4,FALSE)","v":-2},{"$f":"T130-HLOOKUP(X130,Feuil1!$C$1:$BL$10,5,FALSE)","v":-12},{"$f":"T130-HLOOKUP(X130,Feuil1!$C$1:$BL$10,6,FALSE)","v":-27},{"$f":"T130-HLOOKUP(X130,Feuil1!$C$1:$BL$10,7,FALSE)","v":-42},{"$f":"T130-HLOOKUP(X130,Feuil1!$C$1:$BL$10,8,FALSE)","v":-62},{"$f":"T130-HLOOKUP(X130,Feuil1!$C$1:$BL$10,9,FALSE)","v":-82},{"$f":"T130-HLOOKUP(X130,Feuil1!$C$1:$BL$10,10,FALSE)","v":-102},null,null,null,null,null,null,"DEP +"]
["F","N","IDF",52,144866,"CALMES","VALERIE",1970,57.5,"FRANCONVILLE","F",34,36,38,38,44,46,48,48,86,-29,"DEP +",6,{"$f":"IF(I131=\"\",\"\",IF(A131=\"H\",IF(OR(H131=\"SEN\",H131<1995),VLOOKUP(I131,Feuil1!$A$11:$F$29,6),IF(AND(H131>1994,H131<1998),VLOOKUP(I131,Feuil1!$A$11:$F$29,5),IF(AND(H131>1997,H131<2000),VLOOKUP(I131,Feuil1!$A$11:$F$29,4),IF(AND(H131>1999,H131<2002),VLOOKUP(I131,Feuil1!$A$11:$F$29,3),VLOOKUP(I131,Feuil1!$A$11:$F$29,2))))),IF(OR(H131=\"SEN\",H131<1995),VLOOKUP(I131,Feuil1!$G$11:$L$25,6),IF(AND(H131>1994,H131<1998),VLOOKUP(I131,Feuil1!$G$11:$L$25,5),IF(AND(H131>1997,H131<2000),VLOOKUP(I131,Feuil1!$G$11:$L$25,4),IF(AND(H131>1999,H131<2002),VLOOKUP(I131,Feuil1!$G$11:$L$25,3),VLOOKUP(I131,Feuil1!$G$11:$L$25,2)))))))","v":"FS58"},121.84885615231985,null," ",{"$f":"T131-HLOOKUP(X131,Feuil1!$C$1:$BL$10,2,FALSE)","v":16},{"$f":"T131-HLOOKUP(X131,Feuil1!$C$1:$BL$10,3,FALSE)","v":6},{"$f":"T131-HLOOKUP(X131,Feuil1!$C$1:$BL$10,4,FALSE)","v":-4},{"$f":"T131-HLOOKUP(X131,Feuil1!$C$1:$BL$10,5,FALSE)","v":-14},{"$f":"T131-HLOOKUP(X131,Feuil1!$C$1:$BL$10,6,FALSE)","v":-29},{"$f":"T131-HLOOKUP(X131,Feuil1!$C$1:$BL$10,7,FALSE)","v":-44},{"$f":"T131-HLOOKUP(X131,Feuil1!$C$1:$BL$10,8,FALSE)","v":-64},{"$f":"T131-HLOOKUP(X131,Feuil1!$C$1:$BL$10,9,FALSE)","v":-84},{"$f":"T131-HLOOKUP(X131,Feuil1!$C$1:$BL$10,10,FALSE)","v":-104},null,null,null,null,null,null,"DEP +"]
["F","N","IDF",53,382103,"COCHET","ANNE",1987,56.6,"NEUILLY","F",-35,35,-38,35,45,50,-53,50,85,-28.200000000000003,"DEP +",5,{"$f":"IF(I132=\"\",\"\",IF(A132=\"H\",IF(OR(H132=\"SEN\",H132<1995),VLOOKUP(I132,Feuil1!$A$11:$F$29,6),IF(AND(H132>1994,H132<1998),VLOOKUP(I132,Feuil1!$A$11:$F$29,5),IF(AND(H132>1997,H132<2000),VLOOKUP(I132,Feuil1!$A$11:$F$29,4),IF(AND(H132>1999,H132<2002),VLOOKUP(I132,Feuil1!$A$11:$F$29,3),VLOOKUP(I132,Feuil1!$A$11:$F$29,2))))),IF(OR(H132=\"SEN\",H132<1995),VLOOKUP(I132,Feuil1!$G$11:$L$25,6),IF(AND(H132>1994,H132<1998),VLOOKUP(I132,Feuil1!$G$11:$L$25,5),IF(AND(H132>1997,H132<2000),VLOOKUP(I132,Feuil1!$G$11:$L$25,4),IF(AND(H132>1999,H132<2002),VLOOKUP(I132,Feuil1!$G$11:$L$25,3),VLOOKUP(I132,Feuil1!$G$11:$L$25,2)))))))","v":"FS58"},121.8521631720274,null," ",{"$f":"T132-HLOOKUP(X132,Feuil1!$C$1:$BL$10,2,FALSE)","v":15},{"$f":"T132-HLOOKUP(X132,Feuil1!$C$1:$BL$10,3,FALSE)","v":5},{"$f":"T132-HLOOKUP(X132,Feuil1!$C$1:$BL$10,4,FALSE)","v":-5},{"$f":"T132-HLOOKUP(X132,Feuil1!$C$1:$BL$10,5,FALSE)","v":-15},{"$f":"T132-HLOOKUP(X132,Feuil1!$C$1:$BL$10,6,FALSE)","v":-30},{"$f":"T132-HLOOKUP(X132,Feuil1!$C$1:$BL$10,7,FALSE)","v":-45},{"$f":"T132-HLOOKUP(X132,Feuil1!$C$1:$BL$10,8,FALSE)","v":-65},{"$f":"T132-HLOOKUP(X132,Feuil1!$C$1:$BL$10,9,FALSE)","v":-85},{"$f":"T132-HLOOKUP(X132,Feuil1!$C$1:$BL$10,10,FALSE)","v":-105},null,null,null,null,null,null,"DEP +"]
["F","N","IDF",54,379905,"PEREIRA DA SILVA","LYDIE",1983,57.3,"FRANCONVILLE","F",35,-37,-37,35,45,47,50,50,85,-29.599999999999994,"DEP +",5,{"$f":"IF(I133=\"\",\"\",IF(A133=\"H\",IF(OR(H133=\"SEN\",H133<1995),VLOOKUP(I133,Feuil1!$A$11:$F$29,6),IF(AND(H133>1994,H133<1998),VLOOKUP(I133,Feuil1!$A$11:$F$29,5),IF(AND(H133>1997,H133<2000),VLOOKUP(I133,Feuil1!$A$11:$F$29,4),IF(AND(H133>1999,H133<2002),VLOOKUP(I133,Feuil1!$A$11:$F$29,3),VLOOKUP(I133,Feuil1!$A$11:$F$29,2))))),IF(OR(H133=\"SEN\",H133<1995),VLOOKUP(I133,Feuil1!$G$11:$L$25,6),IF(AND(H133>1994,H133<1998),VLOOKUP(I133,Feuil1!$G$11:$L$25,5),IF(AND(H133>1997,H133<2000),VLOOKUP(I133,Feuil1!$G$11:$L$25,4),IF(AND(H133>1999,H133<2002),VLOOKUP(I133,Feuil1!$G$11:$L$25,3),VLOOKUP(I133,Feuil1!$G$11:$L$25,2)))))))","v":"FS58"},120.74222229086902,null," ",{"$f":"T133-HLOOKUP(X133,Feuil1!$C$1:$BL$10,2,FALSE)","v":15},{"$f":"T133-HLOOKUP(X133,Feuil1!$C$1:$BL$10,3,FALSE)","v":5},{"$f":"T133-HLOOKUP(X133,Feuil1!$C$1:$BL$10,4,FALSE)","v":-5},{"$f":"T133-HLOOKUP(X133,Feuil1!$C$1:$BL$10,5,FALSE)","v":-15},{"$f":"T133-HLOOKUP(X133,Feuil1!$C$1:$BL$10,6,FALSE)","v":-30},{"$f":"T133-HLOOKUP(X133,Feuil1!$C$1:$BL$10,7,FALSE)","v":-45},{"$f":"T133-HLOOKUP(X133,Feuil1!$C$1:$BL$10,8,FALSE)","v":-65},{"$f":"T133-HLOOKUP(X133,Feuil1!$C$1:$BL$10,9,FALSE)","v":-85},{"$f":"T133-HLOOKUP(X133,Feuil1!$C$1:$BL$10,10,FALSE)","v":-105},null,null,null,null,null,null,"DEP +"]
["F","NE","ALS",55,130670,"CHRISTOPHEL","GORDANA",1970,56.84,"ASPTT Strasbourg","F",32,35,38,38,40,42,44,44,82,-31.680000000000007,"DEP +",2,{"$f":"IF(I134=\"\",\"\",IF(A134=\"H\",IF(OR(H134=\"SEN\",H134<1995),VLOOKUP(I134,Feuil1!$A$11:$F$29,6),IF(AND(H134>1994,H134<1998),VLOOKUP(I134,Feuil1!$A$11:$F$29,5),IF(AND(H134>1997,H134<2000),VLOOKUP(I134,Feuil1!$A$11:$F$29,4),IF(AND(H134>1999,H134<2002),VLOOKUP(I134,Feuil1!$A$11:$F$29,3),VLOOKUP(I134,Feuil1!$A$11:$F$29,2))))),IF(OR(H134=\"SEN\",H134<1995),VLOOKUP(I134,Feuil1!$G$11:$L$25,6),IF(AND(H134>1994,H134<1998),VLOOKUP(I134,Feuil1!$G$11:$L$25,5),IF(AND(H134>1997,H134<2000),VLOOKUP(I134,Feuil1!$G$11:$L$25,4),IF(AND(H134>1999,H134<2002),VLOOKUP(I134,Feuil1!$G$11:$L$25,3),VLOOKUP(I134,Feuil1!$G$11:$L$25,2)))))))","v":"FS58"},117.18023025974104,null," ",{"$f":"T134-HLOOKUP(X134,Feuil1!$C$1:$BL$10,2,FALSE)","v":12},{"$f":"T134-HLOOKUP(X134,Feuil1!$C$1:$BL$10,3,FALSE)","v":2},{"$f":"T134-HLOOKUP(X134,Feuil1!$C$1:$BL$10,4,FALSE)","v":-8},{"$f":"T134-HLOOKUP(X134,Feuil1!$C$1:$BL$10,5,FALSE)","v":-18},{"$f":"T134-HLOOKUP(X134,Feuil1!$C$1:$BL$10,6,FALSE)","v":-33},{"$f":"T134-HLOOKUP(X134,Feuil1!$C$1:$BL$10,7,FALSE)","v":-48},{"$f":"T134-HLOOKUP(X134,Feuil1!$C$1:$BL$10,8,FALSE)","v":-68},{"$f":"T134-HLOOKUP(X134,Feuil1!$C$1:$BL$10,9,FALSE)","v":-88},{"$f":"T134-HLOOKUP(X134,Feuil1!$C$1:$BL$10,10,FALSE)","v":-108},null,null,null,null,null,null,"DEP +"]
["F","N","NPC",56,378541,"MALIAR","Mandy",1993,56.9,"CAHC BERCK/MER","F",32,35,-36,35,40,43,45,45,80,-33.799999999999997,"DEP +",0,{"$f":"IF(I135=\"\",\"\",IF(A135=\"H\",IF(OR(H135=\"SEN\",H135<1995),VLOOKUP(I135,Feuil1!$A$11:$F$29,6),IF(AND(H135>1994,H135<1998),VLOOKUP(I135,Feuil1!$A$11:$F$29,5),IF(AND(H135>1997,H135<2000),VLOOKUP(I135,Feuil1!$A$11:$F$29,4),IF(AND(H135>1999,H135<2002),VLOOKUP(I135,Feuil1!$A$11:$F$29,3),VLOOKUP(I135,Feuil1!$A$11:$F$29,2))))),IF(OR(H135=\"SEN\",H135<1995),VLOOKUP(I135,Feuil1!$G$11:$L$25,6),IF(AND(H135>1994,H135<1998),VLOOKUP(I135,Feuil1!$G$11:$L$25,5),IF(AND(H135>1997,H135<2000),VLOOKUP(I135,Feuil1!$G$11:$L$25,4),IF(AND(H135>1999,H135<2002),VLOOKUP(I135,Feuil1!$G$11:$L$25,3),VLOOKUP(I135,Feuil1!$G$11:$L$25,2)))))))","v":"FS58"},114.2322881706046,null," ",{"$f":"T135-HLOOKUP(X135,Feuil1!$C$1:$BL$10,2,FALSE)","v":10},{"$f":"T135-HLOOKUP(X135,Feuil1!$C$1:$BL$10,3,FALSE)","v":0},{"$f":"T135-HLOOKUP(X135,Feuil1!$C$1:$BL$10,4,FALSE)","v":-10},{"$f":"T135-HLOOKUP(X135,Feuil1!$C$1:$BL$10,5,FALSE)","v":-20},{"$f":"T135-HLOOKUP(X135,Feuil1!$C$1:$BL$10,6,FALSE)","v":-35},{"$f":"T135-HLOOKUP(X135,Feuil1!$C$1:$BL$10,7,FALSE)","v":-50},{"$f":"T135-HLOOKUP(X135,Feuil1!$C$1:$BL$10,8,FALSE)","v":-70},{"$f":"T135-HLOOKUP(X135,Feuil1!$C$1:$BL$10,9,FALSE)","v":-90},{"$f":"T135-HLOOKUP(X135,Feuil1!$C$1:$BL$10,10,FALSE)","v":-110},null,null,null,null,null,null,"DEP +"]
["F","N","IDF",57,356353,"HURTAULT","Stéphanie",1980,56.72,"NEUILLY","F",27,31,33,33,37,42,46,46,79,-34.44,"DEB ",9,{"$f":"IF(I136=\"\",\"\",IF(A136=\"H\",IF(OR(H136=\"SEN\",H136<1995),VLOOKUP(I136,Feuil1!$A$11:$F$29,6),IF(AND(H136>1994,H136<1998),VLOOKUP(I136,Feuil1!$A$11:$F$29,5),IF(AND(H136>1997,H136<2000),VLOOKUP(I136,Feuil1!$A$11:$F$29,4),IF(AND(H136>1999,H136<2002),VLOOKUP(I136,Feuil1!$A$11:$F$29,3),VLOOKUP(I136,Feuil1!$A$11:$F$29,2))))),IF(OR(H136=\"SEN\",H136<1995),VLOOKUP(I136,Feuil1!$G$11:$L$25,6),IF(AND(H136>1994,H136<1998),VLOOKUP(I136,Feuil1!$G$11:$L$25,5),IF(AND(H136>1997,H136<2000),VLOOKUP(I136,Feuil1!$G$11:$L$25,4),IF(AND(H136>1999,H136<2002),VLOOKUP(I136,Feuil1!$G$11:$L$25,3),VLOOKUP(I136,Feuil1!$G$11:$L$25,2)))))))","v":"FS58"},113.07146349771786,null," ",{"$f":"T136-HLOOKUP(X136,Feuil1!$C$1:$BL$10,2,FALSE)","v":9},{"$f":"T136-HLOOKUP(X136,Feuil1!$C$1:$BL$10,3,FALSE)","v":-1},{"$f":"T136-HLOOKUP(X136,Feuil1!$C$1:$BL$10,4,FALSE)","v":-11},{"$f":"T136-HLOOKUP(X136,Feuil1!$C$1:$BL$10,5,FALSE)","v":-21},{"$f":"T136-HLOOKUP(X136,Feuil1!$C$1:$BL$10,6,FALSE)","v":-36},{"$f":"T136-HLOOKUP(X136,Feuil1!$C$1:$BL$10,7,FALSE)","v":-51},{"$f":"T136-HLOOKUP(X136,Feuil1!$C$1:$BL$10,8,FALSE)","v":-71},{"$f":"T136-HLOOKUP(X136,Feuil1!$C$1:$BL$10,9,FALSE)","v":-91},{"$f":"T136-HLOOKUP(X136,Feuil1!$C$1:$BL$10,10,FALSE)","v":-111},null,null,null,null,null,null,"DEB "]
["F","NE","CHA",58,14438,"LABOURIER","Céline",1979,54.45,"Reims HM","F",25,28,30,30,40,43,45,45,75,-33.900000000000006,"DEB ",5,{"$f":"IF(I137=\"\",\"\",IF(A137=\"H\",IF(OR(H137=\"SEN\",H137<1995),VLOOKUP(I137,Feuil1!$A$11:$F$29,6),IF(AND(H137>1994,H137<1998),VLOOKUP(I137,Feuil1!$A$11:$F$29,5),IF(AND(H137>1997,H137<2000),VLOOKUP(I137,Feuil1!$A$11:$F$29,4),IF(AND(H137>1999,H137<2002),VLOOKUP(I137,Feuil1!$A$11:$F$29,3),VLOOKUP(I137,Feuil1!$A$11:$F$29,2))))),IF(OR(H137=\"SEN\",H137<1995),VLOOKUP(I137,Feuil1!$G$11:$L$25,6),IF(AND(H137>1994,H137<1998),VLOOKUP(I137,Feuil1!$G$11:$L$25,5),IF(AND(H137>1997,H137<2000),VLOOKUP(I137,Feuil1!$G$11:$L$25,4),IF(AND(H137>1999,H137<2002),VLOOKUP(I137,Feuil1!$G$11:$L$25,3),VLOOKUP(I137,Feuil1!$G$11:$L$25,2)))))))","v":"FS58"},110.74667698656442,null," ",{"$f":"T137-HLOOKUP(X137,Feuil1!$C$1:$BL$10,2,FALSE)","v":5},{"$f":"T137-HLOOKUP(X137,Feuil1!$C$1:$BL$10,3,FALSE)","v":-5},{"$f":"T137-HLOOKUP(X137,Feuil1!$C$1:$BL$10,4,FALSE)","v":-15},{"$f":"T137-HLOOKUP(X137,Feuil1!$C$1:$BL$10,5,FALSE)","v":-25},{"$f":"T137-HLOOKUP(X137,Feuil1!$C$1:$BL$10,6,FALSE)","v":-40},{"$f":"T137-HLOOKUP(X137,Feuil1!$C$1:$BL$10,7,FALSE)","v":-55},{"$f":"T137-HLOOKUP(X137,Feuil1!$C$1:$BL$10,8,FALSE)","v":-75},{"$f":"T137-HLOOKUP(X137,Feuil1!$C$1:$BL$10,9,FALSE)","v":-95},{"$f":"T137-HLOOKUP(X137,Feuil1!$C$1:$BL$10,10,FALSE)","v":-115},null,null,null,null,null,null,"DEB "]
["F","SEST","PRO",59,388064,"AUZEREAU-BONILLA","CAMILLE",1994,54.95,"AP AIX","F",30,32,-34,32,40,-43,43,43,75,-34.900000000000006,"DEB ",5,{"$f":"IF(I138=\"\",\"\",IF(A138=\"H\",IF(OR(H138=\"SEN\",H138<1995),VLOOKUP(I138,Feuil1!$A$11:$F$29,6),IF(AND(H138>1994,H138<1998),VLOOKUP(I138,Feuil1!$A$11:$F$29,5),IF(AND(H138>1997,H138<2000),VLOOKUP(I138,Feuil1!$A$11:$F$29,4),IF(AND(H138>1999,H138<2002),VLOOKUP(I138,Feuil1!$A$11:$F$29,3),VLOOKUP(I138,Feuil1!$A$11:$F$29,2))))),IF(OR(H138=\"SEN\",H138<1995),VLOOKUP(I138,Feuil1!$G$11:$L$25,6),IF(AND(H138>1994,H138<1998),VLOOKUP(I138,Feuil1!$G$11:$L$25,5),IF(AND(H138>1997,H138<2000),VLOOKUP(I138,Feuil1!$G$11:$L$25,4),IF(AND(H138>1999,H138<2002),VLOOKUP(I138,Feuil1!$G$11:$L$25,3),VLOOKUP(I138,Feuil1!$G$11:$L$25,2)))))))","v":"FS58"},109.96402868640132,null," ",{"$f":"T138-HLOOKUP(X138,Feuil1!$C$1:$BL$10,2,FALSE)","v":5},{"$f":"T138-HLOOKUP(X138,Feuil1!$C$1:$BL$10,3,FALSE)","v":-5},{"$f":"T138-HLOOKUP(X138,Feuil1!$C$1:$BL$10,4,FALSE)","v":-15},{"$f":"T138-HLOOKUP(X138,Feuil1!$C$1:$BL$10,5,FALSE)","v":-25},{"$f":"T138-HLOOKUP(X138,Feuil1!$C$1:$BL$10,6,FALSE)","v":-40},{"$f":"T138-HLOOKUP(X138,Feuil1!$C$1:$BL$10,7,FALSE)","v":-55},{"$f":"T138-HLOOKUP(X138,Feuil1!$C$1:$BL$10,8,FALSE)","v":-75},{"$f":"T138-HLOOKUP(X138,Feuil1!$C$1:$BL$10,9,FALSE)","v":-95},{"$f":"T138-HLOOKUP(X138,Feuil1!$C$1:$BL$10,10,FALSE)","v":-115},null,null,null,null,null,null,"DEB "]
["F","N","NPC",60,378538,"LAPOSTOLLE","Adeline",1988,57.2,"CAHC BERCK/MER","F",30,33,-35,33,40,42,-45,42,75,-39.400000000000006,"DEB ",5,{"$f":"IF(I139=\"\",\"\",IF(A139=\"H\",IF(OR(H139=\"SEN\",H139<1995),VLOOKUP(I139,Feuil1!$A$11:$F$29,6),IF(AND(H139>1994,H139<1998),VLOOKUP(I139,Feuil1!$A$11:$F$29,5),IF(AND(H139>1997,H139<2000),VLOOKUP(I139,Feuil1!$A$11:$F$29,4),IF(AND(H139>1999,H139<2002),VLOOKUP(I139,Feuil1!$A$11:$F$29,3),VLOOKUP(I139,Feuil1!$A$11:$F$29,2))))),IF(OR(H139=\"SEN\",H139<1995),VLOOKUP(I139,Feuil1!$G$11:$L$25,6),IF(AND(H139>1994,H139<1998),VLOOKUP(I139,Feuil1!$G$11:$L$25,5),IF(AND(H139>1997,H139<2000),VLOOKUP(I139,Feuil1!$G$11:$L$25,4),IF(AND(H139>1999,H139<2002),VLOOKUP(I139,Feuil1!$G$11:$L$25,3),VLOOKUP(I139,Feuil1!$G$11:$L$25,2)))))))","v":"FS58"},106.67511727670185,null," ",{"$f":"T139-HLOOKUP(X139,Feuil1!$C$1:$BL$10,2,FALSE)","v":5},{"$f":"T139-HLOOKUP(X139,Feuil1!$C$1:$BL$10,3,FALSE)","v":-5},{"$f":"T139-HLOOKUP(X139,Feuil1!$C$1:$BL$10,4,FALSE)","v":-15},{"$f":"T139-HLOOKUP(X139,Feuil1!$C$1:$BL$10,5,FALSE)","v":-25},{"$f":"T139-HLOOKUP(X139,Feuil1!$C$1:$BL$10,6,FALSE)","v":-40},{"$f":"T139-HLOOKUP(X139,Feuil1!$C$1:$BL$10,7,FALSE)","v":-55},{"$f":"T139-HLOOKUP(X139,Feuil1!$C$1:$BL$10,8,FALSE)","v":-75},{"$f":"T139-HLOOKUP(X139,Feuil1!$C$1:$BL$10,9,FALSE)","v":-95},{"$f":"T139-HLOOKUP(X139,Feuil1!$C$1:$BL$10,10,FALSE)","v":-115},null,null,null,null,null,null,"DEB "]
["F","NE","ALS",61,287490,"GLUCK","CLEMENCE",1992,53.65,"US Wittenheim","F",26,29,-32,29,37,-40,40,40,69,-38.299999999999997,"DEB ",-1,{"$f":"IF(I140=\"\",\"\",IF(A140=\"H\",IF(OR(H140=\"SEN\",H140<1995),VLOOKUP(I140,Feuil1!$A$11:$F$29,6),IF(AND(H140>1994,H140<1998),VLOOKUP(I140,Feuil1!$A$11:$F$29,5),IF(AND(H140>1997,H140<2000),VLOOKUP(I140,Feuil1!$A$11:$F$29,4),IF(AND(H140>1999,H140<2002),VLOOKUP(I140,Feuil1!$A$11:$F$29,3),VLOOKUP(I140,Feuil1!$A$11:$F$29,2))))),IF(OR(H140=\"SEN\",H140<1995),VLOOKUP(I140,Feuil1!$G$11:$L$25,6),IF(AND(H140>1994,H140<1998),VLOOKUP(I140,Feuil1!$G$11:$L$25,5),IF(AND(H140>1997,H140<2000),VLOOKUP(I140,Feuil1!$G$11:$L$25,4),IF(AND(H140>1999,H140<2002),VLOOKUP(I140,Feuil1!$G$11:$L$25,3),VLOOKUP(I140,Feuil1!$G$11:$L$25,2)))))))","v":"FS58"},103.07798572985565,null," ",{"$f":"T140-HLOOKUP(X140,Feuil1!$C$1:$BL$10,2,FALSE)","v":-1},{"$f":"T140-HLOOKUP(X140,Feuil1!$C$1:$BL$10,3,FALSE)","v":-11},{"$f":"T140-HLOOKUP(X140,Feuil1!$C$1:$BL$10,4,FALSE)","v":-21},{"$f":"T140-HLOOKUP(X140,Feuil1!$C$1:$BL$10,5,FALSE)","v":-31},{"$f":"T140-HLOOKUP(X140,Feuil1!$C$1:$BL$10,6,FALSE)","v":-46},{"$f":"T140-HLOOKUP(X140,Feuil1!$C$1:$BL$10,7,FALSE)","v":-61},{"$f":"T140-HLOOKUP(X140,Feuil1!$C$1:$BL$10,8,FALSE)","v":-81},{"$f":"T140-HLOOKUP(X140,Feuil1!$C$1:$BL$10,9,FALSE)","v":-101},{"$f":"T140-HLOOKUP(X140,Feuil1!$C$1:$BL$10,10,FALSE)","v":-121},null,null,null,null,null,null,"DEB "]
["F","N","NPC",62,366440,"VERSCHELDE","Amelle",1993,53.9,"C.A.ROSENDAEL","F",29,31,-33,31,34,36,38,38,69,-38.799999999999997,"DEB ",-1,{"$f":"IF(I141=\"\",\"\",IF(A141=\"H\",IF(OR(H141=\"SEN\",H141<1995),VLOOKUP(I141,Feuil1!$A$11:$F$29,6),IF(AND(H141>1994,H141<1998),VLOOKUP(I141,Feuil1!$A$11:$F$29,5),IF(AND(H141>1997,H141<2000),VLOOKUP(I141,Feuil1!$A$11:$F$29,4),IF(AND(H141>1999,H141<2002),VLOOKUP(I141,Feuil1!$A$11:$F$29,3),VLOOKUP(I141,Feuil1!$A$11:$F$29,2))))),IF(OR(H141=\"SEN\",H141<1995),VLOOKUP(I141,Feuil1!$G$11:$L$25,6),IF(AND(H141>1994,H141<1998),VLOOKUP(I141,Feuil1!$G$11:$L$25,5),IF(AND(H141>1997,H141<2000),VLOOKUP(I141,Feuil1!$G$11:$L$25,4),IF(AND(H141>1999,H141<2002),VLOOKUP(I141,Feuil1!$G$11:$L$25,3),VLOOKUP(I141,Feuil1!$G$11:$L$25,2)))))))","v":"FS58"},102.70050652786237,null," ",{"$f":"T141-HLOOKUP(X141,Feuil1!$C$1:$BL$10,2,FALSE)","v":-1},{"$f":"T141-HLOOKUP(X141,Feuil1!$C$1:$BL$10,3,FALSE)","v":-11},{"$f":"T141-HLOOKUP(X141,Feuil1!$C$1:$BL$10,4,FALSE)","v":-21},{"$f":"T141-HLOOKUP(X141,Feuil1!$C$1:$BL$10,5,FALSE)","v":-31},{"$f":"T141-HLOOKUP(X141,Feuil1!$C$1:$BL$10,6,FALSE)","v":-46},{"$f":"T141-HLOOKUP(X141,Feuil1!$C$1:$BL$10,7,FALSE)","v":-61},{"$f":"T141-HLOOKUP(X141,Feuil1!$C$1:$BL$10,8,FALSE)","v":-81},{"$f":"T141-HLOOKUP(X141,Feuil1!$C$1:$BL$10,9,FALSE)","v":-101},{"$f":"T141-HLOOKUP(X141,Feuil1!$C$1:$BL$10,10,FALSE)","v":-121},null,null,null,null,null,null,"DEB "]
["F","SO","MPY",63,350351,"GAUTREAU","Fanny",1992,54.8,"TOULOUSE HC","F",-25,25,28,28,37,40,-42,40,68,-41.599999999999994,"DEB ",-2,{"$f":"IF(I142=\"\",\"\",IF(A142=\"H\",IF(OR(H142=\"SEN\",H142<1995),VLOOKUP(I142,Feuil1!$A$11:$F$29,6),IF(AND(H142>1994,H142<1998),VLOOKUP(I142,Feuil1!$A$11:$F$29,5),IF(AND(H142>1997,H142<2000),VLOOKUP(I142,Feuil1!$A$11:$F$29,4),IF(AND(H142>1999,H142<2002),VLOOKUP(I142,Feuil1!$A$11:$F$29,3),VLOOKUP(I142,Feuil1!$A$11:$F$29,2))))),IF(OR(H142=\"SEN\",H142<1995),VLOOKUP(I142,Feuil1!$G$11:$L$25,6),IF(AND(H142>1994,H142<1998),VLOOKUP(I142,Feuil1!$G$11:$L$25,5),IF(AND(H142>1997,H142<2000),VLOOKUP(I142,Feuil1!$G$11:$L$25,4),IF(AND(H142>1999,H142<2002),VLOOKUP(I142,Feuil1!$G$11:$L$25,3),VLOOKUP(I142,Feuil1!$G$11:$L$25,2)))))))","v":"FS58"},99.911710351532051,null," ",{"$f":"T142-HLOOKUP(X142,Feuil1!$C$1:$BL$10,2,FALSE)","v":-2},{"$f":"T142-HLOOKUP(X142,Feuil1!$C$1:$BL$10,3,FALSE)","v":-12},{"$f":"T142-HLOOKUP(X142,Feuil1!$C$1:$BL$10,4,FALSE)","v":-22},{"$f":"T142-HLOOKUP(X142,Feuil1!$C$1:$BL$10,5,FALSE)","v":-32},{"$f":"T142-HLOOKUP(X142,Feuil1!$C$1:$BL$10,6,FALSE)","v":-47},{"$f":"T142-HLOOKUP(X142,Feuil1!$C$1:$BL$10,7,FALSE)","v":-62},{"$f":"T142-HLOOKUP(X142,Feuil1!$C$1:$BL$10,8,FALSE)","v":-82},{"$f":"T142-HLOOKUP(X142,Feuil1!$C$1:$BL$10,9,FALSE)","v":-102},{"$f":"T142-HLOOKUP(X142,Feuil1!$C$1:$BL$10,10,FALSE)","v":-122},null,null,null,null,null,null,"DEB "]
["F","SEST","PRO",64,637,"GOURRIER","Martine",1953,56.1,"EEAR MONTEUX","F",26,28,-30,28,35,38,40,40,68,-44.2,"DEB ",-2,{"$f":"IF(I143=\"\",\"\",IF(A143=\"H\",IF(OR(H143=\"SEN\",H143<1995),VLOOKUP(I143,Feuil1!$A$11:$F$29,6),IF(AND(H143>1994,H143<1998),VLOOKUP(I143,Feuil1!$A$11:$F$29,5),IF(AND(H143>1997,H143<2000),VLOOKUP(I143,Feuil1!$A$11:$F$29,4),IF(AND(H143>1999,H143<2002),VLOOKUP(I143,Feuil1!$A$11:$F$29,3),VLOOKUP(I143,Feuil1!$A$11:$F$29,2))))),IF(OR(H143=\"SEN\",H143<1995),VLOOKUP(I143,Feuil1!$G$11:$L$25,6),IF(AND(H143>1994,H143<1998),VLOOKUP(I143,Feuil1!$G$11:$L$25,5),IF(AND(H143>1997,H143<2000),VLOOKUP(I143,Feuil1!$G$11:$L$25,4),IF(AND(H143>1999,H143<2002),VLOOKUP(I143,Feuil1!$G$11:$L$25,3),VLOOKUP(I143,Feuil1!$G$11:$L$25,2)))))))","v":"FS58"},98.134982072269494,null," ",{"$f":"T143-HLOOKUP(X143,Feuil1!$C$1:$BL$10,2,FALSE)","v":-2},{"$f":"T143-HLOOKUP(X143,Feuil1!$C$1:$BL$10,3,FALSE)","v":-12},{"$f":"T143-HLOOKUP(X143,Feuil1!$C$1:$BL$10,4,FALSE)","v":-22},{"$f":"T143-HLOOKUP(X143,Feuil1!$C$1:$BL$10,5,FALSE)","v":-32},{"$f":"T143-HLOOKUP(X143,Feuil1!$C$1:$BL$10,6,FALSE)","v":-47},{"$f":"T143-HLOOKUP(X143,Feuil1!$C$1:$BL$10,7,FALSE)","v":-62},{"$f":"T143-HLOOKUP(X143,Feuil1!$C$1:$BL$10,8,FALSE)","v":-82},{"$f":"T143-HLOOKUP(X143,Feuil1!$C$1:$BL$10,9,FALSE)","v":-102},{"$f":"T143-HLOOKUP(X143,Feuil1!$C$1:$BL$10,10,FALSE)","v":-122},null,null,null,null,null,null,"DEB "]
["F","SEST","PRO",65,378028,"DEBARROS","Nathalie",1973,58,"ISTRES SPORTS","F",27,-32,-32,{"$f":"IF(H144=\"\",\"\",IF(MAXA(L144:N144)<=0,0,MAXA(L144:N144)))","v":27},37,40,-42,{"$f":"IF(H144=\"\",\"\",IF(MAXA(P144:R144)<=0,0,MAXA(P144:R144)))","v":40},{"$f":"IF(H144=\"\",\"\",IF(OR(O144=0,S144=0),0,O144+S144))","v":67},{"$f":"T144-I144*2","v":-49},{"$f":"IF(H144=\"\",\"\",AQ144)","v":"DEB "},{"$f":"IF(AJ144>=0,AJ144,IF(AI144>=0,AI144,IF(AH144>=0,AH144,IF(AG144>=0,AG144,IF(AF144>=0,AF144,IF(AE144>=0,AE144,IF(AD144>=0,AD144,IF(AC144>=0,AC144,AB144))))))))","v":-3},{"$f":"IF(I144=\"\",\"\",IF(A144=\"H\",IF(OR(H144=\"SEN\",H144<1995),VLOOKUP(I144,Feuil1!$A$11:$F$29,6),IF(AND(H144>1994,H144<1998),VLOOKUP(I144,Feuil1!$A$11:$F$29,5),IF(AND(H144>1997,H144<2000),VLOOKUP(I144,Feuil1!$A$11:$F$29,4),IF(AND(H144>1999,H144<2002),VLOOKUP(I144,Feuil1!$A$11:$F$29,3),VLOOKUP(I144,Feuil1!$A$11:$F$29,2))))),IF(OR(H144=\"SEN\",H144<1995),VLOOKUP(I144,Feuil1!$G$11:$L$25,6),IF(AND(H144>1994,H144<1998),VLOOKUP(I144,Feuil1!$G$11:$L$25,5),IF(AND(H144>1997,H144<2000),VLOOKUP(I144,Feuil1!$G$11:$L$25,4),IF(AND(H144>1999,H144<2002),VLOOKUP(I144,Feuil1!$G$11:$L$25,3),VLOOKUP(I144,Feuil1!$G$11:$L$25,2)))))))","v":"FS58"},{"$f":"IF(I144=\"\",\"\",IF(A144=\"H\",10^(0.794358141*LOG(I144/174.393)^2)*T144,IF(A144=\"F\",10^(0.89726074*LOG(I144/148.026)^2)*T144,\"\")))","v":94.327739794468542},null," ",{"$f":"T144-HLOOKUP(X144,Feuil1!$C$1:$BL$10,2,FALSE)","v":-3},{"$f":"T144-HLOOKUP(X144,Feuil1!$C$1:$BL$10,3,FALSE)","v":-13},{"$f":"T144-HLOOKUP(X144,Feuil1!$C$1:$BL$10,4,FALSE)","v":-23},{"$f":"T144-HLOOKUP(X144,Feuil1!$C$1:$BL$10,5,FALSE)","v":-33},{"$f":"T144-HLOOKUP(X144,Feuil1!$C$1:$BL$10,6,FALSE)","v":-48},{"$f":"T144-HLOOKUP(X144,Feuil1!$C$1:$BL$10,7,FALSE)","v":-63},{"$f":"T144-HLOOKUP(X144,Feuil1!$C$1:$BL$10,8,FALSE)","v":-83},{"$f":"T144-HLOOKUP(X144,Feuil1!$C$1:$BL$10,9,FALSE)","v":-103},{"$f":"T144-HLOOKUP(X144,Feuil1!$C$1:$BL$10,10,FALSE)","v":-123},null,null,null,null,null,null,{"$f":"IF(AJ144>=0,$AJ$4,IF(AI144>=0,$AI$4,IF(AH144>=0,$AH$4,IF(AG144>=0,$AG$4,IF(AF144>=0,$AF$4,IF(AE144>=0,$AE$4,IF(AD144>=0,$AD$4,IF(AC144>=0,$AC$4,$AB$4))))))))","v":"DEB "}]
["F","CO","CEN",66,355325,"LAUHOSNE","Caroline",1994,54.77,"CM Orléans","F",24,26,29,29,30,35,-37,35,64,-45.540000000000006,"DEB ",-6,{"$f":"IF(I145=\"\",\"\",IF(A145=\"H\",IF(OR(H145=\"SEN\",H145<1995),VLOOKUP(I145,Feuil1!$A$11:$F$29,6),IF(AND(H145>1994,H145<1998),VLOOKUP(I145,Feuil1!$A$11:$F$29,5),IF(AND(H145>1997,H145<2000),VLOOKUP(I145,Feuil1!$A$11:$F$29,4),IF(AND(H145>1999,H145<2002),VLOOKUP(I145,Feuil1!$A$11:$F$29,3),VLOOKUP(I145,Feuil1!$A$11:$F$29,2))))),IF(OR(H145=\"SEN\",H145<1995),VLOOKUP(I145,Feuil1!$G$11:$L$25,6),IF(AND(H145>1994,H145<1998),VLOOKUP(I145,Feuil1!$G$11:$L$25,5),IF(AND(H145>1997,H145<2000),VLOOKUP(I145,Feuil1!$G$11:$L$25,4),IF(AND(H145>1999,H145<2002),VLOOKUP(I145,Feuil1!$G$11:$L$25,3),VLOOKUP(I145,Feuil1!$G$11:$L$25,2)))))))","v":"FS58"},94.074448456591426,null," ",{"$f":"T145-HLOOKUP(X145,Feuil1!$C$1:$BL$10,2,FALSE)","v":-6},{"$f":"T145-HLOOKUP(X145,Feuil1!$C$1:$BL$10,3,FALSE)","v":-16},{"$f":"T145-HLOOKUP(X145,Feuil1!$C$1:$BL$10,4,FALSE)","v":-26},{"$f":"T145-HLOOKUP(X145,Feuil1!$C$1:$BL$10,5,FALSE)","v":-36},{"$f":"T145-HLOOKUP(X145,Feuil1!$C$1:$BL$10,6,FALSE)","v":-51},{"$f":"T145-HLOOKUP(X145,Feuil1!$C$1:$BL$10,7,FALSE)","v":-66},{"$f":"T145-HLOOKUP(X145,Feuil1!$C$1:$BL$10,8,FALSE)","v":-86},{"$f":"T145-HLOOKUP(X145,Feuil1!$C$1:$BL$10,9,FALSE)","v":-106},{"$f":"T145-HLOOKUP(X145,Feuil1!$C$1:$BL$10,10,FALSE)","v":-126},null,null,null,null,null,null,"DEB "]
["F","SO","MPY",67,108439,"MARCOS","Audrey",1985,53.3,"COLOMIERS US","F",25,28,-31,28,30,35,-40,35,63,-43.599999999999994,"DEB ",-7,{"$f":"IF(I146=\"\",\"\",IF(A146=\"H\",IF(OR(H146=\"SEN\",H146<1995),VLOOKUP(I146,Feuil1!$A$11:$F$29,6),IF(AND(H146>1994,H146<1998),VLOOKUP(I146,Feuil1!$A$11:$F$29,5),IF(AND(H146>1997,H146<2000),VLOOKUP(I146,Feuil1!$A$11:$F$29,4),IF(AND(H146>1999,H146<2002),VLOOKUP(I146,Feuil1!$A$11:$F$29,3),VLOOKUP(I146,Feuil1!$A$11:$F$29,2))))),IF(OR(H146=\"SEN\",H146<1995),VLOOKUP(I146,Feuil1!$G$11:$L$25,6),IF(AND(H146>1994,H146<1998),VLOOKUP(I146,Feuil1!$G$11:$L$25,5),IF(AND(H146>1997,H146<2000),VLOOKUP(I146,Feuil1!$G$11:$L$25,4),IF(AND(H146>1999,H146<2002),VLOOKUP(I146,Feuil1!$G$11:$L$25,3),VLOOKUP(I146,Feuil1!$G$11:$L$25,2)))))))","v":"FS58"},94.604756540232984,null," ",{"$f":"T146-HLOOKUP(X146,Feuil1!$C$1:$BL$10,2,FALSE)","v":-7},{"$f":"T146-HLOOKUP(X146,Feuil1!$C$1:$BL$10,3,FALSE)","v":-17},{"$f":"T146-HLOOKUP(X146,Feuil1!$C$1:$BL$10,4,FALSE)","v":-27},{"$f":"T146-HLOOKUP(X146,Feuil1!$C$1:$BL$10,5,FALSE)","v":-37},{"$f":"T146-HLOOKUP(X146,Feuil1!$C$1:$BL$10,6,FALSE)","v":-52},{"$f":"T146-HLOOKUP(X146,Feuil1!$C$1:$BL$10,7,FALSE)","v":-67},{"$f":"T146-HLOOKUP(X146,Feuil1!$C$1:$BL$10,8,FALSE)","v":-87},{"$f":"T146-HLOOKUP(X146,Feuil1!$C$1:$BL$10,9,FALSE)","v":-107},{"$f":"T146-HLOOKUP(X146,Feuil1!$C$1:$BL$10,10,FALSE)","v":-127},null,null,null,null,null,null,"DEB "]
["F","NE","FCO",68,374652,"CREVOISIER","Lucie",1993,55.6,"CH Luxeuil","F",25,28,-31,28,32,-35,35,35,63,-48.2,"DEB ",-7,{"$f":"IF(I147=\"\",\"\",IF(A147=\"H\",IF(OR(H147=\"SEN\",H147<1995),VLOOKUP(I147,Feuil1!$A$11:$F$29,6),IF(AND(H147>1994,H147<1998),VLOOKUP(I147,Feuil1!$A$11:$F$29,5),IF(AND(H147>1997,H147<2000),VLOOKUP(I147,Feuil1!$A$11:$F$29,4),IF(AND(H147>1999,H147<2002),VLOOKUP(I147,Feuil1!$A$11:$F$29,3),VLOOKUP(I147,Feuil1!$A$11:$F$29,2))))),IF(OR(H147=\"SEN\",H147<1995),VLOOKUP(I147,Feuil1!$G$11:$L$25,6),IF(AND(H147>1994,H147<1998),VLOOKUP(I147,Feuil1!$G$11:$L$25,5),IF(AND(H147>1997,H147<2000),VLOOKUP(I147,Feuil1!$G$11:$L$25,4),IF(AND(H147>1999,H147<2002),VLOOKUP(I147,Feuil1!$G$11:$L$25,3),VLOOKUP(I147,Feuil1!$G$11:$L$25,2)))))))","v":"FS58"},91.539614081984794,null," ",{"$f":"T147-HLOOKUP(X147,Feuil1!$C$1:$BL$10,2,FALSE)","v":-7},{"$f":"T147-HLOOKUP(X147,Feuil1!$C$1:$BL$10,3,FALSE)","v":-17},{"$f":"T147-HLOOKUP(X147,Feuil1!$C$1:$BL$10,4,FALSE)","v":-27},{"$f":"T147-HLOOKUP(X147,Feuil1!$C$1:$BL$10,5,FALSE)","v":-37},{"$f":"T147-HLOOKUP(X147,Feuil1!$C$1:$BL$10,6,FALSE)","v":-52},{"$f":"T147-HLOOKUP(X147,Feuil1!$C$1:$BL$10,7,FALSE)","v":-67},{"$f":"T147-HLOOKUP(X147,Feuil1!$C$1:$BL$10,8,FALSE)","v":-87},{"$f":"T147-HLOOKUP(X147,Feuil1!$C$1:$BL$10,9,FALSE)","v":-107},{"$f":"T147-HLOOKUP(X147,Feuil1!$C$1:$BL$10,10,FALSE)","v":-127},null,null,null,null,null,null,"DEB "]
["F","CO","BNO",69,383832,"LEMOINE","SANDRA",1973,57.8,"Stade St Lois","F",25,27,-30,27,30,-35,35,35,62,-53.599999999999994,"DEB ",-8,{"$f":"IF(I148=\"\",\"\",IF(A148=\"H\",IF(OR(H148=\"SEN\",H148<1995),VLOOKUP(I148,Feuil1!$A$11:$F$29,6),IF(AND(H148>1994,H148<1998),VLOOKUP(I148,Feuil1!$A$11:$F$29,5),IF(AND(H148>1997,H148<2000),VLOOKUP(I148,Feuil1!$A$11:$F$29,4),IF(AND(H148>1999,H148<2002),VLOOKUP(I148,Feuil1!$A$11:$F$29,3),VLOOKUP(I148,Feuil1!$A$11:$F$29,2))))),IF(OR(H148=\"SEN\",H148<1995),VLOOKUP(I148,Feuil1!$G$11:$L$25,6),IF(AND(H148>1994,H148<1998),VLOOKUP(I148,Feuil1!$G$11:$L$25,5),IF(AND(H148>1997,H148<2000),VLOOKUP(I148,Feuil1!$G$11:$L$25,4),IF(AND(H148>1999,H148<2002),VLOOKUP(I148,Feuil1!$G$11:$L$25,3),VLOOKUP(I148,Feuil1!$G$11:$L$25,2)))))))","v":"FS58"},87.509209517064519,null," ",{"$f":"T148-HLOOKUP(X148,Feuil1!$C$1:$BL$10,2,FALSE)","v":-8},{"$f":"T148-HLOOKUP(X148,Feuil1!$C$1:$BL$10,3,FALSE)","v":-18},{"$f":"T148-HLOOKUP(X148,Feuil1!$C$1:$BL$10,4,FALSE)","v":-28},{"$f":"T148-HLOOKUP(X148,Feuil1!$C$1:$BL$10,5,FALSE)","v":-38},{"$f":"T148-HLOOKUP(X148,Feuil1!$C$1:$BL$10,6,FALSE)","v":-53},{"$f":"T148-HLOOKUP(X148,Feuil1!$C$1:$BL$10,7,FALSE)","v":-68},{"$f":"T148-HLOOKUP(X148,Feuil1!$C$1:$BL$10,8,FALSE)","v":-88},{"$f":"T148-HLOOKUP(X148,Feuil1!$C$1:$BL$10,9,FALSE)","v":-108},{"$f":"T148-HLOOKUP(X148,Feuil1!$C$1:$BL$10,10,FALSE)","v":-128},null,null,null,null,null,null,"DEB "]
["F","NE","ALS",70,367025,"DEBIEN","LUCIE",1989,55.25,"ASPTT Strasbourg","F",23,25,27,27,29,32,34,34,61,-49.5,"DEB ",-9,{"$f":"IF(I149=\"\",\"\",IF(A149=\"H\",IF(OR(H149=\"SEN\",H149<1995),VLOOKUP(I149,Feuil1!$A$11:$F$29,6),IF(AND(H149>1994,H149<1998),VLOOKUP(I149,Feuil1!$A$11:$F$29,5),IF(AND(H149>1997,H149<2000),VLOOKUP(I149,Feuil1!$A$11:$F$29,4),IF(AND(H149>1999,H149<2002),VLOOKUP(I149,Feuil1!$A$11:$F$29,3),VLOOKUP(I149,Feuil1!$A$11:$F$29,2))))),IF(OR(H149=\"SEN\",H149<1995),VLOOKUP(I149,Feuil1!$G$11:$L$25,6),IF(AND(H149>1994,H149<1998),VLOOKUP(I149,Feuil1!$G$11:$L$25,5),IF(AND(H149>1997,H149<2000),VLOOKUP(I149,Feuil1!$G$11:$L$25,4),IF(AND(H149>1999,H149<2002),VLOOKUP(I149,Feuil1!$G$11:$L$25,3),VLOOKUP(I149,Feuil1!$G$11:$L$25,2)))))))","v":"FS58"},89.063147837695155,null," ",{"$f":"T149-HLOOKUP(X149,Feuil1!$C$1:$BL$10,2,FALSE)","v":-9},{"$f":"T149-HLOOKUP(X149,Feuil1!$C$1:$BL$10,3,FALSE)","v":-19},{"$f":"T149-HLOOKUP(X149,Feuil1!$C$1:$BL$10,4,FALSE)","v":-29},{"$f":"T149-HLOOKUP(X149,Feuil1!$C$1:$BL$10,5,FALSE)","v":-39},{"$f":"T149-HLOOKUP(X149,Feuil1!$C$1:$BL$10,6,FALSE)","v":-54},{"$f":"T149-HLOOKUP(X149,Feuil1!$C$1:$BL$10,7,FALSE)","v":-69},{"$f":"T149-HLOOKUP(X149,Feuil1!$C$1:$BL$10,8,FALSE)","v":-89},{"$f":"T149-HLOOKUP(X149,Feuil1!$C$1:$BL$10,9,FALSE)","v":-109},{"$f":"T149-HLOOKUP(X149,Feuil1!$C$1:$BL$10,10,FALSE)","v":-129},null,null,null,null,null,null,"DEB "]
["F","CO","PDL",71,367252,"AUDRAIN","Mélina",1992,55.94,"Saint Herblain","F",22,24,26,26,32,35,-38,35,61,-50.879999999999995,"DEB ",-9,{"$f":"IF(I150=\"\",\"\",IF(A150=\"H\",IF(OR(H150=\"SEN\",H150<1995),VLOOKUP(I150,Feuil1!$A$11:$F$29,6),IF(AND(H150>1994,H150<1998),VLOOKUP(I150,Feuil1!$A$11:$F$29,5),IF(AND(H150>1997,H150<2000),VLOOKUP(I150,Feuil1!$A$11:$F$29,4),IF(AND(H150>1999,H150<2002),VLOOKUP(I150,Feuil1!$A$11:$F$29,3),VLOOKUP(I150,Feuil1!$A$11:$F$29,2))))),IF(OR(H150=\"SEN\",H150<1995),VLOOKUP(I150,Feuil1!$G$11:$L$25,6),IF(AND(H150>1994,H150<1998),VLOOKUP(I150,Feuil1!$G$11:$L$25,5),IF(AND(H150>1997,H150<2000),VLOOKUP(I150,Feuil1!$G$11:$L$25,4),IF(AND(H150>1999,H150<2002),VLOOKUP(I150,Feuil1!$G$11:$L$25,3),VLOOKUP(I150,Feuil1!$G$11:$L$25,2)))))))","v":"FS58"},88.223462587198938,null," ",{"$f":"T150-HLOOKUP(X150,Feuil1!$C$1:$BL$10,2,FALSE)","v":-9},{"$f":"T150-HLOOKUP(X150,Feuil1!$C$1:$BL$10,3,FALSE)","v":-19},{"$f":"T150-HLOOKUP(X150,Feuil1!$C$1:$BL$10,4,FALSE)","v":-29},{"$f":"T150-HLOOKUP(X150,Feuil1!$C$1:$BL$10,5,FALSE)","v":-39},{"$f":"T150-HLOOKUP(X150,Feuil1!$C$1:$BL$10,6,FALSE)","v":-54},{"$f":"T150-HLOOKUP(X150,Feuil1!$C$1:$BL$10,7,FALSE)","v":-69},{"$f":"T150-HLOOKUP(X150,Feuil1!$C$1:$BL$10,8,FALSE)","v":-89},{"$f":"T150-HLOOKUP(X150,Feuil1!$C$1:$BL$10,9,FALSE)","v":-109},{"$f":"T150-HLOOKUP(X150,Feuil1!$C$1:$BL$10,10,FALSE)","v":-129},null,null,null,null,null,null,"DEB "]
["F","SEST","RAL",72,265884,"FOREST","Christine",1966,56.6,"CH Arbresle","F",20,22,24,24,32,-34,34,34,58,-55.2,"DEB ",-12,{"$f":"IF(I151=\"\",\"\",IF(A151=\"H\",IF(OR(H151=\"SEN\",H151<1995),VLOOKUP(I151,Feuil1!$A$11:$F$29,6),IF(AND(H151>1994,H151<1998),VLOOKUP(I151,Feuil1!$A$11:$F$29,5),IF(AND(H151>1997,H151<2000),VLOOKUP(I151,Feuil1!$A$11:$F$29,4),IF(AND(H151>1999,H151<2002),VLOOKUP(I151,Feuil1!$A$11:$F$29,3),VLOOKUP(I151,Feuil1!$A$11:$F$29,2))))),IF(OR(H151=\"SEN\",H151<1995),VLOOKUP(I151,Feuil1!$G$11:$L$25,6),IF(AND(H151>1994,H151<1998),VLOOKUP(I151,Feuil1!$G$11:$L$25,5),IF(AND(H151>1997,H151<2000),VLOOKUP(I151,Feuil1!$G$11:$L$25,4),IF(AND(H151>1999,H151<2002),VLOOKUP(I151,Feuil1!$G$11:$L$25,3),VLOOKUP(I151,Feuil1!$G$11:$L$25,2)))))))","v":"FS58"},83.146181929148113,null," ",{"$f":"T151-HLOOKUP(X151,Feuil1!$C$1:$BL$10,2,FALSE)","v":-12},{"$f":"T151-HLOOKUP(X151,Feuil1!$C$1:$BL$10,3,FALSE)","v":-22},{"$f":"T151-HLOOKUP(X151,Feuil1!$C$1:$BL$10,4,FALSE)","v":-32},{"$f":"T151-HLOOKUP(X151,Feuil1!$C$1:$BL$10,5,FALSE)","v":-42},{"$f":"T151-HLOOKUP(X151,Feuil1!$C$1:$BL$10,6,FALSE)","v":-57},{"$f":"T151-HLOOKUP(X151,Feuil1!$C$1:$BL$10,7,FALSE)","v":-72},{"$f":"T151-HLOOKUP(X151,Feuil1!$C$1:$BL$10,8,FALSE)","v":-92},{"$f":"T151-HLOOKUP(X151,Feuil1!$C$1:$BL$10,9,FALSE)","v":-112},{"$f":"T151-HLOOKUP(X151,Feuil1!$C$1:$BL$10,10,FALSE)","v":-132},null,null,null,null,null,null,"DEB "]
["F","CO","CEN",73,179582,"TABORDET","Nelly",1946,53.3,"CM Orléans","F",21,23,25,25,28,30,32,32,57,-49.599999999999994,"DEB ",-13,{"$f":"IF(I152=\"\",\"\",IF(A152=\"H\",IF(OR(H152=\"SEN\",H152<1995),VLOOKUP(I152,Feuil1!$A$11:$F$29,6),IF(AND(H152>1994,H152<1998),VLOOKUP(I152,Feuil1!$A$11:$F$29,5),IF(AND(H152>1997,H152<2000),VLOOKUP(I152,Feuil1!$A$11:$F$29,4),IF(AND(H152>1999,H152<2002),VLOOKUP(I152,Feuil1!$A$11:$F$29,3),VLOOKUP(I152,Feuil1!$A$11:$F$29,2))))),IF(OR(H152=\"SEN\",H152<1995),VLOOKUP(I152,Feuil1!$G$11:$L$25,6),IF(AND(H152>1994,H152<1998),VLOOKUP(I152,Feuil1!$G$11:$L$25,5),IF(AND(H152>1997,H152<2000),VLOOKUP(I152,Feuil1!$G$11:$L$25,4),IF(AND(H152>1999,H152<2002),VLOOKUP(I152,Feuil1!$G$11:$L$25,3),VLOOKUP(I152,Feuil1!$G$11:$L$25,2)))))))","v":"FS58"},85.594779726877462,null," ",{"$f":"T152-HLOOKUP(X152,Feuil1!$C$1:$BL$10,2,FALSE)","v":-13},{"$f":"T152-HLOOKUP(X152,Feuil1!$C$1:$BL$10,3,FALSE)","v":-23},{"$f":"T152-HLOOKUP(X152,Feuil1!$C$1:$BL$10,4,FALSE)","v":-33},{"$f":"T152-HLOOKUP(X152,Feuil1!$C$1:$BL$10,5,FALSE)","v":-43},{"$f":"T152-HLOOKUP(X152,Feuil1!$C$1:$BL$10,6,FALSE)","v":-58},{"$f":"T152-HLOOKUP(X152,Feuil1!$C$1:$BL$10,7,FALSE)","v":-73},{"$f":"T152-HLOOKUP(X152,Feuil1!$C$1:$BL$10,8,FALSE)","v":-93},{"$f":"T152-HLOOKUP(X152,Feuil1!$C$1:$BL$10,9,FALSE)","v":-113},{"$f":"T152-HLOOKUP(X152,Feuil1!$C$1:$BL$10,10,FALSE)","v":-133},null,null,null,null,null,null,"DEB "]
["F","SO","MPY",74,175014,"AUNAY","Geneviève",1965,56.9,"COLOMIERS US","F",18,20,23,23,28,31,33,33,56,-57.8,"DEB ",-14,{"$f":"IF(I153=\"\",\"\",IF(A153=\"H\",IF(OR(H153=\"SEN\",H153<1995),VLOOKUP(I153,Feuil1!$A$11:$F$29,6),IF(AND(H153>1994,H153<1998),VLOOKUP(I153,Feuil1!$A$11:$F$29,5),IF(AND(H153>1997,H153<2000),VLOOKUP(I153,Feuil1!$A$11:$F$29,4),IF(AND(H153>1999,H153<2002),VLOOKUP(I153,Feuil1!$A$11:$F$29,3),VLOOKUP(I153,Feuil1!$A$11:$F$29,2))))),IF(OR(H153=\"SEN\",H153<1995),VLOOKUP(I153,Feuil1!$G$11:$L$25,6),IF(AND(H153>1994,H153<1998),VLOOKUP(I153,Feuil1!$G$11:$L$25,5),IF(AND(H153>1997,H153<2000),VLOOKUP(I153,Feuil1!$G$11:$L$25,4),IF(AND(H153>1999,H153<2002),VLOOKUP(I153,Feuil1!$G$11:$L$25,3),VLOOKUP(I153,Feuil1!$G$11:$L$25,2)))))))","v":"FS58"},79.962601719423219,null," ",{"$f":"T153-HLOOKUP(X153,Feuil1!$C$1:$BL$10,2,FALSE)","v":-14},{"$f":"T153-HLOOKUP(X153,Feuil1!$C$1:$BL$10,3,FALSE)","v":-24},{"$f":"T153-HLOOKUP(X153,Feuil1!$C$1:$BL$10,4,FALSE)","v":-34},{"$f":"T153-HLOOKUP(X153,Feuil1!$C$1:$BL$10,5,FALSE)","v":-44},{"$f":"T153-HLOOKUP(X153,Feuil1!$C$1:$BL$10,6,FALSE)","v":-59},{"$f":"T153-HLOOKUP(X153,Feuil1!$C$1:$BL$10,7,FALSE)","v":-74},{"$f":"T153-HLOOKUP(X153,Feuil1!$C$1:$BL$10,8,FALSE)","v":-94},{"$f":"T153-HLOOKUP(X153,Feuil1!$C$1:$BL$10,9,FALSE)","v":-114},{"$f":"T153-HLOOKUP(X153,Feuil1!$C$1:$BL$10,10,FALSE)","v":-134},null,null,null,null,null,null,"DEB "]
["F","N","NPC",75,223320,"CAPIOMONT","Laetitia",1993,54.15,"LOMME","F",22,24,26,26,27,29,-31,29,55,-53.3,"DEB ",-15,{"$f":"IF(I154=\"\",\"\",IF(A154=\"H\",IF(OR(H154=\"SEN\",H154<1995),VLOOKUP(I154,Feuil1!$A$11:$F$29,6),IF(AND(H154>1994,H154<1998),VLOOKUP(I154,Feuil1!$A$11:$F$29,5),IF(AND(H154>1997,H154<2000),VLOOKUP(I154,Feuil1!$A$11:$F$29,4),IF(AND(H154>1999,H154<2002),VLOOKUP(I154,Feuil1!$A$11:$F$29,3),VLOOKUP(I154,Feuil1!$A$11:$F$29,2))))),IF(OR(H154=\"SEN\",H154<1995),VLOOKUP(I154,Feuil1!$G$11:$L$25,6),IF(AND(H154>1994,H154<1998),VLOOKUP(I154,Feuil1!$G$11:$L$25,5),IF(AND(H154>1997,H154<2000),VLOOKUP(I154,Feuil1!$G$11:$L$25,4),IF(AND(H154>1999,H154<2002),VLOOKUP(I154,Feuil1!$G$11:$L$25,3),VLOOKUP(I154,Feuil1!$G$11:$L$25,2)))))))","v":"FS58"},81.565684375626049,null," ",{"$f":"T154-HLOOKUP(X154,Feuil1!$C$1:$BL$10,2,FALSE)","v":-15},{"$f":"T154-HLOOKUP(X154,Feuil1!$C$1:$BL$10,3,FALSE)","v":-25},{"$f":"T154-HLOOKUP(X154,Feuil1!$C$1:$BL$10,4,FALSE)","v":-35},{"$f":"T154-HLOOKUP(X154,Feuil1!$C$1:$BL$10,5,FALSE)","v":-45},{"$f":"T154-HLOOKUP(X154,Feuil1!$C$1:$BL$10,6,FALSE)","v":-60},{"$f":"T154-HLOOKUP(X154,Feuil1!$C$1:$BL$10,7,FALSE)","v":-75},{"$f":"T154-HLOOKUP(X154,Feuil1!$C$1:$BL$10,8,FALSE)","v":-95},{"$f":"T154-HLOOKUP(X154,Feuil1!$C$1:$BL$10,9,FALSE)","v":-115},{"$f":"T154-HLOOKUP(X154,Feuil1!$C$1:$BL$10,10,FALSE)","v":-135},null,null,null,null,null,null,"DEB "]
["F","N","IDF",76,377402,"LEVI","JUDITH",1984,54.4,"CHAVILLE","F",-20,20,-25,20,30,35,-40,35,55,-53.8,"DEB ",-15,{"$f":"IF(I155=\"\",\"\",IF(A155=\"H\",IF(OR(H155=\"SEN\",H155<1995),VLOOKUP(I155,Feuil1!$A$11:$F$29,6),IF(AND(H155>1994,H155<1998),VLOOKUP(I155,Feuil1!$A$11:$F$29,5),IF(AND(H155>1997,H155<2000),VLOOKUP(I155,Feuil1!$A$11:$F$29,4),IF(AND(H155>1999,H155<2002),VLOOKUP(I155,Feuil1!$A$11:$F$29,3),VLOOKUP(I155,Feuil1!$A$11:$F$29,2))))),IF(OR(H155=\"SEN\",H155<1995),VLOOKUP(I155,Feuil1!$G$11:$L$25,6),IF(AND(H155>1994,H155<1998),VLOOKUP(I155,Feuil1!$G$11:$L$25,5),IF(AND(H155>1997,H155<2000),VLOOKUP(I155,Feuil1!$G$11:$L$25,4),IF(AND(H155>1999,H155<2002),VLOOKUP(I155,Feuil1!$G$11:$L$25,3),VLOOKUP(I155,Feuil1!$G$11:$L$25,2)))))))","v":"FS58"},81.272431712831732,null," ",{"$f":"T155-HLOOKUP(X155,Feuil1!$C$1:$BL$10,2,FALSE)","v":-15},{"$f":"T155-HLOOKUP(X155,Feuil1!$C$1:$BL$10,3,FALSE)","v":-25},{"$f":"T155-HLOOKUP(X155,Feuil1!$C$1:$BL$10,4,FALSE)","v":-35},{"$f":"T155-HLOOKUP(X155,Feuil1!$C$1:$BL$10,5,FALSE)","v":-45},{"$f":"T155-HLOOKUP(X155,Feuil1!$C$1:$BL$10,6,FALSE)","v":-60},{"$f":"T155-HLOOKUP(X155,Feuil1!$C$1:$BL$10,7,FALSE)","v":-75},{"$f":"T155-HLOOKUP(X155,Feuil1!$C$1:$BL$10,8,FALSE)","v":-95},{"$f":"T155-HLOOKUP(X155,Feuil1!$C$1:$BL$10,9,FALSE)","v":-115},{"$f":"T155-HLOOKUP(X155,Feuil1!$C$1:$BL$10,10,FALSE)","v":-135},null,null,null,null,null,null,"DEB "]
["F","CO","BNO",77,378638,"BEAUGRAND","ALICE",1991,58,"Stade St Lois","F",20,-25,null,20,30,35,null,35,55,-61,"DEB ",-15,{"$f":"IF(I156=\"\",\"\",IF(A156=\"H\",IF(OR(H156=\"SEN\",H156<1995),VLOOKUP(I156,Feuil1!$A$11:$F$29,6),IF(AND(H156>1994,H156<1998),VLOOKUP(I156,Feuil1!$A$11:$F$29,5),IF(AND(H156>1997,H156<2000),VLOOKUP(I156,Feuil1!$A$11:$F$29,4),IF(AND(H156>1999,H156<2002),VLOOKUP(I156,Feuil1!$A$11:$F$29,3),VLOOKUP(I156,Feuil1!$A$11:$F$29,2))))),IF(OR(H156=\"SEN\",H156<1995),VLOOKUP(I156,Feuil1!$G$11:$L$25,6),IF(AND(H156>1994,H156<1998),VLOOKUP(I156,Feuil1!$G$11:$L$25,5),IF(AND(H156>1997,H156<2000),VLOOKUP(I156,Feuil1!$G$11:$L$25,4),IF(AND(H156>1999,H156<2002),VLOOKUP(I156,Feuil1!$G$11:$L$25,3),VLOOKUP(I156,Feuil1!$G$11:$L$25,2)))))))","v":"FS58"},77.433219234265223,null," ",{"$f":"T156-HLOOKUP(X156,Feuil1!$C$1:$BL$10,2,FALSE)","v":-15},{"$f":"T156-HLOOKUP(X156,Feuil1!$C$1:$BL$10,3,FALSE)","v":-25},{"$f":"T156-HLOOKUP(X156,Feuil1!$C$1:$BL$10,4,FALSE)","v":-35},{"$f":"T156-HLOOKUP(X156,Feuil1!$C$1:$BL$10,5,FALSE)","v":-45},{"$f":"T156-HLOOKUP(X156,Feuil1!$C$1:$BL$10,6,FALSE)","v":-60},{"$f":"T156-HLOOKUP(X156,Feuil1!$C$1:$BL$10,7,FALSE)","v":-75},{"$f":"T156-HLOOKUP(X156,Feuil1!$C$1:$BL$10,8,FALSE)","v":-95},{"$f":"T156-HLOOKUP(X156,Feuil1!$C$1:$BL$10,9,FALSE)","v":-115},{"$f":"T156-HLOOKUP(X156,Feuil1!$C$1:$BL$10,10,FALSE)","v":-135},null,null,null,null,null,null,"DEB "]
["F","N","IDF",78,175609,"BENACEUR","MERIEM",1984,56,"FRANCONVILLE","F",15,17,18,18,18,20,25,25,43,-69,"DEB ",-27,{"$f":"IF(I157=\"\",\"\",IF(A157=\"H\",IF(OR(H157=\"SEN\",H157<1995),VLOOKUP(I157,Feuil1!$A$11:$F$29,6),IF(AND(H157>1994,H157<1998),VLOOKUP(I157,Feuil1!$A$11:$F$29,5),IF(AND(H157>1997,H157<2000),VLOOKUP(I157,Feuil1!$A$11:$F$29,4),IF(AND(H157>1999,H157<2002),VLOOKUP(I157,Feuil1!$A$11:$F$29,3),VLOOKUP(I157,Feuil1!$A$11:$F$29,2))))),IF(OR(H157=\"SEN\",H157<1995),VLOOKUP(I157,Feuil1!$G$11:$L$25,6),IF(AND(H157>1994,H157<1998),VLOOKUP(I157,Feuil1!$G$11:$L$25,5),IF(AND(H157>1997,H157<2000),VLOOKUP(I157,Feuil1!$G$11:$L$25,4),IF(AND(H157>1999,H157<2002),VLOOKUP(I157,Feuil1!$G$11:$L$25,3),VLOOKUP(I157,Feuil1!$G$11:$L$25,2)))))))","v":"FS58"},62.139797395725978,null," ",{"$f":"T157-HLOOKUP(X157,Feuil1!$C$1:$BL$10,2,FALSE)","v":-27},{"$f":"T157-HLOOKUP(X157,Feuil1!$C$1:$BL$10,3,FALSE)","v":-37},{"$f":"T157-HLOOKUP(X157,Feuil1!$C$1:$BL$10,4,FALSE)","v":-47},{"$f":"T157-HLOOKUP(X157,Feuil1!$C$1:$BL$10,5,FALSE)","v":-57},{"$f":"T157-HLOOKUP(X157,Feuil1!$C$1:$BL$10,6,FALSE)","v":-72},{"$f":"T157-HLOOKUP(X157,Feuil1!$C$1:$BL$10,7,FALSE)","v":-87},{"$f":"T157-HLOOKUP(X157,Feuil1!$C$1:$BL$10,8,FALSE)","v":-107},{"$f":"T157-HLOOKUP(X157,Feuil1!$C$1:$BL$10,9,FALSE)","v":-127},{"$f":"T157-HLOOKUP(X157,Feuil1!$C$1:$BL$10,10,FALSE)","v":-147},null,null,null,null,null,null,"DEB "]
[null,null,null,null,null,null,null,null,null,null,null,null,null,null,null,null,null,null,null,null,null,null,null,null,null,null," ",{"$f":"T158-HLOOKUP(X158,Feuil1!$C$1:$BL$10,2,FALSE)","v":{"$error":"#N/A"}},{"$f":"T158-HLOOKUP(X158,Feuil1!$C$1:$BL$10,3,FALSE)","v":{"$error":"#N/A"}},{"$f":"T158-HLOOKUP(X158,Feuil1!$C$1:$BL$10,4,FALSE)","v":{"$error":"#N/A"}},{"$f":"T158-HLOOKUP(X158,Feuil1!$C$1:$BL$10,5,FALSE)","v":{"$error":"#N/A"}},{"$f":"T158-HLOOKUP(X158,Feuil1!$C$1:$BL$10,6,FALSE)","v":{"$error":"#N/A"}},{"$f":"T158-HLOOKUP(X158,Feuil1!$C$1:$BL$10,7,FALSE)","v":{"$error":"#N/A"}},{"$f":"T158-HLOOKUP(X158,Feuil1!$C$1:$BL$10,8,FALSE)","v":{"$error":"#N/A"}},{"$f":"T158-HLOOKUP(X158,Feuil1!$C$1:$BL$10,9,FALSE)","v":{"$error":"#N/A"}},{"$f":"T158-HLOOKUP(X158,Feuil1!$C$1:$BL$10,10,FALSE)","v":{"$error":"#N/A"}},null,null,null,null,null,null,{"$f":"IF(AJ158>=0,$AJ$4,IF(AI158>=0,$AI$4,IF(AH158>=0,$AH$4,IF(AG158>=0,$AG$4,IF(AF158>=0,$AF$4,IF(AE158>=0,$AE$4,IF(AD158>=0,$AD$4,IF(AC158>=0,$AC$4,$AB$4))))))))","v":{"$error":"#N/A"}}]
["F","SO","AQU",1,381666,"GHEKAP WAFO","MYRIAM",1994,58.3,"EA St Médard","CAM",72,74,76,{"$f":"IF(H159=\"\",\"\",IF(MAXA(L159:N159)<=0,0,MAXA(L159:N159)))","v":76},99,-101,101,{"$f":"IF(H159=\"\",\"\",IF(MAXA(P159:R159)<=0,0,MAXA(P159:R159)))","v":101},{"$f":"IF(H159=\"\",\"\",IF(OR(O159=0,S159=0),0,O159+S159))","v":177},{"$f":"T159-I159*2","v":60.400000000000006},{"$f":"IF(H159=\"\",\"\",AQ159)","v":"INTB +"},{"$f":"IF(AJ159>=0,AJ159,IF(AI159>=0,AI159,IF(AH159>=0,AH159,IF(AG159>=0,AG159,IF(AF159>=0,AF159,IF(AE159>=0,AE159,IF(AD159>=0,AD159,IF(AC159>=0,AC159,AB159))))))))","v":17},{"$f":"IF(I159=\"\",\"\",IF(A159=\"H\",IF(OR(H159=\"SEN\",H159<1995),VLOOKUP(I159,Feuil1!$A$11:$F$29,6),IF(AND(H159>1994,H159<1998),VLOOKUP(I159,Feuil1!$A$11:$F$29,5),IF(AND(H159>1997,H159<2000),VLOOKUP(I159,Feuil1!$A$11:$F$29,4),IF(AND(H159>1999,H159<2002),VLOOKUP(I159,Feuil1!$A$11:$F$29,3),VLOOKUP(I159,Feuil1!$A$11:$F$29,2))))),IF(OR(H159=\"SEN\",H159<1995),VLOOKUP(I159,Feuil1!$G$11:$L$25,6),IF(AND(H159>1994,H159<1998),VLOOKUP(I159,Feuil1!$G$11:$L$25,5),IF(AND(H159>1997,H159<2000),VLOOKUP(I159,Feuil1!$G$11:$L$25,4),IF(AND(H159>1999,H159<2002),VLOOKUP(I159,Feuil1!$G$11:$L$25,3),VLOOKUP(I159,Feuil1!$G$11:$L$25,2)))))))","v":"FS63"},{"$f":"IF(I159=\"\",\"\",IF(A159=\"H\",10^(0.794358141*LOG(I159/174.393)^2)*T159,IF(A159=\"F\",10^(0.89726074*LOG(I159/148.026)^2)*T159,\"\")))","v":248.25975299924932},null," ",{"$f":"T159-HLOOKUP(X159,Feuil1!$C$1:$BL$10,2,FALSE)","v":102},{"$f":"T159-HLOOKUP(X159,Feuil1!$C$1:$BL$10,3,FALSE)","v":92},{"$f":"T159-HLOOKUP(X159,Feuil1!$C$1:$BL$10,4,FALSE)","v":82},{"$f":"T159-HLOOKUP(X159,Feuil1!$C$1:$BL$10,5,FALSE)","v":67},{"$f":"T159-HLOOKUP(X159,Feuil1!$C$1:$BL$10,6,FALSE)","v":52},{"$f":"T159-HLOOKUP(X159,Feuil1!$C$1:$BL$10,7,FALSE)","v":37},{"$f":"T159-HLOOKUP(X159,Feuil1!$C$1:$BL$10,8,FALSE)","v":17},{"$f":"T159-HLOOKUP(X159,Feuil1!$C$1:$BL$10,9,FALSE)","v":-3},{"$f":"T159-HLOOKUP(X159,Feuil1!$C$1:$BL$10,10,FALSE)","v":-23},null,null,null,null,null,null,{"$f":"IF(AJ159>=0,$AJ$4,IF(AI159>=0,$AI$4,IF(AH159>=0,$AH$4,IF(AG159>=0,$AG$4,IF(AF159>=0,$AF$4,IF(AE159>=0,$AE$4,IF(AD159>=0,$AD$4,IF(AC159>=0,$AC$4,$AB$4))))))))","v":"INTB +"}]
["F","NE","FCO",2,31131,"CHIQUET","Agnès",1984,59.95,"LF Besançon","F",73,76,-78,76,94,98,101,101,177,57.099999999999994,"INTB +",17,{"$f":"IF(I160=\"\",\"\",IF(A160=\"H\",IF(OR(H160=\"SEN\",H160<1995),VLOOKUP(I160,Feuil1!$A$11:$F$29,6),IF(AND(H160>1994,H160<1998),VLOOKUP(I160,Feuil1!$A$11:$F$29,5),IF(AND(H160>1997,H160<2000),VLOOKUP(I160,Feuil1!$A$11:$F$29,4),IF(AND(H160>1999,H160<2002),VLOOKUP(I160,Feuil1!$A$11:$F$29,3),VLOOKUP(I160,Feuil1!$A$11:$F$29,2))))),IF(OR(H160=\"SEN\",H160<1995),VLOOKUP(I160,Feuil1!$G$11:$L$25,6),IF(AND(H160>1994,H160<1998),VLOOKUP(I160,Feuil1!$G$11:$L$25,5),IF(AND(H160>1997,H160<2000),VLOOKUP(I160,Feuil1!$G$11:$L$25,4),IF(AND(H160>1999,H160<2002),VLOOKUP(I160,Feuil1!$G$11:$L$25,3),VLOOKUP(I160,Feuil1!$G$11:$L$25,2)))))))","v":"FS63"},243.35276049996591,null," ",{"$f":"T160-HLOOKUP(X160,Feuil1!$C$1:$BL$10,2,FALSE)","v":102},{"$f":"T160-HLOOKUP(X160,Feuil1!$C$1:$BL$10,3,FALSE)","v":92},{"$f":"T160-HLOOKUP(X160,Feuil1!$C$1:$BL$10,4,FALSE)","v":82},{"$f":"T160-HLOOKUP(X160,Feuil1!$C$1:$BL$10,5,FALSE)","v":67},{"$f":"T160-HLOOKUP(X160,Feuil1!$C$1:$BL$10,6,FALSE)","v":52},{"$f":"T160-HLOOKUP(X160,Feuil1!$C$1:$BL$10,7,FALSE)","v":37},{"$f":"T160-HLOOKUP(X160,Feuil1!$C$1:$BL$10,8,FALSE)","v":17},{"$f":"T160-HLOOKUP(X160,Feuil1!$C$1:$BL$10,9,FALSE)","v":-3},{"$f":"T160-HLOOKUP(X160,Feuil1!$C$1:$BL$10,10,FALSE)","v":-23},null,null,null,null,null,null,"INTB +"]
["F","CO","CEN",3,317302,"BAKAM TRUCHE","Pilar",1988,60.5,"CM Orléans","Cam",-70,70,-73,70,90,95,100,100,170,49,"INTB +",10,{"$f":"IF(I161=\"\",\"\",IF(A161=\"H\",IF(OR(H161=\"SEN\",H161<1995),VLOOKUP(I161,Feuil1!$A$11:$F$29,6),IF(AND(H161>1994,H161<1998),VLOOKUP(I161,Feuil1!$A$11:$F$29,5),IF(AND(H161>1997,H161<2000),VLOOKUP(I161,Feuil1!$A$11:$F$29,4),IF(AND(H161>1999,H161<2002),VLOOKUP(I161,Feuil1!$A$11:$F$29,3),VLOOKUP(I161,Feuil1!$A$11:$F$29,2))))),IF(OR(H161=\"SEN\",H161<1995),VLOOKUP(I161,Feuil1!$G$11:$L$25,6),IF(AND(H161>1994,H161<1998),VLOOKUP(I161,Feuil1!$G$11:$L$25,5),IF(AND(H161>1997,H161<2000),VLOOKUP(I161,Feuil1!$G$11:$L$25,4),IF(AND(H161>1999,H161<2002),VLOOKUP(I161,Feuil1!$G$11:$L$25,3),VLOOKUP(I161,Feuil1!$G$11:$L$25,2)))))))","v":"FS63"},232.23737631120852,null," ",{"$f":"T161-HLOOKUP(X161,Feuil1!$C$1:$BL$10,2,FALSE)","v":95},{"$f":"T161-HLOOKUP(X161,Feuil1!$C$1:$BL$10,3,FALSE)","v":85},{"$f":"T161-HLOOKUP(X161,Feuil1!$C$1:$BL$10,4,FALSE)","v":75},{"$f":"T161-HLOOKUP(X161,Feuil1!$C$1:$BL$10,5,FALSE)","v":60},{"$f":"T161-HLOOKUP(X161,Feuil1!$C$1:$BL$10,6,FALSE)","v":45},{"$f":"T161-HLOOKUP(X161,Feuil1!$C$1:$BL$10,7,FALSE)","v":30},{"$f":"T161-HLOOKUP(X161,Feuil1!$C$1:$BL$10,8,FALSE)","v":10},{"$f":"T161-HLOOKUP(X161,Feuil1!$C$1:$BL$10,9,FALSE)","v":-10},{"$f":"T161-HLOOKUP(X161,Feuil1!$C$1:$BL$10,10,FALSE)","v":-30},null,null,null,null,null,null,"INTB +"]
["F","ZCO","BRE",4,376538,"OSOUNGU ","Joyce Epie",1983,60.7,"ES Saint Avé","Cam",74,77,81,81,85,89,-92,89,170,48.599999999999994,"INTB +",10,{"$f":"IF(I162=\"\",\"\",IF(A162=\"H\",IF(OR(H162=\"SEN\",H162<1995),VLOOKUP(I162,Feuil1!$A$11:$F$29,6),IF(AND(H162>1994,H162<1998),VLOOKUP(I162,Feuil1!$A$11:$F$29,5),IF(AND(H162>1997,H162<2000),VLOOKUP(I162,Feuil1!$A$11:$F$29,4),IF(AND(H162>1999,H162<2002),VLOOKUP(I162,Feuil1!$A$11:$F$29,3),VLOOKUP(I162,Feuil1!$A$11:$F$29,2))))),IF(OR(H162=\"SEN\",H162<1995),VLOOKUP(I162,Feuil1!$G$11:$L$25,6),IF(AND(H162>1994,H162<1998),VLOOKUP(I162,Feuil1!$G$11:$L$25,5),IF(AND(H162>1997,H162<2000),VLOOKUP(I162,Feuil1!$G$11:$L$25,4),IF(AND(H162>1999,H162<2002),VLOOKUP(I162,Feuil1!$G$11:$L$25,3),VLOOKUP(I162,Feuil1!$G$11:$L$25,2)))))))","v":"FS63"},231.70450603090356,null," ",{"$f":"T162-HLOOKUP(X162,Feuil1!$C$1:$BL$10,2,FALSE)","v":95},{"$f":"T162-HLOOKUP(X162,Feuil1!$C$1:$BL$10,3,FALSE)","v":85},{"$f":"T162-HLOOKUP(X162,Feuil1!$C$1:$BL$10,4,FALSE)","v":75},{"$f":"T162-HLOOKUP(X162,Feuil1!$C$1:$BL$10,5,FALSE)","v":60},{"$f":"T162-HLOOKUP(X162,Feuil1!$C$1:$BL$10,6,FALSE)","v":45},{"$f":"T162-HLOOKUP(X162,Feuil1!$C$1:$BL$10,7,FALSE)","v":30},{"$f":"T162-HLOOKUP(X162,Feuil1!$C$1:$BL$10,8,FALSE)","v":10},{"$f":"T162-HLOOKUP(X162,Feuil1!$C$1:$BL$10,9,FALSE)","v":-10},{"$f":"T162-HLOOKUP(X162,Feuil1!$C$1:$BL$10,10,FALSE)","v":-30},null,null,null,null,null,null,"INTB +"]
["F","CO","CEN",5,303229,"MAMONE","Chloé",1987,60,"AAJ Blois","F",73,76,-78,76,83,85,-87,85,161,41,"INTB +",1,{"$f":"IF(I163=\"\",\"\",IF(A163=\"H\",IF(OR(H163=\"SEN\",H163<1995),VLOOKUP(I163,Feuil1!$A$11:$F$29,6),IF(AND(H163>1994,H163<1998),VLOOKUP(I163,Feuil1!$A$11:$F$29,5),IF(AND(H163>1997,H163<2000),VLOOKUP(I163,Feuil1!$A$11:$F$29,4),IF(AND(H163>1999,H163<2002),VLOOKUP(I163,Feuil1!$A$11:$F$29,3),VLOOKUP(I163,Feuil1!$A$11:$F$29,2))))),IF(OR(H163=\"SEN\",H163<1995),VLOOKUP(I163,Feuil1!$G$11:$L$25,6),IF(AND(H163>1994,H163<1998),VLOOKUP(I163,Feuil1!$G$11:$L$25,5),IF(AND(H163>1997,H163<2000),VLOOKUP(I163,Feuil1!$G$11:$L$25,4),IF(AND(H163>1999,H163<2002),VLOOKUP(I163,Feuil1!$G$11:$L$25,3),VLOOKUP(I163,Feuil1!$G$11:$L$25,2)))))))","v":"FS63"},221.2248726293484,null," ",{"$f":"T163-HLOOKUP(X163,Feuil1!$C$1:$BL$10,2,FALSE)","v":86},{"$f":"T163-HLOOKUP(X163,Feuil1!$C$1:$BL$10,3,FALSE)","v":76},{"$f":"T163-HLOOKUP(X163,Feuil1!$C$1:$BL$10,4,FALSE)","v":66},{"$f":"T163-HLOOKUP(X163,Feuil1!$C$1:$BL$10,5,FALSE)","v":51},{"$f":"T163-HLOOKUP(X163,Feuil1!$C$1:$BL$10,6,FALSE)","v":36},{"$f":"T163-HLOOKUP(X163,Feuil1!$C$1:$BL$10,7,FALSE)","v":21},{"$f":"T163-HLOOKUP(X163,Feuil1!$C$1:$BL$10,8,FALSE)","v":1},{"$f":"T163-HLOOKUP(X163,Feuil1!$C$1:$BL$10,9,FALSE)","v":-19},{"$f":"T163-HLOOKUP(X163,Feuil1!$C$1:$BL$10,10,FALSE)","v":-39},null,null,null,null,null,null,"INTB +"]
["F","SO","MPY",6,3505,"CRETON","Sandy",1976,61,"TOULOUSE HC","F",67,70,73,73,85,-87,87,87,160,38,"INTB +",0,{"$f":"IF(I164=\"\",\"\",IF(A164=\"H\",IF(OR(H164=\"SEN\",H164<1995),VLOOKUP(I164,Feuil1!$A$11:$F$29,6),IF(AND(H164>1994,H164<1998),VLOOKUP(I164,Feuil1!$A$11:$F$29,5),IF(AND(H164>1997,H164<2000),VLOOKUP(I164,Feuil1!$A$11:$F$29,4),IF(AND(H164>1999,H164<2002),VLOOKUP(I164,Feuil1!$A$11:$F$29,3),VLOOKUP(I164,Feuil1!$A$11:$F$29,2))))),IF(OR(H164=\"SEN\",H164<1995),VLOOKUP(I164,Feuil1!$G$11:$L$25,6),IF(AND(H164>1994,H164<1998),VLOOKUP(I164,Feuil1!$G$11:$L$25,5),IF(AND(H164>1997,H164<2000),VLOOKUP(I164,Feuil1!$G$11:$L$25,4),IF(AND(H164>1999,H164<2002),VLOOKUP(I164,Feuil1!$G$11:$L$25,3),VLOOKUP(I164,Feuil1!$G$11:$L$25,2)))))))","v":"FS63"},217.33121079715693,null," ",{"$f":"T164-HLOOKUP(X164,Feuil1!$C$1:$BL$10,2,FALSE)","v":85},{"$f":"T164-HLOOKUP(X164,Feuil1!$C$1:$BL$10,3,FALSE)","v":75},{"$f":"T164-HLOOKUP(X164,Feuil1!$C$1:$BL$10,4,FALSE)","v":65},{"$f":"T164-HLOOKUP(X164,Feuil1!$C$1:$BL$10,5,FALSE)","v":50},{"$f":"T164-HLOOKUP(X164,Feuil1!$C$1:$BL$10,6,FALSE)","v":35},{"$f":"T164-HLOOKUP(X164,Feuil1!$C$1:$BL$10,7,FALSE)","v":20},{"$f":"T164-HLOOKUP(X164,Feuil1!$C$1:$BL$10,8,FALSE)","v":0},{"$f":"T164-HLOOKUP(X164,Feuil1!$C$1:$BL$10,9,FALSE)","v":-20},{"$f":"T164-HLOOKUP(X164,Feuil1!$C$1:$BL$10,10,FALSE)","v":-40},null,null,null,null,null,null,"INTB +"]
["F","SO","MPY",7,250351,"BRIDIER","Stéphanie",1985,61.9,"TOULOUSE HC","F",-69,69,72,72,83,86,88,88,160,36.200000000000003,"INTB +",0,{"$f":"IF(I165=\"\",\"\",IF(A165=\"H\",IF(OR(H165=\"SEN\",H165<1995),VLOOKUP(I165,Feuil1!$A$11:$F$29,6),IF(AND(H165>1994,H165<1998),VLOOKUP(I165,Feuil1!$A$11:$F$29,5),IF(AND(H165>1997,H165<2000),VLOOKUP(I165,Feuil1!$A$11:$F$29,4),IF(AND(H165>1999,H165<2002),VLOOKUP(I165,Feuil1!$A$11:$F$29,3),VLOOKUP(I165,Feuil1!$A$11:$F$29,2))))),IF(OR(H165=\"SEN\",H165<1995),VLOOKUP(I165,Feuil1!$G$11:$L$25,6),IF(AND(H165>1994,H165<1998),VLOOKUP(I165,Feuil1!$G$11:$L$25,5),IF(AND(H165>1997,H165<2000),VLOOKUP(I165,Feuil1!$G$11:$L$25,4),IF(AND(H165>1999,H165<2002),VLOOKUP(I165,Feuil1!$G$11:$L$25,3),VLOOKUP(I165,Feuil1!$G$11:$L$25,2)))))))","v":"FS63"},215.16106325416109,null," ",{"$f":"T165-HLOOKUP(X165,Feuil1!$C$1:$BL$10,2,FALSE)","v":85},{"$f":"T165-HLOOKUP(X165,Feuil1!$C$1:$BL$10,3,FALSE)","v":75},{"$f":"T165-HLOOKUP(X165,Feuil1!$C$1:$BL$10,4,FALSE)","v":65},{"$f":"T165-HLOOKUP(X165,Feuil1!$C$1:$BL$10,5,FALSE)","v":50},{"$f":"T165-HLOOKUP(X165,Feuil1!$C$1:$BL$10,6,FALSE)","v":35},{"$f":"T165-HLOOKUP(X165,Feuil1!$C$1:$BL$10,7,FALSE)","v":20},{"$f":"T165-HLOOKUP(X165,Feuil1!$C$1:$BL$10,8,FALSE)","v":0},{"$f":"T165-HLOOKUP(X165,Feuil1!$C$1:$BL$10,9,FALSE)","v":-20},{"$f":"T165-HLOOKUP(X165,Feuil1!$C$1:$BL$10,10,FALSE)","v":-40},null,null,null,null,null,null,"INTB +"]
["F","SO","MPY",8,264816,"LABRUNIE","Elise",1988,58.2,"TOULOUSE HC","F",60,65,70,70,75,80,85,85,155,38.599999999999994,"NAT +",15,{"$f":"IF(I166=\"\",\"\",IF(A166=\"H\",IF(OR(H166=\"SEN\",H166<1995),VLOOKUP(I166,Feuil1!$A$11:$F$29,6),IF(AND(H166>1994,H166<1998),VLOOKUP(I166,Feuil1!$A$11:$F$29,5),IF(AND(H166>1997,H166<2000),VLOOKUP(I166,Feuil1!$A$11:$F$29,4),IF(AND(H166>1999,H166<2002),VLOOKUP(I166,Feuil1!$A$11:$F$29,3),VLOOKUP(I166,Feuil1!$A$11:$F$29,2))))),IF(OR(H166=\"SEN\",H166<1995),VLOOKUP(I166,Feuil1!$G$11:$L$25,6),IF(AND(H166>1994,H166<1998),VLOOKUP(I166,Feuil1!$G$11:$L$25,5),IF(AND(H166>1997,H166<2000),VLOOKUP(I166,Feuil1!$G$11:$L$25,4),IF(AND(H166>1999,H166<2002),VLOOKUP(I166,Feuil1!$G$11:$L$25,3),VLOOKUP(I166,Feuil1!$G$11:$L$25,2)))))))","v":"FS63"},217.67405795996396,null," ",{"$f":"T166-HLOOKUP(X166,Feuil1!$C$1:$BL$10,2,FALSE)","v":80},{"$f":"T166-HLOOKUP(X166,Feuil1!$C$1:$BL$10,3,FALSE)","v":70},{"$f":"T166-HLOOKUP(X166,Feuil1!$C$1:$BL$10,4,FALSE)","v":60},{"$f":"T166-HLOOKUP(X166,Feuil1!$C$1:$BL$10,5,FALSE)","v":45},{"$f":"T166-HLOOKUP(X166,Feuil1!$C$1:$BL$10,6,FALSE)","v":30},{"$f":"T166-HLOOKUP(X166,Feuil1!$C$1:$BL$10,7,FALSE)","v":15},{"$f":"T166-HLOOKUP(X166,Feuil1!$C$1:$BL$10,8,FALSE)","v":-5},{"$f":"T166-HLOOKUP(X166,Feuil1!$C$1:$BL$10,9,FALSE)","v":-25},{"$f":"T166-HLOOKUP(X166,Feuil1!$C$1:$BL$10,10,FALSE)","v":-45},null,null,null,null,null,null,"NAT +"]
["F","CO","BNO",9,115950,"DUMARAIS","Mélissa",1992,59,"Caen CHM","F",63,66,69,69,78,81,83,83,152,34,"NAT +",12,{"$f":"IF(I167=\"\",\"\",IF(A167=\"H\",IF(OR(H167=\"SEN\",H167<1995),VLOOKUP(I167,Feuil1!$A$11:$F$29,6),IF(AND(H167>1994,H167<1998),VLOOKUP(I167,Feuil1!$A$11:$F$29,5),IF(AND(H167>1997,H167<2000),VLOOKUP(I167,Feuil1!$A$11:$F$29,4),IF(AND(H167>1999,H167<2002),VLOOKUP(I167,Feuil1!$A$11:$F$29,3),VLOOKUP(I167,Feuil1!$A$11:$F$29,2))))),IF(OR(H167=\"SEN\",H167<1995),VLOOKUP(I167,Feuil1!$G$11:$L$25,6),IF(AND(H167>1994,H167<1998),VLOOKUP(I167,Feuil1!$G$11:$L$25,5),IF(AND(H167>1997,H167<2000),VLOOKUP(I167,Feuil1!$G$11:$L$25,4),IF(AND(H167>1999,H167<2002),VLOOKUP(I167,Feuil1!$G$11:$L$25,3),VLOOKUP(I167,Feuil1!$G$11:$L$25,2)))))))","v":"FS63"},211.36670832695717,null," ",{"$f":"T167-HLOOKUP(X167,Feuil1!$C$1:$BL$10,2,FALSE)","v":77},{"$f":"T167-HLOOKUP(X167,Feuil1!$C$1:$BL$10,3,FALSE)","v":67},{"$f":"T167-HLOOKUP(X167,Feuil1!$C$1:$BL$10,4,FALSE)","v":57},{"$f":"T167-HLOOKUP(X167,Feuil1!$C$1:$BL$10,5,FALSE)","v":42},{"$f":"T167-HLOOKUP(X167,Feuil1!$C$1:$BL$10,6,FALSE)","v":27},{"$f":"T167-HLOOKUP(X167,Feuil1!$C$1:$BL$10,7,FALSE)","v":12},{"$f":"T167-HLOOKUP(X167,Feuil1!$C$1:$BL$10,8,FALSE)","v":-8},{"$f":"T167-HLOOKUP(X167,Feuil1!$C$1:$BL$10,9,FALSE)","v":-28},{"$f":"T167-HLOOKUP(X167,Feuil1!$C$1:$BL$10,10,FALSE)","v":-48},null,null,null,null,null,null,"NAT +"]
["F","SEST","CAZ",10,377635,"GABBIANI","Celia",1990,58.3,"AS MONACO","F",55,58,60,60,68,73,75,75,135,18.400000000000006,"FED +",10,{"$f":"IF(I168=\"\",\"\",IF(A168=\"H\",IF(OR(H168=\"SEN\",H168<1995),VLOOKUP(I168,Feuil1!$A$11:$F$29,6),IF(AND(H168>1994,H168<1998),VLOOKUP(I168,Feuil1!$A$11:$F$29,5),IF(AND(H168>1997,H168<2000),VLOOKUP(I168,Feuil1!$A$11:$F$29,4),IF(AND(H168>1999,H168<2002),VLOOKUP(I168,Feuil1!$A$11:$F$29,3),VLOOKUP(I168,Feuil1!$A$11:$F$29,2))))),IF(OR(H168=\"SEN\",H168<1995),VLOOKUP(I168,Feuil1!$G$11:$L$25,6),IF(AND(H168>1994,H168<1998),VLOOKUP(I168,Feuil1!$G$11:$L$25,5),IF(AND(H168>1997,H168<2000),VLOOKUP(I168,Feuil1!$G$11:$L$25,4),IF(AND(H168>1999,H168<2002),VLOOKUP(I168,Feuil1!$G$11:$L$25,3),VLOOKUP(I168,Feuil1!$G$11:$L$25,2)))))))","v":"FS63"},189.35065906722406,null," ",{"$f":"T168-HLOOKUP(X168,Feuil1!$C$1:$BL$10,2,FALSE)","v":60},{"$f":"T168-HLOOKUP(X168,Feuil1!$C$1:$BL$10,3,FALSE)","v":50},{"$f":"T168-HLOOKUP(X168,Feuil1!$C$1:$BL$10,4,FALSE)","v":40},{"$f":"T168-HLOOKUP(X168,Feuil1!$C$1:$BL$10,5,FALSE)","v":25},{"$f":"T168-HLOOKUP(X168,Feuil1!$C$1:$BL$10,6,FALSE)","v":10},{"$f":"T168-HLOOKUP(X168,Feuil1!$C$1:$BL$10,7,FALSE)","v":-5},{"$f":"T168-HLOOKUP(X168,Feuil1!$C$1:$BL$10,8,FALSE)","v":-25},{"$f":"T168-HLOOKUP(X168,Feuil1!$C$1:$BL$10,9,FALSE)","v":-45},{"$f":"T168-HLOOKUP(X168,Feuil1!$C$1:$BL$10,10,FALSE)","v":-65},null,null,null,null,null,null,"FED +"]
["F","SEST","PRO",11,112257,"CONDE","Fabienne",1985,60.2,"ISTRES SPORTS","F",53,57,59,59,73,76,-80,76,135,14.599999999999994,"FED +",10,{"$f":"IF(I169=\"\",\"\",IF(A169=\"H\",IF(OR(H169=\"SEN\",H169<1995),VLOOKUP(I169,Feuil1!$A$11:$F$29,6),IF(AND(H169>1994,H169<1998),VLOOKUP(I169,Feuil1!$A$11:$F$29,5),IF(AND(H169>1997,H169<2000),VLOOKUP(I169,Feuil1!$A$11:$F$29,4),IF(AND(H169>1999,H169<2002),VLOOKUP(I169,Feuil1!$A$11:$F$29,3),VLOOKUP(I169,Feuil1!$A$11:$F$29,2))))),IF(OR(H169=\"SEN\",H169<1995),VLOOKUP(I169,Feuil1!$G$11:$L$25,6),IF(AND(H169>1994,H169<1998),VLOOKUP(I169,Feuil1!$G$11:$L$25,5),IF(AND(H169>1997,H169<2000),VLOOKUP(I169,Feuil1!$G$11:$L$25,4),IF(AND(H169>1999,H169<2002),VLOOKUP(I169,Feuil1!$G$11:$L$25,3),VLOOKUP(I169,Feuil1!$G$11:$L$25,2)))))))","v":"FS63"},185.06597422680693,null," ",{"$f":"T169-HLOOKUP(X169,Feuil1!$C$1:$BL$10,2,FALSE)","v":60},{"$f":"T169-HLOOKUP(X169,Feuil1!$C$1:$BL$10,3,FALSE)","v":50},{"$f":"T169-HLOOKUP(X169,Feuil1!$C$1:$BL$10,4,FALSE)","v":40},{"$f":"T169-HLOOKUP(X169,Feuil1!$C$1:$BL$10,5,FALSE)","v":25},{"$f":"T169-HLOOKUP(X169,Feuil1!$C$1:$BL$10,6,FALSE)","v":10},{"$f":"T169-HLOOKUP(X169,Feuil1!$C$1:$BL$10,7,FALSE)","v":-5},{"$f":"T169-HLOOKUP(X169,Feuil1!$C$1:$BL$10,8,FALSE)","v":-25},{"$f":"T169-HLOOKUP(X169,Feuil1!$C$1:$BL$10,9,FALSE)","v":-45},{"$f":"T169-HLOOKUP(X169,Feuil1!$C$1:$BL$10,10,FALSE)","v":-65},null,null,null,null,null,null,"FED +"]
["F","N","PIC",12,174473,"DE COSTER","Sarah",1986,58.1,"La Ferté Milon CMHM","Belge",50,54,57,57,68,72,75,75,132,15.799999999999997,"FED +",7,{"$f":"IF(I170=\"\",\"\",IF(A170=\"H\",IF(OR(H170=\"SEN\",H170<1995),VLOOKUP(I170,Feuil1!$A$11:$F$29,6),IF(AND(H170>1994,H170<1998),VLOOKUP(I170,Feuil1!$A$11:$F$29,5),IF(AND(H170>1997,H170<2000),VLOOKUP(I170,Feuil1!$A$11:$F$29,4),IF(AND(H170>1999,H170<2002),VLOOKUP(I170,Feuil1!$A$11:$F$29,3),VLOOKUP(I170,Feuil1!$A$11:$F$29,2))))),IF(OR(H170=\"SEN\",H170<1995),VLOOKUP(I170,Feuil1!$G$11:$L$25,6),IF(AND(H170>1994,H170<1998),VLOOKUP(I170,Feuil1!$G$11:$L$25,5),IF(AND(H170>1997,H170<2000),VLOOKUP(I170,Feuil1!$G$11:$L$25,4),IF(AND(H170>1999,H170<2002),VLOOKUP(I170,Feuil1!$G$11:$L$25,3),VLOOKUP(I170,Feuil1!$G$11:$L$25,2)))))))","v":"FS63"},185.60632061226943,null," ",{"$f":"T170-HLOOKUP(X170,Feuil1!$C$1:$BL$10,2,FALSE)","v":57},{"$f":"T170-HLOOKUP(X170,Feuil1!$C$1:$BL$10,3,FALSE)","v":47},{"$f":"T170-HLOOKUP(X170,Feuil1!$C$1:$BL$10,4,FALSE)","v":37},{"$f":"T170-HLOOKUP(X170,Feuil1!$C$1:$BL$10,5,FALSE)","v":22},{"$f":"T170-HLOOKUP(X170,Feuil1!$C$1:$BL$10,6,FALSE)","v":7},{"$f":"T170-HLOOKUP(X170,Feuil1!$C$1:$BL$10,7,FALSE)","v":-8},{"$f":"T170-HLOOKUP(X170,Feuil1!$C$1:$BL$10,8,FALSE)","v":-28},{"$f":"T170-HLOOKUP(X170,Feuil1!$C$1:$BL$10,9,FALSE)","v":-48},{"$f":"T170-HLOOKUP(X170,Feuil1!$C$1:$BL$10,10,FALSE)","v":-68},null,null,null,null,null,null,"FED +"]
["F","NE","BOU",13,34097,"EYANGO","Delphine",1986,58.3,"HMDB21","F",55,58,60,60,65,70,72,72,132,15.400000000000006,"FED +",7,{"$f":"IF(I171=\"\",\"\",IF(A171=\"H\",IF(OR(H171=\"SEN\",H171<1995),VLOOKUP(I171,Feuil1!$A$11:$F$29,6),IF(AND(H171>1994,H171<1998),VLOOKUP(I171,Feuil1!$A$11:$F$29,5),IF(AND(H171>1997,H171<2000),VLOOKUP(I171,Feuil1!$A$11:$F$29,4),IF(AND(H171>1999,H171<2002),VLOOKUP(I171,Feuil1!$A$11:$F$29,3),VLOOKUP(I171,Feuil1!$A$11:$F$29,2))))),IF(OR(H171=\"SEN\",H171<1995),VLOOKUP(I171,Feuil1!$G$11:$L$25,6),IF(AND(H171>1994,H171<1998),VLOOKUP(I171,Feuil1!$G$11:$L$25,5),IF(AND(H171>1997,H171<2000),VLOOKUP(I171,Feuil1!$G$11:$L$25,4),IF(AND(H171>1999,H171<2002),VLOOKUP(I171,Feuil1!$G$11:$L$25,3),VLOOKUP(I171,Feuil1!$G$11:$L$25,2)))))))","v":"FS63"},185.14286664350797,null," ",{"$f":"T171-HLOOKUP(X171,Feuil1!$C$1:$BL$10,2,FALSE)","v":57},{"$f":"T171-HLOOKUP(X171,Feuil1!$C$1:$BL$10,3,FALSE)","v":47},{"$f":"T171-HLOOKUP(X171,Feuil1!$C$1:$BL$10,4,FALSE)","v":37},{"$f":"T171-HLOOKUP(X171,Feuil1!$C$1:$BL$10,5,FALSE)","v":22},{"$f":"T171-HLOOKUP(X171,Feuil1!$C$1:$BL$10,6,FALSE)","v":7},{"$f":"T171-HLOOKUP(X171,Feuil1!$C$1:$BL$10,7,FALSE)","v":-8},{"$f":"T171-HLOOKUP(X171,Feuil1!$C$1:$BL$10,8,FALSE)","v":-28},{"$f":"T171-HLOOKUP(X171,Feuil1!$C$1:$BL$10,9,FALSE)","v":-48},{"$f":"T171-HLOOKUP(X171,Feuil1!$C$1:$BL$10,10,FALSE)","v":-68},null,null,null,null,null,null,"FED +"]
["F","SEST","CAZ",14,196091,"SOULET","Frederique",1986,60.5," ASLDD TOULON","F",53,56,59,59,73,-75,-75,73,132,11,"FED +",7,{"$f":"IF(I172=\"\",\"\",IF(A172=\"H\",IF(OR(H172=\"SEN\",H172<1995),VLOOKUP(I172,Feuil1!$A$11:$F$29,6),IF(AND(H172>1994,H172<1998),VLOOKUP(I172,Feuil1!$A$11:$F$29,5),IF(AND(H172>1997,H172<2000),VLOOKUP(I172,Feuil1!$A$11:$F$29,4),IF(AND(H172>1999,H172<2002),VLOOKUP(I172,Feuil1!$A$11:$F$29,3),VLOOKUP(I172,Feuil1!$A$11:$F$29,2))))),IF(OR(H172=\"SEN\",H172<1995),VLOOKUP(I172,Feuil1!$G$11:$L$25,6),IF(AND(H172>1994,H172<1998),VLOOKUP(I172,Feuil1!$G$11:$L$25,5),IF(AND(H172>1997,H172<2000),VLOOKUP(I172,Feuil1!$G$11:$L$25,4),IF(AND(H172>1999,H172<2002),VLOOKUP(I172,Feuil1!$G$11:$L$25,3),VLOOKUP(I172,Feuil1!$G$11:$L$25,2)))))))","v":"FS63"},180.32549219458545,null," ",{"$f":"T172-HLOOKUP(X172,Feuil1!$C$1:$BL$10,2,FALSE)","v":57},{"$f":"T172-HLOOKUP(X172,Feuil1!$C$1:$BL$10,3,FALSE)","v":47},{"$f":"T172-HLOOKUP(X172,Feuil1!$C$1:$BL$10,4,FALSE)","v":37},{"$f":"T172-HLOOKUP(X172,Feuil1!$C$1:$BL$10,5,FALSE)","v":22},{"$f":"T172-HLOOKUP(X172,Feuil1!$C$1:$BL$10,6,FALSE)","v":7},{"$f":"T172-HLOOKUP(X172,Feuil1!$C$1:$BL$10,7,FALSE)","v":-8},{"$f":"T172-HLOOKUP(X172,Feuil1!$C$1:$BL$10,8,FALSE)","v":-28},{"$f":"T172-HLOOKUP(X172,Feuil1!$C$1:$BL$10,9,FALSE)","v":-48},{"$f":"T172-HLOOKUP(X172,Feuil1!$C$1:$BL$10,10,FALSE)","v":-68},null,null,null,null,null,null,"FED +"]
["F","NE","ALS",15,324052,"PREDY","Anaîs",1992,61.7,"SHC Haguenau","F",50,-53,55,55,65,68,70,70,125,1.5999999999999943,"FED +",0,{"$f":"IF(I173=\"\",\"\",IF(A173=\"H\",IF(OR(H173=\"SEN\",H173<1995),VLOOKUP(I173,Feuil1!$A$11:$F$29,6),IF(AND(H173>1994,H173<1998),VLOOKUP(I173,Feuil1!$A$11:$F$29,5),IF(AND(H173>1997,H173<2000),VLOOKUP(I173,Feuil1!$A$11:$F$29,4),IF(AND(H173>1999,H173<2002),VLOOKUP(I173,Feuil1!$A$11:$F$29,3),VLOOKUP(I173,Feuil1!$A$11:$F$29,2))))),IF(OR(H173=\"SEN\",H173<1995),VLOOKUP(I173,Feuil1!$G$11:$L$25,6),IF(AND(H173>1994,H173<1998),VLOOKUP(I173,Feuil1!$G$11:$L$25,5),IF(AND(H173>1997,H173<2000),VLOOKUP(I173,Feuil1!$G$11:$L$25,4),IF(AND(H173>1999,H173<2002),VLOOKUP(I173,Feuil1!$G$11:$L$25,3),VLOOKUP(I173,Feuil1!$G$11:$L$25,2)))))))","v":"FS63"},168.4653151253537,null," ",{"$f":"T173-HLOOKUP(X173,Feuil1!$C$1:$BL$10,2,FALSE)","v":50},{"$f":"T173-HLOOKUP(X173,Feuil1!$C$1:$BL$10,3,FALSE)","v":40},{"$f":"T173-HLOOKUP(X173,Feuil1!$C$1:$BL$10,4,FALSE)","v":30},{"$f":"T173-HLOOKUP(X173,Feuil1!$C$1:$BL$10,5,FALSE)","v":15},{"$f":"T173-HLOOKUP(X173,Feuil1!$C$1:$BL$10,6,FALSE)","v":0},{"$f":"T173-HLOOKUP(X173,Feuil1!$C$1:$BL$10,7,FALSE)","v":-15},{"$f":"T173-HLOOKUP(X173,Feuil1!$C$1:$BL$10,8,FALSE)","v":-35},{"$f":"T173-HLOOKUP(X173,Feuil1!$C$1:$BL$10,9,FALSE)","v":-55},{"$f":"T173-HLOOKUP(X173,Feuil1!$C$1:$BL$10,10,FALSE)","v":-75},null,null,null,null,null,null,"FED +"]
["F","SEST","RAL",16,264923,"FROMENTIN","Mélanie",1981,60.6,"SAINT BALDOPH","F",52,55,-57,55,64,69,-73,69,124,2.7999999999999972,"IRG +",14,{"$f":"IF(I174=\"\",\"\",IF(A174=\"H\",IF(OR(H174=\"SEN\",H174<1995),VLOOKUP(I174,Feuil1!$A$11:$F$29,6),IF(AND(H174>1994,H174<1998),VLOOKUP(I174,Feuil1!$A$11:$F$29,5),IF(AND(H174>1997,H174<2000),VLOOKUP(I174,Feuil1!$A$11:$F$29,4),IF(AND(H174>1999,H174<2002),VLOOKUP(I174,Feuil1!$A$11:$F$29,3),VLOOKUP(I174,Feuil1!$A$11:$F$29,2))))),IF(OR(H174=\"SEN\",H174<1995),VLOOKUP(I174,Feuil1!$G$11:$L$25,6),IF(AND(H174>1994,H174<1998),VLOOKUP(I174,Feuil1!$G$11:$L$25,5),IF(AND(H174>1997,H174<2000),VLOOKUP(I174,Feuil1!$G$11:$L$25,4),IF(AND(H174>1999,H174<2002),VLOOKUP(I174,Feuil1!$G$11:$L$25,3),VLOOKUP(I174,Feuil1!$G$11:$L$25,2)))))))","v":"FS63"},169.20188206457277,null," ",{"$f":"T174-HLOOKUP(X174,Feuil1!$C$1:$BL$10,2,FALSE)","v":49},{"$f":"T174-HLOOKUP(X174,Feuil1!$C$1:$BL$10,3,FALSE)","v":39},{"$f":"T174-HLOOKUP(X174,Feuil1!$C$1:$BL$10,4,FALSE)","v":29},{"$f":"T174-HLOOKUP(X174,Feuil1!$C$1:$BL$10,5,FALSE)","v":14},{"$f":"T174-HLOOKUP(X174,Feuil1!$C$1:$BL$10,6,FALSE)","v":-1},{"$f":"T174-HLOOKUP(X174,Feuil1!$C$1:$BL$10,7,FALSE)","v":-16},{"$f":"T174-HLOOKUP(X174,Feuil1!$C$1:$BL$10,8,FALSE)","v":-36},{"$f":"T174-HLOOKUP(X174,Feuil1!$C$1:$BL$10,9,FALSE)","v":-56},{"$f":"T174-HLOOKUP(X174,Feuil1!$C$1:$BL$10,10,FALSE)","v":-76},null,null,null,null,null,null,"IRG +"]
["F","N","IDF",17,382101,"GRZESIAK","LAETITIA",1988,60,"NEUILLY","F",45,48,50,50,65,70,72,72,122,2,"IRG +",12,{"$f":"IF(I175=\"\",\"\",IF(A175=\"H\",IF(OR(H175=\"SEN\",H175<1995),VLOOKUP(I175,Feuil1!$A$11:$F$29,6),IF(AND(H175>1994,H175<1998),VLOOKUP(I175,Feuil1!$A$11:$F$29,5),IF(AND(H175>1997,H175<2000),VLOOKUP(I175,Feuil1!$A$11:$F$29,4),IF(AND(H175>1999,H175<2002),VLOOKUP(I175,Feuil1!$A$11:$F$29,3),VLOOKUP(I175,Feuil1!$A$11:$F$29,2))))),IF(OR(H175=\"SEN\",H175<1995),VLOOKUP(I175,Feuil1!$G$11:$L$25,6),IF(AND(H175>1994,H175<1998),VLOOKUP(I175,Feuil1!$G$11:$L$25,5),IF(AND(H175>1997,H175<2000),VLOOKUP(I175,Feuil1!$G$11:$L$25,4),IF(AND(H175>1999,H175<2002),VLOOKUP(I175,Feuil1!$G$11:$L$25,3),VLOOKUP(I175,Feuil1!$G$11:$L$25,2)))))))","v":"FS63"},167.63623888683543,null," ",{"$f":"T175-HLOOKUP(X175,Feuil1!$C$1:$BL$10,2,FALSE)","v":47},{"$f":"T175-HLOOKUP(X175,Feuil1!$C$1:$BL$10,3,FALSE)","v":37},{"$f":"T175-HLOOKUP(X175,Feuil1!$C$1:$BL$10,4,FALSE)","v":27},{"$f":"T175-HLOOKUP(X175,Feuil1!$C$1:$BL$10,5,FALSE)","v":12},{"$f":"T175-HLOOKUP(X175,Feuil1!$C$1:$BL$10,6,FALSE)","v":-3},{"$f":"T175-HLOOKUP(X175,Feuil1!$C$1:$BL$10,7,FALSE)","v":-18},{"$f":"T175-HLOOKUP(X175,Feuil1!$C$1:$BL$10,8,FALSE)","v":-38},{"$f":"T175-HLOOKUP(X175,Feuil1!$C$1:$BL$10,9,FALSE)","v":-58},{"$f":"T175-HLOOKUP(X175,Feuil1!$C$1:$BL$10,10,FALSE)","v":-78},null,null,null,null,null,null,"IRG +"]
["F","SEST","CAZ",18,332675,"RADEAU","Celine",1983,62.05,"AS MONACO","F",-50,50,-53,50,67,71,-73,71,121,-3.0999999999999943,"IRG +",11,{"$f":"IF(I176=\"\",\"\",IF(A176=\"H\",IF(OR(H176=\"SEN\",H176<1995),VLOOKUP(I176,Feuil1!$A$11:$F$29,6),IF(AND(H176>1994,H176<1998),VLOOKUP(I176,Feuil1!$A$11:$F$29,5),IF(AND(H176>1997,H176<2000),VLOOKUP(I176,Feuil1!$A$11:$F$29,4),IF(AND(H176>1999,H176<2002),VLOOKUP(I176,Feuil1!$A$11:$F$29,3),VLOOKUP(I176,Feuil1!$A$11:$F$29,2))))),IF(OR(H176=\"SEN\",H176<1995),VLOOKUP(I176,Feuil1!$G$11:$L$25,6),IF(AND(H176>1994,H176<1998),VLOOKUP(I176,Feuil1!$G$11:$L$25,5),IF(AND(H176>1997,H176<2000),VLOOKUP(I176,Feuil1!$G$11:$L$25,4),IF(AND(H176>1999,H176<2002),VLOOKUP(I176,Feuil1!$G$11:$L$25,3),VLOOKUP(I176,Feuil1!$G$11:$L$25,2)))))))","v":"FS63"},162.44854392254831,null," ",{"$f":"T176-HLOOKUP(X176,Feuil1!$C$1:$BL$10,2,FALSE)","v":46},{"$f":"T176-HLOOKUP(X176,Feuil1!$C$1:$BL$10,3,FALSE)","v":36},{"$f":"T176-HLOOKUP(X176,Feuil1!$C$1:$BL$10,4,FALSE)","v":26},{"$f":"T176-HLOOKUP(X176,Feuil1!$C$1:$BL$10,5,FALSE)","v":11},{"$f":"T176-HLOOKUP(X176,Feuil1!$C$1:$BL$10,6,FALSE)","v":-4},{"$f":"T176-HLOOKUP(X176,Feuil1!$C$1:$BL$10,7,FALSE)","v":-19},{"$f":"T176-HLOOKUP(X176,Feuil1!$C$1:$BL$10,8,FALSE)","v":-39},{"$f":"T176-HLOOKUP(X176,Feuil1!$C$1:$BL$10,9,FALSE)","v":-59},{"$f":"T176-HLOOKUP(X176,Feuil1!$C$1:$BL$10,10,FALSE)","v":-79},null,null,null,null,null,null,"IRG +"]
["F","DOM","REU",19,250371,"OULOUMENI","AURELIA",1993,59.57,"CSPJ St Denis","F",45,50,55,55,55,60,65,65,120,0.85999999999999943,"IRG +",10,{"$f":"IF(I177=\"\",\"\",IF(A177=\"H\",IF(OR(H177=\"SEN\",H177<1995),VLOOKUP(I177,Feuil1!$A$11:$F$29,6),IF(AND(H177>1994,H177<1998),VLOOKUP(I177,Feuil1!$A$11:$F$29,5),IF(AND(H177>1997,H177<2000),VLOOKUP(I177,Feuil1!$A$11:$F$29,4),IF(AND(H177>1999,H177<2002),VLOOKUP(I177,Feuil1!$A$11:$F$29,3),VLOOKUP(I177,Feuil1!$A$11:$F$29,2))))),IF(OR(H177=\"SEN\",H177<1995),VLOOKUP(I177,Feuil1!$G$11:$L$25,6),IF(AND(H177>1994,H177<1998),VLOOKUP(I177,Feuil1!$G$11:$L$25,5),IF(AND(H177>1997,H177<2000),VLOOKUP(I177,Feuil1!$G$11:$L$25,4),IF(AND(H177>1999,H177<2002),VLOOKUP(I177,Feuil1!$G$11:$L$25,3),VLOOKUP(I177,Feuil1!$G$11:$L$25,2)))))))","v":"FS63"},165.72821955197881,null," ",{"$f":"T177-HLOOKUP(X177,Feuil1!$C$1:$BL$10,2,FALSE)","v":45},{"$f":"T177-HLOOKUP(X177,Feuil1!$C$1:$BL$10,3,FALSE)","v":35},{"$f":"T177-HLOOKUP(X177,Feuil1!$C$1:$BL$10,4,FALSE)","v":25},{"$f":"T177-HLOOKUP(X177,Feuil1!$C$1:$BL$10,5,FALSE)","v":10},{"$f":"T177-HLOOKUP(X177,Feuil1!$C$1:$BL$10,6,FALSE)","v":-5},{"$f":"T177-HLOOKUP(X177,Feuil1!$C$1:$BL$10,7,FALSE)","v":-20},{"$f":"T177-HLOOKUP(X177,Feuil1!$C$1:$BL$10,8,FALSE)","v":-40},{"$f":"T177-HLOOKUP(X177,Feuil1!$C$1:$BL$10,9,FALSE)","v":-60},{"$f":"T177-HLOOKUP(X177,Feuil1!$C$1:$BL$10,10,FALSE)","v":-80},null,null,null,null,null,null,"IRG +"]
["F","NE","FCO",20,1149,"DARQUE","Gabrielle",1989,60,"CH Luxeuil","F",43,50,55,55,55,60,65,65,120,0,"IRG +",10,{"$f":"IF(I178=\"\",\"\",IF(A178=\"H\",IF(OR(H178=\"SEN\",H178<1995),VLOOKUP(I178,Feuil1!$A$11:$F$29,6),IF(AND(H178>1994,H178<1998),VLOOKUP(I178,Feuil1!$A$11:$F$29,5),IF(AND(H178>1997,H178<2000),VLOOKUP(I178,Feuil1!$A$11:$F$29,4),IF(AND(H178>1999,H178<2002),VLOOKUP(I178,Feuil1!$A$11:$F$29,3),VLOOKUP(I178,Feuil1!$A$11:$F$29,2))))),IF(OR(H178=\"SEN\",H178<1995),VLOOKUP(I178,Feuil1!$G$11:$L$25,6),IF(AND(H178>1994,H178<1998),VLOOKUP(I178,Feuil1!$G$11:$L$25,5),IF(AND(H178>1997,H178<2000),VLOOKUP(I178,Feuil1!$G$11:$L$25,4),IF(AND(H178>1999,H178<2002),VLOOKUP(I178,Feuil1!$G$11:$L$25,3),VLOOKUP(I178,Feuil1!$G$11:$L$25,2)))))))","v":"FS63"},164.88810382311681,null," ",{"$f":"T178-HLOOKUP(X178,Feuil1!$C$1:$BL$10,2,FALSE)","v":45},{"$f":"T178-HLOOKUP(X178,Feuil1!$C$1:$BL$10,3,FALSE)","v":35},{"$f":"T178-HLOOKUP(X178,Feuil1!$C$1:$BL$10,4,FALSE)","v":25},{"$f":"T178-HLOOKUP(X178,Feuil1!$C$1:$BL$10,5,FALSE)","v":10},{"$f":"T178-HLOOKUP(X178,Feuil1!$C$1:$BL$10,6,FALSE)","v":-5},{"$f":"T178-HLOOKUP(X178,Feuil1!$C$1:$BL$10,7,FALSE)","v":-20},{"$f":"T178-HLOOKUP(X178,Feuil1!$C$1:$BL$10,8,FALSE)","v":-40},{"$f":"T178-HLOOKUP(X178,Feuil1!$C$1:$BL$10,9,FALSE)","v":-60},{"$f":"T178-HLOOKUP(X178,Feuil1!$C$1:$BL$10,10,FALSE)","v":-80},null,null,null,null,null,null,"IRG +"]
["F","NE","FCO",21,113366,"COUSIN ","Emilie",1984,59.5,"CH Luxeuil","F",48,51,53,53,60,63,65,65,118,-1,"IRG +",8,{"$f":"IF(I179=\"\",\"\",IF(A179=\"H\",IF(OR(H179=\"SEN\",H179<1995),VLOOKUP(I179,Feuil1!$A$11:$F$29,6),IF(AND(H179>1994,H179<1998),VLOOKUP(I179,Feuil1!$A$11:$F$29,5),IF(AND(H179>1997,H179<2000),VLOOKUP(I179,Feuil1!$A$11:$F$29,4),IF(AND(H179>1999,H179<2002),VLOOKUP(I179,Feuil1!$A$11:$F$29,3),VLOOKUP(I179,Feuil1!$A$11:$F$29,2))))),IF(OR(H179=\"SEN\",H179<1995),VLOOKUP(I179,Feuil1!$G$11:$L$25,6),IF(AND(H179>1994,H179<1998),VLOOKUP(I179,Feuil1!$G$11:$L$25,5),IF(AND(H179>1997,H179<2000),VLOOKUP(I179,Feuil1!$G$11:$L$25,4),IF(AND(H179>1999,H179<2002),VLOOKUP(I179,Feuil1!$G$11:$L$25,3),VLOOKUP(I179,Feuil1!$G$11:$L$25,2)))))))","v":"FS63"},163.10215542104726,null," ",{"$f":"T179-HLOOKUP(X179,Feuil1!$C$1:$BL$10,2,FALSE)","v":43},{"$f":"T179-HLOOKUP(X179,Feuil1!$C$1:$BL$10,3,FALSE)","v":33},{"$f":"T179-HLOOKUP(X179,Feuil1!$C$1:$BL$10,4,FALSE)","v":23},{"$f":"T179-HLOOKUP(X179,Feuil1!$C$1:$BL$10,5,FALSE)","v":8},{"$f":"T179-HLOOKUP(X179,Feuil1!$C$1:$BL$10,6,FALSE)","v":-7},{"$f":"T179-HLOOKUP(X179,Feuil1!$C$1:$BL$10,7,FALSE)","v":-22},{"$f":"T179-HLOOKUP(X179,Feuil1!$C$1:$BL$10,8,FALSE)","v":-42},{"$f":"T179-HLOOKUP(X179,Feuil1!$C$1:$BL$10,9,FALSE)","v":-62},{"$f":"T179-HLOOKUP(X179,Feuil1!$C$1:$BL$10,10,FALSE)","v":-82},null,null,null,null,null,null,"IRG +"]
["F","SEST","RAL",22,142132,"BAILLET ","Nathalie",1994,58.4,"SAINT BALDOPH","F",47,50,-52,50,60,63,65,65,115,-1.7999999999999972,"IRG +",5,{"$f":"IF(I180=\"\",\"\",IF(A180=\"H\",IF(OR(H180=\"SEN\",H180<1995),VLOOKUP(I180,Feuil1!$A$11:$F$29,6),IF(AND(H180>1994,H180<1998),VLOOKUP(I180,Feuil1!$A$11:$F$29,5),IF(AND(H180>1997,H180<2000),VLOOKUP(I180,Feuil1!$A$11:$F$29,4),IF(AND(H180>1999,H180<2002),VLOOKUP(I180,Feuil1!$A$11:$F$29,3),VLOOKUP(I180,Feuil1!$A$11:$F$29,2))))),IF(OR(H180=\"SEN\",H180<1995),VLOOKUP(I180,Feuil1!$G$11:$L$25,6),IF(AND(H180>1994,H180<1998),VLOOKUP(I180,Feuil1!$G$11:$L$25,5),IF(AND(H180>1997,H180<2000),VLOOKUP(I180,Feuil1!$G$11:$L$25,4),IF(AND(H180>1999,H180<2002),VLOOKUP(I180,Feuil1!$G$11:$L$25,3),VLOOKUP(I180,Feuil1!$G$11:$L$25,2)))))))","v":"FS63"},161.09827637019296,null," ",{"$f":"T180-HLOOKUP(X180,Feuil1!$C$1:$BL$10,2,FALSE)","v":40},{"$f":"T180-HLOOKUP(X180,Feuil1!$C$1:$BL$10,3,FALSE)","v":30},{"$f":"T180-HLOOKUP(X180,Feuil1!$C$1:$BL$10,4,FALSE)","v":20},{"$f":"T180-HLOOKUP(X180,Feuil1!$C$1:$BL$10,5,FALSE)","v":5},{"$f":"T180-HLOOKUP(X180,Feuil1!$C$1:$BL$10,6,FALSE)","v":-10},{"$f":"T180-HLOOKUP(X180,Feuil1!$C$1:$BL$10,7,FALSE)","v":-25},{"$f":"T180-HLOOKUP(X180,Feuil1!$C$1:$BL$10,8,FALSE)","v":-45},{"$f":"T180-HLOOKUP(X180,Feuil1!$C$1:$BL$10,9,FALSE)","v":-65},{"$f":"T180-HLOOKUP(X180,Feuil1!$C$1:$BL$10,10,FALSE)","v":-85},null,null,null,null,null,null,"IRG +"]
["F","SEST","RAL",23,377721,"BERLAND","Justine",1987,59.9,"CH Arbresle","F",45,48,50,50,60,63,65,65,115,-4.7999999999999972,"IRG +",5,{"$f":"IF(I181=\"\",\"\",IF(A181=\"H\",IF(OR(H181=\"SEN\",H181<1995),VLOOKUP(I181,Feuil1!$A$11:$F$29,6),IF(AND(H181>1994,H181<1998),VLOOKUP(I181,Feuil1!$A$11:$F$29,5),IF(AND(H181>1997,H181<2000),VLOOKUP(I181,Feuil1!$A$11:$F$29,4),IF(AND(H181>1999,H181<2002),VLOOKUP(I181,Feuil1!$A$11:$F$29,3),VLOOKUP(I181,Feuil1!$A$11:$F$29,2))))),IF(OR(H181=\"SEN\",H181<1995),VLOOKUP(I181,Feuil1!$G$11:$L$25,6),IF(AND(H181>1994,H181<1998),VLOOKUP(I181,Feuil1!$G$11:$L$25,5),IF(AND(H181>1997,H181<2000),VLOOKUP(I181,Feuil1!$G$11:$L$25,4),IF(AND(H181>1999,H181<2002),VLOOKUP(I181,Feuil1!$G$11:$L$25,3),VLOOKUP(I181,Feuil1!$G$11:$L$25,2)))))))","v":"FS63"},158.2035528180362,null," ",{"$f":"T181-HLOOKUP(X181,Feuil1!$C$1:$BL$10,2,FALSE)","v":40},{"$f":"T181-HLOOKUP(X181,Feuil1!$C$1:$BL$10,3,FALSE)","v":30},{"$f":"T181-HLOOKUP(X181,Feuil1!$C$1:$BL$10,4,FALSE)","v":20},{"$f":"T181-HLOOKUP(X181,Feuil1!$C$1:$BL$10,5,FALSE)","v":5},{"$f":"T181-HLOOKUP(X181,Feuil1!$C$1:$BL$10,6,FALSE)","v":-10},{"$f":"T181-HLOOKUP(X181,Feuil1!$C$1:$BL$10,7,FALSE)","v":-25},{"$f":"T181-HLOOKUP(X181,Feuil1!$C$1:$BL$10,8,FALSE)","v":-45},{"$f":"T181-HLOOKUP(X181,Feuil1!$C$1:$BL$10,9,FALSE)","v":-65},{"$f":"T181-HLOOKUP(X181,Feuil1!$C$1:$BL$10,10,FALSE)","v":-85},null,null,null,null,null,null,"IRG +"]
["F","SEST","RAL",24,333138,"SCHIPPER","Claudia",1993,61.6,"BOURG DE PEAGE","F",45,48,54,54,56,59,61,61,115,-8.2000000000000028,"IRG +",5,{"$f":"IF(I182=\"\",\"\",IF(A182=\"H\",IF(OR(H182=\"SEN\",H182<1995),VLOOKUP(I182,Feuil1!$A$11:$F$29,6),IF(AND(H182>1994,H182<1998),VLOOKUP(I182,Feuil1!$A$11:$F$29,5),IF(AND(H182>1997,H182<2000),VLOOKUP(I182,Feuil1!$A$11:$F$29,4),IF(AND(H182>1999,H182<2002),VLOOKUP(I182,Feuil1!$A$11:$F$29,3),VLOOKUP(I182,Feuil1!$A$11:$F$29,2))))),IF(OR(H182=\"SEN\",H182<1995),VLOOKUP(I182,Feuil1!$G$11:$L$25,6),IF(AND(H182>1994,H182<1998),VLOOKUP(I182,Feuil1!$G$11:$L$25,5),IF(AND(H182>1997,H182<2000),VLOOKUP(I182,Feuil1!$G$11:$L$25,4),IF(AND(H182>1999,H182<2002),VLOOKUP(I182,Feuil1!$G$11:$L$25,3),VLOOKUP(I182,Feuil1!$G$11:$L$25,2)))))))","v":"FS63"},155.15980196028954,null," ",{"$f":"T182-HLOOKUP(X182,Feuil1!$C$1:$BL$10,2,FALSE)","v":40},{"$f":"T182-HLOOKUP(X182,Feuil1!$C$1:$BL$10,3,FALSE)","v":30},{"$f":"T182-HLOOKUP(X182,Feuil1!$C$1:$BL$10,4,FALSE)","v":20},{"$f":"T182-HLOOKUP(X182,Feuil1!$C$1:$BL$10,5,FALSE)","v":5},{"$f":"T182-HLOOKUP(X182,Feuil1!$C$1:$BL$10,6,FALSE)","v":-10},{"$f":"T182-HLOOKUP(X182,Feuil1!$C$1:$BL$10,7,FALSE)","v":-25},{"$f":"T182-HLOOKUP(X182,Feuil1!$C$1:$BL$10,8,FALSE)","v":-45},{"$f":"T182-HLOOKUP(X182,Feuil1!$C$1:$BL$10,9,FALSE)","v":-65},{"$f":"T182-HLOOKUP(X182,Feuil1!$C$1:$BL$10,10,FALSE)","v":-85},null,null,null,null,null,null,"IRG +"]
["F","NE","BOU",25,339428,"BONNET ","Aline",1986,62,"HMDB21","F",48,-51,51,51,58,61,64,64,115,-9,"IRG +",5,{"$f":"IF(I183=\"\",\"\",IF(A183=\"H\",IF(OR(H183=\"SEN\",H183<1995),VLOOKUP(I183,Feuil1!$A$11:$F$29,6),IF(AND(H183>1994,H183<1998),VLOOKUP(I183,Feuil1!$A$11:$F$29,5),IF(AND(H183>1997,H183<2000),VLOOKUP(I183,Feuil1!$A$11:$F$29,4),IF(AND(H183>1999,H183<2002),VLOOKUP(I183,Feuil1!$A$11:$F$29,3),VLOOKUP(I183,Feuil1!$A$11:$F$29,2))))),IF(OR(H183=\"SEN\",H183<1995),VLOOKUP(I183,Feuil1!$G$11:$L$25,6),IF(AND(H183>1994,H183<1998),VLOOKUP(I183,Feuil1!$G$11:$L$25,5),IF(AND(H183>1997,H183<2000),VLOOKUP(I183,Feuil1!$G$11:$L$25,4),IF(AND(H183>1999,H183<2002),VLOOKUP(I183,Feuil1!$G$11:$L$25,3),VLOOKUP(I183,Feuil1!$G$11:$L$25,2)))))))","v":"FS63"},154.4776413784212,null," ",{"$f":"T183-HLOOKUP(X183,Feuil1!$C$1:$BL$10,2,FALSE)","v":40},{"$f":"T183-HLOOKUP(X183,Feuil1!$C$1:$BL$10,3,FALSE)","v":30},{"$f":"T183-HLOOKUP(X183,Feuil1!$C$1:$BL$10,4,FALSE)","v":20},{"$f":"T183-HLOOKUP(X183,Feuil1!$C$1:$BL$10,5,FALSE)","v":5},{"$f":"T183-HLOOKUP(X183,Feuil1!$C$1:$BL$10,6,FALSE)","v":-10},{"$f":"T183-HLOOKUP(X183,Feuil1!$C$1:$BL$10,7,FALSE)","v":-25},{"$f":"T183-HLOOKUP(X183,Feuil1!$C$1:$BL$10,8,FALSE)","v":-45},{"$f":"T183-HLOOKUP(X183,Feuil1!$C$1:$BL$10,9,FALSE)","v":-65},{"$f":"T183-HLOOKUP(X183,Feuil1!$C$1:$BL$10,10,FALSE)","v":-85},null,null,null,null,null,null,"IRG +"]
["F","N","IDF",26,383141,"FOSSE","AMELIE",1989,59.3,"US METRO","F",45,-49,49,49,65,-70,-70,65,114,-4.5999999999999943,"IRG +",4,{"$f":"IF(I184=\"\",\"\",IF(A184=\"H\",IF(OR(H184=\"SEN\",H184<1995),VLOOKUP(I184,Feuil1!$A$11:$F$29,6),IF(AND(H184>1994,H184<1998),VLOOKUP(I184,Feuil1!$A$11:$F$29,5),IF(AND(H184>1997,H184<2000),VLOOKUP(I184,Feuil1!$A$11:$F$29,4),IF(AND(H184>1999,H184<2002),VLOOKUP(I184,Feuil1!$A$11:$F$29,3),VLOOKUP(I184,Feuil1!$A$11:$F$29,2))))),IF(OR(H184=\"SEN\",H184<1995),VLOOKUP(I184,Feuil1!$G$11:$L$25,6),IF(AND(H184>1994,H184<1998),VLOOKUP(I184,Feuil1!$G$11:$L$25,5),IF(AND(H184>1997,H184<2000),VLOOKUP(I184,Feuil1!$G$11:$L$25,4),IF(AND(H184>1999,H184<2002),VLOOKUP(I184,Feuil1!$G$11:$L$25,3),VLOOKUP(I184,Feuil1!$G$11:$L$25,2)))))))","v":"FS63"},157.9512723633606,null," ",{"$f":"T184-HLOOKUP(X184,Feuil1!$C$1:$BL$10,2,FALSE)","v":39},{"$f":"T184-HLOOKUP(X184,Feuil1!$C$1:$BL$10,3,FALSE)","v":29},{"$f":"T184-HLOOKUP(X184,Feuil1!$C$1:$BL$10,4,FALSE)","v":19},{"$f":"T184-HLOOKUP(X184,Feuil1!$C$1:$BL$10,5,FALSE)","v":4},{"$f":"T184-HLOOKUP(X184,Feuil1!$C$1:$BL$10,6,FALSE)","v":-11},{"$f":"T184-HLOOKUP(X184,Feuil1!$C$1:$BL$10,7,FALSE)","v":-26},{"$f":"T184-HLOOKUP(X184,Feuil1!$C$1:$BL$10,8,FALSE)","v":-46},{"$f":"T184-HLOOKUP(X184,Feuil1!$C$1:$BL$10,9,FALSE)","v":-66},{"$f":"T184-HLOOKUP(X184,Feuil1!$C$1:$BL$10,10,FALSE)","v":-86},null,null,null,null,null,null,"IRG +"]
["F","SEST","LAN",27,280279,"CAVIN","Marie Odile",1982,62,"HC Grand Combe","F",47,50,52,52,58,62,-61,62,114,-10,"IRG +",4,{"$f":"IF(I185=\"\",\"\",IF(A185=\"H\",IF(OR(H185=\"SEN\",H185<1995),VLOOKUP(I185,Feuil1!$A$11:$F$29,6),IF(AND(H185>1994,H185<1998),VLOOKUP(I185,Feuil1!$A$11:$F$29,5),IF(AND(H185>1997,H185<2000),VLOOKUP(I185,Feuil1!$A$11:$F$29,4),IF(AND(H185>1999,H185<2002),VLOOKUP(I185,Feuil1!$A$11:$F$29,3),VLOOKUP(I185,Feuil1!$A$11:$F$29,2))))),IF(OR(H185=\"SEN\",H185<1995),VLOOKUP(I185,Feuil1!$G$11:$L$25,6),IF(AND(H185>1994,H185<1998),VLOOKUP(I185,Feuil1!$G$11:$L$25,5),IF(AND(H185>1997,H185<2000),VLOOKUP(I185,Feuil1!$G$11:$L$25,4),IF(AND(H185>1999,H185<2002),VLOOKUP(I185,Feuil1!$G$11:$L$25,3),VLOOKUP(I185,Feuil1!$G$11:$L$25,2)))))))","v":"FS63"},153.13435754034796,null," ",{"$f":"T185-HLOOKUP(X185,Feuil1!$C$1:$BL$10,2,FALSE)","v":39},{"$f":"T185-HLOOKUP(X185,Feuil1!$C$1:$BL$10,3,FALSE)","v":29},{"$f":"T185-HLOOKUP(X185,Feuil1!$C$1:$BL$10,4,FALSE)","v":19},{"$f":"T185-HLOOKUP(X185,Feuil1!$C$1:$BL$10,5,FALSE)","v":4},{"$f":"T185-HLOOKUP(X185,Feuil1!$C$1:$BL$10,6,FALSE)","v":-11},{"$f":"T185-HLOOKUP(X185,Feuil1!$C$1:$BL$10,7,FALSE)","v":-26},{"$f":"T185-HLOOKUP(X185,Feuil1!$C$1:$BL$10,8,FALSE)","v":-46},{"$f":"T185-HLOOKUP(X185,Feuil1!$C$1:$BL$10,9,FALSE)","v":-66},{"$f":"T185-HLOOKUP(X185,Feuil1!$C$1:$BL$10,10,FALSE)","v":-86},null,null,null,null,null,null,"IRG +"]
["F","N","IDF",28,388582,"SOREL","VIRGINIE",1982,59.7,"SA MONTMARTRE","F",40,45,48,48,60,65,-68,65,113,-6.4000000000000057,"IRG +",3,{"$f":"IF(I186=\"\",\"\",IF(A186=\"H\",IF(OR(H186=\"SEN\",H186<1995),VLOOKUP(I186,Feuil1!$A$11:$F$29,6),IF(AND(H186>1994,H186<1998),VLOOKUP(I186,Feuil1!$A$11:$F$29,5),IF(AND(H186>1997,H186<2000),VLOOKUP(I186,Feuil1!$A$11:$F$29,4),IF(AND(H186>1999,H186<2002),VLOOKUP(I186,Feuil1!$A$11:$F$29,3),VLOOKUP(I186,Feuil1!$A$11:$F$29,2))))),IF(OR(H186=\"SEN\",H186<1995),VLOOKUP(I186,Feuil1!$G$11:$L$25,6),IF(AND(H186>1994,H186<1998),VLOOKUP(I186,Feuil1!$G$11:$L$25,5),IF(AND(H186>1997,H186<2000),VLOOKUP(I186,Feuil1!$G$11:$L$25,4),IF(AND(H186>1999,H186<2002),VLOOKUP(I186,Feuil1!$G$11:$L$25,3),VLOOKUP(I186,Feuil1!$G$11:$L$25,2)))))))","v":"FS63"},155.8198787080799,null," ",{"$f":"T186-HLOOKUP(X186,Feuil1!$C$1:$BL$10,2,FALSE)","v":38},{"$f":"T186-HLOOKUP(X186,Feuil1!$C$1:$BL$10,3,FALSE)","v":28},{"$f":"T186-HLOOKUP(X186,Feuil1!$C$1:$BL$10,4,FALSE)","v":18},{"$f":"T186-HLOOKUP(X186,Feuil1!$C$1:$BL$10,5,FALSE)","v":3},{"$f":"T186-HLOOKUP(X186,Feuil1!$C$1:$BL$10,6,FALSE)","v":-12},{"$f":"T186-HLOOKUP(X186,Feuil1!$C$1:$BL$10,7,FALSE)","v":-27},{"$f":"T186-HLOOKUP(X186,Feuil1!$C$1:$BL$10,8,FALSE)","v":-47},{"$f":"T186-HLOOKUP(X186,Feuil1!$C$1:$BL$10,9,FALSE)","v":-67},{"$f":"T186-HLOOKUP(X186,Feuil1!$C$1:$BL$10,10,FALSE)","v":-87},null,null,null,null,null,null,"IRG +"]
["F","CO","BNO",29,355102,"ROUSSEAU","Aurore",1991,60.2,"Caen CHM","F",45,48,49,49,54,58,-61,58,107,-13.400000000000006,"REG +",12,{"$f":"IF(I187=\"\",\"\",IF(A187=\"H\",IF(OR(H187=\"SEN\",H187<1995),VLOOKUP(I187,Feuil1!$A$11:$F$29,6),IF(AND(H187>1994,H187<1998),VLOOKUP(I187,Feuil1!$A$11:$F$29,5),IF(AND(H187>1997,H187<2000),VLOOKUP(I187,Feuil1!$A$11:$F$29,4),IF(AND(H187>1999,H187<2002),VLOOKUP(I187,Feuil1!$A$11:$F$29,3),VLOOKUP(I187,Feuil1!$A$11:$F$29,2))))),IF(OR(H187=\"SEN\",H187<1995),VLOOKUP(I187,Feuil1!$G$11:$L$25,6),IF(AND(H187>1994,H187<1998),VLOOKUP(I187,Feuil1!$G$11:$L$25,5),IF(AND(H187>1997,H187<2000),VLOOKUP(I187,Feuil1!$G$11:$L$25,4),IF(AND(H187>1999,H187<2002),VLOOKUP(I187,Feuil1!$G$11:$L$25,3),VLOOKUP(I187,Feuil1!$G$11:$L$25,2)))))))","v":"FS63"},146.68192031309883,null," ",{"$f":"T187-HLOOKUP(X187,Feuil1!$C$1:$BL$10,2,FALSE)","v":32},{"$f":"T187-HLOOKUP(X187,Feuil1!$C$1:$BL$10,3,FALSE)","v":22},{"$f":"T187-HLOOKUP(X187,Feuil1!$C$1:$BL$10,4,FALSE)","v":12},{"$f":"T187-HLOOKUP(X187,Feuil1!$C$1:$BL$10,5,FALSE)","v":-3},{"$f":"T187-HLOOKUP(X187,Feuil1!$C$1:$BL$10,6,FALSE)","v":-18},{"$f":"T187-HLOOKUP(X187,Feuil1!$C$1:$BL$10,7,FALSE)","v":-33},{"$f":"T187-HLOOKUP(X187,Feuil1!$C$1:$BL$10,8,FALSE)","v":-53},{"$f":"T187-HLOOKUP(X187,Feuil1!$C$1:$BL$10,9,FALSE)","v":-73},{"$f":"T187-HLOOKUP(X187,Feuil1!$C$1:$BL$10,10,FALSE)","v":-93},null,null,null,null,null,null,"REG +"]
["F","CO","CEN",30,360545,"SOUCHU","Chloé",1993,60.2,"US Tours","F",42,-45,47,47,55,60,-63,60,107,-13.400000000000006,"REG +",12,{"$f":"IF(I188=\"\",\"\",IF(A188=\"H\",IF(OR(H188=\"SEN\",H188<1995),VLOOKUP(I188,Feuil1!$A$11:$F$29,6),IF(AND(H188>1994,H188<1998),VLOOKUP(I188,Feuil1!$A$11:$F$29,5),IF(AND(H188>1997,H188<2000),VLOOKUP(I188,Feuil1!$A$11:$F$29,4),IF(AND(H188>1999,H188<2002),VLOOKUP(I188,Feuil1!$A$11:$F$29,3),VLOOKUP(I188,Feuil1!$A$11:$F$29,2))))),IF(OR(H188=\"SEN\",H188<1995),VLOOKUP(I188,Feuil1!$G$11:$L$25,6),IF(AND(H188>1994,H188<1998),VLOOKUP(I188,Feuil1!$G$11:$L$25,5),IF(AND(H188>1997,H188<2000),VLOOKUP(I188,Feuil1!$G$11:$L$25,4),IF(AND(H188>1999,H188<2002),VLOOKUP(I188,Feuil1!$G$11:$L$25,3),VLOOKUP(I188,Feuil1!$G$11:$L$25,2)))))))","v":"FS63"},146.68192031309883,null," ",{"$f":"T188-HLOOKUP(X188,Feuil1!$C$1:$BL$10,2,FALSE)","v":32},{"$f":"T188-HLOOKUP(X188,Feuil1!$C$1:$BL$10,3,FALSE)","v":22},{"$f":"T188-HLOOKUP(X188,Feuil1!$C$1:$BL$10,4,FALSE)","v":12},{"$f":"T188-HLOOKUP(X188,Feuil1!$C$1:$BL$10,5,FALSE)","v":-3},{"$f":"T188-HLOOKUP(X188,Feuil1!$C$1:$BL$10,6,FALSE)","v":-18},{"$f":"T188-HLOOKUP(X188,Feuil1!$C$1:$BL$10,7,FALSE)","v":-33},{"$f":"T188-HLOOKUP(X188,Feuil1!$C$1:$BL$10,8,FALSE)","v":-53},{"$f":"T188-HLOOKUP(X188,Feuil1!$C$1:$BL$10,9,FALSE)","v":-73},{"$f":"T188-HLOOKUP(X188,Feuil1!$C$1:$BL$10,10,FALSE)","v":-93},null,null,null,null,null,null,"REG +"]
["F","SEST","RAL",31,195347,"GEAIX","Sylvie",1972,62.8,"BOURG DE PEAGE","F",45,48,-50,48,55,58,-60,58,106,-19.599999999999994,"REG +",11,{"$f":"IF(I189=\"\",\"\",IF(A189=\"H\",IF(OR(H189=\"SEN\",H189<1995),VLOOKUP(I189,Feuil1!$A$11:$F$29,6),IF(AND(H189>1994,H189<1998),VLOOKUP(I189,Feuil1!$A$11:$F$29,5),IF(AND(H189>1997,H189<2000),VLOOKUP(I189,Feuil1!$A$11:$F$29,4),IF(AND(H189>1999,H189<2002),VLOOKUP(I189,Feuil1!$A$11:$F$29,3),VLOOKUP(I189,Feuil1!$A$11:$F$29,2))))),IF(OR(H189=\"SEN\",H189<1995),VLOOKUP(I189,Feuil1!$G$11:$L$25,6),IF(AND(H189>1994,H189<1998),VLOOKUP(I189,Feuil1!$G$11:$L$25,5),IF(AND(H189>1997,H189<2000),VLOOKUP(I189,Feuil1!$G$11:$L$25,4),IF(AND(H189>1999,H189<2002),VLOOKUP(I189,Feuil1!$G$11:$L$25,3),VLOOKUP(I189,Feuil1!$G$11:$L$25,2)))))))","v":"FS63"},141.16437272893288,null," ",{"$f":"T189-HLOOKUP(X189,Feuil1!$C$1:$BL$10,2,FALSE)","v":31},{"$f":"T189-HLOOKUP(X189,Feuil1!$C$1:$BL$10,3,FALSE)","v":21},{"$f":"T189-HLOOKUP(X189,Feuil1!$C$1:$BL$10,4,FALSE)","v":11},{"$f":"T189-HLOOKUP(X189,Feuil1!$C$1:$BL$10,5,FALSE)","v":-4},{"$f":"T189-HLOOKUP(X189,Feuil1!$C$1:$BL$10,6,FALSE)","v":-19},{"$f":"T189-HLOOKUP(X189,Feuil1!$C$1:$BL$10,7,FALSE)","v":-34},{"$f":"T189-HLOOKUP(X189,Feuil1!$C$1:$BL$10,8,FALSE)","v":-54},{"$f":"T189-HLOOKUP(X189,Feuil1!$C$1:$BL$10,9,FALSE)","v":-74},{"$f":"T189-HLOOKUP(X189,Feuil1!$C$1:$BL$10,10,FALSE)","v":-94},null,null,null,null,null,null,"REG +"]
["F","N","IDF",32,366519,"GUIBERT","PAULINE",1986,62,"US METRO","F",37,40,42,42,55,60,-63,60,102,-22,"REG +",7,{"$f":"IF(I190=\"\",\"\",IF(A190=\"H\",IF(OR(H190=\"SEN\",H190<1995),VLOOKUP(I190,Feuil1!$A$11:$F$29,6),IF(AND(H190>1994,H190<1998),VLOOKUP(I190,Feuil1!$A$11:$F$29,5),IF(AND(H190>1997,H190<2000),VLOOKUP(I190,Feuil1!$A$11:$F$29,4),IF(AND(H190>1999,H190<2002),VLOOKUP(I190,Feuil1!$A$11:$F$29,3),VLOOKUP(I190,Feuil1!$A$11:$F$29,2))))),IF(OR(H190=\"SEN\",H190<1995),VLOOKUP(I190,Feuil1!$G$11:$L$25,6),IF(AND(H190>1994,H190<1998),VLOOKUP(I190,Feuil1!$G$11:$L$25,5),IF(AND(H190>1997,H190<2000),VLOOKUP(I190,Feuil1!$G$11:$L$25,4),IF(AND(H190>1999,H190<2002),VLOOKUP(I190,Feuil1!$G$11:$L$25,3),VLOOKUP(I190,Feuil1!$G$11:$L$25,2)))))))","v":"FS63"},137.01495148346922,null," ",{"$f":"T190-HLOOKUP(X190,Feuil1!$C$1:$BL$10,2,FALSE)","v":27},{"$f":"T190-HLOOKUP(X190,Feuil1!$C$1:$BL$10,3,FALSE)","v":17},{"$f":"T190-HLOOKUP(X190,Feuil1!$C$1:$BL$10,4,FALSE)","v":7},{"$f":"T190-HLOOKUP(X190,Feuil1!$C$1:$BL$10,5,FALSE)","v":-8},{"$f":"T190-HLOOKUP(X190,Feuil1!$C$1:$BL$10,6,FALSE)","v":-23},{"$f":"T190-HLOOKUP(X190,Feuil1!$C$1:$BL$10,7,FALSE)","v":-38},{"$f":"T190-HLOOKUP(X190,Feuil1!$C$1:$BL$10,8,FALSE)","v":-58},{"$f":"T190-HLOOKUP(X190,Feuil1!$C$1:$BL$10,9,FALSE)","v":-78},{"$f":"T190-HLOOKUP(X190,Feuil1!$C$1:$BL$10,10,FALSE)","v":-98},null,null,null,null,null,null,"REG +"]
["F","SEST","PRO",33,390150,"BOIRON","Alice",1967,62.7,"EEAR MONTEUX","F",38,42,44,{"$f":"IF(H191=\"\",\"\",IF(MAXA(L191:N191)<=0,0,MAXA(L191:N191)))","v":44},55,-58,58,{"$f":"IF(H191=\"\",\"\",IF(MAXA(P191:R191)<=0,0,MAXA(P191:R191)))","v":58},{"$f":"IF(H191=\"\",\"\",IF(OR(O191=0,S191=0),0,O191+S191))","v":102},{"$f":"T191-I191*2","v":-23.400000000000006},{"$f":"IF(H191=\"\",\"\",AQ191)","v":"REG +"},{"$f":"IF(AJ191>=0,AJ191,IF(AI191>=0,AI191,IF(AH191>=0,AH191,IF(AG191>=0,AG191,IF(AF191>=0,AF191,IF(AE191>=0,AE191,IF(AD191>=0,AD191,IF(AC191>=0,AC191,AB191))))))))","v":7},{"$f":"IF(I191=\"\",\"\",IF(A191=\"H\",IF(OR(H191=\"SEN\",H191<1995),VLOOKUP(I191,Feuil1!$A$11:$F$29,6),IF(AND(H191>1994,H191<1998),VLOOKUP(I191,Feuil1!$A$11:$F$29,5),IF(AND(H191>1997,H191<2000),VLOOKUP(I191,Feuil1!$A$11:$F$29,4),IF(AND(H191>1999,H191<2002),VLOOKUP(I191,Feuil1!$A$11:$F$29,3),VLOOKUP(I191,Feuil1!$A$11:$F$29,2))))),IF(OR(H191=\"SEN\",H191<1995),VLOOKUP(I191,Feuil1!$G$11:$L$25,6),IF(AND(H191>1994,H191<1998),VLOOKUP(I191,Feuil1!$G$11:$L$25,5),IF(AND(H191>1997,H191<2000),VLOOKUP(I191,Feuil1!$G$11:$L$25,4),IF(AND(H191>1999,H191<2002),VLOOKUP(I191,Feuil1!$G$11:$L$25,3),VLOOKUP(I191,Feuil1!$G$11:$L$25,2)))))))","v":"FS63"},{"$f":"IF(I191=\"\",\"\",IF(A191=\"H\",10^(0.794358141*LOG(I191/174.393)^2)*T191,IF(A191=\"F\",10^(0.89726074*LOG(I191/148.026)^2)*T191,\"\")))","v":135.98228369656266},null," ",{"$f":"T191-HLOOKUP(X191,Feuil1!$C$1:$BL$10,2,FALSE)","v":27},{"$f":"T191-HLOOKUP(X191,Feuil1!$C$1:$BL$10,3,FALSE)","v":17},{"$f":"T191-HLOOKUP(X191,Feuil1!$C$1:$BL$10,4,FALSE)","v":7},{"$f":"T191-HLOOKUP(X191,Feuil1!$C$1:$BL$10,5,FALSE)","v":-8},{"$f":"T191-HLOOKUP(X191,Feuil1!$C$1:$BL$10,6,FALSE)","v":-23},{"$f":"T191-HLOOKUP(X191,Feuil1!$C$1:$BL$10,7,FALSE)","v":-38},{"$f":"T191-HLOOKUP(X191,Feuil1!$C$1:$BL$10,8,FALSE)","v":-58},{"$f":"T191-HLOOKUP(X191,Feuil1!$C$1:$BL$10,9,FALSE)","v":-78},{"$f":"T191-HLOOKUP(X191,Feuil1!$C$1:$BL$10,10,FALSE)","v":-98},null,null,null,null,null,null,{"$f":"IF(AJ191>=0,$AJ$4,IF(AI191>=0,$AI$4,IF(AH191>=0,$AH$4,IF(AG191>=0,$AG$4,IF(AF191>=0,$AF$4,IF(AE191>=0,$AE$4,IF(AD191>=0,$AD$4,IF(AC191>=0,$AC$4,$AB$4))))))))","v":"REG +"}]
["F","SEST","CAZ",34,378677,"SALIOT","Delphine",1992,59.8,"ASLDD TOULON","F",39,41,-43,41,56,58,60,60,101,-18.599999999999994,"REG +",6,{"$f":"IF(I192=\"\",\"\",IF(A192=\"H\",IF(OR(H192=\"SEN\",H192<1995),VLOOKUP(I192,Feuil1!$A$11:$F$29,6),IF(AND(H192>1994,H192<1998),VLOOKUP(I192,Feuil1!$A$11:$F$29,5),IF(AND(H192>1997,H192<2000),VLOOKUP(I192,Feuil1!$A$11:$F$29,4),IF(AND(H192>1999,H192<2002),VLOOKUP(I192,Feuil1!$A$11:$F$29,3),VLOOKUP(I192,Feuil1!$A$11:$F$29,2))))),IF(OR(H192=\"SEN\",H192<1995),VLOOKUP(I192,Feuil1!$G$11:$L$25,6),IF(AND(H192>1994,H192<1998),VLOOKUP(I192,Feuil1!$G$11:$L$25,5),IF(AND(H192>1997,H192<2000),VLOOKUP(I192,Feuil1!$G$11:$L$25,4),IF(AND(H192>1999,H192<2002),VLOOKUP(I192,Feuil1!$G$11:$L$25,3),VLOOKUP(I192,Feuil1!$G$11:$L$25,2)))))))","v":"FS63"},139.10792637798826,null," ",{"$f":"T192-HLOOKUP(X192,Feuil1!$C$1:$BL$10,2,FALSE)","v":26},{"$f":"T192-HLOOKUP(X192,Feuil1!$C$1:$BL$10,3,FALSE)","v":16},{"$f":"T192-HLOOKUP(X192,Feuil1!$C$1:$BL$10,4,FALSE)","v":6},{"$f":"T192-HLOOKUP(X192,Feuil1!$C$1:$BL$10,5,FALSE)","v":-9},{"$f":"T192-HLOOKUP(X192,Feuil1!$C$1:$BL$10,6,FALSE)","v":-24},{"$f":"T192-HLOOKUP(X192,Feuil1!$C$1:$BL$10,7,FALSE)","v":-39},{"$f":"T192-HLOOKUP(X192,Feuil1!$C$1:$BL$10,8,FALSE)","v":-59},{"$f":"T192-HLOOKUP(X192,Feuil1!$C$1:$BL$10,9,FALSE)","v":-79},{"$f":"T192-HLOOKUP(X192,Feuil1!$C$1:$BL$10,10,FALSE)","v":-99},null,null,null,null,null,null,"REG +"]
["F","N","NPC",35,383079,"REYNDERS","Jessica",1994,60,"CHCD COMINES","F",38,42,45,45,48,52,56,56,101,-19,"REG +",6,{"$f":"IF(I193=\"\",\"\",IF(A193=\"H\",IF(OR(H193=\"SEN\",H193<1995),VLOOKUP(I193,Feuil1!$A$11:$F$29,6),IF(AND(H193>1994,H193<1998),VLOOKUP(I193,Feuil1!$A$11:$F$29,5),IF(AND(H193>1997,H193<2000),VLOOKUP(I193,Feuil1!$A$11:$F$29,4),IF(AND(H193>1999,H193<2002),VLOOKUP(I193,Feuil1!$A$11:$F$29,3),VLOOKUP(I193,Feuil1!$A$11:$F$29,2))))),IF(OR(H193=\"SEN\",H193<1995),VLOOKUP(I193,Feuil1!$G$11:$L$25,6),IF(AND(H193>1994,H193<1998),VLOOKUP(I193,Feuil1!$G$11:$L$25,5),IF(AND(H193>1997,H193<2000),VLOOKUP(I193,Feuil1!$G$11:$L$25,4),IF(AND(H193>1999,H193<2002),VLOOKUP(I193,Feuil1!$G$11:$L$25,3),VLOOKUP(I193,Feuil1!$G$11:$L$25,2)))))))","v":"FS63"},138.78082071778999,null," ",{"$f":"T193-HLOOKUP(X193,Feuil1!$C$1:$BL$10,2,FALSE)","v":26},{"$f":"T193-HLOOKUP(X193,Feuil1!$C$1:$BL$10,3,FALSE)","v":16},{"$f":"T193-HLOOKUP(X193,Feuil1!$C$1:$BL$10,4,FALSE)","v":6},{"$f":"T193-HLOOKUP(X193,Feuil1!$C$1:$BL$10,5,FALSE)","v":-9},{"$f":"T193-HLOOKUP(X193,Feuil1!$C$1:$BL$10,6,FALSE)","v":-24},{"$f":"T193-HLOOKUP(X193,Feuil1!$C$1:$BL$10,7,FALSE)","v":-39},{"$f":"T193-HLOOKUP(X193,Feuil1!$C$1:$BL$10,8,FALSE)","v":-59},{"$f":"T193-HLOOKUP(X193,Feuil1!$C$1:$BL$10,9,FALSE)","v":-79},{"$f":"T193-HLOOKUP(X193,Feuil1!$C$1:$BL$10,10,FALSE)","v":-99},null,null,null,null,null,null,"REG +"]
["F","SO","AQU",36,298241,"SAVIN","Cécile",1979,59.6,"EA St Médard","F",40,43,46,46,50,54,-56,54,100,-19.200000000000003,"REG +",5,{"$f":"IF(I194=\"\",\"\",IF(A194=\"H\",IF(OR(H194=\"SEN\",H194<1995),VLOOKUP(I194,Feuil1!$A$11:$F$29,6),IF(AND(H194>1994,H194<1998),VLOOKUP(I194,Feuil1!$A$11:$F$29,5),IF(AND(H194>1997,H194<2000),VLOOKUP(I194,Feuil1!$A$11:$F$29,4),IF(AND(H194>1999,H194<2002),VLOOKUP(I194,Feuil1!$A$11:$F$29,3),VLOOKUP(I194,Feuil1!$A$11:$F$29,2))))),IF(OR(H194=\"SEN\",H194<1995),VLOOKUP(I194,Feuil1!$G$11:$L$25,6),IF(AND(H194>1994,H194<1998),VLOOKUP(I194,Feuil1!$G$11:$L$25,5),IF(AND(H194>1997,H194<2000),VLOOKUP(I194,Feuil1!$G$11:$L$25,4),IF(AND(H194>1999,H194<2002),VLOOKUP(I194,Feuil1!$G$11:$L$25,3),VLOOKUP(I194,Feuil1!$G$11:$L$25,2)))))))","v":"FS63"},138.05754487429581,null," ",{"$f":"T194-HLOOKUP(X194,Feuil1!$C$1:$BL$10,2,FALSE)","v":25},{"$f":"T194-HLOOKUP(X194,Feuil1!$C$1:$BL$10,3,FALSE)","v":15},{"$f":"T194-HLOOKUP(X194,Feuil1!$C$1:$BL$10,4,FALSE)","v":5},{"$f":"T194-HLOOKUP(X194,Feuil1!$C$1:$BL$10,5,FALSE)","v":-10},{"$f":"T194-HLOOKUP(X194,Feuil1!$C$1:$BL$10,6,FALSE)","v":-25},{"$f":"T194-HLOOKUP(X194,Feuil1!$C$1:$BL$10,7,FALSE)","v":-40},{"$f":"T194-HLOOKUP(X194,Feuil1!$C$1:$BL$10,8,FALSE)","v":-60},{"$f":"T194-HLOOKUP(X194,Feuil1!$C$1:$BL$10,9,FALSE)","v":-80},{"$f":"T194-HLOOKUP(X194,Feuil1!$C$1:$BL$10,10,FALSE)","v":-100},null,null,null,null,null,null,"REG +"]
["F","NE","FCO",37,1144,"LOISEAU","Corinne",1963,59.5,"CH Luxeuil","F",40,43,-45,43,50,55,-57,55,98,-21,"REG +",3,{"$f":"IF(I195=\"\",\"\",IF(A195=\"H\",IF(OR(H195=\"SEN\",H195<1995),VLOOKUP(I195,Feuil1!$A$11:$F$29,6),IF(AND(H195>1994,H195<1998),VLOOKUP(I195,Feuil1!$A$11:$F$29,5),IF(AND(H195>1997,H195<2000),VLOOKUP(I195,Feuil1!$A$11:$F$29,4),IF(AND(H195>1999,H195<2002),VLOOKUP(I195,Feuil1!$A$11:$F$29,3),VLOOKUP(I195,Feuil1!$A$11:$F$29,2))))),IF(OR(H195=\"SEN\",H195<1995),VLOOKUP(I195,Feuil1!$G$11:$L$25,6),IF(AND(H195>1994,H195<1998),VLOOKUP(I195,Feuil1!$G$11:$L$25,5),IF(AND(H195>1997,H195<2000),VLOOKUP(I195,Feuil1!$G$11:$L$25,4),IF(AND(H195>1999,H195<2002),VLOOKUP(I195,Feuil1!$G$11:$L$25,3),VLOOKUP(I195,Feuil1!$G$11:$L$25,2)))))))","v":"FS63"},135.45772229883588,null," ",{"$f":"T195-HLOOKUP(X195,Feuil1!$C$1:$BL$10,2,FALSE)","v":23},{"$f":"T195-HLOOKUP(X195,Feuil1!$C$1:$BL$10,3,FALSE)","v":13},{"$f":"T195-HLOOKUP(X195,Feuil1!$C$1:$BL$10,4,FALSE)","v":3},{"$f":"T195-HLOOKUP(X195,Feuil1!$C$1:$BL$10,5,FALSE)","v":-12},{"$f":"T195-HLOOKUP(X195,Feuil1!$C$1:$BL$10,6,FALSE)","v":-27},{"$f":"T195-HLOOKUP(X195,Feuil1!$C$1:$BL$10,7,FALSE)","v":-42},{"$f":"T195-HLOOKUP(X195,Feuil1!$C$1:$BL$10,8,FALSE)","v":-62},{"$f":"T195-HLOOKUP(X195,Feuil1!$C$1:$BL$10,9,FALSE)","v":-82},{"$f":"T195-HLOOKUP(X195,Feuil1!$C$1:$BL$10,10,FALSE)","v":-102},null,null,null,null,null,null,"REG +"]
["F","NE","ALS",38,364658,"BAECHTEL","ANNAELLE",1985,61.75,"ASPTT Strasbourg","F",40,42,44,44,51,-53,54,54,98,-25.5,"REG +",3,{"$f":"IF(I196=\"\",\"\",IF(A196=\"H\",IF(OR(H196=\"SEN\",H196<1995),VLOOKUP(I196,Feuil1!$A$11:$F$29,6),IF(AND(H196>1994,H196<1998),VLOOKUP(I196,Feuil1!$A$11:$F$29,5),IF(AND(H196>1997,H196<2000),VLOOKUP(I196,Feuil1!$A$11:$F$29,4),IF(AND(H196>1999,H196<2002),VLOOKUP(I196,Feuil1!$A$11:$F$29,3),VLOOKUP(I196,Feuil1!$A$11:$F$29,2))))),IF(OR(H196=\"SEN\",H196<1995),VLOOKUP(I196,Feuil1!$G$11:$L$25,6),IF(AND(H196>1994,H196<1998),VLOOKUP(I196,Feuil1!$G$11:$L$25,5),IF(AND(H196>1997,H196<2000),VLOOKUP(I196,Feuil1!$G$11:$L$25,4),IF(AND(H196>1999,H196<2002),VLOOKUP(I196,Feuil1!$G$11:$L$25,3),VLOOKUP(I196,Feuil1!$G$11:$L$25,2)))))))","v":"FS63"},132.00389368694283,null," ",{"$f":"T196-HLOOKUP(X196,Feuil1!$C$1:$BL$10,2,FALSE)","v":23},{"$f":"T196-HLOOKUP(X196,Feuil1!$C$1:$BL$10,3,FALSE)","v":13},{"$f":"T196-HLOOKUP(X196,Feuil1!$C$1:$BL$10,4,FALSE)","v":3},{"$f":"T196-HLOOKUP(X196,Feuil1!$C$1:$BL$10,5,FALSE)","v":-12},{"$f":"T196-HLOOKUP(X196,Feuil1!$C$1:$BL$10,6,FALSE)","v":-27},{"$f":"T196-HLOOKUP(X196,Feuil1!$C$1:$BL$10,7,FALSE)","v":-42},{"$f":"T196-HLOOKUP(X196,Feuil1!$C$1:$BL$10,8,FALSE)","v":-62},{"$f":"T196-HLOOKUP(X196,Feuil1!$C$1:$BL$10,9,FALSE)","v":-82},{"$f":"T196-HLOOKUP(X196,Feuil1!$C$1:$BL$10,10,FALSE)","v":-102},null,null,null,null,null,null,"REG +"]
["F","SEST","AUV",39,390737,"SZALA","Joanna",1985,63,"CROSSWOD TEAM","POL",-40,40,43,43,52,55,-57,55,98,-28,"REG +",3,{"$f":"IF(I197=\"\",\"\",IF(A197=\"H\",IF(OR(H197=\"SEN\",H197<1995),VLOOKUP(I197,Feuil1!$A$11:$F$29,6),IF(AND(H197>1994,H197<1998),VLOOKUP(I197,Feuil1!$A$11:$F$29,5),IF(AND(H197>1997,H197<2000),VLOOKUP(I197,Feuil1!$A$11:$F$29,4),IF(AND(H197>1999,H197<2002),VLOOKUP(I197,Feuil1!$A$11:$F$29,3),VLOOKUP(I197,Feuil1!$A$11:$F$29,2))))),IF(OR(H197=\"SEN\",H197<1995),VLOOKUP(I197,Feuil1!$G$11:$L$25,6),IF(AND(H197>1994,H197<1998),VLOOKUP(I197,Feuil1!$G$11:$L$25,5),IF(AND(H197>1997,H197<2000),VLOOKUP(I197,Feuil1!$G$11:$L$25,4),IF(AND(H197>1999,H197<2002),VLOOKUP(I197,Feuil1!$G$11:$L$25,3),VLOOKUP(I197,Feuil1!$G$11:$L$25,2)))))))","v":"FS63"},130.23396001256117,null," ",{"$f":"T197-HLOOKUP(X197,Feuil1!$C$1:$BL$10,2,FALSE)","v":23},{"$f":"T197-HLOOKUP(X197,Feuil1!$C$1:$BL$10,3,FALSE)","v":13},{"$f":"T197-HLOOKUP(X197,Feuil1!$C$1:$BL$10,4,FALSE)","v":3},{"$f":"T197-HLOOKUP(X197,Feuil1!$C$1:$BL$10,5,FALSE)","v":-12},{"$f":"T197-HLOOKUP(X197,Feuil1!$C$1:$BL$10,6,FALSE)","v":-27},{"$f":"T197-HLOOKUP(X197,Feuil1!$C$1:$BL$10,7,FALSE)","v":-42},{"$f":"T197-HLOOKUP(X197,Feuil1!$C$1:$BL$10,8,FALSE)","v":-62},{"$f":"T197-HLOOKUP(X197,Feuil1!$C$1:$BL$10,9,FALSE)","v":-82},{"$f":"T197-HLOOKUP(X197,Feuil1!$C$1:$BL$10,10,FALSE)","v":-102},null,null,null,null,null,null,"REG +"]
["F","SEST","RAL",40,390896,"TERRASSE","EMILIE",1985,60.6,"CH Arbresle","F",40,43,-45,43,54,-58,-58,54,97,-24.200000000000003,"REG +",2,{"$f":"IF(I198=\"\",\"\",IF(A198=\"H\",IF(OR(H198=\"SEN\",H198<1995),VLOOKUP(I198,Feuil1!$A$11:$F$29,6),IF(AND(H198>1994,H198<1998),VLOOKUP(I198,Feuil1!$A$11:$F$29,5),IF(AND(H198>1997,H198<2000),VLOOKUP(I198,Feuil1!$A$11:$F$29,4),IF(AND(H198>1999,H198<2002),VLOOKUP(I198,Feuil1!$A$11:$F$29,3),VLOOKUP(I198,Feuil1!$A$11:$F$29,2))))),IF(OR(H198=\"SEN\",H198<1995),VLOOKUP(I198,Feuil1!$G$11:$L$25,6),IF(AND(H198>1994,H198<1998),VLOOKUP(I198,Feuil1!$G$11:$L$25,5),IF(AND(H198>1997,H198<2000),VLOOKUP(I198,Feuil1!$G$11:$L$25,4),IF(AND(H198>1999,H198<2002),VLOOKUP(I198,Feuil1!$G$11:$L$25,3),VLOOKUP(I198,Feuil1!$G$11:$L$25,2)))))))","v":"FS63"},132.35953677631903,null," ",{"$f":"T198-HLOOKUP(X198,Feuil1!$C$1:$BL$10,2,FALSE)","v":22},{"$f":"T198-HLOOKUP(X198,Feuil1!$C$1:$BL$10,3,FALSE)","v":12},{"$f":"T198-HLOOKUP(X198,Feuil1!$C$1:$BL$10,4,FALSE)","v":2},{"$f":"T198-HLOOKUP(X198,Feuil1!$C$1:$BL$10,5,FALSE)","v":-13},{"$f":"T198-HLOOKUP(X198,Feuil1!$C$1:$BL$10,6,FALSE)","v":-28},{"$f":"T198-HLOOKUP(X198,Feuil1!$C$1:$BL$10,7,FALSE)","v":-43},{"$f":"T198-HLOOKUP(X198,Feuil1!$C$1:$BL$10,8,FALSE)","v":-63},{"$f":"T198-HLOOKUP(X198,Feuil1!$C$1:$BL$10,9,FALSE)","v":-83},{"$f":"T198-HLOOKUP(X198,Feuil1!$C$1:$BL$10,10,FALSE)","v":-103},null,null,null,null,null,null,"REG +"]
["F","SEST","PRO",41,246399,"BOYER","NOEMIE",1985,62.5,"CHC MONDRAGON","F",40,-45,-45,40,50,53,56,56,96,-29,"REG +",1,{"$f":"IF(I199=\"\",\"\",IF(A199=\"H\",IF(OR(H199=\"SEN\",H199<1995),VLOOKUP(I199,Feuil1!$A$11:$F$29,6),IF(AND(H199>1994,H199<1998),VLOOKUP(I199,Feuil1!$A$11:$F$29,5),IF(AND(H199>1997,H199<2000),VLOOKUP(I199,Feuil1!$A$11:$F$29,4),IF(AND(H199>1999,H199<2002),VLOOKUP(I199,Feuil1!$A$11:$F$29,3),VLOOKUP(I199,Feuil1!$A$11:$F$29,2))))),IF(OR(H199=\"SEN\",H199<1995),VLOOKUP(I199,Feuil1!$G$11:$L$25,6),IF(AND(H199>1994,H199<1998),VLOOKUP(I199,Feuil1!$G$11:$L$25,5),IF(AND(H199>1997,H199<2000),VLOOKUP(I199,Feuil1!$G$11:$L$25,4),IF(AND(H199>1999,H199<2002),VLOOKUP(I199,Feuil1!$G$11:$L$25,3),VLOOKUP(I199,Feuil1!$G$11:$L$25,2)))))))","v":"FS63"},128.25787568983202,null," ",{"$f":"T199-HLOOKUP(X199,Feuil1!$C$1:$BL$10,2,FALSE)","v":21},{"$f":"T199-HLOOKUP(X199,Feuil1!$C$1:$BL$10,3,FALSE)","v":11},{"$f":"T199-HLOOKUP(X199,Feuil1!$C$1:$BL$10,4,FALSE)","v":1},{"$f":"T199-HLOOKUP(X199,Feuil1!$C$1:$BL$10,5,FALSE)","v":-14},{"$f":"T199-HLOOKUP(X199,Feuil1!$C$1:$BL$10,6,FALSE)","v":-29},{"$f":"T199-HLOOKUP(X199,Feuil1!$C$1:$BL$10,7,FALSE)","v":-44},{"$f":"T199-HLOOKUP(X199,Feuil1!$C$1:$BL$10,8,FALSE)","v":-64},{"$f":"T199-HLOOKUP(X199,Feuil1!$C$1:$BL$10,9,FALSE)","v":-84},{"$f":"T199-HLOOKUP(X199,Feuil1!$C$1:$BL$10,10,FALSE)","v":-104},null,null,null,null,null,null,"REG +"]
["F","SO","AQU",42,379660,"VASSEUR","MARIE",1987,61.05,"Stade Montaois","F",35,-40,40,40,50,55,-60,55,95,-27.099999999999994,"REG +",0,{"$f":"IF(I200=\"\",\"\",IF(A200=\"H\",IF(OR(H200=\"SEN\",H200<1995),VLOOKUP(I200,Feuil1!$A$11:$F$29,6),IF(AND(H200>1994,H200<1998),VLOOKUP(I200,Feuil1!$A$11:$F$29,5),IF(AND(H200>1997,H200<2000),VLOOKUP(I200,Feuil1!$A$11:$F$29,4),IF(AND(H200>1999,H200<2002),VLOOKUP(I200,Feuil1!$A$11:$F$29,3),VLOOKUP(I200,Feuil1!$A$11:$F$29,2))))),IF(OR(H200=\"SEN\",H200<1995),VLOOKUP(I200,Feuil1!$G$11:$L$25,6),IF(AND(H200>1994,H200<1998),VLOOKUP(I200,Feuil1!$G$11:$L$25,5),IF(AND(H200>1997,H200<2000),VLOOKUP(I200,Feuil1!$G$11:$L$25,4),IF(AND(H200>1999,H200<2002),VLOOKUP(I200,Feuil1!$G$11:$L$25,3),VLOOKUP(I200,Feuil1!$G$11:$L$25,2)))))))","v":"FS63"},128.96741311591177,null," ",{"$f":"T200-HLOOKUP(X200,Feuil1!$C$1:$BL$10,2,FALSE)","v":20},{"$f":"T200-HLOOKUP(X200,Feuil1!$C$1:$BL$10,3,FALSE)","v":10},{"$f":"T200-HLOOKUP(X200,Feuil1!$C$1:$BL$10,4,FALSE)","v":0},{"$f":"T200-HLOOKUP(X200,Feuil1!$C$1:$BL$10,5,FALSE)","v":-15},{"$f":"T200-HLOOKUP(X200,Feuil1!$C$1:$BL$10,6,FALSE)","v":-30},{"$f":"T200-HLOOKUP(X200,Feuil1!$C$1:$BL$10,7,FALSE)","v":-45},{"$f":"T200-HLOOKUP(X200,Feuil1!$C$1:$BL$10,8,FALSE)","v":-65},{"$f":"T200-HLOOKUP(X200,Feuil1!$C$1:$BL$10,9,FALSE)","v":-85},{"$f":"T200-HLOOKUP(X200,Feuil1!$C$1:$BL$10,10,FALSE)","v":-105},null,null,null,null,null,null,"REG +"]
["F","SEST","RAL",43,325103,"RAMADAROSKI","Julie",1985,61.6,"BOURG DE PEAGE","F",37,39,41,41,47,50,54,54,95,-28.200000000000003,"REG +",0,{"$f":"IF(I201=\"\",\"\",IF(A201=\"H\",IF(OR(H201=\"SEN\",H201<1995),VLOOKUP(I201,Feuil1!$A$11:$F$29,6),IF(AND(H201>1994,H201<1998),VLOOKUP(I201,Feuil1!$A$11:$F$29,5),IF(AND(H201>1997,H201<2000),VLOOKUP(I201,Feuil1!$A$11:$F$29,4),IF(AND(H201>1999,H201<2002),VLOOKUP(I201,Feuil1!$A$11:$F$29,3),VLOOKUP(I201,Feuil1!$A$11:$F$29,2))))),IF(OR(H201=\"SEN\",H201<1995),VLOOKUP(I201,Feuil1!$G$11:$L$25,6),IF(AND(H201>1994,H201<1998),VLOOKUP(I201,Feuil1!$G$11:$L$25,5),IF(AND(H201>1997,H201<2000),VLOOKUP(I201,Feuil1!$G$11:$L$25,4),IF(AND(H201>1999,H201<2002),VLOOKUP(I201,Feuil1!$G$11:$L$25,3),VLOOKUP(I201,Feuil1!$G$11:$L$25,2)))))))","v":"FS63"},128.17548857589136,null," ",{"$f":"T201-HLOOKUP(X201,Feuil1!$C$1:$BL$10,2,FALSE)","v":20},{"$f":"T201-HLOOKUP(X201,Feuil1!$C$1:$BL$10,3,FALSE)","v":10},{"$f":"T201-HLOOKUP(X201,Feuil1!$C$1:$BL$10,4,FALSE)","v":0},{"$f":"T201-HLOOKUP(X201,Feuil1!$C$1:$BL$10,5,FALSE)","v":-15},{"$f":"T201-HLOOKUP(X201,Feuil1!$C$1:$BL$10,6,FALSE)","v":-30},{"$f":"T201-HLOOKUP(X201,Feuil1!$C$1:$BL$10,7,FALSE)","v":-45},{"$f":"T201-HLOOKUP(X201,Feuil1!$C$1:$BL$10,8,FALSE)","v":-65},{"$f":"T201-HLOOKUP(X201,Feuil1!$C$1:$BL$10,9,FALSE)","v":-85},{"$f":"T201-HLOOKUP(X201,Feuil1!$C$1:$BL$10,10,FALSE)","v":-105},null,null,null,null,null,null,"REG +"]
["F","SEST","CAZ",44,380058,"GUEGAN","Elodie",1988,62.5,"HC HYERES","F",-40,40,43,43,50,52,-56,52,95,-30,"REG +",0,{"$f":"IF(I202=\"\",\"\",IF(A202=\"H\",IF(OR(H202=\"SEN\",H202<1995),VLOOKUP(I202,Feuil1!$A$11:$F$29,6),IF(AND(H202>1994,H202<1998),VLOOKUP(I202,Feuil1!$A$11:$F$29,5),IF(AND(H202>1997,H202<2000),VLOOKUP(I202,Feuil1!$A$11:$F$29,4),IF(AND(H202>1999,H202<2002),VLOOKUP(I202,Feuil1!$A$11:$F$29,3),VLOOKUP(I202,Feuil1!$A$11:$F$29,2))))),IF(OR(H202=\"SEN\",H202<1995),VLOOKUP(I202,Feuil1!$G$11:$L$25,6),IF(AND(H202>1994,H202<1998),VLOOKUP(I202,Feuil1!$G$11:$L$25,5),IF(AND(H202>1997,H202<2000),VLOOKUP(I202,Feuil1!$G$11:$L$25,4),IF(AND(H202>1999,H202<2002),VLOOKUP(I202,Feuil1!$G$11:$L$25,3),VLOOKUP(I202,Feuil1!$G$11:$L$25,2)))))))","v":"FS63"},126.92185615139626,null," ",{"$f":"T202-HLOOKUP(X202,Feuil1!$C$1:$BL$10,2,FALSE)","v":20},{"$f":"T202-HLOOKUP(X202,Feuil1!$C$1:$BL$10,3,FALSE)","v":10},{"$f":"T202-HLOOKUP(X202,Feuil1!$C$1:$BL$10,4,FALSE)","v":0},{"$f":"T202-HLOOKUP(X202,Feuil1!$C$1:$BL$10,5,FALSE)","v":-15},{"$f":"T202-HLOOKUP(X202,Feuil1!$C$1:$BL$10,6,FALSE)","v":-30},{"$f":"T202-HLOOKUP(X202,Feuil1!$C$1:$BL$10,7,FALSE)","v":-45},{"$f":"T202-HLOOKUP(X202,Feuil1!$C$1:$BL$10,8,FALSE)","v":-65},{"$f":"T202-HLOOKUP(X202,Feuil1!$C$1:$BL$10,9,FALSE)","v":-85},{"$f":"T202-HLOOKUP(X202,Feuil1!$C$1:$BL$10,10,FALSE)","v":-105},null,null,null,null,null,null,"REG +"]
["F","NE","ALS",45,134532,"LICHTLE","CORINNE",1957,63,"MJC Ungersheim","F",37,-40,40,40,50,54,-56,54,94,-32,"DEP +",9,{"$f":"IF(I203=\"\",\"\",IF(A203=\"H\",IF(OR(H203=\"SEN\",H203<1995),VLOOKUP(I203,Feuil1!$A$11:$F$29,6),IF(AND(H203>1994,H203<1998),VLOOKUP(I203,Feuil1!$A$11:$F$29,5),IF(AND(H203>1997,H203<2000),VLOOKUP(I203,Feuil1!$A$11:$F$29,4),IF(AND(H203>1999,H203<2002),VLOOKUP(I203,Feuil1!$A$11:$F$29,3),VLOOKUP(I203,Feuil1!$A$11:$F$29,2))))),IF(OR(H203=\"SEN\",H203<1995),VLOOKUP(I203,Feuil1!$G$11:$L$25,6),IF(AND(H203>1994,H203<1998),VLOOKUP(I203,Feuil1!$G$11:$L$25,5),IF(AND(H203>1997,H203<2000),VLOOKUP(I203,Feuil1!$G$11:$L$25,4),IF(AND(H203>1999,H203<2002),VLOOKUP(I203,Feuil1!$G$11:$L$25,3),VLOOKUP(I203,Feuil1!$G$11:$L$25,2)))))))","v":"FS63"},124.91828817531378,null," ",{"$f":"T203-HLOOKUP(X203,Feuil1!$C$1:$BL$10,2,FALSE)","v":19},{"$f":"T203-HLOOKUP(X203,Feuil1!$C$1:$BL$10,3,FALSE)","v":9},{"$f":"T203-HLOOKUP(X203,Feuil1!$C$1:$BL$10,4,FALSE)","v":-1},{"$f":"T203-HLOOKUP(X203,Feuil1!$C$1:$BL$10,5,FALSE)","v":-16},{"$f":"T203-HLOOKUP(X203,Feuil1!$C$1:$BL$10,6,FALSE)","v":-31},{"$f":"T203-HLOOKUP(X203,Feuil1!$C$1:$BL$10,7,FALSE)","v":-46},{"$f":"T203-HLOOKUP(X203,Feuil1!$C$1:$BL$10,8,FALSE)","v":-66},{"$f":"T203-HLOOKUP(X203,Feuil1!$C$1:$BL$10,9,FALSE)","v":-86},{"$f":"T203-HLOOKUP(X203,Feuil1!$C$1:$BL$10,10,FALSE)","v":-106},null,null,null,null,null,null,"DEP +"]
["F","NE","BOU",46,336137,"GANDON ","Carole",1984,61.2,"Olympique Mâcon","F",33,36,-40,36,48,51,56,56,92,-30.400000000000006,"DEP +",7,{"$f":"IF(I204=\"\",\"\",IF(A204=\"H\",IF(OR(H204=\"SEN\",H204<1995),VLOOKUP(I204,Feuil1!$A$11:$F$29,6),IF(AND(H204>1994,H204<1998),VLOOKUP(I204,Feuil1!$A$11:$F$29,5),IF(AND(H204>1997,H204<2000),VLOOKUP(I204,Feuil1!$A$11:$F$29,4),IF(AND(H204>1999,H204<2002),VLOOKUP(I204,Feuil1!$A$11:$F$29,3),VLOOKUP(I204,Feuil1!$A$11:$F$29,2))))),IF(OR(H204=\"SEN\",H204<1995),VLOOKUP(I204,Feuil1!$G$11:$L$25,6),IF(AND(H204>1994,H204<1998),VLOOKUP(I204,Feuil1!$G$11:$L$25,5),IF(AND(H204>1997,H204<2000),VLOOKUP(I204,Feuil1!$G$11:$L$25,4),IF(AND(H204>1999,H204<2002),VLOOKUP(I204,Feuil1!$G$11:$L$25,3),VLOOKUP(I204,Feuil1!$G$11:$L$25,2)))))))","v":"FS63"},124.68366949168791,null," ",{"$f":"T204-HLOOKUP(X204,Feuil1!$C$1:$BL$10,2,FALSE)","v":17},{"$f":"T204-HLOOKUP(X204,Feuil1!$C$1:$BL$10,3,FALSE)","v":7},{"$f":"T204-HLOOKUP(X204,Feuil1!$C$1:$BL$10,4,FALSE)","v":-3},{"$f":"T204-HLOOKUP(X204,Feuil1!$C$1:$BL$10,5,FALSE)","v":-18},{"$f":"T204-HLOOKUP(X204,Feuil1!$C$1:$BL$10,6,FALSE)","v":-33},{"$f":"T204-HLOOKUP(X204,Feuil1!$C$1:$BL$10,7,FALSE)","v":-48},{"$f":"T204-HLOOKUP(X204,Feuil1!$C$1:$BL$10,8,FALSE)","v":-68},{"$f":"T204-HLOOKUP(X204,Feuil1!$C$1:$BL$10,9,FALSE)","v":-88},{"$f":"T204-HLOOKUP(X204,Feuil1!$C$1:$BL$10,10,FALSE)","v":-108},null,null,null,null,null,null,"DEP +"]
["F","NE","ALS",47,9508,"MANNY","SYLVIE",1967,60.8,"MJC Ungersheim","F",33,-37,37,37,50,54,-56,54,91,-30.599999999999994,"DEP +",6,{"$f":"IF(I205=\"\",\"\",IF(A205=\"H\",IF(OR(H205=\"SEN\",H205<1995),VLOOKUP(I205,Feuil1!$A$11:$F$29,6),IF(AND(H205>1994,H205<1998),VLOOKUP(I205,Feuil1!$A$11:$F$29,5),IF(AND(H205>1997,H205<2000),VLOOKUP(I205,Feuil1!$A$11:$F$29,4),IF(AND(H205>1999,H205<2002),VLOOKUP(I205,Feuil1!$A$11:$F$29,3),VLOOKUP(I205,Feuil1!$A$11:$F$29,2))))),IF(OR(H205=\"SEN\",H205<1995),VLOOKUP(I205,Feuil1!$G$11:$L$25,6),IF(AND(H205>1994,H205<1998),VLOOKUP(I205,Feuil1!$G$11:$L$25,5),IF(AND(H205>1997,H205<2000),VLOOKUP(I205,Feuil1!$G$11:$L$25,4),IF(AND(H205>1999,H205<2002),VLOOKUP(I205,Feuil1!$G$11:$L$25,3),VLOOKUP(I205,Feuil1!$G$11:$L$25,2)))))))","v":"FS63"},123.88842799299447,null," ",{"$f":"T205-HLOOKUP(X205,Feuil1!$C$1:$BL$10,2,FALSE)","v":16},{"$f":"T205-HLOOKUP(X205,Feuil1!$C$1:$BL$10,3,FALSE)","v":6},{"$f":"T205-HLOOKUP(X205,Feuil1!$C$1:$BL$10,4,FALSE)","v":-4},{"$f":"T205-HLOOKUP(X205,Feuil1!$C$1:$BL$10,5,FALSE)","v":-19},{"$f":"T205-HLOOKUP(X205,Feuil1!$C$1:$BL$10,6,FALSE)","v":-34},{"$f":"T205-HLOOKUP(X205,Feuil1!$C$1:$BL$10,7,FALSE)","v":-49},{"$f":"T205-HLOOKUP(X205,Feuil1!$C$1:$BL$10,8,FALSE)","v":-69},{"$f":"T205-HLOOKUP(X205,Feuil1!$C$1:$BL$10,9,FALSE)","v":-89},{"$f":"T205-HLOOKUP(X205,Feuil1!$C$1:$BL$10,10,FALSE)","v":-109},null,null,null,null,null,null,"DEP +"]
["F","N","IDF",48,256340,"ANDRE","Cécile",1973,62.9,"MANTES","F",30,35,-40,35,50,53,55,55,90,-35.799999999999997,"DEP +",5,{"$f":"IF(I206=\"\",\"\",IF(A206=\"H\",IF(OR(H206=\"SEN\",H206<1995),VLOOKUP(I206,Feuil1!$A$11:$F$29,6),IF(AND(H206>1994,H206<1998),VLOOKUP(I206,Feuil1!$A$11:$F$29,5),IF(AND(H206>1997,H206<2000),VLOOKUP(I206,Feuil1!$A$11:$F$29,4),IF(AND(H206>1999,H206<2002),VLOOKUP(I206,Feuil1!$A$11:$F$29,3),VLOOKUP(I206,Feuil1!$A$11:$F$29,2))))),IF(OR(H206=\"SEN\",H206<1995),VLOOKUP(I206,Feuil1!$G$11:$L$25,6),IF(AND(H206>1994,H206<1998),VLOOKUP(I206,Feuil1!$G$11:$L$25,5),IF(AND(H206>1997,H206<2000),VLOOKUP(I206,Feuil1!$G$11:$L$25,4),IF(AND(H206>1999,H206<2002),VLOOKUP(I206,Feuil1!$G$11:$L$25,3),VLOOKUP(I206,Feuil1!$G$11:$L$25,2)))))))","v":"FS63"},119.72929344470396,null," ",{"$f":"T206-HLOOKUP(X206,Feuil1!$C$1:$BL$10,2,FALSE)","v":15},{"$f":"T206-HLOOKUP(X206,Feuil1!$C$1:$BL$10,3,FALSE)","v":5},{"$f":"T206-HLOOKUP(X206,Feuil1!$C$1:$BL$10,4,FALSE)","v":-5},{"$f":"T206-HLOOKUP(X206,Feuil1!$C$1:$BL$10,5,FALSE)","v":-20},{"$f":"T206-HLOOKUP(X206,Feuil1!$C$1:$BL$10,6,FALSE)","v":-35},{"$f":"T206-HLOOKUP(X206,Feuil1!$C$1:$BL$10,7,FALSE)","v":-50},{"$f":"T206-HLOOKUP(X206,Feuil1!$C$1:$BL$10,8,FALSE)","v":-70},{"$f":"T206-HLOOKUP(X206,Feuil1!$C$1:$BL$10,9,FALSE)","v":-90},{"$f":"T206-HLOOKUP(X206,Feuil1!$C$1:$BL$10,10,FALSE)","v":-110},null,null,null,null,null,null,"DEP +"]
["F","SEST","CAZ",49,186993,"JOLY","Claire",1990,62.75,"ASLDD TOULON","F",36,39,-41,39,46,49,-51,49,88,-37.5,"DEP +",3,{"$f":"IF(I207=\"\",\"\",IF(A207=\"H\",IF(OR(H207=\"SEN\",H207<1995),VLOOKUP(I207,Feuil1!$A$11:$F$29,6),IF(AND(H207>1994,H207<1998),VLOOKUP(I207,Feuil1!$A$11:$F$29,5),IF(AND(H207>1997,H207<2000),VLOOKUP(I207,Feuil1!$A$11:$F$29,4),IF(AND(H207>1999,H207<2002),VLOOKUP(I207,Feuil1!$A$11:$F$29,3),VLOOKUP(I207,Feuil1!$A$11:$F$29,2))))),IF(OR(H207=\"SEN\",H207<1995),VLOOKUP(I207,Feuil1!$G$11:$L$25,6),IF(AND(H207>1994,H207<1998),VLOOKUP(I207,Feuil1!$G$11:$L$25,5),IF(AND(H207>1997,H207<2000),VLOOKUP(I207,Feuil1!$G$11:$L$25,4),IF(AND(H207>1999,H207<2002),VLOOKUP(I207,Feuil1!$G$11:$L$25,3),VLOOKUP(I207,Feuil1!$G$11:$L$25,2)))))))","v":"FS63"},117.25548585559284,null," ",{"$f":"T207-HLOOKUP(X207,Feuil1!$C$1:$BL$10,2,FALSE)","v":13},{"$f":"T207-HLOOKUP(X207,Feuil1!$C$1:$BL$10,3,FALSE)","v":3},{"$f":"T207-HLOOKUP(X207,Feuil1!$C$1:$BL$10,4,FALSE)","v":-7},{"$f":"T207-HLOOKUP(X207,Feuil1!$C$1:$BL$10,5,FALSE)","v":-22},{"$f":"T207-HLOOKUP(X207,Feuil1!$C$1:$BL$10,6,FALSE)","v":-37},{"$f":"T207-HLOOKUP(X207,Feuil1!$C$1:$BL$10,7,FALSE)","v":-52},{"$f":"T207-HLOOKUP(X207,Feuil1!$C$1:$BL$10,8,FALSE)","v":-72},{"$f":"T207-HLOOKUP(X207,Feuil1!$C$1:$BL$10,9,FALSE)","v":-92},{"$f":"T207-HLOOKUP(X207,Feuil1!$C$1:$BL$10,10,FALSE)","v":-112},null,null,null,null,null,null,"DEP +"]
["F","NE","LOR",50,374441,"ANCEL","Alizé",1989,61.3,"E.S.LANEUVEVILLOISE","F",35,38,40,40,43,46,-51,46,86,-36.599999999999994,"DEP +",1,{"$f":"IF(I208=\"\",\"\",IF(A208=\"H\",IF(OR(H208=\"SEN\",H208<1995),VLOOKUP(I208,Feuil1!$A$11:$F$29,6),IF(AND(H208>1994,H208<1998),VLOOKUP(I208,Feuil1!$A$11:$F$29,5),IF(AND(H208>1997,H208<2000),VLOOKUP(I208,Feuil1!$A$11:$F$29,4),IF(AND(H208>1999,H208<2002),VLOOKUP(I208,Feuil1!$A$11:$F$29,3),VLOOKUP(I208,Feuil1!$A$11:$F$29,2))))),IF(OR(H208=\"SEN\",H208<1995),VLOOKUP(I208,Feuil1!$G$11:$L$25,6),IF(AND(H208>1994,H208<1998),VLOOKUP(I208,Feuil1!$G$11:$L$25,5),IF(AND(H208>1997,H208<2000),VLOOKUP(I208,Feuil1!$G$11:$L$25,4),IF(AND(H208>1999,H208<2002),VLOOKUP(I208,Feuil1!$G$11:$L$25,3),VLOOKUP(I208,Feuil1!$G$11:$L$25,2)))))))","v":"FS63"},116.42133391352468,null," ",{"$f":"T208-HLOOKUP(X208,Feuil1!$C$1:$BL$10,2,FALSE)","v":11},{"$f":"T208-HLOOKUP(X208,Feuil1!$C$1:$BL$10,3,FALSE)","v":1},{"$f":"T208-HLOOKUP(X208,Feuil1!$C$1:$BL$10,4,FALSE)","v":-9},{"$f":"T208-HLOOKUP(X208,Feuil1!$C$1:$BL$10,5,FALSE)","v":-24},{"$f":"T208-HLOOKUP(X208,Feuil1!$C$1:$BL$10,6,FALSE)","v":-39},{"$f":"T208-HLOOKUP(X208,Feuil1!$C$1:$BL$10,7,FALSE)","v":-54},{"$f":"T208-HLOOKUP(X208,Feuil1!$C$1:$BL$10,8,FALSE)","v":-74},{"$f":"T208-HLOOKUP(X208,Feuil1!$C$1:$BL$10,9,FALSE)","v":-94},{"$f":"T208-HLOOKUP(X208,Feuil1!$C$1:$BL$10,10,FALSE)","v":-114},null,null,null,null,null,null,"DEP +"]
["F","N","IDF",51,366091,"PIHOUE","SANDRA",1981,62.3,"MELUN","F",35,-40,-40,35,-50,50,-55,50,85,-39.599999999999994,"DEP +",0,{"$f":"IF(I209=\"\",\"\",IF(A209=\"H\",IF(OR(H209=\"SEN\",H209<1995),VLOOKUP(I209,Feuil1!$A$11:$F$29,6),IF(AND(H209>1994,H209<1998),VLOOKUP(I209,Feuil1!$A$11:$F$29,5),IF(AND(H209>1997,H209<2000),VLOOKUP(I209,Feuil1!$A$11:$F$29,4),IF(AND(H209>1999,H209<2002),VLOOKUP(I209,Feuil1!$A$11:$F$29,3),VLOOKUP(I209,Feuil1!$A$11:$F$29,2))))),IF(OR(H209=\"SEN\",H209<1995),VLOOKUP(I209,Feuil1!$G$11:$L$25,6),IF(AND(H209>1994,H209<1998),VLOOKUP(I209,Feuil1!$G$11:$L$25,5),IF(AND(H209>1997,H209<2000),VLOOKUP(I209,Feuil1!$G$11:$L$25,4),IF(AND(H209>1999,H209<2002),VLOOKUP(I209,Feuil1!$G$11:$L$25,3),VLOOKUP(I209,Feuil1!$G$11:$L$25,2)))))))","v":"FS63"},113.80696461421714,null," ",{"$f":"T209-HLOOKUP(X209,Feuil1!$C$1:$BL$10,2,FALSE)","v":10},{"$f":"T209-HLOOKUP(X209,Feuil1!$C$1:$BL$10,3,FALSE)","v":0},{"$f":"T209-HLOOKUP(X209,Feuil1!$C$1:$BL$10,4,FALSE)","v":-10},{"$f":"T209-HLOOKUP(X209,Feuil1!$C$1:$BL$10,5,FALSE)","v":-25},{"$f":"T209-HLOOKUP(X209,Feuil1!$C$1:$BL$10,6,FALSE)","v":-40},{"$f":"T209-HLOOKUP(X209,Feuil1!$C$1:$BL$10,7,FALSE)","v":-55},{"$f":"T209-HLOOKUP(X209,Feuil1!$C$1:$BL$10,8,FALSE)","v":-75},{"$f":"T209-HLOOKUP(X209,Feuil1!$C$1:$BL$10,9,FALSE)","v":-95},{"$f":"T209-HLOOKUP(X209,Feuil1!$C$1:$BL$10,10,FALSE)","v":-115},null,null,null,null,null,null,"DEP +"]
["F","SEST","CAZ",52,377264,"JOINEAU","Jessica",1988,60.96,"AS MONACO","F",35,37,-40,37,40,45,47,47,84,-37.92,"DEB ",9,{"$f":"IF(I210=\"\",\"\",IF(A210=\"H\",IF(OR(H210=\"SEN\",H210<1995),VLOOKUP(I210,Feuil1!$A$11:$F$29,6),IF(AND(H210>1994,H210<1998),VLOOKUP(I210,Feuil1!$A$11:$F$29,5),IF(AND(H210>1997,H210<2000),VLOOKUP(I210,Feuil1!$A$11:$F$29,4),IF(AND(H210>1999,H210<2002),VLOOKUP(I210,Feuil1!$A$11:$F$29,3),VLOOKUP(I210,Feuil1!$A$11:$F$29,2))))),IF(OR(H210=\"SEN\",H210<1995),VLOOKUP(I210,Feuil1!$G$11:$L$25,6),IF(AND(H210>1994,H210<1998),VLOOKUP(I210,Feuil1!$G$11:$L$25,5),IF(AND(H210>1997,H210<2000),VLOOKUP(I210,Feuil1!$G$11:$L$25,4),IF(AND(H210>1999,H210<2002),VLOOKUP(I210,Feuil1!$G$11:$L$25,3),VLOOKUP(I210,Feuil1!$G$11:$L$25,2)))))))","v":"FS63"},114.15062629573134,null," ",{"$f":"T210-HLOOKUP(X210,Feuil1!$C$1:$BL$10,2,FALSE)","v":9},{"$f":"T210-HLOOKUP(X210,Feuil1!$C$1:$BL$10,3,FALSE)","v":-1},{"$f":"T210-HLOOKUP(X210,Feuil1!$C$1:$BL$10,4,FALSE)","v":-11},{"$f":"T210-HLOOKUP(X210,Feuil1!$C$1:$BL$10,5,FALSE)","v":-26},{"$f":"T210-HLOOKUP(X210,Feuil1!$C$1:$BL$10,6,FALSE)","v":-41},{"$f":"T210-HLOOKUP(X210,Feuil1!$C$1:$BL$10,7,FALSE)","v":-56},{"$f":"T210-HLOOKUP(X210,Feuil1!$C$1:$BL$10,8,FALSE)","v":-76},{"$f":"T210-HLOOKUP(X210,Feuil1!$C$1:$BL$10,9,FALSE)","v":-96},{"$f":"T210-HLOOKUP(X210,Feuil1!$C$1:$BL$10,10,FALSE)","v":-116},null,null,null,null,null,null,"DEB "]
["F","SEST","PRO",53,387903,"ZERGAOUI","Sophie",1982,60,"ISTRES SPORTS","F",30,35,37,37,40,-45,45,45,82,-38,"DEB ",7,{"$f":"IF(I211=\"\",\"\",IF(A211=\"H\",IF(OR(H211=\"SEN\",H211<1995),VLOOKUP(I211,Feuil1!$A$11:$F$29,6),IF(AND(H211>1994,H211<1998),VLOOKUP(I211,Feuil1!$A$11:$F$29,5),IF(AND(H211>1997,H211<2000),VLOOKUP(I211,Feuil1!$A$11:$F$29,4),IF(AND(H211>1999,H211<2002),VLOOKUP(I211,Feuil1!$A$11:$F$29,3),VLOOKUP(I211,Feuil1!$A$11:$F$29,2))))),IF(OR(H211=\"SEN\",H211<1995),VLOOKUP(I211,Feuil1!$G$11:$L$25,6),IF(AND(H211>1994,H211<1998),VLOOKUP(I211,Feuil1!$G$11:$L$25,5),IF(AND(H211>1997,H211<2000),VLOOKUP(I211,Feuil1!$G$11:$L$25,4),IF(AND(H211>1999,H211<2002),VLOOKUP(I211,Feuil1!$G$11:$L$25,3),VLOOKUP(I211,Feuil1!$G$11:$L$25,2)))))))","v":"FS63"},112.67353761246315,null," ",{"$f":"T211-HLOOKUP(X211,Feuil1!$C$1:$BL$10,2,FALSE)","v":7},{"$f":"T211-HLOOKUP(X211,Feuil1!$C$1:$BL$10,3,FALSE)","v":-3},{"$f":"T211-HLOOKUP(X211,Feuil1!$C$1:$BL$10,4,FALSE)","v":-13},{"$f":"T211-HLOOKUP(X211,Feuil1!$C$1:$BL$10,5,FALSE)","v":-28},{"$f":"T211-HLOOKUP(X211,Feuil1!$C$1:$BL$10,6,FALSE)","v":-43},{"$f":"T211-HLOOKUP(X211,Feuil1!$C$1:$BL$10,7,FALSE)","v":-58},{"$f":"T211-HLOOKUP(X211,Feuil1!$C$1:$BL$10,8,FALSE)","v":-78},{"$f":"T211-HLOOKUP(X211,Feuil1!$C$1:$BL$10,9,FALSE)","v":-98},{"$f":"T211-HLOOKUP(X211,Feuil1!$C$1:$BL$10,10,FALSE)","v":-118},null,null,null,null,null,null,"DEB "]
["F","ZCO","BRE",54,326389,"PALMER","Soline",1977,61.1,"Vannes AC","F",32,35,37,37,42,43,45,45,82,-40.200000000000003,"DEB ",7,{"$f":"IF(I212=\"\",\"\",IF(A212=\"H\",IF(OR(H212=\"SEN\",H212<1995),VLOOKUP(I212,Feuil1!$A$11:$F$29,6),IF(AND(H212>1994,H212<1998),VLOOKUP(I212,Feuil1!$A$11:$F$29,5),IF(AND(H212>1997,H212<2000),VLOOKUP(I212,Feuil1!$A$11:$F$29,4),IF(AND(H212>1999,H212<2002),VLOOKUP(I212,Feuil1!$A$11:$F$29,3),VLOOKUP(I212,Feuil1!$A$11:$F$29,2))))),IF(OR(H212=\"SEN\",H212<1995),VLOOKUP(I212,Feuil1!$G$11:$L$25,6),IF(AND(H212>1994,H212<1998),VLOOKUP(I212,Feuil1!$G$11:$L$25,5),IF(AND(H212>1997,H212<2000),VLOOKUP(I212,Feuil1!$G$11:$L$25,4),IF(AND(H212>1999,H212<2002),VLOOKUP(I212,Feuil1!$G$11:$L$25,3),VLOOKUP(I212,Feuil1!$G$11:$L$25,2)))))))","v":"FS63"},111.25638136799182,null," ",{"$f":"T212-HLOOKUP(X212,Feuil1!$C$1:$BL$10,2,FALSE)","v":7},{"$f":"T212-HLOOKUP(X212,Feuil1!$C$1:$BL$10,3,FALSE)","v":-3},{"$f":"T212-HLOOKUP(X212,Feuil1!$C$1:$BL$10,4,FALSE)","v":-13},{"$f":"T212-HLOOKUP(X212,Feuil1!$C$1:$BL$10,5,FALSE)","v":-28},{"$f":"T212-HLOOKUP(X212,Feuil1!$C$1:$BL$10,6,FALSE)","v":-43},{"$f":"T212-HLOOKUP(X212,Feuil1!$C$1:$BL$10,7,FALSE)","v":-58},{"$f":"T212-HLOOKUP(X212,Feuil1!$C$1:$BL$10,8,FALSE)","v":-78},{"$f":"T212-HLOOKUP(X212,Feuil1!$C$1:$BL$10,9,FALSE)","v":-98},{"$f":"T212-HLOOKUP(X212,Feuil1!$C$1:$BL$10,10,FALSE)","v":-118},null,null,null,null,null,null,"DEB "]
["F","N","IDF",55,306177,"SOLOME","OPHELIE",1981,62,"MANTES","F",30,32,-35,32,50,-55,-57,50,82,-42,"DEB ",7,{"$f":"IF(I213=\"\",\"\",IF(A213=\"H\",IF(OR(H213=\"SEN\",H213<1995),VLOOKUP(I213,Feuil1!$A$11:$F$29,6),IF(AND(H213>1994,H213<1998),VLOOKUP(I213,Feuil1!$A$11:$F$29,5),IF(AND(H213>1997,H213<2000),VLOOKUP(I213,Feuil1!$A$11:$F$29,4),IF(AND(H213>1999,H213<2002),VLOOKUP(I213,Feuil1!$A$11:$F$29,3),VLOOKUP(I213,Feuil1!$A$11:$F$29,2))))),IF(OR(H213=\"SEN\",H213<1995),VLOOKUP(I213,Feuil1!$G$11:$L$25,6),IF(AND(H213>1994,H213<1998),VLOOKUP(I213,Feuil1!$G$11:$L$25,5),IF(AND(H213>1997,H213<2000),VLOOKUP(I213,Feuil1!$G$11:$L$25,4),IF(AND(H213>1999,H213<2002),VLOOKUP(I213,Feuil1!$G$11:$L$25,3),VLOOKUP(I213,Feuil1!$G$11:$L$25,2)))))))","v":"FS63"},110.14927472200468,null," ",{"$f":"T213-HLOOKUP(X213,Feuil1!$C$1:$BL$10,2,FALSE)","v":7},{"$f":"T213-HLOOKUP(X213,Feuil1!$C$1:$BL$10,3,FALSE)","v":-3},{"$f":"T213-HLOOKUP(X213,Feuil1!$C$1:$BL$10,4,FALSE)","v":-13},{"$f":"T213-HLOOKUP(X213,Feuil1!$C$1:$BL$10,5,FALSE)","v":-28},{"$f":"T213-HLOOKUP(X213,Feuil1!$C$1:$BL$10,6,FALSE)","v":-43},{"$f":"T213-HLOOKUP(X213,Feuil1!$C$1:$BL$10,7,FALSE)","v":-58},{"$f":"T213-HLOOKUP(X213,Feuil1!$C$1:$BL$10,8,FALSE)","v":-78},{"$f":"T213-HLOOKUP(X213,Feuil1!$C$1:$BL$10,9,FALSE)","v":-98},{"$f":"T213-HLOOKUP(X213,Feuil1!$C$1:$BL$10,10,FALSE)","v":-118},null,null,null,null,null,null,"DEB "]
["F","N","IDF",56,379905,"PEREIRA DA SILVA","LYDIE",1983,60.8,"FRANCONVILLE","F",33,35,36,36,40,44,-46,44,80,-41.599999999999994,"DEB ",5,{"$f":"IF(I214=\"\",\"\",IF(A214=\"H\",IF(OR(H214=\"SEN\",H214<1995),VLOOKUP(I214,Feuil1!$A$11:$F$29,6),IF(AND(H214>1994,H214<1998),VLOOKUP(I214,Feuil1!$A$11:$F$29,5),IF(AND(H214>1997,H214<2000),VLOOKUP(I214,Feuil1!$A$11:$F$29,4),IF(AND(H214>1999,H214<2002),VLOOKUP(I214,Feuil1!$A$11:$F$29,3),VLOOKUP(I214,Feuil1!$A$11:$F$29,2))))),IF(OR(H214=\"SEN\",H214<1995),VLOOKUP(I214,Feuil1!$G$11:$L$25,6),IF(AND(H214>1994,H214<1998),VLOOKUP(I214,Feuil1!$G$11:$L$25,5),IF(AND(H214>1997,H214<2000),VLOOKUP(I214,Feuil1!$G$11:$L$25,4),IF(AND(H214>1999,H214<2002),VLOOKUP(I214,Feuil1!$G$11:$L$25,3),VLOOKUP(I214,Feuil1!$G$11:$L$25,2)))))))","v":"FS63"},108.91290373010503,null," ",{"$f":"T214-HLOOKUP(X214,Feuil1!$C$1:$BL$10,2,FALSE)","v":5},{"$f":"T214-HLOOKUP(X214,Feuil1!$C$1:$BL$10,3,FALSE)","v":-5},{"$f":"T214-HLOOKUP(X214,Feuil1!$C$1:$BL$10,4,FALSE)","v":-15},{"$f":"T214-HLOOKUP(X214,Feuil1!$C$1:$BL$10,5,FALSE)","v":-30},{"$f":"T214-HLOOKUP(X214,Feuil1!$C$1:$BL$10,6,FALSE)","v":-45},{"$f":"T214-HLOOKUP(X214,Feuil1!$C$1:$BL$10,7,FALSE)","v":-60},{"$f":"T214-HLOOKUP(X214,Feuil1!$C$1:$BL$10,8,FALSE)","v":-80},{"$f":"T214-HLOOKUP(X214,Feuil1!$C$1:$BL$10,9,FALSE)","v":-100},{"$f":"T214-HLOOKUP(X214,Feuil1!$C$1:$BL$10,10,FALSE)","v":-120},null,null,null,null,null,null,"DEB "]
["F","SEST","RAL",57,383893,"LAKHDE","Najatte",1969,61.2,"CH Arbresle","F",30,-32,32,32,40,43,46,46,78,-44.400000000000006,"DEB ",3,{"$f":"IF(I215=\"\",\"\",IF(A215=\"H\",IF(OR(H215=\"SEN\",H215<1995),VLOOKUP(I215,Feuil1!$A$11:$F$29,6),IF(AND(H215>1994,H215<1998),VLOOKUP(I215,Feuil1!$A$11:$F$29,5),IF(AND(H215>1997,H215<2000),VLOOKUP(I215,Feuil1!$A$11:$F$29,4),IF(AND(H215>1999,H215<2002),VLOOKUP(I215,Feuil1!$A$11:$F$29,3),VLOOKUP(I215,Feuil1!$A$11:$F$29,2))))),IF(OR(H215=\"SEN\",H215<1995),VLOOKUP(I215,Feuil1!$G$11:$L$25,6),IF(AND(H215>1994,H215<1998),VLOOKUP(I215,Feuil1!$G$11:$L$25,5),IF(AND(H215>1997,H215<2000),VLOOKUP(I215,Feuil1!$G$11:$L$25,4),IF(AND(H215>1999,H215<2002),VLOOKUP(I215,Feuil1!$G$11:$L$25,3),VLOOKUP(I215,Feuil1!$G$11:$L$25,2)))))))","v":"FS63"},105.71006761251802,null," ",{"$f":"T215-HLOOKUP(X215,Feuil1!$C$1:$BL$10,2,FALSE)","v":3},{"$f":"T215-HLOOKUP(X215,Feuil1!$C$1:$BL$10,3,FALSE)","v":-7},{"$f":"T215-HLOOKUP(X215,Feuil1!$C$1:$BL$10,4,FALSE)","v":-17},{"$f":"T215-HLOOKUP(X215,Feuil1!$C$1:$BL$10,5,FALSE)","v":-32},{"$f":"T215-HLOOKUP(X215,Feuil1!$C$1:$BL$10,6,FALSE)","v":-47},{"$f":"T215-HLOOKUP(X215,Feuil1!$C$1:$BL$10,7,FALSE)","v":-62},{"$f":"T215-HLOOKUP(X215,Feuil1!$C$1:$BL$10,8,FALSE)","v":-82},{"$f":"T215-HLOOKUP(X215,Feuil1!$C$1:$BL$10,9,FALSE)","v":-102},{"$f":"T215-HLOOKUP(X215,Feuil1!$C$1:$BL$10,10,FALSE)","v":-122},null,null,null,null,null,null,"DEB "]
["F","SEST","CAZ",58,376179,"ICARDI","Vanessa",1978,62,"HC HYERES","F",30,33,-36,33,-40,40,45,45,78,-46,"DEB ",3,{"$f":"IF(I216=\"\",\"\",IF(A216=\"H\",IF(OR(H216=\"SEN\",H216<1995),VLOOKUP(I216,Feuil1!$A$11:$F$29,6),IF(AND(H216>1994,H216<1998),VLOOKUP(I216,Feuil1!$A$11:$F$29,5),IF(AND(H216>1997,H216<2000),VLOOKUP(I216,Feuil1!$A$11:$F$29,4),IF(AND(H216>1999,H216<2002),VLOOKUP(I216,Feuil1!$A$11:$F$29,3),VLOOKUP(I216,Feuil1!$A$11:$F$29,2))))),IF(OR(H216=\"SEN\",H216<1995),VLOOKUP(I216,Feuil1!$G$11:$L$25,6),IF(AND(H216>1994,H216<1998),VLOOKUP(I216,Feuil1!$G$11:$L$25,5),IF(AND(H216>1997,H216<2000),VLOOKUP(I216,Feuil1!$G$11:$L$25,4),IF(AND(H216>1999,H216<2002),VLOOKUP(I216,Feuil1!$G$11:$L$25,3),VLOOKUP(I216,Feuil1!$G$11:$L$25,2)))))))","v":"FS63"},104.77613936971176,null," ",{"$f":"T216-HLOOKUP(X216,Feuil1!$C$1:$BL$10,2,FALSE)","v":3},{"$f":"T216-HLOOKUP(X216,Feuil1!$C$1:$BL$10,3,FALSE)","v":-7},{"$f":"T216-HLOOKUP(X216,Feuil1!$C$1:$BL$10,4,FALSE)","v":-17},{"$f":"T216-HLOOKUP(X216,Feuil1!$C$1:$BL$10,5,FALSE)","v":-32},{"$f":"T216-HLOOKUP(X216,Feuil1!$C$1:$BL$10,6,FALSE)","v":-47},{"$f":"T216-HLOOKUP(X216,Feuil1!$C$1:$BL$10,7,FALSE)","v":-62},{"$f":"T216-HLOOKUP(X216,Feuil1!$C$1:$BL$10,8,FALSE)","v":-82},{"$f":"T216-HLOOKUP(X216,Feuil1!$C$1:$BL$10,9,FALSE)","v":-102},{"$f":"T216-HLOOKUP(X216,Feuil1!$C$1:$BL$10,10,FALSE)","v":-122},null,null,null,null,null,null,"DEB "]
["F","CO","BNO",59,383854,"LEGARDINIER","Estelle",1992,62.7,"Stade St Lois","F",30,-34,34,34,39,41,44,44,78,-47.400000000000006,"DEB ",3,{"$f":"IF(I217=\"\",\"\",IF(A217=\"H\",IF(OR(H217=\"SEN\",H217<1995),VLOOKUP(I217,Feuil1!$A$11:$F$29,6),IF(AND(H217>1994,H217<1998),VLOOKUP(I217,Feuil1!$A$11:$F$29,5),IF(AND(H217>1997,H217<2000),VLOOKUP(I217,Feuil1!$A$11:$F$29,4),IF(AND(H217>1999,H217<2002),VLOOKUP(I217,Feuil1!$A$11:$F$29,3),VLOOKUP(I217,Feuil1!$A$11:$F$29,2))))),IF(OR(H217=\"SEN\",H217<1995),VLOOKUP(I217,Feuil1!$G$11:$L$25,6),IF(AND(H217>1994,H217<1998),VLOOKUP(I217,Feuil1!$G$11:$L$25,5),IF(AND(H217>1997,H217<2000),VLOOKUP(I217,Feuil1!$G$11:$L$25,4),IF(AND(H217>1999,H217<2002),VLOOKUP(I217,Feuil1!$G$11:$L$25,3),VLOOKUP(I217,Feuil1!$G$11:$L$25,2)))))))","v":"FS63"},103.98645223854793,null," ",{"$f":"T217-HLOOKUP(X217,Feuil1!$C$1:$BL$10,2,FALSE)","v":3},{"$f":"T217-HLOOKUP(X217,Feuil1!$C$1:$BL$10,3,FALSE)","v":-7},{"$f":"T217-HLOOKUP(X217,Feuil1!$C$1:$BL$10,4,FALSE)","v":-17},{"$f":"T217-HLOOKUP(X217,Feuil1!$C$1:$BL$10,5,FALSE)","v":-32},{"$f":"T217-HLOOKUP(X217,Feuil1!$C$1:$BL$10,6,FALSE)","v":-47},{"$f":"T217-HLOOKUP(X217,Feuil1!$C$1:$BL$10,7,FALSE)","v":-62},{"$f":"T217-HLOOKUP(X217,Feuil1!$C$1:$BL$10,8,FALSE)","v":-82},{"$f":"T217-HLOOKUP(X217,Feuil1!$C$1:$BL$10,9,FALSE)","v":-102},{"$f":"T217-HLOOKUP(X217,Feuil1!$C$1:$BL$10,10,FALSE)","v":-122},null,null,null,null,null,null,"DEB "]
["F","SO","MPY",60,326408,"DEBEVE","Sandrine",1970,62.8,"PAMIERS HC","F",28,31,35,35,38,40,43,43,78,-47.599999999999994,"DEB ",3,{"$f":"IF(I218=\"\",\"\",IF(A218=\"H\",IF(OR(H218=\"SEN\",H218<1995),VLOOKUP(I218,Feuil1!$A$11:$F$29,6),IF(AND(H218>1994,H218<1998),VLOOKUP(I218,Feuil1!$A$11:$F$29,5),IF(AND(H218>1997,H218<2000),VLOOKUP(I218,Feuil1!$A$11:$F$29,4),IF(AND(H218>1999,H218<2002),VLOOKUP(I218,Feuil1!$A$11:$F$29,3),VLOOKUP(I218,Feuil1!$A$11:$F$29,2))))),IF(OR(H218=\"SEN\",H218<1995),VLOOKUP(I218,Feuil1!$G$11:$L$25,6),IF(AND(H218>1994,H218<1998),VLOOKUP(I218,Feuil1!$G$11:$L$25,5),IF(AND(H218>1997,H218<2000),VLOOKUP(I218,Feuil1!$G$11:$L$25,4),IF(AND(H218>1999,H218<2002),VLOOKUP(I218,Feuil1!$G$11:$L$25,3),VLOOKUP(I218,Feuil1!$G$11:$L$25,2)))))))","v":"FS63"},103.87567049864872,null," ",{"$f":"T218-HLOOKUP(X218,Feuil1!$C$1:$BL$10,2,FALSE)","v":3},{"$f":"T218-HLOOKUP(X218,Feuil1!$C$1:$BL$10,3,FALSE)","v":-7},{"$f":"T218-HLOOKUP(X218,Feuil1!$C$1:$BL$10,4,FALSE)","v":-17},{"$f":"T218-HLOOKUP(X218,Feuil1!$C$1:$BL$10,5,FALSE)","v":-32},{"$f":"T218-HLOOKUP(X218,Feuil1!$C$1:$BL$10,6,FALSE)","v":-47},{"$f":"T218-HLOOKUP(X218,Feuil1!$C$1:$BL$10,7,FALSE)","v":-62},{"$f":"T218-HLOOKUP(X218,Feuil1!$C$1:$BL$10,8,FALSE)","v":-82},{"$f":"T218-HLOOKUP(X218,Feuil1!$C$1:$BL$10,9,FALSE)","v":-102},{"$f":"T218-HLOOKUP(X218,Feuil1!$C$1:$BL$10,10,FALSE)","v":-122},null,null,null,null,null,null,"DEB "]
["F","N","IDF",61,180788,"RAMON","FLORENCE",1967,60.6,"FRANCONVILLE","F",30,33,-35,33,40,44,-46,44,77,-44.2,"DEB ",2,{"$f":"IF(I219=\"\",\"\",IF(A219=\"H\",IF(OR(H219=\"SEN\",H219<1995),VLOOKUP(I219,Feuil1!$A$11:$F$29,6),IF(AND(H219>1994,H219<1998),VLOOKUP(I219,Feuil1!$A$11:$F$29,5),IF(AND(H219>1997,H219<2000),VLOOKUP(I219,Feuil1!$A$11:$F$29,4),IF(AND(H219>1999,H219<2002),VLOOKUP(I219,Feuil1!$A$11:$F$29,3),VLOOKUP(I219,Feuil1!$A$11:$F$29,2))))),IF(OR(H219=\"SEN\",H219<1995),VLOOKUP(I219,Feuil1!$G$11:$L$25,6),IF(AND(H219>1994,H219<1998),VLOOKUP(I219,Feuil1!$G$11:$L$25,5),IF(AND(H219>1997,H219<2000),VLOOKUP(I219,Feuil1!$G$11:$L$25,4),IF(AND(H219>1999,H219<2002),VLOOKUP(I219,Feuil1!$G$11:$L$25,3),VLOOKUP(I219,Feuil1!$G$11:$L$25,2)))))))","v":"FS63"},105.06891063687181,null," ",{"$f":"T219-HLOOKUP(X219,Feuil1!$C$1:$BL$10,2,FALSE)","v":2},{"$f":"T219-HLOOKUP(X219,Feuil1!$C$1:$BL$10,3,FALSE)","v":-8},{"$f":"T219-HLOOKUP(X219,Feuil1!$C$1:$BL$10,4,FALSE)","v":-18},{"$f":"T219-HLOOKUP(X219,Feuil1!$C$1:$BL$10,5,FALSE)","v":-33},{"$f":"T219-HLOOKUP(X219,Feuil1!$C$1:$BL$10,6,FALSE)","v":-48},{"$f":"T219-HLOOKUP(X219,Feuil1!$C$1:$BL$10,7,FALSE)","v":-63},{"$f":"T219-HLOOKUP(X219,Feuil1!$C$1:$BL$10,8,FALSE)","v":-83},{"$f":"T219-HLOOKUP(X219,Feuil1!$C$1:$BL$10,9,FALSE)","v":-103},{"$f":"T219-HLOOKUP(X219,Feuil1!$C$1:$BL$10,10,FALSE)","v":-123},null,null,null,null,null,null,"DEB "]
["F","SO","MPY",62,354787,"NEBOT-MOLNAR","Séverine",1979,59.5,"MONTAUBAN HC","F",29,32,-34,32,37,41,44,44,76,-43,"DEB ",1,{"$f":"IF(I220=\"\",\"\",IF(A220=\"H\",IF(OR(H220=\"SEN\",H220<1995),VLOOKUP(I220,Feuil1!$A$11:$F$29,6),IF(AND(H220>1994,H220<1998),VLOOKUP(I220,Feuil1!$A$11:$F$29,5),IF(AND(H220>1997,H220<2000),VLOOKUP(I220,Feuil1!$A$11:$F$29,4),IF(AND(H220>1999,H220<2002),VLOOKUP(I220,Feuil1!$A$11:$F$29,3),VLOOKUP(I220,Feuil1!$A$11:$F$29,2))))),IF(OR(H220=\"SEN\",H220<1995),VLOOKUP(I220,Feuil1!$G$11:$L$25,6),IF(AND(H220>1994,H220<1998),VLOOKUP(I220,Feuil1!$G$11:$L$25,5),IF(AND(H220>1997,H220<2000),VLOOKUP(I220,Feuil1!$G$11:$L$25,4),IF(AND(H220>1999,H220<2002),VLOOKUP(I220,Feuil1!$G$11:$L$25,3),VLOOKUP(I220,Feuil1!$G$11:$L$25,2)))))))","v":"FS63"},105.04884586440332,null," ",{"$f":"T220-HLOOKUP(X220,Feuil1!$C$1:$BL$10,2,FALSE)","v":1},{"$f":"T220-HLOOKUP(X220,Feuil1!$C$1:$BL$10,3,FALSE)","v":-9},{"$f":"T220-HLOOKUP(X220,Feuil1!$C$1:$BL$10,4,FALSE)","v":-19},{"$f":"T220-HLOOKUP(X220,Feuil1!$C$1:$BL$10,5,FALSE)","v":-34},{"$f":"T220-HLOOKUP(X220,Feuil1!$C$1:$BL$10,6,FALSE)","v":-49},{"$f":"T220-HLOOKUP(X220,Feuil1!$C$1:$BL$10,7,FALSE)","v":-64},{"$f":"T220-HLOOKUP(X220,Feuil1!$C$1:$BL$10,8,FALSE)","v":-84},{"$f":"T220-HLOOKUP(X220,Feuil1!$C$1:$BL$10,9,FALSE)","v":-104},{"$f":"T220-HLOOKUP(X220,Feuil1!$C$1:$BL$10,10,FALSE)","v":-124},null,null,null,null,null,null,"DEB "]
["F","SEST","CAZ",63,392615,"DISTEPHANO","Marjorie",1993,61.1,"HC HYERES","F",30,-33,33,33,-40,40,43,43,76,-46.2,"DEB ",1,{"$f":"IF(I221=\"\",\"\",IF(A221=\"H\",IF(OR(H221=\"SEN\",H221<1995),VLOOKUP(I221,Feuil1!$A$11:$F$29,6),IF(AND(H221>1994,H221<1998),VLOOKUP(I221,Feuil1!$A$11:$F$29,5),IF(AND(H221>1997,H221<2000),VLOOKUP(I221,Feuil1!$A$11:$F$29,4),IF(AND(H221>1999,H221<2002),VLOOKUP(I221,Feuil1!$A$11:$F$29,3),VLOOKUP(I221,Feuil1!$A$11:$F$29,2))))),IF(OR(H221=\"SEN\",H221<1995),VLOOKUP(I221,Feuil1!$G$11:$L$25,6),IF(AND(H221>1994,H221<1998),VLOOKUP(I221,Feuil1!$G$11:$L$25,5),IF(AND(H221>1997,H221<2000),VLOOKUP(I221,Feuil1!$G$11:$L$25,4),IF(AND(H221>1999,H221<2002),VLOOKUP(I221,Feuil1!$G$11:$L$25,3),VLOOKUP(I221,Feuil1!$G$11:$L$25,2)))))))","v":"FS63"},103.11567053618754,null," ",{"$f":"T221-HLOOKUP(X221,Feuil1!$C$1:$BL$10,2,FALSE)","v":1},{"$f":"T221-HLOOKUP(X221,Feuil1!$C$1:$BL$10,3,FALSE)","v":-9},{"$f":"T221-HLOOKUP(X221,Feuil1!$C$1:$BL$10,4,FALSE)","v":-19},{"$f":"T221-HLOOKUP(X221,Feuil1!$C$1:$BL$10,5,FALSE)","v":-34},{"$f":"T221-HLOOKUP(X221,Feuil1!$C$1:$BL$10,6,FALSE)","v":-49},{"$f":"T221-HLOOKUP(X221,Feuil1!$C$1:$BL$10,7,FALSE)","v":-64},{"$f":"T221-HLOOKUP(X221,Feuil1!$C$1:$BL$10,8,FALSE)","v":-84},{"$f":"T221-HLOOKUP(X221,Feuil1!$C$1:$BL$10,9,FALSE)","v":-104},{"$f":"T221-HLOOKUP(X221,Feuil1!$C$1:$BL$10,10,FALSE)","v":-124},null,null,null,null,null,null,"DEB "]
["F","N","IDF",64,287957,"TERMOLLE","SOPHIE",1978,59.6,"SAINT-MAUR","F",30,32,34,34,36,38,41,41,75,-44.2,"DEB ",0,{"$f":"IF(I222=\"\",\"\",IF(A222=\"H\",IF(OR(H222=\"SEN\",H222<1995),VLOOKUP(I222,Feuil1!$A$11:$F$29,6),IF(AND(H222>1994,H222<1998),VLOOKUP(I222,Feuil1!$A$11:$F$29,5),IF(AND(H222>1997,H222<2000),VLOOKUP(I222,Feuil1!$A$11:$F$29,4),IF(AND(H222>1999,H222<2002),VLOOKUP(I222,Feuil1!$A$11:$F$29,3),VLOOKUP(I222,Feuil1!$A$11:$F$29,2))))),IF(OR(H222=\"SEN\",H222<1995),VLOOKUP(I222,Feuil1!$G$11:$L$25,6),IF(AND(H222>1994,H222<1998),VLOOKUP(I222,Feuil1!$G$11:$L$25,5),IF(AND(H222>1997,H222<2000),VLOOKUP(I222,Feuil1!$G$11:$L$25,4),IF(AND(H222>1999,H222<2002),VLOOKUP(I222,Feuil1!$G$11:$L$25,3),VLOOKUP(I222,Feuil1!$G$11:$L$25,2)))))))","v":"FS63"},103.54315865572187,null," ",{"$f":"T222-HLOOKUP(X222,Feuil1!$C$1:$BL$10,2,FALSE)","v":0},{"$f":"T222-HLOOKUP(X222,Feuil1!$C$1:$BL$10,3,FALSE)","v":-10},{"$f":"T222-HLOOKUP(X222,Feuil1!$C$1:$BL$10,4,FALSE)","v":-20},{"$f":"T222-HLOOKUP(X222,Feuil1!$C$1:$BL$10,5,FALSE)","v":-35},{"$f":"T222-HLOOKUP(X222,Feuil1!$C$1:$BL$10,6,FALSE)","v":-50},{"$f":"T222-HLOOKUP(X222,Feuil1!$C$1:$BL$10,7,FALSE)","v":-65},{"$f":"T222-HLOOKUP(X222,Feuil1!$C$1:$BL$10,8,FALSE)","v":-85},{"$f":"T222-HLOOKUP(X222,Feuil1!$C$1:$BL$10,9,FALSE)","v":-105},{"$f":"T222-HLOOKUP(X222,Feuil1!$C$1:$BL$10,10,FALSE)","v":-125},null,null,null,null,null,null,"DEB "]
["F","N","NPC",65,378541,"MALIAR","Mandy",1993,60.3,"CAHC BERCK/MER","F",30,-33,33,{"$f":"IF(H223=\"\",\"\",IF(MAXA(L223:N223)<=0,0,MAXA(L223:N223)))","v":33},35,37,40,{"$f":"IF(H223=\"\",\"\",IF(MAXA(P223:R223)<=0,0,MAXA(P223:R223)))","v":40},{"$f":"IF(H223=\"\",\"\",IF(OR(O223=0,S223=0),0,O223+S223))","v":73},{"$f":"T223-I223*2","v":-47.599999999999994},{"$f":"IF(H223=\"\",\"\",AQ223)","v":"DEB "},{"$f":"IF(AJ223>=0,AJ223,IF(AI223>=0,AI223,IF(AH223>=0,AH223,IF(AG223>=0,AG223,IF(AF223>=0,AF223,IF(AE223>=0,AE223,IF(AD223>=0,AD223,IF(AC223>=0,AC223,AB223))))))))","v":-2},{"$f":"IF(I223=\"\",\"\",IF(A223=\"H\",IF(OR(H223=\"SEN\",H223<1995),VLOOKUP(I223,Feuil1!$A$11:$F$29,6),IF(AND(H223>1994,H223<1998),VLOOKUP(I223,Feuil1!$A$11:$F$29,5),IF(AND(H223>1997,H223<2000),VLOOKUP(I223,Feuil1!$A$11:$F$29,4),IF(AND(H223>1999,H223<2002),VLOOKUP(I223,Feuil1!$A$11:$F$29,3),VLOOKUP(I223,Feuil1!$A$11:$F$29,2))))),IF(OR(H223=\"SEN\",H223<1995),VLOOKUP(I223,Feuil1!$G$11:$L$25,6),IF(AND(H223>1994,H223<1998),VLOOKUP(I223,Feuil1!$G$11:$L$25,5),IF(AND(H223>1997,H223<2000),VLOOKUP(I223,Feuil1!$G$11:$L$25,4),IF(AND(H223>1999,H223<2002),VLOOKUP(I223,Feuil1!$G$11:$L$25,3),VLOOKUP(I223,Feuil1!$G$11:$L$25,2)))))))","v":"FS63"},{"$f":"IF(I223=\"\",\"\",IF(A223=\"H\",10^(0.794358141*LOG(I223/174.393)^2)*T223,IF(A223=\"F\",10^(0.89726074*LOG(I223/148.026)^2)*T223,\"\")))","v":99.956421632102661},null," ",{"$f":"T223-HLOOKUP(X223,Feuil1!$C$1:$BL$10,2,FALSE)","v":-2},{"$f":"T223-HLOOKUP(X223,Feuil1!$C$1:$BL$10,3,FALSE)","v":-12},{"$f":"T223-HLOOKUP(X223,Feuil1!$C$1:$BL$10,4,FALSE)","v":-22},{"$f":"T223-HLOOKUP(X223,Feuil1!$C$1:$BL$10,5,FALSE)","v":-37},{"$f":"T223-HLOOKUP(X223,Feuil1!$C$1:$BL$10,6,FALSE)","v":-52},{"$f":"T223-HLOOKUP(X223,Feuil1!$C$1:$BL$10,7,FALSE)","v":-67},{"$f":"T223-HLOOKUP(X223,Feuil1!$C$1:$BL$10,8,FALSE)","v":-87},{"$f":"T223-HLOOKUP(X223,Feuil1!$C$1:$BL$10,9,FALSE)","v":-107},{"$f":"T223-HLOOKUP(X223,Feuil1!$C$1:$BL$10,10,FALSE)","v":-127},null,null,null,null,null,null,{"$f":"IF(AJ223>=0,$AJ$4,IF(AI223>=0,$AI$4,IF(AH223>=0,$AH$4,IF(AG223>=0,$AG$4,IF(AF223>=0,$AF$4,IF(AE223>=0,$AE$4,IF(AD223>=0,$AD$4,IF(AC223>=0,$AC$4,$AB$4))))))))","v":"DEB "}]
["F","NE","CHA",66,376675,"ANAEV ","Sophie",1986,62.35,"Reims HM","F",30,-33,33,33,37,40,-43,40,73,-51.7,"DEB ",-2,{"$f":"IF(I224=\"\",\"\",IF(A224=\"H\",IF(OR(H224=\"SEN\",H224<1995),VLOOKUP(I224,Feuil1!$A$11:$F$29,6),IF(AND(H224>1994,H224<1998),VLOOKUP(I224,Feuil1!$A$11:$F$29,5),IF(AND(H224>1997,H224<2000),VLOOKUP(I224,Feuil1!$A$11:$F$29,4),IF(AND(H224>1999,H224<2002),VLOOKUP(I224,Feuil1!$A$11:$F$29,3),VLOOKUP(I224,Feuil1!$A$11:$F$29,2))))),IF(OR(H224=\"SEN\",H224<1995),VLOOKUP(I224,Feuil1!$G$11:$L$25,6),IF(AND(H224>1994,H224<1998),VLOOKUP(I224,Feuil1!$G$11:$L$25,5),IF(AND(H224>1997,H224<2000),VLOOKUP(I224,Feuil1!$G$11:$L$25,4),IF(AND(H224>1999,H224<2002),VLOOKUP(I224,Feuil1!$G$11:$L$25,3),VLOOKUP(I224,Feuil1!$G$11:$L$25,2)))))))","v":"FS63"},97.687251466163332,null," ",{"$f":"T224-HLOOKUP(X224,Feuil1!$C$1:$BL$10,2,FALSE)","v":-2},{"$f":"T224-HLOOKUP(X224,Feuil1!$C$1:$BL$10,3,FALSE)","v":-12},{"$f":"T224-HLOOKUP(X224,Feuil1!$C$1:$BL$10,4,FALSE)","v":-22},{"$f":"T224-HLOOKUP(X224,Feuil1!$C$1:$BL$10,5,FALSE)","v":-37},{"$f":"T224-HLOOKUP(X224,Feuil1!$C$1:$BL$10,6,FALSE)","v":-52},{"$f":"T224-HLOOKUP(X224,Feuil1!$C$1:$BL$10,7,FALSE)","v":-67},{"$f":"T224-HLOOKUP(X224,Feuil1!$C$1:$BL$10,8,FALSE)","v":-87},{"$f":"T224-HLOOKUP(X224,Feuil1!$C$1:$BL$10,9,FALSE)","v":-107},{"$f":"T224-HLOOKUP(X224,Feuil1!$C$1:$BL$10,10,FALSE)","v":-127},null,null,null,null,null,null,"DEB "]
["F","SEST","CAZ",67,377,"DISPERATI DALLE","Amelie",1986,58.35,"AS MONACO","F",25,27,-30,27,35,38,40,40,67,-49.7,"DEB ",-8,{"$f":"IF(I225=\"\",\"\",IF(A225=\"H\",IF(OR(H225=\"SEN\",H225<1995),VLOOKUP(I225,Feuil1!$A$11:$F$29,6),IF(AND(H225>1994,H225<1998),VLOOKUP(I225,Feuil1!$A$11:$F$29,5),IF(AND(H225>1997,H225<2000),VLOOKUP(I225,Feuil1!$A$11:$F$29,4),IF(AND(H225>1999,H225<2002),VLOOKUP(I225,Feuil1!$A$11:$F$29,3),VLOOKUP(I225,Feuil1!$A$11:$F$29,2))))),IF(OR(H225=\"SEN\",H225<1995),VLOOKUP(I225,Feuil1!$G$11:$L$25,6),IF(AND(H225>1994,H225<1998),VLOOKUP(I225,Feuil1!$G$11:$L$25,5),IF(AND(H225>1997,H225<2000),VLOOKUP(I225,Feuil1!$G$11:$L$25,4),IF(AND(H225>1999,H225<2002),VLOOKUP(I225,Feuil1!$G$11:$L$25,3),VLOOKUP(I225,Feuil1!$G$11:$L$25,2)))))))","v":"FS63"},93.915573694737105,null," ",{"$f":"T225-HLOOKUP(X225,Feuil1!$C$1:$BL$10,2,FALSE)","v":-8},{"$f":"T225-HLOOKUP(X225,Feuil1!$C$1:$BL$10,3,FALSE)","v":-18},{"$f":"T225-HLOOKUP(X225,Feuil1!$C$1:$BL$10,4,FALSE)","v":-28},{"$f":"T225-HLOOKUP(X225,Feuil1!$C$1:$BL$10,5,FALSE)","v":-43},{"$f":"T225-HLOOKUP(X225,Feuil1!$C$1:$BL$10,6,FALSE)","v":-58},{"$f":"T225-HLOOKUP(X225,Feuil1!$C$1:$BL$10,7,FALSE)","v":-73},{"$f":"T225-HLOOKUP(X225,Feuil1!$C$1:$BL$10,8,FALSE)","v":-93},{"$f":"T225-HLOOKUP(X225,Feuil1!$C$1:$BL$10,9,FALSE)","v":-113},{"$f":"T225-HLOOKUP(X225,Feuil1!$C$1:$BL$10,10,FALSE)","v":-133},null,null,null,null,null,null,"DEB "]
["F","SEST","RAL",68,383921,"NICOUD","Clémence",1994,62.3,"SAINT MARCELLIN","F",23,26,28,28,28,31,33,33,61,-63.599999999999994,"DEB ",-14,{"$f":"IF(I226=\"\",\"\",IF(A226=\"H\",IF(OR(H226=\"SEN\",H226<1995),VLOOKUP(I226,Feuil1!$A$11:$F$29,6),IF(AND(H226>1994,H226<1998),VLOOKUP(I226,Feuil1!$A$11:$F$29,5),IF(AND(H226>1997,H226<2000),VLOOKUP(I226,Feuil1!$A$11:$F$29,4),IF(AND(H226>1999,H226<2002),VLOOKUP(I226,Feuil1!$A$11:$F$29,3),VLOOKUP(I226,Feuil1!$A$11:$F$29,2))))),IF(OR(H226=\"SEN\",H226<1995),VLOOKUP(I226,Feuil1!$G$11:$L$25,6),IF(AND(H226>1994,H226<1998),VLOOKUP(I226,Feuil1!$G$11:$L$25,5),IF(AND(H226>1997,H226<2000),VLOOKUP(I226,Feuil1!$G$11:$L$25,4),IF(AND(H226>1999,H226<2002),VLOOKUP(I226,Feuil1!$G$11:$L$25,3),VLOOKUP(I226,Feuil1!$G$11:$L$25,2)))))))","v":"FS63"},81.673233429026411,null," ",{"$f":"T226-HLOOKUP(X226,Feuil1!$C$1:$BL$10,2,FALSE)","v":-14},{"$f":"T226-HLOOKUP(X226,Feuil1!$C$1:$BL$10,3,FALSE)","v":-24},{"$f":"T226-HLOOKUP(X226,Feuil1!$C$1:$BL$10,4,FALSE)","v":-34},{"$f":"T226-HLOOKUP(X226,Feuil1!$C$1:$BL$10,5,FALSE)","v":-49},{"$f":"T226-HLOOKUP(X226,Feuil1!$C$1:$BL$10,6,FALSE)","v":-64},{"$f":"T226-HLOOKUP(X226,Feuil1!$C$1:$BL$10,7,FALSE)","v":-79},{"$f":"T226-HLOOKUP(X226,Feuil1!$C$1:$BL$10,8,FALSE)","v":-99},{"$f":"T226-HLOOKUP(X226,Feuil1!$C$1:$BL$10,9,FALSE)","v":-119},{"$f":"T226-HLOOKUP(X226,Feuil1!$C$1:$BL$10,10,FALSE)","v":-139},null,null,null,null,null,null,"DEB "]
["F","NE","ALS",69,385689,"FENRICH","TIFFANY",1984,62.9,"ASI Avenir HM","F",20,23,26,26,30,32,35,35,61,-64.8,"DEB ",-14,{"$f":"IF(I227=\"\",\"\",IF(A227=\"H\",IF(OR(H227=\"SEN\",H227<1995),VLOOKUP(I227,Feuil1!$A$11:$F$29,6),IF(AND(H227>1994,H227<1998),VLOOKUP(I227,Feuil1!$A$11:$F$29,5),IF(AND(H227>1997,H227<2000),VLOOKUP(I227,Feuil1!$A$11:$F$29,4),IF(AND(H227>1999,H227<2002),VLOOKUP(I227,Feuil1!$A$11:$F$29,3),VLOOKUP(I227,Feuil1!$A$11:$F$29,2))))),IF(OR(H227=\"SEN\",H227<1995),VLOOKUP(I227,Feuil1!$G$11:$L$25,6),IF(AND(H227>1994,H227<1998),VLOOKUP(I227,Feuil1!$G$11:$L$25,5),IF(AND(H227>1997,H227<2000),VLOOKUP(I227,Feuil1!$G$11:$L$25,4),IF(AND(H227>1999,H227<2002),VLOOKUP(I227,Feuil1!$G$11:$L$25,3),VLOOKUP(I227,Feuil1!$G$11:$L$25,2)))))))","v":"FS63"},81.149854445854899,null," ",{"$f":"T227-HLOOKUP(X227,Feuil1!$C$1:$BL$10,2,FALSE)","v":-14},{"$f":"T227-HLOOKUP(X227,Feuil1!$C$1:$BL$10,3,FALSE)","v":-24},{"$f":"T227-HLOOKUP(X227,Feuil1!$C$1:$BL$10,4,FALSE)","v":-34},{"$f":"T227-HLOOKUP(X227,Feuil1!$C$1:$BL$10,5,FALSE)","v":-49},{"$f":"T227-HLOOKUP(X227,Feuil1!$C$1:$BL$10,6,FALSE)","v":-64},{"$f":"T227-HLOOKUP(X227,Feuil1!$C$1:$BL$10,7,FALSE)","v":-79},{"$f":"T227-HLOOKUP(X227,Feuil1!$C$1:$BL$10,8,FALSE)","v":-99},{"$f":"T227-HLOOKUP(X227,Feuil1!$C$1:$BL$10,9,FALSE)","v":-119},{"$f":"T227-HLOOKUP(X227,Feuil1!$C$1:$BL$10,10,FALSE)","v":-139},null,null,null,null,null,null,"DEB "]
["F","N","IDF",70,386222,"WALI","SANDRA",1992,60.5,"RUEIL","F",16,19,22,22,22,26,30,30,52,-69,"DEB ",-23,{"$f":"IF(I228=\"\",\"\",IF(A228=\"H\",IF(OR(H228=\"SEN\",H228<1995),VLOOKUP(I228,Feuil1!$A$11:$F$29,6),IF(AND(H228>1994,H228<1998),VLOOKUP(I228,Feuil1!$A$11:$F$29,5),IF(AND(H228>1997,H228<2000),VLOOKUP(I228,Feuil1!$A$11:$F$29,4),IF(AND(H228>1999,H228<2002),VLOOKUP(I228,Feuil1!$A$11:$F$29,3),VLOOKUP(I228,Feuil1!$A$11:$F$29,2))))),IF(OR(H228=\"SEN\",H228<1995),VLOOKUP(I228,Feuil1!$G$11:$L$25,6),IF(AND(H228>1994,H228<1998),VLOOKUP(I228,Feuil1!$G$11:$L$25,5),IF(AND(H228>1997,H228<2000),VLOOKUP(I228,Feuil1!$G$11:$L$25,4),IF(AND(H228>1999,H228<2002),VLOOKUP(I228,Feuil1!$G$11:$L$25,3),VLOOKUP(I228,Feuil1!$G$11:$L$25,2)))))))","v":"FS63"},71.037315106957905,null," ",{"$f":"T228-HLOOKUP(X228,Feuil1!$C$1:$BL$10,2,FALSE)","v":-23},{"$f":"T228-HLOOKUP(X228,Feuil1!$C$1:$BL$10,3,FALSE)","v":-33},{"$f":"T228-HLOOKUP(X228,Feuil1!$C$1:$BL$10,4,FALSE)","v":-43},{"$f":"T228-HLOOKUP(X228,Feuil1!$C$1:$BL$10,5,FALSE)","v":-58},{"$f":"T228-HLOOKUP(X228,Feuil1!$C$1:$BL$10,6,FALSE)","v":-73},{"$f":"T228-HLOOKUP(X228,Feuil1!$C$1:$BL$10,7,FALSE)","v":-88},{"$f":"T228-HLOOKUP(X228,Feuil1!$C$1:$BL$10,8,FALSE)","v":-108},{"$f":"T228-HLOOKUP(X228,Feuil1!$C$1:$BL$10,9,FALSE)","v":-128},{"$f":"T228-HLOOKUP(X228,Feuil1!$C$1:$BL$10,10,FALSE)","v":-148},null,null,null,null,null,null,"DEB "]
["F","SO","MPY",71,356063,"LETERRIER","Kathleen",1994,60.8,"TARBES CUTPH","F",20,"X","X",20,20,"X","X",20,40,-81.599999999999994,"DEB ",-35,{"$f":"IF(I229=\"\",\"\",IF(A229=\"H\",IF(OR(H229=\"SEN\",H229<1995),VLOOKUP(I229,Feuil1!$A$11:$F$29,6),IF(AND(H229>1994,H229<1998),VLOOKUP(I229,Feuil1!$A$11:$F$29,5),IF(AND(H229>1997,H229<2000),VLOOKUP(I229,Feuil1!$A$11:$F$29,4),IF(AND(H229>1999,H229<2002),VLOOKUP(I229,Feuil1!$A$11:$F$29,3),VLOOKUP(I229,Feuil1!$A$11:$F$29,2))))),IF(OR(H229=\"SEN\",H229<1995),VLOOKUP(I229,Feuil1!$G$11:$L$25,6),IF(AND(H229>1994,H229<1998),VLOOKUP(I229,Feuil1!$G$11:$L$25,5),IF(AND(H229>1997,H229<2000),VLOOKUP(I229,Feuil1!$G$11:$L$25,4),IF(AND(H229>1999,H229<2002),VLOOKUP(I229,Feuil1!$G$11:$L$25,3),VLOOKUP(I229,Feuil1!$G$11:$L$25,2)))))))","v":"FS63"},54.456451865052514,null," ",{"$f":"T229-HLOOKUP(X229,Feuil1!$C$1:$BL$10,2,FALSE)","v":-35},{"$f":"T229-HLOOKUP(X229,Feuil1!$C$1:$BL$10,3,FALSE)","v":-45},{"$f":"T229-HLOOKUP(X229,Feuil1!$C$1:$BL$10,4,FALSE)","v":-55},{"$f":"T229-HLOOKUP(X229,Feuil1!$C$1:$BL$10,5,FALSE)","v":-70},{"$f":"T229-HLOOKUP(X229,Feuil1!$C$1:$BL$10,6,FALSE)","v":-85},{"$f":"T229-HLOOKUP(X229,Feuil1!$C$1:$BL$10,7,FALSE)","v":-100},{"$f":"T229-HLOOKUP(X229,Feuil1!$C$1:$BL$10,8,FALSE)","v":-120},{"$f":"T229-HLOOKUP(X229,Feuil1!$C$1:$BL$10,9,FALSE)","v":-140},{"$f":"T229-HLOOKUP(X229,Feuil1!$C$1:$BL$10,10,FALSE)","v":-160},null,null,null,null,null,null,"DEB "]
["F","ZCO","BRE",72,360543,"POUSSART","Isabelle",1969,61.25,"CHM Plouhinec PR","F",22,-25,-25,22,-34,-34,-34,0,0,-122.5,"DEB ",-75,{"$f":"IF(I230=\"\",\"\",IF(A230=\"H\",IF(OR(H230=\"SEN\",H230<1995),VLOOKUP(I230,Feuil1!$A$11:$F$29,6),IF(AND(H230>1994,H230<1998),VLOOKUP(I230,Feuil1!$A$11:$F$29,5),IF(AND(H230>1997,H230<2000),VLOOKUP(I230,Feuil1!$A$11:$F$29,4),IF(AND(H230>1999,H230<2002),VLOOKUP(I230,Feuil1!$A$11:$F$29,3),VLOOKUP(I230,Feuil1!$A$11:$F$29,2))))),IF(OR(H230=\"SEN\",H230<1995),VLOOKUP(I230,Feuil1!$G$11:$L$25,6),IF(AND(H230>1994,H230<1998),VLOOKUP(I230,Feuil1!$G$11:$L$25,5),IF(AND(H230>1997,H230<2000),VLOOKUP(I230,Feuil1!$G$11:$L$25,4),IF(AND(H230>1999,H230<2002),VLOOKUP(I230,Feuil1!$G$11:$L$25,3),VLOOKUP(I230,Feuil1!$G$11:$L$25,2)))))))","v":"FS63"},0,null," ",{"$f":"T230-HLOOKUP(X230,Feuil1!$C$1:$BL$10,2,FALSE)","v":-75},{"$f":"T230-HLOOKUP(X230,Feuil1!$C$1:$BL$10,3,FALSE)","v":-85},{"$f":"T230-HLOOKUP(X230,Feuil1!$C$1:$BL$10,4,FALSE)","v":-95},{"$f":"T230-HLOOKUP(X230,Feuil1!$C$1:$BL$10,5,FALSE)","v":-110},{"$f":"T230-HLOOKUP(X230,Feuil1!$C$1:$BL$10,6,FALSE)","v":-125},{"$f":"T230-HLOOKUP(X230,Feuil1!$C$1:$BL$10,7,FALSE)","v":-140},{"$f":"T230-HLOOKUP(X230,Feuil1!$C$1:$BL$10,8,FALSE)","v":-160},{"$f":"T230-HLOOKUP(X230,Feuil1!$C$1:$BL$10,9,FALSE)","v":-180},{"$f":"T230-HLOOKUP(X230,Feuil1!$C$1:$BL$10,10,FALSE)","v":-200},null,null,null,null,null,null,"DEB "]
[null,null,null,null,null,null,null,null,null,null,null,null,null,null,null,null,null,null,null,null,null,null,null,null,null,null," ",{"$f":"T231-HLOOKUP(X231,Feuil1!$C$1:$BL$10,2,FALSE)","v":{"$error":"#N/A"}},{"$f":"T231-HLOOKUP(X231,Feuil1!$C$1:$BL$10,3,FALSE)","v":{"$error":"#N/A"}},{"$f":"T231-HLOOKUP(X231,Feuil1!$C$1:$BL$10,4,FALSE)","v":{"$error":"#N/A"}},{"$f":"T231-HLOOKUP(X231,Feuil1!$C$1:$BL$10,5,FALSE)","v":{"$error":"#N/A"}},{"$f":"T231-HLOOKUP(X231,Feuil1!$C$1:$BL$10,6,FALSE)","v":{"$error":"#N/A"}},{"$f":"T231-HLOOKUP(X231,Feuil1!$C$1:$BL$10,7,FALSE)","v":{"$error":"#N/A"}},{"$f":"T231-HLOOKUP(X231,Feuil1!$C$1:$BL$10,8,FALSE)","v":{"$error":"#N/A"}},{"$f":"T231-HLOOKUP(X231,Feuil1!$C$1:$BL$10,9,FALSE)","v":{"$error":"#N/A"}},{"$f":"T231-HLOOKUP(X231,Feuil1!$C$1:$BL$10,10,FALSE)","v":{"$error":"#N/A"}},null,null,null,null,null,null,{"$f":"IF(AJ231>=0,$AJ$4,IF(AI231>=0,$AI$4,IF(AH231>=0,$AH$4,IF(AG231>=0,$AG$4,IF(AF231>=0,$AF$4,IF(AE231>=0,$AE$4,IF(AD231>=0,$AD$4,IF(AC231>=0,$AC$4,$AB$4))))))))","v":{"$error":"#N/A"}}]
["F","SEST","CAZ",1,199418,"KASIRYE","Ruth",1982,68.8,"ES VILLE LOUBET","NOR",90,93,96,{"$f":"IF(H232=\"\",\"\",IF(MAXA(L232:N232)<=0,0,MAXA(L232:N232)))","v":96},113,118,123,{"$f":"IF(H232=\"\",\"\",IF(MAXA(P232:R232)<=0,0,MAXA(P232:R232)))","v":123},{"$f":"IF(H232=\"\",\"\",IF(OR(O232=0,S232=0),0,O232+S232))","v":219},{"$f":"T232-I232*2","v":81.400000000000006},{"$f":"IF(H232=\"\",\"\",AQ232)","v":"OLY +"},{"$f":"IF(AJ232>=0,AJ232,IF(AI232>=0,AI232,IF(AH232>=0,AH232,IF(AG232>=0,AG232,IF(AF232>=0,AF232,IF(AE232>=0,AE232,IF(AD232>=0,AD232,IF(AC232>=0,AC232,AB232))))))))","v":14},{"$f":"IF(I232=\"\",\"\",IF(A232=\"H\",IF(OR(H232=\"SEN\",H232<1995),VLOOKUP(I232,Feuil1!$A$11:$F$29,6),IF(AND(H232>1994,H232<1998),VLOOKUP(I232,Feuil1!$A$11:$F$29,5),IF(AND(H232>1997,H232<2000),VLOOKUP(I232,Feuil1!$A$11:$F$29,4),IF(AND(H232>1999,H232<2002),VLOOKUP(I232,Feuil1!$A$11:$F$29,3),VLOOKUP(I232,Feuil1!$A$11:$F$29,2))))),IF(OR(H232=\"SEN\",H232<1995),VLOOKUP(I232,Feuil1!$G$11:$L$25,6),IF(AND(H232>1994,H232<1998),VLOOKUP(I232,Feuil1!$G$11:$L$25,5),IF(AND(H232>1997,H232<2000),VLOOKUP(I232,Feuil1!$G$11:$L$25,4),IF(AND(H232>1999,H232<2002),VLOOKUP(I232,Feuil1!$G$11:$L$25,3),VLOOKUP(I232,Feuil1!$G$11:$L$25,2)))))))","v":"FS69"},{"$f":"IF(I232=\"\",\"\",IF(A232=\"H\",10^(0.794358141*LOG(I232/174.393)^2)*T232,IF(A232=\"F\",10^(0.89726074*LOG(I232/148.026)^2)*T232,\"\")))","v":275.2902712518387},null," ",{"$f":"T232-HLOOKUP(X232,Feuil1!$C$1:$BL$10,2,FALSE)","v":139},{"$f":"T232-HLOOKUP(X232,Feuil1!$C$1:$BL$10,3,FALSE)","v":129},{"$f":"T232-HLOOKUP(X232,Feuil1!$C$1:$BL$10,4,FALSE)","v":114},{"$f":"T232-HLOOKUP(X232,Feuil1!$C$1:$BL$10,5,FALSE)","v":99},{"$f":"T232-HLOOKUP(X232,Feuil1!$C$1:$BL$10,6,FALSE)","v":84},{"$f":"T232-HLOOKUP(X232,Feuil1!$C$1:$BL$10,7,FALSE)","v":69},{"$f":"T232-HLOOKUP(X232,Feuil1!$C$1:$BL$10,8,FALSE)","v":49},{"$f":"T232-HLOOKUP(X232,Feuil1!$C$1:$BL$10,9,FALSE)","v":29},{"$f":"T232-HLOOKUP(X232,Feuil1!$C$1:$BL$10,10,FALSE)","v":14},null,null,null,null,null,null,{"$f":"IF(AJ232>=0,$AJ$4,IF(AI232>=0,$AI$4,IF(AH232>=0,$AH$4,IF(AG232>=0,$AG$4,IF(AF232>=0,$AF$4,IF(AE232>=0,$AE$4,IF(AD232>=0,$AD$4,IF(AC232>=0,$AC$4,$AB$4))))))))","v":"OLY +"}]
["F","NE","BOU",2,391211,"FEGUE","Marie Josephe",1991,68.34,"HMDB21","CAM",85,90,-96,90,115,120,125,125,215,78.319999999999993,"OLY +",10,{"$f":"IF(I233=\"\",\"\",IF(A233=\"H\",IF(OR(H233=\"SEN\",H233<1995),VLOOKUP(I233,Feuil1!$A$11:$F$29,6),IF(AND(H233>1994,H233<1998),VLOOKUP(I233,Feuil1!$A$11:$F$29,5),IF(AND(H233>1997,H233<2000),VLOOKUP(I233,Feuil1!$A$11:$F$29,4),IF(AND(H233>1999,H233<2002),VLOOKUP(I233,Feuil1!$A$11:$F$29,3),VLOOKUP(I233,Feuil1!$A$11:$F$29,2))))),IF(OR(H233=\"SEN\",H233<1995),VLOOKUP(I233,Feuil1!$G$11:$L$25,6),IF(AND(H233>1994,H233<1998),VLOOKUP(I233,Feuil1!$G$11:$L$25,5),IF(AND(H233>1997,H233<2000),VLOOKUP(I233,Feuil1!$G$11:$L$25,4),IF(AND(H233>1999,H233<2002),VLOOKUP(I233,Feuil1!$G$11:$L$25,3),VLOOKUP(I233,Feuil1!$G$11:$L$25,2)))))))","v":"FS69"},271.35168994522496,null," ",{"$f":"T233-HLOOKUP(X233,Feuil1!$C$1:$BL$10,2,FALSE)","v":135},{"$f":"T233-HLOOKUP(X233,Feuil1!$C$1:$BL$10,3,FALSE)","v":125},{"$f":"T233-HLOOKUP(X233,Feuil1!$C$1:$BL$10,4,FALSE)","v":110},{"$f":"T233-HLOOKUP(X233,Feuil1!$C$1:$BL$10,5,FALSE)","v":95},{"$f":"T233-HLOOKUP(X233,Feuil1!$C$1:$BL$10,6,FALSE)","v":80},{"$f":"T233-HLOOKUP(X233,Feuil1!$C$1:$BL$10,7,FALSE)","v":65},{"$f":"T233-HLOOKUP(X233,Feuil1!$C$1:$BL$10,8,FALSE)","v":45},{"$f":"T233-HLOOKUP(X233,Feuil1!$C$1:$BL$10,9,FALSE)","v":25},{"$f":"T233-HLOOKUP(X233,Feuil1!$C$1:$BL$10,10,FALSE)","v":10},null,null,null,null,null,null,"OLY +"]
["F","DOM","REU",3,94140,"SAINT JACQUES","LARISSA",1979,67.09,"CSPJ St Denis","F",70,75,-77,75,90,95,-100,95,170,35.819999999999993,"INTB +",0,{"$f":"IF(I234=\"\",\"\",IF(A234=\"H\",IF(OR(H234=\"SEN\",H234<1995),VLOOKUP(I234,Feuil1!$A$11:$F$29,6),IF(AND(H234>1994,H234<1998),VLOOKUP(I234,Feuil1!$A$11:$F$29,5),IF(AND(H234>1997,H234<2000),VLOOKUP(I234,Feuil1!$A$11:$F$29,4),IF(AND(H234>1999,H234<2002),VLOOKUP(I234,Feuil1!$A$11:$F$29,3),VLOOKUP(I234,Feuil1!$A$11:$F$29,2))))),IF(OR(H234=\"SEN\",H234<1995),VLOOKUP(I234,Feuil1!$G$11:$L$25,6),IF(AND(H234>1994,H234<1998),VLOOKUP(I234,Feuil1!$G$11:$L$25,5),IF(AND(H234>1997,H234<2000),VLOOKUP(I234,Feuil1!$G$11:$L$25,4),IF(AND(H234>1999,H234<2002),VLOOKUP(I234,Feuil1!$G$11:$L$25,3),VLOOKUP(I234,Feuil1!$G$11:$L$25,2)))))))","v":"FS69"},216.98506866342373,null," ",{"$f":"T234-HLOOKUP(X234,Feuil1!$C$1:$BL$10,2,FALSE)","v":90},{"$f":"T234-HLOOKUP(X234,Feuil1!$C$1:$BL$10,3,FALSE)","v":80},{"$f":"T234-HLOOKUP(X234,Feuil1!$C$1:$BL$10,4,FALSE)","v":65},{"$f":"T234-HLOOKUP(X234,Feuil1!$C$1:$BL$10,5,FALSE)","v":50},{"$f":"T234-HLOOKUP(X234,Feuil1!$C$1:$BL$10,6,FALSE)","v":35},{"$f":"T234-HLOOKUP(X234,Feuil1!$C$1:$BL$10,7,FALSE)","v":20},{"$f":"T234-HLOOKUP(X234,Feuil1!$C$1:$BL$10,8,FALSE)","v":0},{"$f":"T234-HLOOKUP(X234,Feuil1!$C$1:$BL$10,9,FALSE)","v":-20},{"$f":"T234-HLOOKUP(X234,Feuil1!$C$1:$BL$10,10,FALSE)","v":-35},null,null,null,null,null,null,"INTB +"]
["F","N","IDF",4,379286,"WONG","AMY",1989,68.7,"SAINT-MAUR","USA",65,70,72,72,85,90,-92,90,162,24.599999999999994,"NAT +",12,{"$f":"IF(I235=\"\",\"\",IF(A235=\"H\",IF(OR(H235=\"SEN\",H235<1995),VLOOKUP(I235,Feuil1!$A$11:$F$29,6),IF(AND(H235>1994,H235<1998),VLOOKUP(I235,Feuil1!$A$11:$F$29,5),IF(AND(H235>1997,H235<2000),VLOOKUP(I235,Feuil1!$A$11:$F$29,4),IF(AND(H235>1999,H235<2002),VLOOKUP(I235,Feuil1!$A$11:$F$29,3),VLOOKUP(I235,Feuil1!$A$11:$F$29,2))))),IF(OR(H235=\"SEN\",H235<1995),VLOOKUP(I235,Feuil1!$G$11:$L$25,6),IF(AND(H235>1994,H235<1998),VLOOKUP(I235,Feuil1!$G$11:$L$25,5),IF(AND(H235>1997,H235<2000),VLOOKUP(I235,Feuil1!$G$11:$L$25,4),IF(AND(H235>1999,H235<2002),VLOOKUP(I235,Feuil1!$G$11:$L$25,3),VLOOKUP(I235,Feuil1!$G$11:$L$25,2)))))))","v":"FS69"},203.81649405657623,null," ",{"$f":"T235-HLOOKUP(X235,Feuil1!$C$1:$BL$10,2,FALSE)","v":82},{"$f":"T235-HLOOKUP(X235,Feuil1!$C$1:$BL$10,3,FALSE)","v":72},{"$f":"T235-HLOOKUP(X235,Feuil1!$C$1:$BL$10,4,FALSE)","v":57},{"$f":"T235-HLOOKUP(X235,Feuil1!$C$1:$BL$10,5,FALSE)","v":42},{"$f":"T235-HLOOKUP(X235,Feuil1!$C$1:$BL$10,6,FALSE)","v":27},{"$f":"T235-HLOOKUP(X235,Feuil1!$C$1:$BL$10,7,FALSE)","v":12},{"$f":"T235-HLOOKUP(X235,Feuil1!$C$1:$BL$10,8,FALSE)","v":-8},{"$f":"T235-HLOOKUP(X235,Feuil1!$C$1:$BL$10,9,FALSE)","v":-28},{"$f":"T235-HLOOKUP(X235,Feuil1!$C$1:$BL$10,10,FALSE)","v":-43},null,null,null,null,null,null,"NAT +"]
["F","CO","BNO",5,115950,"DUMARAIS","Mélissa",1992,63.2,"CAEN CHM","F",65,68,70,70,80,83,-85,83,153,26.599999999999994,"NAT +",3,{"$f":"IF(I236=\"\",\"\",IF(A236=\"H\",IF(OR(H236=\"SEN\",H236<1995),VLOOKUP(I236,Feuil1!$A$11:$F$29,6),IF(AND(H236>1994,H236<1998),VLOOKUP(I236,Feuil1!$A$11:$F$29,5),IF(AND(H236>1997,H236<2000),VLOOKUP(I236,Feuil1!$A$11:$F$29,4),IF(AND(H236>1999,H236<2002),VLOOKUP(I236,Feuil1!$A$11:$F$29,3),VLOOKUP(I236,Feuil1!$A$11:$F$29,2))))),IF(OR(H236=\"SEN\",H236<1995),VLOOKUP(I236,Feuil1!$G$11:$L$25,6),IF(AND(H236>1994,H236<1998),VLOOKUP(I236,Feuil1!$G$11:$L$25,5),IF(AND(H236>1997,H236<2000),VLOOKUP(I236,Feuil1!$G$11:$L$25,4),IF(AND(H236>1999,H236<2002),VLOOKUP(I236,Feuil1!$G$11:$L$25,3),VLOOKUP(I236,Feuil1!$G$11:$L$25,2)))))))","v":"FS69"},202.89664217800396,null," ",{"$f":"T236-HLOOKUP(X236,Feuil1!$C$1:$BL$10,2,FALSE)","v":73},{"$f":"T236-HLOOKUP(X236,Feuil1!$C$1:$BL$10,3,FALSE)","v":63},{"$f":"T236-HLOOKUP(X236,Feuil1!$C$1:$BL$10,4,FALSE)","v":48},{"$f":"T236-HLOOKUP(X236,Feuil1!$C$1:$BL$10,5,FALSE)","v":33},{"$f":"T236-HLOOKUP(X236,Feuil1!$C$1:$BL$10,6,FALSE)","v":18},{"$f":"T236-HLOOKUP(X236,Feuil1!$C$1:$BL$10,7,FALSE)","v":3},{"$f":"T236-HLOOKUP(X236,Feuil1!$C$1:$BL$10,8,FALSE)","v":-17},{"$f":"T236-HLOOKUP(X236,Feuil1!$C$1:$BL$10,9,FALSE)","v":-37},{"$f":"T236-HLOOKUP(X236,Feuil1!$C$1:$BL$10,10,FALSE)","v":-52},null,null,null,null,null,null,"NAT +"]
["F","NE","ALS",6,176279,"ZAHNER","SALOME",1993,68.7,"SAS Colmarienne","F",63,68,70,70,75,80,83,83,153,15.599999999999994,"NAT +",3,{"$f":"IF(I237=\"\",\"\",IF(A237=\"H\",IF(OR(H237=\"SEN\",H237<1995),VLOOKUP(I237,Feuil1!$A$11:$F$29,6),IF(AND(H237>1994,H237<1998),VLOOKUP(I237,Feuil1!$A$11:$F$29,5),IF(AND(H237>1997,H237<2000),VLOOKUP(I237,Feuil1!$A$11:$F$29,4),IF(AND(H237>1999,H237<2002),VLOOKUP(I237,Feuil1!$A$11:$F$29,3),VLOOKUP(I237,Feuil1!$A$11:$F$29,2))))),IF(OR(H237=\"SEN\",H237<1995),VLOOKUP(I237,Feuil1!$G$11:$L$25,6),IF(AND(H237>1994,H237<1998),VLOOKUP(I237,Feuil1!$G$11:$L$25,5),IF(AND(H237>1997,H237<2000),VLOOKUP(I237,Feuil1!$G$11:$L$25,4),IF(AND(H237>1999,H237<2002),VLOOKUP(I237,Feuil1!$G$11:$L$25,3),VLOOKUP(I237,Feuil1!$G$11:$L$25,2)))))))","v":"FS69"},192.49335549787756,null," ",{"$f":"T237-HLOOKUP(X237,Feuil1!$C$1:$BL$10,2,FALSE)","v":73},{"$f":"T237-HLOOKUP(X237,Feuil1!$C$1:$BL$10,3,FALSE)","v":63},{"$f":"T237-HLOOKUP(X237,Feuil1!$C$1:$BL$10,4,FALSE)","v":48},{"$f":"T237-HLOOKUP(X237,Feuil1!$C$1:$BL$10,5,FALSE)","v":33},{"$f":"T237-HLOOKUP(X237,Feuil1!$C$1:$BL$10,6,FALSE)","v":18},{"$f":"T237-HLOOKUP(X237,Feuil1!$C$1:$BL$10,7,FALSE)","v":3},{"$f":"T237-HLOOKUP(X237,Feuil1!$C$1:$BL$10,8,FALSE)","v":-17},{"$f":"T237-HLOOKUP(X237,Feuil1!$C$1:$BL$10,9,FALSE)","v":-37},{"$f":"T237-HLOOKUP(X237,Feuil1!$C$1:$BL$10,10,FALSE)","v":-52},null,null,null,null,null,null,"NAT +"]
["F","NE","CHA",7,"034517","CRISTOFOLI ","Adeline",1985,69,"Langres HM","F",67,70,-72,70,79,83,-86,83,153,15,"NAT +",3,{"$f":"IF(I238=\"\",\"\",IF(A238=\"H\",IF(OR(H238=\"SEN\",H238<1995),VLOOKUP(I238,Feuil1!$A$11:$F$29,6),IF(AND(H238>1994,H238<1998),VLOOKUP(I238,Feuil1!$A$11:$F$29,5),IF(AND(H238>1997,H238<2000),VLOOKUP(I238,Feuil1!$A$11:$F$29,4),IF(AND(H238>1999,H238<2002),VLOOKUP(I238,Feuil1!$A$11:$F$29,3),VLOOKUP(I238,Feuil1!$A$11:$F$29,2))))),IF(OR(H238=\"SEN\",H238<1995),VLOOKUP(I238,Feuil1!$G$11:$L$25,6),IF(AND(H238>1994,H238<1998),VLOOKUP(I238,Feuil1!$G$11:$L$25,5),IF(AND(H238>1997,H238<2000),VLOOKUP(I238,Feuil1!$G$11:$L$25,4),IF(AND(H238>1999,H238<2002),VLOOKUP(I238,Feuil1!$G$11:$L$25,3),VLOOKUP(I238,Feuil1!$G$11:$L$25,2)))))))","v":"FS69"},191.99363757099655,null," ",{"$f":"T238-HLOOKUP(X238,Feuil1!$C$1:$BL$10,2,FALSE)","v":73},{"$f":"T238-HLOOKUP(X238,Feuil1!$C$1:$BL$10,3,FALSE)","v":63},{"$f":"T238-HLOOKUP(X238,Feuil1!$C$1:$BL$10,4,FALSE)","v":48},{"$f":"T238-HLOOKUP(X238,Feuil1!$C$1:$BL$10,5,FALSE)","v":33},{"$f":"T238-HLOOKUP(X238,Feuil1!$C$1:$BL$10,6,FALSE)","v":18},{"$f":"T238-HLOOKUP(X238,Feuil1!$C$1:$BL$10,7,FALSE)","v":3},{"$f":"T238-HLOOKUP(X238,Feuil1!$C$1:$BL$10,8,FALSE)","v":-17},{"$f":"T238-HLOOKUP(X238,Feuil1!$C$1:$BL$10,9,FALSE)","v":-37},{"$f":"T238-HLOOKUP(X238,Feuil1!$C$1:$BL$10,10,FALSE)","v":-52},null,null,null,null,null,null,"NAT +"]
["F","SO","MPY",8,250351,"BRIDIER","Stéphanie",1985,63.9,"TOULOUSE HC","F",64,-68,68,68,82,-85,-85,82,150,22.200000000000003,"NAT +",0,{"$f":"IF(I239=\"\",\"\",IF(A239=\"H\",IF(OR(H239=\"SEN\",H239<1995),VLOOKUP(I239,Feuil1!$A$11:$F$29,6),IF(AND(H239>1994,H239<1998),VLOOKUP(I239,Feuil1!$A$11:$F$29,5),IF(AND(H239>1997,H239<2000),VLOOKUP(I239,Feuil1!$A$11:$F$29,4),IF(AND(H239>1999,H239<2002),VLOOKUP(I239,Feuil1!$A$11:$F$29,3),VLOOKUP(I239,Feuil1!$A$11:$F$29,2))))),IF(OR(H239=\"SEN\",H239<1995),VLOOKUP(I239,Feuil1!$G$11:$L$25,6),IF(AND(H239>1994,H239<1998),VLOOKUP(I239,Feuil1!$G$11:$L$25,5),IF(AND(H239>1997,H239<2000),VLOOKUP(I239,Feuil1!$G$11:$L$25,4),IF(AND(H239>1999,H239<2002),VLOOKUP(I239,Feuil1!$G$11:$L$25,3),VLOOKUP(I239,Feuil1!$G$11:$L$25,2)))))))","v":"FS69"},197.47957104400226,null," ",{"$f":"T239-HLOOKUP(X239,Feuil1!$C$1:$BL$10,2,FALSE)","v":70},{"$f":"T239-HLOOKUP(X239,Feuil1!$C$1:$BL$10,3,FALSE)","v":60},{"$f":"T239-HLOOKUP(X239,Feuil1!$C$1:$BL$10,4,FALSE)","v":45},{"$f":"T239-HLOOKUP(X239,Feuil1!$C$1:$BL$10,5,FALSE)","v":30},{"$f":"T239-HLOOKUP(X239,Feuil1!$C$1:$BL$10,6,FALSE)","v":15},{"$f":"T239-HLOOKUP(X239,Feuil1!$C$1:$BL$10,7,FALSE)","v":0},{"$f":"T239-HLOOKUP(X239,Feuil1!$C$1:$BL$10,8,FALSE)","v":-20},{"$f":"T239-HLOOKUP(X239,Feuil1!$C$1:$BL$10,9,FALSE)","v":-40},{"$f":"T239-HLOOKUP(X239,Feuil1!$C$1:$BL$10,10,FALSE)","v":-55},null,null,null,null,null,null,"NAT +"]
["F","NE","ALS",9,319461,"TITTEL MOSSER","LINDSAY",1984,68.7,"SR Obernai HM","F",-60,60,64,64,75,79,82,82,146,8.5999999999999943,"FED +",11,{"$f":"IF(I240=\"\",\"\",IF(A240=\"H\",IF(OR(H240=\"SEN\",H240<1995),VLOOKUP(I240,Feuil1!$A$11:$F$29,6),IF(AND(H240>1994,H240<1998),VLOOKUP(I240,Feuil1!$A$11:$F$29,5),IF(AND(H240>1997,H240<2000),VLOOKUP(I240,Feuil1!$A$11:$F$29,4),IF(AND(H240>1999,H240<2002),VLOOKUP(I240,Feuil1!$A$11:$F$29,3),VLOOKUP(I240,Feuil1!$A$11:$F$29,2))))),IF(OR(H240=\"SEN\",H240<1995),VLOOKUP(I240,Feuil1!$G$11:$L$25,6),IF(AND(H240>1994,H240<1998),VLOOKUP(I240,Feuil1!$G$11:$L$25,5),IF(AND(H240>1997,H240<2000),VLOOKUP(I240,Feuil1!$G$11:$L$25,4),IF(AND(H240>1999,H240<2002),VLOOKUP(I240,Feuil1!$G$11:$L$25,3),VLOOKUP(I240,Feuil1!$G$11:$L$25,2)))))))","v":"FS69"},183.68646995222301,null," ",{"$f":"T240-HLOOKUP(X240,Feuil1!$C$1:$BL$10,2,FALSE)","v":66},{"$f":"T240-HLOOKUP(X240,Feuil1!$C$1:$BL$10,3,FALSE)","v":56},{"$f":"T240-HLOOKUP(X240,Feuil1!$C$1:$BL$10,4,FALSE)","v":41},{"$f":"T240-HLOOKUP(X240,Feuil1!$C$1:$BL$10,5,FALSE)","v":26},{"$f":"T240-HLOOKUP(X240,Feuil1!$C$1:$BL$10,6,FALSE)","v":11},{"$f":"T240-HLOOKUP(X240,Feuil1!$C$1:$BL$10,7,FALSE)","v":-4},{"$f":"T240-HLOOKUP(X240,Feuil1!$C$1:$BL$10,8,FALSE)","v":-24},{"$f":"T240-HLOOKUP(X240,Feuil1!$C$1:$BL$10,9,FALSE)","v":-44},{"$f":"T240-HLOOKUP(X240,Feuil1!$C$1:$BL$10,10,FALSE)","v":-59},null,null,null,null,null,null,"FED +"]
["F","SEST","CAZ",10,230430,"ATTIA","Severine",1991,64.349999999999994,"ASLDD TOULON","F",61,64,-66,64,72,75,-77,75,139,10.300000000000011,"FED +",4,{"$f":"IF(I241=\"\",\"\",IF(A241=\"H\",IF(OR(H241=\"SEN\",H241<1995),VLOOKUP(I241,Feuil1!$A$11:$F$29,6),IF(AND(H241>1994,H241<1998),VLOOKUP(I241,Feuil1!$A$11:$F$29,5),IF(AND(H241>1997,H241<2000),VLOOKUP(I241,Feuil1!$A$11:$F$29,4),IF(AND(H241>1999,H241<2002),VLOOKUP(I241,Feuil1!$A$11:$F$29,3),VLOOKUP(I241,Feuil1!$A$11:$F$29,2))))),IF(OR(H241=\"SEN\",H241<1995),VLOOKUP(I241,Feuil1!$G$11:$L$25,6),IF(AND(H241>1994,H241<1998),VLOOKUP(I241,Feuil1!$G$11:$L$25,5),IF(AND(H241>1997,H241<2000),VLOOKUP(I241,Feuil1!$G$11:$L$25,4),IF(AND(H241>1999,H241<2002),VLOOKUP(I241,Feuil1!$G$11:$L$25,3),VLOOKUP(I241,Feuil1!$G$11:$L$25,2)))))))","v":"FS69"},182.16238393937996,null," ",{"$f":"T241-HLOOKUP(X241,Feuil1!$C$1:$BL$10,2,FALSE)","v":59},{"$f":"T241-HLOOKUP(X241,Feuil1!$C$1:$BL$10,3,FALSE)","v":49},{"$f":"T241-HLOOKUP(X241,Feuil1!$C$1:$BL$10,4,FALSE)","v":34},{"$f":"T241-HLOOKUP(X241,Feuil1!$C$1:$BL$10,5,FALSE)","v":19},{"$f":"T241-HLOOKUP(X241,Feuil1!$C$1:$BL$10,6,FALSE)","v":4},{"$f":"T241-HLOOKUP(X241,Feuil1!$C$1:$BL$10,7,FALSE)","v":-11},{"$f":"T241-HLOOKUP(X241,Feuil1!$C$1:$BL$10,8,FALSE)","v":-31},{"$f":"T241-HLOOKUP(X241,Feuil1!$C$1:$BL$10,9,FALSE)","v":-51},{"$f":"T241-HLOOKUP(X241,Feuil1!$C$1:$BL$10,10,FALSE)","v":-66},null,null,null,null,null,null,"FED +"]
["F","SEST","AUV",11,357422,"BILLET","léa",1992,68.8,"STADE CLERMONTOIS","F",55,59,-62,59,76,-80,80,80,139,1.4000000000000057,"FED +",4,{"$f":"IF(I242=\"\",\"\",IF(A242=\"H\",IF(OR(H242=\"SEN\",H242<1995),VLOOKUP(I242,Feuil1!$A$11:$F$29,6),IF(AND(H242>1994,H242<1998),VLOOKUP(I242,Feuil1!$A$11:$F$29,5),IF(AND(H242>1997,H242<2000),VLOOKUP(I242,Feuil1!$A$11:$F$29,4),IF(AND(H242>1999,H242<2002),VLOOKUP(I242,Feuil1!$A$11:$F$29,3),VLOOKUP(I242,Feuil1!$A$11:$F$29,2))))),IF(OR(H242=\"SEN\",H242<1995),VLOOKUP(I242,Feuil1!$G$11:$L$25,6),IF(AND(H242>1994,H242<1998),VLOOKUP(I242,Feuil1!$G$11:$L$25,5),IF(AND(H242>1997,H242<2000),VLOOKUP(I242,Feuil1!$G$11:$L$25,4),IF(AND(H242>1999,H242<2002),VLOOKUP(I242,Feuil1!$G$11:$L$25,3),VLOOKUP(I242,Feuil1!$G$11:$L$25,2)))))))","v":"FS69"},174.72761508678349,null," ",{"$f":"T242-HLOOKUP(X242,Feuil1!$C$1:$BL$10,2,FALSE)","v":59},{"$f":"T242-HLOOKUP(X242,Feuil1!$C$1:$BL$10,3,FALSE)","v":49},{"$f":"T242-HLOOKUP(X242,Feuil1!$C$1:$BL$10,4,FALSE)","v":34},{"$f":"T242-HLOOKUP(X242,Feuil1!$C$1:$BL$10,5,FALSE)","v":19},{"$f":"T242-HLOOKUP(X242,Feuil1!$C$1:$BL$10,6,FALSE)","v":4},{"$f":"T242-HLOOKUP(X242,Feuil1!$C$1:$BL$10,7,FALSE)","v":-11},{"$f":"T242-HLOOKUP(X242,Feuil1!$C$1:$BL$10,8,FALSE)","v":-31},{"$f":"T242-HLOOKUP(X242,Feuil1!$C$1:$BL$10,9,FALSE)","v":-51},{"$f":"T242-HLOOKUP(X242,Feuil1!$C$1:$BL$10,10,FALSE)","v":-66},null,null,null,null,null,null,"FED +"]
["F","NE","ALS",12,20829,"THOMAS","EVELYNE",1979,68.2,"ASPTT Strasbourg","F",56,59,62,62,69,73,-75,73,135,-1.4000000000000057,"FED +",0,{"$f":"IF(I243=\"\",\"\",IF(A243=\"H\",IF(OR(H243=\"SEN\",H243<1995),VLOOKUP(I243,Feuil1!$A$11:$F$29,6),IF(AND(H243>1994,H243<1998),VLOOKUP(I243,Feuil1!$A$11:$F$29,5),IF(AND(H243>1997,H243<2000),VLOOKUP(I243,Feuil1!$A$11:$F$29,4),IF(AND(H243>1999,H243<2002),VLOOKUP(I243,Feuil1!$A$11:$F$29,3),VLOOKUP(I243,Feuil1!$A$11:$F$29,2))))),IF(OR(H243=\"SEN\",H243<1995),VLOOKUP(I243,Feuil1!$G$11:$L$25,6),IF(AND(H243>1994,H243<1998),VLOOKUP(I243,Feuil1!$G$11:$L$25,5),IF(AND(H243>1997,H243<2000),VLOOKUP(I243,Feuil1!$G$11:$L$25,4),IF(AND(H243>1999,H243<2002),VLOOKUP(I243,Feuil1!$G$11:$L$25,3),VLOOKUP(I243,Feuil1!$G$11:$L$25,2)))))))","v":"FS69"},170.59449309121661,null," ",{"$f":"T243-HLOOKUP(X243,Feuil1!$C$1:$BL$10,2,FALSE)","v":55},{"$f":"T243-HLOOKUP(X243,Feuil1!$C$1:$BL$10,3,FALSE)","v":45},{"$f":"T243-HLOOKUP(X243,Feuil1!$C$1:$BL$10,4,FALSE)","v":30},{"$f":"T243-HLOOKUP(X243,Feuil1!$C$1:$BL$10,5,FALSE)","v":15},{"$f":"T243-HLOOKUP(X243,Feuil1!$C$1:$BL$10,6,FALSE)","v":0},{"$f":"T243-HLOOKUP(X243,Feuil1!$C$1:$BL$10,7,FALSE)","v":-15},{"$f":"T243-HLOOKUP(X243,Feuil1!$C$1:$BL$10,8,FALSE)","v":-35},{"$f":"T243-HLOOKUP(X243,Feuil1!$C$1:$BL$10,9,FALSE)","v":-55},{"$f":"T243-HLOOKUP(X243,Feuil1!$C$1:$BL$10,10,FALSE)","v":-70},null,null,null,null,null,null,"FED +"]
["F","NE","ALS",13,324052,"PREDY","ANAIS",1992,64.3,"SHC Haguenau","F",53,56,58,58,71,74,-77,74,132,3.4000000000000057,"IRG +",12,{"$f":"IF(I244=\"\",\"\",IF(A244=\"H\",IF(OR(H244=\"SEN\",H244<1995),VLOOKUP(I244,Feuil1!$A$11:$F$29,6),IF(AND(H244>1994,H244<1998),VLOOKUP(I244,Feuil1!$A$11:$F$29,5),IF(AND(H244>1997,H244<2000),VLOOKUP(I244,Feuil1!$A$11:$F$29,4),IF(AND(H244>1999,H244<2002),VLOOKUP(I244,Feuil1!$A$11:$F$29,3),VLOOKUP(I244,Feuil1!$A$11:$F$29,2))))),IF(OR(H244=\"SEN\",H244<1995),VLOOKUP(I244,Feuil1!$G$11:$L$25,6),IF(AND(H244>1994,H244<1998),VLOOKUP(I244,Feuil1!$G$11:$L$25,5),IF(AND(H244>1997,H244<2000),VLOOKUP(I244,Feuil1!$G$11:$L$25,4),IF(AND(H244>1999,H244<2002),VLOOKUP(I244,Feuil1!$G$11:$L$25,3),VLOOKUP(I244,Feuil1!$G$11:$L$25,2)))))))","v":"FS69"},173.07610116098027,null," ",{"$f":"T244-HLOOKUP(X244,Feuil1!$C$1:$BL$10,2,FALSE)","v":52},{"$f":"T244-HLOOKUP(X244,Feuil1!$C$1:$BL$10,3,FALSE)","v":42},{"$f":"T244-HLOOKUP(X244,Feuil1!$C$1:$BL$10,4,FALSE)","v":27},{"$f":"T244-HLOOKUP(X244,Feuil1!$C$1:$BL$10,5,FALSE)","v":12},{"$f":"T244-HLOOKUP(X244,Feuil1!$C$1:$BL$10,6,FALSE)","v":-3},{"$f":"T244-HLOOKUP(X244,Feuil1!$C$1:$BL$10,7,FALSE)","v":-18},{"$f":"T244-HLOOKUP(X244,Feuil1!$C$1:$BL$10,8,FALSE)","v":-38},{"$f":"T244-HLOOKUP(X244,Feuil1!$C$1:$BL$10,9,FALSE)","v":-58},{"$f":"T244-HLOOKUP(X244,Feuil1!$C$1:$BL$10,10,FALSE)","v":-73},null,null,null,null,null,null,"IRG +"]
["F","SEST","CAZ",14,332675,"RADEAU","Celine",1983,66.39,"AS MONACO","F",50,53,-55,53,65,68,70,70,123,-9.7800000000000011,"IRG +",3,{"$f":"IF(I245=\"\",\"\",IF(A245=\"H\",IF(OR(H245=\"SEN\",H245<1995),VLOOKUP(I245,Feuil1!$A$11:$F$29,6),IF(AND(H245>1994,H245<1998),VLOOKUP(I245,Feuil1!$A$11:$F$29,5),IF(AND(H245>1997,H245<2000),VLOOKUP(I245,Feuil1!$A$11:$F$29,4),IF(AND(H245>1999,H245<2002),VLOOKUP(I245,Feuil1!$A$11:$F$29,3),VLOOKUP(I245,Feuil1!$A$11:$F$29,2))))),IF(OR(H245=\"SEN\",H245<1995),VLOOKUP(I245,Feuil1!$G$11:$L$25,6),IF(AND(H245>1994,H245<1998),VLOOKUP(I245,Feuil1!$G$11:$L$25,5),IF(AND(H245>1997,H245<2000),VLOOKUP(I245,Feuil1!$G$11:$L$25,4),IF(AND(H245>1999,H245<2002),VLOOKUP(I245,Feuil1!$G$11:$L$25,3),VLOOKUP(I245,Feuil1!$G$11:$L$25,2)))))))","v":"FS69"},158.02070351982684,null," ",{"$f":"T245-HLOOKUP(X245,Feuil1!$C$1:$BL$10,2,FALSE)","v":43},{"$f":"T245-HLOOKUP(X245,Feuil1!$C$1:$BL$10,3,FALSE)","v":33},{"$f":"T245-HLOOKUP(X245,Feuil1!$C$1:$BL$10,4,FALSE)","v":18},{"$f":"T245-HLOOKUP(X245,Feuil1!$C$1:$BL$10,5,FALSE)","v":3},{"$f":"T245-HLOOKUP(X245,Feuil1!$C$1:$BL$10,6,FALSE)","v":-12},{"$f":"T245-HLOOKUP(X245,Feuil1!$C$1:$BL$10,7,FALSE)","v":-27},{"$f":"T245-HLOOKUP(X245,Feuil1!$C$1:$BL$10,8,FALSE)","v":-47},{"$f":"T245-HLOOKUP(X245,Feuil1!$C$1:$BL$10,9,FALSE)","v":-67},{"$f":"T245-HLOOKUP(X245,Feuil1!$C$1:$BL$10,10,FALSE)","v":-82},null,null,null,null,null,null,"IRG +"]
["F","N","IDF",15,382101,"GRZESIAK","LAETITIA",1988,64.900000000000006,"NEUILLY","F",48,-52,-52,48,68,73,-78,73,121,-8.8000000000000114,"IRG +",1,{"$f":"IF(I246=\"\",\"\",IF(A246=\"H\",IF(OR(H246=\"SEN\",H246<1995),VLOOKUP(I246,Feuil1!$A$11:$F$29,6),IF(AND(H246>1994,H246<1998),VLOOKUP(I246,Feuil1!$A$11:$F$29,5),IF(AND(H246>1997,H246<2000),VLOOKUP(I246,Feuil1!$A$11:$F$29,4),IF(AND(H246>1999,H246<2002),VLOOKUP(I246,Feuil1!$A$11:$F$29,3),VLOOKUP(I246,Feuil1!$A$11:$F$29,2))))),IF(OR(H246=\"SEN\",H246<1995),VLOOKUP(I246,Feuil1!$G$11:$L$25,6),IF(AND(H246>1994,H246<1998),VLOOKUP(I246,Feuil1!$G$11:$L$25,5),IF(AND(H246>1997,H246<2000),VLOOKUP(I246,Feuil1!$G$11:$L$25,4),IF(AND(H246>1999,H246<2002),VLOOKUP(I246,Feuil1!$G$11:$L$25,3),VLOOKUP(I246,Feuil1!$G$11:$L$25,2)))))))","v":"FS69"},157.70368722130945,null," ",{"$f":"T246-HLOOKUP(X246,Feuil1!$C$1:$BL$10,2,FALSE)","v":41},{"$f":"T246-HLOOKUP(X246,Feuil1!$C$1:$BL$10,3,FALSE)","v":31},{"$f":"T246-HLOOKUP(X246,Feuil1!$C$1:$BL$10,4,FALSE)","v":16},{"$f":"T246-HLOOKUP(X246,Feuil1!$C$1:$BL$10,5,FALSE)","v":1},{"$f":"T246-HLOOKUP(X246,Feuil1!$C$1:$BL$10,6,FALSE)","v":-14},{"$f":"T246-HLOOKUP(X246,Feuil1!$C$1:$BL$10,7,FALSE)","v":-29},{"$f":"T246-HLOOKUP(X246,Feuil1!$C$1:$BL$10,8,FALSE)","v":-49},{"$f":"T246-HLOOKUP(X246,Feuil1!$C$1:$BL$10,9,FALSE)","v":-69},{"$f":"T246-HLOOKUP(X246,Feuil1!$C$1:$BL$10,10,FALSE)","v":-84},null,null,null,null,null,null,"IRG +"]
["F","SO","AQU",16,169798,"GIRAUD","Clarisse",1966,69,"ASOA Aquitaine","F",49,51,53,53,64,67,-68,67,120,-18,"IRG +",0,{"$f":"IF(I247=\"\",\"\",IF(A247=\"H\",IF(OR(H247=\"SEN\",H247<1995),VLOOKUP(I247,Feuil1!$A$11:$F$29,6),IF(AND(H247>1994,H247<1998),VLOOKUP(I247,Feuil1!$A$11:$F$29,5),IF(AND(H247>1997,H247<2000),VLOOKUP(I247,Feuil1!$A$11:$F$29,4),IF(AND(H247>1999,H247<2002),VLOOKUP(I247,Feuil1!$A$11:$F$29,3),VLOOKUP(I247,Feuil1!$A$11:$F$29,2))))),IF(OR(H247=\"SEN\",H247<1995),VLOOKUP(I247,Feuil1!$G$11:$L$25,6),IF(AND(H247>1994,H247<1998),VLOOKUP(I247,Feuil1!$G$11:$L$25,5),IF(AND(H247>1997,H247<2000),VLOOKUP(I247,Feuil1!$G$11:$L$25,4),IF(AND(H247>1999,H247<2002),VLOOKUP(I247,Feuil1!$G$11:$L$25,3),VLOOKUP(I247,Feuil1!$G$11:$L$25,2)))))))","v":"FS69"},150.5832451537228,null," ",{"$f":"T247-HLOOKUP(X247,Feuil1!$C$1:$BL$10,2,FALSE)","v":40},{"$f":"T247-HLOOKUP(X247,Feuil1!$C$1:$BL$10,3,FALSE)","v":30},{"$f":"T247-HLOOKUP(X247,Feuil1!$C$1:$BL$10,4,FALSE)","v":15},{"$f":"T247-HLOOKUP(X247,Feuil1!$C$1:$BL$10,5,FALSE)","v":0},{"$f":"T247-HLOOKUP(X247,Feuil1!$C$1:$BL$10,6,FALSE)","v":-15},{"$f":"T247-HLOOKUP(X247,Feuil1!$C$1:$BL$10,7,FALSE)","v":-30},{"$f":"T247-HLOOKUP(X247,Feuil1!$C$1:$BL$10,8,FALSE)","v":-50},{"$f":"T247-HLOOKUP(X247,Feuil1!$C$1:$BL$10,9,FALSE)","v":-70},{"$f":"T247-HLOOKUP(X247,Feuil1!$C$1:$BL$10,10,FALSE)","v":-85},null,null,null,null,null,null,"IRG +"]
["F","N","IDF",17,380682,"DEKEISTER","Chloé",1990,68.900000000000006,"SAINT MAUR","F",43,48,-50,48,62,66,-70,66,114,-23.800000000000011,"REG +",9,{"$f":"IF(I248=\"\",\"\",IF(A248=\"H\",IF(OR(H248=\"SEN\",H248<1995),VLOOKUP(I248,Feuil1!$A$11:$F$29,6),IF(AND(H248>1994,H248<1998),VLOOKUP(I248,Feuil1!$A$11:$F$29,5),IF(AND(H248>1997,H248<2000),VLOOKUP(I248,Feuil1!$A$11:$F$29,4),IF(AND(H248>1999,H248<2002),VLOOKUP(I248,Feuil1!$A$11:$F$29,3),VLOOKUP(I248,Feuil1!$A$11:$F$29,2))))),IF(OR(H248=\"SEN\",H248<1995),VLOOKUP(I248,Feuil1!$G$11:$L$25,6),IF(AND(H248>1994,H248<1998),VLOOKUP(I248,Feuil1!$G$11:$L$25,5),IF(AND(H248>1997,H248<2000),VLOOKUP(I248,Feuil1!$G$11:$L$25,4),IF(AND(H248>1999,H248<2002),VLOOKUP(I248,Feuil1!$G$11:$L$25,3),VLOOKUP(I248,Feuil1!$G$11:$L$25,2)))))))","v":"FS69"},143.17767299394674,null," ",{"$f":"T248-HLOOKUP(X248,Feuil1!$C$1:$BL$10,2,FALSE)","v":34},{"$f":"T248-HLOOKUP(X248,Feuil1!$C$1:$BL$10,3,FALSE)","v":24},{"$f":"T248-HLOOKUP(X248,Feuil1!$C$1:$BL$10,4,FALSE)","v":9},{"$f":"T248-HLOOKUP(X248,Feuil1!$C$1:$BL$10,5,FALSE)","v":-6},{"$f":"T248-HLOOKUP(X248,Feuil1!$C$1:$BL$10,6,FALSE)","v":-21},{"$f":"T248-HLOOKUP(X248,Feuil1!$C$1:$BL$10,7,FALSE)","v":-36},{"$f":"T248-HLOOKUP(X248,Feuil1!$C$1:$BL$10,8,FALSE)","v":-56},{"$f":"T248-HLOOKUP(X248,Feuil1!$C$1:$BL$10,9,FALSE)","v":-76},{"$f":"T248-HLOOKUP(X248,Feuil1!$C$1:$BL$10,10,FALSE)","v":-91},null,null,null,null,null,null,"REG +"]
["F","N","PIC",18,204929,"CHEVALLIER ROY","Célia",1968,69,"La Ferté Milon CMHM","F",50,-54,54,54,55,57,60,60,114,-24,"REG +",9,{"$f":"IF(I249=\"\",\"\",IF(A249=\"H\",IF(OR(H249=\"SEN\",H249<1995),VLOOKUP(I249,Feuil1!$A$11:$F$29,6),IF(AND(H249>1994,H249<1998),VLOOKUP(I249,Feuil1!$A$11:$F$29,5),IF(AND(H249>1997,H249<2000),VLOOKUP(I249,Feuil1!$A$11:$F$29,4),IF(AND(H249>1999,H249<2002),VLOOKUP(I249,Feuil1!$A$11:$F$29,3),VLOOKUP(I249,Feuil1!$A$11:$F$29,2))))),IF(OR(H249=\"SEN\",H249<1995),VLOOKUP(I249,Feuil1!$G$11:$L$25,6),IF(AND(H249>1994,H249<1998),VLOOKUP(I249,Feuil1!$G$11:$L$25,5),IF(AND(H249>1997,H249<2000),VLOOKUP(I249,Feuil1!$G$11:$L$25,4),IF(AND(H249>1999,H249<2002),VLOOKUP(I249,Feuil1!$G$11:$L$25,3),VLOOKUP(I249,Feuil1!$G$11:$L$25,2)))))))","v":"FS69"},143.05408289603665,null," ",{"$f":"T249-HLOOKUP(X249,Feuil1!$C$1:$BL$10,2,FALSE)","v":34},{"$f":"T249-HLOOKUP(X249,Feuil1!$C$1:$BL$10,3,FALSE)","v":24},{"$f":"T249-HLOOKUP(X249,Feuil1!$C$1:$BL$10,4,FALSE)","v":9},{"$f":"T249-HLOOKUP(X249,Feuil1!$C$1:$BL$10,5,FALSE)","v":-6},{"$f":"T249-HLOOKUP(X249,Feuil1!$C$1:$BL$10,6,FALSE)","v":-21},{"$f":"T249-HLOOKUP(X249,Feuil1!$C$1:$BL$10,7,FALSE)","v":-36},{"$f":"T249-HLOOKUP(X249,Feuil1!$C$1:$BL$10,8,FALSE)","v":-56},{"$f":"T249-HLOOKUP(X249,Feuil1!$C$1:$BL$10,9,FALSE)","v":-76},{"$f":"T249-HLOOKUP(X249,Feuil1!$C$1:$BL$10,10,FALSE)","v":-91},null,null,null,null,null,null,"REG +"]
["F","CO","BNO",19,17886,"Berhaut","Muriel",1956,66.2,"Caen CHM","F",45,47,49,49,55,58,61,61,110,-22.400000000000006,"REG +",5,{"$f":"IF(I250=\"\",\"\",IF(A250=\"H\",IF(OR(H250=\"SEN\",H250<1995),VLOOKUP(I250,Feuil1!$A$11:$F$29,6),IF(AND(H250>1994,H250<1998),VLOOKUP(I250,Feuil1!$A$11:$F$29,5),IF(AND(H250>1997,H250<2000),VLOOKUP(I250,Feuil1!$A$11:$F$29,4),IF(AND(H250>1999,H250<2002),VLOOKUP(I250,Feuil1!$A$11:$F$29,3),VLOOKUP(I250,Feuil1!$A$11:$F$29,2))))),IF(OR(H250=\"SEN\",H250<1995),VLOOKUP(I250,Feuil1!$G$11:$L$25,6),IF(AND(H250>1994,H250<1998),VLOOKUP(I250,Feuil1!$G$11:$L$25,5),IF(AND(H250>1997,H250<2000),VLOOKUP(I250,Feuil1!$G$11:$L$25,4),IF(AND(H250>1999,H250<2002),VLOOKUP(I250,Feuil1!$G$11:$L$25,3),VLOOKUP(I250,Feuil1!$G$11:$L$25,2)))))))","v":"FS69"},141.57311063047894,null," ",{"$f":"T250-HLOOKUP(X250,Feuil1!$C$1:$BL$10,2,FALSE)","v":30},{"$f":"T250-HLOOKUP(X250,Feuil1!$C$1:$BL$10,3,FALSE)","v":20},{"$f":"T250-HLOOKUP(X250,Feuil1!$C$1:$BL$10,4,FALSE)","v":5},{"$f":"T250-HLOOKUP(X250,Feuil1!$C$1:$BL$10,5,FALSE)","v":-10},{"$f":"T250-HLOOKUP(X250,Feuil1!$C$1:$BL$10,6,FALSE)","v":-25},{"$f":"T250-HLOOKUP(X250,Feuil1!$C$1:$BL$10,7,FALSE)","v":-40},{"$f":"T250-HLOOKUP(X250,Feuil1!$C$1:$BL$10,8,FALSE)","v":-60},{"$f":"T250-HLOOKUP(X250,Feuil1!$C$1:$BL$10,9,FALSE)","v":-80},{"$f":"T250-HLOOKUP(X250,Feuil1!$C$1:$BL$10,10,FALSE)","v":-95},null,null,null,null,null,null,"REG +"]
["F","NE","ALS",20,106080,"GERONDI","ELODIE",1988,67.900000000000006,"MJC Ungersheim","F",42,47,50,50,60,-65,-65,60,110,-25.800000000000011,"REG +",5,{"$f":"IF(I251=\"\",\"\",IF(A251=\"H\",IF(OR(H251=\"SEN\",H251<1995),VLOOKUP(I251,Feuil1!$A$11:$F$29,6),IF(AND(H251>1994,H251<1998),VLOOKUP(I251,Feuil1!$A$11:$F$29,5),IF(AND(H251>1997,H251<2000),VLOOKUP(I251,Feuil1!$A$11:$F$29,4),IF(AND(H251>1999,H251<2002),VLOOKUP(I251,Feuil1!$A$11:$F$29,3),VLOOKUP(I251,Feuil1!$A$11:$F$29,2))))),IF(OR(H251=\"SEN\",H251<1995),VLOOKUP(I251,Feuil1!$G$11:$L$25,6),IF(AND(H251>1994,H251<1998),VLOOKUP(I251,Feuil1!$G$11:$L$25,5),IF(AND(H251>1997,H251<2000),VLOOKUP(I251,Feuil1!$G$11:$L$25,4),IF(AND(H251>1999,H251<2002),VLOOKUP(I251,Feuil1!$G$11:$L$25,3),VLOOKUP(I251,Feuil1!$G$11:$L$25,2)))))))","v":"FS69"},139.37457034373506,null," ",{"$f":"T251-HLOOKUP(X251,Feuil1!$C$1:$BL$10,2,FALSE)","v":30},{"$f":"T251-HLOOKUP(X251,Feuil1!$C$1:$BL$10,3,FALSE)","v":20},{"$f":"T251-HLOOKUP(X251,Feuil1!$C$1:$BL$10,4,FALSE)","v":5},{"$f":"T251-HLOOKUP(X251,Feuil1!$C$1:$BL$10,5,FALSE)","v":-10},{"$f":"T251-HLOOKUP(X251,Feuil1!$C$1:$BL$10,6,FALSE)","v":-25},{"$f":"T251-HLOOKUP(X251,Feuil1!$C$1:$BL$10,7,FALSE)","v":-40},{"$f":"T251-HLOOKUP(X251,Feuil1!$C$1:$BL$10,8,FALSE)","v":-60},{"$f":"T251-HLOOKUP(X251,Feuil1!$C$1:$BL$10,9,FALSE)","v":-80},{"$f":"T251-HLOOKUP(X251,Feuil1!$C$1:$BL$10,10,FALSE)","v":-95},null,null,null,null,null,null,"REG +"]
["F","NE","ALS",21,324051,"LEBROUSSA","SHIRLEY",1987,66.5,"SHC Haguenau","F",45,49,-52,49,54,57,60,60,109,-24,"REG +",4,{"$f":"IF(I252=\"\",\"\",IF(A252=\"H\",IF(OR(H252=\"SEN\",H252<1995),VLOOKUP(I252,Feuil1!$A$11:$F$29,6),IF(AND(H252>1994,H252<1998),VLOOKUP(I252,Feuil1!$A$11:$F$29,5),IF(AND(H252>1997,H252<2000),VLOOKUP(I252,Feuil1!$A$11:$F$29,4),IF(AND(H252>1999,H252<2002),VLOOKUP(I252,Feuil1!$A$11:$F$29,3),VLOOKUP(I252,Feuil1!$A$11:$F$29,2))))),IF(OR(H252=\"SEN\",H252<1995),VLOOKUP(I252,Feuil1!$G$11:$L$25,6),IF(AND(H252>1994,H252<1998),VLOOKUP(I252,Feuil1!$G$11:$L$25,5),IF(AND(H252>1997,H252<2000),VLOOKUP(I252,Feuil1!$G$11:$L$25,4),IF(AND(H252>1999,H252<2002),VLOOKUP(I252,Feuil1!$G$11:$L$25,3),VLOOKUP(I252,Feuil1!$G$11:$L$25,2)))))))","v":"FS69"},139.88995853087374,null," ",{"$f":"T252-HLOOKUP(X252,Feuil1!$C$1:$BL$10,2,FALSE)","v":29},{"$f":"T252-HLOOKUP(X252,Feuil1!$C$1:$BL$10,3,FALSE)","v":19},{"$f":"T252-HLOOKUP(X252,Feuil1!$C$1:$BL$10,4,FALSE)","v":4},{"$f":"T252-HLOOKUP(X252,Feuil1!$C$1:$BL$10,5,FALSE)","v":-11},{"$f":"T252-HLOOKUP(X252,Feuil1!$C$1:$BL$10,6,FALSE)","v":-26},{"$f":"T252-HLOOKUP(X252,Feuil1!$C$1:$BL$10,7,FALSE)","v":-41},{"$f":"T252-HLOOKUP(X252,Feuil1!$C$1:$BL$10,8,FALSE)","v":-61},{"$f":"T252-HLOOKUP(X252,Feuil1!$C$1:$BL$10,9,FALSE)","v":-81},{"$f":"T252-HLOOKUP(X252,Feuil1!$C$1:$BL$10,10,FALSE)","v":-96},null,null,null,null,null,null,"REG +"]
["F","N","IDF",22,381264,"SITHIMOLADA","VALERIE",1982,63.9,"MELUN","F",-40,40,45,45,55,60,62,62,107,-20.799999999999997,"REG +",2,{"$f":"IF(I253=\"\",\"\",IF(A253=\"H\",IF(OR(H253=\"SEN\",H253<1995),VLOOKUP(I253,Feuil1!$A$11:$F$29,6),IF(AND(H253>1994,H253<1998),VLOOKUP(I253,Feuil1!$A$11:$F$29,5),IF(AND(H253>1997,H253<2000),VLOOKUP(I253,Feuil1!$A$11:$F$29,4),IF(AND(H253>1999,H253<2002),VLOOKUP(I253,Feuil1!$A$11:$F$29,3),VLOOKUP(I253,Feuil1!$A$11:$F$29,2))))),IF(OR(H253=\"SEN\",H253<1995),VLOOKUP(I253,Feuil1!$G$11:$L$25,6),IF(AND(H253>1994,H253<1998),VLOOKUP(I253,Feuil1!$G$11:$L$25,5),IF(AND(H253>1997,H253<2000),VLOOKUP(I253,Feuil1!$G$11:$L$25,4),IF(AND(H253>1999,H253<2002),VLOOKUP(I253,Feuil1!$G$11:$L$25,3),VLOOKUP(I253,Feuil1!$G$11:$L$25,2)))))))","v":"FS69"},140.86876067805494,null," ",{"$f":"T253-HLOOKUP(X253,Feuil1!$C$1:$BL$10,2,FALSE)","v":27},{"$f":"T253-HLOOKUP(X253,Feuil1!$C$1:$BL$10,3,FALSE)","v":17},{"$f":"T253-HLOOKUP(X253,Feuil1!$C$1:$BL$10,4,FALSE)","v":2},{"$f":"T253-HLOOKUP(X253,Feuil1!$C$1:$BL$10,5,FALSE)","v":-13},{"$f":"T253-HLOOKUP(X253,Feuil1!$C$1:$BL$10,6,FALSE)","v":-28},{"$f":"T253-HLOOKUP(X253,Feuil1!$C$1:$BL$10,7,FALSE)","v":-43},{"$f":"T253-HLOOKUP(X253,Feuil1!$C$1:$BL$10,8,FALSE)","v":-63},{"$f":"T253-HLOOKUP(X253,Feuil1!$C$1:$BL$10,9,FALSE)","v":-83},{"$f":"T253-HLOOKUP(X253,Feuil1!$C$1:$BL$10,10,FALSE)","v":-98},null,null,null,null,null,null,"REG +"]
["F","N","NPC",23,373854,"MARTEAU","Dorothée",1986,67.2,"LOMME","F",44,-48,-48,44,54,58,62,62,106,-28.400000000000006,"REG +",1,{"$f":"IF(I254=\"\",\"\",IF(A254=\"H\",IF(OR(H254=\"SEN\",H254<1995),VLOOKUP(I254,Feuil1!$A$11:$F$29,6),IF(AND(H254>1994,H254<1998),VLOOKUP(I254,Feuil1!$A$11:$F$29,5),IF(AND(H254>1997,H254<2000),VLOOKUP(I254,Feuil1!$A$11:$F$29,4),IF(AND(H254>1999,H254<2002),VLOOKUP(I254,Feuil1!$A$11:$F$29,3),VLOOKUP(I254,Feuil1!$A$11:$F$29,2))))),IF(OR(H254=\"SEN\",H254<1995),VLOOKUP(I254,Feuil1!$G$11:$L$25,6),IF(AND(H254>1994,H254<1998),VLOOKUP(I254,Feuil1!$G$11:$L$25,5),IF(AND(H254>1997,H254<2000),VLOOKUP(I254,Feuil1!$G$11:$L$25,4),IF(AND(H254>1999,H254<2002),VLOOKUP(I254,Feuil1!$G$11:$L$25,3),VLOOKUP(I254,Feuil1!$G$11:$L$25,2)))))))","v":"FS69"},135.16008243580777,null," ",{"$f":"T254-HLOOKUP(X254,Feuil1!$C$1:$BL$10,2,FALSE)","v":26},{"$f":"T254-HLOOKUP(X254,Feuil1!$C$1:$BL$10,3,FALSE)","v":16},{"$f":"T254-HLOOKUP(X254,Feuil1!$C$1:$BL$10,4,FALSE)","v":1},{"$f":"T254-HLOOKUP(X254,Feuil1!$C$1:$BL$10,5,FALSE)","v":-14},{"$f":"T254-HLOOKUP(X254,Feuil1!$C$1:$BL$10,6,FALSE)","v":-29},{"$f":"T254-HLOOKUP(X254,Feuil1!$C$1:$BL$10,7,FALSE)","v":-44},{"$f":"T254-HLOOKUP(X254,Feuil1!$C$1:$BL$10,8,FALSE)","v":-64},{"$f":"T254-HLOOKUP(X254,Feuil1!$C$1:$BL$10,9,FALSE)","v":-84},{"$f":"T254-HLOOKUP(X254,Feuil1!$C$1:$BL$10,10,FALSE)","v":-99},null,null,null,null,null,null,"REG +"]
["F","N","IDF",24,366519,"GUIBERT","Pauline",1986,64.5,"US METRO","F",35,38,-42,38,52,55,58,58,96,-33,"DEP +",6,{"$f":"IF(I255=\"\",\"\",IF(A255=\"H\",IF(OR(H255=\"SEN\",H255<1995),VLOOKUP(I255,Feuil1!$A$11:$F$29,6),IF(AND(H255>1994,H255<1998),VLOOKUP(I255,Feuil1!$A$11:$F$29,5),IF(AND(H255>1997,H255<2000),VLOOKUP(I255,Feuil1!$A$11:$F$29,4),IF(AND(H255>1999,H255<2002),VLOOKUP(I255,Feuil1!$A$11:$F$29,3),VLOOKUP(I255,Feuil1!$A$11:$F$29,2))))),IF(OR(H255=\"SEN\",H255<1995),VLOOKUP(I255,Feuil1!$G$11:$L$25,6),IF(AND(H255>1994,H255<1998),VLOOKUP(I255,Feuil1!$G$11:$L$25,5),IF(AND(H255>1997,H255<2000),VLOOKUP(I255,Feuil1!$G$11:$L$25,4),IF(AND(H255>1999,H255<2002),VLOOKUP(I255,Feuil1!$G$11:$L$25,3),VLOOKUP(I255,Feuil1!$G$11:$L$25,2)))))))","v":"FS69"},125.62022436555441,null," ",{"$f":"T255-HLOOKUP(X255,Feuil1!$C$1:$BL$10,2,FALSE)","v":16},{"$f":"T255-HLOOKUP(X255,Feuil1!$C$1:$BL$10,3,FALSE)","v":6},{"$f":"T255-HLOOKUP(X255,Feuil1!$C$1:$BL$10,4,FALSE)","v":-9},{"$f":"T255-HLOOKUP(X255,Feuil1!$C$1:$BL$10,5,FALSE)","v":-24},{"$f":"T255-HLOOKUP(X255,Feuil1!$C$1:$BL$10,6,FALSE)","v":-39},{"$f":"T255-HLOOKUP(X255,Feuil1!$C$1:$BL$10,7,FALSE)","v":-54},{"$f":"T255-HLOOKUP(X255,Feuil1!$C$1:$BL$10,8,FALSE)","v":-74},{"$f":"T255-HLOOKUP(X255,Feuil1!$C$1:$BL$10,9,FALSE)","v":-94},{"$f":"T255-HLOOKUP(X255,Feuil1!$C$1:$BL$10,10,FALSE)","v":-109},null,null,null,null,null,null,"DEP +"]
["F","N","IDF",25,379284,"HAUSTANT","VIRGINIE",1980,67,"SAINT-MAUR","F",40,-46,-46,40,45,50,55,55,95,-39,"DEP +",5,{"$f":"IF(I256=\"\",\"\",IF(A256=\"H\",IF(OR(H256=\"SEN\",H256<1995),VLOOKUP(I256,Feuil1!$A$11:$F$29,6),IF(AND(H256>1994,H256<1998),VLOOKUP(I256,Feuil1!$A$11:$F$29,5),IF(AND(H256>1997,H256<2000),VLOOKUP(I256,Feuil1!$A$11:$F$29,4),IF(AND(H256>1999,H256<2002),VLOOKUP(I256,Feuil1!$A$11:$F$29,3),VLOOKUP(I256,Feuil1!$A$11:$F$29,2))))),IF(OR(H256=\"SEN\",H256<1995),VLOOKUP(I256,Feuil1!$G$11:$L$25,6),IF(AND(H256>1994,H256<1998),VLOOKUP(I256,Feuil1!$G$11:$L$25,5),IF(AND(H256>1997,H256<2000),VLOOKUP(I256,Feuil1!$G$11:$L$25,4),IF(AND(H256>1999,H256<2002),VLOOKUP(I256,Feuil1!$G$11:$L$25,3),VLOOKUP(I256,Feuil1!$G$11:$L$25,2)))))))","v":"FS69"},121.35687716863184,null," ",{"$f":"T256-HLOOKUP(X256,Feuil1!$C$1:$BL$10,2,FALSE)","v":15},{"$f":"T256-HLOOKUP(X256,Feuil1!$C$1:$BL$10,3,FALSE)","v":5},{"$f":"T256-HLOOKUP(X256,Feuil1!$C$1:$BL$10,4,FALSE)","v":-10},{"$f":"T256-HLOOKUP(X256,Feuil1!$C$1:$BL$10,5,FALSE)","v":-25},{"$f":"T256-HLOOKUP(X256,Feuil1!$C$1:$BL$10,6,FALSE)","v":-40},{"$f":"T256-HLOOKUP(X256,Feuil1!$C$1:$BL$10,7,FALSE)","v":-55},{"$f":"T256-HLOOKUP(X256,Feuil1!$C$1:$BL$10,8,FALSE)","v":-75},{"$f":"T256-HLOOKUP(X256,Feuil1!$C$1:$BL$10,9,FALSE)","v":-95},{"$f":"T256-HLOOKUP(X256,Feuil1!$C$1:$BL$10,10,FALSE)","v":-110},null,null,null,null,null,null,"DEP +"]
["F","SO","MPY",26,342295,"RIVIERE","Sabine",1978,68.400000000000006,"DECAZEVILLE HC","F",35,38,40,40,48,51,55,55,95,-41.800000000000011,"DEP +",5,{"$f":"IF(I257=\"\",\"\",IF(A257=\"H\",IF(OR(H257=\"SEN\",H257<1995),VLOOKUP(I257,Feuil1!$A$11:$F$29,6),IF(AND(H257>1994,H257<1998),VLOOKUP(I257,Feuil1!$A$11:$F$29,5),IF(AND(H257>1997,H257<2000),VLOOKUP(I257,Feuil1!$A$11:$F$29,4),IF(AND(H257>1999,H257<2002),VLOOKUP(I257,Feuil1!$A$11:$F$29,3),VLOOKUP(I257,Feuil1!$A$11:$F$29,2))))),IF(OR(H257=\"SEN\",H257<1995),VLOOKUP(I257,Feuil1!$G$11:$L$25,6),IF(AND(H257>1994,H257<1998),VLOOKUP(I257,Feuil1!$G$11:$L$25,5),IF(AND(H257>1997,H257<2000),VLOOKUP(I257,Feuil1!$G$11:$L$25,4),IF(AND(H257>1999,H257<2002),VLOOKUP(I257,Feuil1!$G$11:$L$25,3),VLOOKUP(I257,Feuil1!$G$11:$L$25,2)))))))","v":"FS69"},119.83625615867206,null," ",{"$f":"T257-HLOOKUP(X257,Feuil1!$C$1:$BL$10,2,FALSE)","v":15},{"$f":"T257-HLOOKUP(X257,Feuil1!$C$1:$BL$10,3,FALSE)","v":5},{"$f":"T257-HLOOKUP(X257,Feuil1!$C$1:$BL$10,4,FALSE)","v":-10},{"$f":"T257-HLOOKUP(X257,Feuil1!$C$1:$BL$10,5,FALSE)","v":-25},{"$f":"T257-HLOOKUP(X257,Feuil1!$C$1:$BL$10,6,FALSE)","v":-40},{"$f":"T257-HLOOKUP(X257,Feuil1!$C$1:$BL$10,7,FALSE)","v":-55},{"$f":"T257-HLOOKUP(X257,Feuil1!$C$1:$BL$10,8,FALSE)","v":-75},{"$f":"T257-HLOOKUP(X257,Feuil1!$C$1:$BL$10,9,FALSE)","v":-95},{"$f":"T257-HLOOKUP(X257,Feuil1!$C$1:$BL$10,10,FALSE)","v":-110},null,null,null,null,null,null,"DEP +"]
["F","CO","BNO",27,383833,"TURMO","GWENDOLINE",1992,69,"Stade St Lois","F",39,-42,-42,39,50,-55,55,55,94,-44,"DEP +",4,{"$f":"IF(I258=\"\",\"\",IF(A258=\"H\",IF(OR(H258=\"SEN\",H258<1995),VLOOKUP(I258,Feuil1!$A$11:$F$29,6),IF(AND(H258>1994,H258<1998),VLOOKUP(I258,Feuil1!$A$11:$F$29,5),IF(AND(H258>1997,H258<2000),VLOOKUP(I258,Feuil1!$A$11:$F$29,4),IF(AND(H258>1999,H258<2002),VLOOKUP(I258,Feuil1!$A$11:$F$29,3),VLOOKUP(I258,Feuil1!$A$11:$F$29,2))))),IF(OR(H258=\"SEN\",H258<1995),VLOOKUP(I258,Feuil1!$G$11:$L$25,6),IF(AND(H258>1994,H258<1998),VLOOKUP(I258,Feuil1!$G$11:$L$25,5),IF(AND(H258>1997,H258<2000),VLOOKUP(I258,Feuil1!$G$11:$L$25,4),IF(AND(H258>1999,H258<2002),VLOOKUP(I258,Feuil1!$G$11:$L$25,3),VLOOKUP(I258,Feuil1!$G$11:$L$25,2)))))))","v":"FS69"},117.95687537041618,null," ",{"$f":"T258-HLOOKUP(X258,Feuil1!$C$1:$BL$10,2,FALSE)","v":14},{"$f":"T258-HLOOKUP(X258,Feuil1!$C$1:$BL$10,3,FALSE)","v":4},{"$f":"T258-HLOOKUP(X258,Feuil1!$C$1:$BL$10,4,FALSE)","v":-11},{"$f":"T258-HLOOKUP(X258,Feuil1!$C$1:$BL$10,5,FALSE)","v":-26},{"$f":"T258-HLOOKUP(X258,Feuil1!$C$1:$BL$10,6,FALSE)","v":-41},{"$f":"T258-HLOOKUP(X258,Feuil1!$C$1:$BL$10,7,FALSE)","v":-56},{"$f":"T258-HLOOKUP(X258,Feuil1!$C$1:$BL$10,8,FALSE)","v":-76},{"$f":"T258-HLOOKUP(X258,Feuil1!$C$1:$BL$10,9,FALSE)","v":-96},{"$f":"T258-HLOOKUP(X258,Feuil1!$C$1:$BL$10,10,FALSE)","v":-111},null,null,null,null,null,null,"DEP +"]
["F","NE","ALS",28,134532,"LICHTLE","CORINNE",1957,63.6,"MJC Ungersheim","F",35,-39,39,39,49,52,54,54,93,-34.200000000000003,"DEP +",3,{"$f":"IF(I259=\"\",\"\",IF(A259=\"H\",IF(OR(H259=\"SEN\",H259<1995),VLOOKUP(I259,Feuil1!$A$11:$F$29,6),IF(AND(H259>1994,H259<1998),VLOOKUP(I259,Feuil1!$A$11:$F$29,5),IF(AND(H259>1997,H259<2000),VLOOKUP(I259,Feuil1!$A$11:$F$29,4),IF(AND(H259>1999,H259<2002),VLOOKUP(I259,Feuil1!$A$11:$F$29,3),VLOOKUP(I259,Feuil1!$A$11:$F$29,2))))),IF(OR(H259=\"SEN\",H259<1995),VLOOKUP(I259,Feuil1!$G$11:$L$25,6),IF(AND(H259>1994,H259<1998),VLOOKUP(I259,Feuil1!$G$11:$L$25,5),IF(AND(H259>1997,H259<2000),VLOOKUP(I259,Feuil1!$G$11:$L$25,4),IF(AND(H259>1999,H259<2002),VLOOKUP(I259,Feuil1!$G$11:$L$25,3),VLOOKUP(I259,Feuil1!$G$11:$L$25,2)))))))","v":"FS69"},122.81620318519209,null," ",{"$f":"T259-HLOOKUP(X259,Feuil1!$C$1:$BL$10,2,FALSE)","v":13},{"$f":"T259-HLOOKUP(X259,Feuil1!$C$1:$BL$10,3,FALSE)","v":3},{"$f":"T259-HLOOKUP(X259,Feuil1!$C$1:$BL$10,4,FALSE)","v":-12},{"$f":"T259-HLOOKUP(X259,Feuil1!$C$1:$BL$10,5,FALSE)","v":-27},{"$f":"T259-HLOOKUP(X259,Feuil1!$C$1:$BL$10,6,FALSE)","v":-42},{"$f":"T259-HLOOKUP(X259,Feuil1!$C$1:$BL$10,7,FALSE)","v":-57},{"$f":"T259-HLOOKUP(X259,Feuil1!$C$1:$BL$10,8,FALSE)","v":-77},{"$f":"T259-HLOOKUP(X259,Feuil1!$C$1:$BL$10,9,FALSE)","v":-97},{"$f":"T259-HLOOKUP(X259,Feuil1!$C$1:$BL$10,10,FALSE)","v":-112},null,null,null,null,null,null,"DEP +"]
["F","NE","ALS",29,364658,"BAECHTEL","ANNAELLE",1985,63.55,"ASPTT Strasbourg","F",34,37,39,39,47,-49,51,51,90,-37.099999999999994,"DEP +",0,{"$f":"IF(I260=\"\",\"\",IF(A260=\"H\",IF(OR(H260=\"SEN\",H260<1995),VLOOKUP(I260,Feuil1!$A$11:$F$29,6),IF(AND(H260>1994,H260<1998),VLOOKUP(I260,Feuil1!$A$11:$F$29,5),IF(AND(H260>1997,H260<2000),VLOOKUP(I260,Feuil1!$A$11:$F$29,4),IF(AND(H260>1999,H260<2002),VLOOKUP(I260,Feuil1!$A$11:$F$29,3),VLOOKUP(I260,Feuil1!$A$11:$F$29,2))))),IF(OR(H260=\"SEN\",H260<1995),VLOOKUP(I260,Feuil1!$G$11:$L$25,6),IF(AND(H260>1994,H260<1998),VLOOKUP(I260,Feuil1!$G$11:$L$25,5),IF(AND(H260>1997,H260<2000),VLOOKUP(I260,Feuil1!$G$11:$L$25,4),IF(AND(H260>1999,H260<2002),VLOOKUP(I260,Feuil1!$G$11:$L$25,3),VLOOKUP(I260,Feuil1!$G$11:$L$25,2)))))))","v":"FS69"},118.91597692324326,null," ",{"$f":"T260-HLOOKUP(X260,Feuil1!$C$1:$BL$10,2,FALSE)","v":10},{"$f":"T260-HLOOKUP(X260,Feuil1!$C$1:$BL$10,3,FALSE)","v":0},{"$f":"T260-HLOOKUP(X260,Feuil1!$C$1:$BL$10,4,FALSE)","v":-15},{"$f":"T260-HLOOKUP(X260,Feuil1!$C$1:$BL$10,5,FALSE)","v":-30},{"$f":"T260-HLOOKUP(X260,Feuil1!$C$1:$BL$10,6,FALSE)","v":-45},{"$f":"T260-HLOOKUP(X260,Feuil1!$C$1:$BL$10,7,FALSE)","v":-60},{"$f":"T260-HLOOKUP(X260,Feuil1!$C$1:$BL$10,8,FALSE)","v":-80},{"$f":"T260-HLOOKUP(X260,Feuil1!$C$1:$BL$10,9,FALSE)","v":-100},{"$f":"T260-HLOOKUP(X260,Feuil1!$C$1:$BL$10,10,FALSE)","v":-115},null,null,null,null,null,null,"DEP +"]
["F","SO","MPY",30,222167,"MELENDEZ","Belinda",1982,63.8,"MONTAUBAN HC","F",34,37,40,40,42,46,50,50,90,-37.599999999999994,"DEP +",0,{"$f":"IF(I261=\"\",\"\",IF(A261=\"H\",IF(OR(H261=\"SEN\",H261<1995),VLOOKUP(I261,Feuil1!$A$11:$F$29,6),IF(AND(H261>1994,H261<1998),VLOOKUP(I261,Feuil1!$A$11:$F$29,5),IF(AND(H261>1997,H261<2000),VLOOKUP(I261,Feuil1!$A$11:$F$29,4),IF(AND(H261>1999,H261<2002),VLOOKUP(I261,Feuil1!$A$11:$F$29,3),VLOOKUP(I261,Feuil1!$A$11:$F$29,2))))),IF(OR(H261=\"SEN\",H261<1995),VLOOKUP(I261,Feuil1!$G$11:$L$25,6),IF(AND(H261>1994,H261<1998),VLOOKUP(I261,Feuil1!$G$11:$L$25,5),IF(AND(H261>1997,H261<2000),VLOOKUP(I261,Feuil1!$G$11:$L$25,4),IF(AND(H261>1999,H261<2002),VLOOKUP(I261,Feuil1!$G$11:$L$25,3),VLOOKUP(I261,Feuil1!$G$11:$L$25,2)))))))","v":"FS69"},118.60941384456594,null," ",{"$f":"T261-HLOOKUP(X261,Feuil1!$C$1:$BL$10,2,FALSE)","v":10},{"$f":"T261-HLOOKUP(X261,Feuil1!$C$1:$BL$10,3,FALSE)","v":0},{"$f":"T261-HLOOKUP(X261,Feuil1!$C$1:$BL$10,4,FALSE)","v":-15},{"$f":"T261-HLOOKUP(X261,Feuil1!$C$1:$BL$10,5,FALSE)","v":-30},{"$f":"T261-HLOOKUP(X261,Feuil1!$C$1:$BL$10,6,FALSE)","v":-45},{"$f":"T261-HLOOKUP(X261,Feuil1!$C$1:$BL$10,7,FALSE)","v":-60},{"$f":"T261-HLOOKUP(X261,Feuil1!$C$1:$BL$10,8,FALSE)","v":-80},{"$f":"T261-HLOOKUP(X261,Feuil1!$C$1:$BL$10,9,FALSE)","v":-100},{"$f":"T261-HLOOKUP(X261,Feuil1!$C$1:$BL$10,10,FALSE)","v":-115},null,null,null,null,null,null,"DEP +"]
["F","N","IDF",31,256340,"ANDRE","CELINE",1973,64,"MANTES","F",30,35,-40,35,50,55,-58,55,90,-38,"DEP +",0,{"$f":"IF(I262=\"\",\"\",IF(A262=\"H\",IF(OR(H262=\"SEN\",H262<1995),VLOOKUP(I262,Feuil1!$A$11:$F$29,6),IF(AND(H262>1994,H262<1998),VLOOKUP(I262,Feuil1!$A$11:$F$29,5),IF(AND(H262>1997,H262<2000),VLOOKUP(I262,Feuil1!$A$11:$F$29,4),IF(AND(H262>1999,H262<2002),VLOOKUP(I262,Feuil1!$A$11:$F$29,3),VLOOKUP(I262,Feuil1!$A$11:$F$29,2))))),IF(OR(H262=\"SEN\",H262<1995),VLOOKUP(I262,Feuil1!$G$11:$L$25,6),IF(AND(H262>1994,H262<1998),VLOOKUP(I262,Feuil1!$G$11:$L$25,5),IF(AND(H262>1997,H262<2000),VLOOKUP(I262,Feuil1!$G$11:$L$25,4),IF(AND(H262>1999,H262<2002),VLOOKUP(I262,Feuil1!$G$11:$L$25,3),VLOOKUP(I262,Feuil1!$G$11:$L$25,2)))))))","v":"FS69"},118.36661193414432,null," ",{"$f":"T262-HLOOKUP(X262,Feuil1!$C$1:$BL$10,2,FALSE)","v":10},{"$f":"T262-HLOOKUP(X262,Feuil1!$C$1:$BL$10,3,FALSE)","v":0},{"$f":"T262-HLOOKUP(X262,Feuil1!$C$1:$BL$10,4,FALSE)","v":-15},{"$f":"T262-HLOOKUP(X262,Feuil1!$C$1:$BL$10,5,FALSE)","v":-30},{"$f":"T262-HLOOKUP(X262,Feuil1!$C$1:$BL$10,6,FALSE)","v":-45},{"$f":"T262-HLOOKUP(X262,Feuil1!$C$1:$BL$10,7,FALSE)","v":-60},{"$f":"T262-HLOOKUP(X262,Feuil1!$C$1:$BL$10,8,FALSE)","v":-80},{"$f":"T262-HLOOKUP(X262,Feuil1!$C$1:$BL$10,9,FALSE)","v":-100},{"$f":"T262-HLOOKUP(X262,Feuil1!$C$1:$BL$10,10,FALSE)","v":-115},null,null,null,null,null,null,"DEP +"]
["F","N","IDF",32,389607,"NEGRE","SOPHIA",1990,64.3,"MELUN","F",35,40,-43,40,46,50,-55,50,90,-38.599999999999994,"DEP +",0,{"$f":"IF(I263=\"\",\"\",IF(A263=\"H\",IF(OR(H263=\"SEN\",H263<1995),VLOOKUP(I263,Feuil1!$A$11:$F$29,6),IF(AND(H263>1994,H263<1998),VLOOKUP(I263,Feuil1!$A$11:$F$29,5),IF(AND(H263>1997,H263<2000),VLOOKUP(I263,Feuil1!$A$11:$F$29,4),IF(AND(H263>1999,H263<2002),VLOOKUP(I263,Feuil1!$A$11:$F$29,3),VLOOKUP(I263,Feuil1!$A$11:$F$29,2))))),IF(OR(H263=\"SEN\",H263<1995),VLOOKUP(I263,Feuil1!$G$11:$L$25,6),IF(AND(H263>1994,H263<1998),VLOOKUP(I263,Feuil1!$G$11:$L$25,5),IF(AND(H263>1997,H263<2000),VLOOKUP(I263,Feuil1!$G$11:$L$25,4),IF(AND(H263>1999,H263<2002),VLOOKUP(I263,Feuil1!$G$11:$L$25,3),VLOOKUP(I263,Feuil1!$G$11:$L$25,2)))))))","v":"FS69"},118.00643260975927,null," ",{"$f":"T263-HLOOKUP(X263,Feuil1!$C$1:$BL$10,2,FALSE)","v":10},{"$f":"T263-HLOOKUP(X263,Feuil1!$C$1:$BL$10,3,FALSE)","v":0},{"$f":"T263-HLOOKUP(X263,Feuil1!$C$1:$BL$10,4,FALSE)","v":-15},{"$f":"T263-HLOOKUP(X263,Feuil1!$C$1:$BL$10,5,FALSE)","v":-30},{"$f":"T263-HLOOKUP(X263,Feuil1!$C$1:$BL$10,6,FALSE)","v":-45},{"$f":"T263-HLOOKUP(X263,Feuil1!$C$1:$BL$10,7,FALSE)","v":-60},{"$f":"T263-HLOOKUP(X263,Feuil1!$C$1:$BL$10,8,FALSE)","v":-80},{"$f":"T263-HLOOKUP(X263,Feuil1!$C$1:$BL$10,9,FALSE)","v":-100},{"$f":"T263-HLOOKUP(X263,Feuil1!$C$1:$BL$10,10,FALSE)","v":-115},null,null,null,null,null,null,"DEP +"]
["F","SEST","PRO",33,359600,"SCHILD","LOU",1969,65.3,"AP AIX","F",35,-40,40,40,45,50,-53,50,90,-40.599999999999994,"DEP +",0,{"$f":"IF(I264=\"\",\"\",IF(A264=\"H\",IF(OR(H264=\"SEN\",H264<1995),VLOOKUP(I264,Feuil1!$A$11:$F$29,6),IF(AND(H264>1994,H264<1998),VLOOKUP(I264,Feuil1!$A$11:$F$29,5),IF(AND(H264>1997,H264<2000),VLOOKUP(I264,Feuil1!$A$11:$F$29,4),IF(AND(H264>1999,H264<2002),VLOOKUP(I264,Feuil1!$A$11:$F$29,3),VLOOKUP(I264,Feuil1!$A$11:$F$29,2))))),IF(OR(H264=\"SEN\",H264<1995),VLOOKUP(I264,Feuil1!$G$11:$L$25,6),IF(AND(H264>1994,H264<1998),VLOOKUP(I264,Feuil1!$G$11:$L$25,5),IF(AND(H264>1997,H264<2000),VLOOKUP(I264,Feuil1!$G$11:$L$25,4),IF(AND(H264>1999,H264<2002),VLOOKUP(I264,Feuil1!$G$11:$L$25,3),VLOOKUP(I264,Feuil1!$G$11:$L$25,2)))))))","v":"FS69"},116.83974256514131,null," ",{"$f":"T264-HLOOKUP(X264,Feuil1!$C$1:$BL$10,2,FALSE)","v":10},{"$f":"T264-HLOOKUP(X264,Feuil1!$C$1:$BL$10,3,FALSE)","v":0},{"$f":"T264-HLOOKUP(X264,Feuil1!$C$1:$BL$10,4,FALSE)","v":-15},{"$f":"T264-HLOOKUP(X264,Feuil1!$C$1:$BL$10,5,FALSE)","v":-30},{"$f":"T264-HLOOKUP(X264,Feuil1!$C$1:$BL$10,6,FALSE)","v":-45},{"$f":"T264-HLOOKUP(X264,Feuil1!$C$1:$BL$10,7,FALSE)","v":-60},{"$f":"T264-HLOOKUP(X264,Feuil1!$C$1:$BL$10,8,FALSE)","v":-80},{"$f":"T264-HLOOKUP(X264,Feuil1!$C$1:$BL$10,9,FALSE)","v":-100},{"$f":"T264-HLOOKUP(X264,Feuil1!$C$1:$BL$10,10,FALSE)","v":-115},null,null,null,null,null,null,"DEP +"]
["F","CO","CEN",34,262220,"CARTON","Alexandrine",1988,65.7,"US Tours","F",36,38,-40,38,47,50,52,52,90,-41.400000000000006,"DEP +",0,{"$f":"IF(I265=\"\",\"\",IF(A265=\"H\",IF(OR(H265=\"SEN\",H265<1995),VLOOKUP(I265,Feuil1!$A$11:$F$29,6),IF(AND(H265>1994,H265<1998),VLOOKUP(I265,Feuil1!$A$11:$F$29,5),IF(AND(H265>1997,H265<2000),VLOOKUP(I265,Feuil1!$A$11:$F$29,4),IF(AND(H265>1999,H265<2002),VLOOKUP(I265,Feuil1!$A$11:$F$29,3),VLOOKUP(I265,Feuil1!$A$11:$F$29,2))))),IF(OR(H265=\"SEN\",H265<1995),VLOOKUP(I265,Feuil1!$G$11:$L$25,6),IF(AND(H265>1994,H265<1998),VLOOKUP(I265,Feuil1!$G$11:$L$25,5),IF(AND(H265>1997,H265<2000),VLOOKUP(I265,Feuil1!$G$11:$L$25,4),IF(AND(H265>1999,H265<2002),VLOOKUP(I265,Feuil1!$G$11:$L$25,3),VLOOKUP(I265,Feuil1!$G$11:$L$25,2)))))))","v":"FS69"},116.38721891377347,null," ",{"$f":"T265-HLOOKUP(X265,Feuil1!$C$1:$BL$10,2,FALSE)","v":10},{"$f":"T265-HLOOKUP(X265,Feuil1!$C$1:$BL$10,3,FALSE)","v":0},{"$f":"T265-HLOOKUP(X265,Feuil1!$C$1:$BL$10,4,FALSE)","v":-15},{"$f":"T265-HLOOKUP(X265,Feuil1!$C$1:$BL$10,5,FALSE)","v":-30},{"$f":"T265-HLOOKUP(X265,Feuil1!$C$1:$BL$10,6,FALSE)","v":-45},{"$f":"T265-HLOOKUP(X265,Feuil1!$C$1:$BL$10,7,FALSE)","v":-60},{"$f":"T265-HLOOKUP(X265,Feuil1!$C$1:$BL$10,8,FALSE)","v":-80},{"$f":"T265-HLOOKUP(X265,Feuil1!$C$1:$BL$10,9,FALSE)","v":-100},{"$f":"T265-HLOOKUP(X265,Feuil1!$C$1:$BL$10,10,FALSE)","v":-115},null,null,null,null,null,null,"DEP +"]
["F","SEST","RAL",35,356463,"FARGIER","Sabrina",1981,66.400000000000006,"BOURG DE PEAGE","F",36,38,-40,38,46,49,-51,49,87,-45.800000000000011,"DEB ",7,{"$f":"IF(I266=\"\",\"\",IF(A266=\"H\",IF(OR(H266=\"SEN\",H266<1995),VLOOKUP(I266,Feuil1!$A$11:$F$29,6),IF(AND(H266>1994,H266<1998),VLOOKUP(I266,Feuil1!$A$11:$F$29,5),IF(AND(H266>1997,H266<2000),VLOOKUP(I266,Feuil1!$A$11:$F$29,4),IF(AND(H266>1999,H266<2002),VLOOKUP(I266,Feuil1!$A$11:$F$29,3),VLOOKUP(I266,Feuil1!$A$11:$F$29,2))))),IF(OR(H266=\"SEN\",H266<1995),VLOOKUP(I266,Feuil1!$G$11:$L$25,6),IF(AND(H266>1994,H266<1998),VLOOKUP(I266,Feuil1!$G$11:$L$25,5),IF(AND(H266>1997,H266<2000),VLOOKUP(I266,Feuil1!$G$11:$L$25,4),IF(AND(H266>1999,H266<2002),VLOOKUP(I266,Feuil1!$G$11:$L$25,3),VLOOKUP(I266,Feuil1!$G$11:$L$25,2)))))))","v":"FS69"},111.76022303295953,null," ",{"$f":"T266-HLOOKUP(X266,Feuil1!$C$1:$BL$10,2,FALSE)","v":7},{"$f":"T266-HLOOKUP(X266,Feuil1!$C$1:$BL$10,3,FALSE)","v":-3},{"$f":"T266-HLOOKUP(X266,Feuil1!$C$1:$BL$10,4,FALSE)","v":-18},{"$f":"T266-HLOOKUP(X266,Feuil1!$C$1:$BL$10,5,FALSE)","v":-33},{"$f":"T266-HLOOKUP(X266,Feuil1!$C$1:$BL$10,6,FALSE)","v":-48},{"$f":"T266-HLOOKUP(X266,Feuil1!$C$1:$BL$10,7,FALSE)","v":-63},{"$f":"T266-HLOOKUP(X266,Feuil1!$C$1:$BL$10,8,FALSE)","v":-83},{"$f":"T266-HLOOKUP(X266,Feuil1!$C$1:$BL$10,9,FALSE)","v":-103},{"$f":"T266-HLOOKUP(X266,Feuil1!$C$1:$BL$10,10,FALSE)","v":-118},null,null,null,null,null,null,"DEB "]
["F","SEST","CAZ",36,186993,"JOLY","Claire",1990,67.569999999999993,"ASLDD TOULON","F",32,36,38,38,43,47,49,49,87,-48.139999999999986,"DEB ",7,{"$f":"IF(I267=\"\",\"\",IF(A267=\"H\",IF(OR(H267=\"SEN\",H267<1995),VLOOKUP(I267,Feuil1!$A$11:$F$29,6),IF(AND(H267>1994,H267<1998),VLOOKUP(I267,Feuil1!$A$11:$F$29,5),IF(AND(H267>1997,H267<2000),VLOOKUP(I267,Feuil1!$A$11:$F$29,4),IF(AND(H267>1999,H267<2002),VLOOKUP(I267,Feuil1!$A$11:$F$29,3),VLOOKUP(I267,Feuil1!$A$11:$F$29,2))))),IF(OR(H267=\"SEN\",H267<1995),VLOOKUP(I267,Feuil1!$G$11:$L$25,6),IF(AND(H267>1994,H267<1998),VLOOKUP(I267,Feuil1!$G$11:$L$25,5),IF(AND(H267>1997,H267<2000),VLOOKUP(I267,Feuil1!$G$11:$L$25,4),IF(AND(H267>1999,H267<2002),VLOOKUP(I267,Feuil1!$G$11:$L$25,3),VLOOKUP(I267,Feuil1!$G$11:$L$25,2)))))))","v":"FS69"},110.56031621398083,null," ",{"$f":"T267-HLOOKUP(X267,Feuil1!$C$1:$BL$10,2,FALSE)","v":7},{"$f":"T267-HLOOKUP(X267,Feuil1!$C$1:$BL$10,3,FALSE)","v":-3},{"$f":"T267-HLOOKUP(X267,Feuil1!$C$1:$BL$10,4,FALSE)","v":-18},{"$f":"T267-HLOOKUP(X267,Feuil1!$C$1:$BL$10,5,FALSE)","v":-33},{"$f":"T267-HLOOKUP(X267,Feuil1!$C$1:$BL$10,6,FALSE)","v":-48},{"$f":"T267-HLOOKUP(X267,Feuil1!$C$1:$BL$10,7,FALSE)","v":-63},{"$f":"T267-HLOOKUP(X267,Feuil1!$C$1:$BL$10,8,FALSE)","v":-83},{"$f":"T267-HLOOKUP(X267,Feuil1!$C$1:$BL$10,9,FALSE)","v":-103},{"$f":"T267-HLOOKUP(X267,Feuil1!$C$1:$BL$10,10,FALSE)","v":-118},null,null,null,null,null,null,"DEB "]
["F","SEST","CAZ",37,380058,"GUEGAN","Elodie",1988,63.3,"HC HYERES","F",32,37,-42,37,42,48,-55,48,85,-41.599999999999994,"DEB ",5,{"$f":"IF(I268=\"\",\"\",IF(A268=\"H\",IF(OR(H268=\"SEN\",H268<1995),VLOOKUP(I268,Feuil1!$A$11:$F$29,6),IF(AND(H268>1994,H268<1998),VLOOKUP(I268,Feuil1!$A$11:$F$29,5),IF(AND(H268>1997,H268<2000),VLOOKUP(I268,Feuil1!$A$11:$F$29,4),IF(AND(H268>1999,H268<2002),VLOOKUP(I268,Feuil1!$A$11:$F$29,3),VLOOKUP(I268,Feuil1!$A$11:$F$29,2))))),IF(OR(H268=\"SEN\",H268<1995),VLOOKUP(I268,Feuil1!$G$11:$L$25,6),IF(AND(H268>1994,H268<1998),VLOOKUP(I268,Feuil1!$G$11:$L$25,5),IF(AND(H268>1997,H268<2000),VLOOKUP(I268,Feuil1!$G$11:$L$25,4),IF(AND(H268>1999,H268<2002),VLOOKUP(I268,Feuil1!$G$11:$L$25,3),VLOOKUP(I268,Feuil1!$G$11:$L$25,2)))))))","v":"FS69"},112.60232033587982,null," ",{"$f":"T268-HLOOKUP(X268,Feuil1!$C$1:$BL$10,2,FALSE)","v":5},{"$f":"T268-HLOOKUP(X268,Feuil1!$C$1:$BL$10,3,FALSE)","v":-5},{"$f":"T268-HLOOKUP(X268,Feuil1!$C$1:$BL$10,4,FALSE)","v":-20},{"$f":"T268-HLOOKUP(X268,Feuil1!$C$1:$BL$10,5,FALSE)","v":-35},{"$f":"T268-HLOOKUP(X268,Feuil1!$C$1:$BL$10,6,FALSE)","v":-50},{"$f":"T268-HLOOKUP(X268,Feuil1!$C$1:$BL$10,7,FALSE)","v":-65},{"$f":"T268-HLOOKUP(X268,Feuil1!$C$1:$BL$10,8,FALSE)","v":-85},{"$f":"T268-HLOOKUP(X268,Feuil1!$C$1:$BL$10,9,FALSE)","v":-105},{"$f":"T268-HLOOKUP(X268,Feuil1!$C$1:$BL$10,10,FALSE)","v":-120},null,null,null,null,null,null,"DEB "]
["F","NE","FCO",38,349744,"BERTHELIN","Edith",1974,67.5,"CH Luxeuil","F",33,-35,35,35,40,45,50,50,85,-50,"DEB ",5,{"$f":"IF(I269=\"\",\"\",IF(A269=\"H\",IF(OR(H269=\"SEN\",H269<1995),VLOOKUP(I269,Feuil1!$A$11:$F$29,6),IF(AND(H269>1994,H269<1998),VLOOKUP(I269,Feuil1!$A$11:$F$29,5),IF(AND(H269>1997,H269<2000),VLOOKUP(I269,Feuil1!$A$11:$F$29,4),IF(AND(H269>1999,H269<2002),VLOOKUP(I269,Feuil1!$A$11:$F$29,3),VLOOKUP(I269,Feuil1!$A$11:$F$29,2))))),IF(OR(H269=\"SEN\",H269<1995),VLOOKUP(I269,Feuil1!$G$11:$L$25,6),IF(AND(H269>1994,H269<1998),VLOOKUP(I269,Feuil1!$G$11:$L$25,5),IF(AND(H269>1997,H269<2000),VLOOKUP(I269,Feuil1!$G$11:$L$25,4),IF(AND(H269>1999,H269<2002),VLOOKUP(I269,Feuil1!$G$11:$L$25,3),VLOOKUP(I269,Feuil1!$G$11:$L$25,2)))))))","v":"FS69"},108.0871958259706,null," ",{"$f":"T269-HLOOKUP(X269,Feuil1!$C$1:$BL$10,2,FALSE)","v":5},{"$f":"T269-HLOOKUP(X269,Feuil1!$C$1:$BL$10,3,FALSE)","v":-5},{"$f":"T269-HLOOKUP(X269,Feuil1!$C$1:$BL$10,4,FALSE)","v":-20},{"$f":"T269-HLOOKUP(X269,Feuil1!$C$1:$BL$10,5,FALSE)","v":-35},{"$f":"T269-HLOOKUP(X269,Feuil1!$C$1:$BL$10,6,FALSE)","v":-50},{"$f":"T269-HLOOKUP(X269,Feuil1!$C$1:$BL$10,7,FALSE)","v":-65},{"$f":"T269-HLOOKUP(X269,Feuil1!$C$1:$BL$10,8,FALSE)","v":-85},{"$f":"T269-HLOOKUP(X269,Feuil1!$C$1:$BL$10,9,FALSE)","v":-105},{"$f":"T269-HLOOKUP(X269,Feuil1!$C$1:$BL$10,10,FALSE)","v":-120},null,null,null,null,null,null,"DEB "]
["F","SEST","PRO",39,124214,"ARQUIER","BEATRICE",1983,67.5,"HC PELISSANNE","F",30,33,35,35,43,47,-50,47,82,-53,"DEB ",2,{"$f":"IF(I270=\"\",\"\",IF(A270=\"H\",IF(OR(H270=\"SEN\",H270<1995),VLOOKUP(I270,Feuil1!$A$11:$F$29,6),IF(AND(H270>1994,H270<1998),VLOOKUP(I270,Feuil1!$A$11:$F$29,5),IF(AND(H270>1997,H270<2000),VLOOKUP(I270,Feuil1!$A$11:$F$29,4),IF(AND(H270>1999,H270<2002),VLOOKUP(I270,Feuil1!$A$11:$F$29,3),VLOOKUP(I270,Feuil1!$A$11:$F$29,2))))),IF(OR(H270=\"SEN\",H270<1995),VLOOKUP(I270,Feuil1!$G$11:$L$25,6),IF(AND(H270>1994,H270<1998),VLOOKUP(I270,Feuil1!$G$11:$L$25,5),IF(AND(H270>1997,H270<2000),VLOOKUP(I270,Feuil1!$G$11:$L$25,4),IF(AND(H270>1999,H270<2002),VLOOKUP(I270,Feuil1!$G$11:$L$25,3),VLOOKUP(I270,Feuil1!$G$11:$L$25,2)))))))","v":"FS69"},104.27235362034811,null," ",{"$f":"T270-HLOOKUP(X270,Feuil1!$C$1:$BL$10,2,FALSE)","v":2},{"$f":"T270-HLOOKUP(X270,Feuil1!$C$1:$BL$10,3,FALSE)","v":-8},{"$f":"T270-HLOOKUP(X270,Feuil1!$C$1:$BL$10,4,FALSE)","v":-23},{"$f":"T270-HLOOKUP(X270,Feuil1!$C$1:$BL$10,5,FALSE)","v":-38},{"$f":"T270-HLOOKUP(X270,Feuil1!$C$1:$BL$10,6,FALSE)","v":-53},{"$f":"T270-HLOOKUP(X270,Feuil1!$C$1:$BL$10,7,FALSE)","v":-68},{"$f":"T270-HLOOKUP(X270,Feuil1!$C$1:$BL$10,8,FALSE)","v":-88},{"$f":"T270-HLOOKUP(X270,Feuil1!$C$1:$BL$10,9,FALSE)","v":-108},{"$f":"T270-HLOOKUP(X270,Feuil1!$C$1:$BL$10,10,FALSE)","v":-123},null,null,null,null,null,null,"DEB "]
["F","N","IDF",40,110465,"NIGON","ARMELLE",1987,66.099999999999994,"RUEIL","F",32,35,-37,35,43,-46,-46,43,78,-54.199999999999989,"DEB ",-2,{"$f":"IF(I271=\"\",\"\",IF(A271=\"H\",IF(OR(H271=\"SEN\",H271<1995),VLOOKUP(I271,Feuil1!$A$11:$F$29,6),IF(AND(H271>1994,H271<1998),VLOOKUP(I271,Feuil1!$A$11:$F$29,5),IF(AND(H271>1997,H271<2000),VLOOKUP(I271,Feuil1!$A$11:$F$29,4),IF(AND(H271>1999,H271<2002),VLOOKUP(I271,Feuil1!$A$11:$F$29,3),VLOOKUP(I271,Feuil1!$A$11:$F$29,2))))),IF(OR(H271=\"SEN\",H271<1995),VLOOKUP(I271,Feuil1!$G$11:$L$25,6),IF(AND(H271>1994,H271<1998),VLOOKUP(I271,Feuil1!$G$11:$L$25,5),IF(AND(H271>1997,H271<2000),VLOOKUP(I271,Feuil1!$G$11:$L$25,4),IF(AND(H271>1999,H271<2002),VLOOKUP(I271,Feuil1!$G$11:$L$25,3),VLOOKUP(I271,Feuil1!$G$11:$L$25,2)))))))","v":"FS69"},100.48351556236388,null," ",{"$f":"T271-HLOOKUP(X271,Feuil1!$C$1:$BL$10,2,FALSE)","v":-2},{"$f":"T271-HLOOKUP(X271,Feuil1!$C$1:$BL$10,3,FALSE)","v":-12},{"$f":"T271-HLOOKUP(X271,Feuil1!$C$1:$BL$10,4,FALSE)","v":-27},{"$f":"T271-HLOOKUP(X271,Feuil1!$C$1:$BL$10,5,FALSE)","v":-42},{"$f":"T271-HLOOKUP(X271,Feuil1!$C$1:$BL$10,6,FALSE)","v":-57},{"$f":"T271-HLOOKUP(X271,Feuil1!$C$1:$BL$10,7,FALSE)","v":-72},{"$f":"T271-HLOOKUP(X271,Feuil1!$C$1:$BL$10,8,FALSE)","v":-92},{"$f":"T271-HLOOKUP(X271,Feuil1!$C$1:$BL$10,9,FALSE)","v":-112},{"$f":"T271-HLOOKUP(X271,Feuil1!$C$1:$BL$10,10,FALSE)","v":-127},null,null,null,null,null,null,"DEB "]
["F","N","IDF",41,385242,"NTEP","ALICE",1978,63.7,"NEUILLY","F",30,32,-35,32,40,45,-48,45,77,-50.400000000000006,"DEB ",-3,{"$f":"IF(I272=\"\",\"\",IF(A272=\"H\",IF(OR(H272=\"SEN\",H272<1995),VLOOKUP(I272,Feuil1!$A$11:$F$29,6),IF(AND(H272>1994,H272<1998),VLOOKUP(I272,Feuil1!$A$11:$F$29,5),IF(AND(H272>1997,H272<2000),VLOOKUP(I272,Feuil1!$A$11:$F$29,4),IF(AND(H272>1999,H272<2002),VLOOKUP(I272,Feuil1!$A$11:$F$29,3),VLOOKUP(I272,Feuil1!$A$11:$F$29,2))))),IF(OR(H272=\"SEN\",H272<1995),VLOOKUP(I272,Feuil1!$G$11:$L$25,6),IF(AND(H272>1994,H272<1998),VLOOKUP(I272,Feuil1!$G$11:$L$25,5),IF(AND(H272>1997,H272<2000),VLOOKUP(I272,Feuil1!$G$11:$L$25,4),IF(AND(H272>1999,H272<2002),VLOOKUP(I272,Feuil1!$G$11:$L$25,3),VLOOKUP(I272,Feuil1!$G$11:$L$25,2)))))))","v":"FS69"},101.5815045228174,null," ",{"$f":"T272-HLOOKUP(X272,Feuil1!$C$1:$BL$10,2,FALSE)","v":-3},{"$f":"T272-HLOOKUP(X272,Feuil1!$C$1:$BL$10,3,FALSE)","v":-13},{"$f":"T272-HLOOKUP(X272,Feuil1!$C$1:$BL$10,4,FALSE)","v":-28},{"$f":"T272-HLOOKUP(X272,Feuil1!$C$1:$BL$10,5,FALSE)","v":-43},{"$f":"T272-HLOOKUP(X272,Feuil1!$C$1:$BL$10,6,FALSE)","v":-58},{"$f":"T272-HLOOKUP(X272,Feuil1!$C$1:$BL$10,7,FALSE)","v":-73},{"$f":"T272-HLOOKUP(X272,Feuil1!$C$1:$BL$10,8,FALSE)","v":-93},{"$f":"T272-HLOOKUP(X272,Feuil1!$C$1:$BL$10,9,FALSE)","v":-113},{"$f":"T272-HLOOKUP(X272,Feuil1!$C$1:$BL$10,10,FALSE)","v":-128},null,null,null,null,null,null,"DEB "]
["F","N","NPC",42,374959,"JERUZALSKI","Julie",1992,66.7,"LOMME","F",25,29,-32,29,40,45,47,47,76,-57.400000000000006,"DEB ",-4,{"$f":"IF(I273=\"\",\"\",IF(A273=\"H\",IF(OR(H273=\"SEN\",H273<1995),VLOOKUP(I273,Feuil1!$A$11:$F$29,6),IF(AND(H273>1994,H273<1998),VLOOKUP(I273,Feuil1!$A$11:$F$29,5),IF(AND(H273>1997,H273<2000),VLOOKUP(I273,Feuil1!$A$11:$F$29,4),IF(AND(H273>1999,H273<2002),VLOOKUP(I273,Feuil1!$A$11:$F$29,3),VLOOKUP(I273,Feuil1!$A$11:$F$29,2))))),IF(OR(H273=\"SEN\",H273<1995),VLOOKUP(I273,Feuil1!$G$11:$L$25,6),IF(AND(H273>1994,H273<1998),VLOOKUP(I273,Feuil1!$G$11:$L$25,5),IF(AND(H273>1997,H273<2000),VLOOKUP(I273,Feuil1!$G$11:$L$25,4),IF(AND(H273>1999,H273<2002),VLOOKUP(I273,Feuil1!$G$11:$L$25,3),VLOOKUP(I273,Feuil1!$G$11:$L$25,2)))))))","v":"FS69"},97.355801505532085,null," ",{"$f":"T273-HLOOKUP(X273,Feuil1!$C$1:$BL$10,2,FALSE)","v":-4},{"$f":"T273-HLOOKUP(X273,Feuil1!$C$1:$BL$10,3,FALSE)","v":-14},{"$f":"T273-HLOOKUP(X273,Feuil1!$C$1:$BL$10,4,FALSE)","v":-29},{"$f":"T273-HLOOKUP(X273,Feuil1!$C$1:$BL$10,5,FALSE)","v":-44},{"$f":"T273-HLOOKUP(X273,Feuil1!$C$1:$BL$10,6,FALSE)","v":-59},{"$f":"T273-HLOOKUP(X273,Feuil1!$C$1:$BL$10,7,FALSE)","v":-74},{"$f":"T273-HLOOKUP(X273,Feuil1!$C$1:$BL$10,8,FALSE)","v":-94},{"$f":"T273-HLOOKUP(X273,Feuil1!$C$1:$BL$10,9,FALSE)","v":-114},{"$f":"T273-HLOOKUP(X273,Feuil1!$C$1:$BL$10,10,FALSE)","v":-129},null,null,null,null,null,null,"DEB "]
["F","SEST","CAZ",43,376179,"ICARDI","Vanessa",1978,63.3,"HC HYERES","F",27,30,-33,30,40,-42,42,42,72,-54.599999999999994,"DEB ",-8,{"$f":"IF(I274=\"\",\"\",IF(A274=\"H\",IF(OR(H274=\"SEN\",H274<1995),VLOOKUP(I274,Feuil1!$A$11:$F$29,6),IF(AND(H274>1994,H274<1998),VLOOKUP(I274,Feuil1!$A$11:$F$29,5),IF(AND(H274>1997,H274<2000),VLOOKUP(I274,Feuil1!$A$11:$F$29,4),IF(AND(H274>1999,H274<2002),VLOOKUP(I274,Feuil1!$A$11:$F$29,3),VLOOKUP(I274,Feuil1!$A$11:$F$29,2))))),IF(OR(H274=\"SEN\",H274<1995),VLOOKUP(I274,Feuil1!$G$11:$L$25,6),IF(AND(H274>1994,H274<1998),VLOOKUP(I274,Feuil1!$G$11:$L$25,5),IF(AND(H274>1997,H274<2000),VLOOKUP(I274,Feuil1!$G$11:$L$25,4),IF(AND(H274>1999,H274<2002),VLOOKUP(I274,Feuil1!$G$11:$L$25,3),VLOOKUP(I274,Feuil1!$G$11:$L$25,2)))))))","v":"FS69"},95.380788990392318,null," ",{"$f":"T274-HLOOKUP(X274,Feuil1!$C$1:$BL$10,2,FALSE)","v":-8},{"$f":"T274-HLOOKUP(X274,Feuil1!$C$1:$BL$10,3,FALSE)","v":-18},{"$f":"T274-HLOOKUP(X274,Feuil1!$C$1:$BL$10,4,FALSE)","v":-33},{"$f":"T274-HLOOKUP(X274,Feuil1!$C$1:$BL$10,5,FALSE)","v":-48},{"$f":"T274-HLOOKUP(X274,Feuil1!$C$1:$BL$10,6,FALSE)","v":-63},{"$f":"T274-HLOOKUP(X274,Feuil1!$C$1:$BL$10,7,FALSE)","v":-78},{"$f":"T274-HLOOKUP(X274,Feuil1!$C$1:$BL$10,8,FALSE)","v":-98},{"$f":"T274-HLOOKUP(X274,Feuil1!$C$1:$BL$10,9,FALSE)","v":-118},{"$f":"T274-HLOOKUP(X274,Feuil1!$C$1:$BL$10,10,FALSE)","v":-133},null,null,null,null,null,null,"DEB "]
["F","N","PIC",44,263675,"SAUGOUT","Noelle",1957,69,"La Ferté Milon CMHM","F",27,29,30,30,37,-39,40,40,70,-68,"DEB ",-10,{"$f":"IF(I275=\"\",\"\",IF(A275=\"H\",IF(OR(H275=\"SEN\",H275<1995),VLOOKUP(I275,Feuil1!$A$11:$F$29,6),IF(AND(H275>1994,H275<1998),VLOOKUP(I275,Feuil1!$A$11:$F$29,5),IF(AND(H275>1997,H275<2000),VLOOKUP(I275,Feuil1!$A$11:$F$29,4),IF(AND(H275>1999,H275<2002),VLOOKUP(I275,Feuil1!$A$11:$F$29,3),VLOOKUP(I275,Feuil1!$A$11:$F$29,2))))),IF(OR(H275=\"SEN\",H275<1995),VLOOKUP(I275,Feuil1!$G$11:$L$25,6),IF(AND(H275>1994,H275<1998),VLOOKUP(I275,Feuil1!$G$11:$L$25,5),IF(AND(H275>1997,H275<2000),VLOOKUP(I275,Feuil1!$G$11:$L$25,4),IF(AND(H275>1999,H275<2002),VLOOKUP(I275,Feuil1!$G$11:$L$25,3),VLOOKUP(I275,Feuil1!$G$11:$L$25,2)))))))","v":"FS69"},87.840226339671631,null," ",{"$f":"T275-HLOOKUP(X275,Feuil1!$C$1:$BL$10,2,FALSE)","v":-10},{"$f":"T275-HLOOKUP(X275,Feuil1!$C$1:$BL$10,3,FALSE)","v":-20},{"$f":"T275-HLOOKUP(X275,Feuil1!$C$1:$BL$10,4,FALSE)","v":-35},{"$f":"T275-HLOOKUP(X275,Feuil1!$C$1:$BL$10,5,FALSE)","v":-50},{"$f":"T275-HLOOKUP(X275,Feuil1!$C$1:$BL$10,6,FALSE)","v":-65},{"$f":"T275-HLOOKUP(X275,Feuil1!$C$1:$BL$10,7,FALSE)","v":-80},{"$f":"T275-HLOOKUP(X275,Feuil1!$C$1:$BL$10,8,FALSE)","v":-100},{"$f":"T275-HLOOKUP(X275,Feuil1!$C$1:$BL$10,9,FALSE)","v":-120},{"$f":"T275-HLOOKUP(X275,Feuil1!$C$1:$BL$10,10,FALSE)","v":-135},null,null,null,null,null,null,"DEB "]
["F","SEST","RAL",45,380619,"DANDRIMONT","Amandine",1979,67.2,"GAULOISE DE VAISE","F",27,30,32,32,37,-40,-40,37,69,-65.400000000000006,"DEB ",-11,{"$f":"IF(I276=\"\",\"\",IF(A276=\"H\",IF(OR(H276=\"SEN\",H276<1995),VLOOKUP(I276,Feuil1!$A$11:$F$29,6),IF(AND(H276>1994,H276<1998),VLOOKUP(I276,Feuil1!$A$11:$F$29,5),IF(AND(H276>1997,H276<2000),VLOOKUP(I276,Feuil1!$A$11:$F$29,4),IF(AND(H276>1999,H276<2002),VLOOKUP(I276,Feuil1!$A$11:$F$29,3),VLOOKUP(I276,Feuil1!$A$11:$F$29,2))))),IF(OR(H276=\"SEN\",H276<1995),VLOOKUP(I276,Feuil1!$G$11:$L$25,6),IF(AND(H276>1994,H276<1998),VLOOKUP(I276,Feuil1!$G$11:$L$25,5),IF(AND(H276>1997,H276<2000),VLOOKUP(I276,Feuil1!$G$11:$L$25,4),IF(AND(H276>1999,H276<2002),VLOOKUP(I276,Feuil1!$G$11:$L$25,3),VLOOKUP(I276,Feuil1!$G$11:$L$25,2)))))))","v":"FS69"},87.981563095006933,null," ",{"$f":"T276-HLOOKUP(X276,Feuil1!$C$1:$BL$10,2,FALSE)","v":-11},{"$f":"T276-HLOOKUP(X276,Feuil1!$C$1:$BL$10,3,FALSE)","v":-21},{"$f":"T276-HLOOKUP(X276,Feuil1!$C$1:$BL$10,4,FALSE)","v":-36},{"$f":"T276-HLOOKUP(X276,Feuil1!$C$1:$BL$10,5,FALSE)","v":-51},{"$f":"T276-HLOOKUP(X276,Feuil1!$C$1:$BL$10,6,FALSE)","v":-66},{"$f":"T276-HLOOKUP(X276,Feuil1!$C$1:$BL$10,7,FALSE)","v":-81},{"$f":"T276-HLOOKUP(X276,Feuil1!$C$1:$BL$10,8,FALSE)","v":-101},{"$f":"T276-HLOOKUP(X276,Feuil1!$C$1:$BL$10,9,FALSE)","v":-121},{"$f":"T276-HLOOKUP(X276,Feuil1!$C$1:$BL$10,10,FALSE)","v":-136},null,null,null,null,null,null,"DEB "]
["F","SEST","RAL",46,249168,"BLANCHARD","Nathalie",1974,67.599999999999994,"CH Arbresle","F",24,26,-28,26,37,40,42,42,68,-67.199999999999989,"DEB ",-12,{"$f":"IF(I277=\"\",\"\",IF(A277=\"H\",IF(OR(H277=\"SEN\",H277<1995),VLOOKUP(I277,Feuil1!$A$11:$F$29,6),IF(AND(H277>1994,H277<1998),VLOOKUP(I277,Feuil1!$A$11:$F$29,5),IF(AND(H277>1997,H277<2000),VLOOKUP(I277,Feuil1!$A$11:$F$29,4),IF(AND(H277>1999,H277<2002),VLOOKUP(I277,Feuil1!$A$11:$F$29,3),VLOOKUP(I277,Feuil1!$A$11:$F$29,2))))),IF(OR(H277=\"SEN\",H277<1995),VLOOKUP(I277,Feuil1!$G$11:$L$25,6),IF(AND(H277>1994,H277<1998),VLOOKUP(I277,Feuil1!$G$11:$L$25,5),IF(AND(H277>1997,H277<2000),VLOOKUP(I277,Feuil1!$G$11:$L$25,4),IF(AND(H277>1999,H277<2002),VLOOKUP(I277,Feuil1!$G$11:$L$25,3),VLOOKUP(I277,Feuil1!$G$11:$L$25,2)))))))","v":"FS69"},86.391525548996867,null," ",{"$f":"T277-HLOOKUP(X277,Feuil1!$C$1:$BL$10,2,FALSE)","v":-12},{"$f":"T277-HLOOKUP(X277,Feuil1!$C$1:$BL$10,3,FALSE)","v":-22},{"$f":"T277-HLOOKUP(X277,Feuil1!$C$1:$BL$10,4,FALSE)","v":-37},{"$f":"T277-HLOOKUP(X277,Feuil1!$C$1:$BL$10,5,FALSE)","v":-52},{"$f":"T277-HLOOKUP(X277,Feuil1!$C$1:$BL$10,6,FALSE)","v":-67},{"$f":"T277-HLOOKUP(X277,Feuil1!$C$1:$BL$10,7,FALSE)","v":-82},{"$f":"T277-HLOOKUP(X277,Feuil1!$C$1:$BL$10,8,FALSE)","v":-102},{"$f":"T277-HLOOKUP(X277,Feuil1!$C$1:$BL$10,9,FALSE)","v":-122},{"$f":"T277-HLOOKUP(X277,Feuil1!$C$1:$BL$10,10,FALSE)","v":-137},null,null,null,null,null,null,"DEB "]
["F","CO","BNO",47,383854,"LEGARDINIER","Estelle",1992,65.599999999999994,"Stade St Lois","F",25,-27,27,27,32,-35,35,35,62,-69.199999999999989,"DEB ",-18,{"$f":"IF(I278=\"\",\"\",IF(A278=\"H\",IF(OR(H278=\"SEN\",H278<1995),VLOOKUP(I278,Feuil1!$A$11:$F$29,6),IF(AND(H278>1994,H278<1998),VLOOKUP(I278,Feuil1!$A$11:$F$29,5),IF(AND(H278>1997,H278<2000),VLOOKUP(I278,Feuil1!$A$11:$F$29,4),IF(AND(H278>1999,H278<2002),VLOOKUP(I278,Feuil1!$A$11:$F$29,3),VLOOKUP(I278,Feuil1!$A$11:$F$29,2))))),IF(OR(H278=\"SEN\",H278<1995),VLOOKUP(I278,Feuil1!$G$11:$L$25,6),IF(AND(H278>1994,H278<1998),VLOOKUP(I278,Feuil1!$G$11:$L$25,5),IF(AND(H278>1997,H278<2000),VLOOKUP(I278,Feuil1!$G$11:$L$25,4),IF(AND(H278>1999,H278<2002),VLOOKUP(I278,Feuil1!$G$11:$L$25,3),VLOOKUP(I278,Feuil1!$G$11:$L$25,2)))))))","v":"FS69"},80.255286700265259,null," ",{"$f":"T278-HLOOKUP(X278,Feuil1!$C$1:$BL$10,2,FALSE)","v":-18},{"$f":"T278-HLOOKUP(X278,Feuil1!$C$1:$BL$10,3,FALSE)","v":-28},{"$f":"T278-HLOOKUP(X278,Feuil1!$C$1:$BL$10,4,FALSE)","v":-43},{"$f":"T278-HLOOKUP(X278,Feuil1!$C$1:$BL$10,5,FALSE)","v":-58},{"$f":"T278-HLOOKUP(X278,Feuil1!$C$1:$BL$10,6,FALSE)","v":-73},{"$f":"T278-HLOOKUP(X278,Feuil1!$C$1:$BL$10,7,FALSE)","v":-88},{"$f":"T278-HLOOKUP(X278,Feuil1!$C$1:$BL$10,8,FALSE)","v":-108},{"$f":"T278-HLOOKUP(X278,Feuil1!$C$1:$BL$10,9,FALSE)","v":-128},{"$f":"T278-HLOOKUP(X278,Feuil1!$C$1:$BL$10,10,FALSE)","v":-143},null,null,null,null,null,null,"DEB "]
[null,null,null,null,null,null,null,null,null,null,null,null,null,null,null,null,null,null,null,null,null,null,null,null,null,null," ",{"$f":"T279-HLOOKUP(X279,Feuil1!$C$1:$BL$10,2,FALSE)","v":{"$error":"#N/A"}},{"$f":"T279-HLOOKUP(X279,Feuil1!$C$1:$BL$10,3,FALSE)","v":{"$error":"#N/A"}},{"$f":"T279-HLOOKUP(X279,Feuil1!$C$1:$BL$10,4,FALSE)","v":{"$error":"#N/A"}},{"$f":"T279-HLOOKUP(X279,Feuil1!$C$1:$BL$10,5,FALSE)","v":{"$error":"#N/A"}},{"$f":"T279-HLOOKUP(X279,Feuil1!$C$1:$BL$10,6,FALSE)","v":{"$error":"#N/A"}},{"$f":"T279-HLOOKUP(X279,Feuil1!$C$1:$BL$10,7,FALSE)","v":{"$error":"#N/A"}},{"$f":"T279-HLOOKUP(X279,Feuil1!$C$1:$BL$10,8,FALSE)","v":{"$error":"#N/A"}},{"$f":"T279-HLOOKUP(X279,Feuil1!$C$1:$BL$10,9,FALSE)","v":{"$error":"#N/A"}},{"$f":"T279-HLOOKUP(X279,Feuil1!$C$1:$BL$10,10,FALSE)","v":{"$error":"#N/A"}},null,null,null,null,null,null,{"$f":"IF(AJ279>=0,$AJ$4,IF(AI279>=0,$AI$4,IF(AH279>=0,$AH$4,IF(AG279>=0,$AG$4,IF(AF279>=0,$AF$4,IF(AE279>=0,$AE$4,IF(AD279>=0,$AD$4,IF(AC279>=0,$AC$4,$AB$4))))))))","v":{"$error":"#N/A"}}]
["F","SEST","LAN",1,287541,"NAYO KETCHANKE","Gaëlle",1988,73.349999999999994,"Clermont Sports","F",100,104,107,{"$f":"IF(H280=\"\",\"\",IF(MAXA(L280:N280)<=0,0,MAXA(L280:N280)))","v":107},125,-131,131,{"$f":"IF(H280=\"\",\"\",IF(MAXA(P280:R280)<=0,0,MAXA(P280:R280)))","v":131},{"$f":"IF(H280=\"\",\"\",IF(OR(O280=0,S280=0),0,O280+S280))","v":238},{"$f":"T280-I280*2","v":91.300000000000011},{"$f":"IF(H280=\"\",\"\",AQ280)","v":"OLY +"},{"$f":"IF(AJ280>=0,AJ280,IF(AI280>=0,AI280,IF(AH280>=0,AH280,IF(AG280>=0,AG280,IF(AF280>=0,AF280,IF(AE280>=0,AE280,IF(AD280>=0,AD280,IF(AC280>=0,AC280,AB280))))))))","v":28},{"$f":"IF(I280=\"\",\"\",IF(A280=\"H\",IF(OR(H280=\"SEN\",H280<1995),VLOOKUP(I280,Feuil1!$A$11:$F$29,6),IF(AND(H280>1994,H280<1998),VLOOKUP(I280,Feuil1!$A$11:$F$29,5),IF(AND(H280>1997,H280<2000),VLOOKUP(I280,Feuil1!$A$11:$F$29,4),IF(AND(H280>1999,H280<2002),VLOOKUP(I280,Feuil1!$A$11:$F$29,3),VLOOKUP(I280,Feuil1!$A$11:$F$29,2))))),IF(OR(H280=\"SEN\",H280<1995),VLOOKUP(I280,Feuil1!$G$11:$L$25,6),IF(AND(H280>1994,H280<1998),VLOOKUP(I280,Feuil1!$G$11:$L$25,5),IF(AND(H280>1997,H280<2000),VLOOKUP(I280,Feuil1!$G$11:$L$25,4),IF(AND(H280>1999,H280<2002),VLOOKUP(I280,Feuil1!$G$11:$L$25,3),VLOOKUP(I280,Feuil1!$G$11:$L$25,2)))))))","v":"FS75"},{"$f":"IF(I280=\"\",\"\",IF(A280=\"H\",10^(0.794358141*LOG(I280/174.393)^2)*T280,IF(A280=\"F\",10^(0.89726074*LOG(I280/148.026)^2)*T280,\"\")))","v":288.41021864518041},null," ",{"$f":"T280-HLOOKUP(X280,Feuil1!$C$1:$BL$10,2,FALSE)","v":143},{"$f":"T280-HLOOKUP(X280,Feuil1!$C$1:$BL$10,3,FALSE)","v":133},{"$f":"T280-HLOOKUP(X280,Feuil1!$C$1:$BL$10,4,FALSE)","v":123},{"$f":"T280-HLOOKUP(X280,Feuil1!$C$1:$BL$10,5,FALSE)","v":108},{"$f":"T280-HLOOKUP(X280,Feuil1!$C$1:$BL$10,6,FALSE)","v":93},{"$f":"T280-HLOOKUP(X280,Feuil1!$C$1:$BL$10,7,FALSE)","v":78},{"$f":"T280-HLOOKUP(X280,Feuil1!$C$1:$BL$10,8,FALSE)","v":58},{"$f":"T280-HLOOKUP(X280,Feuil1!$C$1:$BL$10,9,FALSE)","v":43},{"$f":"T280-HLOOKUP(X280,Feuil1!$C$1:$BL$10,10,FALSE)","v":28},null,null,null,null,null,null,{"$f":"IF(AJ280>=0,$AJ$4,IF(AI280>=0,$AI$4,IF(AH280>=0,$AH$4,IF(AG280>=0,$AG$4,IF(AF280>=0,$AF$4,IF(AE280>=0,$AE$4,IF(AD280>=0,$AD$4,IF(AC280>=0,$AC$4,$AB$4))))))))","v":"OLY +"}]
["F","SEST","CAZ",2,199418,"KASIRYE","Ruth",1982,69.2,"ES VILLE LOUBET","NOR",90,93,95,95,113,118,-121,118,213,74.599999999999994,"OLY +",3,{"$f":"IF(I281=\"\",\"\",IF(A281=\"H\",IF(OR(H281=\"SEN\",H281<1995),VLOOKUP(I281,Feuil1!$A$11:$F$29,6),IF(AND(H281>1994,H281<1998),VLOOKUP(I281,Feuil1!$A$11:$F$29,5),IF(AND(H281>1997,H281<2000),VLOOKUP(I281,Feuil1!$A$11:$F$29,4),IF(AND(H281>1999,H281<2002),VLOOKUP(I281,Feuil1!$A$11:$F$29,3),VLOOKUP(I281,Feuil1!$A$11:$F$29,2))))),IF(OR(H281=\"SEN\",H281<1995),VLOOKUP(I281,Feuil1!$G$11:$L$25,6),IF(AND(H281>1994,H281<1998),VLOOKUP(I281,Feuil1!$G$11:$L$25,5),IF(AND(H281>1997,H281<2000),VLOOKUP(I281,Feuil1!$G$11:$L$25,4),IF(AND(H281>1999,H281<2002),VLOOKUP(I281,Feuil1!$G$11:$L$25,3),VLOOKUP(I281,Feuil1!$G$11:$L$25,2)))))))","v":"FS75"},266.82632891345986,null," ",{"$f":"T281-HLOOKUP(X281,Feuil1!$C$1:$BL$10,2,FALSE)","v":118},{"$f":"T281-HLOOKUP(X281,Feuil1!$C$1:$BL$10,3,FALSE)","v":108},{"$f":"T281-HLOOKUP(X281,Feuil1!$C$1:$BL$10,4,FALSE)","v":98},{"$f":"T281-HLOOKUP(X281,Feuil1!$C$1:$BL$10,5,FALSE)","v":83},{"$f":"T281-HLOOKUP(X281,Feuil1!$C$1:$BL$10,6,FALSE)","v":68},{"$f":"T281-HLOOKUP(X281,Feuil1!$C$1:$BL$10,7,FALSE)","v":53},{"$f":"T281-HLOOKUP(X281,Feuil1!$C$1:$BL$10,8,FALSE)","v":33},{"$f":"T281-HLOOKUP(X281,Feuil1!$C$1:$BL$10,9,FALSE)","v":18},{"$f":"T281-HLOOKUP(X281,Feuil1!$C$1:$BL$10,10,FALSE)","v":3},null,null,null,null,null,null,"OLY +"]
["F","N","PIC",3,314914,"VAN BELLINGHEN","Anna",1994,74.650000000000006,"La Vaillante Saint Quentin","Belge",-90,90,93,93,109,112,-114,112,205,55.699999999999989,"INTA +",10,{"$f":"IF(I282=\"\",\"\",IF(A282=\"H\",IF(OR(H282=\"SEN\",H282<1995),VLOOKUP(I282,Feuil1!$A$11:$F$29,6),IF(AND(H282>1994,H282<1998),VLOOKUP(I282,Feuil1!$A$11:$F$29,5),IF(AND(H282>1997,H282<2000),VLOOKUP(I282,Feuil1!$A$11:$F$29,4),IF(AND(H282>1999,H282<2002),VLOOKUP(I282,Feuil1!$A$11:$F$29,3),VLOOKUP(I282,Feuil1!$A$11:$F$29,2))))),IF(OR(H282=\"SEN\",H282<1995),VLOOKUP(I282,Feuil1!$G$11:$L$25,6),IF(AND(H282>1994,H282<1998),VLOOKUP(I282,Feuil1!$G$11:$L$25,5),IF(AND(H282>1997,H282<2000),VLOOKUP(I282,Feuil1!$G$11:$L$25,4),IF(AND(H282>1999,H282<2002),VLOOKUP(I282,Feuil1!$G$11:$L$25,3),VLOOKUP(I282,Feuil1!$G$11:$L$25,2)))))))","v":"FS75"},246.07340380408519,null," ",{"$f":"T282-HLOOKUP(X282,Feuil1!$C$1:$BL$10,2,FALSE)","v":110},{"$f":"T282-HLOOKUP(X282,Feuil1!$C$1:$BL$10,3,FALSE)","v":100},{"$f":"T282-HLOOKUP(X282,Feuil1!$C$1:$BL$10,4,FALSE)","v":90},{"$f":"T282-HLOOKUP(X282,Feuil1!$C$1:$BL$10,5,FALSE)","v":75},{"$f":"T282-HLOOKUP(X282,Feuil1!$C$1:$BL$10,6,FALSE)","v":60},{"$f":"T282-HLOOKUP(X282,Feuil1!$C$1:$BL$10,7,FALSE)","v":45},{"$f":"T282-HLOOKUP(X282,Feuil1!$C$1:$BL$10,8,FALSE)","v":25},{"$f":"T282-HLOOKUP(X282,Feuil1!$C$1:$BL$10,9,FALSE)","v":10},{"$f":"T282-HLOOKUP(X282,Feuil1!$C$1:$BL$10,10,FALSE)","v":-5},null,null,null,null,null,null,"INTA +"]
["F","NE","ALS",4,176279,"ZAHNER","SALOME",1993,70.7,"SAS Colmarienne","F",70,73,-75,73,80,87,-90,87,160,18.599999999999994,"NAT +",0,{"$f":"IF(I283=\"\",\"\",IF(A283=\"H\",IF(OR(H283=\"SEN\",H283<1995),VLOOKUP(I283,Feuil1!$A$11:$F$29,6),IF(AND(H283>1994,H283<1998),VLOOKUP(I283,Feuil1!$A$11:$F$29,5),IF(AND(H283>1997,H283<2000),VLOOKUP(I283,Feuil1!$A$11:$F$29,4),IF(AND(H283>1999,H283<2002),VLOOKUP(I283,Feuil1!$A$11:$F$29,3),VLOOKUP(I283,Feuil1!$A$11:$F$29,2))))),IF(OR(H283=\"SEN\",H283<1995),VLOOKUP(I283,Feuil1!$G$11:$L$25,6),IF(AND(H283>1994,H283<1998),VLOOKUP(I283,Feuil1!$G$11:$L$25,5),IF(AND(H283>1997,H283<2000),VLOOKUP(I283,Feuil1!$G$11:$L$25,4),IF(AND(H283>1999,H283<2002),VLOOKUP(I283,Feuil1!$G$11:$L$25,3),VLOOKUP(I283,Feuil1!$G$11:$L$25,2)))))))","v":"FS75"},197.9373433044498,null," ",{"$f":"T283-HLOOKUP(X283,Feuil1!$C$1:$BL$10,2,FALSE)","v":65},{"$f":"T283-HLOOKUP(X283,Feuil1!$C$1:$BL$10,3,FALSE)","v":55},{"$f":"T283-HLOOKUP(X283,Feuil1!$C$1:$BL$10,4,FALSE)","v":45},{"$f":"T283-HLOOKUP(X283,Feuil1!$C$1:$BL$10,5,FALSE)","v":30},{"$f":"T283-HLOOKUP(X283,Feuil1!$C$1:$BL$10,6,FALSE)","v":15},{"$f":"T283-HLOOKUP(X283,Feuil1!$C$1:$BL$10,7,FALSE)","v":0},{"$f":"T283-HLOOKUP(X283,Feuil1!$C$1:$BL$10,8,FALSE)","v":-20},{"$f":"T283-HLOOKUP(X283,Feuil1!$C$1:$BL$10,9,FALSE)","v":-35},{"$f":"T283-HLOOKUP(X283,Feuil1!$C$1:$BL$10,10,FALSE)","v":-50},null,null,null,null,null,null,"NAT +"]
["F","NE","ALS",5,319461,"TITTEL MOSSER","LINDSAY",1984,70.5,"SR Obernai HM","F",61,65,68,68,81,85,-88,85,153,12,"FED +",8,{"$f":"IF(I284=\"\",\"\",IF(A284=\"H\",IF(OR(H284=\"SEN\",H284<1995),VLOOKUP(I284,Feuil1!$A$11:$F$29,6),IF(AND(H284>1994,H284<1998),VLOOKUP(I284,Feuil1!$A$11:$F$29,5),IF(AND(H284>1997,H284<2000),VLOOKUP(I284,Feuil1!$A$11:$F$29,4),IF(AND(H284>1999,H284<2002),VLOOKUP(I284,Feuil1!$A$11:$F$29,3),VLOOKUP(I284,Feuil1!$A$11:$F$29,2))))),IF(OR(H284=\"SEN\",H284<1995),VLOOKUP(I284,Feuil1!$G$11:$L$25,6),IF(AND(H284>1994,H284<1998),VLOOKUP(I284,Feuil1!$G$11:$L$25,5),IF(AND(H284>1997,H284<2000),VLOOKUP(I284,Feuil1!$G$11:$L$25,4),IF(AND(H284>1999,H284<2002),VLOOKUP(I284,Feuil1!$G$11:$L$25,3),VLOOKUP(I284,Feuil1!$G$11:$L$25,2)))))))","v":"FS75"},189.58722304530369,null," ",{"$f":"T284-HLOOKUP(X284,Feuil1!$C$1:$BL$10,2,FALSE)","v":58},{"$f":"T284-HLOOKUP(X284,Feuil1!$C$1:$BL$10,3,FALSE)","v":48},{"$f":"T284-HLOOKUP(X284,Feuil1!$C$1:$BL$10,4,FALSE)","v":38},{"$f":"T284-HLOOKUP(X284,Feuil1!$C$1:$BL$10,5,FALSE)","v":23},{"$f":"T284-HLOOKUP(X284,Feuil1!$C$1:$BL$10,6,FALSE)","v":8},{"$f":"T284-HLOOKUP(X284,Feuil1!$C$1:$BL$10,7,FALSE)","v":-7},{"$f":"T284-HLOOKUP(X284,Feuil1!$C$1:$BL$10,8,FALSE)","v":-27},{"$f":"T284-HLOOKUP(X284,Feuil1!$C$1:$BL$10,9,FALSE)","v":-42},{"$f":"T284-HLOOKUP(X284,Feuil1!$C$1:$BL$10,10,FALSE)","v":-57},null,null,null,null,null,null,"FED +"]
["F","DOM","REU",6,326348,"LEBRETON","Florence",1992,69.73,"CH LA PLAINE","F",60,-65,-65,60,75,80,85,85,145,5.539999999999992,"FED +",0,{"$f":"IF(I285=\"\",\"\",IF(A285=\"H\",IF(OR(H285=\"SEN\",H285<1995),VLOOKUP(I285,Feuil1!$A$11:$F$29,6),IF(AND(H285>1994,H285<1998),VLOOKUP(I285,Feuil1!$A$11:$F$29,5),IF(AND(H285>1997,H285<2000),VLOOKUP(I285,Feuil1!$A$11:$F$29,4),IF(AND(H285>1999,H285<2002),VLOOKUP(I285,Feuil1!$A$11:$F$29,3),VLOOKUP(I285,Feuil1!$A$11:$F$29,2))))),IF(OR(H285=\"SEN\",H285<1995),VLOOKUP(I285,Feuil1!$G$11:$L$25,6),IF(AND(H285>1994,H285<1998),VLOOKUP(I285,Feuil1!$G$11:$L$25,5),IF(AND(H285>1997,H285<2000),VLOOKUP(I285,Feuil1!$G$11:$L$25,4),IF(AND(H285>1999,H285<2002),VLOOKUP(I285,Feuil1!$G$11:$L$25,3),VLOOKUP(I285,Feuil1!$G$11:$L$25,2)))))))","v":"FS75"},180.82700207379841,null," ",{"$f":"T285-HLOOKUP(X285,Feuil1!$C$1:$BL$10,2,FALSE)","v":50},{"$f":"T285-HLOOKUP(X285,Feuil1!$C$1:$BL$10,3,FALSE)","v":40},{"$f":"T285-HLOOKUP(X285,Feuil1!$C$1:$BL$10,4,FALSE)","v":30},{"$f":"T285-HLOOKUP(X285,Feuil1!$C$1:$BL$10,5,FALSE)","v":15},{"$f":"T285-HLOOKUP(X285,Feuil1!$C$1:$BL$10,6,FALSE)","v":0},{"$f":"T285-HLOOKUP(X285,Feuil1!$C$1:$BL$10,7,FALSE)","v":-15},{"$f":"T285-HLOOKUP(X285,Feuil1!$C$1:$BL$10,8,FALSE)","v":-35},{"$f":"T285-HLOOKUP(X285,Feuil1!$C$1:$BL$10,9,FALSE)","v":-50},{"$f":"T285-HLOOKUP(X285,Feuil1!$C$1:$BL$10,10,FALSE)","v":-65},null,null,null,null,null,null,"FED +"]
["F","SEST","RAL",7,372486,"BOULANGER","Gervaise",1993,73.53,"CH Arbresle","F",60,-65,65,65,-75,77,80,80,145,-2.0600000000000023,"FED +",0,{"$f":"IF(I286=\"\",\"\",IF(A286=\"H\",IF(OR(H286=\"SEN\",H286<1995),VLOOKUP(I286,Feuil1!$A$11:$F$29,6),IF(AND(H286>1994,H286<1998),VLOOKUP(I286,Feuil1!$A$11:$F$29,5),IF(AND(H286>1997,H286<2000),VLOOKUP(I286,Feuil1!$A$11:$F$29,4),IF(AND(H286>1999,H286<2002),VLOOKUP(I286,Feuil1!$A$11:$F$29,3),VLOOKUP(I286,Feuil1!$A$11:$F$29,2))))),IF(OR(H286=\"SEN\",H286<1995),VLOOKUP(I286,Feuil1!$G$11:$L$25,6),IF(AND(H286>1994,H286<1998),VLOOKUP(I286,Feuil1!$G$11:$L$25,5),IF(AND(H286>1997,H286<2000),VLOOKUP(I286,Feuil1!$G$11:$L$25,4),IF(AND(H286>1999,H286<2002),VLOOKUP(I286,Feuil1!$G$11:$L$25,3),VLOOKUP(I286,Feuil1!$G$11:$L$25,2)))))))","v":"FS75"},175.47700810676341,null," ",{"$f":"T286-HLOOKUP(X286,Feuil1!$C$1:$BL$10,2,FALSE)","v":50},{"$f":"T286-HLOOKUP(X286,Feuil1!$C$1:$BL$10,3,FALSE)","v":40},{"$f":"T286-HLOOKUP(X286,Feuil1!$C$1:$BL$10,4,FALSE)","v":30},{"$f":"T286-HLOOKUP(X286,Feuil1!$C$1:$BL$10,5,FALSE)","v":15},{"$f":"T286-HLOOKUP(X286,Feuil1!$C$1:$BL$10,6,FALSE)","v":0},{"$f":"T286-HLOOKUP(X286,Feuil1!$C$1:$BL$10,7,FALSE)","v":-15},{"$f":"T286-HLOOKUP(X286,Feuil1!$C$1:$BL$10,8,FALSE)","v":-35},{"$f":"T286-HLOOKUP(X286,Feuil1!$C$1:$BL$10,9,FALSE)","v":-50},{"$f":"T286-HLOOKUP(X286,Feuil1!$C$1:$BL$10,10,FALSE)","v":-65},null,null,null,null,null,null,"FED +"]
["F","NE","ALS",8,20829,"THOMAS","EVELYNE",1979,69.2,"ASPTT Strasbourg","F",55,57,59,59,66,69,71,71,130,-8.4000000000000057,"IRG +",0,{"$f":"IF(I287=\"\",\"\",IF(A287=\"H\",IF(OR(H287=\"SEN\",H287<1995),VLOOKUP(I287,Feuil1!$A$11:$F$29,6),IF(AND(H287>1994,H287<1998),VLOOKUP(I287,Feuil1!$A$11:$F$29,5),IF(AND(H287>1997,H287<2000),VLOOKUP(I287,Feuil1!$A$11:$F$29,4),IF(AND(H287>1999,H287<2002),VLOOKUP(I287,Feuil1!$A$11:$F$29,3),VLOOKUP(I287,Feuil1!$A$11:$F$29,2))))),IF(OR(H287=\"SEN\",H287<1995),VLOOKUP(I287,Feuil1!$G$11:$L$25,6),IF(AND(H287>1994,H287<1998),VLOOKUP(I287,Feuil1!$G$11:$L$25,5),IF(AND(H287>1997,H287<2000),VLOOKUP(I287,Feuil1!$G$11:$L$25,4),IF(AND(H287>1999,H287<2002),VLOOKUP(I287,Feuil1!$G$11:$L$25,3),VLOOKUP(I287,Feuil1!$G$11:$L$25,2)))))))","v":"FS75"},162.85175004107879,null," ",{"$f":"T287-HLOOKUP(X287,Feuil1!$C$1:$BL$10,2,FALSE)","v":35},{"$f":"T287-HLOOKUP(X287,Feuil1!$C$1:$BL$10,3,FALSE)","v":25},{"$f":"T287-HLOOKUP(X287,Feuil1!$C$1:$BL$10,4,FALSE)","v":15},{"$f":"T287-HLOOKUP(X287,Feuil1!$C$1:$BL$10,5,FALSE)","v":0},{"$f":"T287-HLOOKUP(X287,Feuil1!$C$1:$BL$10,6,FALSE)","v":-15},{"$f":"T287-HLOOKUP(X287,Feuil1!$C$1:$BL$10,7,FALSE)","v":-30},{"$f":"T287-HLOOKUP(X287,Feuil1!$C$1:$BL$10,8,FALSE)","v":-50},{"$f":"T287-HLOOKUP(X287,Feuil1!$C$1:$BL$10,9,FALSE)","v":-65},{"$f":"T287-HLOOKUP(X287,Feuil1!$C$1:$BL$10,10,FALSE)","v":-80},null,null,null,null,null,null,"IRG +"]
["F","SEST","RAL",9,127621,"MENONI","Alexia",1994,72.599999999999994,"SAINT MARCELLIN","F",50,55,57,57,62,67,-70,67,124,-21.199999999999989,"REG +",9,{"$f":"IF(I288=\"\",\"\",IF(A288=\"H\",IF(OR(H288=\"SEN\",H288<1995),VLOOKUP(I288,Feuil1!$A$11:$F$29,6),IF(AND(H288>1994,H288<1998),VLOOKUP(I288,Feuil1!$A$11:$F$29,5),IF(AND(H288>1997,H288<2000),VLOOKUP(I288,Feuil1!$A$11:$F$29,4),IF(AND(H288>1999,H288<2002),VLOOKUP(I288,Feuil1!$A$11:$F$29,3),VLOOKUP(I288,Feuil1!$A$11:$F$29,2))))),IF(OR(H288=\"SEN\",H288<1995),VLOOKUP(I288,Feuil1!$G$11:$L$25,6),IF(AND(H288>1994,H288<1998),VLOOKUP(I288,Feuil1!$G$11:$L$25,5),IF(AND(H288>1997,H288<2000),VLOOKUP(I288,Feuil1!$G$11:$L$25,4),IF(AND(H288>1999,H288<2002),VLOOKUP(I288,Feuil1!$G$11:$L$25,3),VLOOKUP(I288,Feuil1!$G$11:$L$25,2)))))))","v":"FS75"},151.11784514224007,null," ",{"$f":"T288-HLOOKUP(X288,Feuil1!$C$1:$BL$10,2,FALSE)","v":29},{"$f":"T288-HLOOKUP(X288,Feuil1!$C$1:$BL$10,3,FALSE)","v":19},{"$f":"T288-HLOOKUP(X288,Feuil1!$C$1:$BL$10,4,FALSE)","v":9},{"$f":"T288-HLOOKUP(X288,Feuil1!$C$1:$BL$10,5,FALSE)","v":-6},{"$f":"T288-HLOOKUP(X288,Feuil1!$C$1:$BL$10,6,FALSE)","v":-21},{"$f":"T288-HLOOKUP(X288,Feuil1!$C$1:$BL$10,7,FALSE)","v":-36},{"$f":"T288-HLOOKUP(X288,Feuil1!$C$1:$BL$10,8,FALSE)","v":-56},{"$f":"T288-HLOOKUP(X288,Feuil1!$C$1:$BL$10,9,FALSE)","v":-71},{"$f":"T288-HLOOKUP(X288,Feuil1!$C$1:$BL$10,10,FALSE)","v":-86},null,null,null,null,null,null,"REG +"]
["F","N","PIC",10,204929,"CHEVALLIER ROY","Célia",1968,70.400000000000006,"La Ferté Milon CMHM","F",52,56,58,58,-57,57,63,63,121,-19.800000000000011,"REG +",6,{"$f":"IF(I289=\"\",\"\",IF(A289=\"H\",IF(OR(H289=\"SEN\",H289<1995),VLOOKUP(I289,Feuil1!$A$11:$F$29,6),IF(AND(H289>1994,H289<1998),VLOOKUP(I289,Feuil1!$A$11:$F$29,5),IF(AND(H289>1997,H289<2000),VLOOKUP(I289,Feuil1!$A$11:$F$29,4),IF(AND(H289>1999,H289<2002),VLOOKUP(I289,Feuil1!$A$11:$F$29,3),VLOOKUP(I289,Feuil1!$A$11:$F$29,2))))),IF(OR(H289=\"SEN\",H289<1995),VLOOKUP(I289,Feuil1!$G$11:$L$25,6),IF(AND(H289>1994,H289<1998),VLOOKUP(I289,Feuil1!$G$11:$L$25,5),IF(AND(H289>1997,H289<2000),VLOOKUP(I289,Feuil1!$G$11:$L$25,4),IF(AND(H289>1999,H289<2002),VLOOKUP(I289,Feuil1!$G$11:$L$25,3),VLOOKUP(I289,Feuil1!$G$11:$L$25,2)))))))","v":"FS75"},150.05819633034145,null," ",{"$f":"T289-HLOOKUP(X289,Feuil1!$C$1:$BL$10,2,FALSE)","v":26},{"$f":"T289-HLOOKUP(X289,Feuil1!$C$1:$BL$10,3,FALSE)","v":16},{"$f":"T289-HLOOKUP(X289,Feuil1!$C$1:$BL$10,4,FALSE)","v":6},{"$f":"T289-HLOOKUP(X289,Feuil1!$C$1:$BL$10,5,FALSE)","v":-9},{"$f":"T289-HLOOKUP(X289,Feuil1!$C$1:$BL$10,6,FALSE)","v":-24},{"$f":"T289-HLOOKUP(X289,Feuil1!$C$1:$BL$10,7,FALSE)","v":-39},{"$f":"T289-HLOOKUP(X289,Feuil1!$C$1:$BL$10,8,FALSE)","v":-59},{"$f":"T289-HLOOKUP(X289,Feuil1!$C$1:$BL$10,9,FALSE)","v":-74},{"$f":"T289-HLOOKUP(X289,Feuil1!$C$1:$BL$10,10,FALSE)","v":-89},null,null,null,null,null,null,"REG +"]
["F","NE","FCO",11,193724,"VIALA","Caroline",1989,72.599999999999994,"LF Besançon","F",47,53,55,55,60,64,66,66,121,-24.199999999999989,"REG +",6,{"$f":"IF(I290=\"\",\"\",IF(A290=\"H\",IF(OR(H290=\"SEN\",H290<1995),VLOOKUP(I290,Feuil1!$A$11:$F$29,6),IF(AND(H290>1994,H290<1998),VLOOKUP(I290,Feuil1!$A$11:$F$29,5),IF(AND(H290>1997,H290<2000),VLOOKUP(I290,Feuil1!$A$11:$F$29,4),IF(AND(H290>1999,H290<2002),VLOOKUP(I290,Feuil1!$A$11:$F$29,3),VLOOKUP(I290,Feuil1!$A$11:$F$29,2))))),IF(OR(H290=\"SEN\",H290<1995),VLOOKUP(I290,Feuil1!$G$11:$L$25,6),IF(AND(H290>1994,H290<1998),VLOOKUP(I290,Feuil1!$G$11:$L$25,5),IF(AND(H290>1997,H290<2000),VLOOKUP(I290,Feuil1!$G$11:$L$25,4),IF(AND(H290>1999,H290<2002),VLOOKUP(I290,Feuil1!$G$11:$L$25,3),VLOOKUP(I290,Feuil1!$G$11:$L$25,2)))))))","v":"FS75"},147.46176824363749,null," ",{"$f":"T290-HLOOKUP(X290,Feuil1!$C$1:$BL$10,2,FALSE)","v":26},{"$f":"T290-HLOOKUP(X290,Feuil1!$C$1:$BL$10,3,FALSE)","v":16},{"$f":"T290-HLOOKUP(X290,Feuil1!$C$1:$BL$10,4,FALSE)","v":6},{"$f":"T290-HLOOKUP(X290,Feuil1!$C$1:$BL$10,5,FALSE)","v":-9},{"$f":"T290-HLOOKUP(X290,Feuil1!$C$1:$BL$10,6,FALSE)","v":-24},{"$f":"T290-HLOOKUP(X290,Feuil1!$C$1:$BL$10,7,FALSE)","v":-39},{"$f":"T290-HLOOKUP(X290,Feuil1!$C$1:$BL$10,8,FALSE)","v":-59},{"$f":"T290-HLOOKUP(X290,Feuil1!$C$1:$BL$10,9,FALSE)","v":-74},{"$f":"T290-HLOOKUP(X290,Feuil1!$C$1:$BL$10,10,FALSE)","v":-89},null,null,null,null,null,null,"REG +"]
["F","SEST","RAL",12,357872,"BIGOT-DOLL","Eglantine",1983,73,"VAULX EN VELIN ","F",47,51,53,53,58,-62,63,63,116,-30,"REG +",1,{"$f":"IF(I291=\"\",\"\",IF(A291=\"H\",IF(OR(H291=\"SEN\",H291<1995),VLOOKUP(I291,Feuil1!$A$11:$F$29,6),IF(AND(H291>1994,H291<1998),VLOOKUP(I291,Feuil1!$A$11:$F$29,5),IF(AND(H291>1997,H291<2000),VLOOKUP(I291,Feuil1!$A$11:$F$29,4),IF(AND(H291>1999,H291<2002),VLOOKUP(I291,Feuil1!$A$11:$F$29,3),VLOOKUP(I291,Feuil1!$A$11:$F$29,2))))),IF(OR(H291=\"SEN\",H291<1995),VLOOKUP(I291,Feuil1!$G$11:$L$25,6),IF(AND(H291>1994,H291<1998),VLOOKUP(I291,Feuil1!$G$11:$L$25,5),IF(AND(H291>1997,H291<2000),VLOOKUP(I291,Feuil1!$G$11:$L$25,4),IF(AND(H291>1999,H291<2002),VLOOKUP(I291,Feuil1!$G$11:$L$25,3),VLOOKUP(I291,Feuil1!$G$11:$L$25,2)))))))","v":"FS75"},140.93934855107011,null," ",{"$f":"T291-HLOOKUP(X291,Feuil1!$C$1:$BL$10,2,FALSE)","v":21},{"$f":"T291-HLOOKUP(X291,Feuil1!$C$1:$BL$10,3,FALSE)","v":11},{"$f":"T291-HLOOKUP(X291,Feuil1!$C$1:$BL$10,4,FALSE)","v":1},{"$f":"T291-HLOOKUP(X291,Feuil1!$C$1:$BL$10,5,FALSE)","v":-14},{"$f":"T291-HLOOKUP(X291,Feuil1!$C$1:$BL$10,6,FALSE)","v":-29},{"$f":"T291-HLOOKUP(X291,Feuil1!$C$1:$BL$10,7,FALSE)","v":-44},{"$f":"T291-HLOOKUP(X291,Feuil1!$C$1:$BL$10,8,FALSE)","v":-64},{"$f":"T291-HLOOKUP(X291,Feuil1!$C$1:$BL$10,9,FALSE)","v":-79},{"$f":"T291-HLOOKUP(X291,Feuil1!$C$1:$BL$10,10,FALSE)","v":-94},null,null,null,null,null,null,"REG +"]
["F","NE","ALS",13,306844,"HUBERTY","LAETITIA",1983,73.3,"ASPTT Strasbourg","F",45,48,51,51,55,60,64,64,115,-31.599999999999994,"REG +",0,{"$f":"IF(I292=\"\",\"\",IF(A292=\"H\",IF(OR(H292=\"SEN\",H292<1995),VLOOKUP(I292,Feuil1!$A$11:$F$29,6),IF(AND(H292>1994,H292<1998),VLOOKUP(I292,Feuil1!$A$11:$F$29,5),IF(AND(H292>1997,H292<2000),VLOOKUP(I292,Feuil1!$A$11:$F$29,4),IF(AND(H292>1999,H292<2002),VLOOKUP(I292,Feuil1!$A$11:$F$29,3),VLOOKUP(I292,Feuil1!$A$11:$F$29,2))))),IF(OR(H292=\"SEN\",H292<1995),VLOOKUP(I292,Feuil1!$G$11:$L$25,6),IF(AND(H292>1994,H292<1998),VLOOKUP(I292,Feuil1!$G$11:$L$25,5),IF(AND(H292>1997,H292<2000),VLOOKUP(I292,Feuil1!$G$11:$L$25,4),IF(AND(H292>1999,H292<2002),VLOOKUP(I292,Feuil1!$G$11:$L$25,3),VLOOKUP(I292,Feuil1!$G$11:$L$25,2)))))))","v":"FS75"},139.40991445998731,null," ",{"$f":"T292-HLOOKUP(X292,Feuil1!$C$1:$BL$10,2,FALSE)","v":20},{"$f":"T292-HLOOKUP(X292,Feuil1!$C$1:$BL$10,3,FALSE)","v":10},{"$f":"T292-HLOOKUP(X292,Feuil1!$C$1:$BL$10,4,FALSE)","v":0},{"$f":"T292-HLOOKUP(X292,Feuil1!$C$1:$BL$10,5,FALSE)","v":-15},{"$f":"T292-HLOOKUP(X292,Feuil1!$C$1:$BL$10,6,FALSE)","v":-30},{"$f":"T292-HLOOKUP(X292,Feuil1!$C$1:$BL$10,7,FALSE)","v":-45},{"$f":"T292-HLOOKUP(X292,Feuil1!$C$1:$BL$10,8,FALSE)","v":-65},{"$f":"T292-HLOOKUP(X292,Feuil1!$C$1:$BL$10,9,FALSE)","v":-80},{"$f":"T292-HLOOKUP(X292,Feuil1!$C$1:$BL$10,10,FALSE)","v":-95},null,null,null,null,null,null,"REG +"]
["F","NE","ALS",14,360265,"MERTZ","DEBORAH",1992,74.8,"US Wittenheim","F",46,49,52,52,57,60,63,63,115,-34.599999999999994,"REG +",0,{"$f":"IF(I293=\"\",\"\",IF(A293=\"H\",IF(OR(H293=\"SEN\",H293<1995),VLOOKUP(I293,Feuil1!$A$11:$F$29,6),IF(AND(H293>1994,H293<1998),VLOOKUP(I293,Feuil1!$A$11:$F$29,5),IF(AND(H293>1997,H293<2000),VLOOKUP(I293,Feuil1!$A$11:$F$29,4),IF(AND(H293>1999,H293<2002),VLOOKUP(I293,Feuil1!$A$11:$F$29,3),VLOOKUP(I293,Feuil1!$A$11:$F$29,2))))),IF(OR(H293=\"SEN\",H293<1995),VLOOKUP(I293,Feuil1!$G$11:$L$25,6),IF(AND(H293>1994,H293<1998),VLOOKUP(I293,Feuil1!$G$11:$L$25,5),IF(AND(H293>1997,H293<2000),VLOOKUP(I293,Feuil1!$G$11:$L$25,4),IF(AND(H293>1999,H293<2002),VLOOKUP(I293,Feuil1!$G$11:$L$25,3),VLOOKUP(I293,Feuil1!$G$11:$L$25,2)))))))","v":"FS75"},137.89363417801727,null," ",{"$f":"T293-HLOOKUP(X293,Feuil1!$C$1:$BL$10,2,FALSE)","v":20},{"$f":"T293-HLOOKUP(X293,Feuil1!$C$1:$BL$10,3,FALSE)","v":10},{"$f":"T293-HLOOKUP(X293,Feuil1!$C$1:$BL$10,4,FALSE)","v":0},{"$f":"T293-HLOOKUP(X293,Feuil1!$C$1:$BL$10,5,FALSE)","v":-15},{"$f":"T293-HLOOKUP(X293,Feuil1!$C$1:$BL$10,6,FALSE)","v":-30},{"$f":"T293-HLOOKUP(X293,Feuil1!$C$1:$BL$10,7,FALSE)","v":-45},{"$f":"T293-HLOOKUP(X293,Feuil1!$C$1:$BL$10,8,FALSE)","v":-65},{"$f":"T293-HLOOKUP(X293,Feuil1!$C$1:$BL$10,9,FALSE)","v":-80},{"$f":"T293-HLOOKUP(X293,Feuil1!$C$1:$BL$10,10,FALSE)","v":-95},null,null,null,null,null,null,"REG +"]
["F","N","PIC",15,316550,"BROUETTE","Valérie",1972,72.3,"La Vaillante Saint Quentin","F",42,45,47,47,57,60,62,62,109,-35.599999999999994,"DEP +",4,{"$f":"IF(I294=\"\",\"\",IF(A294=\"H\",IF(OR(H294=\"SEN\",H294<1995),VLOOKUP(I294,Feuil1!$A$11:$F$29,6),IF(AND(H294>1994,H294<1998),VLOOKUP(I294,Feuil1!$A$11:$F$29,5),IF(AND(H294>1997,H294<2000),VLOOKUP(I294,Feuil1!$A$11:$F$29,4),IF(AND(H294>1999,H294<2002),VLOOKUP(I294,Feuil1!$A$11:$F$29,3),VLOOKUP(I294,Feuil1!$A$11:$F$29,2))))),IF(OR(H294=\"SEN\",H294<1995),VLOOKUP(I294,Feuil1!$G$11:$L$25,6),IF(AND(H294>1994,H294<1998),VLOOKUP(I294,Feuil1!$G$11:$L$25,5),IF(AND(H294>1997,H294<2000),VLOOKUP(I294,Feuil1!$G$11:$L$25,4),IF(AND(H294>1999,H294<2002),VLOOKUP(I294,Feuil1!$G$11:$L$25,3),VLOOKUP(I294,Feuil1!$G$11:$L$25,2)))))))","v":"FS75"},133.14410575372969,null," ",{"$f":"T294-HLOOKUP(X294,Feuil1!$C$1:$BL$10,2,FALSE)","v":14},{"$f":"T294-HLOOKUP(X294,Feuil1!$C$1:$BL$10,3,FALSE)","v":4},{"$f":"T294-HLOOKUP(X294,Feuil1!$C$1:$BL$10,4,FALSE)","v":-6},{"$f":"T294-HLOOKUP(X294,Feuil1!$C$1:$BL$10,5,FALSE)","v":-21},{"$f":"T294-HLOOKUP(X294,Feuil1!$C$1:$BL$10,6,FALSE)","v":-36},{"$f":"T294-HLOOKUP(X294,Feuil1!$C$1:$BL$10,7,FALSE)","v":-51},{"$f":"T294-HLOOKUP(X294,Feuil1!$C$1:$BL$10,8,FALSE)","v":-71},{"$f":"T294-HLOOKUP(X294,Feuil1!$C$1:$BL$10,9,FALSE)","v":-86},{"$f":"T294-HLOOKUP(X294,Feuil1!$C$1:$BL$10,10,FALSE)","v":-101},null,null,null,null,null,null,"DEP +"]
["F","SO","MPY",16,64384,"GRIMAL","Anne-Marie",1967,74.7,"MONTAUBAN HC","F",-42,45,-48,45,60,64,-70,64,109,-40.400000000000006,"DEP +",4,{"$f":"IF(I295=\"\",\"\",IF(A295=\"H\",IF(OR(H295=\"SEN\",H295<1995),VLOOKUP(I295,Feuil1!$A$11:$F$29,6),IF(AND(H295>1994,H295<1998),VLOOKUP(I295,Feuil1!$A$11:$F$29,5),IF(AND(H295>1997,H295<2000),VLOOKUP(I295,Feuil1!$A$11:$F$29,4),IF(AND(H295>1999,H295<2002),VLOOKUP(I295,Feuil1!$A$11:$F$29,3),VLOOKUP(I295,Feuil1!$A$11:$F$29,2))))),IF(OR(H295=\"SEN\",H295<1995),VLOOKUP(I295,Feuil1!$G$11:$L$25,6),IF(AND(H295>1994,H295<1998),VLOOKUP(I295,Feuil1!$G$11:$L$25,5),IF(AND(H295>1997,H295<2000),VLOOKUP(I295,Feuil1!$G$11:$L$25,4),IF(AND(H295>1999,H295<2002),VLOOKUP(I295,Feuil1!$G$11:$L$25,3),VLOOKUP(I295,Feuil1!$G$11:$L$25,2)))))))","v":"FS75"},130.79232065165638,null," ",{"$f":"T295-HLOOKUP(X295,Feuil1!$C$1:$BL$10,2,FALSE)","v":14},{"$f":"T295-HLOOKUP(X295,Feuil1!$C$1:$BL$10,3,FALSE)","v":4},{"$f":"T295-HLOOKUP(X295,Feuil1!$C$1:$BL$10,4,FALSE)","v":-6},{"$f":"T295-HLOOKUP(X295,Feuil1!$C$1:$BL$10,5,FALSE)","v":-21},{"$f":"T295-HLOOKUP(X295,Feuil1!$C$1:$BL$10,6,FALSE)","v":-36},{"$f":"T295-HLOOKUP(X295,Feuil1!$C$1:$BL$10,7,FALSE)","v":-51},{"$f":"T295-HLOOKUP(X295,Feuil1!$C$1:$BL$10,8,FALSE)","v":-71},{"$f":"T295-HLOOKUP(X295,Feuil1!$C$1:$BL$10,9,FALSE)","v":-86},{"$f":"T295-HLOOKUP(X295,Feuil1!$C$1:$BL$10,10,FALSE)","v":-101},null,null,null,null,null,null,"DEP +"]
["F","N","IDF",17,350463,"FLAMAIN","PERRINE",1994,71.900000000000006,"CHAVILLE","F",45,-47,50,50,-55,55,-60,55,105,-38.800000000000011,"DEP +",0,{"$f":"IF(I296=\"\",\"\",IF(A296=\"H\",IF(OR(H296=\"SEN\",H296<1995),VLOOKUP(I296,Feuil1!$A$11:$F$29,6),IF(AND(H296>1994,H296<1998),VLOOKUP(I296,Feuil1!$A$11:$F$29,5),IF(AND(H296>1997,H296<2000),VLOOKUP(I296,Feuil1!$A$11:$F$29,4),IF(AND(H296>1999,H296<2002),VLOOKUP(I296,Feuil1!$A$11:$F$29,3),VLOOKUP(I296,Feuil1!$A$11:$F$29,2))))),IF(OR(H296=\"SEN\",H296<1995),VLOOKUP(I296,Feuil1!$G$11:$L$25,6),IF(AND(H296>1994,H296<1998),VLOOKUP(I296,Feuil1!$G$11:$L$25,5),IF(AND(H296>1997,H296<2000),VLOOKUP(I296,Feuil1!$G$11:$L$25,4),IF(AND(H296>1999,H296<2002),VLOOKUP(I296,Feuil1!$G$11:$L$25,3),VLOOKUP(I296,Feuil1!$G$11:$L$25,2)))))))","v":"FS75"},128.65761587918348,null," ",{"$f":"T296-HLOOKUP(X296,Feuil1!$C$1:$BL$10,2,FALSE)","v":10},{"$f":"T296-HLOOKUP(X296,Feuil1!$C$1:$BL$10,3,FALSE)","v":0},{"$f":"T296-HLOOKUP(X296,Feuil1!$C$1:$BL$10,4,FALSE)","v":-10},{"$f":"T296-HLOOKUP(X296,Feuil1!$C$1:$BL$10,5,FALSE)","v":-25},{"$f":"T296-HLOOKUP(X296,Feuil1!$C$1:$BL$10,6,FALSE)","v":-40},{"$f":"T296-HLOOKUP(X296,Feuil1!$C$1:$BL$10,7,FALSE)","v":-55},{"$f":"T296-HLOOKUP(X296,Feuil1!$C$1:$BL$10,8,FALSE)","v":-75},{"$f":"T296-HLOOKUP(X296,Feuil1!$C$1:$BL$10,9,FALSE)","v":-90},{"$f":"T296-HLOOKUP(X296,Feuil1!$C$1:$BL$10,10,FALSE)","v":-105},null,null,null,null,null,null,"DEP +"]
["F","N","NPC",18,345627,"FLOUR","Marjorie",1994,72.8,"CAHC BERCK/MER","F",45,48,-50,48,50,55,-58,55,103,-42.599999999999994,"DEB ",8,{"$f":"IF(I297=\"\",\"\",IF(A297=\"H\",IF(OR(H297=\"SEN\",H297<1995),VLOOKUP(I297,Feuil1!$A$11:$F$29,6),IF(AND(H297>1994,H297<1998),VLOOKUP(I297,Feuil1!$A$11:$F$29,5),IF(AND(H297>1997,H297<2000),VLOOKUP(I297,Feuil1!$A$11:$F$29,4),IF(AND(H297>1999,H297<2002),VLOOKUP(I297,Feuil1!$A$11:$F$29,3),VLOOKUP(I297,Feuil1!$A$11:$F$29,2))))),IF(OR(H297=\"SEN\",H297<1995),VLOOKUP(I297,Feuil1!$G$11:$L$25,6),IF(AND(H297>1994,H297<1998),VLOOKUP(I297,Feuil1!$G$11:$L$25,5),IF(AND(H297>1997,H297<2000),VLOOKUP(I297,Feuil1!$G$11:$L$25,4),IF(AND(H297>1999,H297<2002),VLOOKUP(I297,Feuil1!$G$11:$L$25,3),VLOOKUP(I297,Feuil1!$G$11:$L$25,2)))))))","v":"FS75"},125.33408930840423,null," ",{"$f":"T297-HLOOKUP(X297,Feuil1!$C$1:$BL$10,2,FALSE)","v":8},{"$f":"T297-HLOOKUP(X297,Feuil1!$C$1:$BL$10,3,FALSE)","v":-2},{"$f":"T297-HLOOKUP(X297,Feuil1!$C$1:$BL$10,4,FALSE)","v":-12},{"$f":"T297-HLOOKUP(X297,Feuil1!$C$1:$BL$10,5,FALSE)","v":-27},{"$f":"T297-HLOOKUP(X297,Feuil1!$C$1:$BL$10,6,FALSE)","v":-42},{"$f":"T297-HLOOKUP(X297,Feuil1!$C$1:$BL$10,7,FALSE)","v":-57},{"$f":"T297-HLOOKUP(X297,Feuil1!$C$1:$BL$10,8,FALSE)","v":-77},{"$f":"T297-HLOOKUP(X297,Feuil1!$C$1:$BL$10,9,FALSE)","v":-92},{"$f":"T297-HLOOKUP(X297,Feuil1!$C$1:$BL$10,10,FALSE)","v":-107},null,null,null,null,null,null,"DEB "]
["F","NE","CHA",19," 376658","GUYOT","Alice",1994,72.5,"Reims HM","F",37,-40,40,40,53,58,61,61,101,-44,"DEB ",6,{"$f":"IF(I298=\"\",\"\",IF(A298=\"H\",IF(OR(H298=\"SEN\",H298<1995),VLOOKUP(I298,Feuil1!$A$11:$F$29,6),IF(AND(H298>1994,H298<1998),VLOOKUP(I298,Feuil1!$A$11:$F$29,5),IF(AND(H298>1997,H298<2000),VLOOKUP(I298,Feuil1!$A$11:$F$29,4),IF(AND(H298>1999,H298<2002),VLOOKUP(I298,Feuil1!$A$11:$F$29,3),VLOOKUP(I298,Feuil1!$A$11:$F$29,2))))),IF(OR(H298=\"SEN\",H298<1995),VLOOKUP(I298,Feuil1!$G$11:$L$25,6),IF(AND(H298>1994,H298<1998),VLOOKUP(I298,Feuil1!$G$11:$L$25,5),IF(AND(H298>1997,H298<2000),VLOOKUP(I298,Feuil1!$G$11:$L$25,4),IF(AND(H298>1999,H298<2002),VLOOKUP(I298,Feuil1!$G$11:$L$25,3),VLOOKUP(I298,Feuil1!$G$11:$L$25,2)))))))","v":"FS75"},123.18224909211759,null," ",{"$f":"T298-HLOOKUP(X298,Feuil1!$C$1:$BL$10,2,FALSE)","v":6},{"$f":"T298-HLOOKUP(X298,Feuil1!$C$1:$BL$10,3,FALSE)","v":-4},{"$f":"T298-HLOOKUP(X298,Feuil1!$C$1:$BL$10,4,FALSE)","v":-14},{"$f":"T298-HLOOKUP(X298,Feuil1!$C$1:$BL$10,5,FALSE)","v":-29},{"$f":"T298-HLOOKUP(X298,Feuil1!$C$1:$BL$10,6,FALSE)","v":-44},{"$f":"T298-HLOOKUP(X298,Feuil1!$C$1:$BL$10,7,FALSE)","v":-59},{"$f":"T298-HLOOKUP(X298,Feuil1!$C$1:$BL$10,8,FALSE)","v":-79},{"$f":"T298-HLOOKUP(X298,Feuil1!$C$1:$BL$10,9,FALSE)","v":-94},{"$f":"T298-HLOOKUP(X298,Feuil1!$C$1:$BL$10,10,FALSE)","v":-109},null,null,null,null,null,null,"DEB "]
["F","SEST","CAZ",20,377641,"TORZUOLI AUDAX","Elodie",1981,74.2,"AS MONACO","F",40,43,-45,43,55,58,0,58,101,-47.400000000000006,"DEB ",6,{"$f":"IF(I299=\"\",\"\",IF(A299=\"H\",IF(OR(H299=\"SEN\",H299<1995),VLOOKUP(I299,Feuil1!$A$11:$F$29,6),IF(AND(H299>1994,H299<1998),VLOOKUP(I299,Feuil1!$A$11:$F$29,5),IF(AND(H299>1997,H299<2000),VLOOKUP(I299,Feuil1!$A$11:$F$29,4),IF(AND(H299>1999,H299<2002),VLOOKUP(I299,Feuil1!$A$11:$F$29,3),VLOOKUP(I299,Feuil1!$A$11:$F$29,2))))),IF(OR(H299=\"SEN\",H299<1995),VLOOKUP(I299,Feuil1!$G$11:$L$25,6),IF(AND(H299>1994,H299<1998),VLOOKUP(I299,Feuil1!$G$11:$L$25,5),IF(AND(H299>1997,H299<2000),VLOOKUP(I299,Feuil1!$G$11:$L$25,4),IF(AND(H299>1999,H299<2002),VLOOKUP(I299,Feuil1!$G$11:$L$25,3),VLOOKUP(I299,Feuil1!$G$11:$L$25,2)))))))","v":"FS75"},121.62962443041954,null," ",{"$f":"T299-HLOOKUP(X299,Feuil1!$C$1:$BL$10,2,FALSE)","v":6},{"$f":"T299-HLOOKUP(X299,Feuil1!$C$1:$BL$10,3,FALSE)","v":-4},{"$f":"T299-HLOOKUP(X299,Feuil1!$C$1:$BL$10,4,FALSE)","v":-14},{"$f":"T299-HLOOKUP(X299,Feuil1!$C$1:$BL$10,5,FALSE)","v":-29},{"$f":"T299-HLOOKUP(X299,Feuil1!$C$1:$BL$10,6,FALSE)","v":-44},{"$f":"T299-HLOOKUP(X299,Feuil1!$C$1:$BL$10,7,FALSE)","v":-59},{"$f":"T299-HLOOKUP(X299,Feuil1!$C$1:$BL$10,8,FALSE)","v":-79},{"$f":"T299-HLOOKUP(X299,Feuil1!$C$1:$BL$10,9,FALSE)","v":-94},{"$f":"T299-HLOOKUP(X299,Feuil1!$C$1:$BL$10,10,FALSE)","v":-109},null,null,null,null,null,null,"DEB "]
["F","NE","BOU",21,363720,"MONNIAUD","Elise",1979,72.400000000000006,"HMDB21","F",38,40,42,42,54,58,-60,58,100,-44.800000000000011,"DEB ",5,{"$f":"IF(I300=\"\",\"\",IF(A300=\"H\",IF(OR(H300=\"SEN\",H300<1995),VLOOKUP(I300,Feuil1!$A$11:$F$29,6),IF(AND(H300>1994,H300<1998),VLOOKUP(I300,Feuil1!$A$11:$F$29,5),IF(AND(H300>1997,H300<2000),VLOOKUP(I300,Feuil1!$A$11:$F$29,4),IF(AND(H300>1999,H300<2002),VLOOKUP(I300,Feuil1!$A$11:$F$29,3),VLOOKUP(I300,Feuil1!$A$11:$F$29,2))))),IF(OR(H300=\"SEN\",H300<1995),VLOOKUP(I300,Feuil1!$G$11:$L$25,6),IF(AND(H300>1994,H300<1998),VLOOKUP(I300,Feuil1!$G$11:$L$25,5),IF(AND(H300>1997,H300<2000),VLOOKUP(I300,Feuil1!$G$11:$L$25,4),IF(AND(H300>1999,H300<2002),VLOOKUP(I300,Feuil1!$G$11:$L$25,3),VLOOKUP(I300,Feuil1!$G$11:$L$25,2)))))))","v":"FS75"},122.05639749847383,null," ",{"$f":"T300-HLOOKUP(X300,Feuil1!$C$1:$BL$10,2,FALSE)","v":5},{"$f":"T300-HLOOKUP(X300,Feuil1!$C$1:$BL$10,3,FALSE)","v":-5},{"$f":"T300-HLOOKUP(X300,Feuil1!$C$1:$BL$10,4,FALSE)","v":-15},{"$f":"T300-HLOOKUP(X300,Feuil1!$C$1:$BL$10,5,FALSE)","v":-30},{"$f":"T300-HLOOKUP(X300,Feuil1!$C$1:$BL$10,6,FALSE)","v":-45},{"$f":"T300-HLOOKUP(X300,Feuil1!$C$1:$BL$10,7,FALSE)","v":-60},{"$f":"T300-HLOOKUP(X300,Feuil1!$C$1:$BL$10,8,FALSE)","v":-80},{"$f":"T300-HLOOKUP(X300,Feuil1!$C$1:$BL$10,9,FALSE)","v":-95},{"$f":"T300-HLOOKUP(X300,Feuil1!$C$1:$BL$10,10,FALSE)","v":-110},null,null,null,null,null,null,"DEB "]
["F","SO","AQU",22,390214,"GALONNIER","Elodie",1989,69.900000000000006,"EFSL Le Bouscat","F",30,35,-37,35,38,42,45,45,80,-59.800000000000011,"DEB ",-15,{"$f":"IF(I301=\"\",\"\",IF(A301=\"H\",IF(OR(H301=\"SEN\",H301<1995),VLOOKUP(I301,Feuil1!$A$11:$F$29,6),IF(AND(H301>1994,H301<1998),VLOOKUP(I301,Feuil1!$A$11:$F$29,5),IF(AND(H301>1997,H301<2000),VLOOKUP(I301,Feuil1!$A$11:$F$29,4),IF(AND(H301>1999,H301<2002),VLOOKUP(I301,Feuil1!$A$11:$F$29,3),VLOOKUP(I301,Feuil1!$A$11:$F$29,2))))),IF(OR(H301=\"SEN\",H301<1995),VLOOKUP(I301,Feuil1!$G$11:$L$25,6),IF(AND(H301>1994,H301<1998),VLOOKUP(I301,Feuil1!$G$11:$L$25,5),IF(AND(H301>1997,H301<2000),VLOOKUP(I301,Feuil1!$G$11:$L$25,4),IF(AND(H301>1999,H301<2002),VLOOKUP(I301,Feuil1!$G$11:$L$25,3),VLOOKUP(I301,Feuil1!$G$11:$L$25,2)))))))","v":"FS75"},99.624434487392449,null," ",{"$f":"T301-HLOOKUP(X301,Feuil1!$C$1:$BL$10,2,FALSE)","v":-15},{"$f":"T301-HLOOKUP(X301,Feuil1!$C$1:$BL$10,3,FALSE)","v":-25},{"$f":"T301-HLOOKUP(X301,Feuil1!$C$1:$BL$10,4,FALSE)","v":-35},{"$f":"T301-HLOOKUP(X301,Feuil1!$C$1:$BL$10,5,FALSE)","v":-50},{"$f":"T301-HLOOKUP(X301,Feuil1!$C$1:$BL$10,6,FALSE)","v":-65},{"$f":"T301-HLOOKUP(X301,Feuil1!$C$1:$BL$10,7,FALSE)","v":-80},{"$f":"T301-HLOOKUP(X301,Feuil1!$C$1:$BL$10,8,FALSE)","v":-100},{"$f":"T301-HLOOKUP(X301,Feuil1!$C$1:$BL$10,9,FALSE)","v":-115},{"$f":"T301-HLOOKUP(X301,Feuil1!$C$1:$BL$10,10,FALSE)","v":-130},null,null,null,null,null,null,"DEB "]
["F","NE","ALS",23,245886,"PLASSARD","LUCIE",1976,73.849999999999994,"MJC Ungersheim","F",32,35,-37,35,40,44,-47,44,79,-68.699999999999989,"DEB ",-16,{"$f":"IF(I302=\"\",\"\",IF(A302=\"H\",IF(OR(H302=\"SEN\",H302<1995),VLOOKUP(I302,Feuil1!$A$11:$F$29,6),IF(AND(H302>1994,H302<1998),VLOOKUP(I302,Feuil1!$A$11:$F$29,5),IF(AND(H302>1997,H302<2000),VLOOKUP(I302,Feuil1!$A$11:$F$29,4),IF(AND(H302>1999,H302<2002),VLOOKUP(I302,Feuil1!$A$11:$F$29,3),VLOOKUP(I302,Feuil1!$A$11:$F$29,2))))),IF(OR(H302=\"SEN\",H302<1995),VLOOKUP(I302,Feuil1!$G$11:$L$25,6),IF(AND(H302>1994,H302<1998),VLOOKUP(I302,Feuil1!$G$11:$L$25,5),IF(AND(H302>1997,H302<2000),VLOOKUP(I302,Feuil1!$G$11:$L$25,4),IF(AND(H302>1999,H302<2002),VLOOKUP(I302,Feuil1!$G$11:$L$25,3),VLOOKUP(I302,Feuil1!$G$11:$L$25,2)))))))","v":"FS75"},95.379290567853076,null," ",{"$f":"T302-HLOOKUP(X302,Feuil1!$C$1:$BL$10,2,FALSE)","v":-16},{"$f":"T302-HLOOKUP(X302,Feuil1!$C$1:$BL$10,3,FALSE)","v":-26},{"$f":"T302-HLOOKUP(X302,Feuil1!$C$1:$BL$10,4,FALSE)","v":-36},{"$f":"T302-HLOOKUP(X302,Feuil1!$C$1:$BL$10,5,FALSE)","v":-51},{"$f":"T302-HLOOKUP(X302,Feuil1!$C$1:$BL$10,6,FALSE)","v":-66},{"$f":"T302-HLOOKUP(X302,Feuil1!$C$1:$BL$10,7,FALSE)","v":-81},{"$f":"T302-HLOOKUP(X302,Feuil1!$C$1:$BL$10,8,FALSE)","v":-101},{"$f":"T302-HLOOKUP(X302,Feuil1!$C$1:$BL$10,9,FALSE)","v":-116},{"$f":"T302-HLOOKUP(X302,Feuil1!$C$1:$BL$10,10,FALSE)","v":-131},null,null,null,null,null,null,"DEB "]
["F","SEST","RAL",24,328836,"GAILLOT","Elodie",1994,73.8,"ENTENTE VIRIAT",null,28,31,-34,31,38,43,46,46,77,-70.599999999999994,"DEB ",-18,{"$f":"IF(I303=\"\",\"\",IF(A303=\"H\",IF(OR(H303=\"SEN\",H303<1995),VLOOKUP(I303,Feuil1!$A$11:$F$29,6),IF(AND(H303>1994,H303<1998),VLOOKUP(I303,Feuil1!$A$11:$F$29,5),IF(AND(H303>1997,H303<2000),VLOOKUP(I303,Feuil1!$A$11:$F$29,4),IF(AND(H303>1999,H303<2002),VLOOKUP(I303,Feuil1!$A$11:$F$29,3),VLOOKUP(I303,Feuil1!$A$11:$F$29,2))))),IF(OR(H303=\"SEN\",H303<1995),VLOOKUP(I303,Feuil1!$G$11:$L$25,6),IF(AND(H303>1994,H303<1998),VLOOKUP(I303,Feuil1!$G$11:$L$25,5),IF(AND(H303>1997,H303<2000),VLOOKUP(I303,Feuil1!$G$11:$L$25,4),IF(AND(H303>1999,H303<2002),VLOOKUP(I303,Feuil1!$G$11:$L$25,3),VLOOKUP(I303,Feuil1!$G$11:$L$25,2)))))))","v":"FS75"},92.998768882879858,null," ",{"$f":"T303-HLOOKUP(X303,Feuil1!$C$1:$BL$10,2,FALSE)","v":-18},{"$f":"T303-HLOOKUP(X303,Feuil1!$C$1:$BL$10,3,FALSE)","v":-28},{"$f":"T303-HLOOKUP(X303,Feuil1!$C$1:$BL$10,4,FALSE)","v":-38},{"$f":"T303-HLOOKUP(X303,Feuil1!$C$1:$BL$10,5,FALSE)","v":-53},{"$f":"T303-HLOOKUP(X303,Feuil1!$C$1:$BL$10,6,FALSE)","v":-68},{"$f":"T303-HLOOKUP(X303,Feuil1!$C$1:$BL$10,7,FALSE)","v":-83},{"$f":"T303-HLOOKUP(X303,Feuil1!$C$1:$BL$10,8,FALSE)","v":-103},{"$f":"T303-HLOOKUP(X303,Feuil1!$C$1:$BL$10,9,FALSE)","v":-118},{"$f":"T303-HLOOKUP(X303,Feuil1!$C$1:$BL$10,10,FALSE)","v":-133},null,null,null,null,null,null,"DEB "]
["F","N","NPC",25,354857,"COEVOET","Aude",1976,70.3,"CHCD COMINES","F",30,33,35,35,34,37,40,40,75,-65.599999999999994,"DEB ",-20,{"$f":"IF(I304=\"\",\"\",IF(A304=\"H\",IF(OR(H304=\"SEN\",H304<1995),VLOOKUP(I304,Feuil1!$A$11:$F$29,6),IF(AND(H304>1994,H304<1998),VLOOKUP(I304,Feuil1!$A$11:$F$29,5),IF(AND(H304>1997,H304<2000),VLOOKUP(I304,Feuil1!$A$11:$F$29,4),IF(AND(H304>1999,H304<2002),VLOOKUP(I304,Feuil1!$A$11:$F$29,3),VLOOKUP(I304,Feuil1!$A$11:$F$29,2))))),IF(OR(H304=\"SEN\",H304<1995),VLOOKUP(I304,Feuil1!$G$11:$L$25,6),IF(AND(H304>1994,H304<1998),VLOOKUP(I304,Feuil1!$G$11:$L$25,5),IF(AND(H304>1997,H304<2000),VLOOKUP(I304,Feuil1!$G$11:$L$25,4),IF(AND(H304>1999,H304<2002),VLOOKUP(I304,Feuil1!$G$11:$L$25,3),VLOOKUP(I304,Feuil1!$G$11:$L$25,2)))))))","v":"FS75"},93.08796209552952,null," ",{"$f":"T304-HLOOKUP(X304,Feuil1!$C$1:$BL$10,2,FALSE)","v":-20},{"$f":"T304-HLOOKUP(X304,Feuil1!$C$1:$BL$10,3,FALSE)","v":-30},{"$f":"T304-HLOOKUP(X304,Feuil1!$C$1:$BL$10,4,FALSE)","v":-40},{"$f":"T304-HLOOKUP(X304,Feuil1!$C$1:$BL$10,5,FALSE)","v":-55},{"$f":"T304-HLOOKUP(X304,Feuil1!$C$1:$BL$10,6,FALSE)","v":-70},{"$f":"T304-HLOOKUP(X304,Feuil1!$C$1:$BL$10,7,FALSE)","v":-85},{"$f":"T304-HLOOKUP(X304,Feuil1!$C$1:$BL$10,8,FALSE)","v":-105},{"$f":"T304-HLOOKUP(X304,Feuil1!$C$1:$BL$10,9,FALSE)","v":-120},{"$f":"T304-HLOOKUP(X304,Feuil1!$C$1:$BL$10,10,FALSE)","v":-135},null,null,null,null,null,null,"DEB "]
["F","CO","BNO",26,365251,"Drezet","Christel",1973,75,"Caen CHM","F",26,29,31,31,37,41,-42,41,72,-78,"DEB ",-23,{"$f":"IF(I305=\"\",\"\",IF(A305=\"H\",IF(OR(H305=\"SEN\",H305<1995),VLOOKUP(I305,Feuil1!$A$11:$F$29,6),IF(AND(H305>1994,H305<1998),VLOOKUP(I305,Feuil1!$A$11:$F$29,5),IF(AND(H305>1997,H305<2000),VLOOKUP(I305,Feuil1!$A$11:$F$29,4),IF(AND(H305>1999,H305<2002),VLOOKUP(I305,Feuil1!$A$11:$F$29,3),VLOOKUP(I305,Feuil1!$A$11:$F$29,2))))),IF(OR(H305=\"SEN\",H305<1995),VLOOKUP(I305,Feuil1!$G$11:$L$25,6),IF(AND(H305>1994,H305<1998),VLOOKUP(I305,Feuil1!$G$11:$L$25,5),IF(AND(H305>1997,H305<2000),VLOOKUP(I305,Feuil1!$G$11:$L$25,4),IF(AND(H305>1999,H305<2002),VLOOKUP(I305,Feuil1!$G$11:$L$25,3),VLOOKUP(I305,Feuil1!$G$11:$L$25,2)))))))","v":"FS75"},86.211099289643244,null," ",{"$f":"T305-HLOOKUP(X305,Feuil1!$C$1:$BL$10,2,FALSE)","v":-23},{"$f":"T305-HLOOKUP(X305,Feuil1!$C$1:$BL$10,3,FALSE)","v":-33},{"$f":"T305-HLOOKUP(X305,Feuil1!$C$1:$BL$10,4,FALSE)","v":-43},{"$f":"T305-HLOOKUP(X305,Feuil1!$C$1:$BL$10,5,FALSE)","v":-58},{"$f":"T305-HLOOKUP(X305,Feuil1!$C$1:$BL$10,6,FALSE)","v":-73},{"$f":"T305-HLOOKUP(X305,Feuil1!$C$1:$BL$10,7,FALSE)","v":-88},{"$f":"T305-HLOOKUP(X305,Feuil1!$C$1:$BL$10,8,FALSE)","v":-108},{"$f":"T305-HLOOKUP(X305,Feuil1!$C$1:$BL$10,9,FALSE)","v":-123},{"$f":"T305-HLOOKUP(X305,Feuil1!$C$1:$BL$10,10,FALSE)","v":-138},null,null,null,null,null,null,"DEB "]
["F","N","PIC",27,263675,"SAUGOUT","Noelle",1957,69.599999999999994,"La Ferté Milon CMHM","F",28,-30,30,30,38,-40,40,40,70,-69.199999999999989,"DEB ",-25,{"$f":"IF(I306=\"\",\"\",IF(A306=\"H\",IF(OR(H306=\"SEN\",H306<1995),VLOOKUP(I306,Feuil1!$A$11:$F$29,6),IF(AND(H306>1994,H306<1998),VLOOKUP(I306,Feuil1!$A$11:$F$29,5),IF(AND(H306>1997,H306<2000),VLOOKUP(I306,Feuil1!$A$11:$F$29,4),IF(AND(H306>1999,H306<2002),VLOOKUP(I306,Feuil1!$A$11:$F$29,3),VLOOKUP(I306,Feuil1!$A$11:$F$29,2))))),IF(OR(H306=\"SEN\",H306<1995),VLOOKUP(I306,Feuil1!$G$11:$L$25,6),IF(AND(H306>1994,H306<1998),VLOOKUP(I306,Feuil1!$G$11:$L$25,5),IF(AND(H306>1997,H306<2000),VLOOKUP(I306,Feuil1!$G$11:$L$25,4),IF(AND(H306>1999,H306<2002),VLOOKUP(I306,Feuil1!$G$11:$L$25,3),VLOOKUP(I306,Feuil1!$G$11:$L$25,2)))))))","v":"FS75"},87.391532492795108,null," ",{"$f":"T306-HLOOKUP(X306,Feuil1!$C$1:$BL$10,2,FALSE)","v":-25},{"$f":"T306-HLOOKUP(X306,Feuil1!$C$1:$BL$10,3,FALSE)","v":-35},{"$f":"T306-HLOOKUP(X306,Feuil1!$C$1:$BL$10,4,FALSE)","v":-45},{"$f":"T306-HLOOKUP(X306,Feuil1!$C$1:$BL$10,5,FALSE)","v":-60},{"$f":"T306-HLOOKUP(X306,Feuil1!$C$1:$BL$10,6,FALSE)","v":-75},{"$f":"T306-HLOOKUP(X306,Feuil1!$C$1:$BL$10,7,FALSE)","v":-90},{"$f":"T306-HLOOKUP(X306,Feuil1!$C$1:$BL$10,8,FALSE)","v":-110},{"$f":"T306-HLOOKUP(X306,Feuil1!$C$1:$BL$10,9,FALSE)","v":-125},{"$f":"T306-HLOOKUP(X306,Feuil1!$C$1:$BL$10,10,FALSE)","v":-140},null,null,null,null,null,null,"DEB "]
["F","SO","MPY",28,307081,"DELPECH","Frédérique",1972,72.2,"MONTAUBAN HC","F",27,30,-32,30,36,38,40,40,70,-74.400000000000006,"DEB ",-25,{"$f":"IF(I307=\"\",\"\",IF(A307=\"H\",IF(OR(H307=\"SEN\",H307<1995),VLOOKUP(I307,Feuil1!$A$11:$F$29,6),IF(AND(H307>1994,H307<1998),VLOOKUP(I307,Feuil1!$A$11:$F$29,5),IF(AND(H307>1997,H307<2000),VLOOKUP(I307,Feuil1!$A$11:$F$29,4),IF(AND(H307>1999,H307<2002),VLOOKUP(I307,Feuil1!$A$11:$F$29,3),VLOOKUP(I307,Feuil1!$A$11:$F$29,2))))),IF(OR(H307=\"SEN\",H307<1995),VLOOKUP(I307,Feuil1!$G$11:$L$25,6),IF(AND(H307>1994,H307<1998),VLOOKUP(I307,Feuil1!$G$11:$L$25,5),IF(AND(H307>1997,H307<2000),VLOOKUP(I307,Feuil1!$G$11:$L$25,4),IF(AND(H307>1999,H307<2002),VLOOKUP(I307,Feuil1!$G$11:$L$25,3),VLOOKUP(I307,Feuil1!$G$11:$L$25,2)))))))","v":"FS75"},85.571569629966078,null," ",{"$f":"T307-HLOOKUP(X307,Feuil1!$C$1:$BL$10,2,FALSE)","v":-25},{"$f":"T307-HLOOKUP(X307,Feuil1!$C$1:$BL$10,3,FALSE)","v":-35},{"$f":"T307-HLOOKUP(X307,Feuil1!$C$1:$BL$10,4,FALSE)","v":-45},{"$f":"T307-HLOOKUP(X307,Feuil1!$C$1:$BL$10,5,FALSE)","v":-60},{"$f":"T307-HLOOKUP(X307,Feuil1!$C$1:$BL$10,6,FALSE)","v":-75},{"$f":"T307-HLOOKUP(X307,Feuil1!$C$1:$BL$10,7,FALSE)","v":-90},{"$f":"T307-HLOOKUP(X307,Feuil1!$C$1:$BL$10,8,FALSE)","v":-110},{"$f":"T307-HLOOKUP(X307,Feuil1!$C$1:$BL$10,9,FALSE)","v":-125},{"$f":"T307-HLOOKUP(X307,Feuil1!$C$1:$BL$10,10,FALSE)","v":-140},null,null,null,null,null,null,"DEB "]
["F","N","IDF",29,384912,"DELAFOSSE","MARIE",1959,74.5,"MANTES","F",20,22,-25,22,-25,30,32,32,54,-95,"DEB ",-41,{"$f":"IF(I308=\"\",\"\",IF(A308=\"H\",IF(OR(H308=\"SEN\",H308<1995),VLOOKUP(I308,Feuil1!$A$11:$F$29,6),IF(AND(H308>1994,H308<1998),VLOOKUP(I308,Feuil1!$A$11:$F$29,5),IF(AND(H308>1997,H308<2000),VLOOKUP(I308,Feuil1!$A$11:$F$29,4),IF(AND(H308>1999,H308<2002),VLOOKUP(I308,Feuil1!$A$11:$F$29,3),VLOOKUP(I308,Feuil1!$A$11:$F$29,2))))),IF(OR(H308=\"SEN\",H308<1995),VLOOKUP(I308,Feuil1!$G$11:$L$25,6),IF(AND(H308>1994,H308<1998),VLOOKUP(I308,Feuil1!$G$11:$L$25,5),IF(AND(H308>1997,H308<2000),VLOOKUP(I308,Feuil1!$G$11:$L$25,4),IF(AND(H308>1999,H308<2002),VLOOKUP(I308,Feuil1!$G$11:$L$25,3),VLOOKUP(I308,Feuil1!$G$11:$L$25,2)))))))","v":"FS75"},64.88903506063636,null," ",{"$f":"T308-HLOOKUP(X308,Feuil1!$C$1:$BL$10,2,FALSE)","v":-41},{"$f":"T308-HLOOKUP(X308,Feuil1!$C$1:$BL$10,3,FALSE)","v":-51},{"$f":"T308-HLOOKUP(X308,Feuil1!$C$1:$BL$10,4,FALSE)","v":-61},{"$f":"T308-HLOOKUP(X308,Feuil1!$C$1:$BL$10,5,FALSE)","v":-76},{"$f":"T308-HLOOKUP(X308,Feuil1!$C$1:$BL$10,6,FALSE)","v":-91},{"$f":"T308-HLOOKUP(X308,Feuil1!$C$1:$BL$10,7,FALSE)","v":-106},{"$f":"T308-HLOOKUP(X308,Feuil1!$C$1:$BL$10,8,FALSE)","v":-126},{"$f":"T308-HLOOKUP(X308,Feuil1!$C$1:$BL$10,9,FALSE)","v":-141},{"$f":"T308-HLOOKUP(X308,Feuil1!$C$1:$BL$10,10,FALSE)","v":-156},null,null,null,null,null,null,"DEB "]
["F","SO","MPY",30,376232,"ALBERTELLI","Anne - Camille",1986,74.400000000000006,"PAMIERS HC","F",35,-38,-38,35,-50,-52,-52,0,0,-148.80000000000001,"DEB ",-95,{"$f":"IF(I309=\"\",\"\",IF(A309=\"H\",IF(OR(H309=\"SEN\",H309<1995),VLOOKUP(I309,Feuil1!$A$11:$F$29,6),IF(AND(H309>1994,H309<1998),VLOOKUP(I309,Feuil1!$A$11:$F$29,5),IF(AND(H309>1997,H309<2000),VLOOKUP(I309,Feuil1!$A$11:$F$29,4),IF(AND(H309>1999,H309<2002),VLOOKUP(I309,Feuil1!$A$11:$F$29,3),VLOOKUP(I309,Feuil1!$A$11:$F$29,2))))),IF(OR(H309=\"SEN\",H309<1995),VLOOKUP(I309,Feuil1!$G$11:$L$25,6),IF(AND(H309>1994,H309<1998),VLOOKUP(I309,Feuil1!$G$11:$L$25,5),IF(AND(H309>1997,H309<2000),VLOOKUP(I309,Feuil1!$G$11:$L$25,4),IF(AND(H309>1999,H309<2002),VLOOKUP(I309,Feuil1!$G$11:$L$25,3),VLOOKUP(I309,Feuil1!$G$11:$L$25,2)))))))","v":"FS75"},0,null," ",{"$f":"T309-HLOOKUP(X309,Feuil1!$C$1:$BL$10,2,FALSE)","v":-95},{"$f":"T309-HLOOKUP(X309,Feuil1!$C$1:$BL$10,3,FALSE)","v":-105},{"$f":"T309-HLOOKUP(X309,Feuil1!$C$1:$BL$10,4,FALSE)","v":-115},{"$f":"T309-HLOOKUP(X309,Feuil1!$C$1:$BL$10,5,FALSE)","v":-130},{"$f":"T309-HLOOKUP(X309,Feuil1!$C$1:$BL$10,6,FALSE)","v":-145},{"$f":"T309-HLOOKUP(X309,Feuil1!$C$1:$BL$10,7,FALSE)","v":-160},{"$f":"T309-HLOOKUP(X309,Feuil1!$C$1:$BL$10,8,FALSE)","v":-180},{"$f":"T309-HLOOKUP(X309,Feuil1!$C$1:$BL$10,9,FALSE)","v":-195},{"$f":"T309-HLOOKUP(X309,Feuil1!$C$1:$BL$10,10,FALSE)","v":-210},null,null,null,null,null,null,"DEB "]
[null,null,null,null,null,null,null,null,null,null,null,null,null,null,null,null,null,null,null,null,null,null,null,null,null,null," ",{"$f":"T310-HLOOKUP(X310,Feuil1!$C$1:$BL$10,2,FALSE)","v":{"$error":"#N/A"}},{"$f":"T310-HLOOKUP(X310,Feuil1!$C$1:$BL$10,3,FALSE)","v":{"$error":"#N/A"}},{"$f":"T310-HLOOKUP(X310,Feuil1!$C$1:$BL$10,4,FALSE)","v":{"$error":"#N/A"}},{"$f":"T310-HLOOKUP(X310,Feuil1!$C$1:$BL$10,5,FALSE)","v":{"$error":"#N/A"}},{"$f":"T310-HLOOKUP(X310,Feuil1!$C$1:$BL$10,6,FALSE)","v":{"$error":"#N/A"}},{"$f":"T310-HLOOKUP(X310,Feuil1!$C$1:$BL$10,7,FALSE)","v":{"$error":"#N/A"}},{"$f":"T310-HLOOKUP(X310,Feuil1!$C$1:$BL$10,8,FALSE)","v":{"$error":"#N/A"}},{"$f":"T310-HLOOKUP(X310,Feuil1!$C$1:$BL$10,9,FALSE)","v":{"$error":"#N/A"}},{"$f":"T310-HLOOKUP(X310,Feuil1!$C$1:$BL$10,10,FALSE)","v":{"$error":"#N/A"}},null,null,null,null,null,null,{"$f":"IF(AJ310>=0,$AJ$4,IF(AI310>=0,$AI$4,IF(AH310>=0,$AH$4,IF(AG310>=0,$AG$4,IF(AF310>=0,$AF$4,IF(AE310>=0,$AE$4,IF(AD310>=0,$AD$4,IF(AC310>=0,$AC$4,$AB$4))))))))","v":{"$error":"#N/A"}}]
["F","SEST","LAN",1,287541,"NAYO KETCHANKE","Gaëlle",1988,75.27,"Clermont Sports","F",95,100,105,{"$f":"IF(H311=\"\",\"\",IF(MAXA(L311:N311)<=0,0,MAXA(L311:N311)))","v":105},120,130,null,{"$f":"IF(H311=\"\",\"\",IF(MAXA(P311:R311)<=0,0,MAXA(P311:R311)))","v":130},{"$f":"IF(H311=\"\",\"\",IF(OR(O311=0,S311=0),0,O311+S311))","v":235},{"$f":"T311-I311*2","v":84.460000000000008},{"$f":"IF(H311=\"\",\"\",AQ311)","v":"OLY +"},{"$f":"IF(AJ311>=0,AJ311,IF(AI311>=0,AI311,IF(AH311>=0,AH311,IF(AG311>=0,AG311,IF(AF311>=0,AF311,IF(AE311>=0,AE311,IF(AD311>=0,AD311,IF(AC311>=0,AC311,AB311))))))))","v":10},{"$f":"IF(I311=\"\",\"\",IF(A311=\"H\",IF(OR(H311=\"SEN\",H311<1995),VLOOKUP(I311,Feuil1!$A$11:$F$29,6),IF(AND(H311>1994,H311<1998),VLOOKUP(I311,Feuil1!$A$11:$F$29,5),IF(AND(H311>1997,H311<2000),VLOOKUP(I311,Feuil1!$A$11:$F$29,4),IF(AND(H311>1999,H311<2002),VLOOKUP(I311,Feuil1!$A$11:$F$29,3),VLOOKUP(I311,Feuil1!$A$11:$F$29,2))))),IF(OR(H311=\"SEN\",H311<1995),VLOOKUP(I311,Feuil1!$G$11:$L$25,6),IF(AND(H311>1994,H311<1998),VLOOKUP(I311,Feuil1!$G$11:$L$25,5),IF(AND(H311>1997,H311<2000),VLOOKUP(I311,Feuil1!$G$11:$L$25,4),IF(AND(H311>1999,H311<2002),VLOOKUP(I311,Feuil1!$G$11:$L$25,3),VLOOKUP(I311,Feuil1!$G$11:$L$25,2)))))))","v":"FS+75"},{"$f":"IF(I311=\"\",\"\",IF(A311=\"H\",10^(0.794358141*LOG(I311/174.393)^2)*T311,IF(A311=\"F\",10^(0.89726074*LOG(I311/148.026)^2)*T311,\"\")))","v":280.84957744443415},null," ",{"$f":"T311-HLOOKUP(X311,Feuil1!$C$1:$BL$10,2,FALSE)","v":135},{"$f":"T311-HLOOKUP(X311,Feuil1!$C$1:$BL$10,3,FALSE)","v":125},{"$f":"T311-HLOOKUP(X311,Feuil1!$C$1:$BL$10,4,FALSE)","v":110},{"$f":"T311-HLOOKUP(X311,Feuil1!$C$1:$BL$10,5,FALSE)","v":95},{"$f":"T311-HLOOKUP(X311,Feuil1!$C$1:$BL$10,6,FALSE)","v":85},{"$f":"T311-HLOOKUP(X311,Feuil1!$C$1:$BL$10,7,FALSE)","v":65},{"$f":"T311-HLOOKUP(X311,Feuil1!$C$1:$BL$10,8,FALSE)","v":45},{"$f":"T311-HLOOKUP(X311,Feuil1!$C$1:$BL$10,9,FALSE)","v":25},{"$f":"T311-HLOOKUP(X311,Feuil1!$C$1:$BL$10,10,FALSE)","v":10},null,null,null,null,null,null,{"$f":"IF(AJ311>=0,$AJ$4,IF(AI311>=0,$AI$4,IF(AH311>=0,$AH$4,IF(AG311>=0,$AG$4,IF(AF311>=0,$AF$4,IF(AE311>=0,$AE$4,IF(AD311>=0,$AD$4,IF(AC311>=0,$AC$4,$AB$4))))))))","v":"OLY +"}]
["F","N","PIC",2,314914,"VAN BELLINGHEN","Anna",1994,84.2,"La Vaillante Saint Quentin","Belge",88,92,95,95,110,115,-124,115,210,41.599999999999994,"INTA +",0,{"$f":"IF(I312=\"\",\"\",IF(A312=\"H\",IF(OR(H312=\"SEN\",H312<1995),VLOOKUP(I312,Feuil1!$A$11:$F$29,6),IF(AND(H312>1994,H312<1998),VLOOKUP(I312,Feuil1!$A$11:$F$29,5),IF(AND(H312>1997,H312<2000),VLOOKUP(I312,Feuil1!$A$11:$F$29,4),IF(AND(H312>1999,H312<2002),VLOOKUP(I312,Feuil1!$A$11:$F$29,3),VLOOKUP(I312,Feuil1!$A$11:$F$29,2))))),IF(OR(H312=\"SEN\",H312<1995),VLOOKUP(I312,Feuil1!$G$11:$L$25,6),IF(AND(H312>1994,H312<1998),VLOOKUP(I312,Feuil1!$G$11:$L$25,5),IF(AND(H312>1997,H312<2000),VLOOKUP(I312,Feuil1!$G$11:$L$25,4),IF(AND(H312>1999,H312<2002),VLOOKUP(I312,Feuil1!$G$11:$L$25,3),VLOOKUP(I312,Feuil1!$G$11:$L$25,2)))))))","v":"FS+75"},237.73261293162034,null," ",{"$f":"T312-HLOOKUP(X312,Feuil1!$C$1:$BL$10,2,FALSE)","v":110},{"$f":"T312-HLOOKUP(X312,Feuil1!$C$1:$BL$10,3,FALSE)","v":100},{"$f":"T312-HLOOKUP(X312,Feuil1!$C$1:$BL$10,4,FALSE)","v":85},{"$f":"T312-HLOOKUP(X312,Feuil1!$C$1:$BL$10,5,FALSE)","v":70},{"$f":"T312-HLOOKUP(X312,Feuil1!$C$1:$BL$10,6,FALSE)","v":60},{"$f":"T312-HLOOKUP(X312,Feuil1!$C$1:$BL$10,7,FALSE)","v":40},{"$f":"T312-HLOOKUP(X312,Feuil1!$C$1:$BL$10,8,FALSE)","v":20},{"$f":"T312-HLOOKUP(X312,Feuil1!$C$1:$BL$10,9,FALSE)","v":0},{"$f":"T312-HLOOKUP(X312,Feuil1!$C$1:$BL$10,10,FALSE)","v":-15},null,null,null,null,null,null,"INTA +"]
["F","CO","CEN",3,31734,"YAMECHI","Madeleine",1982,83.84,"CM Orléans","F",88,90,-94,90,110,113,-115,113,203,35.319999999999993,"INTB +",13,{"$f":"IF(I313=\"\",\"\",IF(A313=\"H\",IF(OR(H313=\"SEN\",H313<1995),VLOOKUP(I313,Feuil1!$A$11:$F$29,6),IF(AND(H313>1994,H313<1998),VLOOKUP(I313,Feuil1!$A$11:$F$29,5),IF(AND(H313>1997,H313<2000),VLOOKUP(I313,Feuil1!$A$11:$F$29,4),IF(AND(H313>1999,H313<2002),VLOOKUP(I313,Feuil1!$A$11:$F$29,3),VLOOKUP(I313,Feuil1!$A$11:$F$29,2))))),IF(OR(H313=\"SEN\",H313<1995),VLOOKUP(I313,Feuil1!$G$11:$L$25,6),IF(AND(H313>1994,H313<1998),VLOOKUP(I313,Feuil1!$G$11:$L$25,5),IF(AND(H313>1997,H313<2000),VLOOKUP(I313,Feuil1!$G$11:$L$25,4),IF(AND(H313>1999,H313<2002),VLOOKUP(I313,Feuil1!$G$11:$L$25,3),VLOOKUP(I313,Feuil1!$G$11:$L$25,2)))))))","v":"FS+75"},230.24320663858629,null," ",{"$f":"T313-HLOOKUP(X313,Feuil1!$C$1:$BL$10,2,FALSE)","v":103},{"$f":"T313-HLOOKUP(X313,Feuil1!$C$1:$BL$10,3,FALSE)","v":93},{"$f":"T313-HLOOKUP(X313,Feuil1!$C$1:$BL$10,4,FALSE)","v":78},{"$f":"T313-HLOOKUP(X313,Feuil1!$C$1:$BL$10,5,FALSE)","v":63},{"$f":"T313-HLOOKUP(X313,Feuil1!$C$1:$BL$10,6,FALSE)","v":53},{"$f":"T313-HLOOKUP(X313,Feuil1!$C$1:$BL$10,7,FALSE)","v":33},{"$f":"T313-HLOOKUP(X313,Feuil1!$C$1:$BL$10,8,FALSE)","v":13},{"$f":"T313-HLOOKUP(X313,Feuil1!$C$1:$BL$10,9,FALSE)","v":-7},{"$f":"T313-HLOOKUP(X313,Feuil1!$C$1:$BL$10,10,FALSE)","v":-22},null,null,null,null,null,null,"INTB +"]
["F","NE","BOU",4,378763,"MIYENGA","Helène",1984,81.3,"HMDB21","CAM",70,75,78,78,92,98,103,103,181,18.400000000000006,"NAT +",11,{"$f":"IF(I314=\"\",\"\",IF(A314=\"H\",IF(OR(H314=\"SEN\",H314<1995),VLOOKUP(I314,Feuil1!$A$11:$F$29,6),IF(AND(H314>1994,H314<1998),VLOOKUP(I314,Feuil1!$A$11:$F$29,5),IF(AND(H314>1997,H314<2000),VLOOKUP(I314,Feuil1!$A$11:$F$29,4),IF(AND(H314>1999,H314<2002),VLOOKUP(I314,Feuil1!$A$11:$F$29,3),VLOOKUP(I314,Feuil1!$A$11:$F$29,2))))),IF(OR(H314=\"SEN\",H314<1995),VLOOKUP(I314,Feuil1!$G$11:$L$25,6),IF(AND(H314>1994,H314<1998),VLOOKUP(I314,Feuil1!$G$11:$L$25,5),IF(AND(H314>1997,H314<2000),VLOOKUP(I314,Feuil1!$G$11:$L$25,4),IF(AND(H314>1999,H314<2002),VLOOKUP(I314,Feuil1!$G$11:$L$25,3),VLOOKUP(I314,Feuil1!$G$11:$L$25,2)))))))","v":"FS+75"},208.1847502107787,null," ",{"$f":"T314-HLOOKUP(X314,Feuil1!$C$1:$BL$10,2,FALSE)","v":81},{"$f":"T314-HLOOKUP(X314,Feuil1!$C$1:$BL$10,3,FALSE)","v":71},{"$f":"T314-HLOOKUP(X314,Feuil1!$C$1:$BL$10,4,FALSE)","v":56},{"$f":"T314-HLOOKUP(X314,Feuil1!$C$1:$BL$10,5,FALSE)","v":41},{"$f":"T314-HLOOKUP(X314,Feuil1!$C$1:$BL$10,6,FALSE)","v":31},{"$f":"T314-HLOOKUP(X314,Feuil1!$C$1:$BL$10,7,FALSE)","v":11},{"$f":"T314-HLOOKUP(X314,Feuil1!$C$1:$BL$10,8,FALSE)","v":-9},{"$f":"T314-HLOOKUP(X314,Feuil1!$C$1:$BL$10,9,FALSE)","v":-29},{"$f":"T314-HLOOKUP(X314,Feuil1!$C$1:$BL$10,10,FALSE)","v":-44},null,null,null,null,null,null,"NAT +"]
["F","NE","BOU",5,357580,"ELUARD","Judith",1983,80.25,"HMDB21","F",64,67,-70,67,94,98,-101,98,165,4.5,"FED +",15,{"$f":"IF(I315=\"\",\"\",IF(A315=\"H\",IF(OR(H315=\"SEN\",H315<1995),VLOOKUP(I315,Feuil1!$A$11:$F$29,6),IF(AND(H315>1994,H315<1998),VLOOKUP(I315,Feuil1!$A$11:$F$29,5),IF(AND(H315>1997,H315<2000),VLOOKUP(I315,Feuil1!$A$11:$F$29,4),IF(AND(H315>1999,H315<2002),VLOOKUP(I315,Feuil1!$A$11:$F$29,3),VLOOKUP(I315,Feuil1!$A$11:$F$29,2))))),IF(OR(H315=\"SEN\",H315<1995),VLOOKUP(I315,Feuil1!$G$11:$L$25,6),IF(AND(H315>1994,H315<1998),VLOOKUP(I315,Feuil1!$G$11:$L$25,5),IF(AND(H315>1997,H315<2000),VLOOKUP(I315,Feuil1!$G$11:$L$25,4),IF(AND(H315>1999,H315<2002),VLOOKUP(I315,Feuil1!$G$11:$L$25,3),VLOOKUP(I315,Feuil1!$G$11:$L$25,2)))))))","v":"FS+75"},190.9499029093071,null," ",{"$f":"T315-HLOOKUP(X315,Feuil1!$C$1:$BL$10,2,FALSE)","v":65},{"$f":"T315-HLOOKUP(X315,Feuil1!$C$1:$BL$10,3,FALSE)","v":55},{"$f":"T315-HLOOKUP(X315,Feuil1!$C$1:$BL$10,4,FALSE)","v":40},{"$f":"T315-HLOOKUP(X315,Feuil1!$C$1:$BL$10,5,FALSE)","v":25},{"$f":"T315-HLOOKUP(X315,Feuil1!$C$1:$BL$10,6,FALSE)","v":15},{"$f":"T315-HLOOKUP(X315,Feuil1!$C$1:$BL$10,7,FALSE)","v":-5},{"$f":"T315-HLOOKUP(X315,Feuil1!$C$1:$BL$10,8,FALSE)","v":-25},{"$f":"T315-HLOOKUP(X315,Feuil1!$C$1:$BL$10,9,FALSE)","v":-45},{"$f":"T315-HLOOKUP(X315,Feuil1!$C$1:$BL$10,10,FALSE)","v":-60},null,null,null,null,null,null,"FED +"]
["F","NE","ALS",6,134752,"CHRISTNACHER","ADELINE",1992,77.599999999999994,"ASPTT Strasbourg","F",62,66,69,69,79,84,-86,84,153,-2.1999999999999886,"FED +",3,{"$f":"IF(I316=\"\",\"\",IF(A316=\"H\",IF(OR(H316=\"SEN\",H316<1995),VLOOKUP(I316,Feuil1!$A$11:$F$29,6),IF(AND(H316>1994,H316<1998),VLOOKUP(I316,Feuil1!$A$11:$F$29,5),IF(AND(H316>1997,H316<2000),VLOOKUP(I316,Feuil1!$A$11:$F$29,4),IF(AND(H316>1999,H316<2002),VLOOKUP(I316,Feuil1!$A$11:$F$29,3),VLOOKUP(I316,Feuil1!$A$11:$F$29,2))))),IF(OR(H316=\"SEN\",H316<1995),VLOOKUP(I316,Feuil1!$G$11:$L$25,6),IF(AND(H316>1994,H316<1998),VLOOKUP(I316,Feuil1!$G$11:$L$25,5),IF(AND(H316>1997,H316<2000),VLOOKUP(I316,Feuil1!$G$11:$L$25,4),IF(AND(H316>1999,H316<2002),VLOOKUP(I316,Feuil1!$G$11:$L$25,3),VLOOKUP(I316,Feuil1!$G$11:$L$25,2)))))))","v":"FS+75"},180.00152813799374,null," ",{"$f":"T316-HLOOKUP(X316,Feuil1!$C$1:$BL$10,2,FALSE)","v":53},{"$f":"T316-HLOOKUP(X316,Feuil1!$C$1:$BL$10,3,FALSE)","v":43},{"$f":"T316-HLOOKUP(X316,Feuil1!$C$1:$BL$10,4,FALSE)","v":28},{"$f":"T316-HLOOKUP(X316,Feuil1!$C$1:$BL$10,5,FALSE)","v":13},{"$f":"T316-HLOOKUP(X316,Feuil1!$C$1:$BL$10,6,FALSE)","v":3},{"$f":"T316-HLOOKUP(X316,Feuil1!$C$1:$BL$10,7,FALSE)","v":-17},{"$f":"T316-HLOOKUP(X316,Feuil1!$C$1:$BL$10,8,FALSE)","v":-37},{"$f":"T316-HLOOKUP(X316,Feuil1!$C$1:$BL$10,9,FALSE)","v":-57},{"$f":"T316-HLOOKUP(X316,Feuil1!$C$1:$BL$10,10,FALSE)","v":-72},null,null,null,null,null,null,"FED +"]
["F","N","IDF",7,45169,"DRENO","EVA",1985,79.739999999999995,"CHAVILLE","F",58,62,65,65,75,80,85,85,150,-9.4799999999999898,"FED +",0,{"$f":"IF(I317=\"\",\"\",IF(A317=\"H\",IF(OR(H317=\"SEN\",H317<1995),VLOOKUP(I317,Feuil1!$A$11:$F$29,6),IF(AND(H317>1994,H317<1998),VLOOKUP(I317,Feuil1!$A$11:$F$29,5),IF(AND(H317>1997,H317<2000),VLOOKUP(I317,Feuil1!$A$11:$F$29,4),IF(AND(H317>1999,H317<2002),VLOOKUP(I317,Feuil1!$A$11:$F$29,3),VLOOKUP(I317,Feuil1!$A$11:$F$29,2))))),IF(OR(H317=\"SEN\",H317<1995),VLOOKUP(I317,Feuil1!$G$11:$L$25,6),IF(AND(H317>1994,H317<1998),VLOOKUP(I317,Feuil1!$G$11:$L$25,5),IF(AND(H317>1997,H317<2000),VLOOKUP(I317,Feuil1!$G$11:$L$25,4),IF(AND(H317>1999,H317<2002),VLOOKUP(I317,Feuil1!$G$11:$L$25,3),VLOOKUP(I317,Feuil1!$G$11:$L$25,2)))))))","v":"FS+75"},174.12245217956945,null," ",{"$f":"T317-HLOOKUP(X317,Feuil1!$C$1:$BL$10,2,FALSE)","v":50},{"$f":"T317-HLOOKUP(X317,Feuil1!$C$1:$BL$10,3,FALSE)","v":40},{"$f":"T317-HLOOKUP(X317,Feuil1!$C$1:$BL$10,4,FALSE)","v":25},{"$f":"T317-HLOOKUP(X317,Feuil1!$C$1:$BL$10,5,FALSE)","v":10},{"$f":"T317-HLOOKUP(X317,Feuil1!$C$1:$BL$10,6,FALSE)","v":0},{"$f":"T317-HLOOKUP(X317,Feuil1!$C$1:$BL$10,7,FALSE)","v":-20},{"$f":"T317-HLOOKUP(X317,Feuil1!$C$1:$BL$10,8,FALSE)","v":-40},{"$f":"T317-HLOOKUP(X317,Feuil1!$C$1:$BL$10,9,FALSE)","v":-60},{"$f":"T317-HLOOKUP(X317,Feuil1!$C$1:$BL$10,10,FALSE)","v":-75},null,null,null,null,null,null,"FED +"]
["F","DOM","REU",8,250372,"MALOTO","MIKAELLA",1993,90.86,"CSPJ St Denis","F",55,-58,58,58,65,70,75,75,133,-48.72,"REG +",8,{"$f":"IF(I318=\"\",\"\",IF(A318=\"H\",IF(OR(H318=\"SEN\",H318<1995),VLOOKUP(I318,Feuil1!$A$11:$F$29,6),IF(AND(H318>1994,H318<1998),VLOOKUP(I318,Feuil1!$A$11:$F$29,5),IF(AND(H318>1997,H318<2000),VLOOKUP(I318,Feuil1!$A$11:$F$29,4),IF(AND(H318>1999,H318<2002),VLOOKUP(I318,Feuil1!$A$11:$F$29,3),VLOOKUP(I318,Feuil1!$A$11:$F$29,2))))),IF(OR(H318=\"SEN\",H318<1995),VLOOKUP(I318,Feuil1!$G$11:$L$25,6),IF(AND(H318>1994,H318<1998),VLOOKUP(I318,Feuil1!$G$11:$L$25,5),IF(AND(H318>1997,H318<2000),VLOOKUP(I318,Feuil1!$G$11:$L$25,4),IF(AND(H318>1999,H318<2002),VLOOKUP(I318,Feuil1!$G$11:$L$25,3),VLOOKUP(I318,Feuil1!$G$11:$L$25,2)))))))","v":"FS+75"},145.93683274790104,null," ",{"$f":"T318-HLOOKUP(X318,Feuil1!$C$1:$BL$10,2,FALSE)","v":33},{"$f":"T318-HLOOKUP(X318,Feuil1!$C$1:$BL$10,3,FALSE)","v":23},{"$f":"T318-HLOOKUP(X318,Feuil1!$C$1:$BL$10,4,FALSE)","v":8},{"$f":"T318-HLOOKUP(X318,Feuil1!$C$1:$BL$10,5,FALSE)","v":-7},{"$f":"T318-HLOOKUP(X318,Feuil1!$C$1:$BL$10,6,FALSE)","v":-17},{"$f":"T318-HLOOKUP(X318,Feuil1!$C$1:$BL$10,7,FALSE)","v":-37},{"$f":"T318-HLOOKUP(X318,Feuil1!$C$1:$BL$10,8,FALSE)","v":-57},{"$f":"T318-HLOOKUP(X318,Feuil1!$C$1:$BL$10,9,FALSE)","v":-77},{"$f":"T318-HLOOKUP(X318,Feuil1!$C$1:$BL$10,10,FALSE)","v":-92},null,null,null,null,null,null,"REG +"]
["F","NE","ALS",9,68212,"FARNY","MELANIE",1991,89.1,"ASPTT Strasbourg","F",53,56,58,58,68,71,74,74,132,-46.199999999999989,"REG +",7,{"$f":"IF(I319=\"\",\"\",IF(A319=\"H\",IF(OR(H319=\"SEN\",H319<1995),VLOOKUP(I319,Feuil1!$A$11:$F$29,6),IF(AND(H319>1994,H319<1998),VLOOKUP(I319,Feuil1!$A$11:$F$29,5),IF(AND(H319>1997,H319<2000),VLOOKUP(I319,Feuil1!$A$11:$F$29,4),IF(AND(H319>1999,H319<2002),VLOOKUP(I319,Feuil1!$A$11:$F$29,3),VLOOKUP(I319,Feuil1!$A$11:$F$29,2))))),IF(OR(H319=\"SEN\",H319<1995),VLOOKUP(I319,Feuil1!$G$11:$L$25,6),IF(AND(H319>1994,H319<1998),VLOOKUP(I319,Feuil1!$G$11:$L$25,5),IF(AND(H319>1997,H319<2000),VLOOKUP(I319,Feuil1!$G$11:$L$25,4),IF(AND(H319>1999,H319<2002),VLOOKUP(I319,Feuil1!$G$11:$L$25,3),VLOOKUP(I319,Feuil1!$G$11:$L$25,2)))))))","v":"FS+75"},145.94299853629104,null," ",{"$f":"T319-HLOOKUP(X319,Feuil1!$C$1:$BL$10,2,FALSE)","v":32},{"$f":"T319-HLOOKUP(X319,Feuil1!$C$1:$BL$10,3,FALSE)","v":22},{"$f":"T319-HLOOKUP(X319,Feuil1!$C$1:$BL$10,4,FALSE)","v":7},{"$f":"T319-HLOOKUP(X319,Feuil1!$C$1:$BL$10,5,FALSE)","v":-8},{"$f":"T319-HLOOKUP(X319,Feuil1!$C$1:$BL$10,6,FALSE)","v":-18},{"$f":"T319-HLOOKUP(X319,Feuil1!$C$1:$BL$10,7,FALSE)","v":-38},{"$f":"T319-HLOOKUP(X319,Feuil1!$C$1:$BL$10,8,FALSE)","v":-58},{"$f":"T319-HLOOKUP(X319,Feuil1!$C$1:$BL$10,9,FALSE)","v":-78},{"$f":"T319-HLOOKUP(X319,Feuil1!$C$1:$BL$10,10,FALSE)","v":-93},null,null,null,null,null,null,"REG +"]
["F","NE","ALS",10,306844,"HUBERTY","LAETITIA",1983,76.5,"ASPTT Strasbourg","F",46,49,51,51,62,65,-67,65,116,-37,"DEP +",6,{"$f":"IF(I320=\"\",\"\",IF(A320=\"H\",IF(OR(H320=\"SEN\",H320<1995),VLOOKUP(I320,Feuil1!$A$11:$F$29,6),IF(AND(H320>1994,H320<1998),VLOOKUP(I320,Feuil1!$A$11:$F$29,5),IF(AND(H320>1997,H320<2000),VLOOKUP(I320,Feuil1!$A$11:$F$29,4),IF(AND(H320>1999,H320<2002),VLOOKUP(I320,Feuil1!$A$11:$F$29,3),VLOOKUP(I320,Feuil1!$A$11:$F$29,2))))),IF(OR(H320=\"SEN\",H320<1995),VLOOKUP(I320,Feuil1!$G$11:$L$25,6),IF(AND(H320>1994,H320<1998),VLOOKUP(I320,Feuil1!$G$11:$L$25,5),IF(AND(H320>1997,H320<2000),VLOOKUP(I320,Feuil1!$G$11:$L$25,4),IF(AND(H320>1999,H320<2002),VLOOKUP(I320,Feuil1!$G$11:$L$25,3),VLOOKUP(I320,Feuil1!$G$11:$L$25,2)))))))","v":"FS+75"},137.46684864780568,null," ",{"$f":"T320-HLOOKUP(X320,Feuil1!$C$1:$BL$10,2,FALSE)","v":16},{"$f":"T320-HLOOKUP(X320,Feuil1!$C$1:$BL$10,3,FALSE)","v":6},{"$f":"T320-HLOOKUP(X320,Feuil1!$C$1:$BL$10,4,FALSE)","v":-9},{"$f":"T320-HLOOKUP(X320,Feuil1!$C$1:$BL$10,5,FALSE)","v":-24},{"$f":"T320-HLOOKUP(X320,Feuil1!$C$1:$BL$10,6,FALSE)","v":-34},{"$f":"T320-HLOOKUP(X320,Feuil1!$C$1:$BL$10,7,FALSE)","v":-54},{"$f":"T320-HLOOKUP(X320,Feuil1!$C$1:$BL$10,8,FALSE)","v":-74},{"$f":"T320-HLOOKUP(X320,Feuil1!$C$1:$BL$10,9,FALSE)","v":-94},{"$f":"T320-HLOOKUP(X320,Feuil1!$C$1:$BL$10,10,FALSE)","v":-109},null,null,null,null,null,null,"DEP +"]
["F","N","NPC",11,351935,"DEPUYDT","Catherine",1988,94.5,"C.A.ROSENDAEL","F",45,-50,50,50,57,61,65,65,115,-74,"DEP +",5,{"$f":"IF(I321=\"\",\"\",IF(A321=\"H\",IF(OR(H321=\"SEN\",H321<1995),VLOOKUP(I321,Feuil1!$A$11:$F$29,6),IF(AND(H321>1994,H321<1998),VLOOKUP(I321,Feuil1!$A$11:$F$29,5),IF(AND(H321>1997,H321<2000),VLOOKUP(I321,Feuil1!$A$11:$F$29,4),IF(AND(H321>1999,H321<2002),VLOOKUP(I321,Feuil1!$A$11:$F$29,3),VLOOKUP(I321,Feuil1!$A$11:$F$29,2))))),IF(OR(H321=\"SEN\",H321<1995),VLOOKUP(I321,Feuil1!$G$11:$L$25,6),IF(AND(H321>1994,H321<1998),VLOOKUP(I321,Feuil1!$G$11:$L$25,5),IF(AND(H321>1997,H321<2000),VLOOKUP(I321,Feuil1!$G$11:$L$25,4),IF(AND(H321>1999,H321<2002),VLOOKUP(I321,Feuil1!$G$11:$L$25,3),VLOOKUP(I321,Feuil1!$G$11:$L$25,2)))))))","v":"FS+75"},124.38939702804215,null," ",{"$f":"T321-HLOOKUP(X321,Feuil1!$C$1:$BL$10,2,FALSE)","v":15},{"$f":"T321-HLOOKUP(X321,Feuil1!$C$1:$BL$10,3,FALSE)","v":5},{"$f":"T321-HLOOKUP(X321,Feuil1!$C$1:$BL$10,4,FALSE)","v":-10},{"$f":"T321-HLOOKUP(X321,Feuil1!$C$1:$BL$10,5,FALSE)","v":-25},{"$f":"T321-HLOOKUP(X321,Feuil1!$C$1:$BL$10,6,FALSE)","v":-35},{"$f":"T321-HLOOKUP(X321,Feuil1!$C$1:$BL$10,7,FALSE)","v":-55},{"$f":"T321-HLOOKUP(X321,Feuil1!$C$1:$BL$10,8,FALSE)","v":-75},{"$f":"T321-HLOOKUP(X321,Feuil1!$C$1:$BL$10,9,FALSE)","v":-95},{"$f":"T321-HLOOKUP(X321,Feuil1!$C$1:$BL$10,10,FALSE)","v":-110},null,null,null,null,null,null,"DEP +"]
["F","NE","ALS",12,360265,"MERTZ","DEBORAH",1992,75.599999999999994,"US Wittenheim","F",49,-52,-55,49,63,-66,-66,63,112,-39.199999999999989,"DEP +",2,{"$f":"IF(I322=\"\",\"\",IF(A322=\"H\",IF(OR(H322=\"SEN\",H322<1995),VLOOKUP(I322,Feuil1!$A$11:$F$29,6),IF(AND(H322>1994,H322<1998),VLOOKUP(I322,Feuil1!$A$11:$F$29,5),IF(AND(H322>1997,H322<2000),VLOOKUP(I322,Feuil1!$A$11:$F$29,4),IF(AND(H322>1999,H322<2002),VLOOKUP(I322,Feuil1!$A$11:$F$29,3),VLOOKUP(I322,Feuil1!$A$11:$F$29,2))))),IF(OR(H322=\"SEN\",H322<1995),VLOOKUP(I322,Feuil1!$G$11:$L$25,6),IF(AND(H322>1994,H322<1998),VLOOKUP(I322,Feuil1!$G$11:$L$25,5),IF(AND(H322>1997,H322<2000),VLOOKUP(I322,Feuil1!$G$11:$L$25,4),IF(AND(H322>1999,H322<2002),VLOOKUP(I322,Feuil1!$G$11:$L$25,3),VLOOKUP(I322,Feuil1!$G$11:$L$25,2)))))))","v":"FS+75"},133.54443214745396,null," ",{"$f":"T322-HLOOKUP(X322,Feuil1!$C$1:$BL$10,2,FALSE)","v":12},{"$f":"T322-HLOOKUP(X322,Feuil1!$C$1:$BL$10,3,FALSE)","v":2},{"$f":"T322-HLOOKUP(X322,Feuil1!$C$1:$BL$10,4,FALSE)","v":-13},{"$f":"T322-HLOOKUP(X322,Feuil1!$C$1:$BL$10,5,FALSE)","v":-28},{"$f":"T322-HLOOKUP(X322,Feuil1!$C$1:$BL$10,6,FALSE)","v":-38},{"$f":"T322-HLOOKUP(X322,Feuil1!$C$1:$BL$10,7,FALSE)","v":-58},{"$f":"T322-HLOOKUP(X322,Feuil1!$C$1:$BL$10,8,FALSE)","v":-78},{"$f":"T322-HLOOKUP(X322,Feuil1!$C$1:$BL$10,9,FALSE)","v":-98},{"$f":"T322-HLOOKUP(X322,Feuil1!$C$1:$BL$10,10,FALSE)","v":-113},null,null,null,null,null,null,"DEP +"]
["F","CO","PDL",13,248274,"BODARD","Suzanne",1964,84.2,"Saint Herblain","F",46,48,-50,48,57,60,63,63,111,-57.400000000000006,"DEP +",1,{"$f":"IF(I323=\"\",\"\",IF(A323=\"H\",IF(OR(H323=\"SEN\",H323<1995),VLOOKUP(I323,Feuil1!$A$11:$F$29,6),IF(AND(H323>1994,H323<1998),VLOOKUP(I323,Feuil1!$A$11:$F$29,5),IF(AND(H323>1997,H323<2000),VLOOKUP(I323,Feuil1!$A$11:$F$29,4),IF(AND(H323>1999,H323<2002),VLOOKUP(I323,Feuil1!$A$11:$F$29,3),VLOOKUP(I323,Feuil1!$A$11:$F$29,2))))),IF(OR(H323=\"SEN\",H323<1995),VLOOKUP(I323,Feuil1!$G$11:$L$25,6),IF(AND(H323>1994,H323<1998),VLOOKUP(I323,Feuil1!$G$11:$L$25,5),IF(AND(H323>1997,H323<2000),VLOOKUP(I323,Feuil1!$G$11:$L$25,4),IF(AND(H323>1999,H323<2002),VLOOKUP(I323,Feuil1!$G$11:$L$25,3),VLOOKUP(I323,Feuil1!$G$11:$L$25,2)))))))","v":"FS+75"},125.65866683528505,null," ",{"$f":"T323-HLOOKUP(X323,Feuil1!$C$1:$BL$10,2,FALSE)","v":11},{"$f":"T323-HLOOKUP(X323,Feuil1!$C$1:$BL$10,3,FALSE)","v":1},{"$f":"T323-HLOOKUP(X323,Feuil1!$C$1:$BL$10,4,FALSE)","v":-14},{"$f":"T323-HLOOKUP(X323,Feuil1!$C$1:$BL$10,5,FALSE)","v":-29},{"$f":"T323-HLOOKUP(X323,Feuil1!$C$1:$BL$10,6,FALSE)","v":-39},{"$f":"T323-HLOOKUP(X323,Feuil1!$C$1:$BL$10,7,FALSE)","v":-59},{"$f":"T323-HLOOKUP(X323,Feuil1!$C$1:$BL$10,8,FALSE)","v":-79},{"$f":"T323-HLOOKUP(X323,Feuil1!$C$1:$BL$10,9,FALSE)","v":-99},{"$f":"T323-HLOOKUP(X323,Feuil1!$C$1:$BL$10,10,FALSE)","v":-114},null,null,null,null,null,null,"DEP +"]
["F","N","IDF",14,357796,"ARNOULD","AMELIE",1983,79.8,"US METRO","F",45,-50,50,50,60,-67,-67,60,110,-49.599999999999994,"DEP +",0,{"$f":"IF(I324=\"\",\"\",IF(A324=\"H\",IF(OR(H324=\"SEN\",H324<1995),VLOOKUP(I324,Feuil1!$A$11:$F$29,6),IF(AND(H324>1994,H324<1998),VLOOKUP(I324,Feuil1!$A$11:$F$29,5),IF(AND(H324>1997,H324<2000),VLOOKUP(I324,Feuil1!$A$11:$F$29,4),IF(AND(H324>1999,H324<2002),VLOOKUP(I324,Feuil1!$A$11:$F$29,3),VLOOKUP(I324,Feuil1!$A$11:$F$29,2))))),IF(OR(H324=\"SEN\",H324<1995),VLOOKUP(I324,Feuil1!$G$11:$L$25,6),IF(AND(H324>1994,H324<1998),VLOOKUP(I324,Feuil1!$G$11:$L$25,5),IF(AND(H324>1997,H324<2000),VLOOKUP(I324,Feuil1!$G$11:$L$25,4),IF(AND(H324>1999,H324<2002),VLOOKUP(I324,Feuil1!$G$11:$L$25,3),VLOOKUP(I324,Feuil1!$G$11:$L$25,2)))))))","v":"FS+75"},127.64353038326678,null," ",{"$f":"T324-HLOOKUP(X324,Feuil1!$C$1:$BL$10,2,FALSE)","v":10},{"$f":"T324-HLOOKUP(X324,Feuil1!$C$1:$BL$10,3,FALSE)","v":0},{"$f":"T324-HLOOKUP(X324,Feuil1!$C$1:$BL$10,4,FALSE)","v":-15},{"$f":"T324-HLOOKUP(X324,Feuil1!$C$1:$BL$10,5,FALSE)","v":-30},{"$f":"T324-HLOOKUP(X324,Feuil1!$C$1:$BL$10,6,FALSE)","v":-40},{"$f":"T324-HLOOKUP(X324,Feuil1!$C$1:$BL$10,7,FALSE)","v":-60},{"$f":"T324-HLOOKUP(X324,Feuil1!$C$1:$BL$10,8,FALSE)","v":-80},{"$f":"T324-HLOOKUP(X324,Feuil1!$C$1:$BL$10,9,FALSE)","v":-100},{"$f":"T324-HLOOKUP(X324,Feuil1!$C$1:$BL$10,10,FALSE)","v":-115},null,null,null,null,null,null,"DEP +"]
["F","SEST","CAZ",15,377639,"CLAPIER","Helene",1979,79.3,"AS MONACO","F",40,45,-47,45,55,58,60,60,105,-53.599999999999994,"DEB ",5,{"$f":"IF(I325=\"\",\"\",IF(A325=\"H\",IF(OR(H325=\"SEN\",H325<1995),VLOOKUP(I325,Feuil1!$A$11:$F$29,6),IF(AND(H325>1994,H325<1998),VLOOKUP(I325,Feuil1!$A$11:$F$29,5),IF(AND(H325>1997,H325<2000),VLOOKUP(I325,Feuil1!$A$11:$F$29,4),IF(AND(H325>1999,H325<2002),VLOOKUP(I325,Feuil1!$A$11:$F$29,3),VLOOKUP(I325,Feuil1!$A$11:$F$29,2))))),IF(OR(H325=\"SEN\",H325<1995),VLOOKUP(I325,Feuil1!$G$11:$L$25,6),IF(AND(H325>1994,H325<1998),VLOOKUP(I325,Feuil1!$G$11:$L$25,5),IF(AND(H325>1997,H325<2000),VLOOKUP(I325,Feuil1!$G$11:$L$25,4),IF(AND(H325>1999,H325<2002),VLOOKUP(I325,Feuil1!$G$11:$L$25,3),VLOOKUP(I325,Feuil1!$G$11:$L$25,2)))))))","v":"FS+75"},122.21275940995001,null," ",{"$f":"T325-HLOOKUP(X325,Feuil1!$C$1:$BL$10,2,FALSE)","v":5},{"$f":"T325-HLOOKUP(X325,Feuil1!$C$1:$BL$10,3,FALSE)","v":-5},{"$f":"T325-HLOOKUP(X325,Feuil1!$C$1:$BL$10,4,FALSE)","v":-20},{"$f":"T325-HLOOKUP(X325,Feuil1!$C$1:$BL$10,5,FALSE)","v":-35},{"$f":"T325-HLOOKUP(X325,Feuil1!$C$1:$BL$10,6,FALSE)","v":-45},{"$f":"T325-HLOOKUP(X325,Feuil1!$C$1:$BL$10,7,FALSE)","v":-65},{"$f":"T325-HLOOKUP(X325,Feuil1!$C$1:$BL$10,8,FALSE)","v":-85},{"$f":"T325-HLOOKUP(X325,Feuil1!$C$1:$BL$10,9,FALSE)","v":-105},{"$f":"T325-HLOOKUP(X325,Feuil1!$C$1:$BL$10,10,FALSE)","v":-120},null,null,null,null,null,null,"DEB "]
["F","NE","CHA",16,363537,"GERIN ","Larissa",1974,120.4,"Reims HM","F",40,45,-50,45,55,-60,60,60,105,-135.80000000000001,"DEB ",5,{"$f":"IF(I326=\"\",\"\",IF(A326=\"H\",IF(OR(H326=\"SEN\",H326<1995),VLOOKUP(I326,Feuil1!$A$11:$F$29,6),IF(AND(H326>1994,H326<1998),VLOOKUP(I326,Feuil1!$A$11:$F$29,5),IF(AND(H326>1997,H326<2000),VLOOKUP(I326,Feuil1!$A$11:$F$29,4),IF(AND(H326>1999,H326<2002),VLOOKUP(I326,Feuil1!$A$11:$F$29,3),VLOOKUP(I326,Feuil1!$A$11:$F$29,2))))),IF(OR(H326=\"SEN\",H326<1995),VLOOKUP(I326,Feuil1!$G$11:$L$25,6),IF(AND(H326>1994,H326<1998),VLOOKUP(I326,Feuil1!$G$11:$L$25,5),IF(AND(H326>1997,H326<2000),VLOOKUP(I326,Feuil1!$G$11:$L$25,4),IF(AND(H326>1999,H326<2002),VLOOKUP(I326,Feuil1!$G$11:$L$25,3),VLOOKUP(I326,Feuil1!$G$11:$L$25,2)))))))","v":"FS+75"},106.76049867371697,null," ",{"$f":"T326-HLOOKUP(X326,Feuil1!$C$1:$BL$10,2,FALSE)","v":5},{"$f":"T326-HLOOKUP(X326,Feuil1!$C$1:$BL$10,3,FALSE)","v":-5},{"$f":"T326-HLOOKUP(X326,Feuil1!$C$1:$BL$10,4,FALSE)","v":-20},{"$f":"T326-HLOOKUP(X326,Feuil1!$C$1:$BL$10,5,FALSE)","v":-35},{"$f":"T326-HLOOKUP(X326,Feuil1!$C$1:$BL$10,6,FALSE)","v":-45},{"$f":"T326-HLOOKUP(X326,Feuil1!$C$1:$BL$10,7,FALSE)","v":-65},{"$f":"T326-HLOOKUP(X326,Feuil1!$C$1:$BL$10,8,FALSE)","v":-85},{"$f":"T326-HLOOKUP(X326,Feuil1!$C$1:$BL$10,9,FALSE)","v":-105},{"$f":"T326-HLOOKUP(X326,Feuil1!$C$1:$BL$10,10,FALSE)","v":-120},null,null,null,null,null,null,"DEB "]
["F","SO","MPY",17,376232,"ALBERTELLI","Anne - Camille",1986,75.2,"PAMIERS HC","F",30,35,-40,35,50,55,-60,55,90,-60.400000000000006,"DEB ",-10,{"$f":"IF(I327=\"\",\"\",IF(A327=\"H\",IF(OR(H327=\"SEN\",H327<1995),VLOOKUP(I327,Feuil1!$A$11:$F$29,6),IF(AND(H327>1994,H327<1998),VLOOKUP(I327,Feuil1!$A$11:$F$29,5),IF(AND(H327>1997,H327<2000),VLOOKUP(I327,Feuil1!$A$11:$F$29,4),IF(AND(H327>1999,H327<2002),VLOOKUP(I327,Feuil1!$A$11:$F$29,3),VLOOKUP(I327,Feuil1!$A$11:$F$29,2))))),IF(OR(H327=\"SEN\",H327<1995),VLOOKUP(I327,Feuil1!$G$11:$L$25,6),IF(AND(H327>1994,H327<1998),VLOOKUP(I327,Feuil1!$G$11:$L$25,5),IF(AND(H327>1997,H327<2000),VLOOKUP(I327,Feuil1!$G$11:$L$25,4),IF(AND(H327>1999,H327<2002),VLOOKUP(I327,Feuil1!$G$11:$L$25,3),VLOOKUP(I327,Feuil1!$G$11:$L$25,2)))))))","v":"FS+75"},107.61220950696193,null," ",{"$f":"T327-HLOOKUP(X327,Feuil1!$C$1:$BL$10,2,FALSE)","v":-10},{"$f":"T327-HLOOKUP(X327,Feuil1!$C$1:$BL$10,3,FALSE)","v":-20},{"$f":"T327-HLOOKUP(X327,Feuil1!$C$1:$BL$10,4,FALSE)","v":-35},{"$f":"T327-HLOOKUP(X327,Feuil1!$C$1:$BL$10,5,FALSE)","v":-50},{"$f":"T327-HLOOKUP(X327,Feuil1!$C$1:$BL$10,6,FALSE)","v":-60},{"$f":"T327-HLOOKUP(X327,Feuil1!$C$1:$BL$10,7,FALSE)","v":-80},{"$f":"T327-HLOOKUP(X327,Feuil1!$C$1:$BL$10,8,FALSE)","v":-100},{"$f":"T327-HLOOKUP(X327,Feuil1!$C$1:$BL$10,9,FALSE)","v":-120},{"$f":"T327-HLOOKUP(X327,Feuil1!$C$1:$BL$10,10,FALSE)","v":-135},null,null,null,null,null,null,"DEB "]
["F","SEST","CAZ",18,378194,"POCAS","Anne cathe",1980,78.900000000000006,"HC HYERES","F",35,-38,38,38,45,48,52,52,90,-67.800000000000011,"DEB ",-10,{"$f":"IF(I328=\"\",\"\",IF(A328=\"H\",IF(OR(H328=\"SEN\",H328<1995),VLOOKUP(I328,Feuil1!$A$11:$F$29,6),IF(AND(H328>1994,H328<1998),VLOOKUP(I328,Feuil1!$A$11:$F$29,5),IF(AND(H328>1997,H328<2000),VLOOKUP(I328,Feuil1!$A$11:$F$29,4),IF(AND(H328>1999,H328<2002),VLOOKUP(I328,Feuil1!$A$11:$F$29,3),VLOOKUP(I328,Feuil1!$A$11:$F$29,2))))),IF(OR(H328=\"SEN\",H328<1995),VLOOKUP(I328,Feuil1!$G$11:$L$25,6),IF(AND(H328>1994,H328<1998),VLOOKUP(I328,Feuil1!$G$11:$L$25,5),IF(AND(H328>1997,H328<2000),VLOOKUP(I328,Feuil1!$G$11:$L$25,4),IF(AND(H328>1999,H328<2002),VLOOKUP(I328,Feuil1!$G$11:$L$25,3),VLOOKUP(I328,Feuil1!$G$11:$L$25,2)))))))","v":"FS+75"},105.01283460405207,null," ",{"$f":"T328-HLOOKUP(X328,Feuil1!$C$1:$BL$10,2,FALSE)","v":-10},{"$f":"T328-HLOOKUP(X328,Feuil1!$C$1:$BL$10,3,FALSE)","v":-20},{"$f":"T328-HLOOKUP(X328,Feuil1!$C$1:$BL$10,4,FALSE)","v":-35},{"$f":"T328-HLOOKUP(X328,Feuil1!$C$1:$BL$10,5,FALSE)","v":-50},{"$f":"T328-HLOOKUP(X328,Feuil1!$C$1:$BL$10,6,FALSE)","v":-60},{"$f":"T328-HLOOKUP(X328,Feuil1!$C$1:$BL$10,7,FALSE)","v":-80},{"$f":"T328-HLOOKUP(X328,Feuil1!$C$1:$BL$10,8,FALSE)","v":-100},{"$f":"T328-HLOOKUP(X328,Feuil1!$C$1:$BL$10,9,FALSE)","v":-120},{"$f":"T328-HLOOKUP(X328,Feuil1!$C$1:$BL$10,10,FALSE)","v":-135},null,null,null,null,null,null,"DEB "]
["F","N","NPC",19,160407,"FELGUEIRAS","Victoria",1994,90.4,"WINGLES FORME","F",30,35,40,40,40,45,50,50,90,-90.800000000000011,"DEB ",-10,{"$f":"IF(I329=\"\",\"\",IF(A329=\"H\",IF(OR(H329=\"SEN\",H329<1995),VLOOKUP(I329,Feuil1!$A$11:$F$29,6),IF(AND(H329>1994,H329<1998),VLOOKUP(I329,Feuil1!$A$11:$F$29,5),IF(AND(H329>1997,H329<2000),VLOOKUP(I329,Feuil1!$A$11:$F$29,4),IF(AND(H329>1999,H329<2002),VLOOKUP(I329,Feuil1!$A$11:$F$29,3),VLOOKUP(I329,Feuil1!$A$11:$F$29,2))))),IF(OR(H329=\"SEN\",H329<1995),VLOOKUP(I329,Feuil1!$G$11:$L$25,6),IF(AND(H329>1994,H329<1998),VLOOKUP(I329,Feuil1!$G$11:$L$25,5),IF(AND(H329>1997,H329<2000),VLOOKUP(I329,Feuil1!$G$11:$L$25,4),IF(AND(H329>1999,H329<2002),VLOOKUP(I329,Feuil1!$G$11:$L$25,3),VLOOKUP(I329,Feuil1!$G$11:$L$25,2)))))))","v":"FS+75"},98.946083570209382,null," ",{"$f":"T329-HLOOKUP(X329,Feuil1!$C$1:$BL$10,2,FALSE)","v":-10},{"$f":"T329-HLOOKUP(X329,Feuil1!$C$1:$BL$10,3,FALSE)","v":-20},{"$f":"T329-HLOOKUP(X329,Feuil1!$C$1:$BL$10,4,FALSE)","v":-35},{"$f":"T329-HLOOKUP(X329,Feuil1!$C$1:$BL$10,5,FALSE)","v":-50},{"$f":"T329-HLOOKUP(X329,Feuil1!$C$1:$BL$10,6,FALSE)","v":-60},{"$f":"T329-HLOOKUP(X329,Feuil1!$C$1:$BL$10,7,FALSE)","v":-80},{"$f":"T329-HLOOKUP(X329,Feuil1!$C$1:$BL$10,8,FALSE)","v":-100},{"$f":"T329-HLOOKUP(X329,Feuil1!$C$1:$BL$10,9,FALSE)","v":-120},{"$f":"T329-HLOOKUP(X329,Feuil1!$C$1:$BL$10,10,FALSE)","v":-135},null,null,null,null,null,null,"DEB "]
["F","NE","ALS",20,312822,"ROBERT","Manon",1992,77.8,"US Wittenheim","F",35,38,-41,38,48,51,-53,51,89,-66.599999999999994,"DEB ",-11,{"$f":"IF(I330=\"\",\"\",IF(A330=\"H\",IF(OR(H330=\"SEN\",H330<1995),VLOOKUP(I330,Feuil1!$A$11:$F$29,6),IF(AND(H330>1994,H330<1998),VLOOKUP(I330,Feuil1!$A$11:$F$29,5),IF(AND(H330>1997,H330<2000),VLOOKUP(I330,Feuil1!$A$11:$F$29,4),IF(AND(H330>1999,H330<2002),VLOOKUP(I330,Feuil1!$A$11:$F$29,3),VLOOKUP(I330,Feuil1!$A$11:$F$29,2))))),IF(OR(H330=\"SEN\",H330<1995),VLOOKUP(I330,Feuil1!$G$11:$L$25,6),IF(AND(H330>1994,H330<1998),VLOOKUP(I330,Feuil1!$G$11:$L$25,5),IF(AND(H330>1997,H330<2000),VLOOKUP(I330,Feuil1!$G$11:$L$25,4),IF(AND(H330>1999,H330<2002),VLOOKUP(I330,Feuil1!$G$11:$L$25,3),VLOOKUP(I330,Feuil1!$G$11:$L$25,2)))))))","v":"FS+75"},104.57147627788214,null," ",{"$f":"T330-HLOOKUP(X330,Feuil1!$C$1:$BL$10,2,FALSE)","v":-11},{"$f":"T330-HLOOKUP(X330,Feuil1!$C$1:$BL$10,3,FALSE)","v":-21},{"$f":"T330-HLOOKUP(X330,Feuil1!$C$1:$BL$10,4,FALSE)","v":-36},{"$f":"T330-HLOOKUP(X330,Feuil1!$C$1:$BL$10,5,FALSE)","v":-51},{"$f":"T330-HLOOKUP(X330,Feuil1!$C$1:$BL$10,6,FALSE)","v":-61},{"$f":"T330-HLOOKUP(X330,Feuil1!$C$1:$BL$10,7,FALSE)","v":-81},{"$f":"T330-HLOOKUP(X330,Feuil1!$C$1:$BL$10,8,FALSE)","v":-101},{"$f":"T330-HLOOKUP(X330,Feuil1!$C$1:$BL$10,9,FALSE)","v":-121},{"$f":"T330-HLOOKUP(X330,Feuil1!$C$1:$BL$10,10,FALSE)","v":-136},null,null,null,null,null,null,"DEB "]
["F","SO","AQU",21,390209,"PASZAK","Angélique",1990,91,"ASOA Aquitaine","F",30,32,35,35,40,43,46,46,81,-101,"DEB ",-19,{"$f":"IF(I331=\"\",\"\",IF(A331=\"H\",IF(OR(H331=\"SEN\",H331<1995),VLOOKUP(I331,Feuil1!$A$11:$F$29,6),IF(AND(H331>1994,H331<1998),VLOOKUP(I331,Feuil1!$A$11:$F$29,5),IF(AND(H331>1997,H331<2000),VLOOKUP(I331,Feuil1!$A$11:$F$29,4),IF(AND(H331>1999,H331<2002),VLOOKUP(I331,Feuil1!$A$11:$F$29,3),VLOOKUP(I331,Feuil1!$A$11:$F$29,2))))),IF(OR(H331=\"SEN\",H331<1995),VLOOKUP(I331,Feuil1!$G$11:$L$25,6),IF(AND(H331>1994,H331<1998),VLOOKUP(I331,Feuil1!$G$11:$L$25,5),IF(AND(H331>1997,H331<2000),VLOOKUP(I331,Feuil1!$G$11:$L$25,4),IF(AND(H331>1999,H331<2002),VLOOKUP(I331,Feuil1!$G$11:$L$25,3),VLOOKUP(I331,Feuil1!$G$11:$L$25,2)))))))","v":"FS+75"},88.826868820722268,null," ",{"$f":"T331-HLOOKUP(X331,Feuil1!$C$1:$BL$10,2,FALSE)","v":-19},{"$f":"T331-HLOOKUP(X331,Feuil1!$C$1:$BL$10,3,FALSE)","v":-29},{"$f":"T331-HLOOKUP(X331,Feuil1!$C$1:$BL$10,4,FALSE)","v":-44},{"$f":"T331-HLOOKUP(X331,Feuil1!$C$1:$BL$10,5,FALSE)","v":-59},{"$f":"T331-HLOOKUP(X331,Feuil1!$C$1:$BL$10,6,FALSE)","v":-69},{"$f":"T331-HLOOKUP(X331,Feuil1!$C$1:$BL$10,7,FALSE)","v":-89},{"$f":"T331-HLOOKUP(X331,Feuil1!$C$1:$BL$10,8,FALSE)","v":-109},{"$f":"T331-HLOOKUP(X331,Feuil1!$C$1:$BL$10,9,FALSE)","v":-129},{"$f":"T331-HLOOKUP(X331,Feuil1!$C$1:$BL$10,10,FALSE)","v":-144},null,null,null,null,null,null,"DEB "]
["F","NE","ALS",22,689,"GRIMM FERON","PASCALE",1962,94.4,"ASPTT Strasbourg","F",31,34,36,36,38,42,45,45,81,-107.80000000000001,"DEB ",-19,{"$f":"IF(I332=\"\",\"\",IF(A332=\"H\",IF(OR(H332=\"SEN\",H332<1995),VLOOKUP(I332,Feuil1!$A$11:$F$29,6),IF(AND(H332>1994,H332<1998),VLOOKUP(I332,Feuil1!$A$11:$F$29,5),IF(AND(H332>1997,H332<2000),VLOOKUP(I332,Feuil1!$A$11:$F$29,4),IF(AND(H332>1999,H332<2002),VLOOKUP(I332,Feuil1!$A$11:$F$29,3),VLOOKUP(I332,Feuil1!$A$11:$F$29,2))))),IF(OR(H332=\"SEN\",H332<1995),VLOOKUP(I332,Feuil1!$G$11:$L$25,6),IF(AND(H332>1994,H332<1998),VLOOKUP(I332,Feuil1!$G$11:$L$25,5),IF(AND(H332>1997,H332<2000),VLOOKUP(I332,Feuil1!$G$11:$L$25,4),IF(AND(H332>1999,H332<2002),VLOOKUP(I332,Feuil1!$G$11:$L$25,3),VLOOKUP(I332,Feuil1!$G$11:$L$25,2)))))))","v":"FS+75"},87.645890315606152,null," ",{"$f":"T332-HLOOKUP(X332,Feuil1!$C$1:$BL$10,2,FALSE)","v":-19},{"$f":"T332-HLOOKUP(X332,Feuil1!$C$1:$BL$10,3,FALSE)","v":-29},{"$f":"T332-HLOOKUP(X332,Feuil1!$C$1:$BL$10,4,FALSE)","v":-44},{"$f":"T332-HLOOKUP(X332,Feuil1!$C$1:$BL$10,5,FALSE)","v":-59},{"$f":"T332-HLOOKUP(X332,Feuil1!$C$1:$BL$10,6,FALSE)","v":-69},{"$f":"T332-HLOOKUP(X332,Feuil1!$C$1:$BL$10,7,FALSE)","v":-89},{"$f":"T332-HLOOKUP(X332,Feuil1!$C$1:$BL$10,8,FALSE)","v":-109},{"$f":"T332-HLOOKUP(X332,Feuil1!$C$1:$BL$10,9,FALSE)","v":-129},{"$f":"T332-HLOOKUP(X332,Feuil1!$C$1:$BL$10,10,FALSE)","v":-144},null,null,null,null,null,null,"DEB "]
["F","N","IDF",23,384463,"ZANON","CAROLINE",1994,75.8,"MELUN","F",35,-40,-40,35,35,40,45,45,80,-71.599999999999994,"DEB ",-20,{"$f":"IF(I333=\"\",\"\",IF(A333=\"H\",IF(OR(H333=\"SEN\",H333<1995),VLOOKUP(I333,Feuil1!$A$11:$F$29,6),IF(AND(H333>1994,H333<1998),VLOOKUP(I333,Feuil1!$A$11:$F$29,5),IF(AND(H333>1997,H333<2000),VLOOKUP(I333,Feuil1!$A$11:$F$29,4),IF(AND(H333>1999,H333<2002),VLOOKUP(I333,Feuil1!$A$11:$F$29,3),VLOOKUP(I333,Feuil1!$A$11:$F$29,2))))),IF(OR(H333=\"SEN\",H333<1995),VLOOKUP(I333,Feuil1!$G$11:$L$25,6),IF(AND(H333>1994,H333<1998),VLOOKUP(I333,Feuil1!$G$11:$L$25,5),IF(AND(H333>1997,H333<2000),VLOOKUP(I333,Feuil1!$G$11:$L$25,4),IF(AND(H333>1999,H333<2002),VLOOKUP(I333,Feuil1!$G$11:$L$25,3),VLOOKUP(I333,Feuil1!$G$11:$L$25,2)))))))","v":"FS+75"},95.257255910451676,null," ",{"$f":"T333-HLOOKUP(X333,Feuil1!$C$1:$BL$10,2,FALSE)","v":-20},{"$f":"T333-HLOOKUP(X333,Feuil1!$C$1:$BL$10,3,FALSE)","v":-30},{"$f":"T333-HLOOKUP(X333,Feuil1!$C$1:$BL$10,4,FALSE)","v":-45},{"$f":"T333-HLOOKUP(X333,Feuil1!$C$1:$BL$10,5,FALSE)","v":-60},{"$f":"T333-HLOOKUP(X333,Feuil1!$C$1:$BL$10,6,FALSE)","v":-70},{"$f":"T333-HLOOKUP(X333,Feuil1!$C$1:$BL$10,7,FALSE)","v":-90},{"$f":"T333-HLOOKUP(X333,Feuil1!$C$1:$BL$10,8,FALSE)","v":-110},{"$f":"T333-HLOOKUP(X333,Feuil1!$C$1:$BL$10,9,FALSE)","v":-130},{"$f":"T333-HLOOKUP(X333,Feuil1!$C$1:$BL$10,10,FALSE)","v":-145},null,null,null,null,null,null,"DEB "]
["F","SEST","RAL",24,328836,"GAILLOT","Elodie",1994,75.45,"ENTENTE VIRIAT","F",32,35,-37,35,40,-44,44,44,79,-71.900000000000006,"DEB ",-21,{"$f":"IF(I334=\"\",\"\",IF(A334=\"H\",IF(OR(H334=\"SEN\",H334<1995),VLOOKUP(I334,Feuil1!$A$11:$F$29,6),IF(AND(H334>1994,H334<1998),VLOOKUP(I334,Feuil1!$A$11:$F$29,5),IF(AND(H334>1997,H334<2000),VLOOKUP(I334,Feuil1!$A$11:$F$29,4),IF(AND(H334>1999,H334<2002),VLOOKUP(I334,Feuil1!$A$11:$F$29,3),VLOOKUP(I334,Feuil1!$A$11:$F$29,2))))),IF(OR(H334=\"SEN\",H334<1995),VLOOKUP(I334,Feuil1!$G$11:$L$25,6),IF(AND(H334>1994,H334<1998),VLOOKUP(I334,Feuil1!$G$11:$L$25,5),IF(AND(H334>1997,H334<2000),VLOOKUP(I334,Feuil1!$G$11:$L$25,4),IF(AND(H334>1999,H334<2002),VLOOKUP(I334,Feuil1!$G$11:$L$25,3),VLOOKUP(I334,Feuil1!$G$11:$L$25,2)))))))","v":"FS+75"},94.294685119560924,null," ",{"$f":"T334-HLOOKUP(X334,Feuil1!$C$1:$BL$10,2,FALSE)","v":-21},{"$f":"T334-HLOOKUP(X334,Feuil1!$C$1:$BL$10,3,FALSE)","v":-31},{"$f":"T334-HLOOKUP(X334,Feuil1!$C$1:$BL$10,4,FALSE)","v":-46},{"$f":"T334-HLOOKUP(X334,Feuil1!$C$1:$BL$10,5,FALSE)","v":-61},{"$f":"T334-HLOOKUP(X334,Feuil1!$C$1:$BL$10,6,FALSE)","v":-71},{"$f":"T334-HLOOKUP(X334,Feuil1!$C$1:$BL$10,7,FALSE)","v":-91},{"$f":"T334-HLOOKUP(X334,Feuil1!$C$1:$BL$10,8,FALSE)","v":-111},{"$f":"T334-HLOOKUP(X334,Feuil1!$C$1:$BL$10,9,FALSE)","v":-131},{"$f":"T334-HLOOKUP(X334,Feuil1!$C$1:$BL$10,10,FALSE)","v":-146},null,null,null,null,null,null,"DEB "]
["F","SO","AQU",25,389305,"PEREIRA","Marlène",1991,83.8,"ASOA Aquitaine","F",30,32,-35,32,40,43,46,46,78,-89.6,"DEB ",-22,{"$f":"IF(I335=\"\",\"\",IF(A335=\"H\",IF(OR(H335=\"SEN\",H335<1995),VLOOKUP(I335,Feuil1!$A$11:$F$29,6),IF(AND(H335>1994,H335<1998),VLOOKUP(I335,Feuil1!$A$11:$F$29,5),IF(AND(H335>1997,H335<2000),VLOOKUP(I335,Feuil1!$A$11:$F$29,4),IF(AND(H335>1999,H335<2002),VLOOKUP(I335,Feuil1!$A$11:$F$29,3),VLOOKUP(I335,Feuil1!$A$11:$F$29,2))))),IF(OR(H335=\"SEN\",H335<1995),VLOOKUP(I335,Feuil1!$G$11:$L$25,6),IF(AND(H335>1994,H335<1998),VLOOKUP(I335,Feuil1!$G$11:$L$25,5),IF(AND(H335>1997,H335<2000),VLOOKUP(I335,Feuil1!$G$11:$L$25,4),IF(AND(H335>1999,H335<2002),VLOOKUP(I335,Feuil1!$G$11:$L$25,3),VLOOKUP(I335,Feuil1!$G$11:$L$25,2)))))))","v":"FS+75"},88.486547338360879,null," ",{"$f":"T335-HLOOKUP(X335,Feuil1!$C$1:$BL$10,2,FALSE)","v":-22},{"$f":"T335-HLOOKUP(X335,Feuil1!$C$1:$BL$10,3,FALSE)","v":-32},{"$f":"T335-HLOOKUP(X335,Feuil1!$C$1:$BL$10,4,FALSE)","v":-47},{"$f":"T335-HLOOKUP(X335,Feuil1!$C$1:$BL$10,5,FALSE)","v":-62},{"$f":"T335-HLOOKUP(X335,Feuil1!$C$1:$BL$10,6,FALSE)","v":-72},{"$f":"T335-HLOOKUP(X335,Feuil1!$C$1:$BL$10,7,FALSE)","v":-92},{"$f":"T335-HLOOKUP(X335,Feuil1!$C$1:$BL$10,8,FALSE)","v":-112},{"$f":"T335-HLOOKUP(X335,Feuil1!$C$1:$BL$10,9,FALSE)","v":-132},{"$f":"T335-HLOOKUP(X335,Feuil1!$C$1:$BL$10,10,FALSE)","v":-147},null,null,null,null,null,null,"DEB "]
["F","N","IDF",26,373878,"BARKATI","HEGER",1985,83.87,"CHAVILLE","F",25,30,-35,30,35,40,45,45,75,-92.740000000000009,"DEB ",-25,{"$f":"IF(I336=\"\",\"\",IF(A336=\"H\",IF(OR(H336=\"SEN\",H336<1995),VLOOKUP(I336,Feuil1!$A$11:$F$29,6),IF(AND(H336>1994,H336<1998),VLOOKUP(I336,Feuil1!$A$11:$F$29,5),IF(AND(H336>1997,H336<2000),VLOOKUP(I336,Feuil1!$A$11:$F$29,4),IF(AND(H336>1999,H336<2002),VLOOKUP(I336,Feuil1!$A$11:$F$29,3),VLOOKUP(I336,Feuil1!$A$11:$F$29,2))))),IF(OR(H336=\"SEN\",H336<1995),VLOOKUP(I336,Feuil1!$G$11:$L$25,6),IF(AND(H336>1994,H336<1998),VLOOKUP(I336,Feuil1!$G$11:$L$25,5),IF(AND(H336>1997,H336<2000),VLOOKUP(I336,Feuil1!$G$11:$L$25,4),IF(AND(H336>1999,H336<2002),VLOOKUP(I336,Feuil1!$G$11:$L$25,3),VLOOKUP(I336,Feuil1!$G$11:$L$25,2)))))))","v":"FS+75"},85.051746306804489,null," ",{"$f":"T336-HLOOKUP(X336,Feuil1!$C$1:$BL$10,2,FALSE)","v":-25},{"$f":"T336-HLOOKUP(X336,Feuil1!$C$1:$BL$10,3,FALSE)","v":-35},{"$f":"T336-HLOOKUP(X336,Feuil1!$C$1:$BL$10,4,FALSE)","v":-50},{"$f":"T336-HLOOKUP(X336,Feuil1!$C$1:$BL$10,5,FALSE)","v":-65},{"$f":"T336-HLOOKUP(X336,Feuil1!$C$1:$BL$10,6,FALSE)","v":-75},{"$f":"T336-HLOOKUP(X336,Feuil1!$C$1:$BL$10,7,FALSE)","v":-95},{"$f":"T336-HLOOKUP(X336,Feuil1!$C$1:$BL$10,8,FALSE)","v":-115},{"$f":"T336-HLOOKUP(X336,Feuil1!$C$1:$BL$10,9,FALSE)","v":-135},{"$f":"T336-HLOOKUP(X336,Feuil1!$C$1:$BL$10,10,FALSE)","v":-150},null,null,null,null,null,null,"DEB "]
["F","CO","PDL",27,379720,"DERUGNY","Violette",1981,80.5,"saint herblain","F",26,28,30,30,33,36,39,39,69,-92,"DEB ",-31,{"$f":"IF(I337=\"\",\"\",IF(A337=\"H\",IF(OR(H337=\"SEN\",H337<1995),VLOOKUP(I337,Feuil1!$A$11:$F$29,6),IF(AND(H337>1994,H337<1998),VLOOKUP(I337,Feuil1!$A$11:$F$29,5),IF(AND(H337>1997,H337<2000),VLOOKUP(I337,Feuil1!$A$11:$F$29,4),IF(AND(H337>1999,H337<2002),VLOOKUP(I337,Feuil1!$A$11:$F$29,3),VLOOKUP(I337,Feuil1!$A$11:$F$29,2))))),IF(OR(H337=\"SEN\",H337<1995),VLOOKUP(I337,Feuil1!$G$11:$L$25,6),IF(AND(H337>1994,H337<1998),VLOOKUP(I337,Feuil1!$G$11:$L$25,5),IF(AND(H337>1997,H337<2000),VLOOKUP(I337,Feuil1!$G$11:$L$25,4),IF(AND(H337>1999,H337<2002),VLOOKUP(I337,Feuil1!$G$11:$L$25,3),VLOOKUP(I337,Feuil1!$G$11:$L$25,2)))))))","v":"FS+75"},79.733654856928851,null," ",{"$f":"T337-HLOOKUP(X337,Feuil1!$C$1:$BL$10,2,FALSE)","v":-31},{"$f":"T337-HLOOKUP(X337,Feuil1!$C$1:$BL$10,3,FALSE)","v":-41},{"$f":"T337-HLOOKUP(X337,Feuil1!$C$1:$BL$10,4,FALSE)","v":-56},{"$f":"T337-HLOOKUP(X337,Feuil1!$C$1:$BL$10,5,FALSE)","v":-71},{"$f":"T337-HLOOKUP(X337,Feuil1!$C$1:$BL$10,6,FALSE)","v":-81},{"$f":"T337-HLOOKUP(X337,Feuil1!$C$1:$BL$10,7,FALSE)","v":-101},{"$f":"T337-HLOOKUP(X337,Feuil1!$C$1:$BL$10,8,FALSE)","v":-121},{"$f":"T337-HLOOKUP(X337,Feuil1!$C$1:$BL$10,9,FALSE)","v":-141},{"$f":"T337-HLOOKUP(X337,Feuil1!$C$1:$BL$10,10,FALSE)","v":-156},null,null,null,null,null,null,"DEB "]
["F","NE","ALS",28,385635,"MEYER","AUDREY",1986,88.5,"ASI Avenir HM","F",23,26,29,29,30,33,35,35,64,-113,"DEB ",-36,{"$f":"IF(I338=\"\",\"\",IF(A338=\"H\",IF(OR(H338=\"SEN\",H338<1995),VLOOKUP(I338,Feuil1!$A$11:$F$29,6),IF(AND(H338>1994,H338<1998),VLOOKUP(I338,Feuil1!$A$11:$F$29,5),IF(AND(H338>1997,H338<2000),VLOOKUP(I338,Feuil1!$A$11:$F$29,4),IF(AND(H338>1999,H338<2002),VLOOKUP(I338,Feuil1!$A$11:$F$29,3),VLOOKUP(I338,Feuil1!$A$11:$F$29,2))))),IF(OR(H338=\"SEN\",H338<1995),VLOOKUP(I338,Feuil1!$G$11:$L$25,6),IF(AND(H338>1994,H338<1998),VLOOKUP(I338,Feuil1!$G$11:$L$25,5),IF(AND(H338>1997,H338<2000),VLOOKUP(I338,Feuil1!$G$11:$L$25,4),IF(AND(H338>1999,H338<2002),VLOOKUP(I338,Feuil1!$G$11:$L$25,3),VLOOKUP(I338,Feuil1!$G$11:$L$25,2)))))))","v":"FS+75"},70.950907828041878,null," ",{"$f":"T338-HLOOKUP(X338,Feuil1!$C$1:$BL$10,2,FALSE)","v":-36},{"$f":"T338-HLOOKUP(X338,Feuil1!$C$1:$BL$10,3,FALSE)","v":-46},{"$f":"T338-HLOOKUP(X338,Feuil1!$C$1:$BL$10,4,FALSE)","v":-61},{"$f":"T338-HLOOKUP(X338,Feuil1!$C$1:$BL$10,5,FALSE)","v":-76},{"$f":"T338-HLOOKUP(X338,Feuil1!$C$1:$BL$10,6,FALSE)","v":-86},{"$f":"T338-HLOOKUP(X338,Feuil1!$C$1:$BL$10,7,FALSE)","v":-106},{"$f":"T338-HLOOKUP(X338,Feuil1!$C$1:$BL$10,8,FALSE)","v":-126},{"$f":"T338-HLOOKUP(X338,Feuil1!$C$1:$BL$10,9,FALSE)","v":-146},{"$f":"T338-HLOOKUP(X338,Feuil1!$C$1:$BL$10,10,FALSE)","v":-161},null,null,null,null,null,null,"DEB "]
[null,null,null,null,null,null,null,null,null,null,null,null,null,null,null,null,null,null,null,null,null,null,null,null,null,null," ",{"$f":"T339-HLOOKUP(X339,Feuil1!$C$1:$BL$10,2,FALSE)","v":{"$error":"#N/A"}},{"$f":"T339-HLOOKUP(X339,Feuil1!$C$1:$BL$10,3,FALSE)","v":{"$error":"#N/A"}},{"$f":"T339-HLOOKUP(X339,Feuil1!$C$1:$BL$10,4,FALSE)","v":{"$error":"#N/A"}},{"$f":"T339-HLOOKUP(X339,Feuil1!$C$1:$BL$10,5,FALSE)","v":{"$error":"#N/A"}},{"$f":"T339-HLOOKUP(X339,Feuil1!$C$1:$BL$10,6,FALSE)","v":{"$error":"#N/A"}},{"$f":"T339-HLOOKUP(X339,Feuil1!$C$1:$BL$10,7,FALSE)","v":{"$error":"#N/A"}},{"$f":"T339-HLOOKUP(X339,Feuil1!$C$1:$BL$10,8,FALSE)","v":{"$error":"#N/A"}},{"$f":"T339-HLOOKUP(X339,Feuil1!$C$1:$BL$10,9,FALSE)","v":{"$error":"#N/A"}},{"$f":"T339-HLOOKUP(X339,Feuil1!$C$1:$BL$10,10,FALSE)","v":{"$error":"#N/A"}},null,null,null,null,null,null,{"$f":"IF(AJ339>=0,$AJ$4,IF(AI339>=0,$AI$4,IF(AH339>=0,$AH$4,IF(AG339>=0,$AG$4,IF(AF339>=0,$AF$4,IF(AE339>=0,$AE$4,IF(AD339>=0,$AD$4,IF(AC339>=0,$AC$4,$AB$4))))))))","v":{"$error":"#N/A"}}]
[]
[]
[]
[]
[]
[]
[]
[]
[]
[]
[]
[]
[]
[]
[]
[]
[]
[]
[]
[]
[]
[]
[]
[]
[]
[]
[]
[]
[]
[]
[]
[]
[]
[]
[]
[]
[]
[]
[]
[]
[]
[]
[]
[]
[]
[]
[]
[]
[]
[]
[]
[]
[]
[]
[]
[]
[]
[]
[]
[]
[]
[]
[]
[]
[]
[]
[]
[]
[]
[]
[]
[]
[]
[]
[]
[]
[]
[]
[]
[]
[]
[]
[]
[]
[]
[]
[]
[]
[]
[]
[]
[]
[]
[]
[]
[]
[]
[]
[]
[]
[]
[]
[]
[]
[]
[]
[]
[]
[]
[]
[]
[]
[]
[]
[]
[]
[]
[]
[]
[]
[]
[]
[]
[]
[]
[]
[]
[]
[]
[]
[]
[]
[]
[]
[]
[]
[]
[]
[]
[]
[]
[]
[]
[]
[]
[]
[]
[]
[]
[]
[]
[]
[]
[]
[]
[]
[]
[]
[]
[]
[]
[]
[]
[]
[]
[]
[]
[]
[]
[]
[]
[]
[]
[]
[]
[]
[]
[]
[]
[]
[]
[]
[]
[]
[]
[]
[]
[]
[]
[]
[]
[]
[]
[]
[]
[]
[]
[]
[]
[]
[]
[]
[]
[]
[]
[]
[]
[]
[]
[]
[]
[]
[]
[]
[]
[]
[]
[]
[]
[]
[]
[]
[]
[]
[]
[]
[]
[]
[]
[]
[]
[]
[]
[]
[]
[]
[]
[]
[]
[]
[]
[]
[]
[]
[]
[]
[]
[]
[]
[]
[]
[]
[]
[]
[]
[]
[]
[]
[]
[]
[]
[]
[]
[]
[]
[]
[]
[]
[]
[]
[]
[]
[]
[]
[]
[]
[]
[]
[]
[]
[]
[]
[]
[]
[]
[]
[]
[]
[]
[]
[]
[]
[]
[]
[]
[]
[]
[]
[]
[]
[]
[]
[]
[]
[]
[]
[]
[]
[]
[]
[]
[]
[]
[]
[]
[]
[]
[]
[]
[]
[]
[]
[]
[]
[]
[]
[]
[]
[]
[]
[]
[]
[]
[]
[]
[]
[]
[]
[]
[]
[]
[]
[]
[]
[]
[]
[]
[]
[]
[]
[]
[]
[]
[]
[]
[]
[]
[]
[]
[]
[]
[]
[]
[]
[]
[]
[]
[]
[]
[]
[]
[]
[]
[]
[]
[]
[]
[]
[]
[]
[]
[]
[]
[]
[]
[]
[]
[]
[]
[]
[]
[]
[null,null,null,null,null,null,null,null,null,null,null,null,null,null,null,null,null,null,null,null,null,null,null,null,null,null,null,"J77","J85","J94","J105","J+105",null,"J56","J62","J69","J77","J85","J94","J105","J+105",null,"S56","S62","S69","S77","S85","S94","S105","S+105"]
[null,null,null,null,null,null,null,null,null,null,null,null,null,null,null,null,null,null,null,null,null,null,null,null,null,null,null,145,160,170,180,190,null,100,115,130,145,160,170,180,190,null,115,135,150,165,180,190,200,210]
[null,null,null,null,null,null,null,null,null,null,null,null,null,null,null,null,null,null,null,null,null,null,null,null,null,null,null,165,180,190,200,210,null,115,135,150,165,180,190,200,210,null,130,150,165,185,200,210,220,230]
[null,null,null,null,null,null,null,null,null,null,null,null,null,null,null,null,null,null,null,null,null,null,null,null,null,null,null,185,200,210,220,230,null,130,150,165,185,200,210,220,230,null,145,165,180,200,220,230,240,250]
[null,null,null,null,null,null,null,null,null,null,null,null,null,null,null,null,null,null,null,null,null,null,null,null,null,null,null,200,220,230,240,250,null,145,165,180,200,220,230,240,250,null,175,195,215,235,250,260,275,280]
[null,null,null,null,null,null,null,null,null,null,null,null,null,null,null,null,null,null,null,null,null,null,null,null,null,null,null,235,250,260,275,280,null,175,195,215,235,250,260,275,280,null,210,230,250,270,290,300,310,325]
[null,null,null,null,null,null,null,null,null,null,null,null,null,null,null,null,null,null,null,null,null,null,null,null,null,null,null,270,290,300,310,325,null,210,230,250,270,290,300,310,325,null,230,255,275,300,315,335,345,355]
[null,null,null,null,null,null,null,null,null,null,null,null,null,null,null,null,null,null,null,null,null,null,null,null,null,null,null,320,335,355,370,380,null,245,270,295,320,335,355,370,380,null,245,270,295,320,335,355,370,380]