{"text_format":"1","workbook":"xlsx","n_sheets":5,"sheets":["Feuil1","CADETS 1","CADETS 2","JUNIORS","SENIORS"],"not_rendered":{"charts":0,"images":0,"macros":1,"external_links":0,"defined_names":8,"comments":4,"pivot_tables":0},"unopened":[],"bounds":{"document_bytes":16777216,"sheet_cells":100000,"rows_first":2000,"rows_last":500,"rows_between":2000,"halvings":0,"cell_chars":16384,"cell_head_chars":4096},"cells_cut":0,"cells_raw":0,"read":"whole","date_system":"1900"}

{"sheet":"Feuil1","index":0,"n_rows":29,"n_cols":64,"rows_kept":29,"cut":false,"hidden":true,"merged":[]}
[null,null,"FC1 40","FC1 44","FC1 48","FC1 53","FC1 58","FC1 63","FC1 69","FC1 +69","FC2 44","FC2 48","FC2 53","FC2 58","FC2 63","FC2 69","FC2 +69","FJ48","FJ53","FJ58","FJ63","FJ69","FJ75","FJ+75","FS48","FS53","FS58","FS63","FS69","FS75","FS+75","C1 45","C1 50","C1 56","C1 62","C1 69","C1 77","C1 85","C1 94","C1 +94","C2 50","C2 56","C2 62","C2 69","C2 77","C2 85","C2 94","C2 +94","J56","J62","J69","J77","J85","J94","J105","J+105","S56","S62","S69","S77","S85","S94","S105","S+105"]
[null,"DEBUTANT",20,25,25,35,40,45,50,60,30,35,45,50,55,60,70,45,55,60,65,70,80,90,55,65,70,75,80,95,100,35,40,50,75,85,90,100,110,120,45,65,85,95,110,120,125,135,80,90,110,130,145,150,155,165,95,120,130,150,165,170,175,185]
[null,"DEPARTEMENTAL",25,35,35,45,50,55,60,70,40,45,55,60,65,70,80,55,65,70,75,80,95,100,65,75,80,85,90,105,110,50,55,70,95,105,110,120,130,140,65,85,105,115,130,140,145,155,100,120,130,150,165,170,175,185,115,135,150,170,185,190,195,205]
[null,"REGIONAL",35,40,45,55,60,65,70,80,50,55,65,70,75,80,95,65,75,80,85,90,105,110,75,85,90,95,105,115,125,60,65,85,105,115,130,140,145,155,80,100,120,130,150,160,165,175,115,135,150,170,185,190,195,205,130,150,170,190,205,215,220,225]
[null,"INTERREGIONAL",45,50,55,65,70,75,80,95,60,65,75,80,85,90,105,75,85,90,95,105,115,125,85,95,100,110,120,130,140,75,80,100,120,130,150,160,165,175,95,115,135,150,170,180,185,195,130,150,170,190,205,215,220,225,145,170,190,210,225,235,245,250]
[null,"FEDERAL",50,60,65,75,80,85,90,105,70,75,85,90,95,105,115,85,95,100,110,120,130,140,95,105,115,125,135,145,150,90,95,115,135,150,170,180,185,195,110,130,150,170,185,200,210,220,145,170,190,210,225,235,245,250,170,190,220,240,250,260,270,280]
[null,"NATIONAL",60,70,75,85,90,95,105,115,80,85,95,100,110,120,130,95,105,115,125,135,145,150,110,120,130,140,150,160,170,105,110,130,150,170,185,200,210,220,120,145,170,190,200,220,225,235,170,190,220,240,250,260,270,280,190,210,240,265,280,290,300,310]
[null,"INTERNATIONAL B",70,80,85,95,100,110,120,130,90,95,105,115,125,135,145,110,120,130,140,150,160,170,125,140,150,160,170,180,190,115,120,145,170,190,200,220,225,235,135,170,190,210,220,240,250,260,190,210,240,260,280,290,300,310,210,230,260,285,300,310,325,330]
[null,"INTERNATIONAL A",80,90,95,105,115,125,135,145,100,110,120,130,140,150,160,125,135,150,160,170,180,190,140,160,170,180,190,195,210,130,135,170,190,210,220,240,250,260,150,190,210,230,250,260,280,280,210,230,250,285,300,310,325,330,225,255,275,305,325,330,345,355]
[null,"OLYMPIQUE",1000,1000,1000,1000,1000,1000,1000,1000,1000,1000,1000,1000,1000,1000,1000,1000,1000,1000,1000,1000,1000,1000,155,175,190,200,205,210,225,1000,1000,1000,1000,1000,1000,10000,1000,1000,1000,1000,1000,1000,1000,10000,1000,1000,1000,1000,1000,10000,1000,1000,1000,10000,240,270,290,320,345,355,365,375]
[null,"MINIME","CADET","CADET","JUNIOR","SENIOR",null,"MINIME","CADETTE","CADETTE","JUNIOR","SENIOR"]
[20.010000000000002,"NON","C1 45","C2 50","J56","S56",20.010000000000002,"NON","FC1 40","FC2 44","FJ48","FS48"]
[34.01,"NON","C1 45","C2 50","J56","S56",30.01,"NON","FC1 40","FC2 44","FJ48","FS48"]
[38.01,"NON","C1 45","C2 50","J56","S56",35.01,"NON","FC1 40","FC2 44","FJ48","FS48"]
[40.01,"NON","C1 45","C2 50","J56","S56",36.01,"NON","FC1 40","FC2 44","FJ48","FS48"]
[45.01,"NON","C1 50","C2 50","J56","S56",40.01,"NON","FC1 44","FC2 44","FJ48","FS48"]
[50.01,"NON","C1 56","C2 56","J56","S56",44.01,"NON","FC1 48","FC2 48","FJ48","FS48"]
[52.05,"NON","C1 56","C2 56","J56","S56",48.01,"NON","FC1 53","FC2 53","FJ53","FS53"]
[56.01,"NON","C1 62","C2 62","J62","S62",53.01,"NON","FC1 58","FC2 58","FJ58","FS58"]
[62.01,"NON","C1 69","C2 69","J69","S69",58.01,"NON","FC1 63","FC2 63","FJ63","FS63"]
[69.010000000000005,"NON","C1 77","C2 77","J77","S77",63.01,"NON","FC1 69","FC2 69","FJ69","FS69"]
[77.010000000000005,"NON","C1 85","C2 85","J85","S85",69.010000000000005,"NON","FC1 +69","FC2 +69","FJ75","FS75"]
[85.01,"NON","C1 94","C2 94","J94","S94",75.010000000000005,"NON","FC1 +69","FC2 +69","FJ+75","FS+75"]
[94.01,"NON","C1 +94","C2 +94","J105","S105",110,"NON","FC1 +69","FC2 +69","FJ+75","FS+75"]
[105.01,"NON","C1 +94","C2 +94","J+105","S+105",140,"NON","FC1 +69","FC2 +69","FJ+75","FS+75"]
[110,"NON","C1 +94","C2 +94","J+105","S+105"]
[120,"NON","C1 +94","C2 +94","J+105","S+105"]
[130,"NON","C1 +94","C2 +94","J+105","S+105"]
[140,"NON","C1 +94","C2 +94","J+105","S+105",null,null,null,null,null,null,null,null,null,null,null,null,null,null,null,null,null,null,null,null,null,null,null,null,null,null,null," "]

{"sheet":"CADETS 1","index":1,"n_rows":518,"n_cols":50,"rows_kept":518,"cut":false,"hidden":false,"merged":[[3,21,3,22],[0,7,0,14],[0,18,0,21],[1,6,1,10],[1,11,1,13],[1,14,1,17],[1,18,1,19],[1,21,1,22]]}
[null,null,null,null,null,null,null,"Championnat de Zone de Printemps ",null,null,null,null,null,null,null,null,"DATE :",null,"2015-04-05"]
[null,null,null,null,null," ","CLASSEMENT NATIONAL des ZONES"]
[]
["SEXE","ZONE","REG.","CL.","LICENCE","NOMS","Prénoms","AN","POIDS","CLUB","NAT",1,2,3,"ARR",1,2,3,"EP-J","Total","KP-2PC","SERIE",null,"Catég","IWF",null," ","DEB ","DEP +","REG +","IRG +","FED +","NAT +","INTB +","INTA +","OLY +"]
[]
["F","Nord","NPC",1,298339,"RIQUIER","Angélique",2001,43.98,"CHCD Comines","F",24,25,-26,{"$f":"IF(H6=\"\",\"\",IF(MAXA(L6:N6)<=0,0,MAXA(L6:N6)))","v":25},35,37,-38,{"$f":"IF(H6=\"\",\"\",IF(MAXA(P6:R6)<=0,0,MAXA(P6:R6)))","v":37},{"$f":"IF(H6=\"\",\"\",IF(OR(O6=0,S6=0),0,O6+S6))","v":62},{"$f":"T6-I6*2","v":-25.959999999999994},{"$f":"IF(H6=\"\",\"\",AQ6)","v":"FED +"},{"$f":"IF(AJ6>=0,AJ6,IF(AI6>=0,AI6,IF(AH6>=0,AH6,IF(AG6>=0,AG6,IF(AF6>=0,AF6,IF(AE6>=0,AE6,IF(AD6>=0,AD6,IF(AC6>=0,AC6,AB6))))))))","v":2},{"$f":"IF(I6=\"\",\"\",IF(A6=\"H\",IF(OR(H6=\"SEN\",H6<1995),VLOOKUP(I6,Feuil1!$A$11:$G$29,6),IF(AND(H6>1994,H6<1998),VLOOKUP(I6,Feuil1!$A$11:$G$29,5),IF(AND(H6>1997,H6<2000),VLOOKUP(I6,Feuil1!$A$11:$G$29,4),IF(AND(H6>1999,H6<2002),VLOOKUP(I6,Feuil1!$A$11:$G$29,3),VLOOKUP(I6,Feuil1!$A$11:$G$29,2))))),IF(OR(H6=\"SEN\",H6<1995),VLOOKUP(I6,Feuil1!$G$11:$L$25,6),IF(AND(H6>1994,H6<1998),VLOOKUP(I6,Feuil1!$G$11:$L$25,5),IF(AND(H6>1997,H6<2000),VLOOKUP(I6,Feuil1!$G$11:$L$25,4),IF(AND(H6>1999,H6<2002),VLOOKUP(I6,Feuil1!$G$11:$L$25,3),VLOOKUP(I6,Feuil1!$G$11:$L$25,2)))))))","v":"FC1 44"},{"$f":"IF(I6=\"\",\"\",IF(A6=\"H\",10^(0.794358141*LOG(I6/174.393)^2)*T6,IF(A6=\"F\",10^(0.89726074*LOG(I6/148.026)^2)*T6,\"\")))","v":110.06907291458313},null," ",{"$f":"T6-HLOOKUP(X6,Feuil1!$C$1:$BL$10,2,FALSE)","v":37},{"$f":"T6-HLOOKUP(X6,Feuil1!$C$1:$BL$10,3,FALSE)","v":27},{"$f":"T6-HLOOKUP(X6,Feuil1!$C$1:$BL$10,4,FALSE)","v":22},{"$f":"T6-HLOOKUP(X6,Feuil1!$C$1:$BL$10,5,FALSE)","v":12},{"$f":"T6-HLOOKUP(X6,Feuil1!$C$1:$BL$10,6,FALSE)","v":2},{"$f":"T6-HLOOKUP(X6,Feuil1!$C$1:$BL$10,7,FALSE)","v":-8},{"$f":"T6-HLOOKUP(X6,Feuil1!$C$1:$BL$10,8,FALSE)","v":-18},{"$f":"T6-HLOOKUP(X6,Feuil1!$C$1:$BL$10,9,FALSE)","v":-28},{"$f":"T6-HLOOKUP(X6,Feuil1!$C$1:$BL$10,10,FALSE)","v":-938},null,null,null,null,null,null,{"$f":"IF(AJ6>=0,$AJ$4,IF(AI6>=0,$AI$4,IF(AH6>=0,$AH$4,IF(AG6>=0,$AG$4,IF(AF6>=0,$AF$4,IF(AE6>=0,$AE$4,IF(AD6>=0,$AD$4,IF(AC6>=0,$AC$4,$AB$4))))))))","v":"FED +"}]
[]
["F","NE","ALS",1,244336,"CHRISTOPHEL","Marie",2000,46.2,"ASPTT Strasbourg","F",44,47,48,{"$f":"IF(H8=\"\",\"\",IF(MAXA(L8:N8)<=0,0,MAXA(L8:N8)))","v":48},57,60,-62,{"$f":"IF(H8=\"\",\"\",IF(MAXA(P8:R8)<=0,0,MAXA(P8:R8)))","v":60},{"$f":"IF(H8=\"\",\"\",IF(OR(O8=0,S8=0),0,O8+S8))","v":108},{"$f":"T8-I8*2","v":15.599999999999994},{"$f":"IF(H8=\"\",\"\",AQ8)","v":"INTA +"},{"$f":"IF(AJ8>=0,AJ8,IF(AI8>=0,AI8,IF(AH8>=0,AH8,IF(AG8>=0,AG8,IF(AF8>=0,AF8,IF(AE8>=0,AE8,IF(AD8>=0,AD8,IF(AC8>=0,AC8,AB8))))))))","v":13},{"$f":"IF(I8=\"\",\"\",IF(A8=\"H\",IF(OR(H8=\"SEN\",H8<1995),VLOOKUP(I8,Feuil1!$A$11:$G$29,6),IF(AND(H8>1994,H8<1998),VLOOKUP(I8,Feuil1!$A$11:$G$29,5),IF(AND(H8>1997,H8<2000),VLOOKUP(I8,Feuil1!$A$11:$G$29,4),IF(AND(H8>1999,H8<2002),VLOOKUP(I8,Feuil1!$A$11:$G$29,3),VLOOKUP(I8,Feuil1!$A$11:$G$29,2))))),IF(OR(H8=\"SEN\",H8<1995),VLOOKUP(I8,Feuil1!$G$11:$L$25,6),IF(AND(H8>1994,H8<1998),VLOOKUP(I8,Feuil1!$G$11:$L$25,5),IF(AND(H8>1997,H8<2000),VLOOKUP(I8,Feuil1!$G$11:$L$25,4),IF(AND(H8>1999,H8<2002),VLOOKUP(I8,Feuil1!$G$11:$L$25,3),VLOOKUP(I8,Feuil1!$G$11:$L$25,2)))))))","v":"FC1 48"},{"$f":"IF(I8=\"\",\"\",IF(A8=\"H\",10^(0.794358141*LOG(I8/174.393)^2)*T8,IF(A8=\"F\",10^(0.89726074*LOG(I8/148.026)^2)*T8,\"\")))","v":183.18034569481048},null," ",{"$f":"T8-HLOOKUP(X8,Feuil1!$C$1:$BL$10,2,FALSE)","v":83},{"$f":"T8-HLOOKUP(X8,Feuil1!$C$1:$BL$10,3,FALSE)","v":73},{"$f":"T8-HLOOKUP(X8,Feuil1!$C$1:$BL$10,4,FALSE)","v":63},{"$f":"T8-HLOOKUP(X8,Feuil1!$C$1:$BL$10,5,FALSE)","v":53},{"$f":"T8-HLOOKUP(X8,Feuil1!$C$1:$BL$10,6,FALSE)","v":43},{"$f":"T8-HLOOKUP(X8,Feuil1!$C$1:$BL$10,7,FALSE)","v":33},{"$f":"T8-HLOOKUP(X8,Feuil1!$C$1:$BL$10,8,FALSE)","v":23},{"$f":"T8-HLOOKUP(X8,Feuil1!$C$1:$BL$10,9,FALSE)","v":13},{"$f":"T8-HLOOKUP(X8,Feuil1!$C$1:$BL$10,10,FALSE)","v":-892},null,null,null,null,null,null,{"$f":"IF(AJ8>=0,$AJ$4,IF(AI8>=0,$AI$4,IF(AH8>=0,$AH$4,IF(AG8>=0,$AG$4,IF(AF8>=0,$AF$4,IF(AE8>=0,$AE$4,IF(AD8>=0,$AD$4,IF(AC8>=0,$AC$4,$AB$4))))))))","v":"INTA +"}]
["F","CO","PDL",2,379232,"HEUZE","Emma",2000,45.35,"CA Evron 53","F",31,33,35,{"$f":"IF(H9=\"\",\"\",IF(MAXA(L9:N9)<=0,0,MAXA(L9:N9)))","v":35},42,-45,-45,{"$f":"IF(H9=\"\",\"\",IF(MAXA(P9:R9)<=0,0,MAXA(P9:R9)))","v":42},{"$f":"IF(H9=\"\",\"\",IF(OR(O9=0,S9=0),0,O9+S9))","v":77},{"$f":"T9-I9*2","v":-13.700000000000003},{"$f":"IF(H9=\"\",\"\",AQ9)","v":"NAT +"},{"$f":"IF(AJ9>=0,AJ9,IF(AI9>=0,AI9,IF(AH9>=0,AH9,IF(AG9>=0,AG9,IF(AF9>=0,AF9,IF(AE9>=0,AE9,IF(AD9>=0,AD9,IF(AC9>=0,AC9,AB9))))))))","v":2},{"$f":"IF(I9=\"\",\"\",IF(A9=\"H\",IF(OR(H9=\"SEN\",H9<1995),VLOOKUP(I9,Feuil1!$A$11:$G$29,6),IF(AND(H9>1994,H9<1998),VLOOKUP(I9,Feuil1!$A$11:$G$29,5),IF(AND(H9>1997,H9<2000),VLOOKUP(I9,Feuil1!$A$11:$G$29,4),IF(AND(H9>1999,H9<2002),VLOOKUP(I9,Feuil1!$A$11:$G$29,3),VLOOKUP(I9,Feuil1!$A$11:$G$29,2))))),IF(OR(H9=\"SEN\",H9<1995),VLOOKUP(I9,Feuil1!$G$11:$L$25,6),IF(AND(H9>1994,H9<1998),VLOOKUP(I9,Feuil1!$G$11:$L$25,5),IF(AND(H9>1997,H9<2000),VLOOKUP(I9,Feuil1!$G$11:$L$25,4),IF(AND(H9>1999,H9<2002),VLOOKUP(I9,Feuil1!$G$11:$L$25,3),VLOOKUP(I9,Feuil1!$G$11:$L$25,2)))))))","v":"FC1 48"},{"$f":"IF(I9=\"\",\"\",IF(A9=\"H\",10^(0.794358141*LOG(I9/174.393)^2)*T9,IF(A9=\"F\",10^(0.89726074*LOG(I9/148.026)^2)*T9,\"\")))","v":132.83813200391077},null," ",{"$f":"T9-HLOOKUP(X9,Feuil1!$C$1:$BL$10,2,FALSE)","v":52},{"$f":"T9-HLOOKUP(X9,Feuil1!$C$1:$BL$10,3,FALSE)","v":42},{"$f":"T9-HLOOKUP(X9,Feuil1!$C$1:$BL$10,4,FALSE)","v":32},{"$f":"T9-HLOOKUP(X9,Feuil1!$C$1:$BL$10,5,FALSE)","v":22},{"$f":"T9-HLOOKUP(X9,Feuil1!$C$1:$BL$10,6,FALSE)","v":12},{"$f":"T9-HLOOKUP(X9,Feuil1!$C$1:$BL$10,7,FALSE)","v":2},{"$f":"T9-HLOOKUP(X9,Feuil1!$C$1:$BL$10,8,FALSE)","v":-8},{"$f":"T9-HLOOKUP(X9,Feuil1!$C$1:$BL$10,9,FALSE)","v":-18},{"$f":"T9-HLOOKUP(X9,Feuil1!$C$1:$BL$10,10,FALSE)","v":-923},null,null,null,null,null,null,{"$f":"IF(AJ9>=0,$AJ$4,IF(AI9>=0,$AI$4,IF(AH9>=0,$AH$4,IF(AG9>=0,$AG$4,IF(AF9>=0,$AF$4,IF(AE9>=0,$AE$4,IF(AD9>=0,$AD$4,IF(AC9>=0,$AC$4,$AB$4))))))))","v":"NAT +"}]
["F","NE","ALS",3,340255,"MIGUEL","Lea",2001,47.5,"Dorlisheim FH","F",27,30,-32,{"$f":"IF(H10=\"\",\"\",IF(MAXA(L10:N10)<=0,0,MAXA(L10:N10)))","v":30},36,39,41,{"$f":"IF(H10=\"\",\"\",IF(MAXA(P10:R10)<=0,0,MAXA(P10:R10)))","v":41},{"$f":"IF(H10=\"\",\"\",IF(OR(O10=0,S10=0),0,O10+S10))","v":71},{"$f":"T10-I10*2","v":-24},{"$f":"IF(H10=\"\",\"\",AQ10)","v":"FED +"},{"$f":"IF(AJ10>=0,AJ10,IF(AI10>=0,AI10,IF(AH10>=0,AH10,IF(AG10>=0,AG10,IF(AF10>=0,AF10,IF(AE10>=0,AE10,IF(AD10>=0,AD10,IF(AC10>=0,AC10,AB10))))))))","v":6},{"$f":"IF(I10=\"\",\"\",IF(A10=\"H\",IF(OR(H10=\"SEN\",H10<1995),VLOOKUP(I10,Feuil1!$A$11:$G$29,6),IF(AND(H10>1994,H10<1998),VLOOKUP(I10,Feuil1!$A$11:$G$29,5),IF(AND(H10>1997,H10<2000),VLOOKUP(I10,Feuil1!$A$11:$G$29,4),IF(AND(H10>1999,H10<2002),VLOOKUP(I10,Feuil1!$A$11:$G$29,3),VLOOKUP(I10,Feuil1!$A$11:$G$29,2))))),IF(OR(H10=\"SEN\",H10<1995),VLOOKUP(I10,Feuil1!$G$11:$L$25,6),IF(AND(H10>1994,H10<1998),VLOOKUP(I10,Feuil1!$G$11:$L$25,5),IF(AND(H10>1997,H10<2000),VLOOKUP(I10,Feuil1!$G$11:$L$25,4),IF(AND(H10>1999,H10<2002),VLOOKUP(I10,Feuil1!$G$11:$L$25,3),VLOOKUP(I10,Feuil1!$G$11:$L$25,2)))))))","v":"FC1 48"},{"$f":"IF(I10=\"\",\"\",IF(A10=\"H\",10^(0.794358141*LOG(I10/174.393)^2)*T10,IF(A10=\"F\",10^(0.89726074*LOG(I10/148.026)^2)*T10,\"\")))","v":117.46463721485198},null," ",{"$f":"T10-HLOOKUP(X10,Feuil1!$C$1:$BL$10,2,FALSE)","v":46},{"$f":"T10-HLOOKUP(X10,Feuil1!$C$1:$BL$10,3,FALSE)","v":36},{"$f":"T10-HLOOKUP(X10,Feuil1!$C$1:$BL$10,4,FALSE)","v":26},{"$f":"T10-HLOOKUP(X10,Feuil1!$C$1:$BL$10,5,FALSE)","v":16},{"$f":"T10-HLOOKUP(X10,Feuil1!$C$1:$BL$10,6,FALSE)","v":6},{"$f":"T10-HLOOKUP(X10,Feuil1!$C$1:$BL$10,7,FALSE)","v":-4},{"$f":"T10-HLOOKUP(X10,Feuil1!$C$1:$BL$10,8,FALSE)","v":-14},{"$f":"T10-HLOOKUP(X10,Feuil1!$C$1:$BL$10,9,FALSE)","v":-24},{"$f":"T10-HLOOKUP(X10,Feuil1!$C$1:$BL$10,10,FALSE)","v":-929},null,null,null,null,null,null,{"$f":"IF(AJ10>=0,$AJ$4,IF(AI10>=0,$AI$4,IF(AH10>=0,$AH$4,IF(AG10>=0,$AG$4,IF(AF10>=0,$AF$4,IF(AE10>=0,$AE$4,IF(AD10>=0,$AD$4,IF(AC10>=0,$AC$4,$AB$4))))))))","v":"FED +"}]
["F","CO","BRE",4,339426,"PIRIS","Océanne",2000,46.5,"ES Saint Avé","F",27,30,-35,{"$f":"IF(H11=\"\",\"\",IF(MAXA(L11:N11)<=0,0,MAXA(L11:N11)))","v":30},35,40,-45,{"$f":"IF(H11=\"\",\"\",IF(MAXA(P11:R11)<=0,0,MAXA(P11:R11)))","v":40},{"$f":"IF(H11=\"\",\"\",IF(OR(O11=0,S11=0),0,O11+S11))","v":70},{"$f":"T11-I11*2","v":-23},{"$f":"IF(H11=\"\",\"\",AQ11)","v":"FED +"},{"$f":"IF(AJ11>=0,AJ11,IF(AI11>=0,AI11,IF(AH11>=0,AH11,IF(AG11>=0,AG11,IF(AF11>=0,AF11,IF(AE11>=0,AE11,IF(AD11>=0,AD11,IF(AC11>=0,AC11,AB11))))))))","v":5},{"$f":"IF(I11=\"\",\"\",IF(A11=\"H\",IF(OR(H11=\"SEN\",H11<1995),VLOOKUP(I11,Feuil1!$A$11:$G$29,6),IF(AND(H11>1994,H11<1998),VLOOKUP(I11,Feuil1!$A$11:$G$29,5),IF(AND(H11>1997,H11<2000),VLOOKUP(I11,Feuil1!$A$11:$G$29,4),IF(AND(H11>1999,H11<2002),VLOOKUP(I11,Feuil1!$A$11:$G$29,3),VLOOKUP(I11,Feuil1!$A$11:$G$29,2))))),IF(OR(H11=\"SEN\",H11<1995),VLOOKUP(I11,Feuil1!$G$11:$L$25,6),IF(AND(H11>1994,H11<1998),VLOOKUP(I11,Feuil1!$G$11:$L$25,5),IF(AND(H11>1997,H11<2000),VLOOKUP(I11,Feuil1!$G$11:$L$25,4),IF(AND(H11>1999,H11<2002),VLOOKUP(I11,Feuil1!$G$11:$L$25,3),VLOOKUP(I11,Feuil1!$G$11:$L$25,2)))))))","v":"FC1 48"},{"$f":"IF(I11=\"\",\"\",IF(A11=\"H\",10^(0.794358141*LOG(I11/174.393)^2)*T11,IF(A11=\"F\",10^(0.89726074*LOG(I11/148.026)^2)*T11,\"\")))","v":118.03460096853341},null," ",{"$f":"T11-HLOOKUP(X11,Feuil1!$C$1:$BL$10,2,FALSE)","v":45},{"$f":"T11-HLOOKUP(X11,Feuil1!$C$1:$BL$10,3,FALSE)","v":35},{"$f":"T11-HLOOKUP(X11,Feuil1!$C$1:$BL$10,4,FALSE)","v":25},{"$f":"T11-HLOOKUP(X11,Feuil1!$C$1:$BL$10,5,FALSE)","v":15},{"$f":"T11-HLOOKUP(X11,Feuil1!$C$1:$BL$10,6,FALSE)","v":5},{"$f":"T11-HLOOKUP(X11,Feuil1!$C$1:$BL$10,7,FALSE)","v":-5},{"$f":"T11-HLOOKUP(X11,Feuil1!$C$1:$BL$10,8,FALSE)","v":-15},{"$f":"T11-HLOOKUP(X11,Feuil1!$C$1:$BL$10,9,FALSE)","v":-25},{"$f":"T11-HLOOKUP(X11,Feuil1!$C$1:$BL$10,10,FALSE)","v":-930},null,null,null,null,null,null,{"$f":"IF(AJ11>=0,$AJ$4,IF(AI11>=0,$AI$4,IF(AH11>=0,$AH$4,IF(AG11>=0,$AG$4,IF(AF11>=0,$AF$4,IF(AE11>=0,$AE$4,IF(AD11>=0,$AD$4,IF(AC11>=0,$AC$4,$AB$4))))))))","v":"FED +"}]
["F","Nord","PIC",5,378365,"MONTOYA","Chloé",2000,47.7,"Villers-Bretonneux KC","F",25,27,-29,{"$f":"IF(H12=\"\",\"\",IF(MAXA(L12:N12)<=0,0,MAXA(L12:N12)))","v":27},35,-38,38,{"$f":"IF(H12=\"\",\"\",IF(MAXA(P12:R12)<=0,0,MAXA(P12:R12)))","v":38},{"$f":"IF(H12=\"\",\"\",IF(OR(O12=0,S12=0),0,O12+S12))","v":65},{"$f":"T12-I12*2","v":-30.400000000000006},{"$f":"IF(H12=\"\",\"\",AQ12)","v":"FED +"},{"$f":"IF(AJ12>=0,AJ12,IF(AI12>=0,AI12,IF(AH12>=0,AH12,IF(AG12>=0,AG12,IF(AF12>=0,AF12,IF(AE12>=0,AE12,IF(AD12>=0,AD12,IF(AC12>=0,AC12,AB12))))))))","v":0},{"$f":"IF(I12=\"\",\"\",IF(A12=\"H\",IF(OR(H12=\"SEN\",H12<1995),VLOOKUP(I12,Feuil1!$A$11:$G$29,6),IF(AND(H12>1994,H12<1998),VLOOKUP(I12,Feuil1!$A$11:$G$29,5),IF(AND(H12>1997,H12<2000),VLOOKUP(I12,Feuil1!$A$11:$G$29,4),IF(AND(H12>1999,H12<2002),VLOOKUP(I12,Feuil1!$A$11:$G$29,3),VLOOKUP(I12,Feuil1!$A$11:$G$29,2))))),IF(OR(H12=\"SEN\",H12<1995),VLOOKUP(I12,Feuil1!$G$11:$L$25,6),IF(AND(H12>1994,H12<1998),VLOOKUP(I12,Feuil1!$G$11:$L$25,5),IF(AND(H12>1997,H12<2000),VLOOKUP(I12,Feuil1!$G$11:$L$25,4),IF(AND(H12>1999,H12<2002),VLOOKUP(I12,Feuil1!$G$11:$L$25,3),VLOOKUP(I12,Feuil1!$G$11:$L$25,2)))))))","v":"FC1 48"},{"$f":"IF(I12=\"\",\"\",IF(A12=\"H\",10^(0.794358141*LOG(I12/174.393)^2)*T12,IF(A12=\"F\",10^(0.89726074*LOG(I12/148.026)^2)*T12,\"\")))","v":107.13926319372706},null," ",{"$f":"T12-HLOOKUP(X12,Feuil1!$C$1:$BL$10,2,FALSE)","v":40},{"$f":"T12-HLOOKUP(X12,Feuil1!$C$1:$BL$10,3,FALSE)","v":30},{"$f":"T12-HLOOKUP(X12,Feuil1!$C$1:$BL$10,4,FALSE)","v":20},{"$f":"T12-HLOOKUP(X12,Feuil1!$C$1:$BL$10,5,FALSE)","v":10},{"$f":"T12-HLOOKUP(X12,Feuil1!$C$1:$BL$10,6,FALSE)","v":0},{"$f":"T12-HLOOKUP(X12,Feuil1!$C$1:$BL$10,7,FALSE)","v":-10},{"$f":"T12-HLOOKUP(X12,Feuil1!$C$1:$BL$10,8,FALSE)","v":-20},{"$f":"T12-HLOOKUP(X12,Feuil1!$C$1:$BL$10,9,FALSE)","v":-30},{"$f":"T12-HLOOKUP(X12,Feuil1!$C$1:$BL$10,10,FALSE)","v":-935},null,null,null,null,null,null,{"$f":"IF(AJ12>=0,$AJ$4,IF(AI12>=0,$AI$4,IF(AH12>=0,$AH$4,IF(AG12>=0,$AG$4,IF(AF12>=0,$AF$4,IF(AE12>=0,$AE$4,IF(AD12>=0,$AD$4,IF(AC12>=0,$AC$4,$AB$4))))))))","v":"FED +"}]
[]
["F","NE","ALS",1,300315,"IMBS","Honorine",2001,48.9,"Dorlisheim FH","F",37,40,42,42,47,50,53,53,95,-2.7999999999999972,"INTB +",0,{"$f":"IF(I14=\"\",\"\",IF(A14=\"H\",IF(OR(H14=\"SEN\",H14<1995),VLOOKUP(I14,Feuil1!$A$11:$G$29,6),IF(AND(H14>1994,H14<1998),VLOOKUP(I14,Feuil1!$A$11:$G$29,5),IF(AND(H14>1997,H14<2000),VLOOKUP(I14,Feuil1!$A$11:$G$29,4),IF(AND(H14>1999,H14<2002),VLOOKUP(I14,Feuil1!$A$11:$G$29,3),VLOOKUP(I14,Feuil1!$A$11:$G$29,2))))),IF(OR(H14=\"SEN\",H14<1995),VLOOKUP(I14,Feuil1!$G$11:$L$25,6),IF(AND(H14>1994,H14<1998),VLOOKUP(I14,Feuil1!$G$11:$L$25,5),IF(AND(H14>1997,H14<2000),VLOOKUP(I14,Feuil1!$G$11:$L$25,4),IF(AND(H14>1999,H14<2002),VLOOKUP(I14,Feuil1!$G$11:$L$25,3),VLOOKUP(I14,Feuil1!$G$11:$L$25,2)))))))","v":"FC1 53"},153.22862507634554,null," ",{"$f":"T14-HLOOKUP(X14,Feuil1!$C$1:$BL$10,2,FALSE)","v":60},{"$f":"T14-HLOOKUP(X14,Feuil1!$C$1:$BL$10,3,FALSE)","v":50},{"$f":"T14-HLOOKUP(X14,Feuil1!$C$1:$BL$10,4,FALSE)","v":40},{"$f":"T14-HLOOKUP(X14,Feuil1!$C$1:$BL$10,5,FALSE)","v":30},{"$f":"T14-HLOOKUP(X14,Feuil1!$C$1:$BL$10,6,FALSE)","v":20},{"$f":"T14-HLOOKUP(X14,Feuil1!$C$1:$BL$10,7,FALSE)","v":10},{"$f":"T14-HLOOKUP(X14,Feuil1!$C$1:$BL$10,8,FALSE)","v":0},{"$f":"T14-HLOOKUP(X14,Feuil1!$C$1:$BL$10,9,FALSE)","v":-10},{"$f":"T14-HLOOKUP(X14,Feuil1!$C$1:$BL$10,10,FALSE)","v":-905},null,null,null,null,null,null,"INTB +"]
["F","SEST","LAN",2,290105,"ROMERO","Heloise",2000,49.57,"NARBONNE","F",35,38,-40,38,52,55,57,57,95,-4.1400000000000006,"INTB +",0,{"$f":"IF(I15=\"\",\"\",IF(A15=\"H\",IF(OR(H15=\"SEN\",H15<1995),VLOOKUP(I15,Feuil1!$A$11:$G$29,6),IF(AND(H15>1994,H15<1998),VLOOKUP(I15,Feuil1!$A$11:$G$29,5),IF(AND(H15>1997,H15<2000),VLOOKUP(I15,Feuil1!$A$11:$G$29,4),IF(AND(H15>1999,H15<2002),VLOOKUP(I15,Feuil1!$A$11:$G$29,3),VLOOKUP(I15,Feuil1!$A$11:$G$29,2))))),IF(OR(H15=\"SEN\",H15<1995),VLOOKUP(I15,Feuil1!$G$11:$L$25,6),IF(AND(H15>1994,H15<1998),VLOOKUP(I15,Feuil1!$G$11:$L$25,5),IF(AND(H15>1997,H15<2000),VLOOKUP(I15,Feuil1!$G$11:$L$25,4),IF(AND(H15>1999,H15<2002),VLOOKUP(I15,Feuil1!$G$11:$L$25,3),VLOOKUP(I15,Feuil1!$G$11:$L$25,2)))))))","v":"FC1 53"},151.45010545050971,null," ",{"$f":"T15-HLOOKUP(X15,Feuil1!$C$1:$BL$10,2,FALSE)","v":60},{"$f":"T15-HLOOKUP(X15,Feuil1!$C$1:$BL$10,3,FALSE)","v":50},{"$f":"T15-HLOOKUP(X15,Feuil1!$C$1:$BL$10,4,FALSE)","v":40},{"$f":"T15-HLOOKUP(X15,Feuil1!$C$1:$BL$10,5,FALSE)","v":30},{"$f":"T15-HLOOKUP(X15,Feuil1!$C$1:$BL$10,6,FALSE)","v":20},{"$f":"T15-HLOOKUP(X15,Feuil1!$C$1:$BL$10,7,FALSE)","v":10},{"$f":"T15-HLOOKUP(X15,Feuil1!$C$1:$BL$10,8,FALSE)","v":0},{"$f":"T15-HLOOKUP(X15,Feuil1!$C$1:$BL$10,9,FALSE)","v":-10},{"$f":"T15-HLOOKUP(X15,Feuil1!$C$1:$BL$10,10,FALSE)","v":-905},null,null,null,null,null,null,"INTB +"]
["F","SO","LIM",3,326705,"LOPEZ","Mélissa",2001,50.6,"LIMOGES AVA","F",-32,32,35,35,41,44,46,46,81,-20.200000000000003,"FED +",6,{"$f":"IF(I16=\"\",\"\",IF(A16=\"H\",IF(OR(H16=\"SEN\",H16<1995),VLOOKUP(I16,Feuil1!$A$11:$G$29,6),IF(AND(H16>1994,H16<1998),VLOOKUP(I16,Feuil1!$A$11:$G$29,5),IF(AND(H16>1997,H16<2000),VLOOKUP(I16,Feuil1!$A$11:$G$29,4),IF(AND(H16>1999,H16<2002),VLOOKUP(I16,Feuil1!$A$11:$G$29,3),VLOOKUP(I16,Feuil1!$A$11:$G$29,2))))),IF(OR(H16=\"SEN\",H16<1995),VLOOKUP(I16,Feuil1!$G$11:$L$25,6),IF(AND(H16>1994,H16<1998),VLOOKUP(I16,Feuil1!$G$11:$L$25,5),IF(AND(H16>1997,H16<2000),VLOOKUP(I16,Feuil1!$G$11:$L$25,4),IF(AND(H16>1999,H16<2002),VLOOKUP(I16,Feuil1!$G$11:$L$25,3),VLOOKUP(I16,Feuil1!$G$11:$L$25,2)))))))","v":"FC1 53"},126.90752925568739,null," ",{"$f":"T16-HLOOKUP(X16,Feuil1!$C$1:$BL$10,2,FALSE)","v":46},{"$f":"T16-HLOOKUP(X16,Feuil1!$C$1:$BL$10,3,FALSE)","v":36},{"$f":"T16-HLOOKUP(X16,Feuil1!$C$1:$BL$10,4,FALSE)","v":26},{"$f":"T16-HLOOKUP(X16,Feuil1!$C$1:$BL$10,5,FALSE)","v":16},{"$f":"T16-HLOOKUP(X16,Feuil1!$C$1:$BL$10,6,FALSE)","v":6},{"$f":"T16-HLOOKUP(X16,Feuil1!$C$1:$BL$10,7,FALSE)","v":-4},{"$f":"T16-HLOOKUP(X16,Feuil1!$C$1:$BL$10,8,FALSE)","v":-14},{"$f":"T16-HLOOKUP(X16,Feuil1!$C$1:$BL$10,9,FALSE)","v":-24},{"$f":"T16-HLOOKUP(X16,Feuil1!$C$1:$BL$10,10,FALSE)","v":-919},null,null,null,null,null,null,"FED +"]
[]
["F","SEST","RAL",1,280309,"BARBIER","Clarisse",2000,54,"C.H. VAULX EN VELIN","F",41,44,-46,{"$f":"IF(H18=\"\",\"\",IF(MAXA(L18:N18)<=0,0,MAXA(L18:N18)))","v":44},54,58,61,{"$f":"IF(H18=\"\",\"\",IF(MAXA(P18:R18)<=0,0,MAXA(P18:R18)))","v":61},{"$f":"IF(H18=\"\",\"\",IF(OR(O18=0,S18=0),0,O18+S18))","v":105},{"$f":"T18-I18*2","v":-3},{"$f":"IF(H18=\"\",\"\",AQ18)","v":"INTB +"},{"$f":"IF(AJ18>=0,AJ18,IF(AI18>=0,AI18,IF(AH18>=0,AH18,IF(AG18>=0,AG18,IF(AF18>=0,AF18,IF(AE18>=0,AE18,IF(AD18>=0,AD18,IF(AC18>=0,AC18,AB18))))))))","v":5},{"$f":"IF(I18=\"\",\"\",IF(A18=\"H\",IF(OR(H18=\"SEN\",H18<1995),VLOOKUP(I18,Feuil1!$A$11:$G$29,6),IF(AND(H18>1994,H18<1998),VLOOKUP(I18,Feuil1!$A$11:$G$29,5),IF(AND(H18>1997,H18<2000),VLOOKUP(I18,Feuil1!$A$11:$G$29,4),IF(AND(H18>1999,H18<2002),VLOOKUP(I18,Feuil1!$A$11:$G$29,3),VLOOKUP(I18,Feuil1!$A$11:$G$29,2))))),IF(OR(H18=\"SEN\",H18<1995),VLOOKUP(I18,Feuil1!$G$11:$L$25,6),IF(AND(H18>1994,H18<1998),VLOOKUP(I18,Feuil1!$G$11:$L$25,5),IF(AND(H18>1997,H18<2000),VLOOKUP(I18,Feuil1!$G$11:$L$25,4),IF(AND(H18>1999,H18<2002),VLOOKUP(I18,Feuil1!$G$11:$L$25,3),VLOOKUP(I18,Feuil1!$G$11:$L$25,2)))))))","v":"FC1 58"},{"$f":"IF(I18=\"\",\"\",IF(A18=\"H\",10^(0.794358141*LOG(I18/174.393)^2)*T18,IF(A18=\"F\",10^(0.89726074*LOG(I18/148.026)^2)*T18,\"\")))","v":156.05567514359063},null," ",{"$f":"T18-HLOOKUP(X18,Feuil1!$C$1:$BL$10,2,FALSE)","v":65},{"$f":"T18-HLOOKUP(X18,Feuil1!$C$1:$BL$10,3,FALSE)","v":55},{"$f":"T18-HLOOKUP(X18,Feuil1!$C$1:$BL$10,4,FALSE)","v":45},{"$f":"T18-HLOOKUP(X18,Feuil1!$C$1:$BL$10,5,FALSE)","v":35},{"$f":"T18-HLOOKUP(X18,Feuil1!$C$1:$BL$10,6,FALSE)","v":25},{"$f":"T18-HLOOKUP(X18,Feuil1!$C$1:$BL$10,7,FALSE)","v":15},{"$f":"T18-HLOOKUP(X18,Feuil1!$C$1:$BL$10,8,FALSE)","v":5},{"$f":"T18-HLOOKUP(X18,Feuil1!$C$1:$BL$10,9,FALSE)","v":-10},{"$f":"T18-HLOOKUP(X18,Feuil1!$C$1:$BL$10,10,FALSE)","v":-895},null,null,null,null,null,null,{"$f":"IF(AJ18>=0,$AJ$4,IF(AI18>=0,$AI$4,IF(AH18>=0,$AH$4,IF(AG18>=0,$AG$4,IF(AF18>=0,$AF$4,IF(AE18>=0,$AE$4,IF(AD18>=0,$AD$4,IF(AC18>=0,$AC$4,$AB$4))))))))","v":"INTB +"}]
["F","Nord","NPC",2,359845,"PARANTHOEN","Kimberley",2000,58,"CA Rosendael","F",37,39,-41,{"$f":"IF(H19=\"\",\"\",IF(MAXA(L19:N19)<=0,0,MAXA(L19:N19)))","v":39},47,50,-54,{"$f":"IF(H19=\"\",\"\",IF(MAXA(P19:R19)<=0,0,MAXA(P19:R19)))","v":50},{"$f":"IF(H19=\"\",\"\",IF(OR(O19=0,S19=0),0,O19+S19))","v":89},{"$f":"T19-I19*2","v":-27},{"$f":"IF(H19=\"\",\"\",AQ19)","v":"FED +"},{"$f":"IF(AJ19>=0,AJ19,IF(AI19>=0,AI19,IF(AH19>=0,AH19,IF(AG19>=0,AG19,IF(AF19>=0,AF19,IF(AE19>=0,AE19,IF(AD19>=0,AD19,IF(AC19>=0,AC19,AB19))))))))","v":9},{"$f":"IF(I19=\"\",\"\",IF(A19=\"H\",IF(OR(H19=\"SEN\",H19<1995),VLOOKUP(I19,Feuil1!$A$11:$G$29,6),IF(AND(H19>1994,H19<1998),VLOOKUP(I19,Feuil1!$A$11:$G$29,5),IF(AND(H19>1997,H19<2000),VLOOKUP(I19,Feuil1!$A$11:$G$29,4),IF(AND(H19>1999,H19<2002),VLOOKUP(I19,Feuil1!$A$11:$G$29,3),VLOOKUP(I19,Feuil1!$A$11:$G$29,2))))),IF(OR(H19=\"SEN\",H19<1995),VLOOKUP(I19,Feuil1!$G$11:$L$25,6),IF(AND(H19>1994,H19<1998),VLOOKUP(I19,Feuil1!$G$11:$L$25,5),IF(AND(H19>1997,H19<2000),VLOOKUP(I19,Feuil1!$G$11:$L$25,4),IF(AND(H19>1999,H19<2002),VLOOKUP(I19,Feuil1!$G$11:$L$25,3),VLOOKUP(I19,Feuil1!$G$11:$L$25,2)))))))","v":"FC1 58"},{"$f":"IF(I19=\"\",\"\",IF(A19=\"H\",10^(0.794358141*LOG(I19/174.393)^2)*T19,IF(A19=\"F\",10^(0.89726074*LOG(I19/148.026)^2)*T19,\"\")))","v":125.30102748817463},null," ",{"$f":"T19-HLOOKUP(X19,Feuil1!$C$1:$BL$10,2,FALSE)","v":49},{"$f":"T19-HLOOKUP(X19,Feuil1!$C$1:$BL$10,3,FALSE)","v":39},{"$f":"T19-HLOOKUP(X19,Feuil1!$C$1:$BL$10,4,FALSE)","v":29},{"$f":"T19-HLOOKUP(X19,Feuil1!$C$1:$BL$10,5,FALSE)","v":19},{"$f":"T19-HLOOKUP(X19,Feuil1!$C$1:$BL$10,6,FALSE)","v":9},{"$f":"T19-HLOOKUP(X19,Feuil1!$C$1:$BL$10,7,FALSE)","v":-1},{"$f":"T19-HLOOKUP(X19,Feuil1!$C$1:$BL$10,8,FALSE)","v":-11},{"$f":"T19-HLOOKUP(X19,Feuil1!$C$1:$BL$10,9,FALSE)","v":-26},{"$f":"T19-HLOOKUP(X19,Feuil1!$C$1:$BL$10,10,FALSE)","v":-911},null,null,null,null,null,null,{"$f":"IF(AJ19>=0,$AJ$4,IF(AI19>=0,$AI$4,IF(AH19>=0,$AH$4,IF(AG19>=0,$AG$4,IF(AF19>=0,$AF$4,IF(AE19>=0,$AE$4,IF(AD19>=0,$AD$4,IF(AC19>=0,$AC$4,$AB$4))))))))","v":"FED +"}]
["F","SO","LIM",3,326707,"LAMARGUE ","Loriane",2000,53.1,"LIMOGES AVA","F",-31,31,34,{"$f":"IF(H20=\"\",\"\",IF(MAXA(L20:N20)<=0,0,MAXA(L20:N20)))","v":34},43,46,48,{"$f":"IF(H20=\"\",\"\",IF(MAXA(P20:R20)<=0,0,MAXA(P20:R20)))","v":48},{"$f":"IF(H20=\"\",\"\",IF(OR(O20=0,S20=0),0,O20+S20))","v":82},{"$f":"T20-I20*2","v":-24.200000000000003},{"$f":"IF(H20=\"\",\"\",AQ20)","v":"FED +"},{"$f":"IF(AJ20>=0,AJ20,IF(AI20>=0,AI20,IF(AH20>=0,AH20,IF(AG20>=0,AG20,IF(AF20>=0,AF20,IF(AE20>=0,AE20,IF(AD20>=0,AD20,IF(AC20>=0,AC20,AB20))))))))","v":2},{"$f":"IF(I20=\"\",\"\",IF(A20=\"H\",IF(OR(H20=\"SEN\",H20<1995),VLOOKUP(I20,Feuil1!$A$11:$G$29,6),IF(AND(H20>1994,H20<1998),VLOOKUP(I20,Feuil1!$A$11:$G$29,5),IF(AND(H20>1997,H20<2000),VLOOKUP(I20,Feuil1!$A$11:$G$29,4),IF(AND(H20>1999,H20<2002),VLOOKUP(I20,Feuil1!$A$11:$G$29,3),VLOOKUP(I20,Feuil1!$A$11:$G$29,2))))),IF(OR(H20=\"SEN\",H20<1995),VLOOKUP(I20,Feuil1!$G$11:$L$25,6),IF(AND(H20>1994,H20<1998),VLOOKUP(I20,Feuil1!$G$11:$L$25,5),IF(AND(H20>1997,H20<2000),VLOOKUP(I20,Feuil1!$G$11:$L$25,4),IF(AND(H20>1999,H20<2002),VLOOKUP(I20,Feuil1!$G$11:$L$25,3),VLOOKUP(I20,Feuil1!$G$11:$L$25,2)))))))","v":"FC1 58"},{"$f":"IF(I20=\"\",\"\",IF(A20=\"H\",10^(0.794358141*LOG(I20/174.393)^2)*T20,IF(A20=\"F\",10^(0.89726074*LOG(I20/148.026)^2)*T20,\"\")))","v":123.50609758969919},null," ",{"$f":"T20-HLOOKUP(X20,Feuil1!$C$1:$BL$10,2,FALSE)","v":42},{"$f":"T20-HLOOKUP(X20,Feuil1!$C$1:$BL$10,3,FALSE)","v":32},{"$f":"T20-HLOOKUP(X20,Feuil1!$C$1:$BL$10,4,FALSE)","v":22},{"$f":"T20-HLOOKUP(X20,Feuil1!$C$1:$BL$10,5,FALSE)","v":12},{"$f":"T20-HLOOKUP(X20,Feuil1!$C$1:$BL$10,6,FALSE)","v":2},{"$f":"T20-HLOOKUP(X20,Feuil1!$C$1:$BL$10,7,FALSE)","v":-8},{"$f":"T20-HLOOKUP(X20,Feuil1!$C$1:$BL$10,8,FALSE)","v":-18},{"$f":"T20-HLOOKUP(X20,Feuil1!$C$1:$BL$10,9,FALSE)","v":-33},{"$f":"T20-HLOOKUP(X20,Feuil1!$C$1:$BL$10,10,FALSE)","v":-918},null,null,null,null,null,null,{"$f":"IF(AJ20>=0,$AJ$4,IF(AI20>=0,$AI$4,IF(AH20>=0,$AH$4,IF(AG20>=0,$AG$4,IF(AF20>=0,$AF$4,IF(AE20>=0,$AE$4,IF(AD20>=0,$AD$4,IF(AC20>=0,$AC$4,$AB$4))))))))","v":"FED +"}]
["F","NE","CHA",4,355066,"MECHIACK","Chloé",2001,54.7,"Langres HM","F",27,-30,30,{"$f":"IF(H21=\"\",\"\",IF(MAXA(L21:N21)<=0,0,MAXA(L21:N21)))","v":30},35,38,40,{"$f":"IF(H21=\"\",\"\",IF(MAXA(P21:R21)<=0,0,MAXA(P21:R21)))","v":40},{"$f":"IF(H21=\"\",\"\",IF(OR(O21=0,S21=0),0,O21+S21))","v":70},{"$f":"T21-I21*2","v":-39.400000000000006},{"$f":"IF(H21=\"\",\"\",AQ21)","v":"IRG +"},{"$f":"IF(AJ21>=0,AJ21,IF(AI21>=0,AI21,IF(AH21>=0,AH21,IF(AG21>=0,AG21,IF(AF21>=0,AF21,IF(AE21>=0,AE21,IF(AD21>=0,AD21,IF(AC21>=0,AC21,AB21))))))))","v":0},{"$f":"IF(I21=\"\",\"\",IF(A21=\"H\",IF(OR(H21=\"SEN\",H21<1995),VLOOKUP(I21,Feuil1!$A$11:$G$29,6),IF(AND(H21>1994,H21<1998),VLOOKUP(I21,Feuil1!$A$11:$G$29,5),IF(AND(H21>1997,H21<2000),VLOOKUP(I21,Feuil1!$A$11:$G$29,4),IF(AND(H21>1999,H21<2002),VLOOKUP(I21,Feuil1!$A$11:$G$29,3),VLOOKUP(I21,Feuil1!$A$11:$G$29,2))))),IF(OR(H21=\"SEN\",H21<1995),VLOOKUP(I21,Feuil1!$G$11:$L$25,6),IF(AND(H21>1994,H21<1998),VLOOKUP(I21,Feuil1!$G$11:$L$25,5),IF(AND(H21>1997,H21<2000),VLOOKUP(I21,Feuil1!$G$11:$L$25,4),IF(AND(H21>1999,H21<2002),VLOOKUP(I21,Feuil1!$G$11:$L$25,3),VLOOKUP(I21,Feuil1!$G$11:$L$25,2)))))))","v":"FC1 58"},{"$f":"IF(I21=\"\",\"\",IF(A21=\"H\",10^(0.794358141*LOG(I21/174.393)^2)*T21,IF(A21=\"F\",10^(0.89726074*LOG(I21/148.026)^2)*T21,\"\")))","v":102.9960087430126},null," ",{"$f":"T21-HLOOKUP(X21,Feuil1!$C$1:$BL$10,2,FALSE)","v":30},{"$f":"T21-HLOOKUP(X21,Feuil1!$C$1:$BL$10,3,FALSE)","v":20},{"$f":"T21-HLOOKUP(X21,Feuil1!$C$1:$BL$10,4,FALSE)","v":10},{"$f":"T21-HLOOKUP(X21,Feuil1!$C$1:$BL$10,5,FALSE)","v":0},{"$f":"T21-HLOOKUP(X21,Feuil1!$C$1:$BL$10,6,FALSE)","v":-10},{"$f":"T21-HLOOKUP(X21,Feuil1!$C$1:$BL$10,7,FALSE)","v":-20},{"$f":"T21-HLOOKUP(X21,Feuil1!$C$1:$BL$10,8,FALSE)","v":-30},{"$f":"T21-HLOOKUP(X21,Feuil1!$C$1:$BL$10,9,FALSE)","v":-45},{"$f":"T21-HLOOKUP(X21,Feuil1!$C$1:$BL$10,10,FALSE)","v":-930},null,null,null,null,null,null,{"$f":"IF(AJ21>=0,$AJ$4,IF(AI21>=0,$AI$4,IF(AH21>=0,$AH$4,IF(AG21>=0,$AG$4,IF(AF21>=0,$AF$4,IF(AE21>=0,$AE$4,IF(AD21>=0,$AD$4,IF(AC21>=0,$AC$4,$AB$4))))))))","v":"IRG +"}]
[]
["F","SO","AQU",1,277040,"GIRAUD","Hectorine",2000,58.1,"ASOA  AQUITAINE","F",35,-37,-37,35,47,50,-52,50,85,-31.200000000000003,"FED +",0,{"$f":"IF(I23=\"\",\"\",IF(A23=\"H\",IF(OR(H23=\"SEN\",H23<1995),VLOOKUP(I23,Feuil1!$A$11:$G$29,6),IF(AND(H23>1994,H23<1998),VLOOKUP(I23,Feuil1!$A$11:$G$29,5),IF(AND(H23>1997,H23<2000),VLOOKUP(I23,Feuil1!$A$11:$G$29,4),IF(AND(H23>1999,H23<2002),VLOOKUP(I23,Feuil1!$A$11:$G$29,3),VLOOKUP(I23,Feuil1!$A$11:$G$29,2))))),IF(OR(H23=\"SEN\",H23<1995),VLOOKUP(I23,Feuil1!$G$11:$L$25,6),IF(AND(H23>1994,H23<1998),VLOOKUP(I23,Feuil1!$G$11:$L$25,5),IF(AND(H23>1997,H23<2000),VLOOKUP(I23,Feuil1!$G$11:$L$25,4),IF(AND(H23>1999,H23<2002),VLOOKUP(I23,Feuil1!$G$11:$L$25,3),VLOOKUP(I23,Feuil1!$G$11:$L$25,2)))))))","v":"FC1 63"},119.51922160638561,null," ",{"$f":"T23-HLOOKUP(X23,Feuil1!$C$1:$BL$10,2,FALSE)","v":40},{"$f":"T23-HLOOKUP(X23,Feuil1!$C$1:$BL$10,3,FALSE)","v":30},{"$f":"T23-HLOOKUP(X23,Feuil1!$C$1:$BL$10,4,FALSE)","v":20},{"$f":"T23-HLOOKUP(X23,Feuil1!$C$1:$BL$10,5,FALSE)","v":10},{"$f":"T23-HLOOKUP(X23,Feuil1!$C$1:$BL$10,6,FALSE)","v":0},{"$f":"T23-HLOOKUP(X23,Feuil1!$C$1:$BL$10,7,FALSE)","v":-10},{"$f":"T23-HLOOKUP(X23,Feuil1!$C$1:$BL$10,8,FALSE)","v":-25},{"$f":"T23-HLOOKUP(X23,Feuil1!$C$1:$BL$10,9,FALSE)","v":-40},{"$f":"T23-HLOOKUP(X23,Feuil1!$C$1:$BL$10,10,FALSE)","v":-915},null,null,null,null,null,null,"FED +"]
[]
["F","Nord","NPC",1,300212,"GUILLEMIN","Elise",2000,67.540000000000006,"CA Rosendael","F",37,39,-41,39,52,55,57,57,96,-39.080000000000013,"FED +",6,{"$f":"IF(I25=\"\",\"\",IF(A25=\"H\",IF(OR(H25=\"SEN\",H25<1995),VLOOKUP(I25,Feuil1!$A$11:$G$29,6),IF(AND(H25>1994,H25<1998),VLOOKUP(I25,Feuil1!$A$11:$G$29,5),IF(AND(H25>1997,H25<2000),VLOOKUP(I25,Feuil1!$A$11:$G$29,4),IF(AND(H25>1999,H25<2002),VLOOKUP(I25,Feuil1!$A$11:$G$29,3),VLOOKUP(I25,Feuil1!$A$11:$G$29,2))))),IF(OR(H25=\"SEN\",H25<1995),VLOOKUP(I25,Feuil1!$G$11:$L$25,6),IF(AND(H25>1994,H25<1998),VLOOKUP(I25,Feuil1!$G$11:$L$25,5),IF(AND(H25>1997,H25<2000),VLOOKUP(I25,Feuil1!$G$11:$L$25,4),IF(AND(H25>1999,H25<2002),VLOOKUP(I25,Feuil1!$G$11:$L$25,3),VLOOKUP(I25,Feuil1!$G$11:$L$25,2)))))))","v":"FC1 69"},122.03071637613849,null," ",{"$f":"T25-HLOOKUP(X25,Feuil1!$C$1:$BL$10,2,FALSE)","v":46},{"$f":"T25-HLOOKUP(X25,Feuil1!$C$1:$BL$10,3,FALSE)","v":36},{"$f":"T25-HLOOKUP(X25,Feuil1!$C$1:$BL$10,4,FALSE)","v":26},{"$f":"T25-HLOOKUP(X25,Feuil1!$C$1:$BL$10,5,FALSE)","v":16},{"$f":"T25-HLOOKUP(X25,Feuil1!$C$1:$BL$10,6,FALSE)","v":6},{"$f":"T25-HLOOKUP(X25,Feuil1!$C$1:$BL$10,7,FALSE)","v":-9},{"$f":"T25-HLOOKUP(X25,Feuil1!$C$1:$BL$10,8,FALSE)","v":-24},{"$f":"T25-HLOOKUP(X25,Feuil1!$C$1:$BL$10,9,FALSE)","v":-39},{"$f":"T25-HLOOKUP(X25,Feuil1!$C$1:$BL$10,10,FALSE)","v":-904},null,null,null,null,null,null,"FED +"]
["F","SEST","CAZ",2,391830,"GIANNETTI","Margot",2000,68.150000000000006,"E.S. VILLENEUVE LOUBET","F",36,39,-41,39,41,46,-51,46,85,-51.300000000000011,"IRG +",5,{"$f":"IF(I26=\"\",\"\",IF(A26=\"H\",IF(OR(H26=\"SEN\",H26<1995),VLOOKUP(I26,Feuil1!$A$11:$G$29,6),IF(AND(H26>1994,H26<1998),VLOOKUP(I26,Feuil1!$A$11:$G$29,5),IF(AND(H26>1997,H26<2000),VLOOKUP(I26,Feuil1!$A$11:$G$29,4),IF(AND(H26>1999,H26<2002),VLOOKUP(I26,Feuil1!$A$11:$G$29,3),VLOOKUP(I26,Feuil1!$A$11:$G$29,2))))),IF(OR(H26=\"SEN\",H26<1995),VLOOKUP(I26,Feuil1!$G$11:$L$25,6),IF(AND(H26>1994,H26<1998),VLOOKUP(I26,Feuil1!$G$11:$L$25,5),IF(AND(H26>1997,H26<2000),VLOOKUP(I26,Feuil1!$G$11:$L$25,4),IF(AND(H26>1999,H26<2002),VLOOKUP(I26,Feuil1!$G$11:$L$25,3),VLOOKUP(I26,Feuil1!$G$11:$L$25,2)))))))","v":"FC1 69"},107.4589576654575,null," ",{"$f":"T26-HLOOKUP(X26,Feuil1!$C$1:$BL$10,2,FALSE)","v":35},{"$f":"T26-HLOOKUP(X26,Feuil1!$C$1:$BL$10,3,FALSE)","v":25},{"$f":"T26-HLOOKUP(X26,Feuil1!$C$1:$BL$10,4,FALSE)","v":15},{"$f":"T26-HLOOKUP(X26,Feuil1!$C$1:$BL$10,5,FALSE)","v":5},{"$f":"T26-HLOOKUP(X26,Feuil1!$C$1:$BL$10,6,FALSE)","v":-5},{"$f":"T26-HLOOKUP(X26,Feuil1!$C$1:$BL$10,7,FALSE)","v":-20},{"$f":"T26-HLOOKUP(X26,Feuil1!$C$1:$BL$10,8,FALSE)","v":-35},{"$f":"T26-HLOOKUP(X26,Feuil1!$C$1:$BL$10,9,FALSE)","v":-50},{"$f":"T26-HLOOKUP(X26,Feuil1!$C$1:$BL$10,10,FALSE)","v":-915},null,null,null,null,null,null,"IRG +"]
[]
["F","CO","PDL",1,378711,"COGNON","Alexia",2000,71.849999999999994,"CJF Laval-Voutré","F",-45,45,47,47,58,60,62,62,109,-34.699999999999989,"FED +",4,{"$f":"IF(I28=\"\",\"\",IF(A28=\"H\",IF(OR(H28=\"SEN\",H28<1995),VLOOKUP(I28,Feuil1!$A$11:$G$29,6),IF(AND(H28>1994,H28<1998),VLOOKUP(I28,Feuil1!$A$11:$G$29,5),IF(AND(H28>1997,H28<2000),VLOOKUP(I28,Feuil1!$A$11:$G$29,4),IF(AND(H28>1999,H28<2002),VLOOKUP(I28,Feuil1!$A$11:$G$29,3),VLOOKUP(I28,Feuil1!$A$11:$G$29,2))))),IF(OR(H28=\"SEN\",H28<1995),VLOOKUP(I28,Feuil1!$G$11:$L$25,6),IF(AND(H28>1994,H28<1998),VLOOKUP(I28,Feuil1!$G$11:$L$25,5),IF(AND(H28>1997,H28<2000),VLOOKUP(I28,Feuil1!$G$11:$L$25,4),IF(AND(H28>1999,H28<2002),VLOOKUP(I28,Feuil1!$G$11:$L$25,3),VLOOKUP(I28,Feuil1!$G$11:$L$25,2)))))))","v":"FC1 +69"},133.61118184160409,null," ",{"$f":"T28-HLOOKUP(X28,Feuil1!$C$1:$BL$10,2,FALSE)","v":49},{"$f":"T28-HLOOKUP(X28,Feuil1!$C$1:$BL$10,3,FALSE)","v":39},{"$f":"T28-HLOOKUP(X28,Feuil1!$C$1:$BL$10,4,FALSE)","v":29},{"$f":"T28-HLOOKUP(X28,Feuil1!$C$1:$BL$10,5,FALSE)","v":14},{"$f":"T28-HLOOKUP(X28,Feuil1!$C$1:$BL$10,6,FALSE)","v":4},{"$f":"T28-HLOOKUP(X28,Feuil1!$C$1:$BL$10,7,FALSE)","v":-6},{"$f":"T28-HLOOKUP(X28,Feuil1!$C$1:$BL$10,8,FALSE)","v":-21},{"$f":"T28-HLOOKUP(X28,Feuil1!$C$1:$BL$10,9,FALSE)","v":-36},{"$f":"T28-HLOOKUP(X28,Feuil1!$C$1:$BL$10,10,FALSE)","v":-891},null,null,null,null,null,null,"FED +"]
[]
[]
["H","DOM","REU",1,239770,"ESSOB","ETIENNE",2001,43.5,"SCHM St Paul","F",-42,42,-45,{"$f":"IF(H31=\"\",\"\",IF(MAXA(L31:N31)<=0,0,MAXA(L31:N31)))","v":42},50,52,-54,{"$f":"IF(H31=\"\",\"\",IF(MAXA(P31:R31)<=0,0,MAXA(P31:R31)))","v":52},{"$f":"IF(H31=\"\",\"\",IF(OR(O31=0,S31=0),0,O31+S31))","v":94},{"$f":"T31-I31*2","v":7},{"$f":"IF(H31=\"\",\"\",AQ31)","v":"FED +"},{"$f":"IF(AJ31>=0,AJ31,IF(AI31>=0,AI31,IF(AH31>=0,AH31,IF(AG31>=0,AG31,IF(AF31>=0,AF31,IF(AE31>=0,AE31,IF(AD31>=0,AD31,IF(AC31>=0,AC31,AB31))))))))","v":4},{"$f":"IF(I31=\"\",\"\",IF(A31=\"H\",IF(OR(H31=\"SEN\",H31<1995),VLOOKUP(I31,Feuil1!$A$11:$G$29,6),IF(AND(H31>1994,H31<1998),VLOOKUP(I31,Feuil1!$A$11:$G$29,5),IF(AND(H31>1997,H31<2000),VLOOKUP(I31,Feuil1!$A$11:$G$29,4),IF(AND(H31>1999,H31<2002),VLOOKUP(I31,Feuil1!$A$11:$G$29,3),VLOOKUP(I31,Feuil1!$A$11:$G$29,2))))),IF(OR(H31=\"SEN\",H31<1995),VLOOKUP(I31,Feuil1!$G$11:$L$25,6),IF(AND(H31>1994,H31<1998),VLOOKUP(I31,Feuil1!$G$11:$L$25,5),IF(AND(H31>1997,H31<2000),VLOOKUP(I31,Feuil1!$G$11:$L$25,4),IF(AND(H31>1999,H31<2002),VLOOKUP(I31,Feuil1!$G$11:$L$25,3),VLOOKUP(I31,Feuil1!$G$11:$L$25,2)))))))","v":"C1 45"},{"$f":"IF(I31=\"\",\"\",IF(A31=\"H\",10^(0.794358141*LOG(I31/174.393)^2)*T31,IF(A31=\"F\",10^(0.89726074*LOG(I31/148.026)^2)*T31,\"\")))","v":182.81075592954539},null," ",{"$f":"T31-HLOOKUP(X31,Feuil1!$C$1:$BL$10,2,FALSE)","v":59},{"$f":"T31-HLOOKUP(X31,Feuil1!$C$1:$BL$10,3,FALSE)","v":44},{"$f":"T31-HLOOKUP(X31,Feuil1!$C$1:$BL$10,4,FALSE)","v":34},{"$f":"T31-HLOOKUP(X31,Feuil1!$C$1:$BL$10,5,FALSE)","v":19},{"$f":"T31-HLOOKUP(X31,Feuil1!$C$1:$BL$10,6,FALSE)","v":4},{"$f":"T31-HLOOKUP(X31,Feuil1!$C$1:$BL$10,7,FALSE)","v":-11},{"$f":"T31-HLOOKUP(X31,Feuil1!$C$1:$BL$10,8,FALSE)","v":-21},{"$f":"T31-HLOOKUP(X31,Feuil1!$C$1:$BL$10,9,FALSE)","v":-36},{"$f":"T31-HLOOKUP(X31,Feuil1!$C$1:$BL$10,10,FALSE)","v":-906},null,null,null,null,null,null,{"$f":"IF(AJ31>=0,$AJ$4,IF(AI31>=0,$AI$4,IF(AH31>=0,$AH$4,IF(AG31>=0,$AG$4,IF(AF31>=0,$AF$4,IF(AE31>=0,$AE$4,IF(AD31>=0,$AD$4,IF(AC31>=0,$AC$4,$AB$4))))))))","v":"FED +"}]
[]
["H","DOM","REU",1,275413,"ESSOB","David",2001,46.16,"SCHM SAINT PAUL","F",43,46,48,{"$f":"IF(H33=\"\",\"\",IF(MAXA(L33:N33)<=0,0,MAXA(L33:N33)))","v":48},50,52,58,{"$f":"IF(H33=\"\",\"\",IF(MAXA(P33:R33)<=0,0,MAXA(P33:R33)))","v":58},{"$f":"IF(H33=\"\",\"\",IF(OR(O33=0,S33=0),0,O33+S33))","v":106},{"$f":"T33-I33*2","v":13.680000000000007},{"$f":"IF(H33=\"\",\"\",AQ33)","v":"FED +"},{"$f":"IF(AJ33>=0,AJ33,IF(AI33>=0,AI33,IF(AH33>=0,AH33,IF(AG33>=0,AG33,IF(AF33>=0,AF33,IF(AE33>=0,AE33,IF(AD33>=0,AD33,IF(AC33>=0,AC33,AB33))))))))","v":11},{"$f":"IF(I33=\"\",\"\",IF(A33=\"H\",IF(OR(H33=\"SEN\",H33<1995),VLOOKUP(I33,Feuil1!$A$11:$G$29,6),IF(AND(H33>1994,H33<1998),VLOOKUP(I33,Feuil1!$A$11:$G$29,5),IF(AND(H33>1997,H33<2000),VLOOKUP(I33,Feuil1!$A$11:$G$29,4),IF(AND(H33>1999,H33<2002),VLOOKUP(I33,Feuil1!$A$11:$G$29,3),VLOOKUP(I33,Feuil1!$A$11:$G$29,2))))),IF(OR(H33=\"SEN\",H33<1995),VLOOKUP(I33,Feuil1!$G$11:$L$25,6),IF(AND(H33>1994,H33<1998),VLOOKUP(I33,Feuil1!$G$11:$L$25,5),IF(AND(H33>1997,H33<2000),VLOOKUP(I33,Feuil1!$G$11:$L$25,4),IF(AND(H33>1999,H33<2002),VLOOKUP(I33,Feuil1!$G$11:$L$25,3),VLOOKUP(I33,Feuil1!$G$11:$L$25,2)))))))","v":"C1 50"},{"$f":"IF(I33=\"\",\"\",IF(A33=\"H\",10^(0.794358141*LOG(I33/174.393)^2)*T33,IF(A33=\"F\",10^(0.89726074*LOG(I33/148.026)^2)*T33,\"\")))","v":194.98989210575024},null," ",{"$f":"T33-HLOOKUP(X33,Feuil1!$C$1:$BL$10,2,FALSE)","v":66},{"$f":"T33-HLOOKUP(X33,Feuil1!$C$1:$BL$10,3,FALSE)","v":51},{"$f":"T33-HLOOKUP(X33,Feuil1!$C$1:$BL$10,4,FALSE)","v":41},{"$f":"T33-HLOOKUP(X33,Feuil1!$C$1:$BL$10,5,FALSE)","v":26},{"$f":"T33-HLOOKUP(X33,Feuil1!$C$1:$BL$10,6,FALSE)","v":11},{"$f":"T33-HLOOKUP(X33,Feuil1!$C$1:$BL$10,7,FALSE)","v":-4},{"$f":"T33-HLOOKUP(X33,Feuil1!$C$1:$BL$10,8,FALSE)","v":-14},{"$f":"T33-HLOOKUP(X33,Feuil1!$C$1:$BL$10,9,FALSE)","v":-29},{"$f":"T33-HLOOKUP(X33,Feuil1!$C$1:$BL$10,10,FALSE)","v":-894},null,null,null,null,null,null,{"$f":"IF(AJ33>=0,$AJ$4,IF(AI33>=0,$AI$4,IF(AH33>=0,$AH$4,IF(AG33>=0,$AG$4,IF(AF33>=0,$AF$4,IF(AE33>=0,$AE$4,IF(AD33>=0,$AD$4,IF(AC33>=0,$AC$4,$AB$4))))))))","v":"FED +"}]
["H","SEST","CAZ",2,376235,"JOLY","Lucas",2000,49.4,"E.S. VILLENEUVE LOUBET","F",42,45,-47,45,55,-58,59,59,104,5.2000000000000028,"FED +",9,{"$f":"IF(I34=\"\",\"\",IF(A34=\"H\",IF(OR(H34=\"SEN\",H34<1995),VLOOKUP(I34,Feuil1!$A$11:$G$29,6),IF(AND(H34>1994,H34<1998),VLOOKUP(I34,Feuil1!$A$11:$G$29,5),IF(AND(H34>1997,H34<2000),VLOOKUP(I34,Feuil1!$A$11:$G$29,4),IF(AND(H34>1999,H34<2002),VLOOKUP(I34,Feuil1!$A$11:$G$29,3),VLOOKUP(I34,Feuil1!$A$11:$G$29,2))))),IF(OR(H34=\"SEN\",H34<1995),VLOOKUP(I34,Feuil1!$G$11:$L$25,6),IF(AND(H34>1994,H34<1998),VLOOKUP(I34,Feuil1!$G$11:$L$25,5),IF(AND(H34>1997,H34<2000),VLOOKUP(I34,Feuil1!$G$11:$L$25,4),IF(AND(H34>1999,H34<2002),VLOOKUP(I34,Feuil1!$G$11:$L$25,3),VLOOKUP(I34,Feuil1!$G$11:$L$25,2)))))))","v":"C1 50"},180.05699687511384,null," ",{"$f":"T34-HLOOKUP(X34,Feuil1!$C$1:$BL$10,2,FALSE)","v":64},{"$f":"T34-HLOOKUP(X34,Feuil1!$C$1:$BL$10,3,FALSE)","v":49},{"$f":"T34-HLOOKUP(X34,Feuil1!$C$1:$BL$10,4,FALSE)","v":39},{"$f":"T34-HLOOKUP(X34,Feuil1!$C$1:$BL$10,5,FALSE)","v":24},{"$f":"T34-HLOOKUP(X34,Feuil1!$C$1:$BL$10,6,FALSE)","v":9},{"$f":"T34-HLOOKUP(X34,Feuil1!$C$1:$BL$10,7,FALSE)","v":-6},{"$f":"T34-HLOOKUP(X34,Feuil1!$C$1:$BL$10,8,FALSE)","v":-16},{"$f":"T34-HLOOKUP(X34,Feuil1!$C$1:$BL$10,9,FALSE)","v":-31},{"$f":"T34-HLOOKUP(X34,Feuil1!$C$1:$BL$10,10,FALSE)","v":-896},null,null,null,null,null,null,"FED +"]
["H","SEST","RAL",3,373866,"PETRIS","Thomas",2000,49.7,"H.C. ST BALDOPH","F",39,-43,43,43,53,55,59,59,102,2.5999999999999943,"FED +",7,{"$f":"IF(I35=\"\",\"\",IF(A35=\"H\",IF(OR(H35=\"SEN\",H35<1995),VLOOKUP(I35,Feuil1!$A$11:$G$29,6),IF(AND(H35>1994,H35<1998),VLOOKUP(I35,Feuil1!$A$11:$G$29,5),IF(AND(H35>1997,H35<2000),VLOOKUP(I35,Feuil1!$A$11:$G$29,4),IF(AND(H35>1999,H35<2002),VLOOKUP(I35,Feuil1!$A$11:$G$29,3),VLOOKUP(I35,Feuil1!$A$11:$G$29,2))))),IF(OR(H35=\"SEN\",H35<1995),VLOOKUP(I35,Feuil1!$G$11:$L$25,6),IF(AND(H35>1994,H35<1998),VLOOKUP(I35,Feuil1!$G$11:$L$25,5),IF(AND(H35>1997,H35<2000),VLOOKUP(I35,Feuil1!$G$11:$L$25,4),IF(AND(H35>1999,H35<2002),VLOOKUP(I35,Feuil1!$G$11:$L$25,3),VLOOKUP(I35,Feuil1!$G$11:$L$25,2)))))))","v":"C1 50"},175.66851092839252,null," ",{"$f":"T35-HLOOKUP(X35,Feuil1!$C$1:$BL$10,2,FALSE)","v":62},{"$f":"T35-HLOOKUP(X35,Feuil1!$C$1:$BL$10,3,FALSE)","v":47},{"$f":"T35-HLOOKUP(X35,Feuil1!$C$1:$BL$10,4,FALSE)","v":37},{"$f":"T35-HLOOKUP(X35,Feuil1!$C$1:$BL$10,5,FALSE)","v":22},{"$f":"T35-HLOOKUP(X35,Feuil1!$C$1:$BL$10,6,FALSE)","v":7},{"$f":"T35-HLOOKUP(X35,Feuil1!$C$1:$BL$10,7,FALSE)","v":-8},{"$f":"T35-HLOOKUP(X35,Feuil1!$C$1:$BL$10,8,FALSE)","v":-18},{"$f":"T35-HLOOKUP(X35,Feuil1!$C$1:$BL$10,9,FALSE)","v":-33},{"$f":"T35-HLOOKUP(X35,Feuil1!$C$1:$BL$10,10,FALSE)","v":-898},null,null,null,null,null,null,"FED +"]
["H","NE","BOU",4,326196,"FORMYSIN","Samuel",2000,48.2,"Tournus H","F",41,43,45,45,50,53,55,55,100,3.5999999999999943,"FED +",5,{"$f":"IF(I36=\"\",\"\",IF(A36=\"H\",IF(OR(H36=\"SEN\",H36<1995),VLOOKUP(I36,Feuil1!$A$11:$G$29,6),IF(AND(H36>1994,H36<1998),VLOOKUP(I36,Feuil1!$A$11:$G$29,5),IF(AND(H36>1997,H36<2000),VLOOKUP(I36,Feuil1!$A$11:$G$29,4),IF(AND(H36>1999,H36<2002),VLOOKUP(I36,Feuil1!$A$11:$G$29,3),VLOOKUP(I36,Feuil1!$A$11:$G$29,2))))),IF(OR(H36=\"SEN\",H36<1995),VLOOKUP(I36,Feuil1!$G$11:$L$25,6),IF(AND(H36>1994,H36<1998),VLOOKUP(I36,Feuil1!$G$11:$L$25,5),IF(AND(H36>1997,H36<2000),VLOOKUP(I36,Feuil1!$G$11:$L$25,4),IF(AND(H36>1999,H36<2002),VLOOKUP(I36,Feuil1!$G$11:$L$25,3),VLOOKUP(I36,Feuil1!$G$11:$L$25,2)))))))","v":"C1 50"},176.91392458915567,null," ",{"$f":"T36-HLOOKUP(X36,Feuil1!$C$1:$BL$10,2,FALSE)","v":60},{"$f":"T36-HLOOKUP(X36,Feuil1!$C$1:$BL$10,3,FALSE)","v":45},{"$f":"T36-HLOOKUP(X36,Feuil1!$C$1:$BL$10,4,FALSE)","v":35},{"$f":"T36-HLOOKUP(X36,Feuil1!$C$1:$BL$10,5,FALSE)","v":20},{"$f":"T36-HLOOKUP(X36,Feuil1!$C$1:$BL$10,6,FALSE)","v":5},{"$f":"T36-HLOOKUP(X36,Feuil1!$C$1:$BL$10,7,FALSE)","v":-10},{"$f":"T36-HLOOKUP(X36,Feuil1!$C$1:$BL$10,8,FALSE)","v":-20},{"$f":"T36-HLOOKUP(X36,Feuil1!$C$1:$BL$10,9,FALSE)","v":-35},{"$f":"T36-HLOOKUP(X36,Feuil1!$C$1:$BL$10,10,FALSE)","v":-900},null,null,null,null,null,null,"FED +"]
["H","Nord","NPC",5,351701,"BOUGEARD","Dylan",2001,46.2,"AO Sallaumines","F",37,40,-42,40,48,51,-53,51,91,-1.4000000000000057,"IRG +",11,{"$f":"IF(I37=\"\",\"\",IF(A37=\"H\",IF(OR(H37=\"SEN\",H37<1995),VLOOKUP(I37,Feuil1!$A$11:$G$29,6),IF(AND(H37>1994,H37<1998),VLOOKUP(I37,Feuil1!$A$11:$G$29,5),IF(AND(H37>1997,H37<2000),VLOOKUP(I37,Feuil1!$A$11:$G$29,4),IF(AND(H37>1999,H37<2002),VLOOKUP(I37,Feuil1!$A$11:$G$29,3),VLOOKUP(I37,Feuil1!$A$11:$G$29,2))))),IF(OR(H37=\"SEN\",H37<1995),VLOOKUP(I37,Feuil1!$G$11:$L$25,6),IF(AND(H37>1994,H37<1998),VLOOKUP(I37,Feuil1!$G$11:$L$25,5),IF(AND(H37>1997,H37<2000),VLOOKUP(I37,Feuil1!$G$11:$L$25,4),IF(AND(H37>1999,H37<2002),VLOOKUP(I37,Feuil1!$G$11:$L$25,3),VLOOKUP(I37,Feuil1!$G$11:$L$25,2)))))))","v":"C1 50"},167.26410272458736,null," ",{"$f":"T37-HLOOKUP(X37,Feuil1!$C$1:$BL$10,2,FALSE)","v":51},{"$f":"T37-HLOOKUP(X37,Feuil1!$C$1:$BL$10,3,FALSE)","v":36},{"$f":"T37-HLOOKUP(X37,Feuil1!$C$1:$BL$10,4,FALSE)","v":26},{"$f":"T37-HLOOKUP(X37,Feuil1!$C$1:$BL$10,5,FALSE)","v":11},{"$f":"T37-HLOOKUP(X37,Feuil1!$C$1:$BL$10,6,FALSE)","v":-4},{"$f":"T37-HLOOKUP(X37,Feuil1!$C$1:$BL$10,7,FALSE)","v":-19},{"$f":"T37-HLOOKUP(X37,Feuil1!$C$1:$BL$10,8,FALSE)","v":-29},{"$f":"T37-HLOOKUP(X37,Feuil1!$C$1:$BL$10,9,FALSE)","v":-44},{"$f":"T37-HLOOKUP(X37,Feuil1!$C$1:$BL$10,10,FALSE)","v":-909},null,null,null,null,null,null,"IRG +"]
["H","NE","ALS",6,341767,"MELAO","Anthony",2001,48.8,"Dorlisheim FH","F",34,37,-39,37,45,47,49,49,86,-11.599999999999994,"IRG +",6,{"$f":"IF(I38=\"\",\"\",IF(A38=\"H\",IF(OR(H38=\"SEN\",H38<1995),VLOOKUP(I38,Feuil1!$A$11:$G$29,6),IF(AND(H38>1994,H38<1998),VLOOKUP(I38,Feuil1!$A$11:$G$29,5),IF(AND(H38>1997,H38<2000),VLOOKUP(I38,Feuil1!$A$11:$G$29,4),IF(AND(H38>1999,H38<2002),VLOOKUP(I38,Feuil1!$A$11:$G$29,3),VLOOKUP(I38,Feuil1!$A$11:$G$29,2))))),IF(OR(H38=\"SEN\",H38<1995),VLOOKUP(I38,Feuil1!$G$11:$L$25,6),IF(AND(H38>1994,H38<1998),VLOOKUP(I38,Feuil1!$G$11:$L$25,5),IF(AND(H38>1997,H38<2000),VLOOKUP(I38,Feuil1!$G$11:$L$25,4),IF(AND(H38>1999,H38<2002),VLOOKUP(I38,Feuil1!$G$11:$L$25,3),VLOOKUP(I38,Feuil1!$G$11:$L$25,2)))))))","v":"C1 50"},150.49299721581437,null," ",{"$f":"T38-HLOOKUP(X38,Feuil1!$C$1:$BL$10,2,FALSE)","v":46},{"$f":"T38-HLOOKUP(X38,Feuil1!$C$1:$BL$10,3,FALSE)","v":31},{"$f":"T38-HLOOKUP(X38,Feuil1!$C$1:$BL$10,4,FALSE)","v":21},{"$f":"T38-HLOOKUP(X38,Feuil1!$C$1:$BL$10,5,FALSE)","v":6},{"$f":"T38-HLOOKUP(X38,Feuil1!$C$1:$BL$10,6,FALSE)","v":-9},{"$f":"T38-HLOOKUP(X38,Feuil1!$C$1:$BL$10,7,FALSE)","v":-24},{"$f":"T38-HLOOKUP(X38,Feuil1!$C$1:$BL$10,8,FALSE)","v":-34},{"$f":"T38-HLOOKUP(X38,Feuil1!$C$1:$BL$10,9,FALSE)","v":-49},{"$f":"T38-HLOOKUP(X38,Feuil1!$C$1:$BL$10,10,FALSE)","v":-914},null,null,null,null,null,null,"IRG +"]
["H","NE","BOU",7,345094,"WITTMANN","Maxime",2001,49.9,"ASO Mont de Rême","F",-32,32,34,34,44,46,-48,46,80,-19.799999999999997,"IRG +",0,{"$f":"IF(I39=\"\",\"\",IF(A39=\"H\",IF(OR(H39=\"SEN\",H39<1995),VLOOKUP(I39,Feuil1!$A$11:$G$29,6),IF(AND(H39>1994,H39<1998),VLOOKUP(I39,Feuil1!$A$11:$G$29,5),IF(AND(H39>1997,H39<2000),VLOOKUP(I39,Feuil1!$A$11:$G$29,4),IF(AND(H39>1999,H39<2002),VLOOKUP(I39,Feuil1!$A$11:$G$29,3),VLOOKUP(I39,Feuil1!$A$11:$G$29,2))))),IF(OR(H39=\"SEN\",H39<1995),VLOOKUP(I39,Feuil1!$G$11:$L$25,6),IF(AND(H39>1994,H39<1998),VLOOKUP(I39,Feuil1!$G$11:$L$25,5),IF(AND(H39>1997,H39<2000),VLOOKUP(I39,Feuil1!$G$11:$L$25,4),IF(AND(H39>1999,H39<2002),VLOOKUP(I39,Feuil1!$G$11:$L$25,3),VLOOKUP(I39,Feuil1!$G$11:$L$25,2)))))))","v":"C1 50"},137.30156718303891,null," ",{"$f":"T39-HLOOKUP(X39,Feuil1!$C$1:$BL$10,2,FALSE)","v":40},{"$f":"T39-HLOOKUP(X39,Feuil1!$C$1:$BL$10,3,FALSE)","v":25},{"$f":"T39-HLOOKUP(X39,Feuil1!$C$1:$BL$10,4,FALSE)","v":15},{"$f":"T39-HLOOKUP(X39,Feuil1!$C$1:$BL$10,5,FALSE)","v":0},{"$f":"T39-HLOOKUP(X39,Feuil1!$C$1:$BL$10,6,FALSE)","v":-15},{"$f":"T39-HLOOKUP(X39,Feuil1!$C$1:$BL$10,7,FALSE)","v":-30},{"$f":"T39-HLOOKUP(X39,Feuil1!$C$1:$BL$10,8,FALSE)","v":-40},{"$f":"T39-HLOOKUP(X39,Feuil1!$C$1:$BL$10,9,FALSE)","v":-55},{"$f":"T39-HLOOKUP(X39,Feuil1!$C$1:$BL$10,10,FALSE)","v":-920},null,null,null,null,null,null,"IRG +"]
[]
["H","Nord","NPC",1,248932,"BUYSSCHAERT","Eliott",2000,55,"CHCD Comines","F",65,67,-68,{"$f":"IF(H41=\"\",\"\",IF(MAXA(L41:N41)<=0,0,MAXA(L41:N41)))","v":67},75,78,82,{"$f":"IF(H41=\"\",\"\",IF(MAXA(P41:R41)<=0,0,MAXA(P41:R41)))","v":82},{"$f":"IF(H41=\"\",\"\",IF(OR(O41=0,S41=0),0,O41+S41))","v":149},{"$f":"T41-I41*2","v":39},{"$f":"IF(H41=\"\",\"\",AQ41)","v":"INTB +"},{"$f":"IF(AJ41>=0,AJ41,IF(AI41>=0,AI41,IF(AH41>=0,AH41,IF(AG41>=0,AG41,IF(AF41>=0,AF41,IF(AE41>=0,AE41,IF(AD41>=0,AD41,IF(AC41>=0,AC41,AB41))))))))","v":4},{"$f":"IF(I41=\"\",\"\",IF(A41=\"H\",IF(OR(H41=\"SEN\",H41<1995),VLOOKUP(I41,Feuil1!$A$11:$G$29,6),IF(AND(H41>1994,H41<1998),VLOOKUP(I41,Feuil1!$A$11:$G$29,5),IF(AND(H41>1997,H41<2000),VLOOKUP(I41,Feuil1!$A$11:$G$29,4),IF(AND(H41>1999,H41<2002),VLOOKUP(I41,Feuil1!$A$11:$G$29,3),VLOOKUP(I41,Feuil1!$A$11:$G$29,2))))),IF(OR(H41=\"SEN\",H41<1995),VLOOKUP(I41,Feuil1!$G$11:$L$25,6),IF(AND(H41>1994,H41<1998),VLOOKUP(I41,Feuil1!$G$11:$L$25,5),IF(AND(H41>1997,H41<2000),VLOOKUP(I41,Feuil1!$G$11:$L$25,4),IF(AND(H41>1999,H41<2002),VLOOKUP(I41,Feuil1!$G$11:$L$25,3),VLOOKUP(I41,Feuil1!$G$11:$L$25,2)))))))","v":"C1 56"},{"$f":"IF(I41=\"\",\"\",IF(A41=\"H\",10^(0.794358141*LOG(I41/174.393)^2)*T41,IF(A41=\"F\",10^(0.89726074*LOG(I41/148.026)^2)*T41,\"\")))","v":235.88666550162367},null," ",{"$f":"T41-HLOOKUP(X41,Feuil1!$C$1:$BL$10,2,FALSE)","v":99},{"$f":"T41-HLOOKUP(X41,Feuil1!$C$1:$BL$10,3,FALSE)","v":79},{"$f":"T41-HLOOKUP(X41,Feuil1!$C$1:$BL$10,4,FALSE)","v":64},{"$f":"T41-HLOOKUP(X41,Feuil1!$C$1:$BL$10,5,FALSE)","v":49},{"$f":"T41-HLOOKUP(X41,Feuil1!$C$1:$BL$10,6,FALSE)","v":34},{"$f":"T41-HLOOKUP(X41,Feuil1!$C$1:$BL$10,7,FALSE)","v":19},{"$f":"T41-HLOOKUP(X41,Feuil1!$C$1:$BL$10,8,FALSE)","v":4},{"$f":"T41-HLOOKUP(X41,Feuil1!$C$1:$BL$10,9,FALSE)","v":-21},{"$f":"T41-HLOOKUP(X41,Feuil1!$C$1:$BL$10,10,FALSE)","v":-851},null,null,null,null,null,null,{"$f":"IF(AJ41>=0,$AJ$4,IF(AI41>=0,$AI$4,IF(AH41>=0,$AH$4,IF(AG41>=0,$AG$4,IF(AF41>=0,$AF$4,IF(AE41>=0,$AE$4,IF(AD41>=0,$AD$4,IF(AC41>=0,$AC$4,$AB$4))))))))","v":"INTB +"}]
["H","Nord","NPC",2,311192,"JURKOWSKI","Alexis",2000,56,"AO Sallaumines","F",57,60,62,62,75,80,83,83,145,33,"INTB +",0,{"$f":"IF(I42=\"\",\"\",IF(A42=\"H\",IF(OR(H42=\"SEN\",H42<1995),VLOOKUP(I42,Feuil1!$A$11:$G$29,6),IF(AND(H42>1994,H42<1998),VLOOKUP(I42,Feuil1!$A$11:$G$29,5),IF(AND(H42>1997,H42<2000),VLOOKUP(I42,Feuil1!$A$11:$G$29,4),IF(AND(H42>1999,H42<2002),VLOOKUP(I42,Feuil1!$A$11:$G$29,3),VLOOKUP(I42,Feuil1!$A$11:$G$29,2))))),IF(OR(H42=\"SEN\",H42<1995),VLOOKUP(I42,Feuil1!$G$11:$L$25,6),IF(AND(H42>1994,H42<1998),VLOOKUP(I42,Feuil1!$G$11:$L$25,5),IF(AND(H42>1997,H42<2000),VLOOKUP(I42,Feuil1!$G$11:$L$25,4),IF(AND(H42>1999,H42<2002),VLOOKUP(I42,Feuil1!$G$11:$L$25,3),VLOOKUP(I42,Feuil1!$G$11:$L$25,2)))))))","v":"C1 56"},226.30968872489066,null," ",{"$f":"T42-HLOOKUP(X42,Feuil1!$C$1:$BL$10,2,FALSE)","v":95},{"$f":"T42-HLOOKUP(X42,Feuil1!$C$1:$BL$10,3,FALSE)","v":75},{"$f":"T42-HLOOKUP(X42,Feuil1!$C$1:$BL$10,4,FALSE)","v":60},{"$f":"T42-HLOOKUP(X42,Feuil1!$C$1:$BL$10,5,FALSE)","v":45},{"$f":"T42-HLOOKUP(X42,Feuil1!$C$1:$BL$10,6,FALSE)","v":30},{"$f":"T42-HLOOKUP(X42,Feuil1!$C$1:$BL$10,7,FALSE)","v":15},{"$f":"T42-HLOOKUP(X42,Feuil1!$C$1:$BL$10,8,FALSE)","v":0},{"$f":"T42-HLOOKUP(X42,Feuil1!$C$1:$BL$10,9,FALSE)","v":-25},{"$f":"T42-HLOOKUP(X42,Feuil1!$C$1:$BL$10,10,FALSE)","v":-855},null,null,null,null,null,null,"INTB +"]
["H","SEST","RAL",3,373868,"MATHUREL","Allan",2000,55.2,"H.C. ST BALDOPH","F",56,58,-60,58,72,-77,-77,72,130,19.599999999999994,"NAT +",0,{"$f":"IF(I43=\"\",\"\",IF(A43=\"H\",IF(OR(H43=\"SEN\",H43<1995),VLOOKUP(I43,Feuil1!$A$11:$G$29,6),IF(AND(H43>1994,H43<1998),VLOOKUP(I43,Feuil1!$A$11:$G$29,5),IF(AND(H43>1997,H43<2000),VLOOKUP(I43,Feuil1!$A$11:$G$29,4),IF(AND(H43>1999,H43<2002),VLOOKUP(I43,Feuil1!$A$11:$G$29,3),VLOOKUP(I43,Feuil1!$A$11:$G$29,2))))),IF(OR(H43=\"SEN\",H43<1995),VLOOKUP(I43,Feuil1!$G$11:$L$25,6),IF(AND(H43>1994,H43<1998),VLOOKUP(I43,Feuil1!$G$11:$L$25,5),IF(AND(H43>1997,H43<2000),VLOOKUP(I43,Feuil1!$G$11:$L$25,4),IF(AND(H43>1999,H43<2002),VLOOKUP(I43,Feuil1!$G$11:$L$25,3),VLOOKUP(I43,Feuil1!$G$11:$L$25,2)))))))","v":"C1 56"},205.2141538320891,null," ",{"$f":"T43-HLOOKUP(X43,Feuil1!$C$1:$BL$10,2,FALSE)","v":80},{"$f":"T43-HLOOKUP(X43,Feuil1!$C$1:$BL$10,3,FALSE)","v":60},{"$f":"T43-HLOOKUP(X43,Feuil1!$C$1:$BL$10,4,FALSE)","v":45},{"$f":"T43-HLOOKUP(X43,Feuil1!$C$1:$BL$10,5,FALSE)","v":30},{"$f":"T43-HLOOKUP(X43,Feuil1!$C$1:$BL$10,6,FALSE)","v":15},{"$f":"T43-HLOOKUP(X43,Feuil1!$C$1:$BL$10,7,FALSE)","v":0},{"$f":"T43-HLOOKUP(X43,Feuil1!$C$1:$BL$10,8,FALSE)","v":-15},{"$f":"T43-HLOOKUP(X43,Feuil1!$C$1:$BL$10,9,FALSE)","v":-40},{"$f":"T43-HLOOKUP(X43,Feuil1!$C$1:$BL$10,10,FALSE)","v":-870},null,null,null,null,null,null,"NAT +"]
["H","NE","CHA",4,366016,"MIGEON ","Arthur",2000,55.8,"Reims HM","F",56,60,62,62,63,68,-73,68,130,18.400000000000006,"NAT +",0,{"$f":"IF(I44=\"\",\"\",IF(A44=\"H\",IF(OR(H44=\"SEN\",H44<1995),VLOOKUP(I44,Feuil1!$A$11:$G$29,6),IF(AND(H44>1994,H44<1998),VLOOKUP(I44,Feuil1!$A$11:$G$29,5),IF(AND(H44>1997,H44<2000),VLOOKUP(I44,Feuil1!$A$11:$G$29,4),IF(AND(H44>1999,H44<2002),VLOOKUP(I44,Feuil1!$A$11:$G$29,3),VLOOKUP(I44,Feuil1!$A$11:$G$29,2))))),IF(OR(H44=\"SEN\",H44<1995),VLOOKUP(I44,Feuil1!$G$11:$L$25,6),IF(AND(H44>1994,H44<1998),VLOOKUP(I44,Feuil1!$G$11:$L$25,5),IF(AND(H44>1997,H44<2000),VLOOKUP(I44,Feuil1!$G$11:$L$25,4),IF(AND(H44>1999,H44<2002),VLOOKUP(I44,Feuil1!$G$11:$L$25,3),VLOOKUP(I44,Feuil1!$G$11:$L$25,2)))))))","v":"C1 56"},203.46901043464604,null," ",{"$f":"T44-HLOOKUP(X44,Feuil1!$C$1:$BL$10,2,FALSE)","v":80},{"$f":"T44-HLOOKUP(X44,Feuil1!$C$1:$BL$10,3,FALSE)","v":60},{"$f":"T44-HLOOKUP(X44,Feuil1!$C$1:$BL$10,4,FALSE)","v":45},{"$f":"T44-HLOOKUP(X44,Feuil1!$C$1:$BL$10,5,FALSE)","v":30},{"$f":"T44-HLOOKUP(X44,Feuil1!$C$1:$BL$10,6,FALSE)","v":15},{"$f":"T44-HLOOKUP(X44,Feuil1!$C$1:$BL$10,7,FALSE)","v":0},{"$f":"T44-HLOOKUP(X44,Feuil1!$C$1:$BL$10,8,FALSE)","v":-15},{"$f":"T44-HLOOKUP(X44,Feuil1!$C$1:$BL$10,9,FALSE)","v":-40},{"$f":"T44-HLOOKUP(X44,Feuil1!$C$1:$BL$10,10,FALSE)","v":-870},null,null,null,null,null,null,"NAT +"]
["H","Nord","NPC",5,335809,"FOURNIER","Louis",2000,54.4,"CA Rosendael","F",45,47,49,49,72,76,80,80,129,20.200000000000003,"FED +",14,{"$f":"IF(I45=\"\",\"\",IF(A45=\"H\",IF(OR(H45=\"SEN\",H45<1995),VLOOKUP(I45,Feuil1!$A$11:$G$29,6),IF(AND(H45>1994,H45<1998),VLOOKUP(I45,Feuil1!$A$11:$G$29,5),IF(AND(H45>1997,H45<2000),VLOOKUP(I45,Feuil1!$A$11:$G$29,4),IF(AND(H45>1999,H45<2002),VLOOKUP(I45,Feuil1!$A$11:$G$29,3),VLOOKUP(I45,Feuil1!$A$11:$G$29,2))))),IF(OR(H45=\"SEN\",H45<1995),VLOOKUP(I45,Feuil1!$G$11:$L$25,6),IF(AND(H45>1994,H45<1998),VLOOKUP(I45,Feuil1!$G$11:$L$25,5),IF(AND(H45>1997,H45<2000),VLOOKUP(I45,Feuil1!$G$11:$L$25,4),IF(AND(H45>1999,H45<2002),VLOOKUP(I45,Feuil1!$G$11:$L$25,3),VLOOKUP(I45,Feuil1!$G$11:$L$25,2)))))))","v":"C1 56"},206.02401317799388,null," ",{"$f":"T45-HLOOKUP(X45,Feuil1!$C$1:$BL$10,2,FALSE)","v":79},{"$f":"T45-HLOOKUP(X45,Feuil1!$C$1:$BL$10,3,FALSE)","v":59},{"$f":"T45-HLOOKUP(X45,Feuil1!$C$1:$BL$10,4,FALSE)","v":44},{"$f":"T45-HLOOKUP(X45,Feuil1!$C$1:$BL$10,5,FALSE)","v":29},{"$f":"T45-HLOOKUP(X45,Feuil1!$C$1:$BL$10,6,FALSE)","v":14},{"$f":"T45-HLOOKUP(X45,Feuil1!$C$1:$BL$10,7,FALSE)","v":-1},{"$f":"T45-HLOOKUP(X45,Feuil1!$C$1:$BL$10,8,FALSE)","v":-16},{"$f":"T45-HLOOKUP(X45,Feuil1!$C$1:$BL$10,9,FALSE)","v":-41},{"$f":"T45-HLOOKUP(X45,Feuil1!$C$1:$BL$10,10,FALSE)","v":-871},null,null,null,null,null,null,"FED +"]
["H","Nord","NPC",6,279998,"RIQUIER","Jérémy",2000,50.1,"CHCD Comines","F",55,60,-62,60,64,-67,-67,64,124,23.799999999999997,"FED +",9,{"$f":"IF(I46=\"\",\"\",IF(A46=\"H\",IF(OR(H46=\"SEN\",H46<1995),VLOOKUP(I46,Feuil1!$A$11:$G$29,6),IF(AND(H46>1994,H46<1998),VLOOKUP(I46,Feuil1!$A$11:$G$29,5),IF(AND(H46>1997,H46<2000),VLOOKUP(I46,Feuil1!$A$11:$G$29,4),IF(AND(H46>1999,H46<2002),VLOOKUP(I46,Feuil1!$A$11:$G$29,3),VLOOKUP(I46,Feuil1!$A$11:$G$29,2))))),IF(OR(H46=\"SEN\",H46<1995),VLOOKUP(I46,Feuil1!$G$11:$L$25,6),IF(AND(H46>1994,H46<1998),VLOOKUP(I46,Feuil1!$G$11:$L$25,5),IF(AND(H46>1997,H46<2000),VLOOKUP(I46,Feuil1!$G$11:$L$25,4),IF(AND(H46>1999,H46<2002),VLOOKUP(I46,Feuil1!$G$11:$L$25,3),VLOOKUP(I46,Feuil1!$G$11:$L$25,2)))))))","v":"C1 56"},212.084919525966,null," ",{"$f":"T46-HLOOKUP(X46,Feuil1!$C$1:$BL$10,2,FALSE)","v":74},{"$f":"T46-HLOOKUP(X46,Feuil1!$C$1:$BL$10,3,FALSE)","v":54},{"$f":"T46-HLOOKUP(X46,Feuil1!$C$1:$BL$10,4,FALSE)","v":39},{"$f":"T46-HLOOKUP(X46,Feuil1!$C$1:$BL$10,5,FALSE)","v":24},{"$f":"T46-HLOOKUP(X46,Feuil1!$C$1:$BL$10,6,FALSE)","v":9},{"$f":"T46-HLOOKUP(X46,Feuil1!$C$1:$BL$10,7,FALSE)","v":-6},{"$f":"T46-HLOOKUP(X46,Feuil1!$C$1:$BL$10,8,FALSE)","v":-21},{"$f":"T46-HLOOKUP(X46,Feuil1!$C$1:$BL$10,9,FALSE)","v":-46},{"$f":"T46-HLOOKUP(X46,Feuil1!$C$1:$BL$10,10,FALSE)","v":-876},null,null,null,null,null,null,"FED +"]
["H","CO","BRE",7,344078,"COQUET","Robin",2001,54.3,"CHM Plouhinec PR","F",46,49,51,51,62,-64,64,64,115,6.4000000000000057,"FED +",0,{"$f":"IF(I47=\"\",\"\",IF(A47=\"H\",IF(OR(H47=\"SEN\",H47<1995),VLOOKUP(I47,Feuil1!$A$11:$G$29,6),IF(AND(H47>1994,H47<1998),VLOOKUP(I47,Feuil1!$A$11:$G$29,5),IF(AND(H47>1997,H47<2000),VLOOKUP(I47,Feuil1!$A$11:$G$29,4),IF(AND(H47>1999,H47<2002),VLOOKUP(I47,Feuil1!$A$11:$G$29,3),VLOOKUP(I47,Feuil1!$A$11:$G$29,2))))),IF(OR(H47=\"SEN\",H47<1995),VLOOKUP(I47,Feuil1!$G$11:$L$25,6),IF(AND(H47>1994,H47<1998),VLOOKUP(I47,Feuil1!$G$11:$L$25,5),IF(AND(H47>1997,H47<2000),VLOOKUP(I47,Feuil1!$G$11:$L$25,4),IF(AND(H47>1999,H47<2002),VLOOKUP(I47,Feuil1!$G$11:$L$25,3),VLOOKUP(I47,Feuil1!$G$11:$L$25,2)))))))","v":"C1 56"},183.93685478447657,null," ",{"$f":"T47-HLOOKUP(X47,Feuil1!$C$1:$BL$10,2,FALSE)","v":65},{"$f":"T47-HLOOKUP(X47,Feuil1!$C$1:$BL$10,3,FALSE)","v":45},{"$f":"T47-HLOOKUP(X47,Feuil1!$C$1:$BL$10,4,FALSE)","v":30},{"$f":"T47-HLOOKUP(X47,Feuil1!$C$1:$BL$10,5,FALSE)","v":15},{"$f":"T47-HLOOKUP(X47,Feuil1!$C$1:$BL$10,6,FALSE)","v":0},{"$f":"T47-HLOOKUP(X47,Feuil1!$C$1:$BL$10,7,FALSE)","v":-15},{"$f":"T47-HLOOKUP(X47,Feuil1!$C$1:$BL$10,8,FALSE)","v":-30},{"$f":"T47-HLOOKUP(X47,Feuil1!$C$1:$BL$10,9,FALSE)","v":-55},{"$f":"T47-HLOOKUP(X47,Feuil1!$C$1:$BL$10,10,FALSE)","v":-885},null,null,null,null,null,null,"FED +"]
["H","SEST","PRO",8,369617,"GIRARD","Maxime",2001,56,"ISTRES SPORTS","F",-50,-50,50,50,-65,-65,65,65,115,3,"FED +",0,{"$f":"IF(I48=\"\",\"\",IF(A48=\"H\",IF(OR(H48=\"SEN\",H48<1995),VLOOKUP(I48,Feuil1!$A$11:$G$29,6),IF(AND(H48>1994,H48<1998),VLOOKUP(I48,Feuil1!$A$11:$G$29,5),IF(AND(H48>1997,H48<2000),VLOOKUP(I48,Feuil1!$A$11:$G$29,4),IF(AND(H48>1999,H48<2002),VLOOKUP(I48,Feuil1!$A$11:$G$29,3),VLOOKUP(I48,Feuil1!$A$11:$G$29,2))))),IF(OR(H48=\"SEN\",H48<1995),VLOOKUP(I48,Feuil1!$G$11:$L$25,6),IF(AND(H48>1994,H48<1998),VLOOKUP(I48,Feuil1!$G$11:$L$25,5),IF(AND(H48>1997,H48<2000),VLOOKUP(I48,Feuil1!$G$11:$L$25,4),IF(AND(H48>1999,H48<2002),VLOOKUP(I48,Feuil1!$G$11:$L$25,3),VLOOKUP(I48,Feuil1!$G$11:$L$25,2)))))))","v":"C1 56"},179.48699450594776,null," ",{"$f":"T48-HLOOKUP(X48,Feuil1!$C$1:$BL$10,2,FALSE)","v":65},{"$f":"T48-HLOOKUP(X48,Feuil1!$C$1:$BL$10,3,FALSE)","v":45},{"$f":"T48-HLOOKUP(X48,Feuil1!$C$1:$BL$10,4,FALSE)","v":30},{"$f":"T48-HLOOKUP(X48,Feuil1!$C$1:$BL$10,5,FALSE)","v":15},{"$f":"T48-HLOOKUP(X48,Feuil1!$C$1:$BL$10,6,FALSE)","v":0},{"$f":"T48-HLOOKUP(X48,Feuil1!$C$1:$BL$10,7,FALSE)","v":-15},{"$f":"T48-HLOOKUP(X48,Feuil1!$C$1:$BL$10,8,FALSE)","v":-30},{"$f":"T48-HLOOKUP(X48,Feuil1!$C$1:$BL$10,9,FALSE)","v":-55},{"$f":"T48-HLOOKUP(X48,Feuil1!$C$1:$BL$10,10,FALSE)","v":-885},null,null,null,null,null,null,"FED +"]
["H","Nord","NPC",9,359649,"PARANTHOEN","Kévin",2000,52,"CA Rosendael","F",40,42,44,44,57,60,-63,60,104,0,"IRG +",4,{"$f":"IF(I49=\"\",\"\",IF(A49=\"H\",IF(OR(H49=\"SEN\",H49<1995),VLOOKUP(I49,Feuil1!$A$11:$G$29,6),IF(AND(H49>1994,H49<1998),VLOOKUP(I49,Feuil1!$A$11:$G$29,5),IF(AND(H49>1997,H49<2000),VLOOKUP(I49,Feuil1!$A$11:$G$29,4),IF(AND(H49>1999,H49<2002),VLOOKUP(I49,Feuil1!$A$11:$G$29,3),VLOOKUP(I49,Feuil1!$A$11:$G$29,2))))),IF(OR(H49=\"SEN\",H49<1995),VLOOKUP(I49,Feuil1!$G$11:$L$25,6),IF(AND(H49>1994,H49<1998),VLOOKUP(I49,Feuil1!$G$11:$L$25,5),IF(AND(H49>1997,H49<2000),VLOOKUP(I49,Feuil1!$G$11:$L$25,4),IF(AND(H49>1999,H49<2002),VLOOKUP(I49,Feuil1!$G$11:$L$25,3),VLOOKUP(I49,Feuil1!$G$11:$L$25,2)))))))","v":"C1 56"},172.35226670867164,null," ",{"$f":"T49-HLOOKUP(X49,Feuil1!$C$1:$BL$10,2,FALSE)","v":54},{"$f":"T49-HLOOKUP(X49,Feuil1!$C$1:$BL$10,3,FALSE)","v":34},{"$f":"T49-HLOOKUP(X49,Feuil1!$C$1:$BL$10,4,FALSE)","v":19},{"$f":"T49-HLOOKUP(X49,Feuil1!$C$1:$BL$10,5,FALSE)","v":4},{"$f":"T49-HLOOKUP(X49,Feuil1!$C$1:$BL$10,6,FALSE)","v":-11},{"$f":"T49-HLOOKUP(X49,Feuil1!$C$1:$BL$10,7,FALSE)","v":-26},{"$f":"T49-HLOOKUP(X49,Feuil1!$C$1:$BL$10,8,FALSE)","v":-41},{"$f":"T49-HLOOKUP(X49,Feuil1!$C$1:$BL$10,9,FALSE)","v":-66},{"$f":"T49-HLOOKUP(X49,Feuil1!$C$1:$BL$10,10,FALSE)","v":-896},null,null,null,null,null,null,"IRG +"]
["H","Nord","NPC",10,383861,"BOULANGER","Christopher",2001,53.3,"AO Sallaumines","F",42,-45,45,45,55,59,-61,59,104,-2.5999999999999943,"IRG +",4,{"$f":"IF(I50=\"\",\"\",IF(A50=\"H\",IF(OR(H50=\"SEN\",H50<1995),VLOOKUP(I50,Feuil1!$A$11:$G$29,6),IF(AND(H50>1994,H50<1998),VLOOKUP(I50,Feuil1!$A$11:$G$29,5),IF(AND(H50>1997,H50<2000),VLOOKUP(I50,Feuil1!$A$11:$G$29,4),IF(AND(H50>1999,H50<2002),VLOOKUP(I50,Feuil1!$A$11:$G$29,3),VLOOKUP(I50,Feuil1!$A$11:$G$29,2))))),IF(OR(H50=\"SEN\",H50<1995),VLOOKUP(I50,Feuil1!$G$11:$L$25,6),IF(AND(H50>1994,H50<1998),VLOOKUP(I50,Feuil1!$G$11:$L$25,5),IF(AND(H50>1997,H50<2000),VLOOKUP(I50,Feuil1!$G$11:$L$25,4),IF(AND(H50>1999,H50<2002),VLOOKUP(I50,Feuil1!$G$11:$L$25,3),VLOOKUP(I50,Feuil1!$G$11:$L$25,2)))))))","v":"C1 56"},168.8709225130479,null," ",{"$f":"T50-HLOOKUP(X50,Feuil1!$C$1:$BL$10,2,FALSE)","v":54},{"$f":"T50-HLOOKUP(X50,Feuil1!$C$1:$BL$10,3,FALSE)","v":34},{"$f":"T50-HLOOKUP(X50,Feuil1!$C$1:$BL$10,4,FALSE)","v":19},{"$f":"T50-HLOOKUP(X50,Feuil1!$C$1:$BL$10,5,FALSE)","v":4},{"$f":"T50-HLOOKUP(X50,Feuil1!$C$1:$BL$10,6,FALSE)","v":-11},{"$f":"T50-HLOOKUP(X50,Feuil1!$C$1:$BL$10,7,FALSE)","v":-26},{"$f":"T50-HLOOKUP(X50,Feuil1!$C$1:$BL$10,8,FALSE)","v":-41},{"$f":"T50-HLOOKUP(X50,Feuil1!$C$1:$BL$10,9,FALSE)","v":-66},{"$f":"T50-HLOOKUP(X50,Feuil1!$C$1:$BL$10,10,FALSE)","v":-896},null,null,null,null,null,null,"IRG +"]
["H","SE","AUV",11,319977,"ALTAYRAC","Thomas",2000,54.8,"AURILLAC","F",38,42,45,45,52,-57,57,57,102,-7.5999999999999943,"IRG +",2,{"$f":"IF(I51=\"\",\"\",IF(A51=\"H\",IF(OR(H51=\"SEN\",H51<1995),VLOOKUP(I51,Feuil1!$A$11:$G$29,6),IF(AND(H51>1994,H51<1998),VLOOKUP(I51,Feuil1!$A$11:$G$29,5),IF(AND(H51>1997,H51<2000),VLOOKUP(I51,Feuil1!$A$11:$G$29,4),IF(AND(H51>1999,H51<2002),VLOOKUP(I51,Feuil1!$A$11:$G$29,3),VLOOKUP(I51,Feuil1!$A$11:$G$29,2))))),IF(OR(H51=\"SEN\",H51<1995),VLOOKUP(I51,Feuil1!$G$11:$L$25,6),IF(AND(H51>1994,H51<1998),VLOOKUP(I51,Feuil1!$G$11:$L$25,5),IF(AND(H51>1997,H51<2000),VLOOKUP(I51,Feuil1!$G$11:$L$25,4),IF(AND(H51>1999,H51<2002),VLOOKUP(I51,Feuil1!$G$11:$L$25,3),VLOOKUP(I51,Feuil1!$G$11:$L$25,2)))))))","v":"C1 56"},161.94926947768926,null," ",{"$f":"T51-HLOOKUP(X51,Feuil1!$C$1:$BL$10,2,FALSE)","v":52},{"$f":"T51-HLOOKUP(X51,Feuil1!$C$1:$BL$10,3,FALSE)","v":32},{"$f":"T51-HLOOKUP(X51,Feuil1!$C$1:$BL$10,4,FALSE)","v":17},{"$f":"T51-HLOOKUP(X51,Feuil1!$C$1:$BL$10,5,FALSE)","v":2},{"$f":"T51-HLOOKUP(X51,Feuil1!$C$1:$BL$10,6,FALSE)","v":-13},{"$f":"T51-HLOOKUP(X51,Feuil1!$C$1:$BL$10,7,FALSE)","v":-28},{"$f":"T51-HLOOKUP(X51,Feuil1!$C$1:$BL$10,8,FALSE)","v":-43},{"$f":"T51-HLOOKUP(X51,Feuil1!$C$1:$BL$10,9,FALSE)","v":-68},{"$f":"T51-HLOOKUP(X51,Feuil1!$C$1:$BL$10,10,FALSE)","v":-898},null,null,null,null,null,null,"IRG +"]
["H","Nord","IDF",12,313327,"TRAN TRI","Hugo",2000,53.6,"CHM Chaville","F",40,45,-47,45,50,-55,55,55,100,-7.2000000000000028,"IRG +",0,{"$f":"IF(I52=\"\",\"\",IF(A52=\"H\",IF(OR(H52=\"SEN\",H52<1995),VLOOKUP(I52,Feuil1!$A$11:$G$29,6),IF(AND(H52>1994,H52<1998),VLOOKUP(I52,Feuil1!$A$11:$G$29,5),IF(AND(H52>1997,H52<2000),VLOOKUP(I52,Feuil1!$A$11:$G$29,4),IF(AND(H52>1999,H52<2002),VLOOKUP(I52,Feuil1!$A$11:$G$29,3),VLOOKUP(I52,Feuil1!$A$11:$G$29,2))))),IF(OR(H52=\"SEN\",H52<1995),VLOOKUP(I52,Feuil1!$G$11:$L$25,6),IF(AND(H52>1994,H52<1998),VLOOKUP(I52,Feuil1!$G$11:$L$25,5),IF(AND(H52>1997,H52<2000),VLOOKUP(I52,Feuil1!$G$11:$L$25,4),IF(AND(H52>1999,H52<2002),VLOOKUP(I52,Feuil1!$G$11:$L$25,3),VLOOKUP(I52,Feuil1!$G$11:$L$25,2)))))))","v":"C1 56"},161.63396345491702,null," ",{"$f":"T52-HLOOKUP(X52,Feuil1!$C$1:$BL$10,2,FALSE)","v":50},{"$f":"T52-HLOOKUP(X52,Feuil1!$C$1:$BL$10,3,FALSE)","v":30},{"$f":"T52-HLOOKUP(X52,Feuil1!$C$1:$BL$10,4,FALSE)","v":15},{"$f":"T52-HLOOKUP(X52,Feuil1!$C$1:$BL$10,5,FALSE)","v":0},{"$f":"T52-HLOOKUP(X52,Feuil1!$C$1:$BL$10,6,FALSE)","v":-15},{"$f":"T52-HLOOKUP(X52,Feuil1!$C$1:$BL$10,7,FALSE)","v":-30},{"$f":"T52-HLOOKUP(X52,Feuil1!$C$1:$BL$10,8,FALSE)","v":-45},{"$f":"T52-HLOOKUP(X52,Feuil1!$C$1:$BL$10,9,FALSE)","v":-70},{"$f":"T52-HLOOKUP(X52,Feuil1!$C$1:$BL$10,10,FALSE)","v":-900},null,null,null,null,null,null,"IRG +"]
[]
["H","DOM","GUA",1,265989,"BERTILI","Bernard",2000,61.2,"AHCS/Pointois","F",70,75,78,{"$f":"IF(H54=\"\",\"\",IF(MAXA(L54:N54)<=0,0,MAXA(L54:N54)))","v":78},85,90,-95,{"$f":"IF(H54=\"\",\"\",IF(MAXA(P54:R54)<=0,0,MAXA(P54:R54)))","v":90},{"$f":"IF(H54=\"\",\"\",IF(OR(O54=0,S54=0),0,O54+S54))","v":168},{"$f":"T54-I54*2","v":45.599999999999994},{"$f":"IF(H54=\"\",\"\",AQ54)","v":"NAT +"},{"$f":"IF(AJ54>=0,AJ54,IF(AI54>=0,AI54,IF(AH54>=0,AH54,IF(AG54>=0,AG54,IF(AF54>=0,AF54,IF(AE54>=0,AE54,IF(AD54>=0,AD54,IF(AC54>=0,AC54,AB54))))))))","v":18},{"$f":"IF(I54=\"\",\"\",IF(A54=\"H\",IF(OR(H54=\"SEN\",H54<1995),VLOOKUP(I54,Feuil1!$A$11:$G$29,6),IF(AND(H54>1994,H54<1998),VLOOKUP(I54,Feuil1!$A$11:$G$29,5),IF(AND(H54>1997,H54<2000),VLOOKUP(I54,Feuil1!$A$11:$G$29,4),IF(AND(H54>1999,H54<2002),VLOOKUP(I54,Feuil1!$A$11:$G$29,3),VLOOKUP(I54,Feuil1!$A$11:$G$29,2))))),IF(OR(H54=\"SEN\",H54<1995),VLOOKUP(I54,Feuil1!$G$11:$L$25,6),IF(AND(H54>1994,H54<1998),VLOOKUP(I54,Feuil1!$G$11:$L$25,5),IF(AND(H54>1997,H54<2000),VLOOKUP(I54,Feuil1!$G$11:$L$25,4),IF(AND(H54>1999,H54<2002),VLOOKUP(I54,Feuil1!$G$11:$L$25,3),VLOOKUP(I54,Feuil1!$G$11:$L$25,2)))))))","v":"C1 62"},{"$f":"IF(I54=\"\",\"\",IF(A54=\"H\",10^(0.794358141*LOG(I54/174.393)^2)*T54,IF(A54=\"F\",10^(0.89726074*LOG(I54/148.026)^2)*T54,\"\")))","v":245.24522990106817},null," ",{"$f":"T54-HLOOKUP(X54,Feuil1!$C$1:$BL$10,2,FALSE)","v":93},{"$f":"T54-HLOOKUP(X54,Feuil1!$C$1:$BL$10,3,FALSE)","v":73},{"$f":"T54-HLOOKUP(X54,Feuil1!$C$1:$BL$10,4,FALSE)","v":63},{"$f":"T54-HLOOKUP(X54,Feuil1!$C$1:$BL$10,5,FALSE)","v":48},{"$f":"T54-HLOOKUP(X54,Feuil1!$C$1:$BL$10,6,FALSE)","v":33},{"$f":"T54-HLOOKUP(X54,Feuil1!$C$1:$BL$10,7,FALSE)","v":18},{"$f":"T54-HLOOKUP(X54,Feuil1!$C$1:$BL$10,8,FALSE)","v":-2},{"$f":"T54-HLOOKUP(X54,Feuil1!$C$1:$BL$10,9,FALSE)","v":-22},{"$f":"T54-HLOOKUP(X54,Feuil1!$C$1:$BL$10,10,FALSE)","v":-832},null,null,null,null,null,null,{"$f":"IF(AJ54>=0,$AJ$4,IF(AI54>=0,$AI$4,IF(AH54>=0,$AH$4,IF(AG54>=0,$AG$4,IF(AF54>=0,$AF$4,IF(AE54>=0,$AE$4,IF(AD54>=0,$AD$4,IF(AC54>=0,$AC$4,$AB$4))))))))","v":"NAT +"}]
["H","Nord","NPC",2,304778,"DESMAREST","Dylan",2000,61.2,"CHCD Comines","F",58,61,-64,61,77,80,85,85,146,23.599999999999994,"FED +",11,{"$f":"IF(I55=\"\",\"\",IF(A55=\"H\",IF(OR(H55=\"SEN\",H55<1995),VLOOKUP(I55,Feuil1!$A$11:$G$29,6),IF(AND(H55>1994,H55<1998),VLOOKUP(I55,Feuil1!$A$11:$G$29,5),IF(AND(H55>1997,H55<2000),VLOOKUP(I55,Feuil1!$A$11:$G$29,4),IF(AND(H55>1999,H55<2002),VLOOKUP(I55,Feuil1!$A$11:$G$29,3),VLOOKUP(I55,Feuil1!$A$11:$G$29,2))))),IF(OR(H55=\"SEN\",H55<1995),VLOOKUP(I55,Feuil1!$G$11:$L$25,6),IF(AND(H55>1994,H55<1998),VLOOKUP(I55,Feuil1!$G$11:$L$25,5),IF(AND(H55>1997,H55<2000),VLOOKUP(I55,Feuil1!$G$11:$L$25,4),IF(AND(H55>1999,H55<2002),VLOOKUP(I55,Feuil1!$G$11:$L$25,3),VLOOKUP(I55,Feuil1!$G$11:$L$25,2)))))))","v":"C1 62"},213.12978312830924,null," ",{"$f":"T55-HLOOKUP(X55,Feuil1!$C$1:$BL$10,2,FALSE)","v":71},{"$f":"T55-HLOOKUP(X55,Feuil1!$C$1:$BL$10,3,FALSE)","v":51},{"$f":"T55-HLOOKUP(X55,Feuil1!$C$1:$BL$10,4,FALSE)","v":41},{"$f":"T55-HLOOKUP(X55,Feuil1!$C$1:$BL$10,5,FALSE)","v":26},{"$f":"T55-HLOOKUP(X55,Feuil1!$C$1:$BL$10,6,FALSE)","v":11},{"$f":"T55-HLOOKUP(X55,Feuil1!$C$1:$BL$10,7,FALSE)","v":-4},{"$f":"T55-HLOOKUP(X55,Feuil1!$C$1:$BL$10,8,FALSE)","v":-24},{"$f":"T55-HLOOKUP(X55,Feuil1!$C$1:$BL$10,9,FALSE)","v":-44},{"$f":"T55-HLOOKUP(X55,Feuil1!$C$1:$BL$10,10,FALSE)","v":-854},null,null,null,null,null,null,"FED +"]
["H","CO","PDL",3,368728,"MELLIER","Romain",2000,57.2,"CA Evron 53","F",60,65,-67,65,70,75,-78,75,140,25.599999999999994,"FED +",5,{"$f":"IF(I56=\"\",\"\",IF(A56=\"H\",IF(OR(H56=\"SEN\",H56<1995),VLOOKUP(I56,Feuil1!$A$11:$G$29,6),IF(AND(H56>1994,H56<1998),VLOOKUP(I56,Feuil1!$A$11:$G$29,5),IF(AND(H56>1997,H56<2000),VLOOKUP(I56,Feuil1!$A$11:$G$29,4),IF(AND(H56>1999,H56<2002),VLOOKUP(I56,Feuil1!$A$11:$G$29,3),VLOOKUP(I56,Feuil1!$A$11:$G$29,2))))),IF(OR(H56=\"SEN\",H56<1995),VLOOKUP(I56,Feuil1!$G$11:$L$25,6),IF(AND(H56>1994,H56<1998),VLOOKUP(I56,Feuil1!$G$11:$L$25,5),IF(AND(H56>1997,H56<2000),VLOOKUP(I56,Feuil1!$G$11:$L$25,4),IF(AND(H56>1999,H56<2002),VLOOKUP(I56,Feuil1!$G$11:$L$25,3),VLOOKUP(I56,Feuil1!$G$11:$L$25,2)))))))","v":"C1 62"},214.93814407891662,null," ",{"$f":"T56-HLOOKUP(X56,Feuil1!$C$1:$BL$10,2,FALSE)","v":65},{"$f":"T56-HLOOKUP(X56,Feuil1!$C$1:$BL$10,3,FALSE)","v":45},{"$f":"T56-HLOOKUP(X56,Feuil1!$C$1:$BL$10,4,FALSE)","v":35},{"$f":"T56-HLOOKUP(X56,Feuil1!$C$1:$BL$10,5,FALSE)","v":20},{"$f":"T56-HLOOKUP(X56,Feuil1!$C$1:$BL$10,6,FALSE)","v":5},{"$f":"T56-HLOOKUP(X56,Feuil1!$C$1:$BL$10,7,FALSE)","v":-10},{"$f":"T56-HLOOKUP(X56,Feuil1!$C$1:$BL$10,8,FALSE)","v":-30},{"$f":"T56-HLOOKUP(X56,Feuil1!$C$1:$BL$10,9,FALSE)","v":-50},{"$f":"T56-HLOOKUP(X56,Feuil1!$C$1:$BL$10,10,FALSE)","v":-860},null,null,null,null,null,null,"FED +"]
["H","Nord","NPC",4,355670,"LESSCHAVE","Théo",2000,59.25,"ASPTT Lille Métropole","F",57,-61,-61,57,70,-74,-78,70,127,8.5,"IRG +",7,{"$f":"IF(I57=\"\",\"\",IF(A57=\"H\",IF(OR(H57=\"SEN\",H57<1995),VLOOKUP(I57,Feuil1!$A$11:$G$29,6),IF(AND(H57>1994,H57<1998),VLOOKUP(I57,Feuil1!$A$11:$G$29,5),IF(AND(H57>1997,H57<2000),VLOOKUP(I57,Feuil1!$A$11:$G$29,4),IF(AND(H57>1999,H57<2002),VLOOKUP(I57,Feuil1!$A$11:$G$29,3),VLOOKUP(I57,Feuil1!$A$11:$G$29,2))))),IF(OR(H57=\"SEN\",H57<1995),VLOOKUP(I57,Feuil1!$G$11:$L$25,6),IF(AND(H57>1994,H57<1998),VLOOKUP(I57,Feuil1!$G$11:$L$25,5),IF(AND(H57>1997,H57<2000),VLOOKUP(I57,Feuil1!$G$11:$L$25,4),IF(AND(H57>1999,H57<2002),VLOOKUP(I57,Feuil1!$G$11:$L$25,3),VLOOKUP(I57,Feuil1!$G$11:$L$25,2)))))))","v":"C1 62"},189.85098381756649,null," ",{"$f":"T57-HLOOKUP(X57,Feuil1!$C$1:$BL$10,2,FALSE)","v":52},{"$f":"T57-HLOOKUP(X57,Feuil1!$C$1:$BL$10,3,FALSE)","v":32},{"$f":"T57-HLOOKUP(X57,Feuil1!$C$1:$BL$10,4,FALSE)","v":22},{"$f":"T57-HLOOKUP(X57,Feuil1!$C$1:$BL$10,5,FALSE)","v":7},{"$f":"T57-HLOOKUP(X57,Feuil1!$C$1:$BL$10,6,FALSE)","v":-8},{"$f":"T57-HLOOKUP(X57,Feuil1!$C$1:$BL$10,7,FALSE)","v":-23},{"$f":"T57-HLOOKUP(X57,Feuil1!$C$1:$BL$10,8,FALSE)","v":-43},{"$f":"T57-HLOOKUP(X57,Feuil1!$C$1:$BL$10,9,FALSE)","v":-63},{"$f":"T57-HLOOKUP(X57,Feuil1!$C$1:$BL$10,10,FALSE)","v":-873},null,null,null,null,null,null,"IRG +"]
["H","SEST","RAL",5,304551,"DOMINGUEZ","Gaetan",2001,59.9,"GAULOISE de VAISE","F",-55,55,-62,55,65,72,-80,72,127,7.2000000000000028,"IRG +",7,{"$f":"IF(I58=\"\",\"\",IF(A58=\"H\",IF(OR(H58=\"SEN\",H58<1995),VLOOKUP(I58,Feuil1!$A$11:$G$29,6),IF(AND(H58>1994,H58<1998),VLOOKUP(I58,Feuil1!$A$11:$G$29,5),IF(AND(H58>1997,H58<2000),VLOOKUP(I58,Feuil1!$A$11:$G$29,4),IF(AND(H58>1999,H58<2002),VLOOKUP(I58,Feuil1!$A$11:$G$29,3),VLOOKUP(I58,Feuil1!$A$11:$G$29,2))))),IF(OR(H58=\"SEN\",H58<1995),VLOOKUP(I58,Feuil1!$G$11:$L$25,6),IF(AND(H58>1994,H58<1998),VLOOKUP(I58,Feuil1!$G$11:$L$25,5),IF(AND(H58>1997,H58<2000),VLOOKUP(I58,Feuil1!$G$11:$L$25,4),IF(AND(H58>1999,H58<2002),VLOOKUP(I58,Feuil1!$G$11:$L$25,3),VLOOKUP(I58,Feuil1!$G$11:$L$25,2)))))))","v":"C1 62"},188.32206911920622,null," ",{"$f":"T58-HLOOKUP(X58,Feuil1!$C$1:$BL$10,2,FALSE)","v":52},{"$f":"T58-HLOOKUP(X58,Feuil1!$C$1:$BL$10,3,FALSE)","v":32},{"$f":"T58-HLOOKUP(X58,Feuil1!$C$1:$BL$10,4,FALSE)","v":22},{"$f":"T58-HLOOKUP(X58,Feuil1!$C$1:$BL$10,5,FALSE)","v":7},{"$f":"T58-HLOOKUP(X58,Feuil1!$C$1:$BL$10,6,FALSE)","v":-8},{"$f":"T58-HLOOKUP(X58,Feuil1!$C$1:$BL$10,7,FALSE)","v":-23},{"$f":"T58-HLOOKUP(X58,Feuil1!$C$1:$BL$10,8,FALSE)","v":-43},{"$f":"T58-HLOOKUP(X58,Feuil1!$C$1:$BL$10,9,FALSE)","v":-63},{"$f":"T58-HLOOKUP(X58,Feuil1!$C$1:$BL$10,10,FALSE)","v":-873},null,null,null,null,null,null,"IRG +"]
["H","Nord","NPC",6,248951,"KEMPENAIRE","Cédric",2001,58.1,"CHCD Comines","F",47,50,53,53,63,66,-69,66,119,2.7999999999999972,"REG +",14,{"$f":"IF(I59=\"\",\"\",IF(A59=\"H\",IF(OR(H59=\"SEN\",H59<1995),VLOOKUP(I59,Feuil1!$A$11:$G$29,6),IF(AND(H59>1994,H59<1998),VLOOKUP(I59,Feuil1!$A$11:$G$29,5),IF(AND(H59>1997,H59<2000),VLOOKUP(I59,Feuil1!$A$11:$G$29,4),IF(AND(H59>1999,H59<2002),VLOOKUP(I59,Feuil1!$A$11:$G$29,3),VLOOKUP(I59,Feuil1!$A$11:$G$29,2))))),IF(OR(H59=\"SEN\",H59<1995),VLOOKUP(I59,Feuil1!$G$11:$L$25,6),IF(AND(H59>1994,H59<1998),VLOOKUP(I59,Feuil1!$G$11:$L$25,5),IF(AND(H59>1997,H59<2000),VLOOKUP(I59,Feuil1!$G$11:$L$25,4),IF(AND(H59>1999,H59<2002),VLOOKUP(I59,Feuil1!$G$11:$L$25,3),VLOOKUP(I59,Feuil1!$G$11:$L$25,2)))))))","v":"C1 62"},180.53192790109091,null," ",{"$f":"T59-HLOOKUP(X59,Feuil1!$C$1:$BL$10,2,FALSE)","v":44},{"$f":"T59-HLOOKUP(X59,Feuil1!$C$1:$BL$10,3,FALSE)","v":24},{"$f":"T59-HLOOKUP(X59,Feuil1!$C$1:$BL$10,4,FALSE)","v":14},{"$f":"T59-HLOOKUP(X59,Feuil1!$C$1:$BL$10,5,FALSE)","v":-1},{"$f":"T59-HLOOKUP(X59,Feuil1!$C$1:$BL$10,6,FALSE)","v":-16},{"$f":"T59-HLOOKUP(X59,Feuil1!$C$1:$BL$10,7,FALSE)","v":-31},{"$f":"T59-HLOOKUP(X59,Feuil1!$C$1:$BL$10,8,FALSE)","v":-51},{"$f":"T59-HLOOKUP(X59,Feuil1!$C$1:$BL$10,9,FALSE)","v":-71},{"$f":"T59-HLOOKUP(X59,Feuil1!$C$1:$BL$10,10,FALSE)","v":-881},null,null,null,null,null,null,"REG +"]
["H","NE","FCO",7,350181,"BERTHELIN","Simon",2000,59.1,"CH Luxeuil","F",45,-50,50,50,60,65,-70,65,115,-3.2000000000000028,"REG +",10,{"$f":"IF(I60=\"\",\"\",IF(A60=\"H\",IF(OR(H60=\"SEN\",H60<1995),VLOOKUP(I60,Feuil1!$A$11:$G$29,6),IF(AND(H60>1994,H60<1998),VLOOKUP(I60,Feuil1!$A$11:$G$29,5),IF(AND(H60>1997,H60<2000),VLOOKUP(I60,Feuil1!$A$11:$G$29,4),IF(AND(H60>1999,H60<2002),VLOOKUP(I60,Feuil1!$A$11:$G$29,3),VLOOKUP(I60,Feuil1!$A$11:$G$29,2))))),IF(OR(H60=\"SEN\",H60<1995),VLOOKUP(I60,Feuil1!$G$11:$L$25,6),IF(AND(H60>1994,H60<1998),VLOOKUP(I60,Feuil1!$G$11:$L$25,5),IF(AND(H60>1997,H60<2000),VLOOKUP(I60,Feuil1!$G$11:$L$25,4),IF(AND(H60>1999,H60<2002),VLOOKUP(I60,Feuil1!$G$11:$L$25,3),VLOOKUP(I60,Feuil1!$G$11:$L$25,2)))))))","v":"C1 62"},172.23758413869729,null," ",{"$f":"T60-HLOOKUP(X60,Feuil1!$C$1:$BL$10,2,FALSE)","v":40},{"$f":"T60-HLOOKUP(X60,Feuil1!$C$1:$BL$10,3,FALSE)","v":20},{"$f":"T60-HLOOKUP(X60,Feuil1!$C$1:$BL$10,4,FALSE)","v":10},{"$f":"T60-HLOOKUP(X60,Feuil1!$C$1:$BL$10,5,FALSE)","v":-5},{"$f":"T60-HLOOKUP(X60,Feuil1!$C$1:$BL$10,6,FALSE)","v":-20},{"$f":"T60-HLOOKUP(X60,Feuil1!$C$1:$BL$10,7,FALSE)","v":-35},{"$f":"T60-HLOOKUP(X60,Feuil1!$C$1:$BL$10,8,FALSE)","v":-55},{"$f":"T60-HLOOKUP(X60,Feuil1!$C$1:$BL$10,9,FALSE)","v":-75},{"$f":"T60-HLOOKUP(X60,Feuil1!$C$1:$BL$10,10,FALSE)","v":-885},null,null,null,null,null,null,"REG +"]
[]
["H","NE","CHA",1,339573,"MKRTCHYAN ","Armen",2000,63.3,"Reims HM","Arm",62,65,69,{"$f":"IF(H62=\"\",\"\",IF(MAXA(L62:N62)<=0,0,MAXA(L62:N62)))","v":69},81,86,91,{"$f":"IF(H62=\"\",\"\",IF(MAXA(P62:R62)<=0,0,MAXA(P62:R62)))","v":91},{"$f":"IF(H62=\"\",\"\",IF(OR(O62=0,S62=0),0,O62+S62))","v":160},{"$f":"T62-I62*2","v":33.400000000000006},{"$f":"IF(H62=\"\",\"\",AQ62)","v":"FED +"},{"$f":"IF(AJ62>=0,AJ62,IF(AI62>=0,AI62,IF(AH62>=0,AH62,IF(AG62>=0,AG62,IF(AF62>=0,AF62,IF(AE62>=0,AE62,IF(AD62>=0,AD62,IF(AC62>=0,AC62,AB62))))))))","v":10},{"$f":"IF(I62=\"\",\"\",IF(A62=\"H\",IF(OR(H62=\"SEN\",H62<1995),VLOOKUP(I62,Feuil1!$A$11:$G$29,6),IF(AND(H62>1994,H62<1998),VLOOKUP(I62,Feuil1!$A$11:$G$29,5),IF(AND(H62>1997,H62<2000),VLOOKUP(I62,Feuil1!$A$11:$G$29,4),IF(AND(H62>1999,H62<2002),VLOOKUP(I62,Feuil1!$A$11:$G$29,3),VLOOKUP(I62,Feuil1!$A$11:$G$29,2))))),IF(OR(H62=\"SEN\",H62<1995),VLOOKUP(I62,Feuil1!$G$11:$L$25,6),IF(AND(H62>1994,H62<1998),VLOOKUP(I62,Feuil1!$G$11:$L$25,5),IF(AND(H62>1997,H62<2000),VLOOKUP(I62,Feuil1!$G$11:$L$25,4),IF(AND(H62>1999,H62<2002),VLOOKUP(I62,Feuil1!$G$11:$L$25,3),VLOOKUP(I62,Feuil1!$G$11:$L$25,2)))))))","v":"C1 69"},{"$f":"IF(I62=\"\",\"\",IF(A62=\"H\",10^(0.794358141*LOG(I62/174.393)^2)*T62,IF(A62=\"F\",10^(0.89726074*LOG(I62/148.026)^2)*T62,\"\")))","v":228.03176427089778},null," ",{"$f":"T62-HLOOKUP(X62,Feuil1!$C$1:$BL$10,2,FALSE)","v":75},{"$f":"T62-HLOOKUP(X62,Feuil1!$C$1:$BL$10,3,FALSE)","v":55},{"$f":"T62-HLOOKUP(X62,Feuil1!$C$1:$BL$10,4,FALSE)","v":45},{"$f":"T62-HLOOKUP(X62,Feuil1!$C$1:$BL$10,5,FALSE)","v":30},{"$f":"T62-HLOOKUP(X62,Feuil1!$C$1:$BL$10,6,FALSE)","v":10},{"$f":"T62-HLOOKUP(X62,Feuil1!$C$1:$BL$10,7,FALSE)","v":-10},{"$f":"T62-HLOOKUP(X62,Feuil1!$C$1:$BL$10,8,FALSE)","v":-30},{"$f":"T62-HLOOKUP(X62,Feuil1!$C$1:$BL$10,9,FALSE)","v":-50},{"$f":"T62-HLOOKUP(X62,Feuil1!$C$1:$BL$10,10,FALSE)","v":-840},null,null,null,null,null,null,{"$f":"IF(AJ62>=0,$AJ$4,IF(AI62>=0,$AI$4,IF(AH62>=0,$AH$4,IF(AG62>=0,$AG$4,IF(AF62>=0,$AF$4,IF(AE62>=0,$AE$4,IF(AD62>=0,$AD$4,IF(AC62>=0,$AC$4,$AB$4))))))))","v":"FED +"}]
["H","Nord","NPC",2,311932,"MAES","Calvin",2000,65.5,"CA Rosendael","F",-63,63,-65,{"$f":"IF(H63=\"\",\"\",IF(MAXA(L63:N63)<=0,0,MAXA(L63:N63)))","v":63},82,-87,-87,{"$f":"IF(H63=\"\",\"\",IF(MAXA(P63:R63)<=0,0,MAXA(P63:R63)))","v":82},{"$f":"IF(H63=\"\",\"\",IF(OR(O63=0,S63=0),0,O63+S63))","v":145},{"$f":"T63-I63*2","v":14},{"$f":"IF(H63=\"\",\"\",AQ63)","v":"IRG +"},{"$f":"IF(AJ63>=0,AJ63,IF(AI63>=0,AI63,IF(AH63>=0,AH63,IF(AG63>=0,AG63,IF(AF63>=0,AF63,IF(AE63>=0,AE63,IF(AD63>=0,AD63,IF(AC63>=0,AC63,AB63))))))))","v":15},{"$f":"IF(I63=\"\",\"\",IF(A63=\"H\",IF(OR(H63=\"SEN\",H63<1995),VLOOKUP(I63,Feuil1!$A$11:$G$29,6),IF(AND(H63>1994,H63<1998),VLOOKUP(I63,Feuil1!$A$11:$G$29,5),IF(AND(H63>1997,H63<2000),VLOOKUP(I63,Feuil1!$A$11:$G$29,4),IF(AND(H63>1999,H63<2002),VLOOKUP(I63,Feuil1!$A$11:$G$29,3),VLOOKUP(I63,Feuil1!$A$11:$G$29,2))))),IF(OR(H63=\"SEN\",H63<1995),VLOOKUP(I63,Feuil1!$G$11:$L$25,6),IF(AND(H63>1994,H63<1998),VLOOKUP(I63,Feuil1!$G$11:$L$25,5),IF(AND(H63>1997,H63<2000),VLOOKUP(I63,Feuil1!$G$11:$L$25,4),IF(AND(H63>1999,H63<2002),VLOOKUP(I63,Feuil1!$G$11:$L$25,3),VLOOKUP(I63,Feuil1!$G$11:$L$25,2)))))))","v":"C1 69"},{"$f":"IF(I63=\"\",\"\",IF(A63=\"H\",10^(0.794358141*LOG(I63/174.393)^2)*T63,IF(A63=\"F\",10^(0.89726074*LOG(I63/148.026)^2)*T63,\"\")))","v":201.85675921351157},null," ",{"$f":"T63-HLOOKUP(X63,Feuil1!$C$1:$BL$10,2,FALSE)","v":60},{"$f":"T63-HLOOKUP(X63,Feuil1!$C$1:$BL$10,3,FALSE)","v":40},{"$f":"T63-HLOOKUP(X63,Feuil1!$C$1:$BL$10,4,FALSE)","v":30},{"$f":"T63-HLOOKUP(X63,Feuil1!$C$1:$BL$10,5,FALSE)","v":15},{"$f":"T63-HLOOKUP(X63,Feuil1!$C$1:$BL$10,6,FALSE)","v":-5},{"$f":"T63-HLOOKUP(X63,Feuil1!$C$1:$BL$10,7,FALSE)","v":-25},{"$f":"T63-HLOOKUP(X63,Feuil1!$C$1:$BL$10,8,FALSE)","v":-45},{"$f":"T63-HLOOKUP(X63,Feuil1!$C$1:$BL$10,9,FALSE)","v":-65},{"$f":"T63-HLOOKUP(X63,Feuil1!$C$1:$BL$10,10,FALSE)","v":-855},null,null,null,null,null,null,{"$f":"IF(AJ63>=0,$AJ$4,IF(AI63>=0,$AI$4,IF(AH63>=0,$AH$4,IF(AG63>=0,$AG$4,IF(AF63>=0,$AF$4,IF(AE63>=0,$AE$4,IF(AD63>=0,$AD$4,IF(AC63>=0,$AC$4,$AB$4))))))))","v":"IRG +"}]
["H","CO","BNO",3,327978,"PANNIER","Quentin",2000,63.7,"Caen CHM","F",50,54,-57,{"$f":"IF(H64=\"\",\"\",IF(MAXA(L64:N64)<=0,0,MAXA(L64:N64)))","v":54},68,72,-75,{"$f":"IF(H64=\"\",\"\",IF(MAXA(P64:R64)<=0,0,MAXA(P64:R64)))","v":72},{"$f":"IF(H64=\"\",\"\",IF(OR(O64=0,S64=0),0,O64+S64))","v":126},{"$f":"T64-I64*2","v":-1.4000000000000057},{"$f":"IF(H64=\"\",\"\",AQ64)","v":"REG +"},{"$f":"IF(AJ64>=0,AJ64,IF(AI64>=0,AI64,IF(AH64>=0,AH64,IF(AG64>=0,AG64,IF(AF64>=0,AF64,IF(AE64>=0,AE64,IF(AD64>=0,AD64,IF(AC64>=0,AC64,AB64))))))))","v":11},{"$f":"IF(I64=\"\",\"\",IF(A64=\"H\",IF(OR(H64=\"SEN\",H64<1995),VLOOKUP(I64,Feuil1!$A$11:$G$29,6),IF(AND(H64>1994,H64<1998),VLOOKUP(I64,Feuil1!$A$11:$G$29,5),IF(AND(H64>1997,H64<2000),VLOOKUP(I64,Feuil1!$A$11:$G$29,4),IF(AND(H64>1999,H64<2002),VLOOKUP(I64,Feuil1!$A$11:$G$29,3),VLOOKUP(I64,Feuil1!$A$11:$G$29,2))))),IF(OR(H64=\"SEN\",H64<1995),VLOOKUP(I64,Feuil1!$G$11:$L$25,6),IF(AND(H64>1994,H64<1998),VLOOKUP(I64,Feuil1!$G$11:$L$25,5),IF(AND(H64>1997,H64<2000),VLOOKUP(I64,Feuil1!$G$11:$L$25,4),IF(AND(H64>1999,H64<2002),VLOOKUP(I64,Feuil1!$G$11:$L$25,3),VLOOKUP(I64,Feuil1!$G$11:$L$25,2)))))))","v":"C1 69"},{"$f":"IF(I64=\"\",\"\",IF(A64=\"H\",10^(0.794358141*LOG(I64/174.393)^2)*T64,IF(A64=\"F\",10^(0.89726074*LOG(I64/148.026)^2)*T64,\"\")))","v":178.788237907179},null," ",{"$f":"T64-HLOOKUP(X64,Feuil1!$C$1:$BL$10,2,FALSE)","v":41},{"$f":"T64-HLOOKUP(X64,Feuil1!$C$1:$BL$10,3,FALSE)","v":21},{"$f":"T64-HLOOKUP(X64,Feuil1!$C$1:$BL$10,4,FALSE)","v":11},{"$f":"T64-HLOOKUP(X64,Feuil1!$C$1:$BL$10,5,FALSE)","v":-4},{"$f":"T64-HLOOKUP(X64,Feuil1!$C$1:$BL$10,6,FALSE)","v":-24},{"$f":"T64-HLOOKUP(X64,Feuil1!$C$1:$BL$10,7,FALSE)","v":-44},{"$f":"T64-HLOOKUP(X64,Feuil1!$C$1:$BL$10,8,FALSE)","v":-64},{"$f":"T64-HLOOKUP(X64,Feuil1!$C$1:$BL$10,9,FALSE)","v":-84},{"$f":"T64-HLOOKUP(X64,Feuil1!$C$1:$BL$10,10,FALSE)","v":-874},null,null,null,null,null,null,{"$f":"IF(AJ64>=0,$AJ$4,IF(AI64>=0,$AI$4,IF(AH64>=0,$AH$4,IF(AG64>=0,$AG$4,IF(AF64>=0,$AF$4,IF(AE64>=0,$AE$4,IF(AD64>=0,$AD$4,IF(AC64>=0,$AC$4,$AB$4))))))))","v":"REG +"}]
[]
["H","Nord","NPC",1,336176,"FARETIE","Sony",2000,69.3,"CA Rosendael","F",83,88,-93,{"$f":"IF(H66=\"\",\"\",IF(MAXA(L66:N66)<=0,0,MAXA(L66:N66)))","v":88},96,"-","-",{"$f":"IF(H66=\"\",\"\",IF(MAXA(P66:R66)<=0,0,MAXA(P66:R66)))","v":96},{"$f":"IF(H66=\"\",\"\",IF(OR(O66=0,S66=0),0,O66+S66))","v":184},{"$f":"T66-I66*2","v":45.400000000000006},{"$f":"IF(H66=\"\",\"\",AQ66)","v":"FED +"},{"$f":"IF(AJ66>=0,AJ66,IF(AI66>=0,AI66,IF(AH66>=0,AH66,IF(AG66>=0,AG66,IF(AF66>=0,AF66,IF(AE66>=0,AE66,IF(AD66>=0,AD66,IF(AC66>=0,AC66,AB66))))))))","v":14},{"$f":"IF(I66=\"\",\"\",IF(A66=\"H\",IF(OR(H66=\"SEN\",H66<1995),VLOOKUP(I66,Feuil1!$A$11:$G$29,6),IF(AND(H66>1994,H66<1998),VLOOKUP(I66,Feuil1!$A$11:$G$29,5),IF(AND(H66>1997,H66<2000),VLOOKUP(I66,Feuil1!$A$11:$G$29,4),IF(AND(H66>1999,H66<2002),VLOOKUP(I66,Feuil1!$A$11:$G$29,3),VLOOKUP(I66,Feuil1!$A$11:$G$29,2))))),IF(OR(H66=\"SEN\",H66<1995),VLOOKUP(I66,Feuil1!$G$11:$L$25,6),IF(AND(H66>1994,H66<1998),VLOOKUP(I66,Feuil1!$G$11:$L$25,5),IF(AND(H66>1997,H66<2000),VLOOKUP(I66,Feuil1!$G$11:$L$25,4),IF(AND(H66>1999,H66<2002),VLOOKUP(I66,Feuil1!$G$11:$L$25,3),VLOOKUP(I66,Feuil1!$G$11:$L$25,2)))))))","v":"C1 77"},{"$f":"IF(I66=\"\",\"\",IF(A66=\"H\",10^(0.794358141*LOG(I66/174.393)^2)*T66,IF(A66=\"F\",10^(0.89726074*LOG(I66/148.026)^2)*T66,\"\")))","v":246.8433079539279},null," ",{"$f":"T66-HLOOKUP(X66,Feuil1!$C$1:$BL$10,2,FALSE)","v":94},{"$f":"T66-HLOOKUP(X66,Feuil1!$C$1:$BL$10,3,FALSE)","v":74},{"$f":"T66-HLOOKUP(X66,Feuil1!$C$1:$BL$10,4,FALSE)","v":54},{"$f":"T66-HLOOKUP(X66,Feuil1!$C$1:$BL$10,5,FALSE)","v":34},{"$f":"T66-HLOOKUP(X66,Feuil1!$C$1:$BL$10,6,FALSE)","v":14},{"$f":"T66-HLOOKUP(X66,Feuil1!$C$1:$BL$10,7,FALSE)","v":-1},{"$f":"T66-HLOOKUP(X66,Feuil1!$C$1:$BL$10,8,FALSE)","v":-16},{"$f":"T66-HLOOKUP(X66,Feuil1!$C$1:$BL$10,9,FALSE)","v":-36},{"$f":"T66-HLOOKUP(X66,Feuil1!$C$1:$BL$10,10,FALSE)","v":-816},null,null,null,null,null,null,{"$f":"IF(AJ66>=0,$AJ$4,IF(AI66>=0,$AI$4,IF(AH66>=0,$AH$4,IF(AG66>=0,$AG$4,IF(AF66>=0,$AF$4,IF(AE66>=0,$AE$4,IF(AD66>=0,$AD$4,IF(AC66>=0,$AC$4,$AB$4))))))))","v":"FED +"}]
["H","Nord","NPC",2,360035,"VANDEVOORDE","Kylian",2000,73.3,"CHCD Comines","Belge",-60,60,-64,{"$f":"IF(H67=\"\",\"\",IF(MAXA(L67:N67)<=0,0,MAXA(L67:N67)))","v":60},84,-88,88,{"$f":"IF(H67=\"\",\"\",IF(MAXA(P67:R67)<=0,0,MAXA(P67:R67)))","v":88},{"$f":"IF(H67=\"\",\"\",IF(OR(O67=0,S67=0),0,O67+S67))","v":148},{"$f":"T67-I67*2","v":1.4000000000000057},{"$f":"IF(H67=\"\",\"\",AQ67)","v":"REG +"},{"$f":"IF(AJ67>=0,AJ67,IF(AI67>=0,AI67,IF(AH67>=0,AH67,IF(AG67>=0,AG67,IF(AF67>=0,AF67,IF(AE67>=0,AE67,IF(AD67>=0,AD67,IF(AC67>=0,AC67,AB67))))))))","v":18},{"$f":"IF(I67=\"\",\"\",IF(A67=\"H\",IF(OR(H67=\"SEN\",H67<1995),VLOOKUP(I67,Feuil1!$A$11:$G$29,6),IF(AND(H67>1994,H67<1998),VLOOKUP(I67,Feuil1!$A$11:$G$29,5),IF(AND(H67>1997,H67<2000),VLOOKUP(I67,Feuil1!$A$11:$G$29,4),IF(AND(H67>1999,H67<2002),VLOOKUP(I67,Feuil1!$A$11:$G$29,3),VLOOKUP(I67,Feuil1!$A$11:$G$29,2))))),IF(OR(H67=\"SEN\",H67<1995),VLOOKUP(I67,Feuil1!$G$11:$L$25,6),IF(AND(H67>1994,H67<1998),VLOOKUP(I67,Feuil1!$G$11:$L$25,5),IF(AND(H67>1997,H67<2000),VLOOKUP(I67,Feuil1!$G$11:$L$25,4),IF(AND(H67>1999,H67<2002),VLOOKUP(I67,Feuil1!$G$11:$L$25,3),VLOOKUP(I67,Feuil1!$G$11:$L$25,2)))))))","v":"C1 77"},{"$f":"IF(I67=\"\",\"\",IF(A67=\"H\",10^(0.794358141*LOG(I67/174.393)^2)*T67,IF(A67=\"F\",10^(0.89726074*LOG(I67/148.026)^2)*T67,\"\")))","v":191.78690759474486},null," ",{"$f":"T67-HLOOKUP(X67,Feuil1!$C$1:$BL$10,2,FALSE)","v":58},{"$f":"T67-HLOOKUP(X67,Feuil1!$C$1:$BL$10,3,FALSE)","v":38},{"$f":"T67-HLOOKUP(X67,Feuil1!$C$1:$BL$10,4,FALSE)","v":18},{"$f":"T67-HLOOKUP(X67,Feuil1!$C$1:$BL$10,5,FALSE)","v":-2},{"$f":"T67-HLOOKUP(X67,Feuil1!$C$1:$BL$10,6,FALSE)","v":-22},{"$f":"T67-HLOOKUP(X67,Feuil1!$C$1:$BL$10,7,FALSE)","v":-37},{"$f":"T67-HLOOKUP(X67,Feuil1!$C$1:$BL$10,8,FALSE)","v":-52},{"$f":"T67-HLOOKUP(X67,Feuil1!$C$1:$BL$10,9,FALSE)","v":-72},{"$f":"T67-HLOOKUP(X67,Feuil1!$C$1:$BL$10,10,FALSE)","v":-852},null,null,null,null,null,null,{"$f":"IF(AJ67>=0,$AJ$4,IF(AI67>=0,$AI$4,IF(AH67>=0,$AH$4,IF(AG67>=0,$AG$4,IF(AF67>=0,$AF$4,IF(AE67>=0,$AE$4,IF(AD67>=0,$AD$4,IF(AC67>=0,$AC$4,$AB$4))))))))","v":"REG +"}]
["H","DOM","REU",3,323504,"PATCHIE","TOMMY",2000,75.400000000000006,"SCHM St Paul","F",-70,70,75,{"$f":"IF(H68=\"\",\"\",IF(MAXA(L68:N68)<=0,0,MAXA(L68:N68)))","v":75},95,100,-102,{"$f":"IF(H68=\"\",\"\",IF(MAXA(P68:R68)<=0,0,MAXA(P68:R68)))","v":100},{"$f":"IF(H68=\"\",\"\",IF(OR(O68=0,S68=0),0,O68+S68))","v":175},{"$f":"T68-I68*2","v":24.199999999999989},{"$f":"IF(H68=\"\",\"\",AQ68)","v":"FED +"},{"$f":"IF(AJ68>=0,AJ68,IF(AI68>=0,AI68,IF(AH68>=0,AH68,IF(AG68>=0,AG68,IF(AF68>=0,AF68,IF(AE68>=0,AE68,IF(AD68>=0,AD68,IF(AC68>=0,AC68,AB68))))))))","v":5},{"$f":"IF(I68=\"\",\"\",IF(A68=\"H\",IF(OR(H68=\"SEN\",H68<1995),VLOOKUP(I68,Feuil1!$A$11:$G$29,6),IF(AND(H68>1994,H68<1998),VLOOKUP(I68,Feuil1!$A$11:$G$29,5),IF(AND(H68>1997,H68<2000),VLOOKUP(I68,Feuil1!$A$11:$G$29,4),IF(AND(H68>1999,H68<2002),VLOOKUP(I68,Feuil1!$A$11:$G$29,3),VLOOKUP(I68,Feuil1!$A$11:$G$29,2))))),IF(OR(H68=\"SEN\",H68<1995),VLOOKUP(I68,Feuil1!$G$11:$L$25,6),IF(AND(H68>1994,H68<1998),VLOOKUP(I68,Feuil1!$G$11:$L$25,5),IF(AND(H68>1997,H68<2000),VLOOKUP(I68,Feuil1!$G$11:$L$25,4),IF(AND(H68>1999,H68<2002),VLOOKUP(I68,Feuil1!$G$11:$L$25,3),VLOOKUP(I68,Feuil1!$G$11:$L$25,2)))))))","v":"C1 77"},{"$f":"IF(I68=\"\",\"\",IF(A68=\"H\",10^(0.794358141*LOG(I68/174.393)^2)*T68,IF(A68=\"F\",10^(0.89726074*LOG(I68/148.026)^2)*T68,\"\")))","v":223.03783617920098},null," ",{"$f":"T68-HLOOKUP(X68,Feuil1!$C$1:$BL$10,2,FALSE)","v":85},{"$f":"T68-HLOOKUP(X68,Feuil1!$C$1:$BL$10,3,FALSE)","v":65},{"$f":"T68-HLOOKUP(X68,Feuil1!$C$1:$BL$10,4,FALSE)","v":45},{"$f":"T68-HLOOKUP(X68,Feuil1!$C$1:$BL$10,5,FALSE)","v":25},{"$f":"T68-HLOOKUP(X68,Feuil1!$C$1:$BL$10,6,FALSE)","v":5},{"$f":"T68-HLOOKUP(X68,Feuil1!$C$1:$BL$10,7,FALSE)","v":-10},{"$f":"T68-HLOOKUP(X68,Feuil1!$C$1:$BL$10,8,FALSE)","v":-25},{"$f":"T68-HLOOKUP(X68,Feuil1!$C$1:$BL$10,9,FALSE)","v":-45},{"$f":"T68-HLOOKUP(X68,Feuil1!$C$1:$BL$10,10,FALSE)","v":-825},null,null,null,null,null,null,{"$f":"IF(AJ68>=0,$AJ$4,IF(AI68>=0,$AI$4,IF(AH68>=0,$AH$4,IF(AG68>=0,$AG$4,IF(AF68>=0,$AF$4,IF(AE68>=0,$AE$4,IF(AD68>=0,$AD$4,IF(AC68>=0,$AC$4,$AB$4))))))))","v":"FED +"}]
["H","NE","ALS",4,326143,"SPIELMANN","Arthur",2000,75.400000000000006,"SR Obernai HM","F",74,77,80,{"$f":"IF(H69=\"\",\"\",IF(MAXA(L69:N69)<=0,0,MAXA(L69:N69)))","v":80},90,-97,-97,{"$f":"IF(H69=\"\",\"\",IF(MAXA(P69:R69)<=0,0,MAXA(P69:R69)))","v":90},{"$f":"IF(H69=\"\",\"\",IF(OR(O69=0,S69=0),0,O69+S69))","v":170},{"$f":"T69-I69*2","v":19.199999999999989},{"$f":"IF(H69=\"\",\"\",AQ69)","v":"FED +"},{"$f":"IF(AJ69>=0,AJ69,IF(AI69>=0,AI69,IF(AH69>=0,AH69,IF(AG69>=0,AG69,IF(AF69>=0,AF69,IF(AE69>=0,AE69,IF(AD69>=0,AD69,IF(AC69>=0,AC69,AB69))))))))","v":0},{"$f":"IF(I69=\"\",\"\",IF(A69=\"H\",IF(OR(H69=\"SEN\",H69<1995),VLOOKUP(I69,Feuil1!$A$11:$G$29,6),IF(AND(H69>1994,H69<1998),VLOOKUP(I69,Feuil1!$A$11:$G$29,5),IF(AND(H69>1997,H69<2000),VLOOKUP(I69,Feuil1!$A$11:$G$29,4),IF(AND(H69>1999,H69<2002),VLOOKUP(I69,Feuil1!$A$11:$G$29,3),VLOOKUP(I69,Feuil1!$A$11:$G$29,2))))),IF(OR(H69=\"SEN\",H69<1995),VLOOKUP(I69,Feuil1!$G$11:$L$25,6),IF(AND(H69>1994,H69<1998),VLOOKUP(I69,Feuil1!$G$11:$L$25,5),IF(AND(H69>1997,H69<2000),VLOOKUP(I69,Feuil1!$G$11:$L$25,4),IF(AND(H69>1999,H69<2002),VLOOKUP(I69,Feuil1!$G$11:$L$25,3),VLOOKUP(I69,Feuil1!$G$11:$L$25,2)))))))","v":"C1 77"},{"$f":"IF(I69=\"\",\"\",IF(A69=\"H\",10^(0.794358141*LOG(I69/174.393)^2)*T69,IF(A69=\"F\",10^(0.89726074*LOG(I69/148.026)^2)*T69,\"\")))","v":216.66532657408095},null," ",{"$f":"T69-HLOOKUP(X69,Feuil1!$C$1:$BL$10,2,FALSE)","v":80},{"$f":"T69-HLOOKUP(X69,Feuil1!$C$1:$BL$10,3,FALSE)","v":60},{"$f":"T69-HLOOKUP(X69,Feuil1!$C$1:$BL$10,4,FALSE)","v":40},{"$f":"T69-HLOOKUP(X69,Feuil1!$C$1:$BL$10,5,FALSE)","v":20},{"$f":"T69-HLOOKUP(X69,Feuil1!$C$1:$BL$10,6,FALSE)","v":0},{"$f":"T69-HLOOKUP(X69,Feuil1!$C$1:$BL$10,7,FALSE)","v":-15},{"$f":"T69-HLOOKUP(X69,Feuil1!$C$1:$BL$10,8,FALSE)","v":-30},{"$f":"T69-HLOOKUP(X69,Feuil1!$C$1:$BL$10,9,FALSE)","v":-50},{"$f":"T69-HLOOKUP(X69,Feuil1!$C$1:$BL$10,10,FALSE)","v":-830},null,null,null,null,null,null,{"$f":"IF(AJ69>=0,$AJ$4,IF(AI69>=0,$AI$4,IF(AH69>=0,$AH$4,IF(AG69>=0,$AG$4,IF(AF69>=0,$AF$4,IF(AE69>=0,$AE$4,IF(AD69>=0,$AD$4,IF(AC69>=0,$AC$4,$AB$4))))))))","v":"FED +"}]
["H","Nord","NPC",5,340910,"LABAEYE","Tom",2000,75.599999999999994,"St Pol sur Mer","F",70,-73,-73,{"$f":"IF(H70=\"\",\"\",IF(MAXA(L70:N70)<=0,0,MAXA(L70:N70)))","v":70},90,-95,-100,{"$f":"IF(H70=\"\",\"\",IF(MAXA(P70:R70)<=0,0,MAXA(P70:R70)))","v":90},{"$f":"IF(H70=\"\",\"\",IF(OR(O70=0,S70=0),0,O70+S70))","v":160},{"$f":"T70-I70*2","v":8.8000000000000114},{"$f":"IF(H70=\"\",\"\",AQ70)","v":"IRG +"},{"$f":"IF(AJ70>=0,AJ70,IF(AI70>=0,AI70,IF(AH70>=0,AH70,IF(AG70>=0,AG70,IF(AF70>=0,AF70,IF(AE70>=0,AE70,IF(AD70>=0,AD70,IF(AC70>=0,AC70,AB70))))))))","v":10},{"$f":"IF(I70=\"\",\"\",IF(A70=\"H\",IF(OR(H70=\"SEN\",H70<1995),VLOOKUP(I70,Feuil1!$A$11:$G$29,6),IF(AND(H70>1994,H70<1998),VLOOKUP(I70,Feuil1!$A$11:$G$29,5),IF(AND(H70>1997,H70<2000),VLOOKUP(I70,Feuil1!$A$11:$G$29,4),IF(AND(H70>1999,H70<2002),VLOOKUP(I70,Feuil1!$A$11:$G$29,3),VLOOKUP(I70,Feuil1!$A$11:$G$29,2))))),IF(OR(H70=\"SEN\",H70<1995),VLOOKUP(I70,Feuil1!$G$11:$L$25,6),IF(AND(H70>1994,H70<1998),VLOOKUP(I70,Feuil1!$G$11:$L$25,5),IF(AND(H70>1997,H70<2000),VLOOKUP(I70,Feuil1!$G$11:$L$25,4),IF(AND(H70>1999,H70<2002),VLOOKUP(I70,Feuil1!$G$11:$L$25,3),VLOOKUP(I70,Feuil1!$G$11:$L$25,2)))))))","v":"C1 77"},{"$f":"IF(I70=\"\",\"\",IF(A70=\"H\",10^(0.794358141*LOG(I70/174.393)^2)*T70,IF(A70=\"F\",10^(0.89726074*LOG(I70/148.026)^2)*T70,\"\")))","v":203.60851832558711},null," ",{"$f":"T70-HLOOKUP(X70,Feuil1!$C$1:$BL$10,2,FALSE)","v":70},{"$f":"T70-HLOOKUP(X70,Feuil1!$C$1:$BL$10,3,FALSE)","v":50},{"$f":"T70-HLOOKUP(X70,Feuil1!$C$1:$BL$10,4,FALSE)","v":30},{"$f":"T70-HLOOKUP(X70,Feuil1!$C$1:$BL$10,5,FALSE)","v":10},{"$f":"T70-HLOOKUP(X70,Feuil1!$C$1:$BL$10,6,FALSE)","v":-10},{"$f":"T70-HLOOKUP(X70,Feuil1!$C$1:$BL$10,7,FALSE)","v":-25},{"$f":"T70-HLOOKUP(X70,Feuil1!$C$1:$BL$10,8,FALSE)","v":-40},{"$f":"T70-HLOOKUP(X70,Feuil1!$C$1:$BL$10,9,FALSE)","v":-60},{"$f":"T70-HLOOKUP(X70,Feuil1!$C$1:$BL$10,10,FALSE)","v":-840},null,null,null,null,null,null,{"$f":"IF(AJ70>=0,$AJ$4,IF(AI70>=0,$AI$4,IF(AH70>=0,$AH$4,IF(AG70>=0,$AG$4,IF(AF70>=0,$AF$4,IF(AE70>=0,$AE$4,IF(AD70>=0,$AD$4,IF(AC70>=0,$AC$4,$AB$4))))))))","v":"IRG +"}]
[]
["H","Nord","NPC",1,272004,"FRANCHOIS","Kévin",2000,77.5,"St Pol sur Mer","F",80,85,-87,{"$f":"IF(H72=\"\",\"\",IF(MAXA(L72:N72)<=0,0,MAXA(L72:N72)))","v":85},100,105,-108,{"$f":"IF(H72=\"\",\"\",IF(MAXA(P72:R72)<=0,0,MAXA(P72:R72)))","v":105},{"$f":"IF(H72=\"\",\"\",IF(OR(O72=0,S72=0),0,O72+S72))","v":190},{"$f":"T72-I72*2","v":35},{"$f":"IF(H72=\"\",\"\",AQ72)","v":"FED +"},{"$f":"IF(AJ72>=0,AJ72,IF(AI72>=0,AI72,IF(AH72>=0,AH72,IF(AG72>=0,AG72,IF(AF72>=0,AF72,IF(AE72>=0,AE72,IF(AD72>=0,AD72,IF(AC72>=0,AC72,AB72))))))))","v":10},{"$f":"IF(I72=\"\",\"\",IF(A72=\"H\",IF(OR(H72=\"SEN\",H72<1995),VLOOKUP(I72,Feuil1!$A$11:$G$29,6),IF(AND(H72>1994,H72<1998),VLOOKUP(I72,Feuil1!$A$11:$G$29,5),IF(AND(H72>1997,H72<2000),VLOOKUP(I72,Feuil1!$A$11:$G$29,4),IF(AND(H72>1999,H72<2002),VLOOKUP(I72,Feuil1!$A$11:$G$29,3),VLOOKUP(I72,Feuil1!$A$11:$G$29,2))))),IF(OR(H72=\"SEN\",H72<1995),VLOOKUP(I72,Feuil1!$G$11:$L$25,6),IF(AND(H72>1994,H72<1998),VLOOKUP(I72,Feuil1!$G$11:$L$25,5),IF(AND(H72>1997,H72<2000),VLOOKUP(I72,Feuil1!$G$11:$L$25,4),IF(AND(H72>1999,H72<2002),VLOOKUP(I72,Feuil1!$G$11:$L$25,3),VLOOKUP(I72,Feuil1!$G$11:$L$25,2)))))))","v":"C1 85"},{"$f":"IF(I72=\"\",\"\",IF(A72=\"H\",10^(0.794358141*LOG(I72/174.393)^2)*T72,IF(A72=\"F\",10^(0.89726074*LOG(I72/148.026)^2)*T72,\"\")))","v":238.3992756427624},null," ",{"$f":"T72-HLOOKUP(X72,Feuil1!$C$1:$BL$10,2,FALSE)","v":90},{"$f":"T72-HLOOKUP(X72,Feuil1!$C$1:$BL$10,3,FALSE)","v":70},{"$f":"T72-HLOOKUP(X72,Feuil1!$C$1:$BL$10,4,FALSE)","v":50},{"$f":"T72-HLOOKUP(X72,Feuil1!$C$1:$BL$10,5,FALSE)","v":30},{"$f":"T72-HLOOKUP(X72,Feuil1!$C$1:$BL$10,6,FALSE)","v":10},{"$f":"T72-HLOOKUP(X72,Feuil1!$C$1:$BL$10,7,FALSE)","v":-10},{"$f":"T72-HLOOKUP(X72,Feuil1!$C$1:$BL$10,8,FALSE)","v":-30},{"$f":"T72-HLOOKUP(X72,Feuil1!$C$1:$BL$10,9,FALSE)","v":-50},{"$f":"T72-HLOOKUP(X72,Feuil1!$C$1:$BL$10,10,FALSE)","v":-9810},null,null,null,null,null,null,{"$f":"IF(AJ72>=0,$AJ$4,IF(AI72>=0,$AI$4,IF(AH72>=0,$AH$4,IF(AG72>=0,$AG$4,IF(AF72>=0,$AF$4,IF(AE72>=0,$AE$4,IF(AD72>=0,$AD$4,IF(AC72>=0,$AC$4,$AB$4))))))))","v":"FED +"}]
[]
["H",null,null,null,null,null,null,null,null,null,null,null,null,null,{"$f":"IF(H74=\"\",\"\",IF(MAXA(L74:N74)<=0,0,MAXA(L74:N74)))","v":""},null,null,null,{"$f":"IF(H74=\"\",\"\",IF(MAXA(P74:R74)<=0,0,MAXA(P74:R74)))","v":""},{"$f":"IF(H74=\"\",\"\",IF(OR(O74=0,S74=0),0,O74+S74))","v":""},{"$f":"T74-I74*2","v":{"$error":"#VALUE!"}},{"$f":"IF(H74=\"\",\"\",AQ74)","v":""},{"$f":"IF(AJ74>=0,AJ74,IF(AI74>=0,AI74,IF(AH74>=0,AH74,IF(AG74>=0,AG74,IF(AF74>=0,AF74,IF(AE74>=0,AE74,IF(AD74>=0,AD74,IF(AC74>=0,AC74,AB74))))))))","v":{"$error":"#VALUE!"}},{"$f":"IF(I74=\"\",\"\",IF(A74=\"H\",IF(OR(H74=\"SEN\",H74<1995),VLOOKUP(I74,Feuil1!$A$11:$G$29,6),IF(AND(H74>1994,H74<1998),VLOOKUP(I74,Feuil1!$A$11:$G$29,5),IF(AND(H74>1997,H74<2000),VLOOKUP(I74,Feuil1!$A$11:$G$29,4),IF(AND(H74>1999,H74<2002),VLOOKUP(I74,Feuil1!$A$11:$G$29,3),VLOOKUP(I74,Feuil1!$A$11:$G$29,2))))),IF(OR(H74=\"SEN\",H74<1995),VLOOKUP(I74,Feuil1!$G$11:$L$25,6),IF(AND(H74>1994,H74<1998),VLOOKUP(I74,Feuil1!$G$11:$L$25,5),IF(AND(H74>1997,H74<2000),VLOOKUP(I74,Feuil1!$G$11:$L$25,4),IF(AND(H74>1999,H74<2002),VLOOKUP(I74,Feuil1!$G$11:$L$25,3),VLOOKUP(I74,Feuil1!$G$11:$L$25,2)))))))","v":""},{"$f":"IF(I74=\"\",\"\",IF(A74=\"H\",10^(0.794358141*LOG(I74/174.393)^2)*T74,IF(A74=\"F\",10^(0.89726074*LOG(I74/148.026)^2)*T74,\"\")))","v":""},null," ",{"$f":"T74-HLOOKUP(X74,Feuil1!$C$1:$BL$10,2,FALSE)","v":{"$error":"#VALUE!"}},{"$f":"T74-HLOOKUP(X74,Feuil1!$C$1:$BL$10,3,FALSE)","v":{"$error":"#VALUE!"}},{"$f":"T74-HLOOKUP(X74,Feuil1!$C$1:$BL$10,4,FALSE)","v":{"$error":"#VALUE!"}},{"$f":"T74-HLOOKUP(X74,Feuil1!$C$1:$BL$10,5,FALSE)","v":{"$error":"#VALUE!"}},{"$f":"T74-HLOOKUP(X74,Feuil1!$C$1:$BL$10,6,FALSE)","v":{"$error":"#VALUE!"}},{"$f":"T74-HLOOKUP(X74,Feuil1!$C$1:$BL$10,7,FALSE)","v":{"$error":"#VALUE!"}},{"$f":"T74-HLOOKUP(X74,Feuil1!$C$1:$BL$10,8,FALSE)","v":{"$error":"#VALUE!"}},{"$f":"T74-HLOOKUP(X74,Feuil1!$C$1:$BL$10,9,FALSE)","v":{"$error":"#VALUE!"}},{"$f":"T74-HLOOKUP(X74,Feuil1!$C$1:$BL$10,10,FALSE)","v":{"$error":"#VALUE!"}},null,null,null,null,null,null,{"$f":"IF(AJ74>=0,$AJ$4,IF(AI74>=0,$AI$4,IF(AH74>=0,$AH$4,IF(AG74>=0,$AG$4,IF(AF74>=0,$AF$4,IF(AE74>=0,$AE$4,IF(AD74>=0,$AD$4,IF(AC74>=0,$AC$4,$AB$4))))))))","v":{"$error":"#VALUE!"}}]
[]
[]
[]
[]
[]
[]
[]
[]
[]
[]
[]
[]
[]
[]
[]
[]
[]
[]
[]
[]
[]
[]
[]
[]
[]
[]
[]
[]
[]
[]
[]
[]
[]
[]
[]
[]
[]
[]
[]
[]
[]
[]
[]
[]
[]
[]
[]
[]
[]
[]
[]
[]
[]
[]
[]
[]
[]
[]
[]
[]
[]
[]
[]
[]
[]
[]
[]
[]
[]
[]
[]
[]
[]
[]
[]
[]
[]
[]
[]
[]
[]
[]
[]
[]
[]
[]
[]
[]
[]
[]
[]
[]
[]
[]
[]
[]
[]
[]
[]
[]
[]
[]
[]
[]
[]
[]
[]
[]
[]
[]
[]
[]
[]
[]
[]
[]
[]
[]
[]
[]
[]
[]
[]
[]
[]
[]
[]
[]
[]
[]
[]
[]
[]
[]
[]
[]
[]
[]
[]
[]
[]
[]
[]
[]
[]
[]
[]
[]
[]
[]
[]
[]
[]
[]
[]
[]
[]
[]
[]
[]
[]
[]
[]
[]
[]
[]
[]
[]
[]
[]
[]
[]
[]
[]
[]
[]
[]
[]
[]
[]
[]
[]
[]
[]
[]
[]
[]
[]
[]
[]
[]
[]
[]
[]
[]
[]
[]
[]
[]
[]
[]
[]
[]
[]
[]
[]
[]
[]
[]
[]
[]
[]
[]
[]
[]
[]
[]
[]
[]
[]
[]
[]
[]
[]
[]
[]
[]
[]
[]
[]
[]
[]
[]
[]
[]
[]
[]
[]
[]
[]
[]
[]
[]
[]
[]
[]
[]
[]
[]
[]
[]
[]
[]
[]
[]
[]
[]
[]
[]
[]
[]
[]
[]
[]
[]
[]
[]
[]
[]
[]
[]
[]
[]
[]
[]
[]
[]
[]
[]
[]
[]
[]
[]
[]
[]
[]
[]
[]
[]
[]
[]
[]
[]
[]
[]
[]
[]
[]
[]
[]
[]
[]
[]
[]
[]
[]
[]
[]
[]
[]
[]
[]
[]
[]
[]
[]
[]
[]
[]
[]
[]
[]
[]
[]
[]
[]
[]
[]
[]
[]
[]
[]
[]
[]
[]
[]
[]
[]
[]
[]
[]
[]
[]
[]
[]
[]
[]
[]
[]
[]
[]
[]
[]
[]
[]
[]
[]
[]
[]
[]
[]
[]
[]
[]
[]
[]
[]
[]
[]
[]
[]
[]
[]
[]
[]
[]
[]
[]
[]
[]
[]
[]
[]
[]
[]
[]
[]
[]
[]
[]
[]
[]
[]
[]
[]
[]
[]
[]
[]
[]
[]
[]
[]
[]
[]
[]
[]
[]
[]
[]
[]
[]
[]
[]
[]
[]
[]
[]
[]
[]
[]
[]
[]
[]
[]
[]
[]
[]
[]
[]
[]
[]
[]
[]
[]
[]
[null,null,null,null,null,null,null,null,null,null,null,null,null,null,null,null,null,null,null,null,null,null,null,null,null,null,null,"J77","J85","J94","J105","J+105",null,"J56","J62","J69","J77","J85","J94","J105","J+105",null,"S56","S62","S69","S77","S85","S94","S105","S+105"]
[null,null,null,null,null,null,null,null,null,null,null,null,null,null,null,null,null,null,null,null,null,null,null,null,null,null,null,145,160,170,180,190,null,100,115,130,145,160,170,180,190,null,115,135,150,165,180,190,200,210]
[null,null,null,null,null,null,null,null,null,null,null,null,null,null,null,null,null,null,null,null,null,null,null,null,null,null,null,165,180,190,200,210,null,115,135,150,165,180,190,200,210,null,130,150,165,185,200,210,220,230]
[null,null,null,null,null,null,null,null,null,null,null,null,null,null,null,null,null,null,null,null,null,null,null,null,null,null,null,185,200,210,220,230,null,130,150,165,185,200,210,220,230,null,145,165,180,200,220,230,240,250]
[null,null,null,null,null,null,null,null,null,null,null,null,null,null,null,null,null,null,null,null,null,null,null,null,null,null,null,200,220,230,240,250,null,145,165,180,200,220,230,240,250,null,175,195,215,235,250,260,275,280]
[null,null,null,null,null,null,null,null,null,null,null,null,null,null,null,null,null,null,null,null,null,null,null,null,null,null,null,235,250,260,275,280,null,175,195,215,235,250,260,275,280,null,210,230,250,270,290,300,310,325]
[null,null,null,null,null,null,null,null,null,null,null,null,null,null,null,null,null,null,null,null,null,null,null,null,null,null,null,270,290,300,310,325,null,210,230,250,270,290,300,310,325,null,230,255,275,300,315,335,345,355]
[null,null,null,null,null,null,null,null,null,null,null,null,null,null,null,null,null,null,null,null,null,null,null,null,null,null,null,320,335,355,370,380,null,245,270,295,320,335,355,370,380,null,245,270,295,320,335,355,370,380]

{"sheet":"CADETS 2","index":2,"n_rows":511,"n_cols":50,"rows_kept":511,"cut":false,"hidden":false,"merged":[[3,21,3,22],[0,7,0,14],[0,18,0,21],[1,6,1,10],[1,11,1,13],[1,14,1,17],[1,18,1,19],[1,21,1,22]]}
[null,null,null,null,null,null,null,"Championnat de Zone de Printemps ",null,null,null,null,null,null,null,null,"DATE :",null,"2015-04-05"]
[null,null,null,null,null," ","CLASSEMENT NATIONAL des ZONES"]
[]
["SEXE","ZONE","REG.","CL.","LICENCE","NOMS","Prénoms","AN","POIDS","CLUB","NAT",1,2,3,"ARR",1,2,3,"EP-J","Total","KP-2PC","SERIE",null,"Catég","IWF",null," ","DEB ","DEP +","REG +","IRG +","FED +","NAT +","INTB +","INTA +","OLY +"]
[]
["F","CO","PDL",1,191138,"L'HERMIER","Nolwen",1999,43.7,"CJF Laval-Voutré","F",43,45,47,{"$f":"IF(H6=\"\",\"\",IF(MAXA(L6:N6)<=0,0,MAXA(L6:N6)))","v":47},59,-63,-63,{"$f":"IF(H6=\"\",\"\",IF(MAXA(P6:R6)<=0,0,MAXA(P6:R6)))","v":59},{"$f":"IF(H6=\"\",\"\",IF(OR(O6=0,S6=0),0,O6+S6))","v":106},{"$f":"T6-I6*2","v":18.599999999999994},{"$f":"IF(H6=\"\",\"\",AQ6)","v":"INTA +"},{"$f":"IF(AJ6>=0,AJ6,IF(AI6>=0,AI6,IF(AH6>=0,AH6,IF(AG6>=0,AG6,IF(AF6>=0,AF6,IF(AE6>=0,AE6,IF(AD6>=0,AD6,IF(AC6>=0,AC6,AB6))))))))","v":6},{"$f":"IF(I6=\"\",\"\",IF(A6=\"H\",IF(OR(H6=\"SEN\",H6<1995),VLOOKUP(I6,Feuil1!$A$11:$G$29,6),IF(AND(H6>1994,H6<1998),VLOOKUP(I6,Feuil1!$A$11:$G$29,5),IF(AND(H6>1997,H6<2000),VLOOKUP(I6,Feuil1!$A$11:$G$29,4),IF(AND(H6>1999,H6<2002),VLOOKUP(I6,Feuil1!$A$11:$G$29,3),VLOOKUP(I6,Feuil1!$A$11:$G$29,2))))),IF(OR(H6=\"SEN\",H6<1995),VLOOKUP(I6,Feuil1!$G$11:$L$25,6),IF(AND(H6>1994,H6<1998),VLOOKUP(I6,Feuil1!$G$11:$L$25,5),IF(AND(H6>1997,H6<2000),VLOOKUP(I6,Feuil1!$G$11:$L$25,4),IF(AND(H6>1999,H6<2002),VLOOKUP(I6,Feuil1!$G$11:$L$25,3),VLOOKUP(I6,Feuil1!$G$11:$L$25,2)))))))","v":"FC2 44"},{"$f":"IF(I6=\"\",\"\",IF(A6=\"H\",10^(0.794358141*LOG(I6/174.393)^2)*T6,IF(A6=\"F\",10^(0.89726074*LOG(I6/148.026)^2)*T6,\"\")))","v":189.32588983688819},null," ",{"$f":"T6-HLOOKUP(X6,Feuil1!$C$1:$BL$10,2,FALSE)","v":76},{"$f":"T6-HLOOKUP(X6,Feuil1!$C$1:$BL$10,3,FALSE)","v":66},{"$f":"T6-HLOOKUP(X6,Feuil1!$C$1:$BL$10,4,FALSE)","v":56},{"$f":"T6-HLOOKUP(X6,Feuil1!$C$1:$BL$10,5,FALSE)","v":46},{"$f":"T6-HLOOKUP(X6,Feuil1!$C$1:$BL$10,6,FALSE)","v":36},{"$f":"T6-HLOOKUP(X6,Feuil1!$C$1:$BL$10,7,FALSE)","v":26},{"$f":"T6-HLOOKUP(X6,Feuil1!$C$1:$BL$10,8,FALSE)","v":16},{"$f":"T6-HLOOKUP(X6,Feuil1!$C$1:$BL$10,9,FALSE)","v":6},{"$f":"T6-HLOOKUP(X6,Feuil1!$C$1:$BL$10,10,FALSE)","v":-894},null,null,null,null,null,null,{"$f":"IF(AJ6>=0,$AJ$4,IF(AI6>=0,$AI$4,IF(AH6>=0,$AH$4,IF(AG6>=0,$AG$4,IF(AF6>=0,$AF$4,IF(AE6>=0,$AE$4,IF(AD6>=0,$AD$4,IF(AC6>=0,$AC$4,$AB$4))))))))","v":"INTA +"}]
[]
["F","SEST","CAZ",1,363002,"MAILLOT ","Asia",1998,46.54,"ASLDD. TOULON","F",39,41,-44,{"$f":"IF(H8=\"\",\"\",IF(MAXA(L8:N8)<=0,0,MAXA(L8:N8)))","v":41},54,56,58,{"$f":"IF(H8=\"\",\"\",IF(MAXA(P8:R8)<=0,0,MAXA(P8:R8)))","v":58},{"$f":"IF(H8=\"\",\"\",IF(OR(O8=0,S8=0),0,O8+S8))","v":99},{"$f":"T8-I8*2","v":5.9200000000000017},{"$f":"IF(H8=\"\",\"\",AQ8)","v":"INTB +"},{"$f":"IF(AJ8>=0,AJ8,IF(AI8>=0,AI8,IF(AH8>=0,AH8,IF(AG8>=0,AG8,IF(AF8>=0,AF8,IF(AE8>=0,AE8,IF(AD8>=0,AD8,IF(AC8>=0,AC8,AB8))))))))","v":4},{"$f":"IF(I8=\"\",\"\",IF(A8=\"H\",IF(OR(H8=\"SEN\",H8<1995),VLOOKUP(I8,Feuil1!$A$11:$G$29,6),IF(AND(H8>1994,H8<1998),VLOOKUP(I8,Feuil1!$A$11:$G$29,5),IF(AND(H8>1997,H8<2000),VLOOKUP(I8,Feuil1!$A$11:$G$29,4),IF(AND(H8>1999,H8<2002),VLOOKUP(I8,Feuil1!$A$11:$G$29,3),VLOOKUP(I8,Feuil1!$A$11:$G$29,2))))),IF(OR(H8=\"SEN\",H8<1995),VLOOKUP(I8,Feuil1!$G$11:$L$25,6),IF(AND(H8>1994,H8<1998),VLOOKUP(I8,Feuil1!$G$11:$L$25,5),IF(AND(H8>1997,H8<2000),VLOOKUP(I8,Feuil1!$G$11:$L$25,4),IF(AND(H8>1999,H8<2002),VLOOKUP(I8,Feuil1!$G$11:$L$25,3),VLOOKUP(I8,Feuil1!$G$11:$L$25,2)))))))","v":"FC2 48"},{"$f":"IF(I8=\"\",\"\",IF(A8=\"H\",10^(0.794358141*LOG(I8/174.393)^2)*T8,IF(A8=\"F\",10^(0.89726074*LOG(I8/148.026)^2)*T8,\"\")))","v":166.80521411817696},null," ",{"$f":"T8-HLOOKUP(X8,Feuil1!$C$1:$BL$10,2,FALSE)","v":64},{"$f":"T8-HLOOKUP(X8,Feuil1!$C$1:$BL$10,3,FALSE)","v":54},{"$f":"T8-HLOOKUP(X8,Feuil1!$C$1:$BL$10,4,FALSE)","v":44},{"$f":"T8-HLOOKUP(X8,Feuil1!$C$1:$BL$10,5,FALSE)","v":34},{"$f":"T8-HLOOKUP(X8,Feuil1!$C$1:$BL$10,6,FALSE)","v":24},{"$f":"T8-HLOOKUP(X8,Feuil1!$C$1:$BL$10,7,FALSE)","v":14},{"$f":"T8-HLOOKUP(X8,Feuil1!$C$1:$BL$10,8,FALSE)","v":4},{"$f":"T8-HLOOKUP(X8,Feuil1!$C$1:$BL$10,9,FALSE)","v":-11},{"$f":"T8-HLOOKUP(X8,Feuil1!$C$1:$BL$10,10,FALSE)","v":-901},null,null,null,null,null,null,{"$f":"IF(AJ8>=0,$AJ$4,IF(AI8>=0,$AI$4,IF(AH8>=0,$AH$4,IF(AG8>=0,$AG$4,IF(AF8>=0,$AF$4,IF(AE8>=0,$AE$4,IF(AD8>=0,$AD$4,IF(AC8>=0,$AC$4,$AB$4))))))))","v":"INTB +"}]
["F","SEST","CAZ",2,387211,"CUDIA","Charlotte",1999,46.14,"ASLDD. TOULON","F",29,31,33,33,-41,41,-42,41,74,-18.28,"IRG +",9,{"$f":"IF(I9=\"\",\"\",IF(A9=\"H\",IF(OR(H9=\"SEN\",H9<1995),VLOOKUP(I9,Feuil1!$A$11:$G$29,6),IF(AND(H9>1994,H9<1998),VLOOKUP(I9,Feuil1!$A$11:$G$29,5),IF(AND(H9>1997,H9<2000),VLOOKUP(I9,Feuil1!$A$11:$G$29,4),IF(AND(H9>1999,H9<2002),VLOOKUP(I9,Feuil1!$A$11:$G$29,3),VLOOKUP(I9,Feuil1!$A$11:$G$29,2))))),IF(OR(H9=\"SEN\",H9<1995),VLOOKUP(I9,Feuil1!$G$11:$L$25,6),IF(AND(H9>1994,H9<1998),VLOOKUP(I9,Feuil1!$G$11:$L$25,5),IF(AND(H9>1997,H9<2000),VLOOKUP(I9,Feuil1!$G$11:$L$25,4),IF(AND(H9>1999,H9<2002),VLOOKUP(I9,Feuil1!$G$11:$L$25,3),VLOOKUP(I9,Feuil1!$G$11:$L$25,2)))))))","v":"FC2 48"},125.66064776158861,null," ",{"$f":"T9-HLOOKUP(X9,Feuil1!$C$1:$BL$10,2,FALSE)","v":39},{"$f":"T9-HLOOKUP(X9,Feuil1!$C$1:$BL$10,3,FALSE)","v":29},{"$f":"T9-HLOOKUP(X9,Feuil1!$C$1:$BL$10,4,FALSE)","v":19},{"$f":"T9-HLOOKUP(X9,Feuil1!$C$1:$BL$10,5,FALSE)","v":9},{"$f":"T9-HLOOKUP(X9,Feuil1!$C$1:$BL$10,6,FALSE)","v":-1},{"$f":"T9-HLOOKUP(X9,Feuil1!$C$1:$BL$10,7,FALSE)","v":-11},{"$f":"T9-HLOOKUP(X9,Feuil1!$C$1:$BL$10,8,FALSE)","v":-21},{"$f":"T9-HLOOKUP(X9,Feuil1!$C$1:$BL$10,9,FALSE)","v":-36},{"$f":"T9-HLOOKUP(X9,Feuil1!$C$1:$BL$10,10,FALSE)","v":-926},null,null,null,null,null,null,"IRG +"]
[]
["F","SEST","RAL",1,392577,"TESTE","Flavie",1998,52.2,"A.C. SAINT MARCELLIN","F",40,44,47,{"$f":"IF(H11=\"\",\"\",IF(MAXA(L11:N11)<=0,0,MAXA(L11:N11)))","v":47},58,-62,-62,{"$f":"IF(H11=\"\",\"\",IF(MAXA(P11:R11)<=0,0,MAXA(P11:R11)))","v":58},{"$f":"IF(H11=\"\",\"\",IF(OR(O11=0,S11=0),0,O11+S11))","v":105},{"$f":"T11-I11*2","v":0.59999999999999432},{"$f":"IF(H11=\"\",\"\",AQ11)","v":"INTB +"},{"$f":"IF(AJ11>=0,AJ11,IF(AI11>=0,AI11,IF(AH11>=0,AH11,IF(AG11>=0,AG11,IF(AF11>=0,AF11,IF(AE11>=0,AE11,IF(AD11>=0,AD11,IF(AC11>=0,AC11,AB11))))))))","v":0},{"$f":"IF(I11=\"\",\"\",IF(A11=\"H\",IF(OR(H11=\"SEN\",H11<1995),VLOOKUP(I11,Feuil1!$A$11:$G$29,6),IF(AND(H11>1994,H11<1998),VLOOKUP(I11,Feuil1!$A$11:$G$29,5),IF(AND(H11>1997,H11<2000),VLOOKUP(I11,Feuil1!$A$11:$G$29,4),IF(AND(H11>1999,H11<2002),VLOOKUP(I11,Feuil1!$A$11:$G$29,3),VLOOKUP(I11,Feuil1!$A$11:$G$29,2))))),IF(OR(H11=\"SEN\",H11<1995),VLOOKUP(I11,Feuil1!$G$11:$L$25,6),IF(AND(H11>1994,H11<1998),VLOOKUP(I11,Feuil1!$G$11:$L$25,5),IF(AND(H11>1997,H11<2000),VLOOKUP(I11,Feuil1!$G$11:$L$25,4),IF(AND(H11>1999,H11<2002),VLOOKUP(I11,Feuil1!$G$11:$L$25,3),VLOOKUP(I11,Feuil1!$G$11:$L$25,2)))))))","v":"FC2 53"},{"$f":"IF(I11=\"\",\"\",IF(A11=\"H\",10^(0.794358141*LOG(I11/174.393)^2)*T11,IF(A11=\"F\",10^(0.89726074*LOG(I11/148.026)^2)*T11,\"\")))","v":160.34118270036555},null," ",{"$f":"T11-HLOOKUP(X11,Feuil1!$C$1:$BL$10,2,FALSE)","v":60},{"$f":"T11-HLOOKUP(X11,Feuil1!$C$1:$BL$10,3,FALSE)","v":50},{"$f":"T11-HLOOKUP(X11,Feuil1!$C$1:$BL$10,4,FALSE)","v":40},{"$f":"T11-HLOOKUP(X11,Feuil1!$C$1:$BL$10,5,FALSE)","v":30},{"$f":"T11-HLOOKUP(X11,Feuil1!$C$1:$BL$10,6,FALSE)","v":20},{"$f":"T11-HLOOKUP(X11,Feuil1!$C$1:$BL$10,7,FALSE)","v":10},{"$f":"T11-HLOOKUP(X11,Feuil1!$C$1:$BL$10,8,FALSE)","v":0},{"$f":"T11-HLOOKUP(X11,Feuil1!$C$1:$BL$10,9,FALSE)","v":-15},{"$f":"T11-HLOOKUP(X11,Feuil1!$C$1:$BL$10,10,FALSE)","v":-895},null,null,null,null,null,null,{"$f":"IF(AJ11>=0,$AJ$4,IF(AI11>=0,$AI$4,IF(AH11>=0,$AH$4,IF(AG11>=0,$AG$4,IF(AF11>=0,$AF$4,IF(AE11>=0,$AE$4,IF(AD11>=0,$AD$4,IF(AC11>=0,$AC$4,$AB$4))))))))","v":"INTB +"}]
["F","DOM","MAR",2,362590,"BOISFER","Priscilla",1999,51,"ABBC/Foyal Didier","F",35,40,-42,40,47,52,55,55,95,-7,"NAT +",0,{"$f":"IF(I12=\"\",\"\",IF(A12=\"H\",IF(OR(H12=\"SEN\",H12<1995),VLOOKUP(I12,Feuil1!$A$11:$G$29,6),IF(AND(H12>1994,H12<1998),VLOOKUP(I12,Feuil1!$A$11:$G$29,5),IF(AND(H12>1997,H12<2000),VLOOKUP(I12,Feuil1!$A$11:$G$29,4),IF(AND(H12>1999,H12<2002),VLOOKUP(I12,Feuil1!$A$11:$G$29,3),VLOOKUP(I12,Feuil1!$A$11:$G$29,2))))),IF(OR(H12=\"SEN\",H12<1995),VLOOKUP(I12,Feuil1!$G$11:$L$25,6),IF(AND(H12>1994,H12<1998),VLOOKUP(I12,Feuil1!$G$11:$L$25,5),IF(AND(H12>1997,H12<2000),VLOOKUP(I12,Feuil1!$G$11:$L$25,4),IF(AND(H12>1999,H12<2002),VLOOKUP(I12,Feuil1!$G$11:$L$25,3),VLOOKUP(I12,Feuil1!$G$11:$L$25,2)))))))","v":"FC2 53"},147.86848988639673,null," ",{"$f":"T12-HLOOKUP(X12,Feuil1!$C$1:$BL$10,2,FALSE)","v":50},{"$f":"T12-HLOOKUP(X12,Feuil1!$C$1:$BL$10,3,FALSE)","v":40},{"$f":"T12-HLOOKUP(X12,Feuil1!$C$1:$BL$10,4,FALSE)","v":30},{"$f":"T12-HLOOKUP(X12,Feuil1!$C$1:$BL$10,5,FALSE)","v":20},{"$f":"T12-HLOOKUP(X12,Feuil1!$C$1:$BL$10,6,FALSE)","v":10},{"$f":"T12-HLOOKUP(X12,Feuil1!$C$1:$BL$10,7,FALSE)","v":0},{"$f":"T12-HLOOKUP(X12,Feuil1!$C$1:$BL$10,8,FALSE)","v":-10},{"$f":"T12-HLOOKUP(X12,Feuil1!$C$1:$BL$10,9,FALSE)","v":-25},{"$f":"T12-HLOOKUP(X12,Feuil1!$C$1:$BL$10,10,FALSE)","v":-905},null,null,null,null,null,null,"NAT +"]
["F","NE","ALS",3,381293,"FEILLARD","Lea",1998,51.4,"SR Obernai HM","F",34,36,-38,36,46,49,-51,49,85,-17.799999999999997,"FED +",0,{"$f":"IF(I13=\"\",\"\",IF(A13=\"H\",IF(OR(H13=\"SEN\",H13<1995),VLOOKUP(I13,Feuil1!$A$11:$G$29,6),IF(AND(H13>1994,H13<1998),VLOOKUP(I13,Feuil1!$A$11:$G$29,5),IF(AND(H13>1997,H13<2000),VLOOKUP(I13,Feuil1!$A$11:$G$29,4),IF(AND(H13>1999,H13<2002),VLOOKUP(I13,Feuil1!$A$11:$G$29,3),VLOOKUP(I13,Feuil1!$A$11:$G$29,2))))),IF(OR(H13=\"SEN\",H13<1995),VLOOKUP(I13,Feuil1!$G$11:$L$25,6),IF(AND(H13>1994,H13<1998),VLOOKUP(I13,Feuil1!$G$11:$L$25,5),IF(AND(H13>1997,H13<2000),VLOOKUP(I13,Feuil1!$G$11:$L$25,4),IF(AND(H13>1999,H13<2002),VLOOKUP(I13,Feuil1!$G$11:$L$25,3),VLOOKUP(I13,Feuil1!$G$11:$L$25,2)))))))","v":"FC2 53"},131.45091963647849,null," ",{"$f":"T13-HLOOKUP(X13,Feuil1!$C$1:$BL$10,2,FALSE)","v":40},{"$f":"T13-HLOOKUP(X13,Feuil1!$C$1:$BL$10,3,FALSE)","v":30},{"$f":"T13-HLOOKUP(X13,Feuil1!$C$1:$BL$10,4,FALSE)","v":20},{"$f":"T13-HLOOKUP(X13,Feuil1!$C$1:$BL$10,5,FALSE)","v":10},{"$f":"T13-HLOOKUP(X13,Feuil1!$C$1:$BL$10,6,FALSE)","v":0},{"$f":"T13-HLOOKUP(X13,Feuil1!$C$1:$BL$10,7,FALSE)","v":-10},{"$f":"T13-HLOOKUP(X13,Feuil1!$C$1:$BL$10,8,FALSE)","v":-20},{"$f":"T13-HLOOKUP(X13,Feuil1!$C$1:$BL$10,9,FALSE)","v":-35},{"$f":"T13-HLOOKUP(X13,Feuil1!$C$1:$BL$10,10,FALSE)","v":-915},null,null,null,null,null,null,"FED +"]
[]
["F","DOM","MAR",1,286912,"KICHENAMA","Clara",1999,56.5,"ABBC/Foyal Didier","F",45,50,-53,50,55,60,-63,60,110,-3,"NAT +",10,{"$f":"IF(I15=\"\",\"\",IF(A15=\"H\",IF(OR(H15=\"SEN\",H15<1995),VLOOKUP(I15,Feuil1!$A$11:$G$29,6),IF(AND(H15>1994,H15<1998),VLOOKUP(I15,Feuil1!$A$11:$G$29,5),IF(AND(H15>1997,H15<2000),VLOOKUP(I15,Feuil1!$A$11:$G$29,4),IF(AND(H15>1999,H15<2002),VLOOKUP(I15,Feuil1!$A$11:$G$29,3),VLOOKUP(I15,Feuil1!$A$11:$G$29,2))))),IF(OR(H15=\"SEN\",H15<1995),VLOOKUP(I15,Feuil1!$G$11:$L$25,6),IF(AND(H15>1994,H15<1998),VLOOKUP(I15,Feuil1!$G$11:$L$25,5),IF(AND(H15>1997,H15<2000),VLOOKUP(I15,Feuil1!$G$11:$L$25,4),IF(AND(H15>1999,H15<2002),VLOOKUP(I15,Feuil1!$G$11:$L$25,3),VLOOKUP(I15,Feuil1!$G$11:$L$25,2)))))))","v":"FC2 58"},157.90029618843502,null," ",{"$f":"T15-HLOOKUP(X15,Feuil1!$C$1:$BL$10,2,FALSE)","v":60},{"$f":"T15-HLOOKUP(X15,Feuil1!$C$1:$BL$10,3,FALSE)","v":50},{"$f":"T15-HLOOKUP(X15,Feuil1!$C$1:$BL$10,4,FALSE)","v":40},{"$f":"T15-HLOOKUP(X15,Feuil1!$C$1:$BL$10,5,FALSE)","v":30},{"$f":"T15-HLOOKUP(X15,Feuil1!$C$1:$BL$10,6,FALSE)","v":20},{"$f":"T15-HLOOKUP(X15,Feuil1!$C$1:$BL$10,7,FALSE)","v":10},{"$f":"T15-HLOOKUP(X15,Feuil1!$C$1:$BL$10,8,FALSE)","v":-5},{"$f":"T15-HLOOKUP(X15,Feuil1!$C$1:$BL$10,9,FALSE)","v":-20},{"$f":"T15-HLOOKUP(X15,Feuil1!$C$1:$BL$10,10,FALSE)","v":-890},null,null,null,null,null,null,"NAT +"]
["F","SEST","RAL",2,379666,"RAILLON","Emilie",1998,56.79,"VALENCE HALTERO","F",-40,-40,40,40,50,52,-54,52,92,-21.58,"FED +",2,{"$f":"IF(I16=\"\",\"\",IF(A16=\"H\",IF(OR(H16=\"SEN\",H16<1995),VLOOKUP(I16,Feuil1!$A$11:$G$29,6),IF(AND(H16>1994,H16<1998),VLOOKUP(I16,Feuil1!$A$11:$G$29,5),IF(AND(H16>1997,H16<2000),VLOOKUP(I16,Feuil1!$A$11:$G$29,4),IF(AND(H16>1999,H16<2002),VLOOKUP(I16,Feuil1!$A$11:$G$29,3),VLOOKUP(I16,Feuil1!$A$11:$G$29,2))))),IF(OR(H16=\"SEN\",H16<1995),VLOOKUP(I16,Feuil1!$G$11:$L$25,6),IF(AND(H16>1994,H16<1998),VLOOKUP(I16,Feuil1!$G$11:$L$25,5),IF(AND(H16>1997,H16<2000),VLOOKUP(I16,Feuil1!$G$11:$L$25,4),IF(AND(H16>1999,H16<2002),VLOOKUP(I16,Feuil1!$G$11:$L$25,3),VLOOKUP(I16,Feuil1!$G$11:$L$25,2)))))))","v":"FC2 58"},131.5568775249607,null," ",{"$f":"T16-HLOOKUP(X16,Feuil1!$C$1:$BL$10,2,FALSE)","v":42},{"$f":"T16-HLOOKUP(X16,Feuil1!$C$1:$BL$10,3,FALSE)","v":32},{"$f":"T16-HLOOKUP(X16,Feuil1!$C$1:$BL$10,4,FALSE)","v":22},{"$f":"T16-HLOOKUP(X16,Feuil1!$C$1:$BL$10,5,FALSE)","v":12},{"$f":"T16-HLOOKUP(X16,Feuil1!$C$1:$BL$10,6,FALSE)","v":2},{"$f":"T16-HLOOKUP(X16,Feuil1!$C$1:$BL$10,7,FALSE)","v":-8},{"$f":"T16-HLOOKUP(X16,Feuil1!$C$1:$BL$10,8,FALSE)","v":-23},{"$f":"T16-HLOOKUP(X16,Feuil1!$C$1:$BL$10,9,FALSE)","v":-38},{"$f":"T16-HLOOKUP(X16,Feuil1!$C$1:$BL$10,10,FALSE)","v":-908},null,null,null,null,null,null,"FED +"]
["F","SEST","CAZ",3,385817,"POIRSON","Samantha",1998,56.14,"ASLDD. TOULON","F",35,-37,-37,{"$f":"IF(H17=\"\",\"\",IF(MAXA(L17:N17)<=0,0,MAXA(L17:N17)))","v":35},50,-53,53,{"$f":"IF(H17=\"\",\"\",IF(MAXA(P17:R17)<=0,0,MAXA(P17:R17)))","v":53},{"$f":"IF(H17=\"\",\"\",IF(OR(O17=0,S17=0),0,O17+S17))","v":88},{"$f":"T17-I17*2","v":-24.28},{"$f":"IF(H17=\"\",\"\",AQ17)","v":"IRG +"},{"$f":"IF(AJ17>=0,AJ17,IF(AI17>=0,AI17,IF(AH17>=0,AH17,IF(AG17>=0,AG17,IF(AF17>=0,AF17,IF(AE17>=0,AE17,IF(AD17>=0,AD17,IF(AC17>=0,AC17,AB17))))))))","v":8},{"$f":"IF(I17=\"\",\"\",IF(A17=\"H\",IF(OR(H17=\"SEN\",H17<1995),VLOOKUP(I17,Feuil1!$A$11:$G$29,6),IF(AND(H17>1994,H17<1998),VLOOKUP(I17,Feuil1!$A$11:$G$29,5),IF(AND(H17>1997,H17<2000),VLOOKUP(I17,Feuil1!$A$11:$G$29,4),IF(AND(H17>1999,H17<2002),VLOOKUP(I17,Feuil1!$A$11:$G$29,3),VLOOKUP(I17,Feuil1!$A$11:$G$29,2))))),IF(OR(H17=\"SEN\",H17<1995),VLOOKUP(I17,Feuil1!$G$11:$L$25,6),IF(AND(H17>1994,H17<1998),VLOOKUP(I17,Feuil1!$G$11:$L$25,5),IF(AND(H17>1997,H17<2000),VLOOKUP(I17,Feuil1!$G$11:$L$25,4),IF(AND(H17>1999,H17<2002),VLOOKUP(I17,Feuil1!$G$11:$L$25,3),VLOOKUP(I17,Feuil1!$G$11:$L$25,2)))))))","v":"FC2 58"},{"$f":"IF(I17=\"\",\"\",IF(A17=\"H\",10^(0.794358141*LOG(I17/174.393)^2)*T17,IF(A17=\"F\",10^(0.89726074*LOG(I17/148.026)^2)*T17,\"\")))","v":126.92980817308982},null," ",{"$f":"T17-HLOOKUP(X17,Feuil1!$C$1:$BL$10,2,FALSE)","v":38},{"$f":"T17-HLOOKUP(X17,Feuil1!$C$1:$BL$10,3,FALSE)","v":28},{"$f":"T17-HLOOKUP(X17,Feuil1!$C$1:$BL$10,4,FALSE)","v":18},{"$f":"T17-HLOOKUP(X17,Feuil1!$C$1:$BL$10,5,FALSE)","v":8},{"$f":"T17-HLOOKUP(X17,Feuil1!$C$1:$BL$10,6,FALSE)","v":-2},{"$f":"T17-HLOOKUP(X17,Feuil1!$C$1:$BL$10,7,FALSE)","v":-12},{"$f":"T17-HLOOKUP(X17,Feuil1!$C$1:$BL$10,8,FALSE)","v":-27},{"$f":"T17-HLOOKUP(X17,Feuil1!$C$1:$BL$10,9,FALSE)","v":-42},{"$f":"T17-HLOOKUP(X17,Feuil1!$C$1:$BL$10,10,FALSE)","v":-912},null,null,null,null,null,null,{"$f":"IF(AJ17>=0,$AJ$4,IF(AI17>=0,$AI$4,IF(AH17>=0,$AH$4,IF(AG17>=0,$AG$4,IF(AF17>=0,$AF$4,IF(AE17>=0,$AE$4,IF(AD17>=0,$AD$4,IF(AC17>=0,$AC$4,$AB$4))))))))","v":"IRG +"}]
[]
["F","DOM","GUA",1,382038,"NUIRO","Naomy",1999,62,"AHCS/Pointois","F",50,55,-58,{"$f":"IF(H19=\"\",\"\",IF(MAXA(L19:N19)<=0,0,MAXA(L19:N19)))","v":55},60,65,-70,{"$f":"IF(H19=\"\",\"\",IF(MAXA(P19:R19)<=0,0,MAXA(P19:R19)))","v":65},{"$f":"IF(H19=\"\",\"\",IF(OR(O19=0,S19=0),0,O19+S19))","v":120},{"$f":"T19-I19*2","v":-4},{"$f":"IF(H19=\"\",\"\",AQ19)","v":"NAT +"},{"$f":"IF(AJ19>=0,AJ19,IF(AI19>=0,AI19,IF(AH19>=0,AH19,IF(AG19>=0,AG19,IF(AF19>=0,AF19,IF(AE19>=0,AE19,IF(AD19>=0,AD19,IF(AC19>=0,AC19,AB19))))))))","v":10},{"$f":"IF(I19=\"\",\"\",IF(A19=\"H\",IF(OR(H19=\"SEN\",H19<1995),VLOOKUP(I19,Feuil1!$A$11:$G$29,6),IF(AND(H19>1994,H19<1998),VLOOKUP(I19,Feuil1!$A$11:$G$29,5),IF(AND(H19>1997,H19<2000),VLOOKUP(I19,Feuil1!$A$11:$G$29,4),IF(AND(H19>1999,H19<2002),VLOOKUP(I19,Feuil1!$A$11:$G$29,3),VLOOKUP(I19,Feuil1!$A$11:$G$29,2))))),IF(OR(H19=\"SEN\",H19<1995),VLOOKUP(I19,Feuil1!$G$11:$L$25,6),IF(AND(H19>1994,H19<1998),VLOOKUP(I19,Feuil1!$G$11:$L$25,5),IF(AND(H19>1997,H19<2000),VLOOKUP(I19,Feuil1!$G$11:$L$25,4),IF(AND(H19>1999,H19<2002),VLOOKUP(I19,Feuil1!$G$11:$L$25,3),VLOOKUP(I19,Feuil1!$G$11:$L$25,2)))))))","v":"FC2 63"},{"$f":"IF(I19=\"\",\"\",IF(A19=\"H\",10^(0.794358141*LOG(I19/174.393)^2)*T19,IF(A19=\"F\",10^(0.89726074*LOG(I19/148.026)^2)*T19,\"\")))","v":161.19406056878734},null," ",{"$f":"T19-HLOOKUP(X19,Feuil1!$C$1:$BL$10,2,FALSE)","v":65},{"$f":"T19-HLOOKUP(X19,Feuil1!$C$1:$BL$10,3,FALSE)","v":55},{"$f":"T19-HLOOKUP(X19,Feuil1!$C$1:$BL$10,4,FALSE)","v":45},{"$f":"T19-HLOOKUP(X19,Feuil1!$C$1:$BL$10,5,FALSE)","v":35},{"$f":"T19-HLOOKUP(X19,Feuil1!$C$1:$BL$10,6,FALSE)","v":25},{"$f":"T19-HLOOKUP(X19,Feuil1!$C$1:$BL$10,7,FALSE)","v":10},{"$f":"T19-HLOOKUP(X19,Feuil1!$C$1:$BL$10,8,FALSE)","v":-5},{"$f":"T19-HLOOKUP(X19,Feuil1!$C$1:$BL$10,9,FALSE)","v":-20},{"$f":"T19-HLOOKUP(X19,Feuil1!$C$1:$BL$10,10,FALSE)","v":-880},null,null,null,null,null,null,{"$f":"IF(AJ19>=0,$AJ$4,IF(AI19>=0,$AI$4,IF(AH19>=0,$AH$4,IF(AG19>=0,$AG$4,IF(AF19>=0,$AF$4,IF(AE19>=0,$AE$4,IF(AD19>=0,$AD$4,IF(AC19>=0,$AC$4,$AB$4))))))))","v":"NAT +"}]
["F","SEST","CAZ",2,339283,"DULIO","Ambre",1999,60.28,"E.S. VILLENEUVE LOUBET","F",46,50,52,52,56,-60,-60,56,108,-12.560000000000002,"FED +",13,{"$f":"IF(I20=\"\",\"\",IF(A20=\"H\",IF(OR(H20=\"SEN\",H20<1995),VLOOKUP(I20,Feuil1!$A$11:$G$29,6),IF(AND(H20>1994,H20<1998),VLOOKUP(I20,Feuil1!$A$11:$G$29,5),IF(AND(H20>1997,H20<2000),VLOOKUP(I20,Feuil1!$A$11:$G$29,4),IF(AND(H20>1999,H20<2002),VLOOKUP(I20,Feuil1!$A$11:$G$29,3),VLOOKUP(I20,Feuil1!$A$11:$G$29,2))))),IF(OR(H20=\"SEN\",H20<1995),VLOOKUP(I20,Feuil1!$G$11:$L$25,6),IF(AND(H20>1994,H20<1998),VLOOKUP(I20,Feuil1!$G$11:$L$25,5),IF(AND(H20>1997,H20<2000),VLOOKUP(I20,Feuil1!$G$11:$L$25,4),IF(AND(H20>1999,H20<2002),VLOOKUP(I20,Feuil1!$G$11:$L$25,3),VLOOKUP(I20,Feuil1!$G$11:$L$25,2)))))))","v":"FC2 63"},147.91507835223712,null," ",{"$f":"T20-HLOOKUP(X20,Feuil1!$C$1:$BL$10,2,FALSE)","v":53},{"$f":"T20-HLOOKUP(X20,Feuil1!$C$1:$BL$10,3,FALSE)","v":43},{"$f":"T20-HLOOKUP(X20,Feuil1!$C$1:$BL$10,4,FALSE)","v":33},{"$f":"T20-HLOOKUP(X20,Feuil1!$C$1:$BL$10,5,FALSE)","v":23},{"$f":"T20-HLOOKUP(X20,Feuil1!$C$1:$BL$10,6,FALSE)","v":13},{"$f":"T20-HLOOKUP(X20,Feuil1!$C$1:$BL$10,7,FALSE)","v":-2},{"$f":"T20-HLOOKUP(X20,Feuil1!$C$1:$BL$10,8,FALSE)","v":-17},{"$f":"T20-HLOOKUP(X20,Feuil1!$C$1:$BL$10,9,FALSE)","v":-32},{"$f":"T20-HLOOKUP(X20,Feuil1!$C$1:$BL$10,10,FALSE)","v":-892},null,null,null,null,null,null,"FED +"]
["F","Nord","NPC",3,208590,"HOUZÉ","Océane",1998,59.05,"CHCD Comines","F",-43,43,-45,43,57,59,-62,59,102,-16.099999999999994,"FED +",7,{"$f":"IF(I21=\"\",\"\",IF(A21=\"H\",IF(OR(H21=\"SEN\",H21<1995),VLOOKUP(I21,Feuil1!$A$11:$G$29,6),IF(AND(H21>1994,H21<1998),VLOOKUP(I21,Feuil1!$A$11:$G$29,5),IF(AND(H21>1997,H21<2000),VLOOKUP(I21,Feuil1!$A$11:$G$29,4),IF(AND(H21>1999,H21<2002),VLOOKUP(I21,Feuil1!$A$11:$G$29,3),VLOOKUP(I21,Feuil1!$A$11:$G$29,2))))),IF(OR(H21=\"SEN\",H21<1995),VLOOKUP(I21,Feuil1!$G$11:$L$25,6),IF(AND(H21>1994,H21<1998),VLOOKUP(I21,Feuil1!$G$11:$L$25,5),IF(AND(H21>1997,H21<2000),VLOOKUP(I21,Feuil1!$G$11:$L$25,4),IF(AND(H21>1999,H21<2002),VLOOKUP(I21,Feuil1!$G$11:$L$25,3),VLOOKUP(I21,Feuil1!$G$11:$L$25,2)))))))","v":"FC2 63"},141.75211708037278,null," ",{"$f":"T21-HLOOKUP(X21,Feuil1!$C$1:$BL$10,2,FALSE)","v":47},{"$f":"T21-HLOOKUP(X21,Feuil1!$C$1:$BL$10,3,FALSE)","v":37},{"$f":"T21-HLOOKUP(X21,Feuil1!$C$1:$BL$10,4,FALSE)","v":27},{"$f":"T21-HLOOKUP(X21,Feuil1!$C$1:$BL$10,5,FALSE)","v":17},{"$f":"T21-HLOOKUP(X21,Feuil1!$C$1:$BL$10,6,FALSE)","v":7},{"$f":"T21-HLOOKUP(X21,Feuil1!$C$1:$BL$10,7,FALSE)","v":-8},{"$f":"T21-HLOOKUP(X21,Feuil1!$C$1:$BL$10,8,FALSE)","v":-23},{"$f":"T21-HLOOKUP(X21,Feuil1!$C$1:$BL$10,9,FALSE)","v":-38},{"$f":"T21-HLOOKUP(X21,Feuil1!$C$1:$BL$10,10,FALSE)","v":-898},null,null,null,null,null,null,"FED +"]
["F","Nord","NPC",4,280129,"BOUDRAHEM","Inès",1999,58.57,"St Pol sur Mer","F",40,-43,43,43,52,55,-58,55,98,-19.14,"FED +",3,{"$f":"IF(I22=\"\",\"\",IF(A22=\"H\",IF(OR(H22=\"SEN\",H22<1995),VLOOKUP(I22,Feuil1!$A$11:$G$29,6),IF(AND(H22>1994,H22<1998),VLOOKUP(I22,Feuil1!$A$11:$G$29,5),IF(AND(H22>1997,H22<2000),VLOOKUP(I22,Feuil1!$A$11:$G$29,4),IF(AND(H22>1999,H22<2002),VLOOKUP(I22,Feuil1!$A$11:$G$29,3),VLOOKUP(I22,Feuil1!$A$11:$G$29,2))))),IF(OR(H22=\"SEN\",H22<1995),VLOOKUP(I22,Feuil1!$G$11:$L$25,6),IF(AND(H22>1994,H22<1998),VLOOKUP(I22,Feuil1!$G$11:$L$25,5),IF(AND(H22>1997,H22<2000),VLOOKUP(I22,Feuil1!$G$11:$L$25,4),IF(AND(H22>1999,H22<2002),VLOOKUP(I22,Feuil1!$G$11:$L$25,3),VLOOKUP(I22,Feuil1!$G$11:$L$25,2)))))))","v":"FC2 63"},136.99525406673749,null," ",{"$f":"T22-HLOOKUP(X22,Feuil1!$C$1:$BL$10,2,FALSE)","v":43},{"$f":"T22-HLOOKUP(X22,Feuil1!$C$1:$BL$10,3,FALSE)","v":33},{"$f":"T22-HLOOKUP(X22,Feuil1!$C$1:$BL$10,4,FALSE)","v":23},{"$f":"T22-HLOOKUP(X22,Feuil1!$C$1:$BL$10,5,FALSE)","v":13},{"$f":"T22-HLOOKUP(X22,Feuil1!$C$1:$BL$10,6,FALSE)","v":3},{"$f":"T22-HLOOKUP(X22,Feuil1!$C$1:$BL$10,7,FALSE)","v":-12},{"$f":"T22-HLOOKUP(X22,Feuil1!$C$1:$BL$10,8,FALSE)","v":-27},{"$f":"T22-HLOOKUP(X22,Feuil1!$C$1:$BL$10,9,FALSE)","v":-42},{"$f":"T22-HLOOKUP(X22,Feuil1!$C$1:$BL$10,10,FALSE)","v":-902},null,null,null,null,null,null,"FED +"]
["F","SEST","RAL",5,344106,"LAFAURIE","Lise",1998,61.26,"C.H. L'ARBRESLE","F",40,-45,-45,40,52,55,-58,55,95,-27.519999999999996,"FED +",0,{"$f":"IF(I23=\"\",\"\",IF(A23=\"H\",IF(OR(H23=\"SEN\",H23<1995),VLOOKUP(I23,Feuil1!$A$11:$G$29,6),IF(AND(H23>1994,H23<1998),VLOOKUP(I23,Feuil1!$A$11:$G$29,5),IF(AND(H23>1997,H23<2000),VLOOKUP(I23,Feuil1!$A$11:$G$29,4),IF(AND(H23>1999,H23<2002),VLOOKUP(I23,Feuil1!$A$11:$G$29,3),VLOOKUP(I23,Feuil1!$A$11:$G$29,2))))),IF(OR(H23=\"SEN\",H23<1995),VLOOKUP(I23,Feuil1!$G$11:$L$25,6),IF(AND(H23>1994,H23<1998),VLOOKUP(I23,Feuil1!$G$11:$L$25,5),IF(AND(H23>1997,H23<2000),VLOOKUP(I23,Feuil1!$G$11:$L$25,4),IF(AND(H23>1999,H23<2002),VLOOKUP(I23,Feuil1!$G$11:$L$25,3),VLOOKUP(I23,Feuil1!$G$11:$L$25,2)))))))","v":"FC2 63"},128.66267382315729,null," ",{"$f":"T23-HLOOKUP(X23,Feuil1!$C$1:$BL$10,2,FALSE)","v":40},{"$f":"T23-HLOOKUP(X23,Feuil1!$C$1:$BL$10,3,FALSE)","v":30},{"$f":"T23-HLOOKUP(X23,Feuil1!$C$1:$BL$10,4,FALSE)","v":20},{"$f":"T23-HLOOKUP(X23,Feuil1!$C$1:$BL$10,5,FALSE)","v":10},{"$f":"T23-HLOOKUP(X23,Feuil1!$C$1:$BL$10,6,FALSE)","v":0},{"$f":"T23-HLOOKUP(X23,Feuil1!$C$1:$BL$10,7,FALSE)","v":-15},{"$f":"T23-HLOOKUP(X23,Feuil1!$C$1:$BL$10,8,FALSE)","v":-30},{"$f":"T23-HLOOKUP(X23,Feuil1!$C$1:$BL$10,9,FALSE)","v":-45},{"$f":"T23-HLOOKUP(X23,Feuil1!$C$1:$BL$10,10,FALSE)","v":-905},null,null,null,null,null,null,"FED +"]
["F","DOM","GUA",6,367889,"UFREN","Aurore",1998,62,"AHCS/Pointois","F",35,-40,40,40,50,55,-58,55,95,-29,"FED +",0,{"$f":"IF(I24=\"\",\"\",IF(A24=\"H\",IF(OR(H24=\"SEN\",H24<1995),VLOOKUP(I24,Feuil1!$A$11:$G$29,6),IF(AND(H24>1994,H24<1998),VLOOKUP(I24,Feuil1!$A$11:$G$29,5),IF(AND(H24>1997,H24<2000),VLOOKUP(I24,Feuil1!$A$11:$G$29,4),IF(AND(H24>1999,H24<2002),VLOOKUP(I24,Feuil1!$A$11:$G$29,3),VLOOKUP(I24,Feuil1!$A$11:$G$29,2))))),IF(OR(H24=\"SEN\",H24<1995),VLOOKUP(I24,Feuil1!$G$11:$L$25,6),IF(AND(H24>1994,H24<1998),VLOOKUP(I24,Feuil1!$G$11:$L$25,5),IF(AND(H24>1997,H24<2000),VLOOKUP(I24,Feuil1!$G$11:$L$25,4),IF(AND(H24>1999,H24<2002),VLOOKUP(I24,Feuil1!$G$11:$L$25,3),VLOOKUP(I24,Feuil1!$G$11:$L$25,2)))))))","v":"FC2 63"},127.61196461695663,null," ",{"$f":"T24-HLOOKUP(X24,Feuil1!$C$1:$BL$10,2,FALSE)","v":40},{"$f":"T24-HLOOKUP(X24,Feuil1!$C$1:$BL$10,3,FALSE)","v":30},{"$f":"T24-HLOOKUP(X24,Feuil1!$C$1:$BL$10,4,FALSE)","v":20},{"$f":"T24-HLOOKUP(X24,Feuil1!$C$1:$BL$10,5,FALSE)","v":10},{"$f":"T24-HLOOKUP(X24,Feuil1!$C$1:$BL$10,6,FALSE)","v":0},{"$f":"T24-HLOOKUP(X24,Feuil1!$C$1:$BL$10,7,FALSE)","v":-15},{"$f":"T24-HLOOKUP(X24,Feuil1!$C$1:$BL$10,8,FALSE)","v":-30},{"$f":"T24-HLOOKUP(X24,Feuil1!$C$1:$BL$10,9,FALSE)","v":-45},{"$f":"T24-HLOOKUP(X24,Feuil1!$C$1:$BL$10,10,FALSE)","v":-905},null,null,null,null,null,null,"FED +"]
[]
["F","NE","CHA",1,239747,"VAUTARD","Priscillia",1999,67,"Langres HM","F",50,-53,-53,50,55,58,61,61,111,-23,"FED +",6,{"$f":"IF(I26=\"\",\"\",IF(A26=\"H\",IF(OR(H26=\"SEN\",H26<1995),VLOOKUP(I26,Feuil1!$A$11:$G$29,6),IF(AND(H26>1994,H26<1998),VLOOKUP(I26,Feuil1!$A$11:$G$29,5),IF(AND(H26>1997,H26<2000),VLOOKUP(I26,Feuil1!$A$11:$G$29,4),IF(AND(H26>1999,H26<2002),VLOOKUP(I26,Feuil1!$A$11:$G$29,3),VLOOKUP(I26,Feuil1!$A$11:$G$29,2))))),IF(OR(H26=\"SEN\",H26<1995),VLOOKUP(I26,Feuil1!$G$11:$L$25,6),IF(AND(H26>1994,H26<1998),VLOOKUP(I26,Feuil1!$G$11:$L$25,5),IF(AND(H26>1997,H26<2000),VLOOKUP(I26,Feuil1!$G$11:$L$25,4),IF(AND(H26>1999,H26<2002),VLOOKUP(I26,Feuil1!$G$11:$L$25,3),VLOOKUP(I26,Feuil1!$G$11:$L$25,2)))))))","v":"FC2 69"},141.79593016545405,null," ",{"$f":"T26-HLOOKUP(X26,Feuil1!$C$1:$BL$10,2,FALSE)","v":51},{"$f":"T26-HLOOKUP(X26,Feuil1!$C$1:$BL$10,3,FALSE)","v":41},{"$f":"T26-HLOOKUP(X26,Feuil1!$C$1:$BL$10,4,FALSE)","v":31},{"$f":"T26-HLOOKUP(X26,Feuil1!$C$1:$BL$10,5,FALSE)","v":21},{"$f":"T26-HLOOKUP(X26,Feuil1!$C$1:$BL$10,6,FALSE)","v":6},{"$f":"T26-HLOOKUP(X26,Feuil1!$C$1:$BL$10,7,FALSE)","v":-9},{"$f":"T26-HLOOKUP(X26,Feuil1!$C$1:$BL$10,8,FALSE)","v":-24},{"$f":"T26-HLOOKUP(X26,Feuil1!$C$1:$BL$10,9,FALSE)","v":-39},{"$f":"T26-HLOOKUP(X26,Feuil1!$C$1:$BL$10,10,FALSE)","v":-889},null,null,null,null,null,null,"FED +"]
[]
["F","Nord","NPC",1,362261,"GODEFROIDT","Charline",1999,81.05,"CHCD Comines","F",48,-52,52,52,60,-63,63,63,115,-47.099999999999994,"FED +",0,{"$f":"IF(I28=\"\",\"\",IF(A28=\"H\",IF(OR(H28=\"SEN\",H28<1995),VLOOKUP(I28,Feuil1!$A$11:$G$29,6),IF(AND(H28>1994,H28<1998),VLOOKUP(I28,Feuil1!$A$11:$G$29,5),IF(AND(H28>1997,H28<2000),VLOOKUP(I28,Feuil1!$A$11:$G$29,4),IF(AND(H28>1999,H28<2002),VLOOKUP(I28,Feuil1!$A$11:$G$29,3),VLOOKUP(I28,Feuil1!$A$11:$G$29,2))))),IF(OR(H28=\"SEN\",H28<1995),VLOOKUP(I28,Feuil1!$G$11:$L$25,6),IF(AND(H28>1994,H28<1998),VLOOKUP(I28,Feuil1!$G$11:$L$25,5),IF(AND(H28>1997,H28<2000),VLOOKUP(I28,Feuil1!$G$11:$L$25,4),IF(AND(H28>1999,H28<2002),VLOOKUP(I28,Feuil1!$G$11:$L$25,3),VLOOKUP(I28,Feuil1!$G$11:$L$25,2)))))))","v":"FC2 +69"},132.46295390315669,null," ",{"$f":"T28-HLOOKUP(X28,Feuil1!$C$1:$BL$10,2,FALSE)","v":45},{"$f":"T28-HLOOKUP(X28,Feuil1!$C$1:$BL$10,3,FALSE)","v":35},{"$f":"T28-HLOOKUP(X28,Feuil1!$C$1:$BL$10,4,FALSE)","v":20},{"$f":"T28-HLOOKUP(X28,Feuil1!$C$1:$BL$10,5,FALSE)","v":10},{"$f":"T28-HLOOKUP(X28,Feuil1!$C$1:$BL$10,6,FALSE)","v":0},{"$f":"T28-HLOOKUP(X28,Feuil1!$C$1:$BL$10,7,FALSE)","v":-15},{"$f":"T28-HLOOKUP(X28,Feuil1!$C$1:$BL$10,8,FALSE)","v":-30},{"$f":"T28-HLOOKUP(X28,Feuil1!$C$1:$BL$10,9,FALSE)","v":-45},{"$f":"T28-HLOOKUP(X28,Feuil1!$C$1:$BL$10,10,FALSE)","v":-885},null,null,null,null,null,null,"FED +"]
[]
[]
[]
["H","CO","BNO",1,234307,"ROUSSELET","Clément",1999,49.2,"Giberville","F",-46,46,50,{"$f":"IF(H32=\"\",\"\",IF(MAXA(L32:N32)<=0,0,MAXA(L32:N32)))","v":50},60,64,66,{"$f":"IF(H32=\"\",\"\",IF(MAXA(P32:R32)<=0,0,MAXA(P32:R32)))","v":66},{"$f":"IF(H32=\"\",\"\",IF(OR(O32=0,S32=0),0,O32+S32))","v":116},{"$f":"T32-I32*2","v":17.599999999999994},{"$f":"IF(H32=\"\",\"\",AQ32)","v":"FED +"},{"$f":"IF(AJ32>=0,AJ32,IF(AI32>=0,AI32,IF(AH32>=0,AH32,IF(AG32>=0,AG32,IF(AF32>=0,AF32,IF(AE32>=0,AE32,IF(AD32>=0,AD32,IF(AC32>=0,AC32,AB32))))))))","v":6},{"$f":"IF(I32=\"\",\"\",IF(A32=\"H\",IF(OR(H32=\"SEN\",H32<1995),VLOOKUP(I32,Feuil1!$A$11:$G$29,6),IF(AND(H32>1994,H32<1998),VLOOKUP(I32,Feuil1!$A$11:$G$29,5),IF(AND(H32>1997,H32<2000),VLOOKUP(I32,Feuil1!$A$11:$G$29,4),IF(AND(H32>1999,H32<2002),VLOOKUP(I32,Feuil1!$A$11:$G$29,3),VLOOKUP(I32,Feuil1!$A$11:$G$29,2))))),IF(OR(H32=\"SEN\",H32<1995),VLOOKUP(I32,Feuil1!$G$11:$L$25,6),IF(AND(H32>1994,H32<1998),VLOOKUP(I32,Feuil1!$G$11:$L$25,5),IF(AND(H32>1997,H32<2000),VLOOKUP(I32,Feuil1!$G$11:$L$25,4),IF(AND(H32>1999,H32<2002),VLOOKUP(I32,Feuil1!$G$11:$L$25,3),VLOOKUP(I32,Feuil1!$G$11:$L$25,2)))))))","v":"C2 50"},{"$f":"IF(I32=\"\",\"\",IF(A32=\"H\",10^(0.794358141*LOG(I32/174.393)^2)*T32,IF(A32=\"F\",10^(0.89726074*LOG(I32/148.026)^2)*T32,\"\")))","v":201.54427048734925},null," ",{"$f":"T32-HLOOKUP(X32,Feuil1!$C$1:$BL$10,2,FALSE)","v":71},{"$f":"T32-HLOOKUP(X32,Feuil1!$C$1:$BL$10,3,FALSE)","v":51},{"$f":"T32-HLOOKUP(X32,Feuil1!$C$1:$BL$10,4,FALSE)","v":36},{"$f":"T32-HLOOKUP(X32,Feuil1!$C$1:$BL$10,5,FALSE)","v":21},{"$f":"T32-HLOOKUP(X32,Feuil1!$C$1:$BL$10,6,FALSE)","v":6},{"$f":"T32-HLOOKUP(X32,Feuil1!$C$1:$BL$10,7,FALSE)","v":-4},{"$f":"T32-HLOOKUP(X32,Feuil1!$C$1:$BL$10,8,FALSE)","v":-19},{"$f":"T32-HLOOKUP(X32,Feuil1!$C$1:$BL$10,9,FALSE)","v":-34},{"$f":"T32-HLOOKUP(X32,Feuil1!$C$1:$BL$10,10,FALSE)","v":-884},null,null,null,null,null,null,{"$f":"IF(AJ32>=0,$AJ$4,IF(AI32>=0,$AI$4,IF(AH32>=0,$AH$4,IF(AG32>=0,$AG$4,IF(AF32>=0,$AF$4,IF(AE32>=0,$AE$4,IF(AD32>=0,$AD$4,IF(AC32>=0,$AC$4,$AB$4))))))))","v":"FED +"}]
[]
["H","Nord","NPC",1,328452,"HOELLE","Alexis",1998,55.1,"CA Rosendael","F",75,-78,80,{"$f":"IF(H34=\"\",\"\",IF(MAXA(L34:N34)<=0,0,MAXA(L34:N34)))","v":80},-96,96,101,{"$f":"IF(H34=\"\",\"\",IF(MAXA(P34:R34)<=0,0,MAXA(P34:R34)))","v":101},{"$f":"IF(H34=\"\",\"\",IF(OR(O34=0,S34=0),0,O34+S34))","v":181},{"$f":"T34-I34*2","v":70.8},{"$f":"IF(H34=\"\",\"\",AQ34)","v":"INTB +"},{"$f":"IF(AJ34>=0,AJ34,IF(AI34>=0,AI34,IF(AH34>=0,AH34,IF(AG34>=0,AG34,IF(AF34>=0,AF34,IF(AE34>=0,AE34,IF(AD34>=0,AD34,IF(AC34>=0,AC34,AB34))))))))","v":11},{"$f":"IF(I34=\"\",\"\",IF(A34=\"H\",IF(OR(H34=\"SEN\",H34<1995),VLOOKUP(I34,Feuil1!$A$11:$G$29,6),IF(AND(H34>1994,H34<1998),VLOOKUP(I34,Feuil1!$A$11:$G$29,5),IF(AND(H34>1997,H34<2000),VLOOKUP(I34,Feuil1!$A$11:$G$29,4),IF(AND(H34>1999,H34<2002),VLOOKUP(I34,Feuil1!$A$11:$G$29,3),VLOOKUP(I34,Feuil1!$A$11:$G$29,2))))),IF(OR(H34=\"SEN\",H34<1995),VLOOKUP(I34,Feuil1!$G$11:$L$25,6),IF(AND(H34>1994,H34<1998),VLOOKUP(I34,Feuil1!$G$11:$L$25,5),IF(AND(H34>1997,H34<2000),VLOOKUP(I34,Feuil1!$G$11:$L$25,4),IF(AND(H34>1999,H34<2002),VLOOKUP(I34,Feuil1!$G$11:$L$25,3),VLOOKUP(I34,Feuil1!$G$11:$L$25,2)))))))","v":"C2 56"},{"$f":"IF(I34=\"\",\"\",IF(A34=\"H\",10^(0.794358141*LOG(I34/174.393)^2)*T34,IF(A34=\"F\",10^(0.89726074*LOG(I34/148.026)^2)*T34,\"\")))","v":286.13306940838629},null," ",{"$f":"T34-HLOOKUP(X34,Feuil1!$C$1:$BL$10,2,FALSE)","v":116},{"$f":"T34-HLOOKUP(X34,Feuil1!$C$1:$BL$10,3,FALSE)","v":96},{"$f":"T34-HLOOKUP(X34,Feuil1!$C$1:$BL$10,4,FALSE)","v":81},{"$f":"T34-HLOOKUP(X34,Feuil1!$C$1:$BL$10,5,FALSE)","v":66},{"$f":"T34-HLOOKUP(X34,Feuil1!$C$1:$BL$10,6,FALSE)","v":51},{"$f":"T34-HLOOKUP(X34,Feuil1!$C$1:$BL$10,7,FALSE)","v":36},{"$f":"T34-HLOOKUP(X34,Feuil1!$C$1:$BL$10,8,FALSE)","v":11},{"$f":"T34-HLOOKUP(X34,Feuil1!$C$1:$BL$10,9,FALSE)","v":-9},{"$f":"T34-HLOOKUP(X34,Feuil1!$C$1:$BL$10,10,FALSE)","v":-819},null,null,null,null,null,null,{"$f":"IF(AJ34>=0,$AJ$4,IF(AI34>=0,$AI$4,IF(AH34>=0,$AH$4,IF(AG34>=0,$AG$4,IF(AF34>=0,$AF$4,IF(AE34>=0,$AE$4,IF(AD34>=0,$AD$4,IF(AC34>=0,$AC$4,$AB$4))))))))","v":"INTB +"}]
["H","DOM","REU",2,250368,"MARKA","ERWAN",1999,55.2,"CSPJ St Denis","F",57,-61,61,{"$f":"IF(H35=\"\",\"\",IF(MAXA(L35:N35)<=0,0,MAXA(L35:N35)))","v":61},73,-78,-78,{"$f":"IF(H35=\"\",\"\",IF(MAXA(P35:R35)<=0,0,MAXA(P35:R35)))","v":73},{"$f":"IF(H35=\"\",\"\",IF(OR(O35=0,S35=0),0,O35+S35))","v":134},{"$f":"T35-I35*2","v":23.599999999999994},{"$f":"IF(H35=\"\",\"\",AQ35)","v":"FED +"},{"$f":"IF(AJ35>=0,AJ35,IF(AI35>=0,AI35,IF(AH35>=0,AH35,IF(AG35>=0,AG35,IF(AF35>=0,AF35,IF(AE35>=0,AE35,IF(AD35>=0,AD35,IF(AC35>=0,AC35,AB35))))))))","v":4},{"$f":"IF(I35=\"\",\"\",IF(A35=\"H\",IF(OR(H35=\"SEN\",H35<1995),VLOOKUP(I35,Feuil1!$A$11:$G$29,6),IF(AND(H35>1994,H35<1998),VLOOKUP(I35,Feuil1!$A$11:$G$29,5),IF(AND(H35>1997,H35<2000),VLOOKUP(I35,Feuil1!$A$11:$G$29,4),IF(AND(H35>1999,H35<2002),VLOOKUP(I35,Feuil1!$A$11:$G$29,3),VLOOKUP(I35,Feuil1!$A$11:$G$29,2))))),IF(OR(H35=\"SEN\",H35<1995),VLOOKUP(I35,Feuil1!$G$11:$L$25,6),IF(AND(H35>1994,H35<1998),VLOOKUP(I35,Feuil1!$G$11:$L$25,5),IF(AND(H35>1997,H35<2000),VLOOKUP(I35,Feuil1!$G$11:$L$25,4),IF(AND(H35>1999,H35<2002),VLOOKUP(I35,Feuil1!$G$11:$L$25,3),VLOOKUP(I35,Feuil1!$G$11:$L$25,2)))))))","v":"C2 56"},{"$f":"IF(I35=\"\",\"\",IF(A35=\"H\",10^(0.794358141*LOG(I35/174.393)^2)*T35,IF(A35=\"F\",10^(0.89726074*LOG(I35/148.026)^2)*T35,\"\")))","v":211.52843548846107},null," ",{"$f":"T35-HLOOKUP(X35,Feuil1!$C$1:$BL$10,2,FALSE)","v":69},{"$f":"T35-HLOOKUP(X35,Feuil1!$C$1:$BL$10,3,FALSE)","v":49},{"$f":"T35-HLOOKUP(X35,Feuil1!$C$1:$BL$10,4,FALSE)","v":34},{"$f":"T35-HLOOKUP(X35,Feuil1!$C$1:$BL$10,5,FALSE)","v":19},{"$f":"T35-HLOOKUP(X35,Feuil1!$C$1:$BL$10,6,FALSE)","v":4},{"$f":"T35-HLOOKUP(X35,Feuil1!$C$1:$BL$10,7,FALSE)","v":-11},{"$f":"T35-HLOOKUP(X35,Feuil1!$C$1:$BL$10,8,FALSE)","v":-36},{"$f":"T35-HLOOKUP(X35,Feuil1!$C$1:$BL$10,9,FALSE)","v":-56},{"$f":"T35-HLOOKUP(X35,Feuil1!$C$1:$BL$10,10,FALSE)","v":-866},null,null,null,null,null,null,{"$f":"IF(AJ35>=0,$AJ$4,IF(AI35>=0,$AI$4,IF(AH35>=0,$AH$4,IF(AG35>=0,$AG$4,IF(AF35>=0,$AF$4,IF(AE35>=0,$AE$4,IF(AD35>=0,$AD$4,IF(AC35>=0,$AC$4,$AB$4))))))))","v":"FED +"}]
["H","SEST","CAZ",3,357026,"MONTAGNOLI","Corentin",1998,51.2,"E.S. VILLENEUVE LOUBET","F",50,-52,52,{"$f":"IF(H36=\"\",\"\",IF(MAXA(L36:N36)<=0,0,MAXA(L36:N36)))","v":52},60,64,-67,{"$f":"IF(H36=\"\",\"\",IF(MAXA(P36:R36)<=0,0,MAXA(P36:R36)))","v":64},{"$f":"IF(H36=\"\",\"\",IF(OR(O36=0,S36=0),0,O36+S36))","v":116},{"$f":"T36-I36*2","v":13.599999999999994},{"$f":"IF(H36=\"\",\"\",AQ36)","v":"IRG +"},{"$f":"IF(AJ36>=0,AJ36,IF(AI36>=0,AI36,IF(AH36>=0,AH36,IF(AG36>=0,AG36,IF(AF36>=0,AF36,IF(AE36>=0,AE36,IF(AD36>=0,AD36,IF(AC36>=0,AC36,AB36))))))))","v":1},{"$f":"IF(I36=\"\",\"\",IF(A36=\"H\",IF(OR(H36=\"SEN\",H36<1995),VLOOKUP(I36,Feuil1!$A$11:$G$29,6),IF(AND(H36>1994,H36<1998),VLOOKUP(I36,Feuil1!$A$11:$G$29,5),IF(AND(H36>1997,H36<2000),VLOOKUP(I36,Feuil1!$A$11:$G$29,4),IF(AND(H36>1999,H36<2002),VLOOKUP(I36,Feuil1!$A$11:$G$29,3),VLOOKUP(I36,Feuil1!$A$11:$G$29,2))))),IF(OR(H36=\"SEN\",H36<1995),VLOOKUP(I36,Feuil1!$G$11:$L$25,6),IF(AND(H36>1994,H36<1998),VLOOKUP(I36,Feuil1!$G$11:$L$25,5),IF(AND(H36>1997,H36<2000),VLOOKUP(I36,Feuil1!$G$11:$L$25,4),IF(AND(H36>1999,H36<2002),VLOOKUP(I36,Feuil1!$G$11:$L$25,3),VLOOKUP(I36,Feuil1!$G$11:$L$25,2)))))))","v":"C2 56"},{"$f":"IF(I36=\"\",\"\",IF(A36=\"H\",10^(0.794358141*LOG(I36/174.393)^2)*T36,IF(A36=\"F\",10^(0.89726074*LOG(I36/148.026)^2)*T36,\"\")))","v":194.75985441430561},null," ",{"$f":"T36-HLOOKUP(X36,Feuil1!$C$1:$BL$10,2,FALSE)","v":51},{"$f":"T36-HLOOKUP(X36,Feuil1!$C$1:$BL$10,3,FALSE)","v":31},{"$f":"T36-HLOOKUP(X36,Feuil1!$C$1:$BL$10,4,FALSE)","v":16},{"$f":"T36-HLOOKUP(X36,Feuil1!$C$1:$BL$10,5,FALSE)","v":1},{"$f":"T36-HLOOKUP(X36,Feuil1!$C$1:$BL$10,6,FALSE)","v":-14},{"$f":"T36-HLOOKUP(X36,Feuil1!$C$1:$BL$10,7,FALSE)","v":-29},{"$f":"T36-HLOOKUP(X36,Feuil1!$C$1:$BL$10,8,FALSE)","v":-54},{"$f":"T36-HLOOKUP(X36,Feuil1!$C$1:$BL$10,9,FALSE)","v":-74},{"$f":"T36-HLOOKUP(X36,Feuil1!$C$1:$BL$10,10,FALSE)","v":-884},null,null,null,null,null,null,{"$f":"IF(AJ36>=0,$AJ$4,IF(AI36>=0,$AI$4,IF(AH36>=0,$AH$4,IF(AG36>=0,$AG$4,IF(AF36>=0,$AF$4,IF(AE36>=0,$AE$4,IF(AD36>=0,$AD$4,IF(AC36>=0,$AC$4,$AB$4))))))))","v":"IRG +"}]
["H","Nord","NPC","NC",279997,"RIQUIER","Dimitri",1999,52.3,"CHCD Comines","F",50,55,-57,{"$f":"IF(H37=\"\",\"\",IF(MAXA(L37:N37)<=0,0,MAXA(L37:N37)))","v":55},-70,-70,-70,{"$f":"IF(H37=\"\",\"\",IF(MAXA(P37:R37)<=0,0,MAXA(P37:R37)))","v":0},{"$f":"IF(H37=\"\",\"\",IF(OR(O37=0,S37=0),0,O37+S37))","v":0},{"$f":"T37-I37*2","v":-104.6},{"$f":"IF(H37=\"\",\"\",AQ37)","v":"DEB "},{"$f":"IF(AJ37>=0,AJ37,IF(AI37>=0,AI37,IF(AH37>=0,AH37,IF(AG37>=0,AG37,IF(AF37>=0,AF37,IF(AE37>=0,AE37,IF(AD37>=0,AD37,IF(AC37>=0,AC37,AB37))))))))","v":-65},{"$f":"IF(I37=\"\",\"\",IF(A37=\"H\",IF(OR(H37=\"SEN\",H37<1995),VLOOKUP(I37,Feuil1!$A$11:$G$29,6),IF(AND(H37>1994,H37<1998),VLOOKUP(I37,Feuil1!$A$11:$G$29,5),IF(AND(H37>1997,H37<2000),VLOOKUP(I37,Feuil1!$A$11:$G$29,4),IF(AND(H37>1999,H37<2002),VLOOKUP(I37,Feuil1!$A$11:$G$29,3),VLOOKUP(I37,Feuil1!$A$11:$G$29,2))))),IF(OR(H37=\"SEN\",H37<1995),VLOOKUP(I37,Feuil1!$G$11:$L$25,6),IF(AND(H37>1994,H37<1998),VLOOKUP(I37,Feuil1!$G$11:$L$25,5),IF(AND(H37>1997,H37<2000),VLOOKUP(I37,Feuil1!$G$11:$L$25,4),IF(AND(H37>1999,H37<2002),VLOOKUP(I37,Feuil1!$G$11:$L$25,3),VLOOKUP(I37,Feuil1!$G$11:$L$25,2)))))))","v":"C2 56"},{"$f":"IF(I37=\"\",\"\",IF(A37=\"H\",10^(0.794358141*LOG(I37/174.393)^2)*T37,IF(A37=\"F\",10^(0.89726074*LOG(I37/148.026)^2)*T37,\"\")))","v":0},null," ",{"$f":"T37-HLOOKUP(X37,Feuil1!$C$1:$BL$10,2,FALSE)","v":-65},{"$f":"T37-HLOOKUP(X37,Feuil1!$C$1:$BL$10,3,FALSE)","v":-85},{"$f":"T37-HLOOKUP(X37,Feuil1!$C$1:$BL$10,4,FALSE)","v":-100},{"$f":"T37-HLOOKUP(X37,Feuil1!$C$1:$BL$10,5,FALSE)","v":-115},{"$f":"T37-HLOOKUP(X37,Feuil1!$C$1:$BL$10,6,FALSE)","v":-130},{"$f":"T37-HLOOKUP(X37,Feuil1!$C$1:$BL$10,7,FALSE)","v":-145},{"$f":"T37-HLOOKUP(X37,Feuil1!$C$1:$BL$10,8,FALSE)","v":-170},{"$f":"T37-HLOOKUP(X37,Feuil1!$C$1:$BL$10,9,FALSE)","v":-190},{"$f":"T37-HLOOKUP(X37,Feuil1!$C$1:$BL$10,10,FALSE)","v":-1000},null,null,null,null,null,null,{"$f":"IF(AJ37>=0,$AJ$4,IF(AI37>=0,$AI$4,IF(AH37>=0,$AH$4,IF(AG37>=0,$AG$4,IF(AF37>=0,$AF$4,IF(AE37>=0,$AE$4,IF(AD37>=0,$AD$4,IF(AC37>=0,$AC$4,$AB$4))))))))","v":"DEB "}]
[]
["H","SEST","CAZ",1,305873,"LANDAIS","Alexis",1999,56.6,"E.S. VILLENEUVE LOUBET","F",72,76,79,{"$f":"IF(H39=\"\",\"\",IF(MAXA(L39:N39)<=0,0,MAXA(L39:N39)))","v":79},95,100,-103,{"$f":"IF(H39=\"\",\"\",IF(MAXA(P39:R39)<=0,0,MAXA(P39:R39)))","v":100},{"$f":"IF(H39=\"\",\"\",IF(OR(O39=0,S39=0),0,O39+S39))","v":179},{"$f":"T39-I39*2","v":65.8},{"$f":"IF(H39=\"\",\"\",AQ39)","v":"NAT +"},{"$f":"IF(AJ39>=0,AJ39,IF(AI39>=0,AI39,IF(AH39>=0,AH39,IF(AG39>=0,AG39,IF(AF39>=0,AF39,IF(AE39>=0,AE39,IF(AD39>=0,AD39,IF(AC39>=0,AC39,AB39))))))))","v":9},{"$f":"IF(I39=\"\",\"\",IF(A39=\"H\",IF(OR(H39=\"SEN\",H39<1995),VLOOKUP(I39,Feuil1!$A$11:$G$29,6),IF(AND(H39>1994,H39<1998),VLOOKUP(I39,Feuil1!$A$11:$G$29,5),IF(AND(H39>1997,H39<2000),VLOOKUP(I39,Feuil1!$A$11:$G$29,4),IF(AND(H39>1999,H39<2002),VLOOKUP(I39,Feuil1!$A$11:$G$29,3),VLOOKUP(I39,Feuil1!$A$11:$G$29,2))))),IF(OR(H39=\"SEN\",H39<1995),VLOOKUP(I39,Feuil1!$G$11:$L$25,6),IF(AND(H39>1994,H39<1998),VLOOKUP(I39,Feuil1!$G$11:$L$25,5),IF(AND(H39>1997,H39<2000),VLOOKUP(I39,Feuil1!$G$11:$L$25,4),IF(AND(H39>1999,H39<2002),VLOOKUP(I39,Feuil1!$G$11:$L$25,3),VLOOKUP(I39,Feuil1!$G$11:$L$25,2)))))))","v":"C2 62"},{"$f":"IF(I39=\"\",\"\",IF(A39=\"H\",10^(0.794358141*LOG(I39/174.393)^2)*T39,IF(A39=\"F\",10^(0.89726074*LOG(I39/148.026)^2)*T39,\"\")))","v":277.0623715274491},null," ",{"$f":"T39-HLOOKUP(X39,Feuil1!$C$1:$BL$10,2,FALSE)","v":94},{"$f":"T39-HLOOKUP(X39,Feuil1!$C$1:$BL$10,3,FALSE)","v":74},{"$f":"T39-HLOOKUP(X39,Feuil1!$C$1:$BL$10,4,FALSE)","v":59},{"$f":"T39-HLOOKUP(X39,Feuil1!$C$1:$BL$10,5,FALSE)","v":44},{"$f":"T39-HLOOKUP(X39,Feuil1!$C$1:$BL$10,6,FALSE)","v":29},{"$f":"T39-HLOOKUP(X39,Feuil1!$C$1:$BL$10,7,FALSE)","v":9},{"$f":"T39-HLOOKUP(X39,Feuil1!$C$1:$BL$10,8,FALSE)","v":-11},{"$f":"T39-HLOOKUP(X39,Feuil1!$C$1:$BL$10,9,FALSE)","v":-31},{"$f":"T39-HLOOKUP(X39,Feuil1!$C$1:$BL$10,10,FALSE)","v":-821},null,null,null,null,null,null,{"$f":"IF(AJ39>=0,$AJ$4,IF(AI39>=0,$AI$4,IF(AH39>=0,$AH$4,IF(AG39>=0,$AG$4,IF(AF39>=0,$AF$4,IF(AE39>=0,$AE$4,IF(AD39>=0,$AD$4,IF(AC39>=0,$AC$4,$AB$4))))))))","v":"NAT +"}]
["H","Nord","PIC",2,274621,"CABON","Lilian",1998,60.7,"Péronne AAEEP","F",-78,78,-82,78,100,-108,-108,100,178,56.599999999999994,"NAT +",8,{"$f":"IF(I40=\"\",\"\",IF(A40=\"H\",IF(OR(H40=\"SEN\",H40<1995),VLOOKUP(I40,Feuil1!$A$11:$G$29,6),IF(AND(H40>1994,H40<1998),VLOOKUP(I40,Feuil1!$A$11:$G$29,5),IF(AND(H40>1997,H40<2000),VLOOKUP(I40,Feuil1!$A$11:$G$29,4),IF(AND(H40>1999,H40<2002),VLOOKUP(I40,Feuil1!$A$11:$G$29,3),VLOOKUP(I40,Feuil1!$A$11:$G$29,2))))),IF(OR(H40=\"SEN\",H40<1995),VLOOKUP(I40,Feuil1!$G$11:$L$25,6),IF(AND(H40>1994,H40<1998),VLOOKUP(I40,Feuil1!$G$11:$L$25,5),IF(AND(H40>1997,H40<2000),VLOOKUP(I40,Feuil1!$G$11:$L$25,4),IF(AND(H40>1999,H40<2002),VLOOKUP(I40,Feuil1!$G$11:$L$25,3),VLOOKUP(I40,Feuil1!$G$11:$L$25,2)))))))","v":"C2 62"},261.39392531403922,null," ",{"$f":"T40-HLOOKUP(X40,Feuil1!$C$1:$BL$10,2,FALSE)","v":93},{"$f":"T40-HLOOKUP(X40,Feuil1!$C$1:$BL$10,3,FALSE)","v":73},{"$f":"T40-HLOOKUP(X40,Feuil1!$C$1:$BL$10,4,FALSE)","v":58},{"$f":"T40-HLOOKUP(X40,Feuil1!$C$1:$BL$10,5,FALSE)","v":43},{"$f":"T40-HLOOKUP(X40,Feuil1!$C$1:$BL$10,6,FALSE)","v":28},{"$f":"T40-HLOOKUP(X40,Feuil1!$C$1:$BL$10,7,FALSE)","v":8},{"$f":"T40-HLOOKUP(X40,Feuil1!$C$1:$BL$10,8,FALSE)","v":-12},{"$f":"T40-HLOOKUP(X40,Feuil1!$C$1:$BL$10,9,FALSE)","v":-32},{"$f":"T40-HLOOKUP(X40,Feuil1!$C$1:$BL$10,10,FALSE)","v":-822},null,null,null,null,null,null,"NAT +"]
["H","Nord","PIC",3,279883,"SEGARD","Lilian",1998,56.22,"La Vaillante St Quentin","F",70,75,-78,75,90,-95,-100,90,165,52.56,"FED +",15,{"$f":"IF(I41=\"\",\"\",IF(A41=\"H\",IF(OR(H41=\"SEN\",H41<1995),VLOOKUP(I41,Feuil1!$A$11:$G$29,6),IF(AND(H41>1994,H41<1998),VLOOKUP(I41,Feuil1!$A$11:$G$29,5),IF(AND(H41>1997,H41<2000),VLOOKUP(I41,Feuil1!$A$11:$G$29,4),IF(AND(H41>1999,H41<2002),VLOOKUP(I41,Feuil1!$A$11:$G$29,3),VLOOKUP(I41,Feuil1!$A$11:$G$29,2))))),IF(OR(H41=\"SEN\",H41<1995),VLOOKUP(I41,Feuil1!$G$11:$L$25,6),IF(AND(H41>1994,H41<1998),VLOOKUP(I41,Feuil1!$G$11:$L$25,5),IF(AND(H41>1997,H41<2000),VLOOKUP(I41,Feuil1!$G$11:$L$25,4),IF(AND(H41>1999,H41<2002),VLOOKUP(I41,Feuil1!$G$11:$L$25,3),VLOOKUP(I41,Feuil1!$G$11:$L$25,2)))))))","v":"C2 62"},256.73599534424932,null," ",{"$f":"T41-HLOOKUP(X41,Feuil1!$C$1:$BL$10,2,FALSE)","v":80},{"$f":"T41-HLOOKUP(X41,Feuil1!$C$1:$BL$10,3,FALSE)","v":60},{"$f":"T41-HLOOKUP(X41,Feuil1!$C$1:$BL$10,4,FALSE)","v":45},{"$f":"T41-HLOOKUP(X41,Feuil1!$C$1:$BL$10,5,FALSE)","v":30},{"$f":"T41-HLOOKUP(X41,Feuil1!$C$1:$BL$10,6,FALSE)","v":15},{"$f":"T41-HLOOKUP(X41,Feuil1!$C$1:$BL$10,7,FALSE)","v":-5},{"$f":"T41-HLOOKUP(X41,Feuil1!$C$1:$BL$10,8,FALSE)","v":-25},{"$f":"T41-HLOOKUP(X41,Feuil1!$C$1:$BL$10,9,FALSE)","v":-45},{"$f":"T41-HLOOKUP(X41,Feuil1!$C$1:$BL$10,10,FALSE)","v":-835},null,null,null,null,null,null,"FED +"]
["H","Nord","PIC",4,343406,"CANUT","Timothé",1999,56.59,"La Vaillante St Quentin","F",-64,64,68,68,77,82,85,85,153,39.819999999999993,"FED +",3,{"$f":"IF(I42=\"\",\"\",IF(A42=\"H\",IF(OR(H42=\"SEN\",H42<1995),VLOOKUP(I42,Feuil1!$A$11:$G$29,6),IF(AND(H42>1994,H42<1998),VLOOKUP(I42,Feuil1!$A$11:$G$29,5),IF(AND(H42>1997,H42<2000),VLOOKUP(I42,Feuil1!$A$11:$G$29,4),IF(AND(H42>1999,H42<2002),VLOOKUP(I42,Feuil1!$A$11:$G$29,3),VLOOKUP(I42,Feuil1!$A$11:$G$29,2))))),IF(OR(H42=\"SEN\",H42<1995),VLOOKUP(I42,Feuil1!$G$11:$L$25,6),IF(AND(H42>1994,H42<1998),VLOOKUP(I42,Feuil1!$G$11:$L$25,5),IF(AND(H42>1997,H42<2000),VLOOKUP(I42,Feuil1!$G$11:$L$25,4),IF(AND(H42>1999,H42<2002),VLOOKUP(I42,Feuil1!$G$11:$L$25,3),VLOOKUP(I42,Feuil1!$G$11:$L$25,2)))))))","v":"C2 62"},236.85116899179013,null," ",{"$f":"T42-HLOOKUP(X42,Feuil1!$C$1:$BL$10,2,FALSE)","v":68},{"$f":"T42-HLOOKUP(X42,Feuil1!$C$1:$BL$10,3,FALSE)","v":48},{"$f":"T42-HLOOKUP(X42,Feuil1!$C$1:$BL$10,4,FALSE)","v":33},{"$f":"T42-HLOOKUP(X42,Feuil1!$C$1:$BL$10,5,FALSE)","v":18},{"$f":"T42-HLOOKUP(X42,Feuil1!$C$1:$BL$10,6,FALSE)","v":3},{"$f":"T42-HLOOKUP(X42,Feuil1!$C$1:$BL$10,7,FALSE)","v":-17},{"$f":"T42-HLOOKUP(X42,Feuil1!$C$1:$BL$10,8,FALSE)","v":-37},{"$f":"T42-HLOOKUP(X42,Feuil1!$C$1:$BL$10,9,FALSE)","v":-57},{"$f":"T42-HLOOKUP(X42,Feuil1!$C$1:$BL$10,10,FALSE)","v":-847},null,null,null,null,null,null,"FED +"]
["H","SEST","RAL",5,305314,"ABRAS","Remy",1999,61.25,"H.C. CHAMBON-FEUGEROLLES","F",60,-64,-65,60,80,85,-90,85,145,22.5,"IRG +",10,{"$f":"IF(I43=\"\",\"\",IF(A43=\"H\",IF(OR(H43=\"SEN\",H43<1995),VLOOKUP(I43,Feuil1!$A$11:$G$29,6),IF(AND(H43>1994,H43<1998),VLOOKUP(I43,Feuil1!$A$11:$G$29,5),IF(AND(H43>1997,H43<2000),VLOOKUP(I43,Feuil1!$A$11:$G$29,4),IF(AND(H43>1999,H43<2002),VLOOKUP(I43,Feuil1!$A$11:$G$29,3),VLOOKUP(I43,Feuil1!$A$11:$G$29,2))))),IF(OR(H43=\"SEN\",H43<1995),VLOOKUP(I43,Feuil1!$G$11:$L$25,6),IF(AND(H43>1994,H43<1998),VLOOKUP(I43,Feuil1!$G$11:$L$25,5),IF(AND(H43>1997,H43<2000),VLOOKUP(I43,Feuil1!$G$11:$L$25,4),IF(AND(H43>1999,H43<2002),VLOOKUP(I43,Feuil1!$G$11:$L$25,3),VLOOKUP(I43,Feuil1!$G$11:$L$25,2)))))))","v":"C2 62"},211.54518034434076,null," ",{"$f":"T43-HLOOKUP(X43,Feuil1!$C$1:$BL$10,2,FALSE)","v":60},{"$f":"T43-HLOOKUP(X43,Feuil1!$C$1:$BL$10,3,FALSE)","v":40},{"$f":"T43-HLOOKUP(X43,Feuil1!$C$1:$BL$10,4,FALSE)","v":25},{"$f":"T43-HLOOKUP(X43,Feuil1!$C$1:$BL$10,5,FALSE)","v":10},{"$f":"T43-HLOOKUP(X43,Feuil1!$C$1:$BL$10,6,FALSE)","v":-5},{"$f":"T43-HLOOKUP(X43,Feuil1!$C$1:$BL$10,7,FALSE)","v":-25},{"$f":"T43-HLOOKUP(X43,Feuil1!$C$1:$BL$10,8,FALSE)","v":-45},{"$f":"T43-HLOOKUP(X43,Feuil1!$C$1:$BL$10,9,FALSE)","v":-65},{"$f":"T43-HLOOKUP(X43,Feuil1!$C$1:$BL$10,10,FALSE)","v":-855},null,null,null,null,null,null,"IRG +"]
["H","Nord","NPC",6,316430,"CHOQUET","Mathieu",1999,60.1,"St Pol sur Mer","F",53,57,60,60,75,80,-83,80,140,19.799999999999997,"IRG +",5,{"$f":"IF(I44=\"\",\"\",IF(A44=\"H\",IF(OR(H44=\"SEN\",H44<1995),VLOOKUP(I44,Feuil1!$A$11:$G$29,6),IF(AND(H44>1994,H44<1998),VLOOKUP(I44,Feuil1!$A$11:$G$29,5),IF(AND(H44>1997,H44<2000),VLOOKUP(I44,Feuil1!$A$11:$G$29,4),IF(AND(H44>1999,H44<2002),VLOOKUP(I44,Feuil1!$A$11:$G$29,3),VLOOKUP(I44,Feuil1!$A$11:$G$29,2))))),IF(OR(H44=\"SEN\",H44<1995),VLOOKUP(I44,Feuil1!$G$11:$L$25,6),IF(AND(H44>1994,H44<1998),VLOOKUP(I44,Feuil1!$G$11:$L$25,5),IF(AND(H44>1997,H44<2000),VLOOKUP(I44,Feuil1!$G$11:$L$25,4),IF(AND(H44>1999,H44<2002),VLOOKUP(I44,Feuil1!$G$11:$L$25,3),VLOOKUP(I44,Feuil1!$G$11:$L$25,2)))))))","v":"C2 62"},207.09032316299434,null," ",{"$f":"T44-HLOOKUP(X44,Feuil1!$C$1:$BL$10,2,FALSE)","v":55},{"$f":"T44-HLOOKUP(X44,Feuil1!$C$1:$BL$10,3,FALSE)","v":35},{"$f":"T44-HLOOKUP(X44,Feuil1!$C$1:$BL$10,4,FALSE)","v":20},{"$f":"T44-HLOOKUP(X44,Feuil1!$C$1:$BL$10,5,FALSE)","v":5},{"$f":"T44-HLOOKUP(X44,Feuil1!$C$1:$BL$10,6,FALSE)","v":-10},{"$f":"T44-HLOOKUP(X44,Feuil1!$C$1:$BL$10,7,FALSE)","v":-30},{"$f":"T44-HLOOKUP(X44,Feuil1!$C$1:$BL$10,8,FALSE)","v":-50},{"$f":"T44-HLOOKUP(X44,Feuil1!$C$1:$BL$10,9,FALSE)","v":-70},{"$f":"T44-HLOOKUP(X44,Feuil1!$C$1:$BL$10,10,FALSE)","v":-860},null,null,null,null,null,null,"IRG +"]
["H","NE","BOU","NC",166540,"LAMBERT","Brice",1998,57.9,"HC Saint Honoré les Bains","F",-61,-63,-65,0,"-","-","-",0,0,-115.8,"DEB ",-85,{"$f":"IF(I45=\"\",\"\",IF(A45=\"H\",IF(OR(H45=\"SEN\",H45<1995),VLOOKUP(I45,Feuil1!$A$11:$G$29,6),IF(AND(H45>1994,H45<1998),VLOOKUP(I45,Feuil1!$A$11:$G$29,5),IF(AND(H45>1997,H45<2000),VLOOKUP(I45,Feuil1!$A$11:$G$29,4),IF(AND(H45>1999,H45<2002),VLOOKUP(I45,Feuil1!$A$11:$G$29,3),VLOOKUP(I45,Feuil1!$A$11:$G$29,2))))),IF(OR(H45=\"SEN\",H45<1995),VLOOKUP(I45,Feuil1!$G$11:$L$25,6),IF(AND(H45>1994,H45<1998),VLOOKUP(I45,Feuil1!$G$11:$L$25,5),IF(AND(H45>1997,H45<2000),VLOOKUP(I45,Feuil1!$G$11:$L$25,4),IF(AND(H45>1999,H45<2002),VLOOKUP(I45,Feuil1!$G$11:$L$25,3),VLOOKUP(I45,Feuil1!$G$11:$L$25,2)))))))","v":"C2 62"},0,null," ",{"$f":"T45-HLOOKUP(X45,Feuil1!$C$1:$BL$10,2,FALSE)","v":-85},{"$f":"T45-HLOOKUP(X45,Feuil1!$C$1:$BL$10,3,FALSE)","v":-105},{"$f":"T45-HLOOKUP(X45,Feuil1!$C$1:$BL$10,4,FALSE)","v":-120},{"$f":"T45-HLOOKUP(X45,Feuil1!$C$1:$BL$10,5,FALSE)","v":-135},{"$f":"T45-HLOOKUP(X45,Feuil1!$C$1:$BL$10,6,FALSE)","v":-150},{"$f":"T45-HLOOKUP(X45,Feuil1!$C$1:$BL$10,7,FALSE)","v":-170},{"$f":"T45-HLOOKUP(X45,Feuil1!$C$1:$BL$10,8,FALSE)","v":-190},{"$f":"T45-HLOOKUP(X45,Feuil1!$C$1:$BL$10,9,FALSE)","v":-210},{"$f":"T45-HLOOKUP(X45,Feuil1!$C$1:$BL$10,10,FALSE)","v":-1000},null,null,null,null,null,null,"DEB "]
["H","Nord","IDF","NC",356185,"FERRET","Geoffrey",1999,60.8,"VGA St Maur","F",60,65,-67,65,-80,-80,-85,0,0,-121.6,"DEB ",-85,{"$f":"IF(I46=\"\",\"\",IF(A46=\"H\",IF(OR(H46=\"SEN\",H46<1995),VLOOKUP(I46,Feuil1!$A$11:$G$29,6),IF(AND(H46>1994,H46<1998),VLOOKUP(I46,Feuil1!$A$11:$G$29,5),IF(AND(H46>1997,H46<2000),VLOOKUP(I46,Feuil1!$A$11:$G$29,4),IF(AND(H46>1999,H46<2002),VLOOKUP(I46,Feuil1!$A$11:$G$29,3),VLOOKUP(I46,Feuil1!$A$11:$G$29,2))))),IF(OR(H46=\"SEN\",H46<1995),VLOOKUP(I46,Feuil1!$G$11:$L$25,6),IF(AND(H46>1994,H46<1998),VLOOKUP(I46,Feuil1!$G$11:$L$25,5),IF(AND(H46>1997,H46<2000),VLOOKUP(I46,Feuil1!$G$11:$L$25,4),IF(AND(H46>1999,H46<2002),VLOOKUP(I46,Feuil1!$G$11:$L$25,3),VLOOKUP(I46,Feuil1!$G$11:$L$25,2)))))))","v":"C2 62"},0,null," ",{"$f":"T46-HLOOKUP(X46,Feuil1!$C$1:$BL$10,2,FALSE)","v":-85},{"$f":"T46-HLOOKUP(X46,Feuil1!$C$1:$BL$10,3,FALSE)","v":-105},{"$f":"T46-HLOOKUP(X46,Feuil1!$C$1:$BL$10,4,FALSE)","v":-120},{"$f":"T46-HLOOKUP(X46,Feuil1!$C$1:$BL$10,5,FALSE)","v":-135},{"$f":"T46-HLOOKUP(X46,Feuil1!$C$1:$BL$10,6,FALSE)","v":-150},{"$f":"T46-HLOOKUP(X46,Feuil1!$C$1:$BL$10,7,FALSE)","v":-170},{"$f":"T46-HLOOKUP(X46,Feuil1!$C$1:$BL$10,8,FALSE)","v":-190},{"$f":"T46-HLOOKUP(X46,Feuil1!$C$1:$BL$10,9,FALSE)","v":-210},{"$f":"T46-HLOOKUP(X46,Feuil1!$C$1:$BL$10,10,FALSE)","v":-1000},null,null,null,null,null,null,"DEB "]
[]
["H","NE","ALS",1,295214,"YILDIRIM","Mario",1998,68.5,"SR Obernai HM","F",95,-100,-100,{"$f":"IF(H48=\"\",\"\",IF(MAXA(L48:N48)<=0,0,MAXA(L48:N48)))","v":95},-115,115,-120,{"$f":"IF(H48=\"\",\"\",IF(MAXA(P48:R48)<=0,0,MAXA(P48:R48)))","v":115},{"$f":"IF(H48=\"\",\"\",IF(OR(O48=0,S48=0),0,O48+S48))","v":210},{"$f":"T48-I48*2","v":73},{"$f":"IF(H48=\"\",\"\",AQ48)","v":"INTB +"},{"$f":"IF(AJ48>=0,AJ48,IF(AI48>=0,AI48,IF(AH48>=0,AH48,IF(AG48>=0,AG48,IF(AF48>=0,AF48,IF(AE48>=0,AE48,IF(AD48>=0,AD48,IF(AC48>=0,AC48,AB48))))))))","v":0},{"$f":"IF(I48=\"\",\"\",IF(A48=\"H\",IF(OR(H48=\"SEN\",H48<1995),VLOOKUP(I48,Feuil1!$A$11:$G$29,6),IF(AND(H48>1994,H48<1998),VLOOKUP(I48,Feuil1!$A$11:$G$29,5),IF(AND(H48>1997,H48<2000),VLOOKUP(I48,Feuil1!$A$11:$G$29,4),IF(AND(H48>1999,H48<2002),VLOOKUP(I48,Feuil1!$A$11:$G$29,3),VLOOKUP(I48,Feuil1!$A$11:$G$29,2))))),IF(OR(H48=\"SEN\",H48<1995),VLOOKUP(I48,Feuil1!$G$11:$L$25,6),IF(AND(H48>1994,H48<1998),VLOOKUP(I48,Feuil1!$G$11:$L$25,5),IF(AND(H48>1997,H48<2000),VLOOKUP(I48,Feuil1!$G$11:$L$25,4),IF(AND(H48>1999,H48<2002),VLOOKUP(I48,Feuil1!$G$11:$L$25,3),VLOOKUP(I48,Feuil1!$G$11:$L$25,2)))))))","v":"C2 69"},{"$f":"IF(I48=\"\",\"\",IF(A48=\"H\",10^(0.794358141*LOG(I48/174.393)^2)*T48,IF(A48=\"F\",10^(0.89726074*LOG(I48/148.026)^2)*T48,\"\")))","v":283.82715811469546},null," ",{"$f":"T48-HLOOKUP(X48,Feuil1!$C$1:$BL$10,2,FALSE)","v":115},{"$f":"T48-HLOOKUP(X48,Feuil1!$C$1:$BL$10,3,FALSE)","v":95},{"$f":"T48-HLOOKUP(X48,Feuil1!$C$1:$BL$10,4,FALSE)","v":80},{"$f":"T48-HLOOKUP(X48,Feuil1!$C$1:$BL$10,5,FALSE)","v":60},{"$f":"T48-HLOOKUP(X48,Feuil1!$C$1:$BL$10,6,FALSE)","v":40},{"$f":"T48-HLOOKUP(X48,Feuil1!$C$1:$BL$10,7,FALSE)","v":20},{"$f":"T48-HLOOKUP(X48,Feuil1!$C$1:$BL$10,8,FALSE)","v":0},{"$f":"T48-HLOOKUP(X48,Feuil1!$C$1:$BL$10,9,FALSE)","v":-20},{"$f":"T48-HLOOKUP(X48,Feuil1!$C$1:$BL$10,10,FALSE)","v":-790},null,null,null,null,null,null,{"$f":"IF(AJ48>=0,$AJ$4,IF(AI48>=0,$AI$4,IF(AH48>=0,$AH$4,IF(AG48>=0,$AG$4,IF(AF48>=0,$AF$4,IF(AE48>=0,$AE$4,IF(AD48>=0,$AD$4,IF(AC48>=0,$AC$4,$AB$4))))))))","v":"INTB +"}]
["H","NE","ALS",2,273469,"SPAGNULO","PAOLO",1998,66.099999999999994,"SHC Haguenau","F",77,-80,80,80,-106,110,-114,110,190,57.800000000000011,"NAT +",0,{"$f":"IF(I49=\"\",\"\",IF(A49=\"H\",IF(OR(H49=\"SEN\",H49<1995),VLOOKUP(I49,Feuil1!$A$11:$G$29,6),IF(AND(H49>1994,H49<1998),VLOOKUP(I49,Feuil1!$A$11:$G$29,5),IF(AND(H49>1997,H49<2000),VLOOKUP(I49,Feuil1!$A$11:$G$29,4),IF(AND(H49>1999,H49<2002),VLOOKUP(I49,Feuil1!$A$11:$G$29,3),VLOOKUP(I49,Feuil1!$A$11:$G$29,2))))),IF(OR(H49=\"SEN\",H49<1995),VLOOKUP(I49,Feuil1!$G$11:$L$25,6),IF(AND(H49>1994,H49<1998),VLOOKUP(I49,Feuil1!$G$11:$L$25,5),IF(AND(H49>1997,H49<2000),VLOOKUP(I49,Feuil1!$G$11:$L$25,4),IF(AND(H49>1999,H49<2002),VLOOKUP(I49,Feuil1!$G$11:$L$25,3),VLOOKUP(I49,Feuil1!$G$11:$L$25,2)))))))","v":"C2 69"},262.88489046172941,null," ",{"$f":"T49-HLOOKUP(X49,Feuil1!$C$1:$BL$10,2,FALSE)","v":95},{"$f":"T49-HLOOKUP(X49,Feuil1!$C$1:$BL$10,3,FALSE)","v":75},{"$f":"T49-HLOOKUP(X49,Feuil1!$C$1:$BL$10,4,FALSE)","v":60},{"$f":"T49-HLOOKUP(X49,Feuil1!$C$1:$BL$10,5,FALSE)","v":40},{"$f":"T49-HLOOKUP(X49,Feuil1!$C$1:$BL$10,6,FALSE)","v":20},{"$f":"T49-HLOOKUP(X49,Feuil1!$C$1:$BL$10,7,FALSE)","v":0},{"$f":"T49-HLOOKUP(X49,Feuil1!$C$1:$BL$10,8,FALSE)","v":-20},{"$f":"T49-HLOOKUP(X49,Feuil1!$C$1:$BL$10,9,FALSE)","v":-40},{"$f":"T49-HLOOKUP(X49,Feuil1!$C$1:$BL$10,10,FALSE)","v":-810},null,null,null,null,null,null,"NAT +"]
["H","CO","PDL",3,379231,"HEUZE","Alexandre",1998,68.900000000000006,"CA Evron 53","F",78,-81,81,81,109,-113,-113,109,190,52.199999999999989,"NAT +",0,{"$f":"IF(I50=\"\",\"\",IF(A50=\"H\",IF(OR(H50=\"SEN\",H50<1995),VLOOKUP(I50,Feuil1!$A$11:$G$29,6),IF(AND(H50>1994,H50<1998),VLOOKUP(I50,Feuil1!$A$11:$G$29,5),IF(AND(H50>1997,H50<2000),VLOOKUP(I50,Feuil1!$A$11:$G$29,4),IF(AND(H50>1999,H50<2002),VLOOKUP(I50,Feuil1!$A$11:$G$29,3),VLOOKUP(I50,Feuil1!$A$11:$G$29,2))))),IF(OR(H50=\"SEN\",H50<1995),VLOOKUP(I50,Feuil1!$G$11:$L$25,6),IF(AND(H50>1994,H50<1998),VLOOKUP(I50,Feuil1!$G$11:$L$25,5),IF(AND(H50>1997,H50<2000),VLOOKUP(I50,Feuil1!$G$11:$L$25,4),IF(AND(H50>1999,H50<2002),VLOOKUP(I50,Feuil1!$G$11:$L$25,3),VLOOKUP(I50,Feuil1!$G$11:$L$25,2)))))))","v":"C2 69"},255.83676563552544,null," ",{"$f":"T50-HLOOKUP(X50,Feuil1!$C$1:$BL$10,2,FALSE)","v":95},{"$f":"T50-HLOOKUP(X50,Feuil1!$C$1:$BL$10,3,FALSE)","v":75},{"$f":"T50-HLOOKUP(X50,Feuil1!$C$1:$BL$10,4,FALSE)","v":60},{"$f":"T50-HLOOKUP(X50,Feuil1!$C$1:$BL$10,5,FALSE)","v":40},{"$f":"T50-HLOOKUP(X50,Feuil1!$C$1:$BL$10,6,FALSE)","v":20},{"$f":"T50-HLOOKUP(X50,Feuil1!$C$1:$BL$10,7,FALSE)","v":0},{"$f":"T50-HLOOKUP(X50,Feuil1!$C$1:$BL$10,8,FALSE)","v":-20},{"$f":"T50-HLOOKUP(X50,Feuil1!$C$1:$BL$10,9,FALSE)","v":-40},{"$f":"T50-HLOOKUP(X50,Feuil1!$C$1:$BL$10,10,FALSE)","v":-810},null,null,null,null,null,null,"NAT +"]
["H","SEST","CAZ",4,305874,"FOLCHER","Guilhem",1998,63.8,"E.S. VILLENEUVE LOUBET","F",76,-79,79,79,92,-96,97,97,176,48.400000000000006,"FED +",6,{"$f":"IF(I51=\"\",\"\",IF(A51=\"H\",IF(OR(H51=\"SEN\",H51<1995),VLOOKUP(I51,Feuil1!$A$11:$G$29,6),IF(AND(H51>1994,H51<1998),VLOOKUP(I51,Feuil1!$A$11:$G$29,5),IF(AND(H51>1997,H51<2000),VLOOKUP(I51,Feuil1!$A$11:$G$29,4),IF(AND(H51>1999,H51<2002),VLOOKUP(I51,Feuil1!$A$11:$G$29,3),VLOOKUP(I51,Feuil1!$A$11:$G$29,2))))),IF(OR(H51=\"SEN\",H51<1995),VLOOKUP(I51,Feuil1!$G$11:$L$25,6),IF(AND(H51>1994,H51<1998),VLOOKUP(I51,Feuil1!$G$11:$L$25,5),IF(AND(H51>1997,H51<2000),VLOOKUP(I51,Feuil1!$G$11:$L$25,4),IF(AND(H51>1999,H51<2002),VLOOKUP(I51,Feuil1!$G$11:$L$25,3),VLOOKUP(I51,Feuil1!$G$11:$L$25,2)))))))","v":"C2 69"},249.4640940944613,null," ",{"$f":"T51-HLOOKUP(X51,Feuil1!$C$1:$BL$10,2,FALSE)","v":81},{"$f":"T51-HLOOKUP(X51,Feuil1!$C$1:$BL$10,3,FALSE)","v":61},{"$f":"T51-HLOOKUP(X51,Feuil1!$C$1:$BL$10,4,FALSE)","v":46},{"$f":"T51-HLOOKUP(X51,Feuil1!$C$1:$BL$10,5,FALSE)","v":26},{"$f":"T51-HLOOKUP(X51,Feuil1!$C$1:$BL$10,6,FALSE)","v":6},{"$f":"T51-HLOOKUP(X51,Feuil1!$C$1:$BL$10,7,FALSE)","v":-14},{"$f":"T51-HLOOKUP(X51,Feuil1!$C$1:$BL$10,8,FALSE)","v":-34},{"$f":"T51-HLOOKUP(X51,Feuil1!$C$1:$BL$10,9,FALSE)","v":-54},{"$f":"T51-HLOOKUP(X51,Feuil1!$C$1:$BL$10,10,FALSE)","v":-824},null,null,null,null,null,null,"FED +"]
["H","SEST","CAZ",5,307138,"BLAIN","Remi",1998,67.7,"E.S. VILLENEUVE LOUBET","F",77,-79,-79,77,-87,87,93,93,170,34.599999999999994,"FED +",0,{"$f":"IF(I52=\"\",\"\",IF(A52=\"H\",IF(OR(H52=\"SEN\",H52<1995),VLOOKUP(I52,Feuil1!$A$11:$G$29,6),IF(AND(H52>1994,H52<1998),VLOOKUP(I52,Feuil1!$A$11:$G$29,5),IF(AND(H52>1997,H52<2000),VLOOKUP(I52,Feuil1!$A$11:$G$29,4),IF(AND(H52>1999,H52<2002),VLOOKUP(I52,Feuil1!$A$11:$G$29,3),VLOOKUP(I52,Feuil1!$A$11:$G$29,2))))),IF(OR(H52=\"SEN\",H52<1995),VLOOKUP(I52,Feuil1!$G$11:$L$25,6),IF(AND(H52>1994,H52<1998),VLOOKUP(I52,Feuil1!$G$11:$L$25,5),IF(AND(H52>1997,H52<2000),VLOOKUP(I52,Feuil1!$G$11:$L$25,4),IF(AND(H52>1999,H52<2002),VLOOKUP(I52,Feuil1!$G$11:$L$25,3),VLOOKUP(I52,Feuil1!$G$11:$L$25,2)))))))","v":"C2 69"},231.5228000190539,null," ",{"$f":"T52-HLOOKUP(X52,Feuil1!$C$1:$BL$10,2,FALSE)","v":75},{"$f":"T52-HLOOKUP(X52,Feuil1!$C$1:$BL$10,3,FALSE)","v":55},{"$f":"T52-HLOOKUP(X52,Feuil1!$C$1:$BL$10,4,FALSE)","v":40},{"$f":"T52-HLOOKUP(X52,Feuil1!$C$1:$BL$10,5,FALSE)","v":20},{"$f":"T52-HLOOKUP(X52,Feuil1!$C$1:$BL$10,6,FALSE)","v":0},{"$f":"T52-HLOOKUP(X52,Feuil1!$C$1:$BL$10,7,FALSE)","v":-20},{"$f":"T52-HLOOKUP(X52,Feuil1!$C$1:$BL$10,8,FALSE)","v":-40},{"$f":"T52-HLOOKUP(X52,Feuil1!$C$1:$BL$10,9,FALSE)","v":-60},{"$f":"T52-HLOOKUP(X52,Feuil1!$C$1:$BL$10,10,FALSE)","v":-830},null,null,null,null,null,null,"FED +"]
["H","DOM","GUA",6,292762,"GALVANI","Dylan",1998,69,"Body Club Domien","F",70,75,-78,75,85,90,95,95,170,32,"FED +",0,{"$f":"IF(I53=\"\",\"\",IF(A53=\"H\",IF(OR(H53=\"SEN\",H53<1995),VLOOKUP(I53,Feuil1!$A$11:$G$29,6),IF(AND(H53>1994,H53<1998),VLOOKUP(I53,Feuil1!$A$11:$G$29,5),IF(AND(H53>1997,H53<2000),VLOOKUP(I53,Feuil1!$A$11:$G$29,4),IF(AND(H53>1999,H53<2002),VLOOKUP(I53,Feuil1!$A$11:$G$29,3),VLOOKUP(I53,Feuil1!$A$11:$G$29,2))))),IF(OR(H53=\"SEN\",H53<1995),VLOOKUP(I53,Feuil1!$G$11:$L$25,6),IF(AND(H53>1994,H53<1998),VLOOKUP(I53,Feuil1!$G$11:$L$25,5),IF(AND(H53>1997,H53<2000),VLOOKUP(I53,Feuil1!$G$11:$L$25,4),IF(AND(H53>1999,H53<2002),VLOOKUP(I53,Feuil1!$G$11:$L$25,3),VLOOKUP(I53,Feuil1!$G$11:$L$25,2)))))))","v":"C2 69"},228.69412409699078,null," ",{"$f":"T53-HLOOKUP(X53,Feuil1!$C$1:$BL$10,2,FALSE)","v":75},{"$f":"T53-HLOOKUP(X53,Feuil1!$C$1:$BL$10,3,FALSE)","v":55},{"$f":"T53-HLOOKUP(X53,Feuil1!$C$1:$BL$10,4,FALSE)","v":40},{"$f":"T53-HLOOKUP(X53,Feuil1!$C$1:$BL$10,5,FALSE)","v":20},{"$f":"T53-HLOOKUP(X53,Feuil1!$C$1:$BL$10,6,FALSE)","v":0},{"$f":"T53-HLOOKUP(X53,Feuil1!$C$1:$BL$10,7,FALSE)","v":-20},{"$f":"T53-HLOOKUP(X53,Feuil1!$C$1:$BL$10,8,FALSE)","v":-40},{"$f":"T53-HLOOKUP(X53,Feuil1!$C$1:$BL$10,9,FALSE)","v":-60},{"$f":"T53-HLOOKUP(X53,Feuil1!$C$1:$BL$10,10,FALSE)","v":-830},null,null,null,null,null,null,"FED +"]
["H","CO","BRE",7,355842,"LOZACHMEUR","David",1998,65.7,"AL Quimper","F",71,74,-76,74,90,-96,-96,90,164,32.599999999999994,"IRG +",14,{"$f":"IF(I54=\"\",\"\",IF(A54=\"H\",IF(OR(H54=\"SEN\",H54<1995),VLOOKUP(I54,Feuil1!$A$11:$G$29,6),IF(AND(H54>1994,H54<1998),VLOOKUP(I54,Feuil1!$A$11:$G$29,5),IF(AND(H54>1997,H54<2000),VLOOKUP(I54,Feuil1!$A$11:$G$29,4),IF(AND(H54>1999,H54<2002),VLOOKUP(I54,Feuil1!$A$11:$G$29,3),VLOOKUP(I54,Feuil1!$A$11:$G$29,2))))),IF(OR(H54=\"SEN\",H54<1995),VLOOKUP(I54,Feuil1!$G$11:$L$25,6),IF(AND(H54>1994,H54<1998),VLOOKUP(I54,Feuil1!$G$11:$L$25,5),IF(AND(H54>1997,H54<2000),VLOOKUP(I54,Feuil1!$G$11:$L$25,4),IF(AND(H54>1999,H54<2002),VLOOKUP(I54,Feuil1!$G$11:$L$25,3),VLOOKUP(I54,Feuil1!$G$11:$L$25,2)))))))","v":"C2 69"},227.83787004622639,null," ",{"$f":"T54-HLOOKUP(X54,Feuil1!$C$1:$BL$10,2,FALSE)","v":69},{"$f":"T54-HLOOKUP(X54,Feuil1!$C$1:$BL$10,3,FALSE)","v":49},{"$f":"T54-HLOOKUP(X54,Feuil1!$C$1:$BL$10,4,FALSE)","v":34},{"$f":"T54-HLOOKUP(X54,Feuil1!$C$1:$BL$10,5,FALSE)","v":14},{"$f":"T54-HLOOKUP(X54,Feuil1!$C$1:$BL$10,6,FALSE)","v":-6},{"$f":"T54-HLOOKUP(X54,Feuil1!$C$1:$BL$10,7,FALSE)","v":-26},{"$f":"T54-HLOOKUP(X54,Feuil1!$C$1:$BL$10,8,FALSE)","v":-46},{"$f":"T54-HLOOKUP(X54,Feuil1!$C$1:$BL$10,9,FALSE)","v":-66},{"$f":"T54-HLOOKUP(X54,Feuil1!$C$1:$BL$10,10,FALSE)","v":-836},null,null,null,null,null,null,"IRG +"]
["H","CO","BNO",8,312349,"RENOUF","Tom",1999,64.5,"Caen CHM","F",70,75,-77,75,80,87,-90,87,162,33,"IRG +",12,{"$f":"IF(I55=\"\",\"\",IF(A55=\"H\",IF(OR(H55=\"SEN\",H55<1995),VLOOKUP(I55,Feuil1!$A$11:$G$29,6),IF(AND(H55>1994,H55<1998),VLOOKUP(I55,Feuil1!$A$11:$G$29,5),IF(AND(H55>1997,H55<2000),VLOOKUP(I55,Feuil1!$A$11:$G$29,4),IF(AND(H55>1999,H55<2002),VLOOKUP(I55,Feuil1!$A$11:$G$29,3),VLOOKUP(I55,Feuil1!$A$11:$G$29,2))))),IF(OR(H55=\"SEN\",H55<1995),VLOOKUP(I55,Feuil1!$G$11:$L$25,6),IF(AND(H55>1994,H55<1998),VLOOKUP(I55,Feuil1!$G$11:$L$25,5),IF(AND(H55>1997,H55<2000),VLOOKUP(I55,Feuil1!$G$11:$L$25,4),IF(AND(H55>1999,H55<2002),VLOOKUP(I55,Feuil1!$G$11:$L$25,3),VLOOKUP(I55,Feuil1!$G$11:$L$25,2)))))))","v":"C2 69"},227.89786791640691,null," ",{"$f":"T55-HLOOKUP(X55,Feuil1!$C$1:$BL$10,2,FALSE)","v":67},{"$f":"T55-HLOOKUP(X55,Feuil1!$C$1:$BL$10,3,FALSE)","v":47},{"$f":"T55-HLOOKUP(X55,Feuil1!$C$1:$BL$10,4,FALSE)","v":32},{"$f":"T55-HLOOKUP(X55,Feuil1!$C$1:$BL$10,5,FALSE)","v":12},{"$f":"T55-HLOOKUP(X55,Feuil1!$C$1:$BL$10,6,FALSE)","v":-8},{"$f":"T55-HLOOKUP(X55,Feuil1!$C$1:$BL$10,7,FALSE)","v":-28},{"$f":"T55-HLOOKUP(X55,Feuil1!$C$1:$BL$10,8,FALSE)","v":-48},{"$f":"T55-HLOOKUP(X55,Feuil1!$C$1:$BL$10,9,FALSE)","v":-68},{"$f":"T55-HLOOKUP(X55,Feuil1!$C$1:$BL$10,10,FALSE)","v":-838},null,null,null,null,null,null,"IRG +"]
[]
["H","NE","ALS",1,326137,"CASPAR","Jean",1998,74.7,"CS Brumath","F",82,86,89,{"$f":"IF(H57=\"\",\"\",IF(MAXA(L57:N57)<=0,0,MAXA(L57:N57)))","v":89},103,107,-111,{"$f":"IF(H57=\"\",\"\",IF(MAXA(P57:R57)<=0,0,MAXA(P57:R57)))","v":107},{"$f":"IF(H57=\"\",\"\",IF(OR(O57=0,S57=0),0,O57+S57))","v":196},{"$f":"T57-I57*2","v":46.599999999999994},{"$f":"IF(H57=\"\",\"\",AQ57)","v":"FED +"},{"$f":"IF(AJ57>=0,AJ57,IF(AI57>=0,AI57,IF(AH57>=0,AH57,IF(AG57>=0,AG57,IF(AF57>=0,AF57,IF(AE57>=0,AE57,IF(AD57>=0,AD57,IF(AC57>=0,AC57,AB57))))))))","v":11},{"$f":"IF(I57=\"\",\"\",IF(A57=\"H\",IF(OR(H57=\"SEN\",H57<1995),VLOOKUP(I57,Feuil1!$A$11:$G$29,6),IF(AND(H57>1994,H57<1998),VLOOKUP(I57,Feuil1!$A$11:$G$29,5),IF(AND(H57>1997,H57<2000),VLOOKUP(I57,Feuil1!$A$11:$G$29,4),IF(AND(H57>1999,H57<2002),VLOOKUP(I57,Feuil1!$A$11:$G$29,3),VLOOKUP(I57,Feuil1!$A$11:$G$29,2))))),IF(OR(H57=\"SEN\",H57<1995),VLOOKUP(I57,Feuil1!$G$11:$L$25,6),IF(AND(H57>1994,H57<1998),VLOOKUP(I57,Feuil1!$G$11:$L$25,5),IF(AND(H57>1997,H57<2000),VLOOKUP(I57,Feuil1!$G$11:$L$25,4),IF(AND(H57>1999,H57<2002),VLOOKUP(I57,Feuil1!$G$11:$L$25,3),VLOOKUP(I57,Feuil1!$G$11:$L$25,2)))))))","v":"C2 77"},{"$f":"IF(I57=\"\",\"\",IF(A57=\"H\",10^(0.794358141*LOG(I57/174.393)^2)*T57,IF(A57=\"F\",10^(0.89726074*LOG(I57/148.026)^2)*T57,\"\")))","v":251.1615362132944},null," ",{"$f":"T57-HLOOKUP(X57,Feuil1!$C$1:$BL$10,2,FALSE)","v":86},{"$f":"T57-HLOOKUP(X57,Feuil1!$C$1:$BL$10,3,FALSE)","v":66},{"$f":"T57-HLOOKUP(X57,Feuil1!$C$1:$BL$10,4,FALSE)","v":46},{"$f":"T57-HLOOKUP(X57,Feuil1!$C$1:$BL$10,5,FALSE)","v":26},{"$f":"T57-HLOOKUP(X57,Feuil1!$C$1:$BL$10,6,FALSE)","v":11},{"$f":"T57-HLOOKUP(X57,Feuil1!$C$1:$BL$10,7,FALSE)","v":-4},{"$f":"T57-HLOOKUP(X57,Feuil1!$C$1:$BL$10,8,FALSE)","v":-24},{"$f":"T57-HLOOKUP(X57,Feuil1!$C$1:$BL$10,9,FALSE)","v":-54},{"$f":"T57-HLOOKUP(X57,Feuil1!$C$1:$BL$10,10,FALSE)","v":-804},null,null,null,null,null,null,{"$f":"IF(AJ57>=0,$AJ$4,IF(AI57>=0,$AI$4,IF(AH57>=0,$AH$4,IF(AG57>=0,$AG$4,IF(AF57>=0,$AF$4,IF(AE57>=0,$AE$4,IF(AD57>=0,$AD$4,IF(AC57>=0,$AC$4,$AB$4))))))))","v":"FED +"}]
["H","SEST","CAZ",2,295872,"RICHET","Benoit",1999,69.8,"E.S. VILLENEUVE LOUBET","F",82,86,90,{"$f":"IF(H58=\"\",\"\",IF(MAXA(L58:N58)<=0,0,MAXA(L58:N58)))","v":90},100,105,-110,{"$f":"IF(H58=\"\",\"\",IF(MAXA(P58:R58)<=0,0,MAXA(P58:R58)))","v":105},{"$f":"IF(H58=\"\",\"\",IF(OR(O58=0,S58=0),0,O58+S58))","v":195},{"$f":"T58-I58*2","v":55.400000000000006},{"$f":"IF(H58=\"\",\"\",AQ58)","v":"FED +"},{"$f":"IF(AJ58>=0,AJ58,IF(AI58>=0,AI58,IF(AH58>=0,AH58,IF(AG58>=0,AG58,IF(AF58>=0,AF58,IF(AE58>=0,AE58,IF(AD58>=0,AD58,IF(AC58>=0,AC58,AB58))))))))","v":10},{"$f":"IF(I58=\"\",\"\",IF(A58=\"H\",IF(OR(H58=\"SEN\",H58<1995),VLOOKUP(I58,Feuil1!$A$11:$G$29,6),IF(AND(H58>1994,H58<1998),VLOOKUP(I58,Feuil1!$A$11:$G$29,5),IF(AND(H58>1997,H58<2000),VLOOKUP(I58,Feuil1!$A$11:$G$29,4),IF(AND(H58>1999,H58<2002),VLOOKUP(I58,Feuil1!$A$11:$G$29,3),VLOOKUP(I58,Feuil1!$A$11:$G$29,2))))),IF(OR(H58=\"SEN\",H58<1995),VLOOKUP(I58,Feuil1!$G$11:$L$25,6),IF(AND(H58>1994,H58<1998),VLOOKUP(I58,Feuil1!$G$11:$L$25,5),IF(AND(H58>1997,H58<2000),VLOOKUP(I58,Feuil1!$G$11:$L$25,4),IF(AND(H58>1999,H58<2002),VLOOKUP(I58,Feuil1!$G$11:$L$25,3),VLOOKUP(I58,Feuil1!$G$11:$L$25,2)))))))","v":"C2 77"},{"$f":"IF(I58=\"\",\"\",IF(A58=\"H\",10^(0.794358141*LOG(I58/174.393)^2)*T58,IF(A58=\"F\",10^(0.89726074*LOG(I58/148.026)^2)*T58,\"\")))","v":260.41010565192801},null," ",{"$f":"T58-HLOOKUP(X58,Feuil1!$C$1:$BL$10,2,FALSE)","v":85},{"$f":"T58-HLOOKUP(X58,Feuil1!$C$1:$BL$10,3,FALSE)","v":65},{"$f":"T58-HLOOKUP(X58,Feuil1!$C$1:$BL$10,4,FALSE)","v":45},{"$f":"T58-HLOOKUP(X58,Feuil1!$C$1:$BL$10,5,FALSE)","v":25},{"$f":"T58-HLOOKUP(X58,Feuil1!$C$1:$BL$10,6,FALSE)","v":10},{"$f":"T58-HLOOKUP(X58,Feuil1!$C$1:$BL$10,7,FALSE)","v":-5},{"$f":"T58-HLOOKUP(X58,Feuil1!$C$1:$BL$10,8,FALSE)","v":-25},{"$f":"T58-HLOOKUP(X58,Feuil1!$C$1:$BL$10,9,FALSE)","v":-55},{"$f":"T58-HLOOKUP(X58,Feuil1!$C$1:$BL$10,10,FALSE)","v":-805},null,null,null,null,null,null,{"$f":"IF(AJ58>=0,$AJ$4,IF(AI58>=0,$AI$4,IF(AH58>=0,$AH$4,IF(AG58>=0,$AG$4,IF(AF58>=0,$AF$4,IF(AE58>=0,$AE$4,IF(AD58>=0,$AD$4,IF(AC58>=0,$AC$4,$AB$4))))))))","v":"FED +"}]
["H","CO","BNO",3,247806,"PANNIER","Julien",1998,70.5,"Caen CHM","F",-74,-74,75,{"$f":"IF(H59=\"\",\"\",IF(MAXA(L59:N59)<=0,0,MAXA(L59:N59)))","v":75},90,-95,0,{"$f":"IF(H59=\"\",\"\",IF(MAXA(P59:R59)<=0,0,MAXA(P59:R59)))","v":90},{"$f":"IF(H59=\"\",\"\",IF(OR(O59=0,S59=0),0,O59+S59))","v":165},{"$f":"T59-I59*2","v":24},{"$f":"IF(H59=\"\",\"\",AQ59)","v":"REG +"},{"$f":"IF(AJ59>=0,AJ59,IF(AI59>=0,AI59,IF(AH59>=0,AH59,IF(AG59>=0,AG59,IF(AF59>=0,AF59,IF(AE59>=0,AE59,IF(AD59>=0,AD59,IF(AC59>=0,AC59,AB59))))))))","v":15},{"$f":"IF(I59=\"\",\"\",IF(A59=\"H\",IF(OR(H59=\"SEN\",H59<1995),VLOOKUP(I59,Feuil1!$A$11:$G$29,6),IF(AND(H59>1994,H59<1998),VLOOKUP(I59,Feuil1!$A$11:$G$29,5),IF(AND(H59>1997,H59<2000),VLOOKUP(I59,Feuil1!$A$11:$G$29,4),IF(AND(H59>1999,H59<2002),VLOOKUP(I59,Feuil1!$A$11:$G$29,3),VLOOKUP(I59,Feuil1!$A$11:$G$29,2))))),IF(OR(H59=\"SEN\",H59<1995),VLOOKUP(I59,Feuil1!$G$11:$L$25,6),IF(AND(H59>1994,H59<1998),VLOOKUP(I59,Feuil1!$G$11:$L$25,5),IF(AND(H59>1997,H59<2000),VLOOKUP(I59,Feuil1!$G$11:$L$25,4),IF(AND(H59>1999,H59<2002),VLOOKUP(I59,Feuil1!$G$11:$L$25,3),VLOOKUP(I59,Feuil1!$G$11:$L$25,2)))))))","v":"C2 77"},{"$f":"IF(I59=\"\",\"\",IF(A59=\"H\",10^(0.794358141*LOG(I59/174.393)^2)*T59,IF(A59=\"F\",10^(0.89726074*LOG(I59/148.026)^2)*T59,\"\")))","v":218.96973770985505},null," ",{"$f":"T59-HLOOKUP(X59,Feuil1!$C$1:$BL$10,2,FALSE)","v":55},{"$f":"T59-HLOOKUP(X59,Feuil1!$C$1:$BL$10,3,FALSE)","v":35},{"$f":"T59-HLOOKUP(X59,Feuil1!$C$1:$BL$10,4,FALSE)","v":15},{"$f":"T59-HLOOKUP(X59,Feuil1!$C$1:$BL$10,5,FALSE)","v":-5},{"$f":"T59-HLOOKUP(X59,Feuil1!$C$1:$BL$10,6,FALSE)","v":-20},{"$f":"T59-HLOOKUP(X59,Feuil1!$C$1:$BL$10,7,FALSE)","v":-35},{"$f":"T59-HLOOKUP(X59,Feuil1!$C$1:$BL$10,8,FALSE)","v":-55},{"$f":"T59-HLOOKUP(X59,Feuil1!$C$1:$BL$10,9,FALSE)","v":-85},{"$f":"T59-HLOOKUP(X59,Feuil1!$C$1:$BL$10,10,FALSE)","v":-835},null,null,null,null,null,null,{"$f":"IF(AJ59>=0,$AJ$4,IF(AI59>=0,$AI$4,IF(AH59>=0,$AH$4,IF(AG59>=0,$AG$4,IF(AF59>=0,$AF$4,IF(AE59>=0,$AE$4,IF(AD59>=0,$AD$4,IF(AC59>=0,$AC$4,$AB$4))))))))","v":"REG +"}]
["H","CO","PDL","NC",273245,"BERTIN","Aymeric",1998,76.599999999999994,"CJF Laval-Voutré","F",85,-87,-87,{"$f":"IF(H60=\"\",\"\",IF(MAXA(L60:N60)<=0,0,MAXA(L60:N60)))","v":85},-100,-100,-100,{"$f":"IF(H60=\"\",\"\",IF(MAXA(P60:R60)<=0,0,MAXA(P60:R60)))","v":0},{"$f":"IF(H60=\"\",\"\",IF(OR(O60=0,S60=0),0,O60+S60))","v":0},{"$f":"T60-I60*2","v":-153.19999999999999},{"$f":"IF(H60=\"\",\"\",AQ60)","v":"DEB "},{"$f":"IF(AJ60>=0,AJ60,IF(AI60>=0,AI60,IF(AH60>=0,AH60,IF(AG60>=0,AG60,IF(AF60>=0,AF60,IF(AE60>=0,AE60,IF(AD60>=0,AD60,IF(AC60>=0,AC60,AB60))))))))","v":-110},{"$f":"IF(I60=\"\",\"\",IF(A60=\"H\",IF(OR(H60=\"SEN\",H60<1995),VLOOKUP(I60,Feuil1!$A$11:$G$29,6),IF(AND(H60>1994,H60<1998),VLOOKUP(I60,Feuil1!$A$11:$G$29,5),IF(AND(H60>1997,H60<2000),VLOOKUP(I60,Feuil1!$A$11:$G$29,4),IF(AND(H60>1999,H60<2002),VLOOKUP(I60,Feuil1!$A$11:$G$29,3),VLOOKUP(I60,Feuil1!$A$11:$G$29,2))))),IF(OR(H60=\"SEN\",H60<1995),VLOOKUP(I60,Feuil1!$G$11:$L$25,6),IF(AND(H60>1994,H60<1998),VLOOKUP(I60,Feuil1!$G$11:$L$25,5),IF(AND(H60>1997,H60<2000),VLOOKUP(I60,Feuil1!$G$11:$L$25,4),IF(AND(H60>1999,H60<2002),VLOOKUP(I60,Feuil1!$G$11:$L$25,3),VLOOKUP(I60,Feuil1!$G$11:$L$25,2)))))))","v":"C2 77"},{"$f":"IF(I60=\"\",\"\",IF(A60=\"H\",10^(0.794358141*LOG(I60/174.393)^2)*T60,IF(A60=\"F\",10^(0.89726074*LOG(I60/148.026)^2)*T60,\"\")))","v":0},null," ",{"$f":"T60-HLOOKUP(X60,Feuil1!$C$1:$BL$10,2,FALSE)","v":-110},{"$f":"T60-HLOOKUP(X60,Feuil1!$C$1:$BL$10,3,FALSE)","v":-130},{"$f":"T60-HLOOKUP(X60,Feuil1!$C$1:$BL$10,4,FALSE)","v":-150},{"$f":"T60-HLOOKUP(X60,Feuil1!$C$1:$BL$10,5,FALSE)","v":-170},{"$f":"T60-HLOOKUP(X60,Feuil1!$C$1:$BL$10,6,FALSE)","v":-185},{"$f":"T60-HLOOKUP(X60,Feuil1!$C$1:$BL$10,7,FALSE)","v":-200},{"$f":"T60-HLOOKUP(X60,Feuil1!$C$1:$BL$10,8,FALSE)","v":-220},{"$f":"T60-HLOOKUP(X60,Feuil1!$C$1:$BL$10,9,FALSE)","v":-250},{"$f":"T60-HLOOKUP(X60,Feuil1!$C$1:$BL$10,10,FALSE)","v":-1000},null,null,null,null,null,null,{"$f":"IF(AJ60>=0,$AJ$4,IF(AI60>=0,$AI$4,IF(AH60>=0,$AH$4,IF(AG60>=0,$AG$4,IF(AF60>=0,$AF$4,IF(AE60>=0,$AE$4,IF(AD60>=0,$AD$4,IF(AC60>=0,$AC$4,$AB$4))))))))","v":"DEB "}]
[]
["H","NE","LOR",1,222911,"FLAUS","Dylan",1998,77.099999999999994,"A.O.C.Pte-ROSSELLE","F",96,-102,102,{"$f":"IF(H62=\"\",\"\",IF(MAXA(L62:N62)<=0,0,MAXA(L62:N62)))","v":102},118,123,-125,{"$f":"IF(H62=\"\",\"\",IF(MAXA(P62:R62)<=0,0,MAXA(P62:R62)))","v":123},{"$f":"IF(H62=\"\",\"\",IF(OR(O62=0,S62=0),0,O62+S62))","v":225},{"$f":"T62-I62*2","v":70.800000000000011},{"$f":"IF(H62=\"\",\"\",AQ62)","v":"NAT +"},{"$f":"IF(AJ62>=0,AJ62,IF(AI62>=0,AI62,IF(AH62>=0,AH62,IF(AG62>=0,AG62,IF(AF62>=0,AF62,IF(AE62>=0,AE62,IF(AD62>=0,AD62,IF(AC62>=0,AC62,AB62))))))))","v":5},{"$f":"IF(I62=\"\",\"\",IF(A62=\"H\",IF(OR(H62=\"SEN\",H62<1995),VLOOKUP(I62,Feuil1!$A$11:$G$29,6),IF(AND(H62>1994,H62<1998),VLOOKUP(I62,Feuil1!$A$11:$G$29,5),IF(AND(H62>1997,H62<2000),VLOOKUP(I62,Feuil1!$A$11:$G$29,4),IF(AND(H62>1999,H62<2002),VLOOKUP(I62,Feuil1!$A$11:$G$29,3),VLOOKUP(I62,Feuil1!$A$11:$G$29,2))))),IF(OR(H62=\"SEN\",H62<1995),VLOOKUP(I62,Feuil1!$G$11:$L$25,6),IF(AND(H62>1994,H62<1998),VLOOKUP(I62,Feuil1!$G$11:$L$25,5),IF(AND(H62>1997,H62<2000),VLOOKUP(I62,Feuil1!$G$11:$L$25,4),IF(AND(H62>1999,H62<2002),VLOOKUP(I62,Feuil1!$G$11:$L$25,3),VLOOKUP(I62,Feuil1!$G$11:$L$25,2)))))))","v":"C2 85"},{"$f":"IF(I62=\"\",\"\",IF(A62=\"H\",10^(0.794358141*LOG(I62/174.393)^2)*T62,IF(A62=\"F\",10^(0.89726074*LOG(I62/148.026)^2)*T62,\"\")))","v":283.13622623938642},null," ",{"$f":"T62-HLOOKUP(X62,Feuil1!$C$1:$BL$10,2,FALSE)","v":105},{"$f":"T62-HLOOKUP(X62,Feuil1!$C$1:$BL$10,3,FALSE)","v":85},{"$f":"T62-HLOOKUP(X62,Feuil1!$C$1:$BL$10,4,FALSE)","v":65},{"$f":"T62-HLOOKUP(X62,Feuil1!$C$1:$BL$10,5,FALSE)","v":45},{"$f":"T62-HLOOKUP(X62,Feuil1!$C$1:$BL$10,6,FALSE)","v":25},{"$f":"T62-HLOOKUP(X62,Feuil1!$C$1:$BL$10,7,FALSE)","v":5},{"$f":"T62-HLOOKUP(X62,Feuil1!$C$1:$BL$10,8,FALSE)","v":-15},{"$f":"T62-HLOOKUP(X62,Feuil1!$C$1:$BL$10,9,FALSE)","v":-35},{"$f":"T62-HLOOKUP(X62,Feuil1!$C$1:$BL$10,10,FALSE)","v":-9775},null,null,null,null,null,null,{"$f":"IF(AJ62>=0,$AJ$4,IF(AI62>=0,$AI$4,IF(AH62>=0,$AH$4,IF(AG62>=0,$AG$4,IF(AF62>=0,$AF$4,IF(AE62>=0,$AE$4,IF(AD62>=0,$AD$4,IF(AC62>=0,$AC$4,$AB$4))))))))","v":"NAT +"}]
["H","SEST","PRO",2,316093,"GIRAUD","Florian",1998,89.8,"H.C. NOVES","F",75,-80,-82,{"$f":"IF(H63=\"\",\"\",IF(MAXA(L63:N63)<=0,0,MAXA(L63:N63)))","v":75},100,106,-110,{"$f":"IF(H63=\"\",\"\",IF(MAXA(P63:R63)<=0,0,MAXA(P63:R63)))","v":106},{"$f":"IF(H63=\"\",\"\",IF(OR(O63=0,S63=0),0,O63+S63))","v":181},{"$f":"T63-I63*2","v":1.4000000000000057},{"$f":"IF(H63=\"\",\"\",AQ63)","v":"REG +"},{"$f":"IF(AJ63>=0,AJ63,IF(AI63>=0,AI63,IF(AH63>=0,AH63,IF(AG63>=0,AG63,IF(AF63>=0,AF63,IF(AE63>=0,AE63,IF(AD63>=0,AD63,IF(AC63>=0,AC63,AB63))))))))","v":16},{"$f":"IF(I63=\"\",\"\",IF(A63=\"H\",IF(OR(H63=\"SEN\",H63<1995),VLOOKUP(I63,Feuil1!$A$11:$G$29,6),IF(AND(H63>1994,H63<1998),VLOOKUP(I63,Feuil1!$A$11:$G$29,5),IF(AND(H63>1997,H63<2000),VLOOKUP(I63,Feuil1!$A$11:$G$29,4),IF(AND(H63>1999,H63<2002),VLOOKUP(I63,Feuil1!$A$11:$G$29,3),VLOOKUP(I63,Feuil1!$A$11:$G$29,2))))),IF(OR(H63=\"SEN\",H63<1995),VLOOKUP(I63,Feuil1!$G$11:$L$25,6),IF(AND(H63>1994,H63<1998),VLOOKUP(I63,Feuil1!$G$11:$L$25,5),IF(AND(H63>1997,H63<2000),VLOOKUP(I63,Feuil1!$G$11:$L$25,4),IF(AND(H63>1999,H63<2002),VLOOKUP(I63,Feuil1!$G$11:$L$25,3),VLOOKUP(I63,Feuil1!$G$11:$L$25,2)))))))","v":"C2 94"},{"$f":"IF(I63=\"\",\"\",IF(A63=\"H\",10^(0.794358141*LOG(I63/174.393)^2)*T63,IF(A63=\"F\",10^(0.89726074*LOG(I63/148.026)^2)*T63,\"\")))","v":210.70822843409513},null," ",{"$f":"T63-HLOOKUP(X63,Feuil1!$C$1:$BL$10,2,FALSE)","v":56},{"$f":"T63-HLOOKUP(X63,Feuil1!$C$1:$BL$10,3,FALSE)","v":36},{"$f":"T63-HLOOKUP(X63,Feuil1!$C$1:$BL$10,4,FALSE)","v":16},{"$f":"T63-HLOOKUP(X63,Feuil1!$C$1:$BL$10,5,FALSE)","v":-4},{"$f":"T63-HLOOKUP(X63,Feuil1!$C$1:$BL$10,6,FALSE)","v":-29},{"$f":"T63-HLOOKUP(X63,Feuil1!$C$1:$BL$10,7,FALSE)","v":-44},{"$f":"T63-HLOOKUP(X63,Feuil1!$C$1:$BL$10,8,FALSE)","v":-69},{"$f":"T63-HLOOKUP(X63,Feuil1!$C$1:$BL$10,9,FALSE)","v":-99},{"$f":"T63-HLOOKUP(X63,Feuil1!$C$1:$BL$10,10,FALSE)","v":-819},null,null,null,null,null,null,{"$f":"IF(AJ63>=0,$AJ$4,IF(AI63>=0,$AI$4,IF(AH63>=0,$AH$4,IF(AG63>=0,$AG$4,IF(AF63>=0,$AF$4,IF(AE63>=0,$AE$4,IF(AD63>=0,$AD$4,IF(AC63>=0,$AC$4,$AB$4))))))))","v":"REG +"}]
[]
["H","Nord","NPC","1",376451,"CEYLAN","Umut",1998,114.3,"CA Rosendael","Belge",90,-95,-97,{"$f":"IF(H65=\"\",\"\",IF(MAXA(L65:N65)<=0,0,MAXA(L65:N65)))","v":90},98,103,105,{"$f":"IF(H65=\"\",\"\",IF(MAXA(P65:R65)<=0,0,MAXA(P65:R65)))","v":105},{"$f":"IF(H65=\"\",\"\",IF(OR(O65=0,S65=0),0,O65+S65))","v":195},{"$f":"T65-I65*2","v":-33.599999999999994},{"$f":"IF(H65=\"\",\"\",AQ65)","v":"IRG +"},{"$f":"IF(AJ65>=0,AJ65,IF(AI65>=0,AI65,IF(AH65>=0,AH65,IF(AG65>=0,AG65,IF(AF65>=0,AF65,IF(AE65>=0,AE65,IF(AD65>=0,AD65,IF(AC65>=0,AC65,AB65))))))))","v":0},{"$f":"IF(I65=\"\",\"\",IF(A65=\"H\",IF(OR(H65=\"SEN\",H65<1995),VLOOKUP(I65,Feuil1!$A$11:$G$29,6),IF(AND(H65>1994,H65<1998),VLOOKUP(I65,Feuil1!$A$11:$G$29,5),IF(AND(H65>1997,H65<2000),VLOOKUP(I65,Feuil1!$A$11:$G$29,4),IF(AND(H65>1999,H65<2002),VLOOKUP(I65,Feuil1!$A$11:$G$29,3),VLOOKUP(I65,Feuil1!$A$11:$G$29,2))))),IF(OR(H65=\"SEN\",H65<1995),VLOOKUP(I65,Feuil1!$G$11:$L$25,6),IF(AND(H65>1994,H65<1998),VLOOKUP(I65,Feuil1!$G$11:$L$25,5),IF(AND(H65>1997,H65<2000),VLOOKUP(I65,Feuil1!$G$11:$L$25,4),IF(AND(H65>1999,H65<2002),VLOOKUP(I65,Feuil1!$G$11:$L$25,3),VLOOKUP(I65,Feuil1!$G$11:$L$25,2)))))))","v":"C2 +94"},{"$f":"IF(I65=\"\",\"\",IF(A65=\"H\",10^(0.794358141*LOG(I65/174.393)^2)*T65,IF(A65=\"F\",10^(0.89726074*LOG(I65/148.026)^2)*T65,\"\")))","v":207.38504180366854},null," ",{"$f":"T65-HLOOKUP(X65,Feuil1!$C$1:$BL$10,2,FALSE)","v":60},{"$f":"T65-HLOOKUP(X65,Feuil1!$C$1:$BL$10,3,FALSE)","v":40},{"$f":"T65-HLOOKUP(X65,Feuil1!$C$1:$BL$10,4,FALSE)","v":20},{"$f":"T65-HLOOKUP(X65,Feuil1!$C$1:$BL$10,5,FALSE)","v":0},{"$f":"T65-HLOOKUP(X65,Feuil1!$C$1:$BL$10,6,FALSE)","v":-25},{"$f":"T65-HLOOKUP(X65,Feuil1!$C$1:$BL$10,7,FALSE)","v":-40},{"$f":"T65-HLOOKUP(X65,Feuil1!$C$1:$BL$10,8,FALSE)","v":-65},{"$f":"T65-HLOOKUP(X65,Feuil1!$C$1:$BL$10,9,FALSE)","v":-85},{"$f":"T65-HLOOKUP(X65,Feuil1!$C$1:$BL$10,10,FALSE)","v":-805},null,null,null,null,null,null,{"$f":"IF(AJ65>=0,$AJ$4,IF(AI65>=0,$AI$4,IF(AH65>=0,$AH$4,IF(AG65>=0,$AG$4,IF(AF65>=0,$AF$4,IF(AE65>=0,$AE$4,IF(AD65>=0,$AD$4,IF(AC65>=0,$AC$4,$AB$4))))))))","v":"IRG +"}]
[]
["H",null,null,null,null,null,null,null,null,null,null,null,null,null,{"$f":"IF(H67=\"\",\"\",IF(MAXA(L67:N67)<=0,0,MAXA(L67:N67)))","v":""},null,null,null,{"$f":"IF(H67=\"\",\"\",IF(MAXA(P67:R67)<=0,0,MAXA(P67:R67)))","v":""},{"$f":"IF(H67=\"\",\"\",IF(OR(O67=0,S67=0),0,O67+S67))","v":""},{"$f":"T67-I67*2","v":{"$error":"#VALUE!"}},{"$f":"IF(H67=\"\",\"\",AQ67)","v":""},{"$f":"IF(AJ67>=0,AJ67,IF(AI67>=0,AI67,IF(AH67>=0,AH67,IF(AG67>=0,AG67,IF(AF67>=0,AF67,IF(AE67>=0,AE67,IF(AD67>=0,AD67,IF(AC67>=0,AC67,AB67))))))))","v":{"$error":"#VALUE!"}},{"$f":"IF(I67=\"\",\"\",IF(A67=\"H\",IF(OR(H67=\"SEN\",H67<1995),VLOOKUP(I67,Feuil1!$A$11:$G$29,6),IF(AND(H67>1994,H67<1998),VLOOKUP(I67,Feuil1!$A$11:$G$29,5),IF(AND(H67>1997,H67<2000),VLOOKUP(I67,Feuil1!$A$11:$G$29,4),IF(AND(H67>1999,H67<2002),VLOOKUP(I67,Feuil1!$A$11:$G$29,3),VLOOKUP(I67,Feuil1!$A$11:$G$29,2))))),IF(OR(H67=\"SEN\",H67<1995),VLOOKUP(I67,Feuil1!$G$11:$L$25,6),IF(AND(H67>1994,H67<1998),VLOOKUP(I67,Feuil1!$G$11:$L$25,5),IF(AND(H67>1997,H67<2000),VLOOKUP(I67,Feuil1!$G$11:$L$25,4),IF(AND(H67>1999,H67<2002),VLOOKUP(I67,Feuil1!$G$11:$L$25,3),VLOOKUP(I67,Feuil1!$G$11:$L$25,2)))))))","v":""},{"$f":"IF(I67=\"\",\"\",IF(A67=\"H\",10^(0.794358141*LOG(I67/174.393)^2)*T67,IF(A67=\"F\",10^(0.89726074*LOG(I67/148.026)^2)*T67,\"\")))","v":""},null," ",{"$f":"T67-HLOOKUP(X67,Feuil1!$C$1:$BL$10,2,FALSE)","v":{"$error":"#VALUE!"}},{"$f":"T67-HLOOKUP(X67,Feuil1!$C$1:$BL$10,3,FALSE)","v":{"$error":"#VALUE!"}},{"$f":"T67-HLOOKUP(X67,Feuil1!$C$1:$BL$10,4,FALSE)","v":{"$error":"#VALUE!"}},{"$f":"T67-HLOOKUP(X67,Feuil1!$C$1:$BL$10,5,FALSE)","v":{"$error":"#VALUE!"}},{"$f":"T67-HLOOKUP(X67,Feuil1!$C$1:$BL$10,6,FALSE)","v":{"$error":"#VALUE!"}},{"$f":"T67-HLOOKUP(X67,Feuil1!$C$1:$BL$10,7,FALSE)","v":{"$error":"#VALUE!"}},{"$f":"T67-HLOOKUP(X67,Feuil1!$C$1:$BL$10,8,FALSE)","v":{"$error":"#VALUE!"}},{"$f":"T67-HLOOKUP(X67,Feuil1!$C$1:$BL$10,9,FALSE)","v":{"$error":"#VALUE!"}},{"$f":"T67-HLOOKUP(X67,Feuil1!$C$1:$BL$10,10,FALSE)","v":{"$error":"#VALUE!"}},null,null,null,null,null,null,{"$f":"IF(AJ67>=0,$AJ$4,IF(AI67>=0,$AI$4,IF(AH67>=0,$AH$4,IF(AG67>=0,$AG$4,IF(AF67>=0,$AF$4,IF(AE67>=0,$AE$4,IF(AD67>=0,$AD$4,IF(AC67>=0,$AC$4,$AB$4))))))))","v":{"$error":"#VALUE!"}}]
[]
[]
[]
[]
[]
[]
[]
[]
[]
[]
[]
[]
[]
[]
[]
[]
[]
[]
[]
[]
[]
[]
[]
[]
[]
[]
[]
[]
[]
[]
[]
[]
[]
[]
[]
[]
[]
[]
[]
[]
[]
[]
[]
[]
[]
[]
[]
[]
[]
[]
[]
[]
[]
[]
[]
[]
[]
[]
[]
[]
[]
[]
[]
[]
[]
[]
[]
[]
[]
[]
[]
[]
[]
[]
[]
[]
[]
[]
[]
[]
[]
[]
[]
[]
[]
[]
[]
[]
[]
[]
[]
[]
[]
[]
[]
[]
[]
[]
[]
[]
[]
[]
[]
[]
[]
[]
[]
[]
[]
[]
[]
[]
[]
[]
[]
[]
[]
[]
[]
[]
[]
[]
[]
[]
[]
[]
[]
[]
[]
[]
[]
[]
[]
[]
[]
[]
[]
[]
[]
[]
[]
[]
[]
[]
[]
[]
[]
[]
[]
[]
[]
[]
[]
[]
[]
[]
[]
[]
[]
[]
[]
[]
[]
[]
[]
[]
[]
[]
[]
[]
[]
[]
[]
[]
[]
[]
[]
[]
[]
[]
[]
[]
[]
[]
[]
[]
[]
[]
[]
[]
[]
[]
[]
[]
[]
[]
[]
[]
[]
[]
[]
[]
[]
[]
[]
[]
[]
[]
[]
[]
[]
[]
[]
[]
[]
[]
[]
[]
[]
[]
[]
[]
[]
[]
[]
[]
[]
[]
[]
[]
[]
[]
[]
[]
[]
[]
[]
[]
[]
[]
[]
[]
[]
[]
[]
[]
[]
[]
[]
[]
[]
[]
[]
[]
[]
[]
[]
[]
[]
[]
[]
[]
[]
[]
[]
[]
[]
[]
[]
[]
[]
[]
[]
[]
[]
[]
[]
[]
[]
[]
[]
[]
[]
[]
[]
[]
[]
[]
[]
[]
[]
[]
[]
[]
[]
[]
[]
[]
[]
[]
[]
[]
[]
[]
[]
[]
[]
[]
[]
[]
[]
[]
[]
[]
[]
[]
[]
[]
[]
[]
[]
[]
[]
[]
[]
[]
[]
[]
[]
[]
[]
[]
[]
[]
[]
[]
[]
[]
[]
[]
[]
[]
[]
[]
[]
[]
[]
[]
[]
[]
[]
[]
[]
[]
[]
[]
[]
[]
[]
[]
[]
[]
[]
[]
[]
[]
[]
[]
[]
[]
[]
[]
[]
[]
[]
[]
[]
[]
[]
[]
[]
[]
[]
[]
[]
[]
[]
[]
[]
[]
[]
[]
[]
[]
[]
[]
[]
[]
[]
[]
[]
[]
[]
[]
[]
[]
[]
[]
[]
[]
[]
[]
[]
[]
[]
[]
[]
[]
[]
[]
[]
[]
[]
[]
[]
[]
[]
[]
[]
[]
[]
[]
[]
[]
[]
[]
[null,null,null,null,null,null,null,null,null,null,null,null,null,null,null,null,null,null,null,null,null,null,null,null,null,null,null,"J77","J85","J94","J105","J+105",null,"J56","J62","J69","J77","J85","J94","J105","J+105",null,"S56","S62","S69","S77","S85","S94","S105","S+105"]
[null,null,null,null,null,null,null,null,null,null,null,null,null,null,null,null,null,null,null,null,null,null,null,null,null,null,null,145,160,170,180,190,null,100,115,130,145,160,170,180,190,null,115,135,150,165,180,190,200,210]
[null,null,null,null,null,null,null,null,null,null,null,null,null,null,null,null,null,null,null,null,null,null,null,null,null,null,null,165,180,190,200,210,null,115,135,150,165,180,190,200,210,null,130,150,165,185,200,210,220,230]
[null,null,null,null,null,null,null,null,null,null,null,null,null,null,null,null,null,null,null,null,null,null,null,null,null,null,null,185,200,210,220,230,null,130,150,165,185,200,210,220,230,null,145,165,180,200,220,230,240,250]
[null,null,null,null,null,null,null,null,null,null,null,null,null,null,null,null,null,null,null,null,null,null,null,null,null,null,null,200,220,230,240,250,null,145,165,180,200,220,230,240,250,null,175,195,215,235,250,260,275,280]
[null,null,null,null,null,null,null,null,null,null,null,null,null,null,null,null,null,null,null,null,null,null,null,null,null,null,null,235,250,260,275,280,null,175,195,215,235,250,260,275,280,null,210,230,250,270,290,300,310,325]
[null,null,null,null,null,null,null,null,null,null,null,null,null,null,null,null,null,null,null,null,null,null,null,null,null,null,null,270,290,300,310,325,null,210,230,250,270,290,300,310,325,null,230,255,275,300,315,335,345,355]
[null,null,null,null,null,null,null,null,null,null,null,null,null,null,null,null,null,null,null,null,null,null,null,null,null,null,null,320,335,355,370,380,null,245,270,295,320,335,355,370,380,null,245,270,295,320,335,355,370,380]

{"sheet":"JUNIORS","index":3,"n_rows":599,"n_cols":50,"rows_kept":599,"cut":false,"hidden":false,"merged":[[3,21,3,22],[0,7,0,14],[0,18,0,21],[1,6,1,10],[1,11,1,13],[1,14,1,17],[1,18,1,19],[1,21,1,22]]}
[null,null,null,null,null,null,null,"Championnat de Zone de Printemps ",null,null,null,null,null,null,null,null,"DATE :",null,"2015-04-05"]
[null,null,null,null,null," ","CLASSEMENT NATIONAL des ZONES"]
[]
["SEXE","ZONE","REG.","CL.","LICENCE","NOMS","Prénoms","AN","POIDS","CLUB","NAT",1,2,3,"ARR",1,2,3,"EP-J","Total","KP-2PC","SERIE",null,"Catég","IWF",null," ","DEB ","DEP +","REG +","IRG +","FED +","NAT +","INTB +","INTA +","OLY +"]
[]
["F","SEST","PRO",1,361701,"DELEUIL","Fanny",1995,48,"EEAR. MONTEUX","F",48,-50,-50,{"$f":"IF(H6=\"\",\"\",IF(MAXA(L6:N6)<=0,0,MAXA(L6:N6)))","v":48},58,62,-64,{"$f":"IF(H6=\"\",\"\",IF(MAXA(P6:R6)<=0,0,MAXA(P6:R6)))","v":62},{"$f":"IF(H6=\"\",\"\",IF(OR(O6=0,S6=0),0,O6+S6))","v":110},{"$f":"T6-I6*2","v":14},{"$f":"IF(H6=\"\",\"\",AQ6)","v":"INTB +"},{"$f":"IF(AJ6>=0,AJ6,IF(AI6>=0,AI6,IF(AH6>=0,AH6,IF(AG6>=0,AG6,IF(AF6>=0,AF6,IF(AE6>=0,AE6,IF(AD6>=0,AD6,IF(AC6>=0,AC6,AB6))))))))","v":0},{"$f":"IF(I6=\"\",\"\",IF(A6=\"H\",IF(OR(H6=\"SEN\",H6<1995),VLOOKUP(I6,Feuil1!$A$11:$F$29,6),IF(AND(H6>1994,H6<1998),VLOOKUP(I6,Feuil1!$A$11:$F$29,5),IF(AND(H6>1997,H6<2000),VLOOKUP(I6,Feuil1!$A$11:$F$29,4),IF(AND(H6>1999,H6<2002),VLOOKUP(I6,Feuil1!$A$11:$F$29,3),VLOOKUP(I6,Feuil1!$A$11:$F$29,2))))),IF(OR(H6=\"SEN\",H6<1995),VLOOKUP(I6,Feuil1!$G$11:$L$25,6),IF(AND(H6>1994,H6<1998),VLOOKUP(I6,Feuil1!$G$11:$L$25,5),IF(AND(H6>1997,H6<2000),VLOOKUP(I6,Feuil1!$G$11:$L$25,4),IF(AND(H6>1999,H6<2002),VLOOKUP(I6,Feuil1!$G$11:$L$25,3),VLOOKUP(I6,Feuil1!$G$11:$L$25,2)))))))","v":"FJ48"},{"$f":"IF(I6=\"\",\"\",IF(A6=\"H\",10^(0.794358141*LOG(I6/174.393)^2)*T6,IF(A6=\"F\",10^(0.89726074*LOG(I6/148.026)^2)*T6,\"\")))","v":180.31484937630731},null," ",{"$f":"T6-HLOOKUP(X6,Feuil1!$C$1:$BL$10,2,FALSE)","v":65},{"$f":"T6-HLOOKUP(X6,Feuil1!$C$1:$BL$10,3,FALSE)","v":55},{"$f":"T6-HLOOKUP(X6,Feuil1!$C$1:$BL$10,4,FALSE)","v":45},{"$f":"T6-HLOOKUP(X6,Feuil1!$C$1:$BL$10,5,FALSE)","v":35},{"$f":"T6-HLOOKUP(X6,Feuil1!$C$1:$BL$10,6,FALSE)","v":25},{"$f":"T6-HLOOKUP(X6,Feuil1!$C$1:$BL$10,7,FALSE)","v":15},{"$f":"T6-HLOOKUP(X6,Feuil1!$C$1:$BL$10,8,FALSE)","v":0},{"$f":"T6-HLOOKUP(X6,Feuil1!$C$1:$BL$10,9,FALSE)","v":-15},{"$f":"T6-HLOOKUP(X6,Feuil1!$C$1:$BL$10,10,FALSE)","v":-890},null,null,null,null,null,null,{"$f":"IF(AJ6>=0,$AJ$4,IF(AI6>=0,$AI$4,IF(AH6>=0,$AH$4,IF(AG6>=0,$AG$4,IF(AF6>=0,$AF$4,IF(AE6>=0,$AE$4,IF(AD6>=0,$AD$4,IF(AC6>=0,$AC$4,$AB$4))))))))","v":"INTB +"}]
["F","Nord","PIC",2,308200,"LEBON","Vanessa",1997,44.9,"Hirson CEHT","F",-33,33,-35,{"$f":"IF(H7=\"\",\"\",IF(MAXA(L7:N7)<=0,0,MAXA(L7:N7)))","v":33},45,48,-50,{"$f":"IF(H7=\"\",\"\",IF(MAXA(P7:R7)<=0,0,MAXA(P7:R7)))","v":48},{"$f":"IF(H7=\"\",\"\",IF(OR(O7=0,S7=0),0,O7+S7))","v":81},{"$f":"T7-I7*2","v":-8.7999999999999972},{"$f":"IF(H7=\"\",\"\",AQ7)","v":"IRG +"},{"$f":"IF(AJ7>=0,AJ7,IF(AI7>=0,AI7,IF(AH7>=0,AH7,IF(AG7>=0,AG7,IF(AF7>=0,AF7,IF(AE7>=0,AE7,IF(AD7>=0,AD7,IF(AC7>=0,AC7,AB7))))))))","v":6},{"$f":"IF(I7=\"\",\"\",IF(A7=\"H\",IF(OR(H7=\"SEN\",H7<1995),VLOOKUP(I7,Feuil1!$A$11:$F$29,6),IF(AND(H7>1994,H7<1998),VLOOKUP(I7,Feuil1!$A$11:$F$29,5),IF(AND(H7>1997,H7<2000),VLOOKUP(I7,Feuil1!$A$11:$F$29,4),IF(AND(H7>1999,H7<2002),VLOOKUP(I7,Feuil1!$A$11:$F$29,3),VLOOKUP(I7,Feuil1!$A$11:$F$29,2))))),IF(OR(H7=\"SEN\",H7<1995),VLOOKUP(I7,Feuil1!$G$11:$L$25,6),IF(AND(H7>1994,H7<1998),VLOOKUP(I7,Feuil1!$G$11:$L$25,5),IF(AND(H7>1997,H7<2000),VLOOKUP(I7,Feuil1!$G$11:$L$25,4),IF(AND(H7>1999,H7<2002),VLOOKUP(I7,Feuil1!$G$11:$L$25,3),VLOOKUP(I7,Feuil1!$G$11:$L$25,2)))))))","v":"FJ48"},{"$f":"IF(I7=\"\",\"\",IF(A7=\"H\",10^(0.794358141*LOG(I7/174.393)^2)*T7,IF(A7=\"F\",10^(0.89726074*LOG(I7/148.026)^2)*T7,\"\")))","v":141.03497417911373},null," ",{"$f":"T7-HLOOKUP(X7,Feuil1!$C$1:$BL$10,2,FALSE)","v":36},{"$f":"T7-HLOOKUP(X7,Feuil1!$C$1:$BL$10,3,FALSE)","v":26},{"$f":"T7-HLOOKUP(X7,Feuil1!$C$1:$BL$10,4,FALSE)","v":16},{"$f":"T7-HLOOKUP(X7,Feuil1!$C$1:$BL$10,5,FALSE)","v":6},{"$f":"T7-HLOOKUP(X7,Feuil1!$C$1:$BL$10,6,FALSE)","v":-4},{"$f":"T7-HLOOKUP(X7,Feuil1!$C$1:$BL$10,7,FALSE)","v":-14},{"$f":"T7-HLOOKUP(X7,Feuil1!$C$1:$BL$10,8,FALSE)","v":-29},{"$f":"T7-HLOOKUP(X7,Feuil1!$C$1:$BL$10,9,FALSE)","v":-44},{"$f":"T7-HLOOKUP(X7,Feuil1!$C$1:$BL$10,10,FALSE)","v":-919},null,null,null,null,null,null,{"$f":"IF(AJ7>=0,$AJ$4,IF(AI7>=0,$AI$4,IF(AH7>=0,$AH$4,IF(AG7>=0,$AG$4,IF(AF7>=0,$AF$4,IF(AE7>=0,$AE$4,IF(AD7>=0,$AD$4,IF(AC7>=0,$AC$4,$AB$4))))))))","v":"IRG +"}]
[]
["F","SO","MPY",1,253454,"JOURNET","Mégane",1995,51.5,"FIGEAC HC","F",43,46,48,{"$f":"IF(H9=\"\",\"\",IF(MAXA(L9:N9)<=0,0,MAXA(L9:N9)))","v":48},53,57,-60,{"$f":"IF(H9=\"\",\"\",IF(MAXA(P9:R9)<=0,0,MAXA(P9:R9)))","v":57},{"$f":"IF(H9=\"\",\"\",IF(OR(O9=0,S9=0),0,O9+S9))","v":105},{"$f":"T9-I9*2","v":2},{"$f":"IF(H9=\"\",\"\",AQ9)","v":"NAT +"},{"$f":"IF(AJ9>=0,AJ9,IF(AI9>=0,AI9,IF(AH9>=0,AH9,IF(AG9>=0,AG9,IF(AF9>=0,AF9,IF(AE9>=0,AE9,IF(AD9>=0,AD9,IF(AC9>=0,AC9,AB9))))))))","v":0},{"$f":"IF(I9=\"\",\"\",IF(A9=\"H\",IF(OR(H9=\"SEN\",H9<1995),VLOOKUP(I9,Feuil1!$A$11:$F$29,6),IF(AND(H9>1994,H9<1998),VLOOKUP(I9,Feuil1!$A$11:$F$29,5),IF(AND(H9>1997,H9<2000),VLOOKUP(I9,Feuil1!$A$11:$F$29,4),IF(AND(H9>1999,H9<2002),VLOOKUP(I9,Feuil1!$A$11:$F$29,3),VLOOKUP(I9,Feuil1!$A$11:$F$29,2))))),IF(OR(H9=\"SEN\",H9<1995),VLOOKUP(I9,Feuil1!$G$11:$L$25,6),IF(AND(H9>1994,H9<1998),VLOOKUP(I9,Feuil1!$G$11:$L$25,5),IF(AND(H9>1997,H9<2000),VLOOKUP(I9,Feuil1!$G$11:$L$25,4),IF(AND(H9>1999,H9<2002),VLOOKUP(I9,Feuil1!$G$11:$L$25,3),VLOOKUP(I9,Feuil1!$G$11:$L$25,2)))))))","v":"FJ53"},{"$f":"IF(I9=\"\",\"\",IF(A9=\"H\",10^(0.794358141*LOG(I9/174.393)^2)*T9,IF(A9=\"F\",10^(0.89726074*LOG(I9/148.026)^2)*T9,\"\")))","v":162.12082029879537},null," ",{"$f":"T9-HLOOKUP(X9,Feuil1!$C$1:$BL$10,2,FALSE)","v":50},{"$f":"T9-HLOOKUP(X9,Feuil1!$C$1:$BL$10,3,FALSE)","v":40},{"$f":"T9-HLOOKUP(X9,Feuil1!$C$1:$BL$10,4,FALSE)","v":30},{"$f":"T9-HLOOKUP(X9,Feuil1!$C$1:$BL$10,5,FALSE)","v":20},{"$f":"T9-HLOOKUP(X9,Feuil1!$C$1:$BL$10,6,FALSE)","v":10},{"$f":"T9-HLOOKUP(X9,Feuil1!$C$1:$BL$10,7,FALSE)","v":0},{"$f":"T9-HLOOKUP(X9,Feuil1!$C$1:$BL$10,8,FALSE)","v":-15},{"$f":"T9-HLOOKUP(X9,Feuil1!$C$1:$BL$10,9,FALSE)","v":-30},{"$f":"T9-HLOOKUP(X9,Feuil1!$C$1:$BL$10,10,FALSE)","v":-895},null,null,null,null,null,null,{"$f":"IF(AJ9>=0,$AJ$4,IF(AI9>=0,$AI$4,IF(AH9>=0,$AH$4,IF(AG9>=0,$AG$4,IF(AF9>=0,$AF$4,IF(AE9>=0,$AE$4,IF(AD9>=0,$AD$4,IF(AC9>=0,$AC$4,$AB$4))))))))","v":"NAT +"}]
["F","CO","PDL",2,97644,"L'HERMIER","Mélanie",1996,48.4,"CJF Laval-Voutré","F",45,-48,48,{"$f":"IF(H10=\"\",\"\",IF(MAXA(L10:N10)<=0,0,MAXA(L10:N10)))","v":48},54,-58,-58,{"$f":"IF(H10=\"\",\"\",IF(MAXA(P10:R10)<=0,0,MAXA(P10:R10)))","v":54},{"$f":"IF(H10=\"\",\"\",IF(OR(O10=0,S10=0),0,O10+S10))","v":102},{"$f":"T10-I10*2","v":5.2000000000000028},{"$f":"IF(H10=\"\",\"\",AQ10)","v":"FED +"},{"$f":"IF(AJ10>=0,AJ10,IF(AI10>=0,AI10,IF(AH10>=0,AH10,IF(AG10>=0,AG10,IF(AF10>=0,AF10,IF(AE10>=0,AE10,IF(AD10>=0,AD10,IF(AC10>=0,AC10,AB10))))))))","v":7},{"$f":"IF(I10=\"\",\"\",IF(A10=\"H\",IF(OR(H10=\"SEN\",H10<1995),VLOOKUP(I10,Feuil1!$A$11:$F$29,6),IF(AND(H10>1994,H10<1998),VLOOKUP(I10,Feuil1!$A$11:$F$29,5),IF(AND(H10>1997,H10<2000),VLOOKUP(I10,Feuil1!$A$11:$F$29,4),IF(AND(H10>1999,H10<2002),VLOOKUP(I10,Feuil1!$A$11:$F$29,3),VLOOKUP(I10,Feuil1!$A$11:$F$29,2))))),IF(OR(H10=\"SEN\",H10<1995),VLOOKUP(I10,Feuil1!$G$11:$L$25,6),IF(AND(H10>1994,H10<1998),VLOOKUP(I10,Feuil1!$G$11:$L$25,5),IF(AND(H10>1997,H10<2000),VLOOKUP(I10,Feuil1!$G$11:$L$25,4),IF(AND(H10>1999,H10<2002),VLOOKUP(I10,Feuil1!$G$11:$L$25,3),VLOOKUP(I10,Feuil1!$G$11:$L$25,2)))))))","v":"FJ53"},{"$f":"IF(I10=\"\",\"\",IF(A10=\"H\",10^(0.794358141*LOG(I10/174.393)^2)*T10,IF(A10=\"F\",10^(0.89726074*LOG(I10/148.026)^2)*T10,\"\")))","v":165.99205997177509},null," ",{"$f":"T10-HLOOKUP(X10,Feuil1!$C$1:$BL$10,2,FALSE)","v":47},{"$f":"T10-HLOOKUP(X10,Feuil1!$C$1:$BL$10,3,FALSE)","v":37},{"$f":"T10-HLOOKUP(X10,Feuil1!$C$1:$BL$10,4,FALSE)","v":27},{"$f":"T10-HLOOKUP(X10,Feuil1!$C$1:$BL$10,5,FALSE)","v":17},{"$f":"T10-HLOOKUP(X10,Feuil1!$C$1:$BL$10,6,FALSE)","v":7},{"$f":"T10-HLOOKUP(X10,Feuil1!$C$1:$BL$10,7,FALSE)","v":-3},{"$f":"T10-HLOOKUP(X10,Feuil1!$C$1:$BL$10,8,FALSE)","v":-18},{"$f":"T10-HLOOKUP(X10,Feuil1!$C$1:$BL$10,9,FALSE)","v":-33},{"$f":"T10-HLOOKUP(X10,Feuil1!$C$1:$BL$10,10,FALSE)","v":-898},null,null,null,null,null,null,{"$f":"IF(AJ10>=0,$AJ$4,IF(AI10>=0,$AI$4,IF(AH10>=0,$AH$4,IF(AG10>=0,$AG$4,IF(AF10>=0,$AF$4,IF(AE10>=0,$AE$4,IF(AD10>=0,$AD$4,IF(AC10>=0,$AC$4,$AB$4))))))))","v":"FED +"}]
["F","SEST","CAZ",3,323896,"DUPEYROUX ","Elise",1997,51.64,"ASLDD. TOULON","F",45,-48,-48,{"$f":"IF(H11=\"\",\"\",IF(MAXA(L11:N11)<=0,0,MAXA(L11:N11)))","v":45},-54,54,-57,{"$f":"IF(H11=\"\",\"\",IF(MAXA(P11:R11)<=0,0,MAXA(P11:R11)))","v":54},{"$f":"IF(H11=\"\",\"\",IF(OR(O11=0,S11=0),0,O11+S11))","v":99},{"$f":"T11-I11*2","v":-4.2800000000000011},{"$f":"IF(H11=\"\",\"\",AQ11)","v":"FED +"},{"$f":"IF(AJ11>=0,AJ11,IF(AI11>=0,AI11,IF(AH11>=0,AH11,IF(AG11>=0,AG11,IF(AF11>=0,AF11,IF(AE11>=0,AE11,IF(AD11>=0,AD11,IF(AC11>=0,AC11,AB11))))))))","v":4},{"$f":"IF(I11=\"\",\"\",IF(A11=\"H\",IF(OR(H11=\"SEN\",H11<1995),VLOOKUP(I11,Feuil1!$A$11:$F$29,6),IF(AND(H11>1994,H11<1998),VLOOKUP(I11,Feuil1!$A$11:$F$29,5),IF(AND(H11>1997,H11<2000),VLOOKUP(I11,Feuil1!$A$11:$F$29,4),IF(AND(H11>1999,H11<2002),VLOOKUP(I11,Feuil1!$A$11:$F$29,3),VLOOKUP(I11,Feuil1!$A$11:$F$29,2))))),IF(OR(H11=\"SEN\",H11<1995),VLOOKUP(I11,Feuil1!$G$11:$L$25,6),IF(AND(H11>1994,H11<1998),VLOOKUP(I11,Feuil1!$G$11:$L$25,5),IF(AND(H11>1997,H11<2000),VLOOKUP(I11,Feuil1!$G$11:$L$25,4),IF(AND(H11>1999,H11<2002),VLOOKUP(I11,Feuil1!$G$11:$L$25,3),VLOOKUP(I11,Feuil1!$G$11:$L$25,2)))))))","v":"FJ53"},{"$f":"IF(I11=\"\",\"\",IF(A11=\"H\",10^(0.794358141*LOG(I11/174.393)^2)*T11,IF(A11=\"F\",10^(0.89726074*LOG(I11/148.026)^2)*T11,\"\")))","v":152.51613788894306},null," ",{"$f":"T11-HLOOKUP(X11,Feuil1!$C$1:$BL$10,2,FALSE)","v":44},{"$f":"T11-HLOOKUP(X11,Feuil1!$C$1:$BL$10,3,FALSE)","v":34},{"$f":"T11-HLOOKUP(X11,Feuil1!$C$1:$BL$10,4,FALSE)","v":24},{"$f":"T11-HLOOKUP(X11,Feuil1!$C$1:$BL$10,5,FALSE)","v":14},{"$f":"T11-HLOOKUP(X11,Feuil1!$C$1:$BL$10,6,FALSE)","v":4},{"$f":"T11-HLOOKUP(X11,Feuil1!$C$1:$BL$10,7,FALSE)","v":-6},{"$f":"T11-HLOOKUP(X11,Feuil1!$C$1:$BL$10,8,FALSE)","v":-21},{"$f":"T11-HLOOKUP(X11,Feuil1!$C$1:$BL$10,9,FALSE)","v":-36},{"$f":"T11-HLOOKUP(X11,Feuil1!$C$1:$BL$10,10,FALSE)","v":-901},null,null,null,null,null,null,{"$f":"IF(AJ11>=0,$AJ$4,IF(AI11>=0,$AI$4,IF(AH11>=0,$AH$4,IF(AG11>=0,$AG$4,IF(AF11>=0,$AF$4,IF(AE11>=0,$AE$4,IF(AD11>=0,$AD$4,IF(AC11>=0,$AC$4,$AB$4))))))))","v":"FED +"}]
["F","Nord","NPC",4,203629,"DEZERABLE","Kathy",1997,48.53,"AO Sallaumines","F",36,-39,39,{"$f":"IF(H12=\"\",\"\",IF(MAXA(L12:N12)<=0,0,MAXA(L12:N12)))","v":39},-47,47,50,{"$f":"IF(H12=\"\",\"\",IF(MAXA(P12:R12)<=0,0,MAXA(P12:R12)))","v":50},{"$f":"IF(H12=\"\",\"\",IF(OR(O12=0,S12=0),0,O12+S12))","v":89},{"$f":"T12-I12*2","v":-8.0600000000000023},{"$f":"IF(H12=\"\",\"\",AQ12)","v":"IRG +"},{"$f":"IF(AJ12>=0,AJ12,IF(AI12>=0,AI12,IF(AH12>=0,AH12,IF(AG12>=0,AG12,IF(AF12>=0,AF12,IF(AE12>=0,AE12,IF(AD12>=0,AD12,IF(AC12>=0,AC12,AB12))))))))","v":4},{"$f":"IF(I12=\"\",\"\",IF(A12=\"H\",IF(OR(H12=\"SEN\",H12<1995),VLOOKUP(I12,Feuil1!$A$11:$F$29,6),IF(AND(H12>1994,H12<1998),VLOOKUP(I12,Feuil1!$A$11:$F$29,5),IF(AND(H12>1997,H12<2000),VLOOKUP(I12,Feuil1!$A$11:$F$29,4),IF(AND(H12>1999,H12<2002),VLOOKUP(I12,Feuil1!$A$11:$F$29,3),VLOOKUP(I12,Feuil1!$A$11:$F$29,2))))),IF(OR(H12=\"SEN\",H12<1995),VLOOKUP(I12,Feuil1!$G$11:$L$25,6),IF(AND(H12>1994,H12<1998),VLOOKUP(I12,Feuil1!$G$11:$L$25,5),IF(AND(H12>1997,H12<2000),VLOOKUP(I12,Feuil1!$G$11:$L$25,4),IF(AND(H12>1999,H12<2002),VLOOKUP(I12,Feuil1!$G$11:$L$25,3),VLOOKUP(I12,Feuil1!$G$11:$L$25,2)))))))","v":"FJ53"},{"$f":"IF(I12=\"\",\"\",IF(A12=\"H\",10^(0.794358141*LOG(I12/174.393)^2)*T12,IF(A12=\"F\",10^(0.89726074*LOG(I12/148.026)^2)*T12,\"\")))","v":144.49853664407317},null," ",{"$f":"T12-HLOOKUP(X12,Feuil1!$C$1:$BL$10,2,FALSE)","v":34},{"$f":"T12-HLOOKUP(X12,Feuil1!$C$1:$BL$10,3,FALSE)","v":24},{"$f":"T12-HLOOKUP(X12,Feuil1!$C$1:$BL$10,4,FALSE)","v":14},{"$f":"T12-HLOOKUP(X12,Feuil1!$C$1:$BL$10,5,FALSE)","v":4},{"$f":"T12-HLOOKUP(X12,Feuil1!$C$1:$BL$10,6,FALSE)","v":-6},{"$f":"T12-HLOOKUP(X12,Feuil1!$C$1:$BL$10,7,FALSE)","v":-16},{"$f":"T12-HLOOKUP(X12,Feuil1!$C$1:$BL$10,8,FALSE)","v":-31},{"$f":"T12-HLOOKUP(X12,Feuil1!$C$1:$BL$10,9,FALSE)","v":-46},{"$f":"T12-HLOOKUP(X12,Feuil1!$C$1:$BL$10,10,FALSE)","v":-911},null,null,null,null,null,null,{"$f":"IF(AJ12>=0,$AJ$4,IF(AI12>=0,$AI$4,IF(AH12>=0,$AH$4,IF(AG12>=0,$AG$4,IF(AF12>=0,$AF$4,IF(AE12>=0,$AE$4,IF(AD12>=0,$AD$4,IF(AC12>=0,$AC$4,$AB$4))))))))","v":"IRG +"}]
["F","SEST","RAL","NC",385864,"BERRUYER","Amelie",1997,53,"A.C. SAINT MARCELLIN","F",-40,-40,-40,{"$f":"IF(H13=\"\",\"\",IF(MAXA(L13:N13)<=0,0,MAXA(L13:N13)))","v":0},"-","-","-",{"$f":"IF(H13=\"\",\"\",IF(MAXA(P13:R13)<=0,0,MAXA(P13:R13)))","v":0},{"$f":"IF(H13=\"\",\"\",IF(OR(O13=0,S13=0),0,O13+S13))","v":0},{"$f":"T13-I13*2","v":-106},{"$f":"IF(H13=\"\",\"\",AQ13)","v":"DEB "},{"$f":"IF(AJ13>=0,AJ13,IF(AI13>=0,AI13,IF(AH13>=0,AH13,IF(AG13>=0,AG13,IF(AF13>=0,AF13,IF(AE13>=0,AE13,IF(AD13>=0,AD13,IF(AC13>=0,AC13,AB13))))))))","v":-55},{"$f":"IF(I13=\"\",\"\",IF(A13=\"H\",IF(OR(H13=\"SEN\",H13<1995),VLOOKUP(I13,Feuil1!$A$11:$F$29,6),IF(AND(H13>1994,H13<1998),VLOOKUP(I13,Feuil1!$A$11:$F$29,5),IF(AND(H13>1997,H13<2000),VLOOKUP(I13,Feuil1!$A$11:$F$29,4),IF(AND(H13>1999,H13<2002),VLOOKUP(I13,Feuil1!$A$11:$F$29,3),VLOOKUP(I13,Feuil1!$A$11:$F$29,2))))),IF(OR(H13=\"SEN\",H13<1995),VLOOKUP(I13,Feuil1!$G$11:$L$25,6),IF(AND(H13>1994,H13<1998),VLOOKUP(I13,Feuil1!$G$11:$L$25,5),IF(AND(H13>1997,H13<2000),VLOOKUP(I13,Feuil1!$G$11:$L$25,4),IF(AND(H13>1999,H13<2002),VLOOKUP(I13,Feuil1!$G$11:$L$25,3),VLOOKUP(I13,Feuil1!$G$11:$L$25,2)))))))","v":"FJ53"},{"$f":"IF(I13=\"\",\"\",IF(A13=\"H\",10^(0.794358141*LOG(I13/174.393)^2)*T13,IF(A13=\"F\",10^(0.89726074*LOG(I13/148.026)^2)*T13,\"\")))","v":0},null," ",{"$f":"T13-HLOOKUP(X13,Feuil1!$C$1:$BL$10,2,FALSE)","v":-55},{"$f":"T13-HLOOKUP(X13,Feuil1!$C$1:$BL$10,3,FALSE)","v":-65},{"$f":"T13-HLOOKUP(X13,Feuil1!$C$1:$BL$10,4,FALSE)","v":-75},{"$f":"T13-HLOOKUP(X13,Feuil1!$C$1:$BL$10,5,FALSE)","v":-85},{"$f":"T13-HLOOKUP(X13,Feuil1!$C$1:$BL$10,6,FALSE)","v":-95},{"$f":"T13-HLOOKUP(X13,Feuil1!$C$1:$BL$10,7,FALSE)","v":-105},{"$f":"T13-HLOOKUP(X13,Feuil1!$C$1:$BL$10,8,FALSE)","v":-120},{"$f":"T13-HLOOKUP(X13,Feuil1!$C$1:$BL$10,9,FALSE)","v":-135},{"$f":"T13-HLOOKUP(X13,Feuil1!$C$1:$BL$10,10,FALSE)","v":-1000},null,null,null,null,null,null,{"$f":"IF(AJ13>=0,$AJ$4,IF(AI13>=0,$AI$4,IF(AH13>=0,$AH$4,IF(AG13>=0,$AG$4,IF(AF13>=0,$AF$4,IF(AE13>=0,$AE$4,IF(AD13>=0,$AD$4,IF(AC13>=0,$AC$4,$AB$4))))))))","v":"DEB "}]
[]
["F","SEST","RAL",1,171425,"HOSTALIER","Melinda",1997,55.6,"H.C. ST BALDOPH","F",50,54,55,{"$f":"IF(H15=\"\",\"\",IF(MAXA(L15:N15)<=0,0,MAXA(L15:N15)))","v":55},67,-70,71,{"$f":"IF(H15=\"\",\"\",IF(MAXA(P15:R15)<=0,0,MAXA(P15:R15)))","v":71},{"$f":"IF(H15=\"\",\"\",IF(OR(O15=0,S15=0),0,O15+S15))","v":126},{"$f":"T15-I15*2","v":14.799999999999997},{"$f":"IF(H15=\"\",\"\",AQ15)","v":"NAT +"},{"$f":"IF(AJ15>=0,AJ15,IF(AI15>=0,AI15,IF(AH15>=0,AH15,IF(AG15>=0,AG15,IF(AF15>=0,AF15,IF(AE15>=0,AE15,IF(AD15>=0,AD15,IF(AC15>=0,AC15,AB15))))))))","v":11},{"$f":"IF(I15=\"\",\"\",IF(A15=\"H\",IF(OR(H15=\"SEN\",H15<1995),VLOOKUP(I15,Feuil1!$A$11:$F$29,6),IF(AND(H15>1994,H15<1998),VLOOKUP(I15,Feuil1!$A$11:$F$29,5),IF(AND(H15>1997,H15<2000),VLOOKUP(I15,Feuil1!$A$11:$F$29,4),IF(AND(H15>1999,H15<2002),VLOOKUP(I15,Feuil1!$A$11:$F$29,3),VLOOKUP(I15,Feuil1!$A$11:$F$29,2))))),IF(OR(H15=\"SEN\",H15<1995),VLOOKUP(I15,Feuil1!$G$11:$L$25,6),IF(AND(H15>1994,H15<1998),VLOOKUP(I15,Feuil1!$G$11:$L$25,5),IF(AND(H15>1997,H15<2000),VLOOKUP(I15,Feuil1!$G$11:$L$25,4),IF(AND(H15>1999,H15<2002),VLOOKUP(I15,Feuil1!$G$11:$L$25,3),VLOOKUP(I15,Feuil1!$G$11:$L$25,2)))))))","v":"FJ58"},{"$f":"IF(I15=\"\",\"\",IF(A15=\"H\",10^(0.794358141*LOG(I15/174.393)^2)*T15,IF(A15=\"F\",10^(0.89726074*LOG(I15/148.026)^2)*T15,\"\")))","v":183.07922816396959},null," ",{"$f":"T15-HLOOKUP(X15,Feuil1!$C$1:$BL$10,2,FALSE)","v":66},{"$f":"T15-HLOOKUP(X15,Feuil1!$C$1:$BL$10,3,FALSE)","v":56},{"$f":"T15-HLOOKUP(X15,Feuil1!$C$1:$BL$10,4,FALSE)","v":46},{"$f":"T15-HLOOKUP(X15,Feuil1!$C$1:$BL$10,5,FALSE)","v":36},{"$f":"T15-HLOOKUP(X15,Feuil1!$C$1:$BL$10,6,FALSE)","v":26},{"$f":"T15-HLOOKUP(X15,Feuil1!$C$1:$BL$10,7,FALSE)","v":11},{"$f":"T15-HLOOKUP(X15,Feuil1!$C$1:$BL$10,8,FALSE)","v":-4},{"$f":"T15-HLOOKUP(X15,Feuil1!$C$1:$BL$10,9,FALSE)","v":-24},{"$f":"T15-HLOOKUP(X15,Feuil1!$C$1:$BL$10,10,FALSE)","v":-874},null,null,null,null,null,null,{"$f":"IF(AJ15>=0,$AJ$4,IF(AI15>=0,$AI$4,IF(AH15>=0,$AH$4,IF(AG15>=0,$AG$4,IF(AF15>=0,$AF$4,IF(AE15>=0,$AE$4,IF(AD15>=0,$AD$4,IF(AC15>=0,$AC$4,$AB$4))))))))","v":"NAT +"}]
["F","Nord","PIC",2,140592,"ARANJO","Caroline",1995,57.3,"Villers-Bretonneux KC","F",53,-56,-56,53,65,68,-71,68,121,6.4000000000000057,"NAT +",6,{"$f":"IF(I16=\"\",\"\",IF(A16=\"H\",IF(OR(H16=\"SEN\",H16<1995),VLOOKUP(I16,Feuil1!$A$11:$F$29,6),IF(AND(H16>1994,H16<1998),VLOOKUP(I16,Feuil1!$A$11:$F$29,5),IF(AND(H16>1997,H16<2000),VLOOKUP(I16,Feuil1!$A$11:$F$29,4),IF(AND(H16>1999,H16<2002),VLOOKUP(I16,Feuil1!$A$11:$F$29,3),VLOOKUP(I16,Feuil1!$A$11:$F$29,2))))),IF(OR(H16=\"SEN\",H16<1995),VLOOKUP(I16,Feuil1!$G$11:$L$25,6),IF(AND(H16>1994,H16<1998),VLOOKUP(I16,Feuil1!$G$11:$L$25,5),IF(AND(H16>1997,H16<2000),VLOOKUP(I16,Feuil1!$G$11:$L$25,4),IF(AND(H16>1999,H16<2002),VLOOKUP(I16,Feuil1!$G$11:$L$25,3),VLOOKUP(I16,Feuil1!$G$11:$L$25,2)))))))","v":"FJ58"},171.88010467288413,null," ",{"$f":"T16-HLOOKUP(X16,Feuil1!$C$1:$BL$10,2,FALSE)","v":61},{"$f":"T16-HLOOKUP(X16,Feuil1!$C$1:$BL$10,3,FALSE)","v":51},{"$f":"T16-HLOOKUP(X16,Feuil1!$C$1:$BL$10,4,FALSE)","v":41},{"$f":"T16-HLOOKUP(X16,Feuil1!$C$1:$BL$10,5,FALSE)","v":31},{"$f":"T16-HLOOKUP(X16,Feuil1!$C$1:$BL$10,6,FALSE)","v":21},{"$f":"T16-HLOOKUP(X16,Feuil1!$C$1:$BL$10,7,FALSE)","v":6},{"$f":"T16-HLOOKUP(X16,Feuil1!$C$1:$BL$10,8,FALSE)","v":-9},{"$f":"T16-HLOOKUP(X16,Feuil1!$C$1:$BL$10,9,FALSE)","v":-29},{"$f":"T16-HLOOKUP(X16,Feuil1!$C$1:$BL$10,10,FALSE)","v":-879},null,null,null,null,null,null,"NAT +"]
["F","CO","BRE",3,146079,"DEBIAIS","Joanna",1996,57.8,"ES Saint Avé","F",48,-52,52,52,58,63,"-",63,115,-0.59999999999999432,"NAT +",0,{"$f":"IF(I17=\"\",\"\",IF(A17=\"H\",IF(OR(H17=\"SEN\",H17<1995),VLOOKUP(I17,Feuil1!$A$11:$F$29,6),IF(AND(H17>1994,H17<1998),VLOOKUP(I17,Feuil1!$A$11:$F$29,5),IF(AND(H17>1997,H17<2000),VLOOKUP(I17,Feuil1!$A$11:$F$29,4),IF(AND(H17>1999,H17<2002),VLOOKUP(I17,Feuil1!$A$11:$F$29,3),VLOOKUP(I17,Feuil1!$A$11:$F$29,2))))),IF(OR(H17=\"SEN\",H17<1995),VLOOKUP(I17,Feuil1!$G$11:$L$25,6),IF(AND(H17>1994,H17<1998),VLOOKUP(I17,Feuil1!$G$11:$L$25,5),IF(AND(H17>1997,H17<2000),VLOOKUP(I17,Feuil1!$G$11:$L$25,4),IF(AND(H17>1999,H17<2002),VLOOKUP(I17,Feuil1!$G$11:$L$25,3),VLOOKUP(I17,Feuil1!$G$11:$L$25,2)))))))","v":"FJ58"},162.31546926552289,null," ",{"$f":"T17-HLOOKUP(X17,Feuil1!$C$1:$BL$10,2,FALSE)","v":55},{"$f":"T17-HLOOKUP(X17,Feuil1!$C$1:$BL$10,3,FALSE)","v":45},{"$f":"T17-HLOOKUP(X17,Feuil1!$C$1:$BL$10,4,FALSE)","v":35},{"$f":"T17-HLOOKUP(X17,Feuil1!$C$1:$BL$10,5,FALSE)","v":25},{"$f":"T17-HLOOKUP(X17,Feuil1!$C$1:$BL$10,6,FALSE)","v":15},{"$f":"T17-HLOOKUP(X17,Feuil1!$C$1:$BL$10,7,FALSE)","v":0},{"$f":"T17-HLOOKUP(X17,Feuil1!$C$1:$BL$10,8,FALSE)","v":-15},{"$f":"T17-HLOOKUP(X17,Feuil1!$C$1:$BL$10,9,FALSE)","v":-35},{"$f":"T17-HLOOKUP(X17,Feuil1!$C$1:$BL$10,10,FALSE)","v":-885},null,null,null,null,null,null,"NAT +"]
["F","CO","BRE",4,389192,"RAHARISOA","Karen",1997,57.35,"AL Quimper","F",42,45,-47,45,55,58,60,60,105,-9.7000000000000028,"FED +",5,{"$f":"IF(I18=\"\",\"\",IF(A18=\"H\",IF(OR(H18=\"SEN\",H18<1995),VLOOKUP(I18,Feuil1!$A$11:$F$29,6),IF(AND(H18>1994,H18<1998),VLOOKUP(I18,Feuil1!$A$11:$F$29,5),IF(AND(H18>1997,H18<2000),VLOOKUP(I18,Feuil1!$A$11:$F$29,4),IF(AND(H18>1999,H18<2002),VLOOKUP(I18,Feuil1!$A$11:$F$29,3),VLOOKUP(I18,Feuil1!$A$11:$F$29,2))))),IF(OR(H18=\"SEN\",H18<1995),VLOOKUP(I18,Feuil1!$G$11:$L$25,6),IF(AND(H18>1994,H18<1998),VLOOKUP(I18,Feuil1!$G$11:$L$25,5),IF(AND(H18>1997,H18<2000),VLOOKUP(I18,Feuil1!$G$11:$L$25,4),IF(AND(H18>1999,H18<2002),VLOOKUP(I18,Feuil1!$G$11:$L$25,3),VLOOKUP(I18,Feuil1!$G$11:$L$25,2)))))))","v":"FJ58"},149.05600567915937,null," ",{"$f":"T18-HLOOKUP(X18,Feuil1!$C$1:$BL$10,2,FALSE)","v":45},{"$f":"T18-HLOOKUP(X18,Feuil1!$C$1:$BL$10,3,FALSE)","v":35},{"$f":"T18-HLOOKUP(X18,Feuil1!$C$1:$BL$10,4,FALSE)","v":25},{"$f":"T18-HLOOKUP(X18,Feuil1!$C$1:$BL$10,5,FALSE)","v":15},{"$f":"T18-HLOOKUP(X18,Feuil1!$C$1:$BL$10,6,FALSE)","v":5},{"$f":"T18-HLOOKUP(X18,Feuil1!$C$1:$BL$10,7,FALSE)","v":-10},{"$f":"T18-HLOOKUP(X18,Feuil1!$C$1:$BL$10,8,FALSE)","v":-25},{"$f":"T18-HLOOKUP(X18,Feuil1!$C$1:$BL$10,9,FALSE)","v":-45},{"$f":"T18-HLOOKUP(X18,Feuil1!$C$1:$BL$10,10,FALSE)","v":-895},null,null,null,null,null,null,"FED +"]
["F","Nord","PIC",5,309751,"SEIGNEUR","Manon",1995,53.7,"Villers-Bretonneux KC","F",45,49,-52,49,55,-62,-68,55,104,-3.4000000000000057,"FED +",4,{"$f":"IF(I19=\"\",\"\",IF(A19=\"H\",IF(OR(H19=\"SEN\",H19<1995),VLOOKUP(I19,Feuil1!$A$11:$F$29,6),IF(AND(H19>1994,H19<1998),VLOOKUP(I19,Feuil1!$A$11:$F$29,5),IF(AND(H19>1997,H19<2000),VLOOKUP(I19,Feuil1!$A$11:$F$29,4),IF(AND(H19>1999,H19<2002),VLOOKUP(I19,Feuil1!$A$11:$F$29,3),VLOOKUP(I19,Feuil1!$A$11:$F$29,2))))),IF(OR(H19=\"SEN\",H19<1995),VLOOKUP(I19,Feuil1!$G$11:$L$25,6),IF(AND(H19>1994,H19<1998),VLOOKUP(I19,Feuil1!$G$11:$L$25,5),IF(AND(H19>1997,H19<2000),VLOOKUP(I19,Feuil1!$G$11:$L$25,4),IF(AND(H19>1999,H19<2002),VLOOKUP(I19,Feuil1!$G$11:$L$25,3),VLOOKUP(I19,Feuil1!$G$11:$L$25,2)))))))","v":"FJ58"},155.24954110355273,null," ",{"$f":"T19-HLOOKUP(X19,Feuil1!$C$1:$BL$10,2,FALSE)","v":44},{"$f":"T19-HLOOKUP(X19,Feuil1!$C$1:$BL$10,3,FALSE)","v":34},{"$f":"T19-HLOOKUP(X19,Feuil1!$C$1:$BL$10,4,FALSE)","v":24},{"$f":"T19-HLOOKUP(X19,Feuil1!$C$1:$BL$10,5,FALSE)","v":14},{"$f":"T19-HLOOKUP(X19,Feuil1!$C$1:$BL$10,6,FALSE)","v":4},{"$f":"T19-HLOOKUP(X19,Feuil1!$C$1:$BL$10,7,FALSE)","v":-11},{"$f":"T19-HLOOKUP(X19,Feuil1!$C$1:$BL$10,8,FALSE)","v":-26},{"$f":"T19-HLOOKUP(X19,Feuil1!$C$1:$BL$10,9,FALSE)","v":-46},{"$f":"T19-HLOOKUP(X19,Feuil1!$C$1:$BL$10,10,FALSE)","v":-896},null,null,null,null,null,null,"FED +"]
["F","NE","BOU",6,154500,"LAMBERT","Cécile",1995,54.8,"HC Saint Honoré les Bains","F",45,47,-49,47,53,55,57,57,104,-5.5999999999999943,"FED +",4,{"$f":"IF(I20=\"\",\"\",IF(A20=\"H\",IF(OR(H20=\"SEN\",H20<1995),VLOOKUP(I20,Feuil1!$A$11:$F$29,6),IF(AND(H20>1994,H20<1998),VLOOKUP(I20,Feuil1!$A$11:$F$29,5),IF(AND(H20>1997,H20<2000),VLOOKUP(I20,Feuil1!$A$11:$F$29,4),IF(AND(H20>1999,H20<2002),VLOOKUP(I20,Feuil1!$A$11:$F$29,3),VLOOKUP(I20,Feuil1!$A$11:$F$29,2))))),IF(OR(H20=\"SEN\",H20<1995),VLOOKUP(I20,Feuil1!$G$11:$L$25,6),IF(AND(H20>1994,H20<1998),VLOOKUP(I20,Feuil1!$G$11:$L$25,5),IF(AND(H20>1997,H20<2000),VLOOKUP(I20,Feuil1!$G$11:$L$25,4),IF(AND(H20>1999,H20<2002),VLOOKUP(I20,Feuil1!$G$11:$L$25,3),VLOOKUP(I20,Feuil1!$G$11:$L$25,2)))))))","v":"FJ58"},152.80614524351961,null," ",{"$f":"T20-HLOOKUP(X20,Feuil1!$C$1:$BL$10,2,FALSE)","v":44},{"$f":"T20-HLOOKUP(X20,Feuil1!$C$1:$BL$10,3,FALSE)","v":34},{"$f":"T20-HLOOKUP(X20,Feuil1!$C$1:$BL$10,4,FALSE)","v":24},{"$f":"T20-HLOOKUP(X20,Feuil1!$C$1:$BL$10,5,FALSE)","v":14},{"$f":"T20-HLOOKUP(X20,Feuil1!$C$1:$BL$10,6,FALSE)","v":4},{"$f":"T20-HLOOKUP(X20,Feuil1!$C$1:$BL$10,7,FALSE)","v":-11},{"$f":"T20-HLOOKUP(X20,Feuil1!$C$1:$BL$10,8,FALSE)","v":-26},{"$f":"T20-HLOOKUP(X20,Feuil1!$C$1:$BL$10,9,FALSE)","v":-46},{"$f":"T20-HLOOKUP(X20,Feuil1!$C$1:$BL$10,10,FALSE)","v":-896},null,null,null,null,null,null,"FED +"]
["F","Nord","NPC",7,345628,"HENIN","Manon",1995,55.97,"Berck sur Mer","F",42,45,-47,45,55,57,-60,57,102,-9.9399999999999977,"FED +",2,{"$f":"IF(I21=\"\",\"\",IF(A21=\"H\",IF(OR(H21=\"SEN\",H21<1995),VLOOKUP(I21,Feuil1!$A$11:$F$29,6),IF(AND(H21>1994,H21<1998),VLOOKUP(I21,Feuil1!$A$11:$F$29,5),IF(AND(H21>1997,H21<2000),VLOOKUP(I21,Feuil1!$A$11:$F$29,4),IF(AND(H21>1999,H21<2002),VLOOKUP(I21,Feuil1!$A$11:$F$29,3),VLOOKUP(I21,Feuil1!$A$11:$F$29,2))))),IF(OR(H21=\"SEN\",H21<1995),VLOOKUP(I21,Feuil1!$G$11:$L$25,6),IF(AND(H21>1994,H21<1998),VLOOKUP(I21,Feuil1!$G$11:$L$25,5),IF(AND(H21>1997,H21<2000),VLOOKUP(I21,Feuil1!$G$11:$L$25,4),IF(AND(H21>1999,H21<2002),VLOOKUP(I21,Feuil1!$G$11:$L$25,3),VLOOKUP(I21,Feuil1!$G$11:$L$25,2)))))))","v":"FJ58"},147.46124506787385,null," ",{"$f":"T21-HLOOKUP(X21,Feuil1!$C$1:$BL$10,2,FALSE)","v":42},{"$f":"T21-HLOOKUP(X21,Feuil1!$C$1:$BL$10,3,FALSE)","v":32},{"$f":"T21-HLOOKUP(X21,Feuil1!$C$1:$BL$10,4,FALSE)","v":22},{"$f":"T21-HLOOKUP(X21,Feuil1!$C$1:$BL$10,5,FALSE)","v":12},{"$f":"T21-HLOOKUP(X21,Feuil1!$C$1:$BL$10,6,FALSE)","v":2},{"$f":"T21-HLOOKUP(X21,Feuil1!$C$1:$BL$10,7,FALSE)","v":-13},{"$f":"T21-HLOOKUP(X21,Feuil1!$C$1:$BL$10,8,FALSE)","v":-28},{"$f":"T21-HLOOKUP(X21,Feuil1!$C$1:$BL$10,9,FALSE)","v":-48},{"$f":"T21-HLOOKUP(X21,Feuil1!$C$1:$BL$10,10,FALSE)","v":-898},null,null,null,null,null,null,"FED +"]
["F","NE","ALS",8,327036,"HELL","Marine",1997,57.7,"US Wittenheim","F",43,45,47,47,50,53,-56,53,100,-15.400000000000006,"FED +",0,{"$f":"IF(I22=\"\",\"\",IF(A22=\"H\",IF(OR(H22=\"SEN\",H22<1995),VLOOKUP(I22,Feuil1!$A$11:$F$29,6),IF(AND(H22>1994,H22<1998),VLOOKUP(I22,Feuil1!$A$11:$F$29,5),IF(AND(H22>1997,H22<2000),VLOOKUP(I22,Feuil1!$A$11:$F$29,4),IF(AND(H22>1999,H22<2002),VLOOKUP(I22,Feuil1!$A$11:$F$29,3),VLOOKUP(I22,Feuil1!$A$11:$F$29,2))))),IF(OR(H22=\"SEN\",H22<1995),VLOOKUP(I22,Feuil1!$G$11:$L$25,6),IF(AND(H22>1994,H22<1998),VLOOKUP(I22,Feuil1!$G$11:$L$25,5),IF(AND(H22>1997,H22<2000),VLOOKUP(I22,Feuil1!$G$11:$L$25,4),IF(AND(H22>1999,H22<2002),VLOOKUP(I22,Feuil1!$G$11:$L$25,3),VLOOKUP(I22,Feuil1!$G$11:$L$25,2)))))))","v":"FJ58"},141.3232898205431,null," ",{"$f":"T22-HLOOKUP(X22,Feuil1!$C$1:$BL$10,2,FALSE)","v":40},{"$f":"T22-HLOOKUP(X22,Feuil1!$C$1:$BL$10,3,FALSE)","v":30},{"$f":"T22-HLOOKUP(X22,Feuil1!$C$1:$BL$10,4,FALSE)","v":20},{"$f":"T22-HLOOKUP(X22,Feuil1!$C$1:$BL$10,5,FALSE)","v":10},{"$f":"T22-HLOOKUP(X22,Feuil1!$C$1:$BL$10,6,FALSE)","v":0},{"$f":"T22-HLOOKUP(X22,Feuil1!$C$1:$BL$10,7,FALSE)","v":-15},{"$f":"T22-HLOOKUP(X22,Feuil1!$C$1:$BL$10,8,FALSE)","v":-30},{"$f":"T22-HLOOKUP(X22,Feuil1!$C$1:$BL$10,9,FALSE)","v":-50},{"$f":"T22-HLOOKUP(X22,Feuil1!$C$1:$BL$10,10,FALSE)","v":-900},null,null,null,null,null,null,"FED +"]
["F","SEST","RAL",9,142218,"MONTORIER","Clara",1997,57.62,"O.S. ST QUENTIN FALLAVIER","F",40,-43,43,43,50,-54,-54,50,93,-22.239999999999995,"IRG +",3,{"$f":"IF(I23=\"\",\"\",IF(A23=\"H\",IF(OR(H23=\"SEN\",H23<1995),VLOOKUP(I23,Feuil1!$A$11:$F$29,6),IF(AND(H23>1994,H23<1998),VLOOKUP(I23,Feuil1!$A$11:$F$29,5),IF(AND(H23>1997,H23<2000),VLOOKUP(I23,Feuil1!$A$11:$F$29,4),IF(AND(H23>1999,H23<2002),VLOOKUP(I23,Feuil1!$A$11:$F$29,3),VLOOKUP(I23,Feuil1!$A$11:$F$29,2))))),IF(OR(H23=\"SEN\",H23<1995),VLOOKUP(I23,Feuil1!$G$11:$L$25,6),IF(AND(H23>1994,H23<1998),VLOOKUP(I23,Feuil1!$G$11:$L$25,5),IF(AND(H23>1997,H23<2000),VLOOKUP(I23,Feuil1!$G$11:$L$25,4),IF(AND(H23>1999,H23<2002),VLOOKUP(I23,Feuil1!$G$11:$L$25,3),VLOOKUP(I23,Feuil1!$G$11:$L$25,2)))))))","v":"FJ58"},131.56471894997401,null," ",{"$f":"T23-HLOOKUP(X23,Feuil1!$C$1:$BL$10,2,FALSE)","v":33},{"$f":"T23-HLOOKUP(X23,Feuil1!$C$1:$BL$10,3,FALSE)","v":23},{"$f":"T23-HLOOKUP(X23,Feuil1!$C$1:$BL$10,4,FALSE)","v":13},{"$f":"T23-HLOOKUP(X23,Feuil1!$C$1:$BL$10,5,FALSE)","v":3},{"$f":"T23-HLOOKUP(X23,Feuil1!$C$1:$BL$10,6,FALSE)","v":-7},{"$f":"T23-HLOOKUP(X23,Feuil1!$C$1:$BL$10,7,FALSE)","v":-22},{"$f":"T23-HLOOKUP(X23,Feuil1!$C$1:$BL$10,8,FALSE)","v":-37},{"$f":"T23-HLOOKUP(X23,Feuil1!$C$1:$BL$10,9,FALSE)","v":-57},{"$f":"T23-HLOOKUP(X23,Feuil1!$C$1:$BL$10,10,FALSE)","v":-907},null,null,null,null,null,null,"IRG +"]
["F","Nord","NPC",10,211905,"FREMAUX","Julie",1995,54.6,"CHCD Comines","F",30,33,-36,33,-43,43,"-",43,76,-33.200000000000003,"DEP +",6,{"$f":"IF(I24=\"\",\"\",IF(A24=\"H\",IF(OR(H24=\"SEN\",H24<1995),VLOOKUP(I24,Feuil1!$A$11:$F$29,6),IF(AND(H24>1994,H24<1998),VLOOKUP(I24,Feuil1!$A$11:$F$29,5),IF(AND(H24>1997,H24<2000),VLOOKUP(I24,Feuil1!$A$11:$F$29,4),IF(AND(H24>1999,H24<2002),VLOOKUP(I24,Feuil1!$A$11:$F$29,3),VLOOKUP(I24,Feuil1!$A$11:$F$29,2))))),IF(OR(H24=\"SEN\",H24<1995),VLOOKUP(I24,Feuil1!$G$11:$L$25,6),IF(AND(H24>1994,H24<1998),VLOOKUP(I24,Feuil1!$G$11:$L$25,5),IF(AND(H24>1997,H24<2000),VLOOKUP(I24,Feuil1!$G$11:$L$25,4),IF(AND(H24>1999,H24<2002),VLOOKUP(I24,Feuil1!$G$11:$L$25,3),VLOOKUP(I24,Feuil1!$G$11:$L$25,2)))))))","v":"FJ58"},111.98325312288802,null," ",{"$f":"T24-HLOOKUP(X24,Feuil1!$C$1:$BL$10,2,FALSE)","v":16},{"$f":"T24-HLOOKUP(X24,Feuil1!$C$1:$BL$10,3,FALSE)","v":6},{"$f":"T24-HLOOKUP(X24,Feuil1!$C$1:$BL$10,4,FALSE)","v":-4},{"$f":"T24-HLOOKUP(X24,Feuil1!$C$1:$BL$10,5,FALSE)","v":-14},{"$f":"T24-HLOOKUP(X24,Feuil1!$C$1:$BL$10,6,FALSE)","v":-24},{"$f":"T24-HLOOKUP(X24,Feuil1!$C$1:$BL$10,7,FALSE)","v":-39},{"$f":"T24-HLOOKUP(X24,Feuil1!$C$1:$BL$10,8,FALSE)","v":-54},{"$f":"T24-HLOOKUP(X24,Feuil1!$C$1:$BL$10,9,FALSE)","v":-74},{"$f":"T24-HLOOKUP(X24,Feuil1!$C$1:$BL$10,10,FALSE)","v":-924},null,null,null,null,null,null,"DEP +"]
["F","Nord","NPC","NC",192187,"BAERT","Blandine",1995,54.03,"CHCD Comines","F",-42,42,-44,42,-52,-53,-53,0,0,-108.06,"DEB ",-60,{"$f":"IF(I25=\"\",\"\",IF(A25=\"H\",IF(OR(H25=\"SEN\",H25<1995),VLOOKUP(I25,Feuil1!$A$11:$F$29,6),IF(AND(H25>1994,H25<1998),VLOOKUP(I25,Feuil1!$A$11:$F$29,5),IF(AND(H25>1997,H25<2000),VLOOKUP(I25,Feuil1!$A$11:$F$29,4),IF(AND(H25>1999,H25<2002),VLOOKUP(I25,Feuil1!$A$11:$F$29,3),VLOOKUP(I25,Feuil1!$A$11:$F$29,2))))),IF(OR(H25=\"SEN\",H25<1995),VLOOKUP(I25,Feuil1!$G$11:$L$25,6),IF(AND(H25>1994,H25<1998),VLOOKUP(I25,Feuil1!$G$11:$L$25,5),IF(AND(H25>1997,H25<2000),VLOOKUP(I25,Feuil1!$G$11:$L$25,4),IF(AND(H25>1999,H25<2002),VLOOKUP(I25,Feuil1!$G$11:$L$25,3),VLOOKUP(I25,Feuil1!$G$11:$L$25,2)))))))","v":"FJ58"},0,null," ",{"$f":"T25-HLOOKUP(X25,Feuil1!$C$1:$BL$10,2,FALSE)","v":-60},{"$f":"T25-HLOOKUP(X25,Feuil1!$C$1:$BL$10,3,FALSE)","v":-70},{"$f":"T25-HLOOKUP(X25,Feuil1!$C$1:$BL$10,4,FALSE)","v":-80},{"$f":"T25-HLOOKUP(X25,Feuil1!$C$1:$BL$10,5,FALSE)","v":-90},{"$f":"T25-HLOOKUP(X25,Feuil1!$C$1:$BL$10,6,FALSE)","v":-100},{"$f":"T25-HLOOKUP(X25,Feuil1!$C$1:$BL$10,7,FALSE)","v":-115},{"$f":"T25-HLOOKUP(X25,Feuil1!$C$1:$BL$10,8,FALSE)","v":-130},{"$f":"T25-HLOOKUP(X25,Feuil1!$C$1:$BL$10,9,FALSE)","v":-150},{"$f":"T25-HLOOKUP(X25,Feuil1!$C$1:$BL$10,10,FALSE)","v":-1000},null,null,null,null,null,null,"DEB "]
[]
["F","NE","CHA",1,274946,"GROSJEAN","Loriane",1997,61.8,"Langres HM","F",57,60,-63,{"$f":"IF(H27=\"\",\"\",IF(MAXA(L27:N27)<=0,0,MAXA(L27:N27)))","v":60},70,74,77,{"$f":"IF(H27=\"\",\"\",IF(MAXA(P27:R27)<=0,0,MAXA(P27:R27)))","v":77},{"$f":"IF(H27=\"\",\"\",IF(OR(O27=0,S27=0),0,O27+S27))","v":137},{"$f":"T27-I27*2","v":13.400000000000006},{"$f":"IF(H27=\"\",\"\",AQ27)","v":"NAT +"},{"$f":"IF(AJ27>=0,AJ27,IF(AI27>=0,AI27,IF(AH27>=0,AH27,IF(AG27>=0,AG27,IF(AF27>=0,AF27,IF(AE27>=0,AE27,IF(AD27>=0,AD27,IF(AC27>=0,AC27,AB27))))))))","v":12},{"$f":"IF(I27=\"\",\"\",IF(A27=\"H\",IF(OR(H27=\"SEN\",H27<1995),VLOOKUP(I27,Feuil1!$A$11:$F$29,6),IF(AND(H27>1994,H27<1998),VLOOKUP(I27,Feuil1!$A$11:$F$29,5),IF(AND(H27>1997,H27<2000),VLOOKUP(I27,Feuil1!$A$11:$F$29,4),IF(AND(H27>1999,H27<2002),VLOOKUP(I27,Feuil1!$A$11:$F$29,3),VLOOKUP(I27,Feuil1!$A$11:$F$29,2))))),IF(OR(H27=\"SEN\",H27<1995),VLOOKUP(I27,Feuil1!$G$11:$L$25,6),IF(AND(H27>1994,H27<1998),VLOOKUP(I27,Feuil1!$G$11:$L$25,5),IF(AND(H27>1997,H27<2000),VLOOKUP(I27,Feuil1!$G$11:$L$25,4),IF(AND(H27>1999,H27<2002),VLOOKUP(I27,Feuil1!$G$11:$L$25,3),VLOOKUP(I27,Feuil1!$G$11:$L$25,2)))))))","v":"FJ63"},{"$f":"IF(I27=\"\",\"\",IF(A27=\"H\",10^(0.794358141*LOG(I27/174.393)^2)*T27,IF(A27=\"F\",10^(0.89726074*LOG(I27/148.026)^2)*T27,\"\")))","v":184.43435844968781},null," ",{"$f":"T27-HLOOKUP(X27,Feuil1!$C$1:$BL$10,2,FALSE)","v":72},{"$f":"T27-HLOOKUP(X27,Feuil1!$C$1:$BL$10,3,FALSE)","v":62},{"$f":"T27-HLOOKUP(X27,Feuil1!$C$1:$BL$10,4,FALSE)","v":52},{"$f":"T27-HLOOKUP(X27,Feuil1!$C$1:$BL$10,5,FALSE)","v":42},{"$f":"T27-HLOOKUP(X27,Feuil1!$C$1:$BL$10,6,FALSE)","v":27},{"$f":"T27-HLOOKUP(X27,Feuil1!$C$1:$BL$10,7,FALSE)","v":12},{"$f":"T27-HLOOKUP(X27,Feuil1!$C$1:$BL$10,8,FALSE)","v":-3},{"$f":"T27-HLOOKUP(X27,Feuil1!$C$1:$BL$10,9,FALSE)","v":-23},{"$f":"T27-HLOOKUP(X27,Feuil1!$C$1:$BL$10,10,FALSE)","v":-863},null,null,null,null,null,null,{"$f":"IF(AJ27>=0,$AJ$4,IF(AI27>=0,$AI$4,IF(AH27>=0,$AH$4,IF(AG27>=0,$AG$4,IF(AF27>=0,$AF$4,IF(AE27>=0,$AE$4,IF(AD27>=0,$AD$4,IF(AC27>=0,$AC$4,$AB$4))))))))","v":"NAT +"}]
["F","SEST","PRO",2,375285,"GIRARD","Sarah",1996,62.4,"ISTRES SPORTS","F",-50,50,-55,{"$f":"IF(H28=\"\",\"\",IF(MAXA(L28:N28)<=0,0,MAXA(L28:N28)))","v":50},65,-70,-70,{"$f":"IF(H28=\"\",\"\",IF(MAXA(P28:R28)<=0,0,MAXA(P28:R28)))","v":65},{"$f":"IF(H28=\"\",\"\",IF(OR(O28=0,S28=0),0,O28+S28))","v":115},{"$f":"T28-I28*2","v":-9.7999999999999972},{"$f":"IF(H28=\"\",\"\",AQ28)","v":"FED +"},{"$f":"IF(AJ28>=0,AJ28,IF(AI28>=0,AI28,IF(AH28>=0,AH28,IF(AG28>=0,AG28,IF(AF28>=0,AF28,IF(AE28>=0,AE28,IF(AD28>=0,AD28,IF(AC28>=0,AC28,AB28))))))))","v":5},{"$f":"IF(I28=\"\",\"\",IF(A28=\"H\",IF(OR(H28=\"SEN\",H28<1995),VLOOKUP(I28,Feuil1!$A$11:$F$29,6),IF(AND(H28>1994,H28<1998),VLOOKUP(I28,Feuil1!$A$11:$F$29,5),IF(AND(H28>1997,H28<2000),VLOOKUP(I28,Feuil1!$A$11:$F$29,4),IF(AND(H28>1999,H28<2002),VLOOKUP(I28,Feuil1!$A$11:$F$29,3),VLOOKUP(I28,Feuil1!$A$11:$F$29,2))))),IF(OR(H28=\"SEN\",H28<1995),VLOOKUP(I28,Feuil1!$G$11:$L$25,6),IF(AND(H28>1994,H28<1998),VLOOKUP(I28,Feuil1!$G$11:$L$25,5),IF(AND(H28>1997,H28<2000),VLOOKUP(I28,Feuil1!$G$11:$L$25,4),IF(AND(H28>1999,H28<2002),VLOOKUP(I28,Feuil1!$G$11:$L$25,3),VLOOKUP(I28,Feuil1!$G$11:$L$25,2)))))))","v":"FJ63"},{"$f":"IF(I28=\"\",\"\",IF(A28=\"H\",10^(0.794358141*LOG(I28/174.393)^2)*T28,IF(A28=\"F\",10^(0.89726074*LOG(I28/148.026)^2)*T28,\"\")))","v":153.8078113509132},null," ",{"$f":"T28-HLOOKUP(X28,Feuil1!$C$1:$BL$10,2,FALSE)","v":50},{"$f":"T28-HLOOKUP(X28,Feuil1!$C$1:$BL$10,3,FALSE)","v":40},{"$f":"T28-HLOOKUP(X28,Feuil1!$C$1:$BL$10,4,FALSE)","v":30},{"$f":"T28-HLOOKUP(X28,Feuil1!$C$1:$BL$10,5,FALSE)","v":20},{"$f":"T28-HLOOKUP(X28,Feuil1!$C$1:$BL$10,6,FALSE)","v":5},{"$f":"T28-HLOOKUP(X28,Feuil1!$C$1:$BL$10,7,FALSE)","v":-10},{"$f":"T28-HLOOKUP(X28,Feuil1!$C$1:$BL$10,8,FALSE)","v":-25},{"$f":"T28-HLOOKUP(X28,Feuil1!$C$1:$BL$10,9,FALSE)","v":-45},{"$f":"T28-HLOOKUP(X28,Feuil1!$C$1:$BL$10,10,FALSE)","v":-885},null,null,null,null,null,null,{"$f":"IF(AJ28>=0,$AJ$4,IF(AI28>=0,$AI$4,IF(AH28>=0,$AH$4,IF(AG28>=0,$AG$4,IF(AF28>=0,$AF$4,IF(AE28>=0,$AE$4,IF(AD28>=0,$AD$4,IF(AC28>=0,$AC$4,$AB$4))))))))","v":"FED +"}]
["F","SO","AQU",3,380660,"DARMON","Mélodie",1997,62.1,"BORDEAUX ASPOM","F",38,42,-45,{"$f":"IF(H29=\"\",\"\",IF(MAXA(L29:N29)<=0,0,MAXA(L29:N29)))","v":42},-55,55,-60,{"$f":"IF(H29=\"\",\"\",IF(MAXA(P29:R29)<=0,0,MAXA(P29:R29)))","v":55},{"$f":"IF(H29=\"\",\"\",IF(OR(O29=0,S29=0),0,O29+S29))","v":97},{"$f":"T29-I29*2","v":-27.200000000000003},{"$f":"IF(H29=\"\",\"\",AQ29)","v":"IRG +"},{"$f":"IF(AJ29>=0,AJ29,IF(AI29>=0,AI29,IF(AH29>=0,AH29,IF(AG29>=0,AG29,IF(AF29>=0,AF29,IF(AE29>=0,AE29,IF(AD29>=0,AD29,IF(AC29>=0,AC29,AB29))))))))","v":2},{"$f":"IF(I29=\"\",\"\",IF(A29=\"H\",IF(OR(H29=\"SEN\",H29<1995),VLOOKUP(I29,Feuil1!$A$11:$F$29,6),IF(AND(H29>1994,H29<1998),VLOOKUP(I29,Feuil1!$A$11:$F$29,5),IF(AND(H29>1997,H29<2000),VLOOKUP(I29,Feuil1!$A$11:$F$29,4),IF(AND(H29>1999,H29<2002),VLOOKUP(I29,Feuil1!$A$11:$F$29,3),VLOOKUP(I29,Feuil1!$A$11:$F$29,2))))),IF(OR(H29=\"SEN\",H29<1995),VLOOKUP(I29,Feuil1!$G$11:$L$25,6),IF(AND(H29>1994,H29<1998),VLOOKUP(I29,Feuil1!$G$11:$L$25,5),IF(AND(H29>1997,H29<2000),VLOOKUP(I29,Feuil1!$G$11:$L$25,4),IF(AND(H29>1999,H29<2002),VLOOKUP(I29,Feuil1!$G$11:$L$25,3),VLOOKUP(I29,Feuil1!$G$11:$L$25,2)))))))","v":"FJ63"},{"$f":"IF(I29=\"\",\"\",IF(A29=\"H\",10^(0.794358141*LOG(I29/174.393)^2)*T29,IF(A29=\"F\",10^(0.89726074*LOG(I29/148.026)^2)*T29,\"\")))","v":130.15631998635217},null," ",{"$f":"T29-HLOOKUP(X29,Feuil1!$C$1:$BL$10,2,FALSE)","v":32},{"$f":"T29-HLOOKUP(X29,Feuil1!$C$1:$BL$10,3,FALSE)","v":22},{"$f":"T29-HLOOKUP(X29,Feuil1!$C$1:$BL$10,4,FALSE)","v":12},{"$f":"T29-HLOOKUP(X29,Feuil1!$C$1:$BL$10,5,FALSE)","v":2},{"$f":"T29-HLOOKUP(X29,Feuil1!$C$1:$BL$10,6,FALSE)","v":-13},{"$f":"T29-HLOOKUP(X29,Feuil1!$C$1:$BL$10,7,FALSE)","v":-28},{"$f":"T29-HLOOKUP(X29,Feuil1!$C$1:$BL$10,8,FALSE)","v":-43},{"$f":"T29-HLOOKUP(X29,Feuil1!$C$1:$BL$10,9,FALSE)","v":-63},{"$f":"T29-HLOOKUP(X29,Feuil1!$C$1:$BL$10,10,FALSE)","v":-903},null,null,null,null,null,null,{"$f":"IF(AJ29>=0,$AJ$4,IF(AI29>=0,$AI$4,IF(AH29>=0,$AH$4,IF(AG29>=0,$AG$4,IF(AF29>=0,$AF$4,IF(AE29>=0,$AE$4,IF(AD29>=0,$AD$4,IF(AC29>=0,$AC$4,$AB$4))))))))","v":"IRG +"}]
["F","DOM","REU","NC",250369,"MARKA","SEVETLANA",1997,60.96,"CSPJ St Denis","F",-50,-50,-50,{"$f":"IF(H30=\"\",\"\",IF(MAXA(L30:N30)<=0,0,MAXA(L30:N30)))","v":0},53,-57,-57,{"$f":"IF(H30=\"\",\"\",IF(MAXA(P30:R30)<=0,0,MAXA(P30:R30)))","v":53},{"$f":"IF(H30=\"\",\"\",IF(OR(O30=0,S30=0),0,O30+S30))","v":0},{"$f":"T30-I30*2","v":-121.92},{"$f":"IF(H30=\"\",\"\",AQ30)","v":"DEB "},{"$f":"IF(AJ30>=0,AJ30,IF(AI30>=0,AI30,IF(AH30>=0,AH30,IF(AG30>=0,AG30,IF(AF30>=0,AF30,IF(AE30>=0,AE30,IF(AD30>=0,AD30,IF(AC30>=0,AC30,AB30))))))))","v":-65},{"$f":"IF(I30=\"\",\"\",IF(A30=\"H\",IF(OR(H30=\"SEN\",H30<1995),VLOOKUP(I30,Feuil1!$A$11:$F$29,6),IF(AND(H30>1994,H30<1998),VLOOKUP(I30,Feuil1!$A$11:$F$29,5),IF(AND(H30>1997,H30<2000),VLOOKUP(I30,Feuil1!$A$11:$F$29,4),IF(AND(H30>1999,H30<2002),VLOOKUP(I30,Feuil1!$A$11:$F$29,3),VLOOKUP(I30,Feuil1!$A$11:$F$29,2))))),IF(OR(H30=\"SEN\",H30<1995),VLOOKUP(I30,Feuil1!$G$11:$L$25,6),IF(AND(H30>1994,H30<1998),VLOOKUP(I30,Feuil1!$G$11:$L$25,5),IF(AND(H30>1997,H30<2000),VLOOKUP(I30,Feuil1!$G$11:$L$25,4),IF(AND(H30>1999,H30<2002),VLOOKUP(I30,Feuil1!$G$11:$L$25,3),VLOOKUP(I30,Feuil1!$G$11:$L$25,2)))))))","v":"FJ63"},{"$f":"IF(I30=\"\",\"\",IF(A30=\"H\",10^(0.794358141*LOG(I30/174.393)^2)*T30,IF(A30=\"F\",10^(0.89726074*LOG(I30/148.026)^2)*T30,\"\")))","v":0},null," ",{"$f":"T30-HLOOKUP(X30,Feuil1!$C$1:$BL$10,2,FALSE)","v":-65},{"$f":"T30-HLOOKUP(X30,Feuil1!$C$1:$BL$10,3,FALSE)","v":-75},{"$f":"T30-HLOOKUP(X30,Feuil1!$C$1:$BL$10,4,FALSE)","v":-85},{"$f":"T30-HLOOKUP(X30,Feuil1!$C$1:$BL$10,5,FALSE)","v":-95},{"$f":"T30-HLOOKUP(X30,Feuil1!$C$1:$BL$10,6,FALSE)","v":-110},{"$f":"T30-HLOOKUP(X30,Feuil1!$C$1:$BL$10,7,FALSE)","v":-125},{"$f":"T30-HLOOKUP(X30,Feuil1!$C$1:$BL$10,8,FALSE)","v":-140},{"$f":"T30-HLOOKUP(X30,Feuil1!$C$1:$BL$10,9,FALSE)","v":-160},{"$f":"T30-HLOOKUP(X30,Feuil1!$C$1:$BL$10,10,FALSE)","v":-1000},null,null,null,null,null,null,{"$f":"IF(AJ30>=0,$AJ$4,IF(AI30>=0,$AI$4,IF(AH30>=0,$AH$4,IF(AG30>=0,$AG$4,IF(AF30>=0,$AF$4,IF(AE30>=0,$AE$4,IF(AD30>=0,$AD$4,IF(AC30>=0,$AC$4,$AB$4))))))))","v":"DEB "}]
[]
["F","NE","ALS",1,298196,"CERDAN","Margot",1997,67,"US Wittenheim","F",52,54,56,{"$f":"IF(H32=\"\",\"\",IF(MAXA(L32:N32)<=0,0,MAXA(L32:N32)))","v":56},73,76,-78,{"$f":"IF(H32=\"\",\"\",IF(MAXA(P32:R32)<=0,0,MAXA(P32:R32)))","v":76},{"$f":"IF(H32=\"\",\"\",IF(OR(O32=0,S32=0),0,O32+S32))","v":132},{"$f":"T32-I32*2","v":-2},{"$f":"IF(H32=\"\",\"\",AQ32)","v":"FED +"},{"$f":"IF(AJ32>=0,AJ32,IF(AI32>=0,AI32,IF(AH32>=0,AH32,IF(AG32>=0,AG32,IF(AF32>=0,AF32,IF(AE32>=0,AE32,IF(AD32>=0,AD32,IF(AC32>=0,AC32,AB32))))))))","v":12},{"$f":"IF(I32=\"\",\"\",IF(A32=\"H\",IF(OR(H32=\"SEN\",H32<1995),VLOOKUP(I32,Feuil1!$A$11:$F$29,6),IF(AND(H32>1994,H32<1998),VLOOKUP(I32,Feuil1!$A$11:$F$29,5),IF(AND(H32>1997,H32<2000),VLOOKUP(I32,Feuil1!$A$11:$F$29,4),IF(AND(H32>1999,H32<2002),VLOOKUP(I32,Feuil1!$A$11:$F$29,3),VLOOKUP(I32,Feuil1!$A$11:$F$29,2))))),IF(OR(H32=\"SEN\",H32<1995),VLOOKUP(I32,Feuil1!$G$11:$L$25,6),IF(AND(H32>1994,H32<1998),VLOOKUP(I32,Feuil1!$G$11:$L$25,5),IF(AND(H32>1997,H32<2000),VLOOKUP(I32,Feuil1!$G$11:$L$25,4),IF(AND(H32>1999,H32<2002),VLOOKUP(I32,Feuil1!$G$11:$L$25,3),VLOOKUP(I32,Feuil1!$G$11:$L$25,2)))))))","v":"FJ69"},{"$f":"IF(I32=\"\",\"\",IF(A32=\"H\",10^(0.794358141*LOG(I32/174.393)^2)*T32,IF(A32=\"F\",10^(0.89726074*LOG(I32/148.026)^2)*T32,\"\")))","v":168.62218722378319},null," ",{"$f":"T32-HLOOKUP(X32,Feuil1!$C$1:$BL$10,2,FALSE)","v":62},{"$f":"T32-HLOOKUP(X32,Feuil1!$C$1:$BL$10,3,FALSE)","v":52},{"$f":"T32-HLOOKUP(X32,Feuil1!$C$1:$BL$10,4,FALSE)","v":42},{"$f":"T32-HLOOKUP(X32,Feuil1!$C$1:$BL$10,5,FALSE)","v":27},{"$f":"T32-HLOOKUP(X32,Feuil1!$C$1:$BL$10,6,FALSE)","v":12},{"$f":"T32-HLOOKUP(X32,Feuil1!$C$1:$BL$10,7,FALSE)","v":-3},{"$f":"T32-HLOOKUP(X32,Feuil1!$C$1:$BL$10,8,FALSE)","v":-18},{"$f":"T32-HLOOKUP(X32,Feuil1!$C$1:$BL$10,9,FALSE)","v":-38},{"$f":"T32-HLOOKUP(X32,Feuil1!$C$1:$BL$10,10,FALSE)","v":-868},null,null,null,null,null,null,{"$f":"IF(AJ32>=0,$AJ$4,IF(AI32>=0,$AI$4,IF(AH32>=0,$AH$4,IF(AG32>=0,$AG$4,IF(AF32>=0,$AF$4,IF(AE32>=0,$AE$4,IF(AD32>=0,$AD$4,IF(AC32>=0,$AC$4,$AB$4))))))))","v":"FED +"}]
["F","SEST","CAZ",2,231757,"RONCO","Emmanuelle",1995,65.23,"E.S. VILLENEUVE LOUBET","F",58,62,-65,{"$f":"IF(H33=\"\",\"\",IF(MAXA(L33:N33)<=0,0,MAXA(L33:N33)))","v":62},65,-69,-71,{"$f":"IF(H33=\"\",\"\",IF(MAXA(P33:R33)<=0,0,MAXA(P33:R33)))","v":65},{"$f":"IF(H33=\"\",\"\",IF(OR(O33=0,S33=0),0,O33+S33))","v":127},{"$f":"T33-I33*2","v":-3.460000000000008},{"$f":"IF(H33=\"\",\"\",AQ33)","v":"FED +"},{"$f":"IF(AJ33>=0,AJ33,IF(AI33>=0,AI33,IF(AH33>=0,AH33,IF(AG33>=0,AG33,IF(AF33>=0,AF33,IF(AE33>=0,AE33,IF(AD33>=0,AD33,IF(AC33>=0,AC33,AB33))))))))","v":7},{"$f":"IF(I33=\"\",\"\",IF(A33=\"H\",IF(OR(H33=\"SEN\",H33<1995),VLOOKUP(I33,Feuil1!$A$11:$F$29,6),IF(AND(H33>1994,H33<1998),VLOOKUP(I33,Feuil1!$A$11:$F$29,5),IF(AND(H33>1997,H33<2000),VLOOKUP(I33,Feuil1!$A$11:$F$29,4),IF(AND(H33>1999,H33<2002),VLOOKUP(I33,Feuil1!$A$11:$F$29,3),VLOOKUP(I33,Feuil1!$A$11:$F$29,2))))),IF(OR(H33=\"SEN\",H33<1995),VLOOKUP(I33,Feuil1!$G$11:$L$25,6),IF(AND(H33>1994,H33<1998),VLOOKUP(I33,Feuil1!$G$11:$L$25,5),IF(AND(H33>1997,H33<2000),VLOOKUP(I33,Feuil1!$G$11:$L$25,4),IF(AND(H33>1999,H33<2002),VLOOKUP(I33,Feuil1!$G$11:$L$25,3),VLOOKUP(I33,Feuil1!$G$11:$L$25,2)))))))","v":"FJ69"},{"$f":"IF(I33=\"\",\"\",IF(A33=\"H\",10^(0.794358141*LOG(I33/174.393)^2)*T33,IF(A33=\"F\",10^(0.89726074*LOG(I33/148.026)^2)*T33,\"\")))","v":164.98676029456061},null," ",{"$f":"T33-HLOOKUP(X33,Feuil1!$C$1:$BL$10,2,FALSE)","v":57},{"$f":"T33-HLOOKUP(X33,Feuil1!$C$1:$BL$10,3,FALSE)","v":47},{"$f":"T33-HLOOKUP(X33,Feuil1!$C$1:$BL$10,4,FALSE)","v":37},{"$f":"T33-HLOOKUP(X33,Feuil1!$C$1:$BL$10,5,FALSE)","v":22},{"$f":"T33-HLOOKUP(X33,Feuil1!$C$1:$BL$10,6,FALSE)","v":7},{"$f":"T33-HLOOKUP(X33,Feuil1!$C$1:$BL$10,7,FALSE)","v":-8},{"$f":"T33-HLOOKUP(X33,Feuil1!$C$1:$BL$10,8,FALSE)","v":-23},{"$f":"T33-HLOOKUP(X33,Feuil1!$C$1:$BL$10,9,FALSE)","v":-43},{"$f":"T33-HLOOKUP(X33,Feuil1!$C$1:$BL$10,10,FALSE)","v":-873},null,null,null,null,null,null,{"$f":"IF(AJ33>=0,$AJ$4,IF(AI33>=0,$AI$4,IF(AH33>=0,$AH$4,IF(AG33>=0,$AG$4,IF(AF33>=0,$AF$4,IF(AE33>=0,$AE$4,IF(AD33>=0,$AD$4,IF(AC33>=0,$AC$4,$AB$4))))))))","v":"FED +"}]
["F","NE","ALS",3,348083,"LEIBUNDGUTH","Lisa",1997,68.5,"ASI Avenir HM","F",-52,-52,52,{"$f":"IF(H34=\"\",\"\",IF(MAXA(L34:N34)<=0,0,MAXA(L34:N34)))","v":52},70,73,-76,{"$f":"IF(H34=\"\",\"\",IF(MAXA(P34:R34)<=0,0,MAXA(P34:R34)))","v":73},{"$f":"IF(H34=\"\",\"\",IF(OR(O34=0,S34=0),0,O34+S34))","v":125},{"$f":"T34-I34*2","v":-12},{"$f":"IF(H34=\"\",\"\",AQ34)","v":"FED +"},{"$f":"IF(AJ34>=0,AJ34,IF(AI34>=0,AI34,IF(AH34>=0,AH34,IF(AG34>=0,AG34,IF(AF34>=0,AF34,IF(AE34>=0,AE34,IF(AD34>=0,AD34,IF(AC34>=0,AC34,AB34))))))))","v":5},{"$f":"IF(I34=\"\",\"\",IF(A34=\"H\",IF(OR(H34=\"SEN\",H34<1995),VLOOKUP(I34,Feuil1!$A$11:$F$29,6),IF(AND(H34>1994,H34<1998),VLOOKUP(I34,Feuil1!$A$11:$F$29,5),IF(AND(H34>1997,H34<2000),VLOOKUP(I34,Feuil1!$A$11:$F$29,4),IF(AND(H34>1999,H34<2002),VLOOKUP(I34,Feuil1!$A$11:$F$29,3),VLOOKUP(I34,Feuil1!$A$11:$F$29,2))))),IF(OR(H34=\"SEN\",H34<1995),VLOOKUP(I34,Feuil1!$G$11:$L$25,6),IF(AND(H34>1994,H34<1998),VLOOKUP(I34,Feuil1!$G$11:$L$25,5),IF(AND(H34>1997,H34<2000),VLOOKUP(I34,Feuil1!$G$11:$L$25,4),IF(AND(H34>1999,H34<2002),VLOOKUP(I34,Feuil1!$G$11:$L$25,3),VLOOKUP(I34,Feuil1!$G$11:$L$25,2)))))))","v":"FJ69"},{"$f":"IF(I34=\"\",\"\",IF(A34=\"H\",10^(0.794358141*LOG(I34/174.393)^2)*T34,IF(A34=\"F\",10^(0.89726074*LOG(I34/148.026)^2)*T34,\"\")))","v":157.54087735763295},null," ",{"$f":"T34-HLOOKUP(X34,Feuil1!$C$1:$BL$10,2,FALSE)","v":55},{"$f":"T34-HLOOKUP(X34,Feuil1!$C$1:$BL$10,3,FALSE)","v":45},{"$f":"T34-HLOOKUP(X34,Feuil1!$C$1:$BL$10,4,FALSE)","v":35},{"$f":"T34-HLOOKUP(X34,Feuil1!$C$1:$BL$10,5,FALSE)","v":20},{"$f":"T34-HLOOKUP(X34,Feuil1!$C$1:$BL$10,6,FALSE)","v":5},{"$f":"T34-HLOOKUP(X34,Feuil1!$C$1:$BL$10,7,FALSE)","v":-10},{"$f":"T34-HLOOKUP(X34,Feuil1!$C$1:$BL$10,8,FALSE)","v":-25},{"$f":"T34-HLOOKUP(X34,Feuil1!$C$1:$BL$10,9,FALSE)","v":-45},{"$f":"T34-HLOOKUP(X34,Feuil1!$C$1:$BL$10,10,FALSE)","v":-875},null,null,null,null,null,null,{"$f":"IF(AJ34>=0,$AJ$4,IF(AI34>=0,$AI$4,IF(AH34>=0,$AH$4,IF(AG34>=0,$AG$4,IF(AF34>=0,$AF$4,IF(AE34>=0,$AE$4,IF(AD34>=0,$AD$4,IF(AC34>=0,$AC$4,$AB$4))))))))","v":"FED +"}]
["F","SO","MPY",4,253453,"JOURNET","Anaïs",1995,65.900000000000006,"FIGEAC HC","F",47,50,52,{"$f":"IF(H35=\"\",\"\",IF(MAXA(L35:N35)<=0,0,MAXA(L35:N35)))","v":52},65,70,72,{"$f":"IF(H35=\"\",\"\",IF(MAXA(P35:R35)<=0,0,MAXA(P35:R35)))","v":72},{"$f":"IF(H35=\"\",\"\",IF(OR(O35=0,S35=0),0,O35+S35))","v":124},{"$f":"T35-I35*2","v":-7.8000000000000114},{"$f":"IF(H35=\"\",\"\",AQ35)","v":"FED +"},{"$f":"IF(AJ35>=0,AJ35,IF(AI35>=0,AI35,IF(AH35>=0,AH35,IF(AG35>=0,AG35,IF(AF35>=0,AF35,IF(AE35>=0,AE35,IF(AD35>=0,AD35,IF(AC35>=0,AC35,AB35))))))))","v":4},{"$f":"IF(I35=\"\",\"\",IF(A35=\"H\",IF(OR(H35=\"SEN\",H35<1995),VLOOKUP(I35,Feuil1!$A$11:$F$29,6),IF(AND(H35>1994,H35<1998),VLOOKUP(I35,Feuil1!$A$11:$F$29,5),IF(AND(H35>1997,H35<2000),VLOOKUP(I35,Feuil1!$A$11:$F$29,4),IF(AND(H35>1999,H35<2002),VLOOKUP(I35,Feuil1!$A$11:$F$29,3),VLOOKUP(I35,Feuil1!$A$11:$F$29,2))))),IF(OR(H35=\"SEN\",H35<1995),VLOOKUP(I35,Feuil1!$G$11:$L$25,6),IF(AND(H35>1994,H35<1998),VLOOKUP(I35,Feuil1!$G$11:$L$25,5),IF(AND(H35>1997,H35<2000),VLOOKUP(I35,Feuil1!$G$11:$L$25,4),IF(AND(H35>1999,H35<2002),VLOOKUP(I35,Feuil1!$G$11:$L$25,3),VLOOKUP(I35,Feuil1!$G$11:$L$25,2)))))))","v":"FJ69"},{"$f":"IF(I35=\"\",\"\",IF(A35=\"H\",10^(0.794358141*LOG(I35/174.393)^2)*T35,IF(A35=\"F\",10^(0.89726074*LOG(I35/148.026)^2)*T35,\"\")))","v":160.04804178682409},null," ",{"$f":"T35-HLOOKUP(X35,Feuil1!$C$1:$BL$10,2,FALSE)","v":54},{"$f":"T35-HLOOKUP(X35,Feuil1!$C$1:$BL$10,3,FALSE)","v":44},{"$f":"T35-HLOOKUP(X35,Feuil1!$C$1:$BL$10,4,FALSE)","v":34},{"$f":"T35-HLOOKUP(X35,Feuil1!$C$1:$BL$10,5,FALSE)","v":19},{"$f":"T35-HLOOKUP(X35,Feuil1!$C$1:$BL$10,6,FALSE)","v":4},{"$f":"T35-HLOOKUP(X35,Feuil1!$C$1:$BL$10,7,FALSE)","v":-11},{"$f":"T35-HLOOKUP(X35,Feuil1!$C$1:$BL$10,8,FALSE)","v":-26},{"$f":"T35-HLOOKUP(X35,Feuil1!$C$1:$BL$10,9,FALSE)","v":-46},{"$f":"T35-HLOOKUP(X35,Feuil1!$C$1:$BL$10,10,FALSE)","v":-876},null,null,null,null,null,null,{"$f":"IF(AJ35>=0,$AJ$4,IF(AI35>=0,$AI$4,IF(AH35>=0,$AH$4,IF(AG35>=0,$AG$4,IF(AF35>=0,$AF$4,IF(AE35>=0,$AE$4,IF(AD35>=0,$AD$4,IF(AC35>=0,$AC$4,$AB$4))))))))","v":"FED +"}]
["F","SEST","RAL",5,356024,"PARENTI","Elora",1995,64.3,"C.H. L'ARBRESLE","F",42,-46,-46,{"$f":"IF(H36=\"\",\"\",IF(MAXA(L36:N36)<=0,0,MAXA(L36:N36)))","v":42},55,-60,-60,{"$f":"IF(H36=\"\",\"\",IF(MAXA(P36:R36)<=0,0,MAXA(P36:R36)))","v":55},{"$f":"IF(H36=\"\",\"\",IF(OR(O36=0,S36=0),0,O36+S36))","v":97},{"$f":"T36-I36*2","v":-31.599999999999994},{"$f":"IF(H36=\"\",\"\",AQ36)","v":"REG +"},{"$f":"IF(AJ36>=0,AJ36,IF(AI36>=0,AI36,IF(AH36>=0,AH36,IF(AG36>=0,AG36,IF(AF36>=0,AF36,IF(AE36>=0,AE36,IF(AD36>=0,AD36,IF(AC36>=0,AC36,AB36))))))))","v":7},{"$f":"IF(I36=\"\",\"\",IF(A36=\"H\",IF(OR(H36=\"SEN\",H36<1995),VLOOKUP(I36,Feuil1!$A$11:$F$29,6),IF(AND(H36>1994,H36<1998),VLOOKUP(I36,Feuil1!$A$11:$F$29,5),IF(AND(H36>1997,H36<2000),VLOOKUP(I36,Feuil1!$A$11:$F$29,4),IF(AND(H36>1999,H36<2002),VLOOKUP(I36,Feuil1!$A$11:$F$29,3),VLOOKUP(I36,Feuil1!$A$11:$F$29,2))))),IF(OR(H36=\"SEN\",H36<1995),VLOOKUP(I36,Feuil1!$G$11:$L$25,6),IF(AND(H36>1994,H36<1998),VLOOKUP(I36,Feuil1!$G$11:$L$25,5),IF(AND(H36>1997,H36<2000),VLOOKUP(I36,Feuil1!$G$11:$L$25,4),IF(AND(H36>1999,H36<2002),VLOOKUP(I36,Feuil1!$G$11:$L$25,3),VLOOKUP(I36,Feuil1!$G$11:$L$25,2)))))))","v":"FJ69"},{"$f":"IF(I36=\"\",\"\",IF(A36=\"H\",10^(0.794358141*LOG(I36/174.393)^2)*T36,IF(A36=\"F\",10^(0.89726074*LOG(I36/148.026)^2)*T36,\"\")))","v":127.18471070162944},null," ",{"$f":"T36-HLOOKUP(X36,Feuil1!$C$1:$BL$10,2,FALSE)","v":27},{"$f":"T36-HLOOKUP(X36,Feuil1!$C$1:$BL$10,3,FALSE)","v":17},{"$f":"T36-HLOOKUP(X36,Feuil1!$C$1:$BL$10,4,FALSE)","v":7},{"$f":"T36-HLOOKUP(X36,Feuil1!$C$1:$BL$10,5,FALSE)","v":-8},{"$f":"T36-HLOOKUP(X36,Feuil1!$C$1:$BL$10,6,FALSE)","v":-23},{"$f":"T36-HLOOKUP(X36,Feuil1!$C$1:$BL$10,7,FALSE)","v":-38},{"$f":"T36-HLOOKUP(X36,Feuil1!$C$1:$BL$10,8,FALSE)","v":-53},{"$f":"T36-HLOOKUP(X36,Feuil1!$C$1:$BL$10,9,FALSE)","v":-73},{"$f":"T36-HLOOKUP(X36,Feuil1!$C$1:$BL$10,10,FALSE)","v":-903},null,null,null,null,null,null,{"$f":"IF(AJ36>=0,$AJ$4,IF(AI36>=0,$AI$4,IF(AH36>=0,$AH$4,IF(AG36>=0,$AG$4,IF(AF36>=0,$AF$4,IF(AE36>=0,$AE$4,IF(AD36>=0,$AD$4,IF(AC36>=0,$AC$4,$AB$4))))))))","v":"REG +"}]
[]
["F","DOM","GUA",1,183203,"GRAVA","Naomi",1996,70.5,"AHCS/Pointois","F",65,70,72,72,85,90,-92,90,162,21,"INTB +",2,{"$f":"IF(I38=\"\",\"\",IF(A38=\"H\",IF(OR(H38=\"SEN\",H38<1995),VLOOKUP(I38,Feuil1!$A$11:$F$29,6),IF(AND(H38>1994,H38<1998),VLOOKUP(I38,Feuil1!$A$11:$F$29,5),IF(AND(H38>1997,H38<2000),VLOOKUP(I38,Feuil1!$A$11:$F$29,4),IF(AND(H38>1999,H38<2002),VLOOKUP(I38,Feuil1!$A$11:$F$29,3),VLOOKUP(I38,Feuil1!$A$11:$F$29,2))))),IF(OR(H38=\"SEN\",H38<1995),VLOOKUP(I38,Feuil1!$G$11:$L$25,6),IF(AND(H38>1994,H38<1998),VLOOKUP(I38,Feuil1!$G$11:$L$25,5),IF(AND(H38>1997,H38<2000),VLOOKUP(I38,Feuil1!$G$11:$L$25,4),IF(AND(H38>1999,H38<2002),VLOOKUP(I38,Feuil1!$G$11:$L$25,3),VLOOKUP(I38,Feuil1!$G$11:$L$25,2)))))))","v":"FJ75"},200.73941263620389,null," ",{"$f":"T38-HLOOKUP(X38,Feuil1!$C$1:$BL$10,2,FALSE)","v":82},{"$f":"T38-HLOOKUP(X38,Feuil1!$C$1:$BL$10,3,FALSE)","v":67},{"$f":"T38-HLOOKUP(X38,Feuil1!$C$1:$BL$10,4,FALSE)","v":57},{"$f":"T38-HLOOKUP(X38,Feuil1!$C$1:$BL$10,5,FALSE)","v":47},{"$f":"T38-HLOOKUP(X38,Feuil1!$C$1:$BL$10,6,FALSE)","v":32},{"$f":"T38-HLOOKUP(X38,Feuil1!$C$1:$BL$10,7,FALSE)","v":17},{"$f":"T38-HLOOKUP(X38,Feuil1!$C$1:$BL$10,8,FALSE)","v":2},{"$f":"T38-HLOOKUP(X38,Feuil1!$C$1:$BL$10,9,FALSE)","v":-18},{"$f":"T38-HLOOKUP(X38,Feuil1!$C$1:$BL$10,10,FALSE)","v":-838},null,null,null,null,null,null,"INTB +"]
["F","NE","CHA",2,247364,"LECUREUIL ","Adeline",1996,72.900000000000006,"Langres HM","F",49,-52,-52,49,58,-61,61,61,110,-35.800000000000011,"REG +",5,{"$f":"IF(I39=\"\",\"\",IF(A39=\"H\",IF(OR(H39=\"SEN\",H39<1995),VLOOKUP(I39,Feuil1!$A$11:$F$29,6),IF(AND(H39>1994,H39<1998),VLOOKUP(I39,Feuil1!$A$11:$F$29,5),IF(AND(H39>1997,H39<2000),VLOOKUP(I39,Feuil1!$A$11:$F$29,4),IF(AND(H39>1999,H39<2002),VLOOKUP(I39,Feuil1!$A$11:$F$29,3),VLOOKUP(I39,Feuil1!$A$11:$F$29,2))))),IF(OR(H39=\"SEN\",H39<1995),VLOOKUP(I39,Feuil1!$G$11:$L$25,6),IF(AND(H39>1994,H39<1998),VLOOKUP(I39,Feuil1!$G$11:$L$25,5),IF(AND(H39>1997,H39<2000),VLOOKUP(I39,Feuil1!$G$11:$L$25,4),IF(AND(H39>1999,H39<2002),VLOOKUP(I39,Feuil1!$G$11:$L$25,3),VLOOKUP(I39,Feuil1!$G$11:$L$25,2)))))))","v":"FJ75"},133.75045526115454,null," ",{"$f":"T39-HLOOKUP(X39,Feuil1!$C$1:$BL$10,2,FALSE)","v":30},{"$f":"T39-HLOOKUP(X39,Feuil1!$C$1:$BL$10,3,FALSE)","v":15},{"$f":"T39-HLOOKUP(X39,Feuil1!$C$1:$BL$10,4,FALSE)","v":5},{"$f":"T39-HLOOKUP(X39,Feuil1!$C$1:$BL$10,5,FALSE)","v":-5},{"$f":"T39-HLOOKUP(X39,Feuil1!$C$1:$BL$10,6,FALSE)","v":-20},{"$f":"T39-HLOOKUP(X39,Feuil1!$C$1:$BL$10,7,FALSE)","v":-35},{"$f":"T39-HLOOKUP(X39,Feuil1!$C$1:$BL$10,8,FALSE)","v":-50},{"$f":"T39-HLOOKUP(X39,Feuil1!$C$1:$BL$10,9,FALSE)","v":-70},{"$f":"T39-HLOOKUP(X39,Feuil1!$C$1:$BL$10,10,FALSE)","v":-890},null,null,null,null,null,null,"REG +"]
[]
["F","DOM","GUA",1,212730,"ROSAN","Kysia",1996,82,"AHCS/Pointois","F",60,65,-68,65,80,85,-90,85,150,-14,"NAT +",0,{"$f":"IF(I41=\"\",\"\",IF(A41=\"H\",IF(OR(H41=\"SEN\",H41<1995),VLOOKUP(I41,Feuil1!$A$11:$F$29,6),IF(AND(H41>1994,H41<1998),VLOOKUP(I41,Feuil1!$A$11:$F$29,5),IF(AND(H41>1997,H41<2000),VLOOKUP(I41,Feuil1!$A$11:$F$29,4),IF(AND(H41>1999,H41<2002),VLOOKUP(I41,Feuil1!$A$11:$F$29,3),VLOOKUP(I41,Feuil1!$A$11:$F$29,2))))),IF(OR(H41=\"SEN\",H41<1995),VLOOKUP(I41,Feuil1!$G$11:$L$25,6),IF(AND(H41>1994,H41<1998),VLOOKUP(I41,Feuil1!$G$11:$L$25,5),IF(AND(H41>1997,H41<2000),VLOOKUP(I41,Feuil1!$G$11:$L$25,4),IF(AND(H41>1999,H41<2002),VLOOKUP(I41,Feuil1!$G$11:$L$25,3),VLOOKUP(I41,Feuil1!$G$11:$L$25,2)))))))","v":"FJ+75"},171.84431893608561,null," ",{"$f":"T41-HLOOKUP(X41,Feuil1!$C$1:$BL$10,2,FALSE)","v":60},{"$f":"T41-HLOOKUP(X41,Feuil1!$C$1:$BL$10,3,FALSE)","v":50},{"$f":"T41-HLOOKUP(X41,Feuil1!$C$1:$BL$10,4,FALSE)","v":40},{"$f":"T41-HLOOKUP(X41,Feuil1!$C$1:$BL$10,5,FALSE)","v":25},{"$f":"T41-HLOOKUP(X41,Feuil1!$C$1:$BL$10,6,FALSE)","v":10},{"$f":"T41-HLOOKUP(X41,Feuil1!$C$1:$BL$10,7,FALSE)","v":0},{"$f":"T41-HLOOKUP(X41,Feuil1!$C$1:$BL$10,8,FALSE)","v":-20},{"$f":"T41-HLOOKUP(X41,Feuil1!$C$1:$BL$10,9,FALSE)","v":-40},{"$f":"T41-HLOOKUP(X41,Feuil1!$C$1:$BL$10,10,FALSE)","v":-850},null,null,null,null,null,null,"NAT +"]
[]
[]
["H","CO","AQU",1,220892,"MOCAER LORGER","Alan",1996,50.3,"ST MEDARD ","F",67,70,-73,{"$f":"IF(H44=\"\",\"\",IF(MAXA(L44:N44)<=0,0,MAXA(L44:N44)))","v":70},95,-100,-100,{"$f":"IF(H44=\"\",\"\",IF(MAXA(P44:R44)<=0,0,MAXA(P44:R44)))","v":95},{"$f":"IF(H44=\"\",\"\",IF(OR(O44=0,S44=0),0,O44+S44))","v":165},{"$f":"T44-I44*2","v":64.400000000000006},{"$f":"IF(H44=\"\",\"\",AQ44)","v":"FED +"},{"$f":"IF(AJ44>=0,AJ44,IF(AI44>=0,AI44,IF(AH44>=0,AH44,IF(AG44>=0,AG44,IF(AF44>=0,AF44,IF(AE44>=0,AE44,IF(AD44>=0,AD44,IF(AC44>=0,AC44,AB44))))))))","v":20},{"$f":"IF(I44=\"\",\"\",IF(A44=\"H\",IF(OR(H44=\"SEN\",H44<1995),VLOOKUP(I44,Feuil1!$A$11:$F$29,6),IF(AND(H44>1994,H44<1998),VLOOKUP(I44,Feuil1!$A$11:$F$29,5),IF(AND(H44>1997,H44<2000),VLOOKUP(I44,Feuil1!$A$11:$F$29,4),IF(AND(H44>1999,H44<2002),VLOOKUP(I44,Feuil1!$A$11:$F$29,3),VLOOKUP(I44,Feuil1!$A$11:$F$29,2))))),IF(OR(H44=\"SEN\",H44<1995),VLOOKUP(I44,Feuil1!$G$11:$L$25,6),IF(AND(H44>1994,H44<1998),VLOOKUP(I44,Feuil1!$G$11:$L$25,5),IF(AND(H44>1997,H44<2000),VLOOKUP(I44,Feuil1!$G$11:$L$25,4),IF(AND(H44>1999,H44<2002),VLOOKUP(I44,Feuil1!$G$11:$L$25,3),VLOOKUP(I44,Feuil1!$G$11:$L$25,2)))))))","v":"J56"},{"$f":"IF(I44=\"\",\"\",IF(A44=\"H\",10^(0.794358141*LOG(I44/174.393)^2)*T44,IF(A44=\"F\",10^(0.89726074*LOG(I44/148.026)^2)*T44,\"\")))","v":281.24536609055679},null," ",{"$f":"T44-HLOOKUP(X44,Feuil1!$C$1:$BL$10,2,FALSE)","v":85},{"$f":"T44-HLOOKUP(X44,Feuil1!$C$1:$BL$10,3,FALSE)","v":65},{"$f":"T44-HLOOKUP(X44,Feuil1!$C$1:$BL$10,4,FALSE)","v":50},{"$f":"T44-HLOOKUP(X44,Feuil1!$C$1:$BL$10,5,FALSE)","v":35},{"$f":"T44-HLOOKUP(X44,Feuil1!$C$1:$BL$10,6,FALSE)","v":20},{"$f":"T44-HLOOKUP(X44,Feuil1!$C$1:$BL$10,7,FALSE)","v":-5},{"$f":"T44-HLOOKUP(X44,Feuil1!$C$1:$BL$10,8,FALSE)","v":-25},{"$f":"T44-HLOOKUP(X44,Feuil1!$C$1:$BL$10,9,FALSE)","v":-45},{"$f":"T44-HLOOKUP(X44,Feuil1!$C$1:$BL$10,10,FALSE)","v":-835},null,null,null,null,null,null,{"$f":"IF(AJ44>=0,$AJ$4,IF(AI44>=0,$AI$4,IF(AH44>=0,$AH$4,IF(AG44>=0,$AG$4,IF(AF44>=0,$AF$4,IF(AE44>=0,$AE$4,IF(AD44>=0,$AD$4,IF(AC44>=0,$AC$4,$AB$4))))))))","v":"FED +"}]
["H","NE","CHA",2,214038,"NOEL","Tanguy",1996,53,"Langres HM","F",65,69,71,{"$f":"IF(H45=\"\",\"\",IF(MAXA(L45:N45)<=0,0,MAXA(L45:N45)))","v":71},76,79,82,{"$f":"IF(H45=\"\",\"\",IF(MAXA(P45:R45)<=0,0,MAXA(P45:R45)))","v":82},{"$f":"IF(H45=\"\",\"\",IF(OR(O45=0,S45=0),0,O45+S45))","v":153},{"$f":"T45-I45*2","v":47},{"$f":"IF(H45=\"\",\"\",AQ45)","v":"FED +"},{"$f":"IF(AJ45>=0,AJ45,IF(AI45>=0,AI45,IF(AH45>=0,AH45,IF(AG45>=0,AG45,IF(AF45>=0,AF45,IF(AE45>=0,AE45,IF(AD45>=0,AD45,IF(AC45>=0,AC45,AB45))))))))","v":8},{"$f":"IF(I45=\"\",\"\",IF(A45=\"H\",IF(OR(H45=\"SEN\",H45<1995),VLOOKUP(I45,Feuil1!$A$11:$F$29,6),IF(AND(H45>1994,H45<1998),VLOOKUP(I45,Feuil1!$A$11:$F$29,5),IF(AND(H45>1997,H45<2000),VLOOKUP(I45,Feuil1!$A$11:$F$29,4),IF(AND(H45>1999,H45<2002),VLOOKUP(I45,Feuil1!$A$11:$F$29,3),VLOOKUP(I45,Feuil1!$A$11:$F$29,2))))),IF(OR(H45=\"SEN\",H45<1995),VLOOKUP(I45,Feuil1!$G$11:$L$25,6),IF(AND(H45>1994,H45<1998),VLOOKUP(I45,Feuil1!$G$11:$L$25,5),IF(AND(H45>1997,H45<2000),VLOOKUP(I45,Feuil1!$G$11:$L$25,4),IF(AND(H45>1999,H45<2002),VLOOKUP(I45,Feuil1!$G$11:$L$25,3),VLOOKUP(I45,Feuil1!$G$11:$L$25,2)))))))","v":"J56"},{"$f":"IF(I45=\"\",\"\",IF(A45=\"H\",10^(0.794358141*LOG(I45/174.393)^2)*T45,IF(A45=\"F\",10^(0.89726074*LOG(I45/148.026)^2)*T45,\"\")))","v":249.5873831810319},null," ",{"$f":"T45-HLOOKUP(X45,Feuil1!$C$1:$BL$10,2,FALSE)","v":73},{"$f":"T45-HLOOKUP(X45,Feuil1!$C$1:$BL$10,3,FALSE)","v":53},{"$f":"T45-HLOOKUP(X45,Feuil1!$C$1:$BL$10,4,FALSE)","v":38},{"$f":"T45-HLOOKUP(X45,Feuil1!$C$1:$BL$10,5,FALSE)","v":23},{"$f":"T45-HLOOKUP(X45,Feuil1!$C$1:$BL$10,6,FALSE)","v":8},{"$f":"T45-HLOOKUP(X45,Feuil1!$C$1:$BL$10,7,FALSE)","v":-17},{"$f":"T45-HLOOKUP(X45,Feuil1!$C$1:$BL$10,8,FALSE)","v":-37},{"$f":"T45-HLOOKUP(X45,Feuil1!$C$1:$BL$10,9,FALSE)","v":-57},{"$f":"T45-HLOOKUP(X45,Feuil1!$C$1:$BL$10,10,FALSE)","v":-847},null,null,null,null,null,null,{"$f":"IF(AJ45>=0,$AJ$4,IF(AI45>=0,$AI$4,IF(AH45>=0,$AH$4,IF(AG45>=0,$AG$4,IF(AF45>=0,$AF$4,IF(AE45>=0,$AE$4,IF(AD45>=0,$AD$4,IF(AC45>=0,$AC$4,$AB$4))))))))","v":"FED +"}]
["H","SEST","PRO",3,196545,"REYNAUD","Loic",1996,55.8,"H.C. NOVES","F",60,-65,65,{"$f":"IF(H46=\"\",\"\",IF(MAXA(L46:N46)<=0,0,MAXA(L46:N46)))","v":65},80,-84,-86,{"$f":"IF(H46=\"\",\"\",IF(MAXA(P46:R46)<=0,0,MAXA(P46:R46)))","v":80},{"$f":"IF(H46=\"\",\"\",IF(OR(O46=0,S46=0),0,O46+S46))","v":145},{"$f":"T46-I46*2","v":33.400000000000006},{"$f":"IF(H46=\"\",\"\",AQ46)","v":"FED +"},{"$f":"IF(AJ46>=0,AJ46,IF(AI46>=0,AI46,IF(AH46>=0,AH46,IF(AG46>=0,AG46,IF(AF46>=0,AF46,IF(AE46>=0,AE46,IF(AD46>=0,AD46,IF(AC46>=0,AC46,AB46))))))))","v":0},{"$f":"IF(I46=\"\",\"\",IF(A46=\"H\",IF(OR(H46=\"SEN\",H46<1995),VLOOKUP(I46,Feuil1!$A$11:$F$29,6),IF(AND(H46>1994,H46<1998),VLOOKUP(I46,Feuil1!$A$11:$F$29,5),IF(AND(H46>1997,H46<2000),VLOOKUP(I46,Feuil1!$A$11:$F$29,4),IF(AND(H46>1999,H46<2002),VLOOKUP(I46,Feuil1!$A$11:$F$29,3),VLOOKUP(I46,Feuil1!$A$11:$F$29,2))))),IF(OR(H46=\"SEN\",H46<1995),VLOOKUP(I46,Feuil1!$G$11:$L$25,6),IF(AND(H46>1994,H46<1998),VLOOKUP(I46,Feuil1!$G$11:$L$25,5),IF(AND(H46>1997,H46<2000),VLOOKUP(I46,Feuil1!$G$11:$L$25,4),IF(AND(H46>1999,H46<2002),VLOOKUP(I46,Feuil1!$G$11:$L$25,3),VLOOKUP(I46,Feuil1!$G$11:$L$25,2)))))))","v":"J56"},{"$f":"IF(I46=\"\",\"\",IF(A46=\"H\",10^(0.794358141*LOG(I46/174.393)^2)*T46,IF(A46=\"F\",10^(0.89726074*LOG(I46/148.026)^2)*T46,\"\")))","v":226.94620394633597},null," ",{"$f":"T46-HLOOKUP(X46,Feuil1!$C$1:$BL$10,2,FALSE)","v":65},{"$f":"T46-HLOOKUP(X46,Feuil1!$C$1:$BL$10,3,FALSE)","v":45},{"$f":"T46-HLOOKUP(X46,Feuil1!$C$1:$BL$10,4,FALSE)","v":30},{"$f":"T46-HLOOKUP(X46,Feuil1!$C$1:$BL$10,5,FALSE)","v":15},{"$f":"T46-HLOOKUP(X46,Feuil1!$C$1:$BL$10,6,FALSE)","v":0},{"$f":"T46-HLOOKUP(X46,Feuil1!$C$1:$BL$10,7,FALSE)","v":-25},{"$f":"T46-HLOOKUP(X46,Feuil1!$C$1:$BL$10,8,FALSE)","v":-45},{"$f":"T46-HLOOKUP(X46,Feuil1!$C$1:$BL$10,9,FALSE)","v":-65},{"$f":"T46-HLOOKUP(X46,Feuil1!$C$1:$BL$10,10,FALSE)","v":-855},null,null,null,null,null,null,{"$f":"IF(AJ46>=0,$AJ$4,IF(AI46>=0,$AI$4,IF(AH46>=0,$AH$4,IF(AG46>=0,$AG$4,IF(AF46>=0,$AF$4,IF(AE46>=0,$AE$4,IF(AD46>=0,$AD$4,IF(AC46>=0,$AC$4,$AB$4))))))))","v":"FED +"}]
["H","Nord","IDF",4,307426,"ROUGE","Nicolas",1996,56,"Franconville","F",64,-66,-66,{"$f":"IF(H47=\"\",\"\",IF(MAXA(L47:N47)<=0,0,MAXA(L47:N47)))","v":64},75,-81,-81,{"$f":"IF(H47=\"\",\"\",IF(MAXA(P47:R47)<=0,0,MAXA(P47:R47)))","v":75},{"$f":"IF(H47=\"\",\"\",IF(OR(O47=0,S47=0),0,O47+S47))","v":139},{"$f":"T47-I47*2","v":27},{"$f":"IF(H47=\"\",\"\",AQ47)","v":"IRG +"},{"$f":"IF(AJ47>=0,AJ47,IF(AI47>=0,AI47,IF(AH47>=0,AH47,IF(AG47>=0,AG47,IF(AF47>=0,AF47,IF(AE47>=0,AE47,IF(AD47>=0,AD47,IF(AC47>=0,AC47,AB47))))))))","v":9},{"$f":"IF(I47=\"\",\"\",IF(A47=\"H\",IF(OR(H47=\"SEN\",H47<1995),VLOOKUP(I47,Feuil1!$A$11:$F$29,6),IF(AND(H47>1994,H47<1998),VLOOKUP(I47,Feuil1!$A$11:$F$29,5),IF(AND(H47>1997,H47<2000),VLOOKUP(I47,Feuil1!$A$11:$F$29,4),IF(AND(H47>1999,H47<2002),VLOOKUP(I47,Feuil1!$A$11:$F$29,3),VLOOKUP(I47,Feuil1!$A$11:$F$29,2))))),IF(OR(H47=\"SEN\",H47<1995),VLOOKUP(I47,Feuil1!$G$11:$L$25,6),IF(AND(H47>1994,H47<1998),VLOOKUP(I47,Feuil1!$G$11:$L$25,5),IF(AND(H47>1997,H47<2000),VLOOKUP(I47,Feuil1!$G$11:$L$25,4),IF(AND(H47>1999,H47<2002),VLOOKUP(I47,Feuil1!$G$11:$L$25,3),VLOOKUP(I47,Feuil1!$G$11:$L$25,2)))))))","v":"J56"},{"$f":"IF(I47=\"\",\"\",IF(A47=\"H\",10^(0.794358141*LOG(I47/174.393)^2)*T47,IF(A47=\"F\",10^(0.89726074*LOG(I47/148.026)^2)*T47,\"\")))","v":216.94514988110208},null," ",{"$f":"T47-HLOOKUP(X47,Feuil1!$C$1:$BL$10,2,FALSE)","v":59},{"$f":"T47-HLOOKUP(X47,Feuil1!$C$1:$BL$10,3,FALSE)","v":39},{"$f":"T47-HLOOKUP(X47,Feuil1!$C$1:$BL$10,4,FALSE)","v":24},{"$f":"T47-HLOOKUP(X47,Feuil1!$C$1:$BL$10,5,FALSE)","v":9},{"$f":"T47-HLOOKUP(X47,Feuil1!$C$1:$BL$10,6,FALSE)","v":-6},{"$f":"T47-HLOOKUP(X47,Feuil1!$C$1:$BL$10,7,FALSE)","v":-31},{"$f":"T47-HLOOKUP(X47,Feuil1!$C$1:$BL$10,8,FALSE)","v":-51},{"$f":"T47-HLOOKUP(X47,Feuil1!$C$1:$BL$10,9,FALSE)","v":-71},{"$f":"T47-HLOOKUP(X47,Feuil1!$C$1:$BL$10,10,FALSE)","v":-861},null,null,null,null,null,null,{"$f":"IF(AJ47>=0,$AJ$4,IF(AI47>=0,$AI$4,IF(AH47>=0,$AH$4,IF(AG47>=0,$AG$4,IF(AF47>=0,$AF$4,IF(AE47>=0,$AE$4,IF(AD47>=0,$AD$4,IF(AC47>=0,$AC$4,$AB$4))))))))","v":"IRG +"}]
["H","SO","MPY",5,300998,"DELPECH","Rémy",1997,53.7,"FIGEAC ","F",45,48,50,{"$f":"IF(H48=\"\",\"\",IF(MAXA(L48:N48)<=0,0,MAXA(L48:N48)))","v":50},50,60,70,{"$f":"IF(H48=\"\",\"\",IF(MAXA(P48:R48)<=0,0,MAXA(P48:R48)))","v":70},{"$f":"IF(H48=\"\",\"\",IF(OR(O48=0,S48=0),0,O48+S48))","v":120},{"$f":"T48-I48*2","v":12.599999999999994},{"$f":"IF(H48=\"\",\"\",AQ48)","v":"REG +"},{"$f":"IF(AJ48>=0,AJ48,IF(AI48>=0,AI48,IF(AH48>=0,AH48,IF(AG48>=0,AG48,IF(AF48>=0,AF48,IF(AE48>=0,AE48,IF(AD48>=0,AD48,IF(AC48>=0,AC48,AB48))))))))","v":5},{"$f":"IF(I48=\"\",\"\",IF(A48=\"H\",IF(OR(H48=\"SEN\",H48<1995),VLOOKUP(I48,Feuil1!$A$11:$F$29,6),IF(AND(H48>1994,H48<1998),VLOOKUP(I48,Feuil1!$A$11:$F$29,5),IF(AND(H48>1997,H48<2000),VLOOKUP(I48,Feuil1!$A$11:$F$29,4),IF(AND(H48>1999,H48<2002),VLOOKUP(I48,Feuil1!$A$11:$F$29,3),VLOOKUP(I48,Feuil1!$A$11:$F$29,2))))),IF(OR(H48=\"SEN\",H48<1995),VLOOKUP(I48,Feuil1!$G$11:$L$25,6),IF(AND(H48>1994,H48<1998),VLOOKUP(I48,Feuil1!$G$11:$L$25,5),IF(AND(H48>1997,H48<2000),VLOOKUP(I48,Feuil1!$G$11:$L$25,4),IF(AND(H48>1999,H48<2002),VLOOKUP(I48,Feuil1!$G$11:$L$25,3),VLOOKUP(I48,Feuil1!$G$11:$L$25,2)))))))","v":"J56"},{"$f":"IF(I48=\"\",\"\",IF(A48=\"H\",10^(0.794358141*LOG(I48/174.393)^2)*T48,IF(A48=\"F\",10^(0.89726074*LOG(I48/148.026)^2)*T48,\"\")))","v":193.66692551583958},null," ",{"$f":"T48-HLOOKUP(X48,Feuil1!$C$1:$BL$10,2,FALSE)","v":40},{"$f":"T48-HLOOKUP(X48,Feuil1!$C$1:$BL$10,3,FALSE)","v":20},{"$f":"T48-HLOOKUP(X48,Feuil1!$C$1:$BL$10,4,FALSE)","v":5},{"$f":"T48-HLOOKUP(X48,Feuil1!$C$1:$BL$10,5,FALSE)","v":-10},{"$f":"T48-HLOOKUP(X48,Feuil1!$C$1:$BL$10,6,FALSE)","v":-25},{"$f":"T48-HLOOKUP(X48,Feuil1!$C$1:$BL$10,7,FALSE)","v":-50},{"$f":"T48-HLOOKUP(X48,Feuil1!$C$1:$BL$10,8,FALSE)","v":-70},{"$f":"T48-HLOOKUP(X48,Feuil1!$C$1:$BL$10,9,FALSE)","v":-90},{"$f":"T48-HLOOKUP(X48,Feuil1!$C$1:$BL$10,10,FALSE)","v":-880},null,null,null,null,null,null,{"$f":"IF(AJ48>=0,$AJ$4,IF(AI48>=0,$AI$4,IF(AH48>=0,$AH$4,IF(AG48>=0,$AG$4,IF(AF48>=0,$AF$4,IF(AE48>=0,$AE$4,IF(AD48>=0,$AD$4,IF(AC48>=0,$AC$4,$AB$4))))))))","v":"REG +"}]
[]
["H","Nord","NPC",1,387642,"SAERENT","Brent",1997,61.2,"St Pol sur Mer","BEL",80,85,90,{"$f":"IF(H50=\"\",\"\",IF(MAXA(L50:N50)<=0,0,MAXA(L50:N50)))","v":90},100,105,-108,{"$f":"IF(H50=\"\",\"\",IF(MAXA(P50:R50)<=0,0,MAXA(P50:R50)))","v":105},{"$f":"IF(H50=\"\",\"\",IF(OR(O50=0,S50=0),0,O50+S50))","v":195},{"$f":"T50-I50*2","v":72.599999999999994},{"$f":"IF(H50=\"\",\"\",AQ50)","v":"NAT +"},{"$f":"IF(AJ50>=0,AJ50,IF(AI50>=0,AI50,IF(AH50>=0,AH50,IF(AG50>=0,AG50,IF(AF50>=0,AF50,IF(AE50>=0,AE50,IF(AD50>=0,AD50,IF(AC50>=0,AC50,AB50))))))))","v":5},{"$f":"IF(I50=\"\",\"\",IF(A50=\"H\",IF(OR(H50=\"SEN\",H50<1995),VLOOKUP(I50,Feuil1!$A$11:$F$29,6),IF(AND(H50>1994,H50<1998),VLOOKUP(I50,Feuil1!$A$11:$F$29,5),IF(AND(H50>1997,H50<2000),VLOOKUP(I50,Feuil1!$A$11:$F$29,4),IF(AND(H50>1999,H50<2002),VLOOKUP(I50,Feuil1!$A$11:$F$29,3),VLOOKUP(I50,Feuil1!$A$11:$F$29,2))))),IF(OR(H50=\"SEN\",H50<1995),VLOOKUP(I50,Feuil1!$G$11:$L$25,6),IF(AND(H50>1994,H50<1998),VLOOKUP(I50,Feuil1!$G$11:$L$25,5),IF(AND(H50>1997,H50<2000),VLOOKUP(I50,Feuil1!$G$11:$L$25,4),IF(AND(H50>1999,H50<2002),VLOOKUP(I50,Feuil1!$G$11:$L$25,3),VLOOKUP(I50,Feuil1!$G$11:$L$25,2)))))))","v":"J62"},{"$f":"IF(I50=\"\",\"\",IF(A50=\"H\",10^(0.794358141*LOG(I50/174.393)^2)*T50,IF(A50=\"F\",10^(0.89726074*LOG(I50/148.026)^2)*T50,\"\")))","v":284.65964184945415},null," ",{"$f":"T50-HLOOKUP(X50,Feuil1!$C$1:$BL$10,2,FALSE)","v":105},{"$f":"T50-HLOOKUP(X50,Feuil1!$C$1:$BL$10,3,FALSE)","v":75},{"$f":"T50-HLOOKUP(X50,Feuil1!$C$1:$BL$10,4,FALSE)","v":60},{"$f":"T50-HLOOKUP(X50,Feuil1!$C$1:$BL$10,5,FALSE)","v":45},{"$f":"T50-HLOOKUP(X50,Feuil1!$C$1:$BL$10,6,FALSE)","v":25},{"$f":"T50-HLOOKUP(X50,Feuil1!$C$1:$BL$10,7,FALSE)","v":5},{"$f":"T50-HLOOKUP(X50,Feuil1!$C$1:$BL$10,8,FALSE)","v":-15},{"$f":"T50-HLOOKUP(X50,Feuil1!$C$1:$BL$10,9,FALSE)","v":-35},{"$f":"T50-HLOOKUP(X50,Feuil1!$C$1:$BL$10,10,FALSE)","v":-805},null,null,null,null,null,null,{"$f":"IF(AJ50>=0,$AJ$4,IF(AI50>=0,$AI$4,IF(AH50>=0,$AH$4,IF(AG50>=0,$AG$4,IF(AF50>=0,$AF$4,IF(AE50>=0,$AE$4,IF(AD50>=0,$AD$4,IF(AC50>=0,$AC$4,$AB$4))))))))","v":"NAT +"}]
["H","SEST","PRO",2,245875,"MARI","Edouard",1997,56.2,"H.M. SAINTE TULLE","F",77,81,-83,81,100,105,-109,105,186,73.599999999999994,"FED +",16,{"$f":"IF(I51=\"\",\"\",IF(A51=\"H\",IF(OR(H51=\"SEN\",H51<1995),VLOOKUP(I51,Feuil1!$A$11:$F$29,6),IF(AND(H51>1994,H51<1998),VLOOKUP(I51,Feuil1!$A$11:$F$29,5),IF(AND(H51>1997,H51<2000),VLOOKUP(I51,Feuil1!$A$11:$F$29,4),IF(AND(H51>1999,H51<2002),VLOOKUP(I51,Feuil1!$A$11:$F$29,3),VLOOKUP(I51,Feuil1!$A$11:$F$29,2))))),IF(OR(H51=\"SEN\",H51<1995),VLOOKUP(I51,Feuil1!$G$11:$L$25,6),IF(AND(H51>1994,H51<1998),VLOOKUP(I51,Feuil1!$G$11:$L$25,5),IF(AND(H51>1997,H51<2000),VLOOKUP(I51,Feuil1!$G$11:$L$25,4),IF(AND(H51>1999,H51<2002),VLOOKUP(I51,Feuil1!$G$11:$L$25,3),VLOOKUP(I51,Feuil1!$G$11:$L$25,2)))))))","v":"J62"},289.49194060816808,null," ",{"$f":"T51-HLOOKUP(X51,Feuil1!$C$1:$BL$10,2,FALSE)","v":96},{"$f":"T51-HLOOKUP(X51,Feuil1!$C$1:$BL$10,3,FALSE)","v":66},{"$f":"T51-HLOOKUP(X51,Feuil1!$C$1:$BL$10,4,FALSE)","v":51},{"$f":"T51-HLOOKUP(X51,Feuil1!$C$1:$BL$10,5,FALSE)","v":36},{"$f":"T51-HLOOKUP(X51,Feuil1!$C$1:$BL$10,6,FALSE)","v":16},{"$f":"T51-HLOOKUP(X51,Feuil1!$C$1:$BL$10,7,FALSE)","v":-4},{"$f":"T51-HLOOKUP(X51,Feuil1!$C$1:$BL$10,8,FALSE)","v":-24},{"$f":"T51-HLOOKUP(X51,Feuil1!$C$1:$BL$10,9,FALSE)","v":-44},{"$f":"T51-HLOOKUP(X51,Feuil1!$C$1:$BL$10,10,FALSE)","v":-814},null,null,null,null,null,null,"FED +"]
["H","SO","AQU",3,263946,"LECOMTE","Ewen",1997,58.3,"ST MEDARD","F",75,79,81,81,92,98,-100,98,179,62.400000000000006,"FED +",9,{"$f":"IF(I52=\"\",\"\",IF(A52=\"H\",IF(OR(H52=\"SEN\",H52<1995),VLOOKUP(I52,Feuil1!$A$11:$F$29,6),IF(AND(H52>1994,H52<1998),VLOOKUP(I52,Feuil1!$A$11:$F$29,5),IF(AND(H52>1997,H52<2000),VLOOKUP(I52,Feuil1!$A$11:$F$29,4),IF(AND(H52>1999,H52<2002),VLOOKUP(I52,Feuil1!$A$11:$F$29,3),VLOOKUP(I52,Feuil1!$A$11:$F$29,2))))),IF(OR(H52=\"SEN\",H52<1995),VLOOKUP(I52,Feuil1!$G$11:$L$25,6),IF(AND(H52>1994,H52<1998),VLOOKUP(I52,Feuil1!$G$11:$L$25,5),IF(AND(H52>1997,H52<2000),VLOOKUP(I52,Feuil1!$G$11:$L$25,4),IF(AND(H52>1999,H52<2002),VLOOKUP(I52,Feuil1!$G$11:$L$25,3),VLOOKUP(I52,Feuil1!$G$11:$L$25,2)))))))","v":"J62"},270.85074723515629,null," ",{"$f":"T52-HLOOKUP(X52,Feuil1!$C$1:$BL$10,2,FALSE)","v":89},{"$f":"T52-HLOOKUP(X52,Feuil1!$C$1:$BL$10,3,FALSE)","v":59},{"$f":"T52-HLOOKUP(X52,Feuil1!$C$1:$BL$10,4,FALSE)","v":44},{"$f":"T52-HLOOKUP(X52,Feuil1!$C$1:$BL$10,5,FALSE)","v":29},{"$f":"T52-HLOOKUP(X52,Feuil1!$C$1:$BL$10,6,FALSE)","v":9},{"$f":"T52-HLOOKUP(X52,Feuil1!$C$1:$BL$10,7,FALSE)","v":-11},{"$f":"T52-HLOOKUP(X52,Feuil1!$C$1:$BL$10,8,FALSE)","v":-31},{"$f":"T52-HLOOKUP(X52,Feuil1!$C$1:$BL$10,9,FALSE)","v":-51},{"$f":"T52-HLOOKUP(X52,Feuil1!$C$1:$BL$10,10,FALSE)","v":-821},null,null,null,null,null,null,"FED +"]
["H","NE","ALS",4,200062,"KNITTEL","Cédric",1996,59.8,"SHC Haguenau","F",70,74,76,76,90,-94,94,94,170,50.400000000000006,"FED +",0,{"$f":"IF(I53=\"\",\"\",IF(A53=\"H\",IF(OR(H53=\"SEN\",H53<1995),VLOOKUP(I53,Feuil1!$A$11:$F$29,6),IF(AND(H53>1994,H53<1998),VLOOKUP(I53,Feuil1!$A$11:$F$29,5),IF(AND(H53>1997,H53<2000),VLOOKUP(I53,Feuil1!$A$11:$F$29,4),IF(AND(H53>1999,H53<2002),VLOOKUP(I53,Feuil1!$A$11:$F$29,3),VLOOKUP(I53,Feuil1!$A$11:$F$29,2))))),IF(OR(H53=\"SEN\",H53<1995),VLOOKUP(I53,Feuil1!$G$11:$L$25,6),IF(AND(H53>1994,H53<1998),VLOOKUP(I53,Feuil1!$G$11:$L$25,5),IF(AND(H53>1997,H53<2000),VLOOKUP(I53,Feuil1!$G$11:$L$25,4),IF(AND(H53>1999,H53<2002),VLOOKUP(I53,Feuil1!$G$11:$L$25,3),VLOOKUP(I53,Feuil1!$G$11:$L$25,2)))))))","v":"J62"},252.39565165255405,null," ",{"$f":"T53-HLOOKUP(X53,Feuil1!$C$1:$BL$10,2,FALSE)","v":80},{"$f":"T53-HLOOKUP(X53,Feuil1!$C$1:$BL$10,3,FALSE)","v":50},{"$f":"T53-HLOOKUP(X53,Feuil1!$C$1:$BL$10,4,FALSE)","v":35},{"$f":"T53-HLOOKUP(X53,Feuil1!$C$1:$BL$10,5,FALSE)","v":20},{"$f":"T53-HLOOKUP(X53,Feuil1!$C$1:$BL$10,6,FALSE)","v":0},{"$f":"T53-HLOOKUP(X53,Feuil1!$C$1:$BL$10,7,FALSE)","v":-20},{"$f":"T53-HLOOKUP(X53,Feuil1!$C$1:$BL$10,8,FALSE)","v":-40},{"$f":"T53-HLOOKUP(X53,Feuil1!$C$1:$BL$10,9,FALSE)","v":-60},{"$f":"T53-HLOOKUP(X53,Feuil1!$C$1:$BL$10,10,FALSE)","v":-830},null,null,null,null,null,null,"FED +"]
["H","NE","FCO",5,330809,"VENERI","Kory",1997,61.9,"CH Luxeuil","F",75,-77,-77,75,-87,87,-95,87,162,38.200000000000003,"IRG +",12,{"$f":"IF(I54=\"\",\"\",IF(A54=\"H\",IF(OR(H54=\"SEN\",H54<1995),VLOOKUP(I54,Feuil1!$A$11:$F$29,6),IF(AND(H54>1994,H54<1998),VLOOKUP(I54,Feuil1!$A$11:$F$29,5),IF(AND(H54>1997,H54<2000),VLOOKUP(I54,Feuil1!$A$11:$F$29,4),IF(AND(H54>1999,H54<2002),VLOOKUP(I54,Feuil1!$A$11:$F$29,3),VLOOKUP(I54,Feuil1!$A$11:$F$29,2))))),IF(OR(H54=\"SEN\",H54<1995),VLOOKUP(I54,Feuil1!$G$11:$L$25,6),IF(AND(H54>1994,H54<1998),VLOOKUP(I54,Feuil1!$G$11:$L$25,5),IF(AND(H54>1997,H54<2000),VLOOKUP(I54,Feuil1!$G$11:$L$25,4),IF(AND(H54>1999,H54<2002),VLOOKUP(I54,Feuil1!$G$11:$L$25,3),VLOOKUP(I54,Feuil1!$G$11:$L$25,2)))))))","v":"J62"},234.56166036564849,null," ",{"$f":"T54-HLOOKUP(X54,Feuil1!$C$1:$BL$10,2,FALSE)","v":72},{"$f":"T54-HLOOKUP(X54,Feuil1!$C$1:$BL$10,3,FALSE)","v":42},{"$f":"T54-HLOOKUP(X54,Feuil1!$C$1:$BL$10,4,FALSE)","v":27},{"$f":"T54-HLOOKUP(X54,Feuil1!$C$1:$BL$10,5,FALSE)","v":12},{"$f":"T54-HLOOKUP(X54,Feuil1!$C$1:$BL$10,6,FALSE)","v":-8},{"$f":"T54-HLOOKUP(X54,Feuil1!$C$1:$BL$10,7,FALSE)","v":-28},{"$f":"T54-HLOOKUP(X54,Feuil1!$C$1:$BL$10,8,FALSE)","v":-48},{"$f":"T54-HLOOKUP(X54,Feuil1!$C$1:$BL$10,9,FALSE)","v":-68},{"$f":"T54-HLOOKUP(X54,Feuil1!$C$1:$BL$10,10,FALSE)","v":-838},null,null,null,null,null,null,"IRG +"]
["H","SEST","CAZ",6,325142,"MONTAGNOLI","Valentin",1996,56.8,"E.S. VILLENEUVE LOUBET","F",58,62,-64,62,77,82,-85,82,144,30.400000000000006,"REG +",9,{"$f":"IF(I55=\"\",\"\",IF(A55=\"H\",IF(OR(H55=\"SEN\",H55<1995),VLOOKUP(I55,Feuil1!$A$11:$F$29,6),IF(AND(H55>1994,H55<1998),VLOOKUP(I55,Feuil1!$A$11:$F$29,5),IF(AND(H55>1997,H55<2000),VLOOKUP(I55,Feuil1!$A$11:$F$29,4),IF(AND(H55>1999,H55<2002),VLOOKUP(I55,Feuil1!$A$11:$F$29,3),VLOOKUP(I55,Feuil1!$A$11:$F$29,2))))),IF(OR(H55=\"SEN\",H55<1995),VLOOKUP(I55,Feuil1!$G$11:$L$25,6),IF(AND(H55>1994,H55<1998),VLOOKUP(I55,Feuil1!$G$11:$L$25,5),IF(AND(H55>1997,H55<2000),VLOOKUP(I55,Feuil1!$G$11:$L$25,4),IF(AND(H55>1999,H55<2002),VLOOKUP(I55,Feuil1!$G$11:$L$25,3),VLOOKUP(I55,Feuil1!$G$11:$L$25,2)))))))","v":"J62"},222.27952625105587,null," ",{"$f":"T55-HLOOKUP(X55,Feuil1!$C$1:$BL$10,2,FALSE)","v":54},{"$f":"T55-HLOOKUP(X55,Feuil1!$C$1:$BL$10,3,FALSE)","v":24},{"$f":"T55-HLOOKUP(X55,Feuil1!$C$1:$BL$10,4,FALSE)","v":9},{"$f":"T55-HLOOKUP(X55,Feuil1!$C$1:$BL$10,5,FALSE)","v":-6},{"$f":"T55-HLOOKUP(X55,Feuil1!$C$1:$BL$10,6,FALSE)","v":-26},{"$f":"T55-HLOOKUP(X55,Feuil1!$C$1:$BL$10,7,FALSE)","v":-46},{"$f":"T55-HLOOKUP(X55,Feuil1!$C$1:$BL$10,8,FALSE)","v":-66},{"$f":"T55-HLOOKUP(X55,Feuil1!$C$1:$BL$10,9,FALSE)","v":-86},{"$f":"T55-HLOOKUP(X55,Feuil1!$C$1:$BL$10,10,FALSE)","v":-856},null,null,null,null,null,null,"REG +"]
["H","SEST","RAL","NC",222418,"BAILLET ","Valentin",1997,61.5,"H.C. ST BALDOPH","F",80,-84,-84,80,-102,-102,-102,0,0,-123,"DEB ",-90,{"$f":"IF(I56=\"\",\"\",IF(A56=\"H\",IF(OR(H56=\"SEN\",H56<1995),VLOOKUP(I56,Feuil1!$A$11:$F$29,6),IF(AND(H56>1994,H56<1998),VLOOKUP(I56,Feuil1!$A$11:$F$29,5),IF(AND(H56>1997,H56<2000),VLOOKUP(I56,Feuil1!$A$11:$F$29,4),IF(AND(H56>1999,H56<2002),VLOOKUP(I56,Feuil1!$A$11:$F$29,3),VLOOKUP(I56,Feuil1!$A$11:$F$29,2))))),IF(OR(H56=\"SEN\",H56<1995),VLOOKUP(I56,Feuil1!$G$11:$L$25,6),IF(AND(H56>1994,H56<1998),VLOOKUP(I56,Feuil1!$G$11:$L$25,5),IF(AND(H56>1997,H56<2000),VLOOKUP(I56,Feuil1!$G$11:$L$25,4),IF(AND(H56>1999,H56<2002),VLOOKUP(I56,Feuil1!$G$11:$L$25,3),VLOOKUP(I56,Feuil1!$G$11:$L$25,2)))))))","v":"J62"},0,null," ",{"$f":"T56-HLOOKUP(X56,Feuil1!$C$1:$BL$10,2,FALSE)","v":-90},{"$f":"T56-HLOOKUP(X56,Feuil1!$C$1:$BL$10,3,FALSE)","v":-120},{"$f":"T56-HLOOKUP(X56,Feuil1!$C$1:$BL$10,4,FALSE)","v":-135},{"$f":"T56-HLOOKUP(X56,Feuil1!$C$1:$BL$10,5,FALSE)","v":-150},{"$f":"T56-HLOOKUP(X56,Feuil1!$C$1:$BL$10,6,FALSE)","v":-170},{"$f":"T56-HLOOKUP(X56,Feuil1!$C$1:$BL$10,7,FALSE)","v":-190},{"$f":"T56-HLOOKUP(X56,Feuil1!$C$1:$BL$10,8,FALSE)","v":-210},{"$f":"T56-HLOOKUP(X56,Feuil1!$C$1:$BL$10,9,FALSE)","v":-230},{"$f":"T56-HLOOKUP(X56,Feuil1!$C$1:$BL$10,10,FALSE)","v":-1000},null,null,null,null,null,null,"DEB "]
[]
["H","CO","BNO",1,169489,"COISNARD","José",1995,67.900000000000006,"Caen CHM","F",102,110,-113,{"$f":"IF(H58=\"\",\"\",IF(MAXA(L58:N58)<=0,0,MAXA(L58:N58)))","v":110},112,-118,120,{"$f":"IF(H58=\"\",\"\",IF(MAXA(P58:R58)<=0,0,MAXA(P58:R58)))","v":120},{"$f":"IF(H58=\"\",\"\",IF(OR(O58=0,S58=0),0,O58+S58))","v":230},{"$f":"T58-I58*2","v":94.199999999999989},{"$f":"IF(H58=\"\",\"\",AQ58)","v":"NAT +"},{"$f":"IF(AJ58>=0,AJ58,IF(AI58>=0,AI58,IF(AH58>=0,AH58,IF(AG58>=0,AG58,IF(AF58>=0,AF58,IF(AE58>=0,AE58,IF(AD58>=0,AD58,IF(AC58>=0,AC58,AB58))))))))","v":10},{"$f":"IF(I58=\"\",\"\",IF(A58=\"H\",IF(OR(H58=\"SEN\",H58<1995),VLOOKUP(I58,Feuil1!$A$11:$F$29,6),IF(AND(H58>1994,H58<1998),VLOOKUP(I58,Feuil1!$A$11:$F$29,5),IF(AND(H58>1997,H58<2000),VLOOKUP(I58,Feuil1!$A$11:$F$29,4),IF(AND(H58>1999,H58<2002),VLOOKUP(I58,Feuil1!$A$11:$F$29,3),VLOOKUP(I58,Feuil1!$A$11:$F$29,2))))),IF(OR(H58=\"SEN\",H58<1995),VLOOKUP(I58,Feuil1!$G$11:$L$25,6),IF(AND(H58>1994,H58<1998),VLOOKUP(I58,Feuil1!$G$11:$L$25,5),IF(AND(H58>1997,H58<2000),VLOOKUP(I58,Feuil1!$G$11:$L$25,4),IF(AND(H58>1999,H58<2002),VLOOKUP(I58,Feuil1!$G$11:$L$25,3),VLOOKUP(I58,Feuil1!$G$11:$L$25,2)))))))","v":"J69"},{"$f":"IF(I58=\"\",\"\",IF(A58=\"H\",10^(0.794358141*LOG(I58/174.393)^2)*T58,IF(A58=\"F\",10^(0.89726074*LOG(I58/148.026)^2)*T58,\"\")))","v":312.63499689335561},null," ",{"$f":"T58-HLOOKUP(X58,Feuil1!$C$1:$BL$10,2,FALSE)","v":120},{"$f":"T58-HLOOKUP(X58,Feuil1!$C$1:$BL$10,3,FALSE)","v":100},{"$f":"T58-HLOOKUP(X58,Feuil1!$C$1:$BL$10,4,FALSE)","v":80},{"$f":"T58-HLOOKUP(X58,Feuil1!$C$1:$BL$10,5,FALSE)","v":60},{"$f":"T58-HLOOKUP(X58,Feuil1!$C$1:$BL$10,6,FALSE)","v":40},{"$f":"T58-HLOOKUP(X58,Feuil1!$C$1:$BL$10,7,FALSE)","v":10},{"$f":"T58-HLOOKUP(X58,Feuil1!$C$1:$BL$10,8,FALSE)","v":-10},{"$f":"T58-HLOOKUP(X58,Feuil1!$C$1:$BL$10,9,FALSE)","v":-20},{"$f":"T58-HLOOKUP(X58,Feuil1!$C$1:$BL$10,10,FALSE)","v":-770},null,null,null,null,null,null,{"$f":"IF(AJ58>=0,$AJ$4,IF(AI58>=0,$AI$4,IF(AH58>=0,$AH$4,IF(AG58>=0,$AG$4,IF(AF58>=0,$AF$4,IF(AE58>=0,$AE$4,IF(AD58>=0,$AD$4,IF(AC58>=0,$AC$4,$AB$4))))))))","v":"NAT +"}]
["H","Nord","IDF",2,335580,"FARDEL","Marvin",1996,68.39,"Franconville","F",100,-102,103,103,117,-120,"-",117,220,83.22,"NAT +",0,{"$f":"IF(I59=\"\",\"\",IF(A59=\"H\",IF(OR(H59=\"SEN\",H59<1995),VLOOKUP(I59,Feuil1!$A$11:$F$29,6),IF(AND(H59>1994,H59<1998),VLOOKUP(I59,Feuil1!$A$11:$F$29,5),IF(AND(H59>1997,H59<2000),VLOOKUP(I59,Feuil1!$A$11:$F$29,4),IF(AND(H59>1999,H59<2002),VLOOKUP(I59,Feuil1!$A$11:$F$29,3),VLOOKUP(I59,Feuil1!$A$11:$F$29,2))))),IF(OR(H59=\"SEN\",H59<1995),VLOOKUP(I59,Feuil1!$G$11:$L$25,6),IF(AND(H59>1994,H59<1998),VLOOKUP(I59,Feuil1!$G$11:$L$25,5),IF(AND(H59>1997,H59<2000),VLOOKUP(I59,Feuil1!$G$11:$L$25,4),IF(AND(H59>1999,H59<2002),VLOOKUP(I59,Feuil1!$G$11:$L$25,3),VLOOKUP(I59,Feuil1!$G$11:$L$25,2)))))))","v":"J69"},297.65127351622323,null," ",{"$f":"T59-HLOOKUP(X59,Feuil1!$C$1:$BL$10,2,FALSE)","v":110},{"$f":"T59-HLOOKUP(X59,Feuil1!$C$1:$BL$10,3,FALSE)","v":90},{"$f":"T59-HLOOKUP(X59,Feuil1!$C$1:$BL$10,4,FALSE)","v":70},{"$f":"T59-HLOOKUP(X59,Feuil1!$C$1:$BL$10,5,FALSE)","v":50},{"$f":"T59-HLOOKUP(X59,Feuil1!$C$1:$BL$10,6,FALSE)","v":30},{"$f":"T59-HLOOKUP(X59,Feuil1!$C$1:$BL$10,7,FALSE)","v":0},{"$f":"T59-HLOOKUP(X59,Feuil1!$C$1:$BL$10,8,FALSE)","v":-20},{"$f":"T59-HLOOKUP(X59,Feuil1!$C$1:$BL$10,9,FALSE)","v":-30},{"$f":"T59-HLOOKUP(X59,Feuil1!$C$1:$BL$10,10,FALSE)","v":-780},null,null,null,null,null,null,"NAT +"]
["H","NE","ALS",3,188738,"JACQUEL","Florian",1995,67.8,"SHC Haguenau","F",-91,92,-96,92,108,113,-116,113,205,69.400000000000006,"FED +",15,{"$f":"IF(I60=\"\",\"\",IF(A60=\"H\",IF(OR(H60=\"SEN\",H60<1995),VLOOKUP(I60,Feuil1!$A$11:$F$29,6),IF(AND(H60>1994,H60<1998),VLOOKUP(I60,Feuil1!$A$11:$F$29,5),IF(AND(H60>1997,H60<2000),VLOOKUP(I60,Feuil1!$A$11:$F$29,4),IF(AND(H60>1999,H60<2002),VLOOKUP(I60,Feuil1!$A$11:$F$29,3),VLOOKUP(I60,Feuil1!$A$11:$F$29,2))))),IF(OR(H60=\"SEN\",H60<1995),VLOOKUP(I60,Feuil1!$G$11:$L$25,6),IF(AND(H60>1994,H60<1998),VLOOKUP(I60,Feuil1!$G$11:$L$25,5),IF(AND(H60>1997,H60<2000),VLOOKUP(I60,Feuil1!$G$11:$L$25,4),IF(AND(H60>1999,H60<2002),VLOOKUP(I60,Feuil1!$G$11:$L$25,3),VLOOKUP(I60,Feuil1!$G$11:$L$25,2)))))))","v":"J69"},278.92055943351085,null," ",{"$f":"T60-HLOOKUP(X60,Feuil1!$C$1:$BL$10,2,FALSE)","v":95},{"$f":"T60-HLOOKUP(X60,Feuil1!$C$1:$BL$10,3,FALSE)","v":75},{"$f":"T60-HLOOKUP(X60,Feuil1!$C$1:$BL$10,4,FALSE)","v":55},{"$f":"T60-HLOOKUP(X60,Feuil1!$C$1:$BL$10,5,FALSE)","v":35},{"$f":"T60-HLOOKUP(X60,Feuil1!$C$1:$BL$10,6,FALSE)","v":15},{"$f":"T60-HLOOKUP(X60,Feuil1!$C$1:$BL$10,7,FALSE)","v":-15},{"$f":"T60-HLOOKUP(X60,Feuil1!$C$1:$BL$10,8,FALSE)","v":-35},{"$f":"T60-HLOOKUP(X60,Feuil1!$C$1:$BL$10,9,FALSE)","v":-45},{"$f":"T60-HLOOKUP(X60,Feuil1!$C$1:$BL$10,10,FALSE)","v":-795},null,null,null,null,null,null,"FED +"]
["H","NE","CHA",4,246843,"RENAUT","Guillaume",1997,68.2,"Langres HM","F",84,87,90,90,106,110,-112,110,200,63.599999999999994,"FED +",10,{"$f":"IF(I61=\"\",\"\",IF(A61=\"H\",IF(OR(H61=\"SEN\",H61<1995),VLOOKUP(I61,Feuil1!$A$11:$F$29,6),IF(AND(H61>1994,H61<1998),VLOOKUP(I61,Feuil1!$A$11:$F$29,5),IF(AND(H61>1997,H61<2000),VLOOKUP(I61,Feuil1!$A$11:$F$29,4),IF(AND(H61>1999,H61<2002),VLOOKUP(I61,Feuil1!$A$11:$F$29,3),VLOOKUP(I61,Feuil1!$A$11:$F$29,2))))),IF(OR(H61=\"SEN\",H61<1995),VLOOKUP(I61,Feuil1!$G$11:$L$25,6),IF(AND(H61>1994,H61<1998),VLOOKUP(I61,Feuil1!$G$11:$L$25,5),IF(AND(H61>1997,H61<2000),VLOOKUP(I61,Feuil1!$G$11:$L$25,4),IF(AND(H61>1999,H61<2002),VLOOKUP(I61,Feuil1!$G$11:$L$25,3),VLOOKUP(I61,Feuil1!$G$11:$L$25,2)))))))","v":"J69"},271.07943994476187,null," ",{"$f":"T61-HLOOKUP(X61,Feuil1!$C$1:$BL$10,2,FALSE)","v":90},{"$f":"T61-HLOOKUP(X61,Feuil1!$C$1:$BL$10,3,FALSE)","v":70},{"$f":"T61-HLOOKUP(X61,Feuil1!$C$1:$BL$10,4,FALSE)","v":50},{"$f":"T61-HLOOKUP(X61,Feuil1!$C$1:$BL$10,5,FALSE)","v":30},{"$f":"T61-HLOOKUP(X61,Feuil1!$C$1:$BL$10,6,FALSE)","v":10},{"$f":"T61-HLOOKUP(X61,Feuil1!$C$1:$BL$10,7,FALSE)","v":-20},{"$f":"T61-HLOOKUP(X61,Feuil1!$C$1:$BL$10,8,FALSE)","v":-40},{"$f":"T61-HLOOKUP(X61,Feuil1!$C$1:$BL$10,9,FALSE)","v":-50},{"$f":"T61-HLOOKUP(X61,Feuil1!$C$1:$BL$10,10,FALSE)","v":-800},null,null,null,null,null,null,"FED +"]
["H","Nord","NPC",5,378539,"DELEPLACE","Nicolas",1995,68.599999999999994,"Berck sur Mer","F",85,88,90,90,100,105,-109,105,195,57.800000000000011,"FED +",5,{"$f":"IF(I62=\"\",\"\",IF(A62=\"H\",IF(OR(H62=\"SEN\",H62<1995),VLOOKUP(I62,Feuil1!$A$11:$F$29,6),IF(AND(H62>1994,H62<1998),VLOOKUP(I62,Feuil1!$A$11:$F$29,5),IF(AND(H62>1997,H62<2000),VLOOKUP(I62,Feuil1!$A$11:$F$29,4),IF(AND(H62>1999,H62<2002),VLOOKUP(I62,Feuil1!$A$11:$F$29,3),VLOOKUP(I62,Feuil1!$A$11:$F$29,2))))),IF(OR(H62=\"SEN\",H62<1995),VLOOKUP(I62,Feuil1!$G$11:$L$25,6),IF(AND(H62>1994,H62<1998),VLOOKUP(I62,Feuil1!$G$11:$L$25,5),IF(AND(H62>1997,H62<2000),VLOOKUP(I62,Feuil1!$G$11:$L$25,4),IF(AND(H62>1999,H62<2002),VLOOKUP(I62,Feuil1!$G$11:$L$25,3),VLOOKUP(I62,Feuil1!$G$11:$L$25,2)))))))","v":"J69"},263.30620813408694,null," ",{"$f":"T62-HLOOKUP(X62,Feuil1!$C$1:$BL$10,2,FALSE)","v":85},{"$f":"T62-HLOOKUP(X62,Feuil1!$C$1:$BL$10,3,FALSE)","v":65},{"$f":"T62-HLOOKUP(X62,Feuil1!$C$1:$BL$10,4,FALSE)","v":45},{"$f":"T62-HLOOKUP(X62,Feuil1!$C$1:$BL$10,5,FALSE)","v":25},{"$f":"T62-HLOOKUP(X62,Feuil1!$C$1:$BL$10,6,FALSE)","v":5},{"$f":"T62-HLOOKUP(X62,Feuil1!$C$1:$BL$10,7,FALSE)","v":-25},{"$f":"T62-HLOOKUP(X62,Feuil1!$C$1:$BL$10,8,FALSE)","v":-45},{"$f":"T62-HLOOKUP(X62,Feuil1!$C$1:$BL$10,9,FALSE)","v":-55},{"$f":"T62-HLOOKUP(X62,Feuil1!$C$1:$BL$10,10,FALSE)","v":-805},null,null,null,null,null,null,"FED +"]
["H","SO","MPY",6,222054,"JIMENEZ","Valentin",1995,64.599999999999994,"TOULOUSE","F",83,-86,-87,83,107,-111,-111,107,190,60.800000000000011,"FED +",0,{"$f":"IF(I63=\"\",\"\",IF(A63=\"H\",IF(OR(H63=\"SEN\",H63<1995),VLOOKUP(I63,Feuil1!$A$11:$F$29,6),IF(AND(H63>1994,H63<1998),VLOOKUP(I63,Feuil1!$A$11:$F$29,5),IF(AND(H63>1997,H63<2000),VLOOKUP(I63,Feuil1!$A$11:$F$29,4),IF(AND(H63>1999,H63<2002),VLOOKUP(I63,Feuil1!$A$11:$F$29,3),VLOOKUP(I63,Feuil1!$A$11:$F$29,2))))),IF(OR(H63=\"SEN\",H63<1995),VLOOKUP(I63,Feuil1!$G$11:$L$25,6),IF(AND(H63>1994,H63<1998),VLOOKUP(I63,Feuil1!$G$11:$L$25,5),IF(AND(H63>1997,H63<2000),VLOOKUP(I63,Feuil1!$G$11:$L$25,4),IF(AND(H63>1999,H63<2002),VLOOKUP(I63,Feuil1!$G$11:$L$25,3),VLOOKUP(I63,Feuil1!$G$11:$L$25,2)))))))","v":"J69"},267.00382250389282,null," ",{"$f":"T63-HLOOKUP(X63,Feuil1!$C$1:$BL$10,2,FALSE)","v":80},{"$f":"T63-HLOOKUP(X63,Feuil1!$C$1:$BL$10,3,FALSE)","v":60},{"$f":"T63-HLOOKUP(X63,Feuil1!$C$1:$BL$10,4,FALSE)","v":40},{"$f":"T63-HLOOKUP(X63,Feuil1!$C$1:$BL$10,5,FALSE)","v":20},{"$f":"T63-HLOOKUP(X63,Feuil1!$C$1:$BL$10,6,FALSE)","v":0},{"$f":"T63-HLOOKUP(X63,Feuil1!$C$1:$BL$10,7,FALSE)","v":-30},{"$f":"T63-HLOOKUP(X63,Feuil1!$C$1:$BL$10,8,FALSE)","v":-50},{"$f":"T63-HLOOKUP(X63,Feuil1!$C$1:$BL$10,9,FALSE)","v":-60},{"$f":"T63-HLOOKUP(X63,Feuil1!$C$1:$BL$10,10,FALSE)","v":-810},null,null,null,null,null,null,"FED +"]
["H","NE","ALS",7,311235,"HUYNH","PHUONG",1995,69,"SA Koenigshoffen","F",78,83,-86,83,102,-108,-108,102,185,47,"IRG +",15,{"$f":"IF(I64=\"\",\"\",IF(A64=\"H\",IF(OR(H64=\"SEN\",H64<1995),VLOOKUP(I64,Feuil1!$A$11:$F$29,6),IF(AND(H64>1994,H64<1998),VLOOKUP(I64,Feuil1!$A$11:$F$29,5),IF(AND(H64>1997,H64<2000),VLOOKUP(I64,Feuil1!$A$11:$F$29,4),IF(AND(H64>1999,H64<2002),VLOOKUP(I64,Feuil1!$A$11:$F$29,3),VLOOKUP(I64,Feuil1!$A$11:$F$29,2))))),IF(OR(H64=\"SEN\",H64<1995),VLOOKUP(I64,Feuil1!$G$11:$L$25,6),IF(AND(H64>1994,H64<1998),VLOOKUP(I64,Feuil1!$G$11:$L$25,5),IF(AND(H64>1997,H64<2000),VLOOKUP(I64,Feuil1!$G$11:$L$25,4),IF(AND(H64>1999,H64<2002),VLOOKUP(I64,Feuil1!$G$11:$L$25,3),VLOOKUP(I64,Feuil1!$G$11:$L$25,2)))))))","v":"J69"},248.87301739966642,null," ",{"$f":"T64-HLOOKUP(X64,Feuil1!$C$1:$BL$10,2,FALSE)","v":75},{"$f":"T64-HLOOKUP(X64,Feuil1!$C$1:$BL$10,3,FALSE)","v":55},{"$f":"T64-HLOOKUP(X64,Feuil1!$C$1:$BL$10,4,FALSE)","v":35},{"$f":"T64-HLOOKUP(X64,Feuil1!$C$1:$BL$10,5,FALSE)","v":15},{"$f":"T64-HLOOKUP(X64,Feuil1!$C$1:$BL$10,6,FALSE)","v":-5},{"$f":"T64-HLOOKUP(X64,Feuil1!$C$1:$BL$10,7,FALSE)","v":-35},{"$f":"T64-HLOOKUP(X64,Feuil1!$C$1:$BL$10,8,FALSE)","v":-55},{"$f":"T64-HLOOKUP(X64,Feuil1!$C$1:$BL$10,9,FALSE)","v":-65},{"$f":"T64-HLOOKUP(X64,Feuil1!$C$1:$BL$10,10,FALSE)","v":-815},null,null,null,null,null,null,"IRG +"]
["H","SEST","RAL",8,336197,"DENIS","Brian",1997,64.3,"H.C. CHAMBON-FEUGEROLLES","F",77,-82,82,82,-100,102,-108,102,184,55.400000000000006,"IRG +",14,{"$f":"IF(I65=\"\",\"\",IF(A65=\"H\",IF(OR(H65=\"SEN\",H65<1995),VLOOKUP(I65,Feuil1!$A$11:$F$29,6),IF(AND(H65>1994,H65<1998),VLOOKUP(I65,Feuil1!$A$11:$F$29,5),IF(AND(H65>1997,H65<2000),VLOOKUP(I65,Feuil1!$A$11:$F$29,4),IF(AND(H65>1999,H65<2002),VLOOKUP(I65,Feuil1!$A$11:$F$29,3),VLOOKUP(I65,Feuil1!$A$11:$F$29,2))))),IF(OR(H65=\"SEN\",H65<1995),VLOOKUP(I65,Feuil1!$G$11:$L$25,6),IF(AND(H65>1994,H65<1998),VLOOKUP(I65,Feuil1!$G$11:$L$25,5),IF(AND(H65>1997,H65<2000),VLOOKUP(I65,Feuil1!$G$11:$L$25,4),IF(AND(H65>1999,H65<2002),VLOOKUP(I65,Feuil1!$G$11:$L$25,3),VLOOKUP(I65,Feuil1!$G$11:$L$25,2)))))))","v":"J69"},259.40009195577829,null," ",{"$f":"T65-HLOOKUP(X65,Feuil1!$C$1:$BL$10,2,FALSE)","v":74},{"$f":"T65-HLOOKUP(X65,Feuil1!$C$1:$BL$10,3,FALSE)","v":54},{"$f":"T65-HLOOKUP(X65,Feuil1!$C$1:$BL$10,4,FALSE)","v":34},{"$f":"T65-HLOOKUP(X65,Feuil1!$C$1:$BL$10,5,FALSE)","v":14},{"$f":"T65-HLOOKUP(X65,Feuil1!$C$1:$BL$10,6,FALSE)","v":-6},{"$f":"T65-HLOOKUP(X65,Feuil1!$C$1:$BL$10,7,FALSE)","v":-36},{"$f":"T65-HLOOKUP(X65,Feuil1!$C$1:$BL$10,8,FALSE)","v":-56},{"$f":"T65-HLOOKUP(X65,Feuil1!$C$1:$BL$10,9,FALSE)","v":-66},{"$f":"T65-HLOOKUP(X65,Feuil1!$C$1:$BL$10,10,FALSE)","v":-816},null,null,null,null,null,null,"IRG +"]
["H","Nord","NPC",9,359842,"REMBAUVILLE","Paul",1997,68,"CA Rosendael","F",80,84,-85,84,100,-106,-106,100,184,48,"IRG +",14,{"$f":"IF(I66=\"\",\"\",IF(A66=\"H\",IF(OR(H66=\"SEN\",H66<1995),VLOOKUP(I66,Feuil1!$A$11:$F$29,6),IF(AND(H66>1994,H66<1998),VLOOKUP(I66,Feuil1!$A$11:$F$29,5),IF(AND(H66>1997,H66<2000),VLOOKUP(I66,Feuil1!$A$11:$F$29,4),IF(AND(H66>1999,H66<2002),VLOOKUP(I66,Feuil1!$A$11:$F$29,3),VLOOKUP(I66,Feuil1!$A$11:$F$29,2))))),IF(OR(H66=\"SEN\",H66<1995),VLOOKUP(I66,Feuil1!$G$11:$L$25,6),IF(AND(H66>1994,H66<1998),VLOOKUP(I66,Feuil1!$G$11:$L$25,5),IF(AND(H66>1997,H66<2000),VLOOKUP(I66,Feuil1!$G$11:$L$25,4),IF(AND(H66>1999,H66<2002),VLOOKUP(I66,Feuil1!$G$11:$L$25,3),VLOOKUP(I66,Feuil1!$G$11:$L$25,2)))))))","v":"J69"},249.86874274297847,null," ",{"$f":"T66-HLOOKUP(X66,Feuil1!$C$1:$BL$10,2,FALSE)","v":74},{"$f":"T66-HLOOKUP(X66,Feuil1!$C$1:$BL$10,3,FALSE)","v":54},{"$f":"T66-HLOOKUP(X66,Feuil1!$C$1:$BL$10,4,FALSE)","v":34},{"$f":"T66-HLOOKUP(X66,Feuil1!$C$1:$BL$10,5,FALSE)","v":14},{"$f":"T66-HLOOKUP(X66,Feuil1!$C$1:$BL$10,6,FALSE)","v":-6},{"$f":"T66-HLOOKUP(X66,Feuil1!$C$1:$BL$10,7,FALSE)","v":-36},{"$f":"T66-HLOOKUP(X66,Feuil1!$C$1:$BL$10,8,FALSE)","v":-56},{"$f":"T66-HLOOKUP(X66,Feuil1!$C$1:$BL$10,9,FALSE)","v":-66},{"$f":"T66-HLOOKUP(X66,Feuil1!$C$1:$BL$10,10,FALSE)","v":-816},null,null,null,null,null,null,"IRG +"]
["H","CO","CEN",10,296622,"MONTGUILLON","Benjamin",1996,68.55,"EC Chartres","F",80,-83,-85,80,100,-103,-103,100,180,42.900000000000006,"IRG +",10,{"$f":"IF(I67=\"\",\"\",IF(A67=\"H\",IF(OR(H67=\"SEN\",H67<1995),VLOOKUP(I67,Feuil1!$A$11:$F$29,6),IF(AND(H67>1994,H67<1998),VLOOKUP(I67,Feuil1!$A$11:$F$29,5),IF(AND(H67>1997,H67<2000),VLOOKUP(I67,Feuil1!$A$11:$F$29,4),IF(AND(H67>1999,H67<2002),VLOOKUP(I67,Feuil1!$A$11:$F$29,3),VLOOKUP(I67,Feuil1!$A$11:$F$29,2))))),IF(OR(H67=\"SEN\",H67<1995),VLOOKUP(I67,Feuil1!$G$11:$L$25,6),IF(AND(H67>1994,H67<1998),VLOOKUP(I67,Feuil1!$G$11:$L$25,5),IF(AND(H67>1997,H67<2000),VLOOKUP(I67,Feuil1!$G$11:$L$25,4),IF(AND(H67>1999,H67<2002),VLOOKUP(I67,Feuil1!$G$11:$L$25,3),VLOOKUP(I67,Feuil1!$G$11:$L$25,2)))))))","v":"J69"},243.16603968429007,null," ",{"$f":"T67-HLOOKUP(X67,Feuil1!$C$1:$BL$10,2,FALSE)","v":70},{"$f":"T67-HLOOKUP(X67,Feuil1!$C$1:$BL$10,3,FALSE)","v":50},{"$f":"T67-HLOOKUP(X67,Feuil1!$C$1:$BL$10,4,FALSE)","v":30},{"$f":"T67-HLOOKUP(X67,Feuil1!$C$1:$BL$10,5,FALSE)","v":10},{"$f":"T67-HLOOKUP(X67,Feuil1!$C$1:$BL$10,6,FALSE)","v":-10},{"$f":"T67-HLOOKUP(X67,Feuil1!$C$1:$BL$10,7,FALSE)","v":-40},{"$f":"T67-HLOOKUP(X67,Feuil1!$C$1:$BL$10,8,FALSE)","v":-60},{"$f":"T67-HLOOKUP(X67,Feuil1!$C$1:$BL$10,9,FALSE)","v":-70},{"$f":"T67-HLOOKUP(X67,Feuil1!$C$1:$BL$10,10,FALSE)","v":-820},null,null,null,null,null,null,"IRG +"]
["H","CO","BNO",11,169488,"COISNARD","Rémy",1995,67.95,"Caen CHM","F",70,75,80,80,90,-97,-101,90,170,34.099999999999994,"IRG +",0,{"$f":"IF(I68=\"\",\"\",IF(A68=\"H\",IF(OR(H68=\"SEN\",H68<1995),VLOOKUP(I68,Feuil1!$A$11:$F$29,6),IF(AND(H68>1994,H68<1998),VLOOKUP(I68,Feuil1!$A$11:$F$29,5),IF(AND(H68>1997,H68<2000),VLOOKUP(I68,Feuil1!$A$11:$F$29,4),IF(AND(H68>1999,H68<2002),VLOOKUP(I68,Feuil1!$A$11:$F$29,3),VLOOKUP(I68,Feuil1!$A$11:$F$29,2))))),IF(OR(H68=\"SEN\",H68<1995),VLOOKUP(I68,Feuil1!$G$11:$L$25,6),IF(AND(H68>1994,H68<1998),VLOOKUP(I68,Feuil1!$G$11:$L$25,5),IF(AND(H68>1997,H68<2000),VLOOKUP(I68,Feuil1!$G$11:$L$25,4),IF(AND(H68>1999,H68<2002),VLOOKUP(I68,Feuil1!$G$11:$L$25,3),VLOOKUP(I68,Feuil1!$G$11:$L$25,2)))))))","v":"J69"},230.96740562753726,null," ",{"$f":"T68-HLOOKUP(X68,Feuil1!$C$1:$BL$10,2,FALSE)","v":60},{"$f":"T68-HLOOKUP(X68,Feuil1!$C$1:$BL$10,3,FALSE)","v":40},{"$f":"T68-HLOOKUP(X68,Feuil1!$C$1:$BL$10,4,FALSE)","v":20},{"$f":"T68-HLOOKUP(X68,Feuil1!$C$1:$BL$10,5,FALSE)","v":0},{"$f":"T68-HLOOKUP(X68,Feuil1!$C$1:$BL$10,6,FALSE)","v":-20},{"$f":"T68-HLOOKUP(X68,Feuil1!$C$1:$BL$10,7,FALSE)","v":-50},{"$f":"T68-HLOOKUP(X68,Feuil1!$C$1:$BL$10,8,FALSE)","v":-70},{"$f":"T68-HLOOKUP(X68,Feuil1!$C$1:$BL$10,9,FALSE)","v":-80},{"$f":"T68-HLOOKUP(X68,Feuil1!$C$1:$BL$10,10,FALSE)","v":-830},null,null,null,null,null,null,"IRG +"]
["H","SE","AUV",12,319717,"ALTAYRAC","Nicolas",1997,68.400000000000006,"AURILLAC","F",69,-72,72,72,90,-95,95,95,167,30.199999999999989,"REG +",17,{"$f":"IF(I69=\"\",\"\",IF(A69=\"H\",IF(OR(H69=\"SEN\",H69<1995),VLOOKUP(I69,Feuil1!$A$11:$F$29,6),IF(AND(H69>1994,H69<1998),VLOOKUP(I69,Feuil1!$A$11:$F$29,5),IF(AND(H69>1997,H69<2000),VLOOKUP(I69,Feuil1!$A$11:$F$29,4),IF(AND(H69>1999,H69<2002),VLOOKUP(I69,Feuil1!$A$11:$F$29,3),VLOOKUP(I69,Feuil1!$A$11:$F$29,2))))),IF(OR(H69=\"SEN\",H69<1995),VLOOKUP(I69,Feuil1!$G$11:$L$25,6),IF(AND(H69>1994,H69<1998),VLOOKUP(I69,Feuil1!$G$11:$L$25,5),IF(AND(H69>1997,H69<2000),VLOOKUP(I69,Feuil1!$G$11:$L$25,4),IF(AND(H69>1999,H69<2002),VLOOKUP(I69,Feuil1!$G$11:$L$25,3),VLOOKUP(I69,Feuil1!$G$11:$L$25,2)))))))","v":"J69"},225.9230419872074,null," ",{"$f":"T69-HLOOKUP(X69,Feuil1!$C$1:$BL$10,2,FALSE)","v":57},{"$f":"T69-HLOOKUP(X69,Feuil1!$C$1:$BL$10,3,FALSE)","v":37},{"$f":"T69-HLOOKUP(X69,Feuil1!$C$1:$BL$10,4,FALSE)","v":17},{"$f":"T69-HLOOKUP(X69,Feuil1!$C$1:$BL$10,5,FALSE)","v":-3},{"$f":"T69-HLOOKUP(X69,Feuil1!$C$1:$BL$10,6,FALSE)","v":-23},{"$f":"T69-HLOOKUP(X69,Feuil1!$C$1:$BL$10,7,FALSE)","v":-53},{"$f":"T69-HLOOKUP(X69,Feuil1!$C$1:$BL$10,8,FALSE)","v":-73},{"$f":"T69-HLOOKUP(X69,Feuil1!$C$1:$BL$10,9,FALSE)","v":-83},{"$f":"T69-HLOOKUP(X69,Feuil1!$C$1:$BL$10,10,FALSE)","v":-833},null,null,null,null,null,null,"REG +"]
["H","Nord","NPC","NC",225360,"PAPEGAY","Florian",1995,66.400000000000006,"St Pol sur Mer","F",-90,-90,-90,0,"-","-","-",0,0,-132.80000000000001,"DEB ",-110,{"$f":"IF(I70=\"\",\"\",IF(A70=\"H\",IF(OR(H70=\"SEN\",H70<1995),VLOOKUP(I70,Feuil1!$A$11:$F$29,6),IF(AND(H70>1994,H70<1998),VLOOKUP(I70,Feuil1!$A$11:$F$29,5),IF(AND(H70>1997,H70<2000),VLOOKUP(I70,Feuil1!$A$11:$F$29,4),IF(AND(H70>1999,H70<2002),VLOOKUP(I70,Feuil1!$A$11:$F$29,3),VLOOKUP(I70,Feuil1!$A$11:$F$29,2))))),IF(OR(H70=\"SEN\",H70<1995),VLOOKUP(I70,Feuil1!$G$11:$L$25,6),IF(AND(H70>1994,H70<1998),VLOOKUP(I70,Feuil1!$G$11:$L$25,5),IF(AND(H70>1997,H70<2000),VLOOKUP(I70,Feuil1!$G$11:$L$25,4),IF(AND(H70>1999,H70<2002),VLOOKUP(I70,Feuil1!$G$11:$L$25,3),VLOOKUP(I70,Feuil1!$G$11:$L$25,2)))))))","v":"J69"},0,null," ",{"$f":"T70-HLOOKUP(X70,Feuil1!$C$1:$BL$10,2,FALSE)","v":-110},{"$f":"T70-HLOOKUP(X70,Feuil1!$C$1:$BL$10,3,FALSE)","v":-130},{"$f":"T70-HLOOKUP(X70,Feuil1!$C$1:$BL$10,4,FALSE)","v":-150},{"$f":"T70-HLOOKUP(X70,Feuil1!$C$1:$BL$10,5,FALSE)","v":-170},{"$f":"T70-HLOOKUP(X70,Feuil1!$C$1:$BL$10,6,FALSE)","v":-190},{"$f":"T70-HLOOKUP(X70,Feuil1!$C$1:$BL$10,7,FALSE)","v":-220},{"$f":"T70-HLOOKUP(X70,Feuil1!$C$1:$BL$10,8,FALSE)","v":-240},{"$f":"T70-HLOOKUP(X70,Feuil1!$C$1:$BL$10,9,FALSE)","v":-250},{"$f":"T70-HLOOKUP(X70,Feuil1!$C$1:$BL$10,10,FALSE)","v":-1000},null,null,null,null,null,null,"DEB "]
["H","Nord","IDF","NC",368740,"MENDES","Baptiste",1997,67.45,"Rueil AC","F",75,-85,-85,75,-95,-95,-95,0,0,-134.9,"DEB ",-110,{"$f":"IF(I71=\"\",\"\",IF(A71=\"H\",IF(OR(H71=\"SEN\",H71<1995),VLOOKUP(I71,Feuil1!$A$11:$F$29,6),IF(AND(H71>1994,H71<1998),VLOOKUP(I71,Feuil1!$A$11:$F$29,5),IF(AND(H71>1997,H71<2000),VLOOKUP(I71,Feuil1!$A$11:$F$29,4),IF(AND(H71>1999,H71<2002),VLOOKUP(I71,Feuil1!$A$11:$F$29,3),VLOOKUP(I71,Feuil1!$A$11:$F$29,2))))),IF(OR(H71=\"SEN\",H71<1995),VLOOKUP(I71,Feuil1!$G$11:$L$25,6),IF(AND(H71>1994,H71<1998),VLOOKUP(I71,Feuil1!$G$11:$L$25,5),IF(AND(H71>1997,H71<2000),VLOOKUP(I71,Feuil1!$G$11:$L$25,4),IF(AND(H71>1999,H71<2002),VLOOKUP(I71,Feuil1!$G$11:$L$25,3),VLOOKUP(I71,Feuil1!$G$11:$L$25,2)))))))","v":"J69"},0,null," ",{"$f":"T71-HLOOKUP(X71,Feuil1!$C$1:$BL$10,2,FALSE)","v":-110},{"$f":"T71-HLOOKUP(X71,Feuil1!$C$1:$BL$10,3,FALSE)","v":-130},{"$f":"T71-HLOOKUP(X71,Feuil1!$C$1:$BL$10,4,FALSE)","v":-150},{"$f":"T71-HLOOKUP(X71,Feuil1!$C$1:$BL$10,5,FALSE)","v":-170},{"$f":"T71-HLOOKUP(X71,Feuil1!$C$1:$BL$10,6,FALSE)","v":-190},{"$f":"T71-HLOOKUP(X71,Feuil1!$C$1:$BL$10,7,FALSE)","v":-220},{"$f":"T71-HLOOKUP(X71,Feuil1!$C$1:$BL$10,8,FALSE)","v":-240},{"$f":"T71-HLOOKUP(X71,Feuil1!$C$1:$BL$10,9,FALSE)","v":-250},{"$f":"T71-HLOOKUP(X71,Feuil1!$C$1:$BL$10,10,FALSE)","v":-1000},null,null,null,null,null,null,"DEB "]
["H","NE","LOR","NC",360359,"MULLER  GROSIUS","Johan",1997,68.900000000000006,"A.O.C.Pte-ROSSELLE","F",-75,75,-82,75,-95,-95,-95,0,0,-137.80000000000001,"DEB ",-110,{"$f":"IF(I72=\"\",\"\",IF(A72=\"H\",IF(OR(H72=\"SEN\",H72<1995),VLOOKUP(I72,Feuil1!$A$11:$F$29,6),IF(AND(H72>1994,H72<1998),VLOOKUP(I72,Feuil1!$A$11:$F$29,5),IF(AND(H72>1997,H72<2000),VLOOKUP(I72,Feuil1!$A$11:$F$29,4),IF(AND(H72>1999,H72<2002),VLOOKUP(I72,Feuil1!$A$11:$F$29,3),VLOOKUP(I72,Feuil1!$A$11:$F$29,2))))),IF(OR(H72=\"SEN\",H72<1995),VLOOKUP(I72,Feuil1!$G$11:$L$25,6),IF(AND(H72>1994,H72<1998),VLOOKUP(I72,Feuil1!$G$11:$L$25,5),IF(AND(H72>1997,H72<2000),VLOOKUP(I72,Feuil1!$G$11:$L$25,4),IF(AND(H72>1999,H72<2002),VLOOKUP(I72,Feuil1!$G$11:$L$25,3),VLOOKUP(I72,Feuil1!$G$11:$L$25,2)))))))","v":"J69"},0,null," ",{"$f":"T72-HLOOKUP(X72,Feuil1!$C$1:$BL$10,2,FALSE)","v":-110},{"$f":"T72-HLOOKUP(X72,Feuil1!$C$1:$BL$10,3,FALSE)","v":-130},{"$f":"T72-HLOOKUP(X72,Feuil1!$C$1:$BL$10,4,FALSE)","v":-150},{"$f":"T72-HLOOKUP(X72,Feuil1!$C$1:$BL$10,5,FALSE)","v":-170},{"$f":"T72-HLOOKUP(X72,Feuil1!$C$1:$BL$10,6,FALSE)","v":-190},{"$f":"T72-HLOOKUP(X72,Feuil1!$C$1:$BL$10,7,FALSE)","v":-220},{"$f":"T72-HLOOKUP(X72,Feuil1!$C$1:$BL$10,8,FALSE)","v":-240},{"$f":"T72-HLOOKUP(X72,Feuil1!$C$1:$BL$10,9,FALSE)","v":-250},{"$f":"T72-HLOOKUP(X72,Feuil1!$C$1:$BL$10,10,FALSE)","v":-1000},null,null,null,null,null,null,"DEB "]
[]
["H","SO","MPY",1,227534,"DESTRUEL","Nicolas",1995,76.400000000000006,"FIGEAC","F",85,95,-98,{"$f":"IF(H74=\"\",\"\",IF(MAXA(L74:N74)<=0,0,MAXA(L74:N74)))","v":95},113,118,120,{"$f":"IF(H74=\"\",\"\",IF(MAXA(P74:R74)<=0,0,MAXA(P74:R74)))","v":120},{"$f":"IF(H74=\"\",\"\",IF(OR(O74=0,S74=0),0,O74+S74))","v":215},{"$f":"T74-I74*2","v":62.199999999999989},{"$f":"IF(H74=\"\",\"\",AQ74)","v":"FED +"},{"$f":"IF(AJ74>=0,AJ74,IF(AI74>=0,AI74,IF(AH74>=0,AH74,IF(AG74>=0,AG74,IF(AF74>=0,AF74,IF(AE74>=0,AE74,IF(AD74>=0,AD74,IF(AC74>=0,AC74,AB74))))))))","v":5},{"$f":"IF(I74=\"\",\"\",IF(A74=\"H\",IF(OR(H74=\"SEN\",H74<1995),VLOOKUP(I74,Feuil1!$A$11:$F$29,6),IF(AND(H74>1994,H74<1998),VLOOKUP(I74,Feuil1!$A$11:$F$29,5),IF(AND(H74>1997,H74<2000),VLOOKUP(I74,Feuil1!$A$11:$F$29,4),IF(AND(H74>1999,H74<2002),VLOOKUP(I74,Feuil1!$A$11:$F$29,3),VLOOKUP(I74,Feuil1!$A$11:$F$29,2))))),IF(OR(H74=\"SEN\",H74<1995),VLOOKUP(I74,Feuil1!$G$11:$L$25,6),IF(AND(H74>1994,H74<1998),VLOOKUP(I74,Feuil1!$G$11:$L$25,5),IF(AND(H74>1997,H74<2000),VLOOKUP(I74,Feuil1!$G$11:$L$25,4),IF(AND(H74>1999,H74<2002),VLOOKUP(I74,Feuil1!$G$11:$L$25,3),VLOOKUP(I74,Feuil1!$G$11:$L$25,2)))))))","v":"J77"},{"$f":"IF(I74=\"\",\"\",IF(A74=\"H\",10^(0.794358141*LOG(I74/174.393)^2)*T74,IF(A74=\"F\",10^(0.89726074*LOG(I74/148.026)^2)*T74,\"\")))","v":271.9534237925015},null," ",{"$f":"T74-HLOOKUP(X74,Feuil1!$C$1:$BL$10,2,FALSE)","v":85},{"$f":"T74-HLOOKUP(X74,Feuil1!$C$1:$BL$10,3,FALSE)","v":65},{"$f":"T74-HLOOKUP(X74,Feuil1!$C$1:$BL$10,4,FALSE)","v":45},{"$f":"T74-HLOOKUP(X74,Feuil1!$C$1:$BL$10,5,FALSE)","v":25},{"$f":"T74-HLOOKUP(X74,Feuil1!$C$1:$BL$10,6,FALSE)","v":5},{"$f":"T74-HLOOKUP(X74,Feuil1!$C$1:$BL$10,7,FALSE)","v":-25},{"$f":"T74-HLOOKUP(X74,Feuil1!$C$1:$BL$10,8,FALSE)","v":-45},{"$f":"T74-HLOOKUP(X74,Feuil1!$C$1:$BL$10,9,FALSE)","v":-70},{"$f":"T74-HLOOKUP(X74,Feuil1!$C$1:$BL$10,10,FALSE)","v":-9785},null,null,null,null,null,null,{"$f":"IF(AJ74>=0,$AJ$4,IF(AI74>=0,$AI$4,IF(AH74>=0,$AH$4,IF(AG74>=0,$AG$4,IF(AF74>=0,$AF$4,IF(AE74>=0,$AE$4,IF(AD74>=0,$AD$4,IF(AC74>=0,$AC$4,$AB$4))))))))","v":"FED +"}]
["H","NE","FCO",2,"246718","PHARIZAT","Kévin",1997,75.7,"LF Besançon","F",-87,87,92,{"$f":"IF(H75=\"\",\"\",IF(MAXA(L75:N75)<=0,0,MAXA(L75:N75)))","v":92},111,-118,-118,{"$f":"IF(H75=\"\",\"\",IF(MAXA(P75:R75)<=0,0,MAXA(P75:R75)))","v":111},{"$f":"IF(H75=\"\",\"\",IF(OR(O75=0,S75=0),0,O75+S75))","v":203},{"$f":"T75-I75*2","v":51.599999999999994},{"$f":"IF(H75=\"\",\"\",AQ75)","v":"IRG +"},{"$f":"IF(AJ75>=0,AJ75,IF(AI75>=0,AI75,IF(AH75>=0,AH75,IF(AG75>=0,AG75,IF(AF75>=0,AF75,IF(AE75>=0,AE75,IF(AD75>=0,AD75,IF(AC75>=0,AC75,AB75))))))))","v":13},{"$f":"IF(I75=\"\",\"\",IF(A75=\"H\",IF(OR(H75=\"SEN\",H75<1995),VLOOKUP(I75,Feuil1!$A$11:$F$29,6),IF(AND(H75>1994,H75<1998),VLOOKUP(I75,Feuil1!$A$11:$F$29,5),IF(AND(H75>1997,H75<2000),VLOOKUP(I75,Feuil1!$A$11:$F$29,4),IF(AND(H75>1999,H75<2002),VLOOKUP(I75,Feuil1!$A$11:$F$29,3),VLOOKUP(I75,Feuil1!$A$11:$F$29,2))))),IF(OR(H75=\"SEN\",H75<1995),VLOOKUP(I75,Feuil1!$G$11:$L$25,6),IF(AND(H75>1994,H75<1998),VLOOKUP(I75,Feuil1!$G$11:$L$25,5),IF(AND(H75>1997,H75<2000),VLOOKUP(I75,Feuil1!$G$11:$L$25,4),IF(AND(H75>1999,H75<2002),VLOOKUP(I75,Feuil1!$G$11:$L$25,3),VLOOKUP(I75,Feuil1!$G$11:$L$25,2)))))))","v":"J77"},{"$f":"IF(I75=\"\",\"\",IF(A75=\"H\",10^(0.794358141*LOG(I75/174.393)^2)*T75,IF(A75=\"F\",10^(0.89726074*LOG(I75/148.026)^2)*T75,\"\")))","v":258.1316024297887},null," ",{"$f":"T75-HLOOKUP(X75,Feuil1!$C$1:$BL$10,2,FALSE)","v":73},{"$f":"T75-HLOOKUP(X75,Feuil1!$C$1:$BL$10,3,FALSE)","v":53},{"$f":"T75-HLOOKUP(X75,Feuil1!$C$1:$BL$10,4,FALSE)","v":33},{"$f":"T75-HLOOKUP(X75,Feuil1!$C$1:$BL$10,5,FALSE)","v":13},{"$f":"T75-HLOOKUP(X75,Feuil1!$C$1:$BL$10,6,FALSE)","v":-7},{"$f":"T75-HLOOKUP(X75,Feuil1!$C$1:$BL$10,7,FALSE)","v":-37},{"$f":"T75-HLOOKUP(X75,Feuil1!$C$1:$BL$10,8,FALSE)","v":-57},{"$f":"T75-HLOOKUP(X75,Feuil1!$C$1:$BL$10,9,FALSE)","v":-82},{"$f":"T75-HLOOKUP(X75,Feuil1!$C$1:$BL$10,10,FALSE)","v":-9797},null,null,null,null,null,null,{"$f":"IF(AJ75>=0,$AJ$4,IF(AI75>=0,$AI$4,IF(AH75>=0,$AH$4,IF(AG75>=0,$AG$4,IF(AF75>=0,$AF$4,IF(AE75>=0,$AE$4,IF(AD75>=0,$AD$4,IF(AC75>=0,$AC$4,$AB$4))))))))","v":"IRG +"}]
["H","CO","BRE",3,361769,"LE GALL","Jean-Baptiste",1996,74.3,"AL Quimper","F",80,-85,85,{"$f":"IF(H76=\"\",\"\",IF(MAXA(L76:N76)<=0,0,MAXA(L76:N76)))","v":85},115,-120,-120,{"$f":"IF(H76=\"\",\"\",IF(MAXA(P76:R76)<=0,0,MAXA(P76:R76)))","v":115},{"$f":"IF(H76=\"\",\"\",IF(OR(O76=0,S76=0),0,O76+S76))","v":200},{"$f":"T76-I76*2","v":51.400000000000006},{"$f":"IF(H76=\"\",\"\",AQ76)","v":"IRG +"},{"$f":"IF(AJ76>=0,AJ76,IF(AI76>=0,AI76,IF(AH76>=0,AH76,IF(AG76>=0,AG76,IF(AF76>=0,AF76,IF(AE76>=0,AE76,IF(AD76>=0,AD76,IF(AC76>=0,AC76,AB76))))))))","v":10},{"$f":"IF(I76=\"\",\"\",IF(A76=\"H\",IF(OR(H76=\"SEN\",H76<1995),VLOOKUP(I76,Feuil1!$A$11:$F$29,6),IF(AND(H76>1994,H76<1998),VLOOKUP(I76,Feuil1!$A$11:$F$29,5),IF(AND(H76>1997,H76<2000),VLOOKUP(I76,Feuil1!$A$11:$F$29,4),IF(AND(H76>1999,H76<2002),VLOOKUP(I76,Feuil1!$A$11:$F$29,3),VLOOKUP(I76,Feuil1!$A$11:$F$29,2))))),IF(OR(H76=\"SEN\",H76<1995),VLOOKUP(I76,Feuil1!$G$11:$L$25,6),IF(AND(H76>1994,H76<1998),VLOOKUP(I76,Feuil1!$G$11:$L$25,5),IF(AND(H76>1997,H76<2000),VLOOKUP(I76,Feuil1!$G$11:$L$25,4),IF(AND(H76>1999,H76<2002),VLOOKUP(I76,Feuil1!$G$11:$L$25,3),VLOOKUP(I76,Feuil1!$G$11:$L$25,2)))))))","v":"J77"},{"$f":"IF(I76=\"\",\"\",IF(A76=\"H\",10^(0.794358141*LOG(I76/174.393)^2)*T76,IF(A76=\"F\",10^(0.89726074*LOG(I76/148.026)^2)*T76,\"\")))","v":257.09605970100722},null," ",{"$f":"T76-HLOOKUP(X76,Feuil1!$C$1:$BL$10,2,FALSE)","v":70},{"$f":"T76-HLOOKUP(X76,Feuil1!$C$1:$BL$10,3,FALSE)","v":50},{"$f":"T76-HLOOKUP(X76,Feuil1!$C$1:$BL$10,4,FALSE)","v":30},{"$f":"T76-HLOOKUP(X76,Feuil1!$C$1:$BL$10,5,FALSE)","v":10},{"$f":"T76-HLOOKUP(X76,Feuil1!$C$1:$BL$10,6,FALSE)","v":-10},{"$f":"T76-HLOOKUP(X76,Feuil1!$C$1:$BL$10,7,FALSE)","v":-40},{"$f":"T76-HLOOKUP(X76,Feuil1!$C$1:$BL$10,8,FALSE)","v":-60},{"$f":"T76-HLOOKUP(X76,Feuil1!$C$1:$BL$10,9,FALSE)","v":-85},{"$f":"T76-HLOOKUP(X76,Feuil1!$C$1:$BL$10,10,FALSE)","v":-9800},null,null,null,null,null,null,{"$f":"IF(AJ76>=0,$AJ$4,IF(AI76>=0,$AI$4,IF(AH76>=0,$AH$4,IF(AG76>=0,$AG$4,IF(AF76>=0,$AF$4,IF(AE76>=0,$AE$4,IF(AD76>=0,$AD$4,IF(AC76>=0,$AC$4,$AB$4))))))))","v":"IRG +"}]
["H","SEST","CAZ","NC",301051,"CINQUIN","Nicolas",1996,74.400000000000006,"E.S. VILLENEUVE LOUBET","F",-95,-96,-96,{"$f":"IF(H77=\"\",\"\",IF(MAXA(L77:N77)<=0,0,MAXA(L77:N77)))","v":0},-107,-107,-107,{"$f":"IF(H77=\"\",\"\",IF(MAXA(P77:R77)<=0,0,MAXA(P77:R77)))","v":0},{"$f":"IF(H77=\"\",\"\",IF(OR(O77=0,S77=0),0,O77+S77))","v":0},{"$f":"T77-I77*2","v":-148.80000000000001},{"$f":"IF(H77=\"\",\"\",AQ77)","v":"DEB "},{"$f":"IF(AJ77>=0,AJ77,IF(AI77>=0,AI77,IF(AH77>=0,AH77,IF(AG77>=0,AG77,IF(AF77>=0,AF77,IF(AE77>=0,AE77,IF(AD77>=0,AD77,IF(AC77>=0,AC77,AB77))))))))","v":-130},{"$f":"IF(I77=\"\",\"\",IF(A77=\"H\",IF(OR(H77=\"SEN\",H77<1995),VLOOKUP(I77,Feuil1!$A$11:$F$29,6),IF(AND(H77>1994,H77<1998),VLOOKUP(I77,Feuil1!$A$11:$F$29,5),IF(AND(H77>1997,H77<2000),VLOOKUP(I77,Feuil1!$A$11:$F$29,4),IF(AND(H77>1999,H77<2002),VLOOKUP(I77,Feuil1!$A$11:$F$29,3),VLOOKUP(I77,Feuil1!$A$11:$F$29,2))))),IF(OR(H77=\"SEN\",H77<1995),VLOOKUP(I77,Feuil1!$G$11:$L$25,6),IF(AND(H77>1994,H77<1998),VLOOKUP(I77,Feuil1!$G$11:$L$25,5),IF(AND(H77>1997,H77<2000),VLOOKUP(I77,Feuil1!$G$11:$L$25,4),IF(AND(H77>1999,H77<2002),VLOOKUP(I77,Feuil1!$G$11:$L$25,3),VLOOKUP(I77,Feuil1!$G$11:$L$25,2)))))))","v":"J77"},{"$f":"IF(I77=\"\",\"\",IF(A77=\"H\",10^(0.794358141*LOG(I77/174.393)^2)*T77,IF(A77=\"F\",10^(0.89726074*LOG(I77/148.026)^2)*T77,\"\")))","v":0},null," ",{"$f":"T77-HLOOKUP(X77,Feuil1!$C$1:$BL$10,2,FALSE)","v":-130},{"$f":"T77-HLOOKUP(X77,Feuil1!$C$1:$BL$10,3,FALSE)","v":-150},{"$f":"T77-HLOOKUP(X77,Feuil1!$C$1:$BL$10,4,FALSE)","v":-170},{"$f":"T77-HLOOKUP(X77,Feuil1!$C$1:$BL$10,5,FALSE)","v":-190},{"$f":"T77-HLOOKUP(X77,Feuil1!$C$1:$BL$10,6,FALSE)","v":-210},{"$f":"T77-HLOOKUP(X77,Feuil1!$C$1:$BL$10,7,FALSE)","v":-240},{"$f":"T77-HLOOKUP(X77,Feuil1!$C$1:$BL$10,8,FALSE)","v":-260},{"$f":"T77-HLOOKUP(X77,Feuil1!$C$1:$BL$10,9,FALSE)","v":-285},{"$f":"T77-HLOOKUP(X77,Feuil1!$C$1:$BL$10,10,FALSE)","v":-10000},null,null,null,null,null,null,{"$f":"IF(AJ77>=0,$AJ$4,IF(AI77>=0,$AI$4,IF(AH77>=0,$AH$4,IF(AG77>=0,$AG$4,IF(AF77>=0,$AF$4,IF(AE77>=0,$AE$4,IF(AD77>=0,$AD$4,IF(AC77>=0,$AC$4,$AB$4))))))))","v":"DEB "}]
["H","Nord","NPC","NC",338801,"HAYNAU","Aurélien",1995,76.099999999999994,"CA Rosendael","F",90,-92,-92,{"$f":"IF(H78=\"\",\"\",IF(MAXA(L78:N78)<=0,0,MAXA(L78:N78)))","v":90},-115,-120,-120,{"$f":"IF(H78=\"\",\"\",IF(MAXA(P78:R78)<=0,0,MAXA(P78:R78)))","v":0},{"$f":"IF(H78=\"\",\"\",IF(OR(O78=0,S78=0),0,O78+S78))","v":0},{"$f":"T78-I78*2","v":-152.19999999999999},{"$f":"IF(H78=\"\",\"\",AQ78)","v":"DEB "},{"$f":"IF(AJ78>=0,AJ78,IF(AI78>=0,AI78,IF(AH78>=0,AH78,IF(AG78>=0,AG78,IF(AF78>=0,AF78,IF(AE78>=0,AE78,IF(AD78>=0,AD78,IF(AC78>=0,AC78,AB78))))))))","v":-130},{"$f":"IF(I78=\"\",\"\",IF(A78=\"H\",IF(OR(H78=\"SEN\",H78<1995),VLOOKUP(I78,Feuil1!$A$11:$F$29,6),IF(AND(H78>1994,H78<1998),VLOOKUP(I78,Feuil1!$A$11:$F$29,5),IF(AND(H78>1997,H78<2000),VLOOKUP(I78,Feuil1!$A$11:$F$29,4),IF(AND(H78>1999,H78<2002),VLOOKUP(I78,Feuil1!$A$11:$F$29,3),VLOOKUP(I78,Feuil1!$A$11:$F$29,2))))),IF(OR(H78=\"SEN\",H78<1995),VLOOKUP(I78,Feuil1!$G$11:$L$25,6),IF(AND(H78>1994,H78<1998),VLOOKUP(I78,Feuil1!$G$11:$L$25,5),IF(AND(H78>1997,H78<2000),VLOOKUP(I78,Feuil1!$G$11:$L$25,4),IF(AND(H78>1999,H78<2002),VLOOKUP(I78,Feuil1!$G$11:$L$25,3),VLOOKUP(I78,Feuil1!$G$11:$L$25,2)))))))","v":"J77"},{"$f":"IF(I78=\"\",\"\",IF(A78=\"H\",10^(0.794358141*LOG(I78/174.393)^2)*T78,IF(A78=\"F\",10^(0.89726074*LOG(I78/148.026)^2)*T78,\"\")))","v":0},null," ",{"$f":"T78-HLOOKUP(X78,Feuil1!$C$1:$BL$10,2,FALSE)","v":-130},{"$f":"T78-HLOOKUP(X78,Feuil1!$C$1:$BL$10,3,FALSE)","v":-150},{"$f":"T78-HLOOKUP(X78,Feuil1!$C$1:$BL$10,4,FALSE)","v":-170},{"$f":"T78-HLOOKUP(X78,Feuil1!$C$1:$BL$10,5,FALSE)","v":-190},{"$f":"T78-HLOOKUP(X78,Feuil1!$C$1:$BL$10,6,FALSE)","v":-210},{"$f":"T78-HLOOKUP(X78,Feuil1!$C$1:$BL$10,7,FALSE)","v":-240},{"$f":"T78-HLOOKUP(X78,Feuil1!$C$1:$BL$10,8,FALSE)","v":-260},{"$f":"T78-HLOOKUP(X78,Feuil1!$C$1:$BL$10,9,FALSE)","v":-285},{"$f":"T78-HLOOKUP(X78,Feuil1!$C$1:$BL$10,10,FALSE)","v":-10000},null,null,null,null,null,null,{"$f":"IF(AJ78>=0,$AJ$4,IF(AI78>=0,$AI$4,IF(AH78>=0,$AH$4,IF(AG78>=0,$AG$4,IF(AF78>=0,$AF$4,IF(AE78>=0,$AE$4,IF(AD78>=0,$AD$4,IF(AC78>=0,$AC$4,$AB$4))))))))","v":"DEB "}]
[]
["H","NE","CHA",1,"192457","VAUTARD","Brandon",1996,78.099999999999994,"Langres HM","F",127,-131,-135,{"$f":"IF(H80=\"\",\"\",IF(MAXA(L80:N80)<=0,0,MAXA(L80:N80)))","v":127},155,160,"-",{"$f":"IF(H80=\"\",\"\",IF(MAXA(P80:R80)<=0,0,MAXA(P80:R80)))","v":160},{"$f":"IF(H80=\"\",\"\",IF(OR(O80=0,S80=0),0,O80+S80))","v":287},{"$f":"T80-I80*2","v":130.80000000000001},{"$f":"IF(H80=\"\",\"\",AQ80)","v":"INTB +"},{"$f":"IF(AJ80>=0,AJ80,IF(AI80>=0,AI80,IF(AH80>=0,AH80,IF(AG80>=0,AG80,IF(AF80>=0,AF80,IF(AE80>=0,AE80,IF(AD80>=0,AD80,IF(AC80>=0,AC80,AB80))))))))","v":7},{"$f":"IF(I80=\"\",\"\",IF(A80=\"H\",IF(OR(H80=\"SEN\",H80<1995),VLOOKUP(I80,Feuil1!$A$11:$F$29,6),IF(AND(H80>1994,H80<1998),VLOOKUP(I80,Feuil1!$A$11:$F$29,5),IF(AND(H80>1997,H80<2000),VLOOKUP(I80,Feuil1!$A$11:$F$29,4),IF(AND(H80>1999,H80<2002),VLOOKUP(I80,Feuil1!$A$11:$F$29,3),VLOOKUP(I80,Feuil1!$A$11:$F$29,2))))),IF(OR(H80=\"SEN\",H80<1995),VLOOKUP(I80,Feuil1!$G$11:$L$25,6),IF(AND(H80>1994,H80<1998),VLOOKUP(I80,Feuil1!$G$11:$L$25,5),IF(AND(H80>1997,H80<2000),VLOOKUP(I80,Feuil1!$G$11:$L$25,4),IF(AND(H80>1999,H80<2002),VLOOKUP(I80,Feuil1!$G$11:$L$25,3),VLOOKUP(I80,Feuil1!$G$11:$L$25,2)))))))","v":"J85"},{"$f":"IF(I80=\"\",\"\",IF(A80=\"H\",10^(0.794358141*LOG(I80/174.393)^2)*T80,IF(A80=\"F\",10^(0.89726074*LOG(I80/148.026)^2)*T80,\"\")))","v":358.56499430590713},null," ",{"$f":"T80-HLOOKUP(X80,Feuil1!$C$1:$BL$10,2,FALSE)","v":142},{"$f":"T80-HLOOKUP(X80,Feuil1!$C$1:$BL$10,3,FALSE)","v":122},{"$f":"T80-HLOOKUP(X80,Feuil1!$C$1:$BL$10,4,FALSE)","v":102},{"$f":"T80-HLOOKUP(X80,Feuil1!$C$1:$BL$10,5,FALSE)","v":82},{"$f":"T80-HLOOKUP(X80,Feuil1!$C$1:$BL$10,6,FALSE)","v":62},{"$f":"T80-HLOOKUP(X80,Feuil1!$C$1:$BL$10,7,FALSE)","v":37},{"$f":"T80-HLOOKUP(X80,Feuil1!$C$1:$BL$10,8,FALSE)","v":7},{"$f":"T80-HLOOKUP(X80,Feuil1!$C$1:$BL$10,9,FALSE)","v":-13},{"$f":"T80-HLOOKUP(X80,Feuil1!$C$1:$BL$10,10,FALSE)","v":-713},null,null,null,null,null,null,{"$f":"IF(AJ80>=0,$AJ$4,IF(AI80>=0,$AI$4,IF(AH80>=0,$AH$4,IF(AG80>=0,$AG$4,IF(AF80>=0,$AF$4,IF(AE80>=0,$AE$4,IF(AD80>=0,$AD$4,IF(AC80>=0,$AC$4,$AB$4))))))))","v":"INTB +"}]
["H","NE","CHA",2,246713,"COLOMBO ","Ludwig",1995,79,"Reims HM","F",113,118,121,{"$f":"IF(H81=\"\",\"\",IF(MAXA(L81:N81)<=0,0,MAXA(L81:N81)))","v":121},145,150,154,{"$f":"IF(H81=\"\",\"\",IF(MAXA(P81:R81)<=0,0,MAXA(P81:R81)))","v":154},{"$f":"IF(H81=\"\",\"\",IF(OR(O81=0,S81=0),0,O81+S81))","v":275},{"$f":"T81-I81*2","v":117},{"$f":"IF(H81=\"\",\"\",AQ81)","v":"NAT +"},{"$f":"IF(AJ81>=0,AJ81,IF(AI81>=0,AI81,IF(AH81>=0,AH81,IF(AG81>=0,AG81,IF(AF81>=0,AF81,IF(AE81>=0,AE81,IF(AD81>=0,AD81,IF(AC81>=0,AC81,AB81))))))))","v":25},{"$f":"IF(I81=\"\",\"\",IF(A81=\"H\",IF(OR(H81=\"SEN\",H81<1995),VLOOKUP(I81,Feuil1!$A$11:$F$29,6),IF(AND(H81>1994,H81<1998),VLOOKUP(I81,Feuil1!$A$11:$F$29,5),IF(AND(H81>1997,H81<2000),VLOOKUP(I81,Feuil1!$A$11:$F$29,4),IF(AND(H81>1999,H81<2002),VLOOKUP(I81,Feuil1!$A$11:$F$29,3),VLOOKUP(I81,Feuil1!$A$11:$F$29,2))))),IF(OR(H81=\"SEN\",H81<1995),VLOOKUP(I81,Feuil1!$G$11:$L$25,6),IF(AND(H81>1994,H81<1998),VLOOKUP(I81,Feuil1!$G$11:$L$25,5),IF(AND(H81>1997,H81<2000),VLOOKUP(I81,Feuil1!$G$11:$L$25,4),IF(AND(H81>1999,H81<2002),VLOOKUP(I81,Feuil1!$G$11:$L$25,3),VLOOKUP(I81,Feuil1!$G$11:$L$25,2)))))))","v":"J85"},{"$f":"IF(I81=\"\",\"\",IF(A81=\"H\",10^(0.794358141*LOG(I81/174.393)^2)*T81,IF(A81=\"F\",10^(0.89726074*LOG(I81/148.026)^2)*T81,\"\")))","v":341.41318129342022},null," ",{"$f":"T81-HLOOKUP(X81,Feuil1!$C$1:$BL$10,2,FALSE)","v":130},{"$f":"T81-HLOOKUP(X81,Feuil1!$C$1:$BL$10,3,FALSE)","v":110},{"$f":"T81-HLOOKUP(X81,Feuil1!$C$1:$BL$10,4,FALSE)","v":90},{"$f":"T81-HLOOKUP(X81,Feuil1!$C$1:$BL$10,5,FALSE)","v":70},{"$f":"T81-HLOOKUP(X81,Feuil1!$C$1:$BL$10,6,FALSE)","v":50},{"$f":"T81-HLOOKUP(X81,Feuil1!$C$1:$BL$10,7,FALSE)","v":25},{"$f":"T81-HLOOKUP(X81,Feuil1!$C$1:$BL$10,8,FALSE)","v":-5},{"$f":"T81-HLOOKUP(X81,Feuil1!$C$1:$BL$10,9,FALSE)","v":-25},{"$f":"T81-HLOOKUP(X81,Feuil1!$C$1:$BL$10,10,FALSE)","v":-725},null,null,null,null,null,null,{"$f":"IF(AJ81>=0,$AJ$4,IF(AI81>=0,$AI$4,IF(AH81>=0,$AH$4,IF(AG81>=0,$AG$4,IF(AF81>=0,$AF$4,IF(AE81>=0,$AE$4,IF(AD81>=0,$AD$4,IF(AC81>=0,$AC$4,$AB$4))))))))","v":"NAT +"}]
["H","SEST","CAZ",3,231902,"CINQUIN","Raphael",1995,81.7,"E.S. VILLENEUVE LOUBET","F",97,101,-104,{"$f":"IF(H82=\"\",\"\",IF(MAXA(L82:N82)<=0,0,MAXA(L82:N82)))","v":101},110,115,120,{"$f":"IF(H82=\"\",\"\",IF(MAXA(P82:R82)<=0,0,MAXA(P82:R82)))","v":120},{"$f":"IF(H82=\"\",\"\",IF(OR(O82=0,S82=0),0,O82+S82))","v":221},{"$f":"T82-I82*2","v":57.599999999999994},{"$f":"IF(H82=\"\",\"\",AQ82)","v":"IRG +"},{"$f":"IF(AJ82>=0,AJ82,IF(AI82>=0,AI82,IF(AH82>=0,AH82,IF(AG82>=0,AG82,IF(AF82>=0,AF82,IF(AE82>=0,AE82,IF(AD82>=0,AD82,IF(AC82>=0,AC82,AB82))))))))","v":16},{"$f":"IF(I82=\"\",\"\",IF(A82=\"H\",IF(OR(H82=\"SEN\",H82<1995),VLOOKUP(I82,Feuil1!$A$11:$F$29,6),IF(AND(H82>1994,H82<1998),VLOOKUP(I82,Feuil1!$A$11:$F$29,5),IF(AND(H82>1997,H82<2000),VLOOKUP(I82,Feuil1!$A$11:$F$29,4),IF(AND(H82>1999,H82<2002),VLOOKUP(I82,Feuil1!$A$11:$F$29,3),VLOOKUP(I82,Feuil1!$A$11:$F$29,2))))),IF(OR(H82=\"SEN\",H82<1995),VLOOKUP(I82,Feuil1!$G$11:$L$25,6),IF(AND(H82>1994,H82<1998),VLOOKUP(I82,Feuil1!$G$11:$L$25,5),IF(AND(H82>1997,H82<2000),VLOOKUP(I82,Feuil1!$G$11:$L$25,4),IF(AND(H82>1999,H82<2002),VLOOKUP(I82,Feuil1!$G$11:$L$25,3),VLOOKUP(I82,Feuil1!$G$11:$L$25,2)))))))","v":"J85"},{"$f":"IF(I82=\"\",\"\",IF(A82=\"H\",10^(0.794358141*LOG(I82/174.393)^2)*T82,IF(A82=\"F\",10^(0.89726074*LOG(I82/148.026)^2)*T82,\"\")))","v":269.48520631487673},null," ",{"$f":"T82-HLOOKUP(X82,Feuil1!$C$1:$BL$10,2,FALSE)","v":76},{"$f":"T82-HLOOKUP(X82,Feuil1!$C$1:$BL$10,3,FALSE)","v":56},{"$f":"T82-HLOOKUP(X82,Feuil1!$C$1:$BL$10,4,FALSE)","v":36},{"$f":"T82-HLOOKUP(X82,Feuil1!$C$1:$BL$10,5,FALSE)","v":16},{"$f":"T82-HLOOKUP(X82,Feuil1!$C$1:$BL$10,6,FALSE)","v":-4},{"$f":"T82-HLOOKUP(X82,Feuil1!$C$1:$BL$10,7,FALSE)","v":-29},{"$f":"T82-HLOOKUP(X82,Feuil1!$C$1:$BL$10,8,FALSE)","v":-59},{"$f":"T82-HLOOKUP(X82,Feuil1!$C$1:$BL$10,9,FALSE)","v":-79},{"$f":"T82-HLOOKUP(X82,Feuil1!$C$1:$BL$10,10,FALSE)","v":-779},null,null,null,null,null,null,{"$f":"IF(AJ82>=0,$AJ$4,IF(AI82>=0,$AI$4,IF(AH82>=0,$AH$4,IF(AG82>=0,$AG$4,IF(AF82>=0,$AF$4,IF(AE82>=0,$AE$4,IF(AD82>=0,$AD$4,IF(AC82>=0,$AC$4,$AB$4))))))))","v":"IRG +"}]
["H","NE","ALS",4,299294,"CASPAR","PAUL",1996,79.7,"CS Brumath","F",85,88,92,{"$f":"IF(H83=\"\",\"\",IF(MAXA(L83:N83)<=0,0,MAXA(L83:N83)))","v":92},114,118,121,{"$f":"IF(H83=\"\",\"\",IF(MAXA(P83:R83)<=0,0,MAXA(P83:R83)))","v":121},{"$f":"IF(H83=\"\",\"\",IF(OR(O83=0,S83=0),0,O83+S83))","v":213},{"$f":"T83-I83*2","v":53.599999999999994},{"$f":"IF(H83=\"\",\"\",AQ83)","v":"IRG +"},{"$f":"IF(AJ83>=0,AJ83,IF(AI83>=0,AI83,IF(AH83>=0,AH83,IF(AG83>=0,AG83,IF(AF83>=0,AF83,IF(AE83>=0,AE83,IF(AD83>=0,AD83,IF(AC83>=0,AC83,AB83))))))))","v":8},{"$f":"IF(I83=\"\",\"\",IF(A83=\"H\",IF(OR(H83=\"SEN\",H83<1995),VLOOKUP(I83,Feuil1!$A$11:$F$29,6),IF(AND(H83>1994,H83<1998),VLOOKUP(I83,Feuil1!$A$11:$F$29,5),IF(AND(H83>1997,H83<2000),VLOOKUP(I83,Feuil1!$A$11:$F$29,4),IF(AND(H83>1999,H83<2002),VLOOKUP(I83,Feuil1!$A$11:$F$29,3),VLOOKUP(I83,Feuil1!$A$11:$F$29,2))))),IF(OR(H83=\"SEN\",H83<1995),VLOOKUP(I83,Feuil1!$G$11:$L$25,6),IF(AND(H83>1994,H83<1998),VLOOKUP(I83,Feuil1!$G$11:$L$25,5),IF(AND(H83>1997,H83<2000),VLOOKUP(I83,Feuil1!$G$11:$L$25,4),IF(AND(H83>1999,H83<2002),VLOOKUP(I83,Feuil1!$G$11:$L$25,3),VLOOKUP(I83,Feuil1!$G$11:$L$25,2)))))))","v":"J85"},{"$f":"IF(I83=\"\",\"\",IF(A83=\"H\",10^(0.794358141*LOG(I83/174.393)^2)*T83,IF(A83=\"F\",10^(0.89726074*LOG(I83/148.026)^2)*T83,\"\")))","v":263.17559460108316},null," ",{"$f":"T83-HLOOKUP(X83,Feuil1!$C$1:$BL$10,2,FALSE)","v":68},{"$f":"T83-HLOOKUP(X83,Feuil1!$C$1:$BL$10,3,FALSE)","v":48},{"$f":"T83-HLOOKUP(X83,Feuil1!$C$1:$BL$10,4,FALSE)","v":28},{"$f":"T83-HLOOKUP(X83,Feuil1!$C$1:$BL$10,5,FALSE)","v":8},{"$f":"T83-HLOOKUP(X83,Feuil1!$C$1:$BL$10,6,FALSE)","v":-12},{"$f":"T83-HLOOKUP(X83,Feuil1!$C$1:$BL$10,7,FALSE)","v":-37},{"$f":"T83-HLOOKUP(X83,Feuil1!$C$1:$BL$10,8,FALSE)","v":-67},{"$f":"T83-HLOOKUP(X83,Feuil1!$C$1:$BL$10,9,FALSE)","v":-87},{"$f":"T83-HLOOKUP(X83,Feuil1!$C$1:$BL$10,10,FALSE)","v":-787},null,null,null,null,null,null,{"$f":"IF(AJ83>=0,$AJ$4,IF(AI83>=0,$AI$4,IF(AH83>=0,$AH$4,IF(AG83>=0,$AG$4,IF(AF83>=0,$AF$4,IF(AE83>=0,$AE$4,IF(AD83>=0,$AD$4,IF(AC83>=0,$AC$4,$AB$4))))))))","v":"IRG +"}]
["H","SO","LIM",5,341840,"WERRO","Romain",1997,80.400000000000006,"LIMOGES AVA","Sui",87,92,-97,{"$f":"IF(H84=\"\",\"\",IF(MAXA(L84:N84)<=0,0,MAXA(L84:N84)))","v":92},100,108,-113,{"$f":"IF(H84=\"\",\"\",IF(MAXA(P84:R84)<=0,0,MAXA(P84:R84)))","v":108},{"$f":"IF(H84=\"\",\"\",IF(OR(O84=0,S84=0),0,O84+S84))","v":200},{"$f":"T84-I84*2","v":39.199999999999989},{"$f":"IF(H84=\"\",\"\",AQ84)","v":"REG +"},{"$f":"IF(AJ84>=0,AJ84,IF(AI84>=0,AI84,IF(AH84>=0,AH84,IF(AG84>=0,AG84,IF(AF84>=0,AF84,IF(AE84>=0,AE84,IF(AD84>=0,AD84,IF(AC84>=0,AC84,AB84))))))))","v":15},{"$f":"IF(I84=\"\",\"\",IF(A84=\"H\",IF(OR(H84=\"SEN\",H84<1995),VLOOKUP(I84,Feuil1!$A$11:$F$29,6),IF(AND(H84>1994,H84<1998),VLOOKUP(I84,Feuil1!$A$11:$F$29,5),IF(AND(H84>1997,H84<2000),VLOOKUP(I84,Feuil1!$A$11:$F$29,4),IF(AND(H84>1999,H84<2002),VLOOKUP(I84,Feuil1!$A$11:$F$29,3),VLOOKUP(I84,Feuil1!$A$11:$F$29,2))))),IF(OR(H84=\"SEN\",H84<1995),VLOOKUP(I84,Feuil1!$G$11:$L$25,6),IF(AND(H84>1994,H84<1998),VLOOKUP(I84,Feuil1!$G$11:$L$25,5),IF(AND(H84>1997,H84<2000),VLOOKUP(I84,Feuil1!$G$11:$L$25,4),IF(AND(H84>1999,H84<2002),VLOOKUP(I84,Feuil1!$G$11:$L$25,3),VLOOKUP(I84,Feuil1!$G$11:$L$25,2)))))))","v":"J85"},{"$f":"IF(I84=\"\",\"\",IF(A84=\"H\",10^(0.794358141*LOG(I84/174.393)^2)*T84,IF(A84=\"F\",10^(0.89726074*LOG(I84/148.026)^2)*T84,\"\")))","v":245.95499182878049},null," ",{"$f":"T84-HLOOKUP(X84,Feuil1!$C$1:$BL$10,2,FALSE)","v":55},{"$f":"T84-HLOOKUP(X84,Feuil1!$C$1:$BL$10,3,FALSE)","v":35},{"$f":"T84-HLOOKUP(X84,Feuil1!$C$1:$BL$10,4,FALSE)","v":15},{"$f":"T84-HLOOKUP(X84,Feuil1!$C$1:$BL$10,5,FALSE)","v":-5},{"$f":"T84-HLOOKUP(X84,Feuil1!$C$1:$BL$10,6,FALSE)","v":-25},{"$f":"T84-HLOOKUP(X84,Feuil1!$C$1:$BL$10,7,FALSE)","v":-50},{"$f":"T84-HLOOKUP(X84,Feuil1!$C$1:$BL$10,8,FALSE)","v":-80},{"$f":"T84-HLOOKUP(X84,Feuil1!$C$1:$BL$10,9,FALSE)","v":-100},{"$f":"T84-HLOOKUP(X84,Feuil1!$C$1:$BL$10,10,FALSE)","v":-800},null,null,null,null,null,null,{"$f":"IF(AJ84>=0,$AJ$4,IF(AI84>=0,$AI$4,IF(AH84>=0,$AH$4,IF(AG84>=0,$AG$4,IF(AF84>=0,$AF$4,IF(AE84>=0,$AE$4,IF(AD84>=0,$AD$4,IF(AC84>=0,$AC$4,$AB$4))))))))","v":"REG +"}]
[]
["H","DOM","MAR",1,244200,"ZOBAL","Florent",1996,92,"ABBC/Foyal Didier","F",95,100,105,{"$f":"IF(H86=\"\",\"\",IF(MAXA(L86:N86)<=0,0,MAXA(L86:N86)))","v":105},125,130,-133,{"$f":"IF(H86=\"\",\"\",IF(MAXA(P86:R86)<=0,0,MAXA(P86:R86)))","v":130},{"$f":"IF(H86=\"\",\"\",IF(OR(O86=0,S86=0),0,O86+S86))","v":235},{"$f":"T86-I86*2","v":51},{"$f":"IF(H86=\"\",\"\",AQ86)","v":"FED +"},{"$f":"IF(AJ86>=0,AJ86,IF(AI86>=0,AI86,IF(AH86>=0,AH86,IF(AG86>=0,AG86,IF(AF86>=0,AF86,IF(AE86>=0,AE86,IF(AD86>=0,AD86,IF(AC86>=0,AC86,AB86))))))))","v":0},{"$f":"IF(I86=\"\",\"\",IF(A86=\"H\",IF(OR(H86=\"SEN\",H86<1995),VLOOKUP(I86,Feuil1!$A$11:$F$29,6),IF(AND(H86>1994,H86<1998),VLOOKUP(I86,Feuil1!$A$11:$F$29,5),IF(AND(H86>1997,H86<2000),VLOOKUP(I86,Feuil1!$A$11:$F$29,4),IF(AND(H86>1999,H86<2002),VLOOKUP(I86,Feuil1!$A$11:$F$29,3),VLOOKUP(I86,Feuil1!$A$11:$F$29,2))))),IF(OR(H86=\"SEN\",H86<1995),VLOOKUP(I86,Feuil1!$G$11:$L$25,6),IF(AND(H86>1994,H86<1998),VLOOKUP(I86,Feuil1!$G$11:$L$25,5),IF(AND(H86>1997,H86<2000),VLOOKUP(I86,Feuil1!$G$11:$L$25,4),IF(AND(H86>1999,H86<2002),VLOOKUP(I86,Feuil1!$G$11:$L$25,3),VLOOKUP(I86,Feuil1!$G$11:$L$25,2)))))))","v":"J94"},{"$f":"IF(I86=\"\",\"\",IF(A86=\"H\",10^(0.794358141*LOG(I86/174.393)^2)*T86,IF(A86=\"F\",10^(0.89726074*LOG(I86/148.026)^2)*T86,\"\")))","v":270.61059554378744},null," ",{"$f":"T86-HLOOKUP(X86,Feuil1!$C$1:$BL$10,2,FALSE)","v":85},{"$f":"T86-HLOOKUP(X86,Feuil1!$C$1:$BL$10,3,FALSE)","v":65},{"$f":"T86-HLOOKUP(X86,Feuil1!$C$1:$BL$10,4,FALSE)","v":45},{"$f":"T86-HLOOKUP(X86,Feuil1!$C$1:$BL$10,5,FALSE)","v":20},{"$f":"T86-HLOOKUP(X86,Feuil1!$C$1:$BL$10,6,FALSE)","v":0},{"$f":"T86-HLOOKUP(X86,Feuil1!$C$1:$BL$10,7,FALSE)","v":-25},{"$f":"T86-HLOOKUP(X86,Feuil1!$C$1:$BL$10,8,FALSE)","v":-55},{"$f":"T86-HLOOKUP(X86,Feuil1!$C$1:$BL$10,9,FALSE)","v":-75},{"$f":"T86-HLOOKUP(X86,Feuil1!$C$1:$BL$10,10,FALSE)","v":-765},null,null,null,null,null,null,{"$f":"IF(AJ86>=0,$AJ$4,IF(AI86>=0,$AI$4,IF(AH86>=0,$AH$4,IF(AG86>=0,$AG$4,IF(AF86>=0,$AF$4,IF(AE86>=0,$AE$4,IF(AD86>=0,$AD$4,IF(AC86>=0,$AC$4,$AB$4))))))))","v":"FED +"}]
["H","NE","BOU","NC",221151,"GVOZDENOVIC","Michel",1997,87.7,"HMDB21","F",110,-115,-115,{"$f":"IF(H87=\"\",\"\",IF(MAXA(L87:N87)<=0,0,MAXA(L87:N87)))","v":110},-140,-140,-140,{"$f":"IF(H87=\"\",\"\",IF(MAXA(P87:R87)<=0,0,MAXA(P87:R87)))","v":0},{"$f":"IF(H87=\"\",\"\",IF(OR(O87=0,S87=0),0,O87+S87))","v":0},{"$f":"T87-I87*2","v":-175.4},{"$f":"IF(H87=\"\",\"\",AQ87)","v":"DEB "},{"$f":"IF(AJ87>=0,AJ87,IF(AI87>=0,AI87,IF(AH87>=0,AH87,IF(AG87>=0,AG87,IF(AF87>=0,AF87,IF(AE87>=0,AE87,IF(AD87>=0,AD87,IF(AC87>=0,AC87,AB87))))))))","v":-150},{"$f":"IF(I87=\"\",\"\",IF(A87=\"H\",IF(OR(H87=\"SEN\",H87<1995),VLOOKUP(I87,Feuil1!$A$11:$F$29,6),IF(AND(H87>1994,H87<1998),VLOOKUP(I87,Feuil1!$A$11:$F$29,5),IF(AND(H87>1997,H87<2000),VLOOKUP(I87,Feuil1!$A$11:$F$29,4),IF(AND(H87>1999,H87<2002),VLOOKUP(I87,Feuil1!$A$11:$F$29,3),VLOOKUP(I87,Feuil1!$A$11:$F$29,2))))),IF(OR(H87=\"SEN\",H87<1995),VLOOKUP(I87,Feuil1!$G$11:$L$25,6),IF(AND(H87>1994,H87<1998),VLOOKUP(I87,Feuil1!$G$11:$L$25,5),IF(AND(H87>1997,H87<2000),VLOOKUP(I87,Feuil1!$G$11:$L$25,4),IF(AND(H87>1999,H87<2002),VLOOKUP(I87,Feuil1!$G$11:$L$25,3),VLOOKUP(I87,Feuil1!$G$11:$L$25,2)))))))","v":"J94"},{"$f":"IF(I87=\"\",\"\",IF(A87=\"H\",10^(0.794358141*LOG(I87/174.393)^2)*T87,IF(A87=\"F\",10^(0.89726074*LOG(I87/148.026)^2)*T87,\"\")))","v":0},null," ",{"$f":"T87-HLOOKUP(X87,Feuil1!$C$1:$BL$10,2,FALSE)","v":-150},{"$f":"T87-HLOOKUP(X87,Feuil1!$C$1:$BL$10,3,FALSE)","v":-170},{"$f":"T87-HLOOKUP(X87,Feuil1!$C$1:$BL$10,4,FALSE)","v":-190},{"$f":"T87-HLOOKUP(X87,Feuil1!$C$1:$BL$10,5,FALSE)","v":-215},{"$f":"T87-HLOOKUP(X87,Feuil1!$C$1:$BL$10,6,FALSE)","v":-235},{"$f":"T87-HLOOKUP(X87,Feuil1!$C$1:$BL$10,7,FALSE)","v":-260},{"$f":"T87-HLOOKUP(X87,Feuil1!$C$1:$BL$10,8,FALSE)","v":-290},{"$f":"T87-HLOOKUP(X87,Feuil1!$C$1:$BL$10,9,FALSE)","v":-310},{"$f":"T87-HLOOKUP(X87,Feuil1!$C$1:$BL$10,10,FALSE)","v":-1000},null,null,null,null,null,null,{"$f":"IF(AJ87>=0,$AJ$4,IF(AI87>=0,$AI$4,IF(AH87>=0,$AH$4,IF(AG87>=0,$AG$4,IF(AF87>=0,$AF$4,IF(AE87>=0,$AE$4,IF(AD87>=0,$AD$4,IF(AC87>=0,$AC$4,$AB$4))))))))","v":"DEB "}]
["H","NE","ALS","NC",377316,"AUBRY","Hugo",1995,91.5,"SR Obernai HM","F",97,-105,105,{"$f":"IF(H88=\"\",\"\",IF(MAXA(L88:N88)<=0,0,MAXA(L88:N88)))","v":105},-123,-123,-130,{"$f":"IF(H88=\"\",\"\",IF(MAXA(P88:R88)<=0,0,MAXA(P88:R88)))","v":0},{"$f":"IF(H88=\"\",\"\",IF(OR(O88=0,S88=0),0,O88+S88))","v":0},{"$f":"T88-I88*2","v":-183},{"$f":"IF(H88=\"\",\"\",AQ88)","v":"DEB "},{"$f":"IF(AJ88>=0,AJ88,IF(AI88>=0,AI88,IF(AH88>=0,AH88,IF(AG88>=0,AG88,IF(AF88>=0,AF88,IF(AE88>=0,AE88,IF(AD88>=0,AD88,IF(AC88>=0,AC88,AB88))))))))","v":-150},{"$f":"IF(I88=\"\",\"\",IF(A88=\"H\",IF(OR(H88=\"SEN\",H88<1995),VLOOKUP(I88,Feuil1!$A$11:$F$29,6),IF(AND(H88>1994,H88<1998),VLOOKUP(I88,Feuil1!$A$11:$F$29,5),IF(AND(H88>1997,H88<2000),VLOOKUP(I88,Feuil1!$A$11:$F$29,4),IF(AND(H88>1999,H88<2002),VLOOKUP(I88,Feuil1!$A$11:$F$29,3),VLOOKUP(I88,Feuil1!$A$11:$F$29,2))))),IF(OR(H88=\"SEN\",H88<1995),VLOOKUP(I88,Feuil1!$G$11:$L$25,6),IF(AND(H88>1994,H88<1998),VLOOKUP(I88,Feuil1!$G$11:$L$25,5),IF(AND(H88>1997,H88<2000),VLOOKUP(I88,Feuil1!$G$11:$L$25,4),IF(AND(H88>1999,H88<2002),VLOOKUP(I88,Feuil1!$G$11:$L$25,3),VLOOKUP(I88,Feuil1!$G$11:$L$25,2)))))))","v":"J94"},{"$f":"IF(I88=\"\",\"\",IF(A88=\"H\",10^(0.794358141*LOG(I88/174.393)^2)*T88,IF(A88=\"F\",10^(0.89726074*LOG(I88/148.026)^2)*T88,\"\")))","v":0},null," ",{"$f":"T88-HLOOKUP(X88,Feuil1!$C$1:$BL$10,2,FALSE)","v":-150},{"$f":"T88-HLOOKUP(X88,Feuil1!$C$1:$BL$10,3,FALSE)","v":-170},{"$f":"T88-HLOOKUP(X88,Feuil1!$C$1:$BL$10,4,FALSE)","v":-190},{"$f":"T88-HLOOKUP(X88,Feuil1!$C$1:$BL$10,5,FALSE)","v":-215},{"$f":"T88-HLOOKUP(X88,Feuil1!$C$1:$BL$10,6,FALSE)","v":-235},{"$f":"T88-HLOOKUP(X88,Feuil1!$C$1:$BL$10,7,FALSE)","v":-260},{"$f":"T88-HLOOKUP(X88,Feuil1!$C$1:$BL$10,8,FALSE)","v":-290},{"$f":"T88-HLOOKUP(X88,Feuil1!$C$1:$BL$10,9,FALSE)","v":-310},{"$f":"T88-HLOOKUP(X88,Feuil1!$C$1:$BL$10,10,FALSE)","v":-1000},null,null,null,null,null,null,{"$f":"IF(AJ88>=0,$AJ$4,IF(AI88>=0,$AI$4,IF(AH88>=0,$AH$4,IF(AG88>=0,$AG$4,IF(AF88>=0,$AF$4,IF(AE88>=0,$AE$4,IF(AD88>=0,$AD$4,IF(AC88>=0,$AC$4,$AB$4))))))))","v":"DEB "}]
[]
["H",null,null,null,null,null,null,null,null,null,null," ",null,null,{"$f":"IF(H90=\"\",\"\",IF(MAXA(L90:N90)<=0,0,MAXA(L90:N90)))","v":""}," ",null,null,{"$f":"IF(H90=\"\",\"\",IF(MAXA(P90:R90)<=0,0,MAXA(P90:R90)))","v":""},{"$f":"IF(H90=\"\",\"\",IF(OR(O90=0,S90=0),0,O90+S90))","v":""},{"$f":"T90-I90*2","v":{"$error":"#VALUE!"}},{"$f":"IF(H90=\"\",\"\",AQ90)","v":""},{"$f":"IF(AJ90>=0,AJ90,IF(AI90>=0,AI90,IF(AH90>=0,AH90,IF(AG90>=0,AG90,IF(AF90>=0,AF90,IF(AE90>=0,AE90,IF(AD90>=0,AD90,IF(AC90>=0,AC90,AB90))))))))","v":{"$error":"#VALUE!"}},{"$f":"IF(I90=\"\",\"\",IF(A90=\"H\",IF(OR(H90=\"SEN\",H90<1995),VLOOKUP(I90,Feuil1!$A$11:$F$29,6),IF(AND(H90>1994,H90<1998),VLOOKUP(I90,Feuil1!$A$11:$F$29,5),IF(AND(H90>1997,H90<2000),VLOOKUP(I90,Feuil1!$A$11:$F$29,4),IF(AND(H90>1999,H90<2002),VLOOKUP(I90,Feuil1!$A$11:$F$29,3),VLOOKUP(I90,Feuil1!$A$11:$F$29,2))))),IF(OR(H90=\"SEN\",H90<1995),VLOOKUP(I90,Feuil1!$G$11:$L$25,6),IF(AND(H90>1994,H90<1998),VLOOKUP(I90,Feuil1!$G$11:$L$25,5),IF(AND(H90>1997,H90<2000),VLOOKUP(I90,Feuil1!$G$11:$L$25,4),IF(AND(H90>1999,H90<2002),VLOOKUP(I90,Feuil1!$G$11:$L$25,3),VLOOKUP(I90,Feuil1!$G$11:$L$25,2)))))))","v":""},{"$f":"IF(I90=\"\",\"\",IF(A90=\"H\",10^(0.794358141*LOG(I90/174.393)^2)*T90,IF(A90=\"F\",10^(0.89726074*LOG(I90/148.026)^2)*T90,\"\")))","v":""},null," ",{"$f":"T90-HLOOKUP(X90,Feuil1!$C$1:$BL$10,2,FALSE)","v":{"$error":"#VALUE!"}},{"$f":"T90-HLOOKUP(X90,Feuil1!$C$1:$BL$10,3,FALSE)","v":{"$error":"#VALUE!"}},{"$f":"T90-HLOOKUP(X90,Feuil1!$C$1:$BL$10,4,FALSE)","v":{"$error":"#VALUE!"}},{"$f":"T90-HLOOKUP(X90,Feuil1!$C$1:$BL$10,5,FALSE)","v":{"$error":"#VALUE!"}},{"$f":"T90-HLOOKUP(X90,Feuil1!$C$1:$BL$10,6,FALSE)","v":{"$error":"#VALUE!"}},{"$f":"T90-HLOOKUP(X90,Feuil1!$C$1:$BL$10,7,FALSE)","v":{"$error":"#VALUE!"}},{"$f":"T90-HLOOKUP(X90,Feuil1!$C$1:$BL$10,8,FALSE)","v":{"$error":"#VALUE!"}},{"$f":"T90-HLOOKUP(X90,Feuil1!$C$1:$BL$10,9,FALSE)","v":{"$error":"#VALUE!"}},{"$f":"T90-HLOOKUP(X90,Feuil1!$C$1:$BL$10,10,FALSE)","v":{"$error":"#VALUE!"}},null,null,null,null,null,null,{"$f":"IF(AJ90>=0,$AJ$4,IF(AI90>=0,$AI$4,IF(AH90>=0,$AH$4,IF(AG90>=0,$AG$4,IF(AF90>=0,$AF$4,IF(AE90>=0,$AE$4,IF(AD90>=0,$AD$4,IF(AC90>=0,$AC$4,$AB$4))))))))","v":{"$error":"#VALUE!"}}]
[null,null,null,null,null,null,null,null,null,null,null,null," "," ",null,null,null,null,null,null,null,null,null,null,null,null,null,null,null,null,null,null,null,null,null,null,null,null,null,null,null,null," "]
[]
[]
[]
[]
[]
[]
[]
[]
[]
[]
[]
[]
[]
[]
[]
[]
[]
[]
[]
[]
[]
[]
[]
[]
[]
[]
[]
[]
[]
[]
[]
[]
[]
[]
[]
[]
[]
[]
[]
[]
[]
[]
[]
[]
[]
[]
[]
[]
[]
[]
[]
[]
[]
[]
[]
[]
[]
[]
[]
[]
[]
[]
[]
[]
[]
[]
[]
[]
[]
[]
[]
[]
[]
[]
[]
[]
[]
[]
[]
[]
[]
[]
[]
[]
[]
[]
[]
[]
[]
[]
[]
[]
[]
[]
[]
[]
[]
[]
[]
[]
[]
[]
[]
[]
[]
[]
[]
[]
[]
[]
[]
[]
[]
[]
[]
[]
[]
[]
[]
[]
[]
[]
[]
[]
[]
[]
[]
[]
[]
[]
[]
[]
[]
[]
[]
[]
[]
[]
[]
[]
[]
[]
[]
[]
[]
[]
[]
[]
[]
[]
[]
[]
[]
[]
[]
[]
[]
[]
[]
[]
[]
[]
[]
[]
[]
[]
[]
[]
[]
[]
[]
[]
[]
[]
[]
[]
[]
[]
[]
[]
[]
[]
[]
[]
[]
[]
[]
[]
[]
[]
[]
[]
[]
[]
[]
[]
[]
[]
[]
[]
[]
[]
[]
[]
[]
[]
[]
[]
[]
[]
[]
[]
[]
[]
[]
[]
[]
[]
[]
[]
[]
[]
[]
[]
[]
[]
[]
[]
[]
[]
[]
[]
[]
[]
[]
[]
[]
[]
[]
[]
[]
[]
[]
[]
[]
[]
[]
[]
[]
[]
[]
[]
[]
[]
[]
[]
[]
[]
[]
[]
[]
[]
[]
[]
[]
[]
[]
[]
[]
[]
[]
[]
[]
[]
[]
[]
[]
[]
[]
[]
[]
[]
[]
[]
[]
[]
[]
[]
[]
[]
[]
[]
[]
[]
[]
[]
[]
[]
[]
[]
[]
[]
[]
[]
[]
[]
[]
[]
[]
[]
[]
[]
[]
[]
[]
[]
[]
[]
[]
[]
[]
[]
[]
[]
[]
[]
[]
[]
[]
[]
[]
[]
[]
[]
[]
[]
[]
[]
[]
[]
[]
[]
[]
[]
[]
[]
[]
[]
[]
[]
[]
[]
[]
[]
[]
[]
[]
[]
[]
[]
[]
[]
[]
[]
[]
[]
[]
[]
[]
[]
[]
[]
[]
[]
[]
[]
[]
[]
[]
[]
[]
[]
[]
[]
[]
[]
[]
[]
[]
[]
[]
[]
[]
[]
[]
[]
[]
[]
[]
[]
[]
[]
[]
[]
[]
[]
[]
[]
[]
[]
[]
[]
[]
[]
[]
[]
[]
[]
[]
[]
[]
[]
[]
[]
[]
[]
[]
[]
[]
[]
[]
[]
[]
[]
[]
[]
[]
[]
[]
[]
[]
[]
[]
[]
[]
[]
[]
[]
[]
[]
[]
[]
[]
[]
[]
[]
[]
[]
[]
[]
[]
[]
[]
[]
[]
[]
[]
[]
[]
[]
[]
[]
[]
[]
[]
[]
[]
[]
[]
[]
[]
[]
[]
[]
[]
[]
[]
[]
[]
[]
[]
[]
[]
[]
[]
[]
[]
[]
[]
[]
[null,null,null,null,null,null,null,null,null,null,null,null,null,null,null,null,null,null,null,null,null,null,null,null,null,null,null,"J77","J85","J94","J105","J+105",null,"J56","J62","J69","J77","J85","J94","J105","J+105",null,"S56","S62","S69","S77","S85","S94","S105","S+105"]
[null,null,null,null,null,null,null,null,null,null,null,null,null,null,null,null,null,null,null,null,null,null,null,null,null,null,null,145,160,170,180,190,null,100,115,130,145,160,170,180,190,null,115,135,150,165,180,190,200,210]
[null,null,null,null,null,null,null,null,null,null,null,null,null,null,null,null,null,null,null,null,null,null,null,null,null,null,null,165,180,190,200,210,null,115,135,150,165,180,190,200,210,null,130,150,165,185,200,210,220,230]
[null,null,null,null,null,null,null,null,null,null,null,null,null,null,null,null,null,null,null,null,null,null,null,null,null,null,null,185,200,210,220,230,null,130,150,165,185,200,210,220,230,null,145,165,180,200,220,230,240,250]
[null,null,null,null,null,null,null,null,null,null,null,null,null,null,null,null,null,null,null,null,null,null,null,null,null,null,null,200,220,230,240,250,null,145,165,180,200,220,230,240,250,null,175,195,215,235,250,260,275,280]
[null,null,null,null,null,null,null,null,null,null,null,null,null,null,null,null,null,null,null,null,null,null,null,null,null,null,null,235,250,260,275,280,null,175,195,215,235,250,260,275,280,null,210,230,250,270,290,300,310,325]
[null,null,null,null,null,null,null,null,null,null,null,null,null,null,null,null,null,null,null,null,null,null,null,null,null,null,null,270,290,300,310,325,null,210,230,250,270,290,300,310,325,null,230,255,275,300,315,335,345,355]
[null,null,null,null,null,null,null,null,null,null,null,null,null,null,null,null,null,null,null,null,null,null,null,null,null,null,null,320,335,355,370,380,null,245,270,295,320,335,355,370,380,null,245,270,295,320,335,355,370,380]

{"sheet":"SENIORS","index":4,"n_rows":526,"n_cols":50,"rows_kept":526,"cut":false,"hidden":false,"merged":[[3,21,3,22],[0,7,0,14],[0,18,0,21],[1,6,1,10],[1,11,1,13],[1,14,1,17],[1,18,1,19],[1,21,1,22]]}
[null,null,null,null,null,null,null,"Championnat de Zone de Printemps ",null,null,null,null,null,null,null,null,"DATE :",null,"2015-04-05"]
[null,null,null,null,null," ","CLASSEMENT NATIONAL des ZONES"]
[]
["SEXE","ZONE","REG.","CL.","LICENCE","NOMS","Prénoms","AN","POIDS","CLUB","NAT",1,2,3,"ARR",1,2,3,"EP-J","Total","KP-2PC","SERIE",null,"Catég","IWF",null," ","DEB ","DEP +","REG +","IRG +","FED +","NAT +","INTB +","INTA +","OLY +"]
[]
["F","SEST","RAL",1,21779,"LYAUDET","Chrystel",1972,46.95,"H.C. OYONNAX","F",47,49,-51,{"$f":"IF(H6=\"\",\"\",IF(MAXA(L6:N6)<=0,0,MAXA(L6:N6)))","v":49},58,61,63,{"$f":"IF(H6=\"\",\"\",IF(MAXA(P6:R6)<=0,0,MAXA(P6:R6)))","v":63},{"$f":"IF(H6=\"\",\"\",IF(OR(O6=0,S6=0),0,O6+S6))","v":112},{"$f":"T6-I6*2","v":18.099999999999994},{"$f":"IF(H6=\"\",\"\",AQ6)","v":"NAT +"},{"$f":"IF(AJ6>=0,AJ6,IF(AI6>=0,AI6,IF(AH6>=0,AH6,IF(AG6>=0,AG6,IF(AF6>=0,AF6,IF(AE6>=0,AE6,IF(AD6>=0,AD6,IF(AC6>=0,AC6,AB6))))))))","v":2},{"$f":"IF(I6=\"\",\"\",IF(A6=\"H\",IF(OR(H6=\"SEN\",H6<1995),VLOOKUP(I6,Feuil1!$A$11:$F$29,6),IF(AND(H6>1994,H6<1998),VLOOKUP(I6,Feuil1!$A$11:$F$29,5),IF(AND(H6>1997,H6<2000),VLOOKUP(I6,Feuil1!$A$11:$F$29,4),IF(AND(H6>1999,H6<2002),VLOOKUP(I6,Feuil1!$A$11:$F$29,3),VLOOKUP(I6,Feuil1!$A$11:$F$29,2))))),IF(OR(H6=\"SEN\",H6<1995),VLOOKUP(I6,Feuil1!$G$11:$L$25,6),IF(AND(H6>1994,H6<1998),VLOOKUP(I6,Feuil1!$G$11:$L$25,5),IF(AND(H6>1997,H6<2000),VLOOKUP(I6,Feuil1!$G$11:$L$25,4),IF(AND(H6>1999,H6<2002),VLOOKUP(I6,Feuil1!$G$11:$L$25,3),VLOOKUP(I6,Feuil1!$G$11:$L$25,2)))))))","v":"FS48"},{"$f":"IF(I6=\"\",\"\",IF(A6=\"H\",10^(0.794358141*LOG(I6/174.393)^2)*T6,IF(A6=\"F\",10^(0.89726074*LOG(I6/148.026)^2)*T6,\"\")))","v":187.22784528209419},null," ",{"$f":"T6-HLOOKUP(X6,Feuil1!$C$1:$BL$10,2,FALSE)","v":57},{"$f":"T6-HLOOKUP(X6,Feuil1!$C$1:$BL$10,3,FALSE)","v":47},{"$f":"T6-HLOOKUP(X6,Feuil1!$C$1:$BL$10,4,FALSE)","v":37},{"$f":"T6-HLOOKUP(X6,Feuil1!$C$1:$BL$10,5,FALSE)","v":27},{"$f":"T6-HLOOKUP(X6,Feuil1!$C$1:$BL$10,6,FALSE)","v":17},{"$f":"T6-HLOOKUP(X6,Feuil1!$C$1:$BL$10,7,FALSE)","v":2},{"$f":"T6-HLOOKUP(X6,Feuil1!$C$1:$BL$10,8,FALSE)","v":-13},{"$f":"T6-HLOOKUP(X6,Feuil1!$C$1:$BL$10,9,FALSE)","v":-28},{"$f":"T6-HLOOKUP(X6,Feuil1!$C$1:$BL$10,10,FALSE)","v":-43},null,null,null,null,null,null,{"$f":"IF(AJ6>=0,$AJ$4,IF(AI6>=0,$AI$4,IF(AH6>=0,$AH$4,IF(AG6>=0,$AG$4,IF(AF6>=0,$AF$4,IF(AE6>=0,$AE$4,IF(AD6>=0,$AD$4,IF(AC6>=0,$AC$4,$AB$4))))))))","v":"NAT +"}]
["F","Nord","PIC",2,167624,"DELACOURT","Marine",1990,47,"La Vaillante St Quentin","F",45,-50,-50,45,55,-60,-60,55,100,6,"FED +",5,{"$f":"IF(I7=\"\",\"\",IF(A7=\"H\",IF(OR(H7=\"SEN\",H7<1995),VLOOKUP(I7,Feuil1!$A$11:$F$29,6),IF(AND(H7>1994,H7<1998),VLOOKUP(I7,Feuil1!$A$11:$F$29,5),IF(AND(H7>1997,H7<2000),VLOOKUP(I7,Feuil1!$A$11:$F$29,4),IF(AND(H7>1999,H7<2002),VLOOKUP(I7,Feuil1!$A$11:$F$29,3),VLOOKUP(I7,Feuil1!$A$11:$F$29,2))))),IF(OR(H7=\"SEN\",H7<1995),VLOOKUP(I7,Feuil1!$G$11:$L$25,6),IF(AND(H7>1994,H7<1998),VLOOKUP(I7,Feuil1!$G$11:$L$25,5),IF(AND(H7>1997,H7<2000),VLOOKUP(I7,Feuil1!$G$11:$L$25,4),IF(AND(H7>1999,H7<2002),VLOOKUP(I7,Feuil1!$G$11:$L$25,3),VLOOKUP(I7,Feuil1!$G$11:$L$25,2)))))))","v":"FS48"},167.00863088610834,null," ",{"$f":"T7-HLOOKUP(X7,Feuil1!$C$1:$BL$10,2,FALSE)","v":45},{"$f":"T7-HLOOKUP(X7,Feuil1!$C$1:$BL$10,3,FALSE)","v":35},{"$f":"T7-HLOOKUP(X7,Feuil1!$C$1:$BL$10,4,FALSE)","v":25},{"$f":"T7-HLOOKUP(X7,Feuil1!$C$1:$BL$10,5,FALSE)","v":15},{"$f":"T7-HLOOKUP(X7,Feuil1!$C$1:$BL$10,6,FALSE)","v":5},{"$f":"T7-HLOOKUP(X7,Feuil1!$C$1:$BL$10,7,FALSE)","v":-10},{"$f":"T7-HLOOKUP(X7,Feuil1!$C$1:$BL$10,8,FALSE)","v":-25},{"$f":"T7-HLOOKUP(X7,Feuil1!$C$1:$BL$10,9,FALSE)","v":-40},{"$f":"T7-HLOOKUP(X7,Feuil1!$C$1:$BL$10,10,FALSE)","v":-55},null,null,null,null,null,null,"FED +"]
["F","CO","BNO","NC",270512,"SAYAH","Nadia",1965,47.8,"Caen CHM","F",40,43,45,45,-48,-48,-50,0,0,-95.6,"DEB ",-55,{"$f":"IF(I8=\"\",\"\",IF(A8=\"H\",IF(OR(H8=\"SEN\",H8<1995),VLOOKUP(I8,Feuil1!$A$11:$F$29,6),IF(AND(H8>1994,H8<1998),VLOOKUP(I8,Feuil1!$A$11:$F$29,5),IF(AND(H8>1997,H8<2000),VLOOKUP(I8,Feuil1!$A$11:$F$29,4),IF(AND(H8>1999,H8<2002),VLOOKUP(I8,Feuil1!$A$11:$F$29,3),VLOOKUP(I8,Feuil1!$A$11:$F$29,2))))),IF(OR(H8=\"SEN\",H8<1995),VLOOKUP(I8,Feuil1!$G$11:$L$25,6),IF(AND(H8>1994,H8<1998),VLOOKUP(I8,Feuil1!$G$11:$L$25,5),IF(AND(H8>1997,H8<2000),VLOOKUP(I8,Feuil1!$G$11:$L$25,4),IF(AND(H8>1999,H8<2002),VLOOKUP(I8,Feuil1!$G$11:$L$25,3),VLOOKUP(I8,Feuil1!$G$11:$L$25,2)))))))","v":"FS48"},0,null," ",{"$f":"T8-HLOOKUP(X8,Feuil1!$C$1:$BL$10,2,FALSE)","v":-55},{"$f":"T8-HLOOKUP(X8,Feuil1!$C$1:$BL$10,3,FALSE)","v":-65},{"$f":"T8-HLOOKUP(X8,Feuil1!$C$1:$BL$10,4,FALSE)","v":-75},{"$f":"T8-HLOOKUP(X8,Feuil1!$C$1:$BL$10,5,FALSE)","v":-85},{"$f":"T8-HLOOKUP(X8,Feuil1!$C$1:$BL$10,6,FALSE)","v":-95},{"$f":"T8-HLOOKUP(X8,Feuil1!$C$1:$BL$10,7,FALSE)","v":-110},{"$f":"T8-HLOOKUP(X8,Feuil1!$C$1:$BL$10,8,FALSE)","v":-125},{"$f":"T8-HLOOKUP(X8,Feuil1!$C$1:$BL$10,9,FALSE)","v":-140},{"$f":"T8-HLOOKUP(X8,Feuil1!$C$1:$BL$10,10,FALSE)","v":-155},null,null,null,null,null,null,"DEB "]
[]
["F","DOM","REU",1,241107,"EDMOND","NEIGE LINE",1978,50,"CH LA PLAINE","F",55,60,-63,60,70,75,-78,75,135,35,"NAT +",15,{"$f":"IF(I10=\"\",\"\",IF(A10=\"H\",IF(OR(H10=\"SEN\",H10<1995),VLOOKUP(I10,Feuil1!$A$11:$F$29,6),IF(AND(H10>1994,H10<1998),VLOOKUP(I10,Feuil1!$A$11:$F$29,5),IF(AND(H10>1997,H10<2000),VLOOKUP(I10,Feuil1!$A$11:$F$29,4),IF(AND(H10>1999,H10<2002),VLOOKUP(I10,Feuil1!$A$11:$F$29,3),VLOOKUP(I10,Feuil1!$A$11:$F$29,2))))),IF(OR(H10=\"SEN\",H10<1995),VLOOKUP(I10,Feuil1!$G$11:$L$25,6),IF(AND(H10>1994,H10<1998),VLOOKUP(I10,Feuil1!$G$11:$L$25,5),IF(AND(H10>1997,H10<2000),VLOOKUP(I10,Feuil1!$G$11:$L$25,4),IF(AND(H10>1999,H10<2002),VLOOKUP(I10,Feuil1!$G$11:$L$25,3),VLOOKUP(I10,Feuil1!$G$11:$L$25,2)))))))","v":"FS53"},213.64569694635125,null," ",{"$f":"T10-HLOOKUP(X10,Feuil1!$C$1:$BL$10,2,FALSE)","v":70},{"$f":"T10-HLOOKUP(X10,Feuil1!$C$1:$BL$10,3,FALSE)","v":60},{"$f":"T10-HLOOKUP(X10,Feuil1!$C$1:$BL$10,4,FALSE)","v":50},{"$f":"T10-HLOOKUP(X10,Feuil1!$C$1:$BL$10,5,FALSE)","v":40},{"$f":"T10-HLOOKUP(X10,Feuil1!$C$1:$BL$10,6,FALSE)","v":30},{"$f":"T10-HLOOKUP(X10,Feuil1!$C$1:$BL$10,7,FALSE)","v":15},{"$f":"T10-HLOOKUP(X10,Feuil1!$C$1:$BL$10,8,FALSE)","v":-5},{"$f":"T10-HLOOKUP(X10,Feuil1!$C$1:$BL$10,9,FALSE)","v":-25},{"$f":"T10-HLOOKUP(X10,Feuil1!$C$1:$BL$10,10,FALSE)","v":-40},null,null,null,null,null,null,"NAT +"]
["F","SO","MPY",2,376138,"ROUGEMONT","Mathilde",1992,53,"TOULOUSE","F",47,49,-50,{"$f":"IF(H11=\"\",\"\",IF(MAXA(L11:N11)<=0,0,MAXA(L11:N11)))","v":49},64,67,-71,{"$f":"IF(H11=\"\",\"\",IF(MAXA(P11:R11)<=0,0,MAXA(P11:R11)))","v":67},{"$f":"IF(H11=\"\",\"\",IF(OR(O11=0,S11=0),0,O11+S11))","v":116},{"$f":"T11-I11*2","v":10},{"$f":"IF(H11=\"\",\"\",AQ11)","v":"FED +"},{"$f":"IF(AJ11>=0,AJ11,IF(AI11>=0,AI11,IF(AH11>=0,AH11,IF(AG11>=0,AG11,IF(AF11>=0,AF11,IF(AE11>=0,AE11,IF(AD11>=0,AD11,IF(AC11>=0,AC11,AB11))))))))","v":11},{"$f":"IF(I11=\"\",\"\",IF(A11=\"H\",IF(OR(H11=\"SEN\",H11<1995),VLOOKUP(I11,Feuil1!$A$11:$F$29,6),IF(AND(H11>1994,H11<1998),VLOOKUP(I11,Feuil1!$A$11:$F$29,5),IF(AND(H11>1997,H11<2000),VLOOKUP(I11,Feuil1!$A$11:$F$29,4),IF(AND(H11>1999,H11<2002),VLOOKUP(I11,Feuil1!$A$11:$F$29,3),VLOOKUP(I11,Feuil1!$A$11:$F$29,2))))),IF(OR(H11=\"SEN\",H11<1995),VLOOKUP(I11,Feuil1!$G$11:$L$25,6),IF(AND(H11>1994,H11<1998),VLOOKUP(I11,Feuil1!$G$11:$L$25,5),IF(AND(H11>1997,H11<2000),VLOOKUP(I11,Feuil1!$G$11:$L$25,4),IF(AND(H11>1999,H11<2002),VLOOKUP(I11,Feuil1!$G$11:$L$25,3),VLOOKUP(I11,Feuil1!$G$11:$L$25,2)))))))","v":"FS53"},{"$f":"IF(I11=\"\",\"\",IF(A11=\"H\",10^(0.794358141*LOG(I11/174.393)^2)*T11,IF(A11=\"F\",10^(0.89726074*LOG(I11/148.026)^2)*T11,\"\")))","v":174.97952749854286},null," ",{"$f":"T11-HLOOKUP(X11,Feuil1!$C$1:$BL$10,2,FALSE)","v":51},{"$f":"T11-HLOOKUP(X11,Feuil1!$C$1:$BL$10,3,FALSE)","v":41},{"$f":"T11-HLOOKUP(X11,Feuil1!$C$1:$BL$10,4,FALSE)","v":31},{"$f":"T11-HLOOKUP(X11,Feuil1!$C$1:$BL$10,5,FALSE)","v":21},{"$f":"T11-HLOOKUP(X11,Feuil1!$C$1:$BL$10,6,FALSE)","v":11},{"$f":"T11-HLOOKUP(X11,Feuil1!$C$1:$BL$10,7,FALSE)","v":-4},{"$f":"T11-HLOOKUP(X11,Feuil1!$C$1:$BL$10,8,FALSE)","v":-24},{"$f":"T11-HLOOKUP(X11,Feuil1!$C$1:$BL$10,9,FALSE)","v":-44},{"$f":"T11-HLOOKUP(X11,Feuil1!$C$1:$BL$10,10,FALSE)","v":-59},null,null,null,null,null,null,{"$f":"IF(AJ11>=0,$AJ$4,IF(AI11>=0,$AI$4,IF(AH11>=0,$AH$4,IF(AG11>=0,$AG$4,IF(AF11>=0,$AF$4,IF(AE11>=0,$AE$4,IF(AD11>=0,$AD$4,IF(AC11>=0,$AC$4,$AB$4))))))))","v":"FED +"}]
["F","Nord","IDF","NC",388580,"MAROUBI","Salima",1988,52.2,"SA Montmartroise","F",-41,-41,-41,0,"-","-","-",0,0,-104.4,"DEB ",-65,{"$f":"IF(I12=\"\",\"\",IF(A12=\"H\",IF(OR(H12=\"SEN\",H12<1995),VLOOKUP(I12,Feuil1!$A$11:$F$29,6),IF(AND(H12>1994,H12<1998),VLOOKUP(I12,Feuil1!$A$11:$F$29,5),IF(AND(H12>1997,H12<2000),VLOOKUP(I12,Feuil1!$A$11:$F$29,4),IF(AND(H12>1999,H12<2002),VLOOKUP(I12,Feuil1!$A$11:$F$29,3),VLOOKUP(I12,Feuil1!$A$11:$F$29,2))))),IF(OR(H12=\"SEN\",H12<1995),VLOOKUP(I12,Feuil1!$G$11:$L$25,6),IF(AND(H12>1994,H12<1998),VLOOKUP(I12,Feuil1!$G$11:$L$25,5),IF(AND(H12>1997,H12<2000),VLOOKUP(I12,Feuil1!$G$11:$L$25,4),IF(AND(H12>1999,H12<2002),VLOOKUP(I12,Feuil1!$G$11:$L$25,3),VLOOKUP(I12,Feuil1!$G$11:$L$25,2)))))))","v":"FS53"},0,null," ",{"$f":"T12-HLOOKUP(X12,Feuil1!$C$1:$BL$10,2,FALSE)","v":-65},{"$f":"T12-HLOOKUP(X12,Feuil1!$C$1:$BL$10,3,FALSE)","v":-75},{"$f":"T12-HLOOKUP(X12,Feuil1!$C$1:$BL$10,4,FALSE)","v":-85},{"$f":"T12-HLOOKUP(X12,Feuil1!$C$1:$BL$10,5,FALSE)","v":-95},{"$f":"T12-HLOOKUP(X12,Feuil1!$C$1:$BL$10,6,FALSE)","v":-105},{"$f":"T12-HLOOKUP(X12,Feuil1!$C$1:$BL$10,7,FALSE)","v":-120},{"$f":"T12-HLOOKUP(X12,Feuil1!$C$1:$BL$10,8,FALSE)","v":-140},{"$f":"T12-HLOOKUP(X12,Feuil1!$C$1:$BL$10,9,FALSE)","v":-160},{"$f":"T12-HLOOKUP(X12,Feuil1!$C$1:$BL$10,10,FALSE)","v":-175},null,null,null,null,null,null,"DEB "]
[]
["F","CO","BNO",1,32998,"FLEURY","Laura",1988,54.8,"Caen CHM","F",60,63,-65,{"$f":"IF(H14=\"\",\"\",IF(MAXA(L14:N14)<=0,0,MAXA(L14:N14)))","v":63},-75,75,-77,{"$f":"IF(H14=\"\",\"\",IF(MAXA(P14:R14)<=0,0,MAXA(P14:R14)))","v":75},{"$f":"IF(H14=\"\",\"\",IF(OR(O14=0,S14=0),0,O14+S14))","v":138},{"$f":"T14-I14*2","v":28.400000000000006},{"$f":"IF(H14=\"\",\"\",AQ14)","v":"NAT +"},{"$f":"IF(AJ14>=0,AJ14,IF(AI14>=0,AI14,IF(AH14>=0,AH14,IF(AG14>=0,AG14,IF(AF14>=0,AF14,IF(AE14>=0,AE14,IF(AD14>=0,AD14,IF(AC14>=0,AC14,AB14))))))))","v":8},{"$f":"IF(I14=\"\",\"\",IF(A14=\"H\",IF(OR(H14=\"SEN\",H14<1995),VLOOKUP(I14,Feuil1!$A$11:$F$29,6),IF(AND(H14>1994,H14<1998),VLOOKUP(I14,Feuil1!$A$11:$F$29,5),IF(AND(H14>1997,H14<2000),VLOOKUP(I14,Feuil1!$A$11:$F$29,4),IF(AND(H14>1999,H14<2002),VLOOKUP(I14,Feuil1!$A$11:$F$29,3),VLOOKUP(I14,Feuil1!$A$11:$F$29,2))))),IF(OR(H14=\"SEN\",H14<1995),VLOOKUP(I14,Feuil1!$G$11:$L$25,6),IF(AND(H14>1994,H14<1998),VLOOKUP(I14,Feuil1!$G$11:$L$25,5),IF(AND(H14>1997,H14<2000),VLOOKUP(I14,Feuil1!$G$11:$L$25,4),IF(AND(H14>1999,H14<2002),VLOOKUP(I14,Feuil1!$G$11:$L$25,3),VLOOKUP(I14,Feuil1!$G$11:$L$25,2)))))))","v":"FS58"},{"$f":"IF(I14=\"\",\"\",IF(A14=\"H\",10^(0.794358141*LOG(I14/174.393)^2)*T14,IF(A14=\"F\",10^(0.89726074*LOG(I14/148.026)^2)*T14,\"\")))","v":202.76200041928561},null," ",{"$f":"T14-HLOOKUP(X14,Feuil1!$C$1:$BL$10,2,FALSE)","v":68},{"$f":"T14-HLOOKUP(X14,Feuil1!$C$1:$BL$10,3,FALSE)","v":58},{"$f":"T14-HLOOKUP(X14,Feuil1!$C$1:$BL$10,4,FALSE)","v":48},{"$f":"T14-HLOOKUP(X14,Feuil1!$C$1:$BL$10,5,FALSE)","v":38},{"$f":"T14-HLOOKUP(X14,Feuil1!$C$1:$BL$10,6,FALSE)","v":23},{"$f":"T14-HLOOKUP(X14,Feuil1!$C$1:$BL$10,7,FALSE)","v":8},{"$f":"T14-HLOOKUP(X14,Feuil1!$C$1:$BL$10,8,FALSE)","v":-12},{"$f":"T14-HLOOKUP(X14,Feuil1!$C$1:$BL$10,9,FALSE)","v":-32},{"$f":"T14-HLOOKUP(X14,Feuil1!$C$1:$BL$10,10,FALSE)","v":-52},null,null,null,null,null,null,{"$f":"IF(AJ14>=0,$AJ$4,IF(AI14>=0,$AI$4,IF(AH14>=0,$AH$4,IF(AG14>=0,$AG$4,IF(AF14>=0,$AF$4,IF(AE14>=0,$AE$4,IF(AD14>=0,$AD$4,IF(AC14>=0,$AC$4,$AB$4))))))))","v":"NAT +"}]
["F","NE","ALS",2,88574,"HERRMANN","Mélissa",1988,54.3,"SR Obernai HM","F",55,57,-59,57,70,73,-75,73,130,21.400000000000006,"NAT +",0,{"$f":"IF(I15=\"\",\"\",IF(A15=\"H\",IF(OR(H15=\"SEN\",H15<1995),VLOOKUP(I15,Feuil1!$A$11:$F$29,6),IF(AND(H15>1994,H15<1998),VLOOKUP(I15,Feuil1!$A$11:$F$29,5),IF(AND(H15>1997,H15<2000),VLOOKUP(I15,Feuil1!$A$11:$F$29,4),IF(AND(H15>1999,H15<2002),VLOOKUP(I15,Feuil1!$A$11:$F$29,3),VLOOKUP(I15,Feuil1!$A$11:$F$29,2))))),IF(OR(H15=\"SEN\",H15<1995),VLOOKUP(I15,Feuil1!$G$11:$L$25,6),IF(AND(H15>1994,H15<1998),VLOOKUP(I15,Feuil1!$G$11:$L$25,5),IF(AND(H15>1997,H15<2000),VLOOKUP(I15,Feuil1!$G$11:$L$25,4),IF(AND(H15>1999,H15<2002),VLOOKUP(I15,Feuil1!$G$11:$L$25,3),VLOOKUP(I15,Feuil1!$G$11:$L$25,2)))))))","v":"FS58"},192.37466805587701,null," ",{"$f":"T15-HLOOKUP(X15,Feuil1!$C$1:$BL$10,2,FALSE)","v":60},{"$f":"T15-HLOOKUP(X15,Feuil1!$C$1:$BL$10,3,FALSE)","v":50},{"$f":"T15-HLOOKUP(X15,Feuil1!$C$1:$BL$10,4,FALSE)","v":40},{"$f":"T15-HLOOKUP(X15,Feuil1!$C$1:$BL$10,5,FALSE)","v":30},{"$f":"T15-HLOOKUP(X15,Feuil1!$C$1:$BL$10,6,FALSE)","v":15},{"$f":"T15-HLOOKUP(X15,Feuil1!$C$1:$BL$10,7,FALSE)","v":0},{"$f":"T15-HLOOKUP(X15,Feuil1!$C$1:$BL$10,8,FALSE)","v":-20},{"$f":"T15-HLOOKUP(X15,Feuil1!$C$1:$BL$10,9,FALSE)","v":-40},{"$f":"T15-HLOOKUP(X15,Feuil1!$C$1:$BL$10,10,FALSE)","v":-60},null,null,null,null,null,null,"NAT +"]
["F","SEST","PRO",3,139713,"GAMONDES","Cendrine",1976,56.3,"EEAR. MONTEUX","F",55,60,-63,60,65,70,-73,70,130,17.400000000000006,"NAT +",0,{"$f":"IF(I16=\"\",\"\",IF(A16=\"H\",IF(OR(H16=\"SEN\",H16<1995),VLOOKUP(I16,Feuil1!$A$11:$F$29,6),IF(AND(H16>1994,H16<1998),VLOOKUP(I16,Feuil1!$A$11:$F$29,5),IF(AND(H16>1997,H16<2000),VLOOKUP(I16,Feuil1!$A$11:$F$29,4),IF(AND(H16>1999,H16<2002),VLOOKUP(I16,Feuil1!$A$11:$F$29,3),VLOOKUP(I16,Feuil1!$A$11:$F$29,2))))),IF(OR(H16=\"SEN\",H16<1995),VLOOKUP(I16,Feuil1!$G$11:$L$25,6),IF(AND(H16>1994,H16<1998),VLOOKUP(I16,Feuil1!$G$11:$L$25,5),IF(AND(H16>1997,H16<2000),VLOOKUP(I16,Feuil1!$G$11:$L$25,4),IF(AND(H16>1999,H16<2002),VLOOKUP(I16,Feuil1!$G$11:$L$25,3),VLOOKUP(I16,Feuil1!$G$11:$L$25,2)))))))","v":"FS58"},187.10773831756546,null," ",{"$f":"T16-HLOOKUP(X16,Feuil1!$C$1:$BL$10,2,FALSE)","v":60},{"$f":"T16-HLOOKUP(X16,Feuil1!$C$1:$BL$10,3,FALSE)","v":50},{"$f":"T16-HLOOKUP(X16,Feuil1!$C$1:$BL$10,4,FALSE)","v":40},{"$f":"T16-HLOOKUP(X16,Feuil1!$C$1:$BL$10,5,FALSE)","v":30},{"$f":"T16-HLOOKUP(X16,Feuil1!$C$1:$BL$10,6,FALSE)","v":15},{"$f":"T16-HLOOKUP(X16,Feuil1!$C$1:$BL$10,7,FALSE)","v":0},{"$f":"T16-HLOOKUP(X16,Feuil1!$C$1:$BL$10,8,FALSE)","v":-20},{"$f":"T16-HLOOKUP(X16,Feuil1!$C$1:$BL$10,9,FALSE)","v":-40},{"$f":"T16-HLOOKUP(X16,Feuil1!$C$1:$BL$10,10,FALSE)","v":-60},null,null,null,null,null,null,"NAT +"]
["F","Nord","IDF",4,313076,"GHERARDI","Anne-Sophie",1978,56,"VGA St Maur","F",50,52,54,54,65,-68,-68,65,119,7,"FED +",4,{"$f":"IF(I17=\"\",\"\",IF(A17=\"H\",IF(OR(H17=\"SEN\",H17<1995),VLOOKUP(I17,Feuil1!$A$11:$F$29,6),IF(AND(H17>1994,H17<1998),VLOOKUP(I17,Feuil1!$A$11:$F$29,5),IF(AND(H17>1997,H17<2000),VLOOKUP(I17,Feuil1!$A$11:$F$29,4),IF(AND(H17>1999,H17<2002),VLOOKUP(I17,Feuil1!$A$11:$F$29,3),VLOOKUP(I17,Feuil1!$A$11:$F$29,2))))),IF(OR(H17=\"SEN\",H17<1995),VLOOKUP(I17,Feuil1!$G$11:$L$25,6),IF(AND(H17>1994,H17<1998),VLOOKUP(I17,Feuil1!$G$11:$L$25,5),IF(AND(H17>1997,H17<2000),VLOOKUP(I17,Feuil1!$G$11:$L$25,4),IF(AND(H17>1999,H17<2002),VLOOKUP(I17,Feuil1!$G$11:$L$25,3),VLOOKUP(I17,Feuil1!$G$11:$L$25,2)))))))","v":"FS58"},171.9682765137533,null," ",{"$f":"T17-HLOOKUP(X17,Feuil1!$C$1:$BL$10,2,FALSE)","v":49},{"$f":"T17-HLOOKUP(X17,Feuil1!$C$1:$BL$10,3,FALSE)","v":39},{"$f":"T17-HLOOKUP(X17,Feuil1!$C$1:$BL$10,4,FALSE)","v":29},{"$f":"T17-HLOOKUP(X17,Feuil1!$C$1:$BL$10,5,FALSE)","v":19},{"$f":"T17-HLOOKUP(X17,Feuil1!$C$1:$BL$10,6,FALSE)","v":4},{"$f":"T17-HLOOKUP(X17,Feuil1!$C$1:$BL$10,7,FALSE)","v":-11},{"$f":"T17-HLOOKUP(X17,Feuil1!$C$1:$BL$10,8,FALSE)","v":-31},{"$f":"T17-HLOOKUP(X17,Feuil1!$C$1:$BL$10,9,FALSE)","v":-51},{"$f":"T17-HLOOKUP(X17,Feuil1!$C$1:$BL$10,10,FALSE)","v":-71},null,null,null,null,null,null,"FED +"]
["F","Nord","IDF",5,383141,"FOSSE","Amélie",1989,57.7,"US Métro Paris","F",47,50,-53,50,65,"-","-",65,115,-0.40000000000000568,"FED +",0,{"$f":"IF(I18=\"\",\"\",IF(A18=\"H\",IF(OR(H18=\"SEN\",H18<1995),VLOOKUP(I18,Feuil1!$A$11:$F$29,6),IF(AND(H18>1994,H18<1998),VLOOKUP(I18,Feuil1!$A$11:$F$29,5),IF(AND(H18>1997,H18<2000),VLOOKUP(I18,Feuil1!$A$11:$F$29,4),IF(AND(H18>1999,H18<2002),VLOOKUP(I18,Feuil1!$A$11:$F$29,3),VLOOKUP(I18,Feuil1!$A$11:$F$29,2))))),IF(OR(H18=\"SEN\",H18<1995),VLOOKUP(I18,Feuil1!$G$11:$L$25,6),IF(AND(H18>1994,H18<1998),VLOOKUP(I18,Feuil1!$G$11:$L$25,5),IF(AND(H18>1997,H18<2000),VLOOKUP(I18,Feuil1!$G$11:$L$25,4),IF(AND(H18>1999,H18<2002),VLOOKUP(I18,Feuil1!$G$11:$L$25,3),VLOOKUP(I18,Feuil1!$G$11:$L$25,2)))))))","v":"FS58"},162.52178329362457,null," ",{"$f":"T18-HLOOKUP(X18,Feuil1!$C$1:$BL$10,2,FALSE)","v":45},{"$f":"T18-HLOOKUP(X18,Feuil1!$C$1:$BL$10,3,FALSE)","v":35},{"$f":"T18-HLOOKUP(X18,Feuil1!$C$1:$BL$10,4,FALSE)","v":25},{"$f":"T18-HLOOKUP(X18,Feuil1!$C$1:$BL$10,5,FALSE)","v":15},{"$f":"T18-HLOOKUP(X18,Feuil1!$C$1:$BL$10,6,FALSE)","v":0},{"$f":"T18-HLOOKUP(X18,Feuil1!$C$1:$BL$10,7,FALSE)","v":-15},{"$f":"T18-HLOOKUP(X18,Feuil1!$C$1:$BL$10,8,FALSE)","v":-35},{"$f":"T18-HLOOKUP(X18,Feuil1!$C$1:$BL$10,9,FALSE)","v":-55},{"$f":"T18-HLOOKUP(X18,Feuil1!$C$1:$BL$10,10,FALSE)","v":-75},null,null,null,null,null,null,"FED +"]
["F","NE","FCO",6,113366,"COUSIN ","Emilie",1984,57.6,"CH Luxeuil","F",50,-52,-52,50,61,-65,-65,61,111,-4.2000000000000028,"IRG +",11,{"$f":"IF(I19=\"\",\"\",IF(A19=\"H\",IF(OR(H19=\"SEN\",H19<1995),VLOOKUP(I19,Feuil1!$A$11:$F$29,6),IF(AND(H19>1994,H19<1998),VLOOKUP(I19,Feuil1!$A$11:$F$29,5),IF(AND(H19>1997,H19<2000),VLOOKUP(I19,Feuil1!$A$11:$F$29,4),IF(AND(H19>1999,H19<2002),VLOOKUP(I19,Feuil1!$A$11:$F$29,3),VLOOKUP(I19,Feuil1!$A$11:$F$29,2))))),IF(OR(H19=\"SEN\",H19<1995),VLOOKUP(I19,Feuil1!$G$11:$L$25,6),IF(AND(H19>1994,H19<1998),VLOOKUP(I19,Feuil1!$G$11:$L$25,5),IF(AND(H19>1997,H19<2000),VLOOKUP(I19,Feuil1!$G$11:$L$25,4),IF(AND(H19>1999,H19<2002),VLOOKUP(I19,Feuil1!$G$11:$L$25,3),VLOOKUP(I19,Feuil1!$G$11:$L$25,2)))))))","v":"FS58"},157.06895679196941,null," ",{"$f":"T19-HLOOKUP(X19,Feuil1!$C$1:$BL$10,2,FALSE)","v":41},{"$f":"T19-HLOOKUP(X19,Feuil1!$C$1:$BL$10,3,FALSE)","v":31},{"$f":"T19-HLOOKUP(X19,Feuil1!$C$1:$BL$10,4,FALSE)","v":21},{"$f":"T19-HLOOKUP(X19,Feuil1!$C$1:$BL$10,5,FALSE)","v":11},{"$f":"T19-HLOOKUP(X19,Feuil1!$C$1:$BL$10,6,FALSE)","v":-4},{"$f":"T19-HLOOKUP(X19,Feuil1!$C$1:$BL$10,7,FALSE)","v":-19},{"$f":"T19-HLOOKUP(X19,Feuil1!$C$1:$BL$10,8,FALSE)","v":-39},{"$f":"T19-HLOOKUP(X19,Feuil1!$C$1:$BL$10,9,FALSE)","v":-59},{"$f":"T19-HLOOKUP(X19,Feuil1!$C$1:$BL$10,10,FALSE)","v":-79},null,null,null,null,null,null,"IRG +"]
["F","CO","BNO",7,355102,"ROUSSEAU","Aurore",1991,57.7,"Caen CHM","F",45,48,-50,48,56,60,-62,60,108,-7.4000000000000057,"IRG +",8,{"$f":"IF(I20=\"\",\"\",IF(A20=\"H\",IF(OR(H20=\"SEN\",H20<1995),VLOOKUP(I20,Feuil1!$A$11:$F$29,6),IF(AND(H20>1994,H20<1998),VLOOKUP(I20,Feuil1!$A$11:$F$29,5),IF(AND(H20>1997,H20<2000),VLOOKUP(I20,Feuil1!$A$11:$F$29,4),IF(AND(H20>1999,H20<2002),VLOOKUP(I20,Feuil1!$A$11:$F$29,3),VLOOKUP(I20,Feuil1!$A$11:$F$29,2))))),IF(OR(H20=\"SEN\",H20<1995),VLOOKUP(I20,Feuil1!$G$11:$L$25,6),IF(AND(H20>1994,H20<1998),VLOOKUP(I20,Feuil1!$G$11:$L$25,5),IF(AND(H20>1997,H20<2000),VLOOKUP(I20,Feuil1!$G$11:$L$25,4),IF(AND(H20>1999,H20<2002),VLOOKUP(I20,Feuil1!$G$11:$L$25,3),VLOOKUP(I20,Feuil1!$G$11:$L$25,2)))))))","v":"FS58"},152.62915300618656,null," ",{"$f":"T20-HLOOKUP(X20,Feuil1!$C$1:$BL$10,2,FALSE)","v":38},{"$f":"T20-HLOOKUP(X20,Feuil1!$C$1:$BL$10,3,FALSE)","v":28},{"$f":"T20-HLOOKUP(X20,Feuil1!$C$1:$BL$10,4,FALSE)","v":18},{"$f":"T20-HLOOKUP(X20,Feuil1!$C$1:$BL$10,5,FALSE)","v":8},{"$f":"T20-HLOOKUP(X20,Feuil1!$C$1:$BL$10,6,FALSE)","v":-7},{"$f":"T20-HLOOKUP(X20,Feuil1!$C$1:$BL$10,7,FALSE)","v":-22},{"$f":"T20-HLOOKUP(X20,Feuil1!$C$1:$BL$10,8,FALSE)","v":-42},{"$f":"T20-HLOOKUP(X20,Feuil1!$C$1:$BL$10,9,FALSE)","v":-62},{"$f":"T20-HLOOKUP(X20,Feuil1!$C$1:$BL$10,10,FALSE)","v":-82},null,null,null,null,null,null,"IRG +"]
["F","Nord","NPC",8,275254,"DEMARCQ","Julie",1992,57.16,"CHCD Comines","F",42,-45,45,45,-53,53,-55,53,98,-16.319999999999993,"REG +",8,{"$f":"IF(I21=\"\",\"\",IF(A21=\"H\",IF(OR(H21=\"SEN\",H21<1995),VLOOKUP(I21,Feuil1!$A$11:$F$29,6),IF(AND(H21>1994,H21<1998),VLOOKUP(I21,Feuil1!$A$11:$F$29,5),IF(AND(H21>1997,H21<2000),VLOOKUP(I21,Feuil1!$A$11:$F$29,4),IF(AND(H21>1999,H21<2002),VLOOKUP(I21,Feuil1!$A$11:$F$29,3),VLOOKUP(I21,Feuil1!$A$11:$F$29,2))))),IF(OR(H21=\"SEN\",H21<1995),VLOOKUP(I21,Feuil1!$G$11:$L$25,6),IF(AND(H21>1994,H21<1998),VLOOKUP(I21,Feuil1!$G$11:$L$25,5),IF(AND(H21>1997,H21<2000),VLOOKUP(I21,Feuil1!$G$11:$L$25,4),IF(AND(H21>1999,H21<2002),VLOOKUP(I21,Feuil1!$G$11:$L$25,3),VLOOKUP(I21,Feuil1!$G$11:$L$25,2)))))))","v":"FS58"},139.46112249459904,null," ",{"$f":"T21-HLOOKUP(X21,Feuil1!$C$1:$BL$10,2,FALSE)","v":28},{"$f":"T21-HLOOKUP(X21,Feuil1!$C$1:$BL$10,3,FALSE)","v":18},{"$f":"T21-HLOOKUP(X21,Feuil1!$C$1:$BL$10,4,FALSE)","v":8},{"$f":"T21-HLOOKUP(X21,Feuil1!$C$1:$BL$10,5,FALSE)","v":-2},{"$f":"T21-HLOOKUP(X21,Feuil1!$C$1:$BL$10,6,FALSE)","v":-17},{"$f":"T21-HLOOKUP(X21,Feuil1!$C$1:$BL$10,7,FALSE)","v":-32},{"$f":"T21-HLOOKUP(X21,Feuil1!$C$1:$BL$10,8,FALSE)","v":-52},{"$f":"T21-HLOOKUP(X21,Feuil1!$C$1:$BL$10,9,FALSE)","v":-72},{"$f":"T21-HLOOKUP(X21,Feuil1!$C$1:$BL$10,10,FALSE)","v":-92},null,null,null,null,null,null,"REG +"]
["F","NE","ALS",9,25608,"WITKOWSKI","Dagmar",1958,54.4,"ASPTT Strasbourg","F",42,44,-46,44,47,50,-52,50,94,-14.799999999999997,"REG +",4,{"$f":"IF(I22=\"\",\"\",IF(A22=\"H\",IF(OR(H22=\"SEN\",H22<1995),VLOOKUP(I22,Feuil1!$A$11:$F$29,6),IF(AND(H22>1994,H22<1998),VLOOKUP(I22,Feuil1!$A$11:$F$29,5),IF(AND(H22>1997,H22<2000),VLOOKUP(I22,Feuil1!$A$11:$F$29,4),IF(AND(H22>1999,H22<2002),VLOOKUP(I22,Feuil1!$A$11:$F$29,3),VLOOKUP(I22,Feuil1!$A$11:$F$29,2))))),IF(OR(H22=\"SEN\",H22<1995),VLOOKUP(I22,Feuil1!$G$11:$L$25,6),IF(AND(H22>1994,H22<1998),VLOOKUP(I22,Feuil1!$G$11:$L$25,5),IF(AND(H22>1997,H22<2000),VLOOKUP(I22,Feuil1!$G$11:$L$25,4),IF(AND(H22>1999,H22<2002),VLOOKUP(I22,Feuil1!$G$11:$L$25,3),VLOOKUP(I22,Feuil1!$G$11:$L$25,2)))))))","v":"FS58"},138.90197420011242,null," ",{"$f":"T22-HLOOKUP(X22,Feuil1!$C$1:$BL$10,2,FALSE)","v":24},{"$f":"T22-HLOOKUP(X22,Feuil1!$C$1:$BL$10,3,FALSE)","v":14},{"$f":"T22-HLOOKUP(X22,Feuil1!$C$1:$BL$10,4,FALSE)","v":4},{"$f":"T22-HLOOKUP(X22,Feuil1!$C$1:$BL$10,5,FALSE)","v":-6},{"$f":"T22-HLOOKUP(X22,Feuil1!$C$1:$BL$10,6,FALSE)","v":-21},{"$f":"T22-HLOOKUP(X22,Feuil1!$C$1:$BL$10,7,FALSE)","v":-36},{"$f":"T22-HLOOKUP(X22,Feuil1!$C$1:$BL$10,8,FALSE)","v":-56},{"$f":"T22-HLOOKUP(X22,Feuil1!$C$1:$BL$10,9,FALSE)","v":-76},{"$f":"T22-HLOOKUP(X22,Feuil1!$C$1:$BL$10,10,FALSE)","v":-96},null,null,null,null,null,null,"REG +"]
[]
["F","SO","AQU",1,381666,"GHEKAP WAFO","Myriam",1994,61.4,"St Médard","Cam",75,80,-82,{"$f":"IF(H24=\"\",\"\",IF(MAXA(L24:N24)<=0,0,MAXA(L24:N24)))","v":80},100,105,-107,{"$f":"IF(H24=\"\",\"\",IF(MAXA(P24:R24)<=0,0,MAXA(P24:R24)))","v":105},{"$f":"IF(H24=\"\",\"\",IF(OR(O24=0,S24=0),0,O24+S24))","v":185},{"$f":"T24-I24*2","v":62.2},{"$f":"IF(H24=\"\",\"\",AQ24)","v":"INTA +"},{"$f":"IF(AJ24>=0,AJ24,IF(AI24>=0,AI24,IF(AH24>=0,AH24,IF(AG24>=0,AG24,IF(AF24>=0,AF24,IF(AE24>=0,AE24,IF(AD24>=0,AD24,IF(AC24>=0,AC24,AB24))))))))","v":5},{"$f":"IF(I24=\"\",\"\",IF(A24=\"H\",IF(OR(H24=\"SEN\",H24<1995),VLOOKUP(I24,Feuil1!$A$11:$F$29,6),IF(AND(H24>1994,H24<1998),VLOOKUP(I24,Feuil1!$A$11:$F$29,5),IF(AND(H24>1997,H24<2000),VLOOKUP(I24,Feuil1!$A$11:$F$29,4),IF(AND(H24>1999,H24<2002),VLOOKUP(I24,Feuil1!$A$11:$F$29,3),VLOOKUP(I24,Feuil1!$A$11:$F$29,2))))),IF(OR(H24=\"SEN\",H24<1995),VLOOKUP(I24,Feuil1!$G$11:$L$25,6),IF(AND(H24>1994,H24<1998),VLOOKUP(I24,Feuil1!$G$11:$L$25,5),IF(AND(H24>1997,H24<2000),VLOOKUP(I24,Feuil1!$G$11:$L$25,4),IF(AND(H24>1999,H24<2002),VLOOKUP(I24,Feuil1!$G$11:$L$25,3),VLOOKUP(I24,Feuil1!$G$11:$L$25,2)))))))","v":"FS63"},{"$f":"IF(I24=\"\",\"\",IF(A24=\"H\",10^(0.794358141*LOG(I24/174.393)^2)*T24,IF(A24=\"F\",10^(0.89726074*LOG(I24/148.026)^2)*T24,\"\")))","v":250.1611788352738},null," ",{"$f":"T24-HLOOKUP(X24,Feuil1!$C$1:$BL$10,2,FALSE)","v":110},{"$f":"T24-HLOOKUP(X24,Feuil1!$C$1:$BL$10,3,FALSE)","v":100},{"$f":"T24-HLOOKUP(X24,Feuil1!$C$1:$BL$10,4,FALSE)","v":90},{"$f":"T24-HLOOKUP(X24,Feuil1!$C$1:$BL$10,5,FALSE)","v":75},{"$f":"T24-HLOOKUP(X24,Feuil1!$C$1:$BL$10,6,FALSE)","v":60},{"$f":"T24-HLOOKUP(X24,Feuil1!$C$1:$BL$10,7,FALSE)","v":45},{"$f":"T24-HLOOKUP(X24,Feuil1!$C$1:$BL$10,8,FALSE)","v":25},{"$f":"T24-HLOOKUP(X24,Feuil1!$C$1:$BL$10,9,FALSE)","v":5},{"$f":"T24-HLOOKUP(X24,Feuil1!$C$1:$BL$10,10,FALSE)","v":-15},null,null,null,null,null,null,{"$f":"IF(AJ24>=0,$AJ$4,IF(AI24>=0,$AI$4,IF(AH24>=0,$AH$4,IF(AG24>=0,$AG$4,IF(AF24>=0,$AF$4,IF(AE24>=0,$AE$4,IF(AD24>=0,$AD$4,IF(AC24>=0,$AC$4,$AB$4))))))))","v":"INTA +"}]
["F","CO","BNO",2,115950,"DUMARAIS","Mélissa",1992,61,"Caen CHM","F",65,69,-73,{"$f":"IF(H25=\"\",\"\",IF(MAXA(L25:N25)<=0,0,MAXA(L25:N25)))","v":69},82,85,-87,{"$f":"IF(H25=\"\",\"\",IF(MAXA(P25:R25)<=0,0,MAXA(P25:R25)))","v":85},{"$f":"IF(H25=\"\",\"\",IF(OR(O25=0,S25=0),0,O25+S25))","v":154},{"$f":"T25-I25*2","v":32},{"$f":"IF(H25=\"\",\"\",AQ25)","v":"NAT +"},{"$f":"IF(AJ25>=0,AJ25,IF(AI25>=0,AI25,IF(AH25>=0,AH25,IF(AG25>=0,AG25,IF(AF25>=0,AF25,IF(AE25>=0,AE25,IF(AD25>=0,AD25,IF(AC25>=0,AC25,AB25))))))))","v":14},{"$f":"IF(I25=\"\",\"\",IF(A25=\"H\",IF(OR(H25=\"SEN\",H25<1995),VLOOKUP(I25,Feuil1!$A$11:$F$29,6),IF(AND(H25>1994,H25<1998),VLOOKUP(I25,Feuil1!$A$11:$F$29,5),IF(AND(H25>1997,H25<2000),VLOOKUP(I25,Feuil1!$A$11:$F$29,4),IF(AND(H25>1999,H25<2002),VLOOKUP(I25,Feuil1!$A$11:$F$29,3),VLOOKUP(I25,Feuil1!$A$11:$F$29,2))))),IF(OR(H25=\"SEN\",H25<1995),VLOOKUP(I25,Feuil1!$G$11:$L$25,6),IF(AND(H25>1994,H25<1998),VLOOKUP(I25,Feuil1!$G$11:$L$25,5),IF(AND(H25>1997,H25<2000),VLOOKUP(I25,Feuil1!$G$11:$L$25,4),IF(AND(H25>1999,H25<2002),VLOOKUP(I25,Feuil1!$G$11:$L$25,3),VLOOKUP(I25,Feuil1!$G$11:$L$25,2)))))))","v":"FS63"},{"$f":"IF(I25=\"\",\"\",IF(A25=\"H\",10^(0.794358141*LOG(I25/174.393)^2)*T25,IF(A25=\"F\",10^(0.89726074*LOG(I25/148.026)^2)*T25,\"\")))","v":209.18129039226355},null," ",{"$f":"T25-HLOOKUP(X25,Feuil1!$C$1:$BL$10,2,FALSE)","v":79},{"$f":"T25-HLOOKUP(X25,Feuil1!$C$1:$BL$10,3,FALSE)","v":69},{"$f":"T25-HLOOKUP(X25,Feuil1!$C$1:$BL$10,4,FALSE)","v":59},{"$f":"T25-HLOOKUP(X25,Feuil1!$C$1:$BL$10,5,FALSE)","v":44},{"$f":"T25-HLOOKUP(X25,Feuil1!$C$1:$BL$10,6,FALSE)","v":29},{"$f":"T25-HLOOKUP(X25,Feuil1!$C$1:$BL$10,7,FALSE)","v":14},{"$f":"T25-HLOOKUP(X25,Feuil1!$C$1:$BL$10,8,FALSE)","v":-6},{"$f":"T25-HLOOKUP(X25,Feuil1!$C$1:$BL$10,9,FALSE)","v":-26},{"$f":"T25-HLOOKUP(X25,Feuil1!$C$1:$BL$10,10,FALSE)","v":-46},null,null,null,null,null,null,{"$f":"IF(AJ25>=0,$AJ$4,IF(AI25>=0,$AI$4,IF(AH25>=0,$AH$4,IF(AG25>=0,$AG$4,IF(AF25>=0,$AF$4,IF(AE25>=0,$AE$4,IF(AD25>=0,$AD$4,IF(AC25>=0,$AC$4,$AB$4))))))))","v":"NAT +"}]
["F","NE","ALS",3,324052,"PREDY","Anaïs",1992,62.3,"SHC Haguenau","F",54,57,-60,57,69,72,-75,72,129,4.4000000000000057,"FED +",4,{"$f":"IF(I26=\"\",\"\",IF(A26=\"H\",IF(OR(H26=\"SEN\",H26<1995),VLOOKUP(I26,Feuil1!$A$11:$F$29,6),IF(AND(H26>1994,H26<1998),VLOOKUP(I26,Feuil1!$A$11:$F$29,5),IF(AND(H26>1997,H26<2000),VLOOKUP(I26,Feuil1!$A$11:$F$29,4),IF(AND(H26>1999,H26<2002),VLOOKUP(I26,Feuil1!$A$11:$F$29,3),VLOOKUP(I26,Feuil1!$A$11:$F$29,2))))),IF(OR(H26=\"SEN\",H26<1995),VLOOKUP(I26,Feuil1!$G$11:$L$25,6),IF(AND(H26>1994,H26<1998),VLOOKUP(I26,Feuil1!$G$11:$L$25,5),IF(AND(H26>1997,H26<2000),VLOOKUP(I26,Feuil1!$G$11:$L$25,4),IF(AND(H26>1999,H26<2002),VLOOKUP(I26,Feuil1!$G$11:$L$25,3),VLOOKUP(I26,Feuil1!$G$11:$L$25,2)))))))","v":"FS63"},172.71880512040013,null," ",{"$f":"T26-HLOOKUP(X26,Feuil1!$C$1:$BL$10,2,FALSE)","v":54},{"$f":"T26-HLOOKUP(X26,Feuil1!$C$1:$BL$10,3,FALSE)","v":44},{"$f":"T26-HLOOKUP(X26,Feuil1!$C$1:$BL$10,4,FALSE)","v":34},{"$f":"T26-HLOOKUP(X26,Feuil1!$C$1:$BL$10,5,FALSE)","v":19},{"$f":"T26-HLOOKUP(X26,Feuil1!$C$1:$BL$10,6,FALSE)","v":4},{"$f":"T26-HLOOKUP(X26,Feuil1!$C$1:$BL$10,7,FALSE)","v":-11},{"$f":"T26-HLOOKUP(X26,Feuil1!$C$1:$BL$10,8,FALSE)","v":-31},{"$f":"T26-HLOOKUP(X26,Feuil1!$C$1:$BL$10,9,FALSE)","v":-51},{"$f":"T26-HLOOKUP(X26,Feuil1!$C$1:$BL$10,10,FALSE)","v":-71},null,null,null,null,null,null,"FED +"]
["F","SEST","PRO",4,112257,"CONDE ","Fabienne",1985,61.4,"ISTRES SPORTS","F",55,-60,-60,55,73,-77,-78,73,128,5.2000000000000028,"FED +",3,{"$f":"IF(I27=\"\",\"\",IF(A27=\"H\",IF(OR(H27=\"SEN\",H27<1995),VLOOKUP(I27,Feuil1!$A$11:$F$29,6),IF(AND(H27>1994,H27<1998),VLOOKUP(I27,Feuil1!$A$11:$F$29,5),IF(AND(H27>1997,H27<2000),VLOOKUP(I27,Feuil1!$A$11:$F$29,4),IF(AND(H27>1999,H27<2002),VLOOKUP(I27,Feuil1!$A$11:$F$29,3),VLOOKUP(I27,Feuil1!$A$11:$F$29,2))))),IF(OR(H27=\"SEN\",H27<1995),VLOOKUP(I27,Feuil1!$G$11:$L$25,6),IF(AND(H27>1994,H27<1998),VLOOKUP(I27,Feuil1!$G$11:$L$25,5),IF(AND(H27>1997,H27<2000),VLOOKUP(I27,Feuil1!$G$11:$L$25,4),IF(AND(H27>1999,H27<2002),VLOOKUP(I27,Feuil1!$G$11:$L$25,3),VLOOKUP(I27,Feuil1!$G$11:$L$25,2)))))))","v":"FS63"},173.08449130224349,null," ",{"$f":"T27-HLOOKUP(X27,Feuil1!$C$1:$BL$10,2,FALSE)","v":53},{"$f":"T27-HLOOKUP(X27,Feuil1!$C$1:$BL$10,3,FALSE)","v":43},{"$f":"T27-HLOOKUP(X27,Feuil1!$C$1:$BL$10,4,FALSE)","v":33},{"$f":"T27-HLOOKUP(X27,Feuil1!$C$1:$BL$10,5,FALSE)","v":18},{"$f":"T27-HLOOKUP(X27,Feuil1!$C$1:$BL$10,6,FALSE)","v":3},{"$f":"T27-HLOOKUP(X27,Feuil1!$C$1:$BL$10,7,FALSE)","v":-12},{"$f":"T27-HLOOKUP(X27,Feuil1!$C$1:$BL$10,8,FALSE)","v":-32},{"$f":"T27-HLOOKUP(X27,Feuil1!$C$1:$BL$10,9,FALSE)","v":-52},{"$f":"T27-HLOOKUP(X27,Feuil1!$C$1:$BL$10,10,FALSE)","v":-72},null,null,null,null,null,null,"FED +"]
["F","SEST","CAZ",5,332675,"RADEAU","Celine",1983,62.41,"A.S. MONACO","F",50,53,-54,53,70,72,74,74,127,2.1800000000000068,"FED +",2,{"$f":"IF(I28=\"\",\"\",IF(A28=\"H\",IF(OR(H28=\"SEN\",H28<1995),VLOOKUP(I28,Feuil1!$A$11:$F$29,6),IF(AND(H28>1994,H28<1998),VLOOKUP(I28,Feuil1!$A$11:$F$29,5),IF(AND(H28>1997,H28<2000),VLOOKUP(I28,Feuil1!$A$11:$F$29,4),IF(AND(H28>1999,H28<2002),VLOOKUP(I28,Feuil1!$A$11:$F$29,3),VLOOKUP(I28,Feuil1!$A$11:$F$29,2))))),IF(OR(H28=\"SEN\",H28<1995),VLOOKUP(I28,Feuil1!$G$11:$L$25,6),IF(AND(H28>1994,H28<1998),VLOOKUP(I28,Feuil1!$G$11:$L$25,5),IF(AND(H28>1997,H28<2000),VLOOKUP(I28,Feuil1!$G$11:$L$25,4),IF(AND(H28>1999,H28<2002),VLOOKUP(I28,Feuil1!$G$11:$L$25,3),VLOOKUP(I28,Feuil1!$G$11:$L$25,2)))))))","v":"FS63"},169.83900069691308,null," ",{"$f":"T28-HLOOKUP(X28,Feuil1!$C$1:$BL$10,2,FALSE)","v":52},{"$f":"T28-HLOOKUP(X28,Feuil1!$C$1:$BL$10,3,FALSE)","v":42},{"$f":"T28-HLOOKUP(X28,Feuil1!$C$1:$BL$10,4,FALSE)","v":32},{"$f":"T28-HLOOKUP(X28,Feuil1!$C$1:$BL$10,5,FALSE)","v":17},{"$f":"T28-HLOOKUP(X28,Feuil1!$C$1:$BL$10,6,FALSE)","v":2},{"$f":"T28-HLOOKUP(X28,Feuil1!$C$1:$BL$10,7,FALSE)","v":-13},{"$f":"T28-HLOOKUP(X28,Feuil1!$C$1:$BL$10,8,FALSE)","v":-33},{"$f":"T28-HLOOKUP(X28,Feuil1!$C$1:$BL$10,9,FALSE)","v":-53},{"$f":"T28-HLOOKUP(X28,Feuil1!$C$1:$BL$10,10,FALSE)","v":-73},null,null,null,null,null,null,"FED +"]
["F","Nord","IDF",6,388582,"SOREL","Virginie",1982,58.7,"SA Montmartroise","F",40,45,-51,45,60,65,-70,65,110,-7.4000000000000057,"IRG +",0,{"$f":"IF(I29=\"\",\"\",IF(A29=\"H\",IF(OR(H29=\"SEN\",H29<1995),VLOOKUP(I29,Feuil1!$A$11:$F$29,6),IF(AND(H29>1994,H29<1998),VLOOKUP(I29,Feuil1!$A$11:$F$29,5),IF(AND(H29>1997,H29<2000),VLOOKUP(I29,Feuil1!$A$11:$F$29,4),IF(AND(H29>1999,H29<2002),VLOOKUP(I29,Feuil1!$A$11:$F$29,3),VLOOKUP(I29,Feuil1!$A$11:$F$29,2))))),IF(OR(H29=\"SEN\",H29<1995),VLOOKUP(I29,Feuil1!$G$11:$L$25,6),IF(AND(H29>1994,H29<1998),VLOOKUP(I29,Feuil1!$G$11:$L$25,5),IF(AND(H29>1997,H29<2000),VLOOKUP(I29,Feuil1!$G$11:$L$25,4),IF(AND(H29>1999,H29<2002),VLOOKUP(I29,Feuil1!$G$11:$L$25,3),VLOOKUP(I29,Feuil1!$G$11:$L$25,2)))))))","v":"FS63"},153.52432652429269,null," ",{"$f":"T29-HLOOKUP(X29,Feuil1!$C$1:$BL$10,2,FALSE)","v":35},{"$f":"T29-HLOOKUP(X29,Feuil1!$C$1:$BL$10,3,FALSE)","v":25},{"$f":"T29-HLOOKUP(X29,Feuil1!$C$1:$BL$10,4,FALSE)","v":15},{"$f":"T29-HLOOKUP(X29,Feuil1!$C$1:$BL$10,5,FALSE)","v":0},{"$f":"T29-HLOOKUP(X29,Feuil1!$C$1:$BL$10,6,FALSE)","v":-15},{"$f":"T29-HLOOKUP(X29,Feuil1!$C$1:$BL$10,7,FALSE)","v":-30},{"$f":"T29-HLOOKUP(X29,Feuil1!$C$1:$BL$10,8,FALSE)","v":-50},{"$f":"T29-HLOOKUP(X29,Feuil1!$C$1:$BL$10,9,FALSE)","v":-70},{"$f":"T29-HLOOKUP(X29,Feuil1!$C$1:$BL$10,10,FALSE)","v":-90},null,null,null,null,null,null,"IRG +"]
["F","SEST","LAN",7,280279,"CAVIN","Marie Odile",1982,61.24,"H.C. GRAND COMBE","F",50,-53,-53,50,-60,-60,60,60,110,-12.480000000000004,"IRG +",0,{"$f":"IF(I30=\"\",\"\",IF(A30=\"H\",IF(OR(H30=\"SEN\",H30<1995),VLOOKUP(I30,Feuil1!$A$11:$F$29,6),IF(AND(H30>1994,H30<1998),VLOOKUP(I30,Feuil1!$A$11:$F$29,5),IF(AND(H30>1997,H30<2000),VLOOKUP(I30,Feuil1!$A$11:$F$29,4),IF(AND(H30>1999,H30<2002),VLOOKUP(I30,Feuil1!$A$11:$F$29,3),VLOOKUP(I30,Feuil1!$A$11:$F$29,2))))),IF(OR(H30=\"SEN\",H30<1995),VLOOKUP(I30,Feuil1!$G$11:$L$25,6),IF(AND(H30>1994,H30<1998),VLOOKUP(I30,Feuil1!$G$11:$L$25,5),IF(AND(H30>1997,H30<2000),VLOOKUP(I30,Feuil1!$G$11:$L$25,4),IF(AND(H30>1999,H30<2002),VLOOKUP(I30,Feuil1!$G$11:$L$25,3),VLOOKUP(I30,Feuil1!$G$11:$L$25,2)))))))","v":"FS63"},149.01129120824493,null," ",{"$f":"T30-HLOOKUP(X30,Feuil1!$C$1:$BL$10,2,FALSE)","v":35},{"$f":"T30-HLOOKUP(X30,Feuil1!$C$1:$BL$10,3,FALSE)","v":25},{"$f":"T30-HLOOKUP(X30,Feuil1!$C$1:$BL$10,4,FALSE)","v":15},{"$f":"T30-HLOOKUP(X30,Feuil1!$C$1:$BL$10,5,FALSE)","v":0},{"$f":"T30-HLOOKUP(X30,Feuil1!$C$1:$BL$10,6,FALSE)","v":-15},{"$f":"T30-HLOOKUP(X30,Feuil1!$C$1:$BL$10,7,FALSE)","v":-30},{"$f":"T30-HLOOKUP(X30,Feuil1!$C$1:$BL$10,8,FALSE)","v":-50},{"$f":"T30-HLOOKUP(X30,Feuil1!$C$1:$BL$10,9,FALSE)","v":-70},{"$f":"T30-HLOOKUP(X30,Feuil1!$C$1:$BL$10,10,FALSE)","v":-90},null,null,null,null,null,null,"IRG +"]
["F","SO","MPY","NC",326408,"GARGAGLI","Marine",1993,58.2,"TOULOUSE","F",-60,-60,-60,0,"-","-","-",0,0,-116.4,"DEB ",-75,{"$f":"IF(I31=\"\",\"\",IF(A31=\"H\",IF(OR(H31=\"SEN\",H31<1995),VLOOKUP(I31,Feuil1!$A$11:$F$29,6),IF(AND(H31>1994,H31<1998),VLOOKUP(I31,Feuil1!$A$11:$F$29,5),IF(AND(H31>1997,H31<2000),VLOOKUP(I31,Feuil1!$A$11:$F$29,4),IF(AND(H31>1999,H31<2002),VLOOKUP(I31,Feuil1!$A$11:$F$29,3),VLOOKUP(I31,Feuil1!$A$11:$F$29,2))))),IF(OR(H31=\"SEN\",H31<1995),VLOOKUP(I31,Feuil1!$G$11:$L$25,6),IF(AND(H31>1994,H31<1998),VLOOKUP(I31,Feuil1!$G$11:$L$25,5),IF(AND(H31>1997,H31<2000),VLOOKUP(I31,Feuil1!$G$11:$L$25,4),IF(AND(H31>1999,H31<2002),VLOOKUP(I31,Feuil1!$G$11:$L$25,3),VLOOKUP(I31,Feuil1!$G$11:$L$25,2)))))))","v":"FS63"},0,null," ",{"$f":"T31-HLOOKUP(X31,Feuil1!$C$1:$BL$10,2,FALSE)","v":-75},{"$f":"T31-HLOOKUP(X31,Feuil1!$C$1:$BL$10,3,FALSE)","v":-85},{"$f":"T31-HLOOKUP(X31,Feuil1!$C$1:$BL$10,4,FALSE)","v":-95},{"$f":"T31-HLOOKUP(X31,Feuil1!$C$1:$BL$10,5,FALSE)","v":-110},{"$f":"T31-HLOOKUP(X31,Feuil1!$C$1:$BL$10,6,FALSE)","v":-125},{"$f":"T31-HLOOKUP(X31,Feuil1!$C$1:$BL$10,7,FALSE)","v":-140},{"$f":"T31-HLOOKUP(X31,Feuil1!$C$1:$BL$10,8,FALSE)","v":-160},{"$f":"T31-HLOOKUP(X31,Feuil1!$C$1:$BL$10,9,FALSE)","v":-180},{"$f":"T31-HLOOKUP(X31,Feuil1!$C$1:$BL$10,10,FALSE)","v":-200},null,null,null,null,null,null,"DEB "]
[]
["F","SO","MPY",1,3505,"CRETON","Sandy",1976,63.1,"TOULOUSE","F",68,-72,-72,68,85,90,93,93,161,34.799999999999997,"NAT +",11,{"$f":"IF(I33=\"\",\"\",IF(A33=\"H\",IF(OR(H33=\"SEN\",H33<1995),VLOOKUP(I33,Feuil1!$A$11:$F$29,6),IF(AND(H33>1994,H33<1998),VLOOKUP(I33,Feuil1!$A$11:$F$29,5),IF(AND(H33>1997,H33<2000),VLOOKUP(I33,Feuil1!$A$11:$F$29,4),IF(AND(H33>1999,H33<2002),VLOOKUP(I33,Feuil1!$A$11:$F$29,3),VLOOKUP(I33,Feuil1!$A$11:$F$29,2))))),IF(OR(H33=\"SEN\",H33<1995),VLOOKUP(I33,Feuil1!$G$11:$L$25,6),IF(AND(H33>1994,H33<1998),VLOOKUP(I33,Feuil1!$G$11:$L$25,5),IF(AND(H33>1997,H33<2000),VLOOKUP(I33,Feuil1!$G$11:$L$25,4),IF(AND(H33>1999,H33<2002),VLOOKUP(I33,Feuil1!$G$11:$L$25,3),VLOOKUP(I33,Feuil1!$G$11:$L$25,2)))))))","v":"FS69"},213.73019813411457,null," ",{"$f":"T33-HLOOKUP(X33,Feuil1!$C$1:$BL$10,2,FALSE)","v":81},{"$f":"T33-HLOOKUP(X33,Feuil1!$C$1:$BL$10,3,FALSE)","v":71},{"$f":"T33-HLOOKUP(X33,Feuil1!$C$1:$BL$10,4,FALSE)","v":56},{"$f":"T33-HLOOKUP(X33,Feuil1!$C$1:$BL$10,5,FALSE)","v":41},{"$f":"T33-HLOOKUP(X33,Feuil1!$C$1:$BL$10,6,FALSE)","v":26},{"$f":"T33-HLOOKUP(X33,Feuil1!$C$1:$BL$10,7,FALSE)","v":11},{"$f":"T33-HLOOKUP(X33,Feuil1!$C$1:$BL$10,8,FALSE)","v":-9},{"$f":"T33-HLOOKUP(X33,Feuil1!$C$1:$BL$10,9,FALSE)","v":-29},{"$f":"T33-HLOOKUP(X33,Feuil1!$C$1:$BL$10,10,FALSE)","v":-44},null,null,null,null,null,null,"NAT +"]
["F","SO","MPY",2,250351,"BRIDIER","Stéphanie",1985,63.1,"TOULOUSE","F",67,70,-73,70,83,87,90,90,160,33.799999999999997,"NAT +",10,{"$f":"IF(I34=\"\",\"\",IF(A34=\"H\",IF(OR(H34=\"SEN\",H34<1995),VLOOKUP(I34,Feuil1!$A$11:$F$29,6),IF(AND(H34>1994,H34<1998),VLOOKUP(I34,Feuil1!$A$11:$F$29,5),IF(AND(H34>1997,H34<2000),VLOOKUP(I34,Feuil1!$A$11:$F$29,4),IF(AND(H34>1999,H34<2002),VLOOKUP(I34,Feuil1!$A$11:$F$29,3),VLOOKUP(I34,Feuil1!$A$11:$F$29,2))))),IF(OR(H34=\"SEN\",H34<1995),VLOOKUP(I34,Feuil1!$G$11:$L$25,6),IF(AND(H34>1994,H34<1998),VLOOKUP(I34,Feuil1!$G$11:$L$25,5),IF(AND(H34>1997,H34<2000),VLOOKUP(I34,Feuil1!$G$11:$L$25,4),IF(AND(H34>1999,H34<2002),VLOOKUP(I34,Feuil1!$G$11:$L$25,3),VLOOKUP(I34,Feuil1!$G$11:$L$25,2)))))))","v":"FS69"},212.4026813755176,null," ",{"$f":"T34-HLOOKUP(X34,Feuil1!$C$1:$BL$10,2,FALSE)","v":80},{"$f":"T34-HLOOKUP(X34,Feuil1!$C$1:$BL$10,3,FALSE)","v":70},{"$f":"T34-HLOOKUP(X34,Feuil1!$C$1:$BL$10,4,FALSE)","v":55},{"$f":"T34-HLOOKUP(X34,Feuil1!$C$1:$BL$10,5,FALSE)","v":40},{"$f":"T34-HLOOKUP(X34,Feuil1!$C$1:$BL$10,6,FALSE)","v":25},{"$f":"T34-HLOOKUP(X34,Feuil1!$C$1:$BL$10,7,FALSE)","v":10},{"$f":"T34-HLOOKUP(X34,Feuil1!$C$1:$BL$10,8,FALSE)","v":-10},{"$f":"T34-HLOOKUP(X34,Feuil1!$C$1:$BL$10,9,FALSE)","v":-30},{"$f":"T34-HLOOKUP(X34,Feuil1!$C$1:$BL$10,10,FALSE)","v":-45},null,null,null,null,null,null,"NAT +"]
["F","SEST","CAZ",3,230430,"ATTIA","Severine",1991,64.91,"ASLDD. TOULON","F",64,67,-70,67,75,78,-80,78,145,15.180000000000007,"FED +",10,{"$f":"IF(I35=\"\",\"\",IF(A35=\"H\",IF(OR(H35=\"SEN\",H35<1995),VLOOKUP(I35,Feuil1!$A$11:$F$29,6),IF(AND(H35>1994,H35<1998),VLOOKUP(I35,Feuil1!$A$11:$F$29,5),IF(AND(H35>1997,H35<2000),VLOOKUP(I35,Feuil1!$A$11:$F$29,4),IF(AND(H35>1999,H35<2002),VLOOKUP(I35,Feuil1!$A$11:$F$29,3),VLOOKUP(I35,Feuil1!$A$11:$F$29,2))))),IF(OR(H35=\"SEN\",H35<1995),VLOOKUP(I35,Feuil1!$G$11:$L$25,6),IF(AND(H35>1994,H35<1998),VLOOKUP(I35,Feuil1!$G$11:$L$25,5),IF(AND(H35>1997,H35<2000),VLOOKUP(I35,Feuil1!$G$11:$L$25,4),IF(AND(H35>1999,H35<2002),VLOOKUP(I35,Feuil1!$G$11:$L$25,3),VLOOKUP(I35,Feuil1!$G$11:$L$25,2)))))))","v":"FS69"},188.9650493383557,null," ",{"$f":"T35-HLOOKUP(X35,Feuil1!$C$1:$BL$10,2,FALSE)","v":65},{"$f":"T35-HLOOKUP(X35,Feuil1!$C$1:$BL$10,3,FALSE)","v":55},{"$f":"T35-HLOOKUP(X35,Feuil1!$C$1:$BL$10,4,FALSE)","v":40},{"$f":"T35-HLOOKUP(X35,Feuil1!$C$1:$BL$10,5,FALSE)","v":25},{"$f":"T35-HLOOKUP(X35,Feuil1!$C$1:$BL$10,6,FALSE)","v":10},{"$f":"T35-HLOOKUP(X35,Feuil1!$C$1:$BL$10,7,FALSE)","v":-5},{"$f":"T35-HLOOKUP(X35,Feuil1!$C$1:$BL$10,8,FALSE)","v":-25},{"$f":"T35-HLOOKUP(X35,Feuil1!$C$1:$BL$10,9,FALSE)","v":-45},{"$f":"T35-HLOOKUP(X35,Feuil1!$C$1:$BL$10,10,FALSE)","v":-60},null,null,null,null,null,null,"FED +"]
["F","SEST","AUV",4,370594,"BILLET","Lea",1992,68.489999999999995,"STADE CLERMONTOIS","F",50,-56,-56,50,70,75,-80,75,125,-11.97999999999999,"IRG +",5,{"$f":"IF(I36=\"\",\"\",IF(A36=\"H\",IF(OR(H36=\"SEN\",H36<1995),VLOOKUP(I36,Feuil1!$A$11:$F$29,6),IF(AND(H36>1994,H36<1998),VLOOKUP(I36,Feuil1!$A$11:$F$29,5),IF(AND(H36>1997,H36<2000),VLOOKUP(I36,Feuil1!$A$11:$F$29,4),IF(AND(H36>1999,H36<2002),VLOOKUP(I36,Feuil1!$A$11:$F$29,3),VLOOKUP(I36,Feuil1!$A$11:$F$29,2))))),IF(OR(H36=\"SEN\",H36<1995),VLOOKUP(I36,Feuil1!$G$11:$L$25,6),IF(AND(H36>1994,H36<1998),VLOOKUP(I36,Feuil1!$G$11:$L$25,5),IF(AND(H36>1997,H36<2000),VLOOKUP(I36,Feuil1!$G$11:$L$25,4),IF(AND(H36>1999,H36<2002),VLOOKUP(I36,Feuil1!$G$11:$L$25,3),VLOOKUP(I36,Feuil1!$G$11:$L$25,2)))))))","v":"FS69"},157.55469171636625,null," ",{"$f":"T36-HLOOKUP(X36,Feuil1!$C$1:$BL$10,2,FALSE)","v":45},{"$f":"T36-HLOOKUP(X36,Feuil1!$C$1:$BL$10,3,FALSE)","v":35},{"$f":"T36-HLOOKUP(X36,Feuil1!$C$1:$BL$10,4,FALSE)","v":20},{"$f":"T36-HLOOKUP(X36,Feuil1!$C$1:$BL$10,5,FALSE)","v":5},{"$f":"T36-HLOOKUP(X36,Feuil1!$C$1:$BL$10,6,FALSE)","v":-10},{"$f":"T36-HLOOKUP(X36,Feuil1!$C$1:$BL$10,7,FALSE)","v":-25},{"$f":"T36-HLOOKUP(X36,Feuil1!$C$1:$BL$10,8,FALSE)","v":-45},{"$f":"T36-HLOOKUP(X36,Feuil1!$C$1:$BL$10,9,FALSE)","v":-65},{"$f":"T36-HLOOKUP(X36,Feuil1!$C$1:$BL$10,10,FALSE)","v":-80},null,null,null,null,null,null,"IRG +"]
["F","SO","AQU",5,169798,"GIRAUD","Clarisse",1989,68.5,"ASOA  AQUITAINE","F",51,53,55,55,-68,-70,70,70,125,-12,"IRG +",5,{"$f":"IF(I37=\"\",\"\",IF(A37=\"H\",IF(OR(H37=\"SEN\",H37<1995),VLOOKUP(I37,Feuil1!$A$11:$F$29,6),IF(AND(H37>1994,H37<1998),VLOOKUP(I37,Feuil1!$A$11:$F$29,5),IF(AND(H37>1997,H37<2000),VLOOKUP(I37,Feuil1!$A$11:$F$29,4),IF(AND(H37>1999,H37<2002),VLOOKUP(I37,Feuil1!$A$11:$F$29,3),VLOOKUP(I37,Feuil1!$A$11:$F$29,2))))),IF(OR(H37=\"SEN\",H37<1995),VLOOKUP(I37,Feuil1!$G$11:$L$25,6),IF(AND(H37>1994,H37<1998),VLOOKUP(I37,Feuil1!$G$11:$L$25,5),IF(AND(H37>1997,H37<2000),VLOOKUP(I37,Feuil1!$G$11:$L$25,4),IF(AND(H37>1999,H37<2002),VLOOKUP(I37,Feuil1!$G$11:$L$25,3),VLOOKUP(I37,Feuil1!$G$11:$L$25,2)))))))","v":"FS69"},157.54087735763295,null," ",{"$f":"T37-HLOOKUP(X37,Feuil1!$C$1:$BL$10,2,FALSE)","v":45},{"$f":"T37-HLOOKUP(X37,Feuil1!$C$1:$BL$10,3,FALSE)","v":35},{"$f":"T37-HLOOKUP(X37,Feuil1!$C$1:$BL$10,4,FALSE)","v":20},{"$f":"T37-HLOOKUP(X37,Feuil1!$C$1:$BL$10,5,FALSE)","v":5},{"$f":"T37-HLOOKUP(X37,Feuil1!$C$1:$BL$10,6,FALSE)","v":-10},{"$f":"T37-HLOOKUP(X37,Feuil1!$C$1:$BL$10,7,FALSE)","v":-25},{"$f":"T37-HLOOKUP(X37,Feuil1!$C$1:$BL$10,8,FALSE)","v":-45},{"$f":"T37-HLOOKUP(X37,Feuil1!$C$1:$BL$10,9,FALSE)","v":-65},{"$f":"T37-HLOOKUP(X37,Feuil1!$C$1:$BL$10,10,FALSE)","v":-80},null,null,null,null,null,null,"IRG +"]
[]
["F","NE","CHA",1,"034517","CRISTOFOLI ","Adeline",1985,70.400000000000006,"Langres HM","F",67,70,-72,70,-83,83,-87,83,153,12.199999999999989,"FED +",8,{"$f":"IF(I39=\"\",\"\",IF(A39=\"H\",IF(OR(H39=\"SEN\",H39<1995),VLOOKUP(I39,Feuil1!$A$11:$F$29,6),IF(AND(H39>1994,H39<1998),VLOOKUP(I39,Feuil1!$A$11:$F$29,5),IF(AND(H39>1997,H39<2000),VLOOKUP(I39,Feuil1!$A$11:$F$29,4),IF(AND(H39>1999,H39<2002),VLOOKUP(I39,Feuil1!$A$11:$F$29,3),VLOOKUP(I39,Feuil1!$A$11:$F$29,2))))),IF(OR(H39=\"SEN\",H39<1995),VLOOKUP(I39,Feuil1!$G$11:$L$25,6),IF(AND(H39>1994,H39<1998),VLOOKUP(I39,Feuil1!$G$11:$L$25,5),IF(AND(H39>1997,H39<2000),VLOOKUP(I39,Feuil1!$G$11:$L$25,4),IF(AND(H39>1999,H39<2002),VLOOKUP(I39,Feuil1!$G$11:$L$25,3),VLOOKUP(I39,Feuil1!$G$11:$L$25,2)))))))","v":"FS75"},189.74300858299375,null," ",{"$f":"T39-HLOOKUP(X39,Feuil1!$C$1:$BL$10,2,FALSE)","v":58},{"$f":"T39-HLOOKUP(X39,Feuil1!$C$1:$BL$10,3,FALSE)","v":48},{"$f":"T39-HLOOKUP(X39,Feuil1!$C$1:$BL$10,4,FALSE)","v":38},{"$f":"T39-HLOOKUP(X39,Feuil1!$C$1:$BL$10,5,FALSE)","v":23},{"$f":"T39-HLOOKUP(X39,Feuil1!$C$1:$BL$10,6,FALSE)","v":8},{"$f":"T39-HLOOKUP(X39,Feuil1!$C$1:$BL$10,7,FALSE)","v":-7},{"$f":"T39-HLOOKUP(X39,Feuil1!$C$1:$BL$10,8,FALSE)","v":-27},{"$f":"T39-HLOOKUP(X39,Feuil1!$C$1:$BL$10,9,FALSE)","v":-42},{"$f":"T39-HLOOKUP(X39,Feuil1!$C$1:$BL$10,10,FALSE)","v":-57},null,null,null,null,null,null,"FED +"]
["F","NE","BOU",2,357580,"ELUARD","Judith",1983,75,"HMDB21","F",63,-67,-67,63,90,-97,-97,90,153,3,"FED +",8,{"$f":"IF(I40=\"\",\"\",IF(A40=\"H\",IF(OR(H40=\"SEN\",H40<1995),VLOOKUP(I40,Feuil1!$A$11:$F$29,6),IF(AND(H40>1994,H40<1998),VLOOKUP(I40,Feuil1!$A$11:$F$29,5),IF(AND(H40>1997,H40<2000),VLOOKUP(I40,Feuil1!$A$11:$F$29,4),IF(AND(H40>1999,H40<2002),VLOOKUP(I40,Feuil1!$A$11:$F$29,3),VLOOKUP(I40,Feuil1!$A$11:$F$29,2))))),IF(OR(H40=\"SEN\",H40<1995),VLOOKUP(I40,Feuil1!$G$11:$L$25,6),IF(AND(H40>1994,H40<1998),VLOOKUP(I40,Feuil1!$G$11:$L$25,5),IF(AND(H40>1997,H40<2000),VLOOKUP(I40,Feuil1!$G$11:$L$25,4),IF(AND(H40>1999,H40<2002),VLOOKUP(I40,Feuil1!$G$11:$L$25,3),VLOOKUP(I40,Feuil1!$G$11:$L$25,2)))))))","v":"FS75"},183.19858599049189,null," ",{"$f":"T40-HLOOKUP(X40,Feuil1!$C$1:$BL$10,2,FALSE)","v":58},{"$f":"T40-HLOOKUP(X40,Feuil1!$C$1:$BL$10,3,FALSE)","v":48},{"$f":"T40-HLOOKUP(X40,Feuil1!$C$1:$BL$10,4,FALSE)","v":38},{"$f":"T40-HLOOKUP(X40,Feuil1!$C$1:$BL$10,5,FALSE)","v":23},{"$f":"T40-HLOOKUP(X40,Feuil1!$C$1:$BL$10,6,FALSE)","v":8},{"$f":"T40-HLOOKUP(X40,Feuil1!$C$1:$BL$10,7,FALSE)","v":-7},{"$f":"T40-HLOOKUP(X40,Feuil1!$C$1:$BL$10,8,FALSE)","v":-27},{"$f":"T40-HLOOKUP(X40,Feuil1!$C$1:$BL$10,9,FALSE)","v":-42},{"$f":"T40-HLOOKUP(X40,Feuil1!$C$1:$BL$10,10,FALSE)","v":-57},null,null,null,null,null,null,"FED +"]
["F","NE","ALS",3,20829,"THOMAS","Evelyne",1979,69.3,"ASPTT Strasbourg","F",58,60,62,{"$f":"IF(H41=\"\",\"\",IF(MAXA(L41:N41)<=0,0,MAXA(L41:N41)))","v":62},70,74,76,{"$f":"IF(H41=\"\",\"\",IF(MAXA(P41:R41)<=0,0,MAXA(P41:R41)))","v":76},{"$f":"IF(H41=\"\",\"\",IF(OR(O41=0,S41=0),0,O41+S41))","v":138},{"$f":"T41-I41*2","v":-0.59999999999999432},{"$f":"IF(H41=\"\",\"\",AQ41)","v":"IRG +"},{"$f":"IF(AJ41>=0,AJ41,IF(AI41>=0,AI41,IF(AH41>=0,AH41,IF(AG41>=0,AG41,IF(AF41>=0,AF41,IF(AE41>=0,AE41,IF(AD41>=0,AD41,IF(AC41>=0,AC41,AB41))))))))","v":8},{"$f":"IF(I41=\"\",\"\",IF(A41=\"H\",IF(OR(H41=\"SEN\",H41<1995),VLOOKUP(I41,Feuil1!$A$11:$F$29,6),IF(AND(H41>1994,H41<1998),VLOOKUP(I41,Feuil1!$A$11:$F$29,5),IF(AND(H41>1997,H41<2000),VLOOKUP(I41,Feuil1!$A$11:$F$29,4),IF(AND(H41>1999,H41<2002),VLOOKUP(I41,Feuil1!$A$11:$F$29,3),VLOOKUP(I41,Feuil1!$A$11:$F$29,2))))),IF(OR(H41=\"SEN\",H41<1995),VLOOKUP(I41,Feuil1!$G$11:$L$25,6),IF(AND(H41>1994,H41<1998),VLOOKUP(I41,Feuil1!$G$11:$L$25,5),IF(AND(H41>1997,H41<2000),VLOOKUP(I41,Feuil1!$G$11:$L$25,4),IF(AND(H41>1999,H41<2002),VLOOKUP(I41,Feuil1!$G$11:$L$25,3),VLOOKUP(I41,Feuil1!$G$11:$L$25,2)))))))","v":"FS75"},{"$f":"IF(I41=\"\",\"\",IF(A41=\"H\",10^(0.794358141*LOG(I41/174.393)^2)*T41,IF(A41=\"F\",10^(0.89726074*LOG(I41/148.026)^2)*T41,\"\")))","v":172.72566305167592},null," ",{"$f":"T41-HLOOKUP(X41,Feuil1!$C$1:$BL$10,2,FALSE)","v":43},{"$f":"T41-HLOOKUP(X41,Feuil1!$C$1:$BL$10,3,FALSE)","v":33},{"$f":"T41-HLOOKUP(X41,Feuil1!$C$1:$BL$10,4,FALSE)","v":23},{"$f":"T41-HLOOKUP(X41,Feuil1!$C$1:$BL$10,5,FALSE)","v":8},{"$f":"T41-HLOOKUP(X41,Feuil1!$C$1:$BL$10,6,FALSE)","v":-7},{"$f":"T41-HLOOKUP(X41,Feuil1!$C$1:$BL$10,7,FALSE)","v":-22},{"$f":"T41-HLOOKUP(X41,Feuil1!$C$1:$BL$10,8,FALSE)","v":-42},{"$f":"T41-HLOOKUP(X41,Feuil1!$C$1:$BL$10,9,FALSE)","v":-57},{"$f":"T41-HLOOKUP(X41,Feuil1!$C$1:$BL$10,10,FALSE)","v":-72},null,null,null,null,null,null,{"$f":"IF(AJ41>=0,$AJ$4,IF(AI41>=0,$AI$4,IF(AH41>=0,$AH$4,IF(AG41>=0,$AG$4,IF(AF41>=0,$AF$4,IF(AE41>=0,$AE$4,IF(AD41>=0,$AD$4,IF(AC41>=0,$AC$4,$AB$4))))))))","v":"IRG +"}]
[]
["F","Nord","PIC",1,374914,"VAN BELLINGHEN","Anna",1994,85.5,"La Vaillante St Quentin","Belge",90,95,-100,95,115,121,"-",121,216,45,"INTA +",6,{"$f":"IF(I43=\"\",\"\",IF(A43=\"H\",IF(OR(H43=\"SEN\",H43<1995),VLOOKUP(I43,Feuil1!$A$11:$F$29,6),IF(AND(H43>1994,H43<1998),VLOOKUP(I43,Feuil1!$A$11:$F$29,5),IF(AND(H43>1997,H43<2000),VLOOKUP(I43,Feuil1!$A$11:$F$29,4),IF(AND(H43>1999,H43<2002),VLOOKUP(I43,Feuil1!$A$11:$F$29,3),VLOOKUP(I43,Feuil1!$A$11:$F$29,2))))),IF(OR(H43=\"SEN\",H43<1995),VLOOKUP(I43,Feuil1!$G$11:$L$25,6),IF(AND(H43>1994,H43<1998),VLOOKUP(I43,Feuil1!$G$11:$L$25,5),IF(AND(H43>1997,H43<2000),VLOOKUP(I43,Feuil1!$G$11:$L$25,4),IF(AND(H43>1999,H43<2002),VLOOKUP(I43,Feuil1!$G$11:$L$25,3),VLOOKUP(I43,Feuil1!$G$11:$L$25,2)))))))","v":"FS+75"},242.90538616372677,null," ",{"$f":"T43-HLOOKUP(X43,Feuil1!$C$1:$BL$10,2,FALSE)","v":116},{"$f":"T43-HLOOKUP(X43,Feuil1!$C$1:$BL$10,3,FALSE)","v":106},{"$f":"T43-HLOOKUP(X43,Feuil1!$C$1:$BL$10,4,FALSE)","v":91},{"$f":"T43-HLOOKUP(X43,Feuil1!$C$1:$BL$10,5,FALSE)","v":76},{"$f":"T43-HLOOKUP(X43,Feuil1!$C$1:$BL$10,6,FALSE)","v":66},{"$f":"T43-HLOOKUP(X43,Feuil1!$C$1:$BL$10,7,FALSE)","v":46},{"$f":"T43-HLOOKUP(X43,Feuil1!$C$1:$BL$10,8,FALSE)","v":26},{"$f":"T43-HLOOKUP(X43,Feuil1!$C$1:$BL$10,9,FALSE)","v":6},{"$f":"T43-HLOOKUP(X43,Feuil1!$C$1:$BL$10,10,FALSE)","v":-9},null,null,null,null,null,null,"INTA +"]
[]
[]
["H","DOM","REU",1,118312,"RICHARD","OLIVIER",1980,55.8,"SCHM St Paul","F",70,75,-80,{"$f":"IF(H46=\"\",\"\",IF(MAXA(L46:N46)<=0,0,MAXA(L46:N46)))","v":75},95,-100,100,{"$f":"IF(H46=\"\",\"\",IF(MAXA(P46:R46)<=0,0,MAXA(P46:R46)))","v":100},{"$f":"IF(H46=\"\",\"\",IF(OR(O46=0,S46=0),0,O46+S46))","v":175},{"$f":"T46-I46*2","v":63.400000000000006},{"$f":"IF(H46=\"\",\"\",AQ46)","v":"FED +"},{"$f":"IF(AJ46>=0,AJ46,IF(AI46>=0,AI46,IF(AH46>=0,AH46,IF(AG46>=0,AG46,IF(AF46>=0,AF46,IF(AE46>=0,AE46,IF(AD46>=0,AD46,IF(AC46>=0,AC46,AB46))))))))","v":5},{"$f":"IF(I46=\"\",\"\",IF(A46=\"H\",IF(OR(H46=\"SEN\",H46<1995),VLOOKUP(I46,Feuil1!$A$11:$F$29,6),IF(AND(H46>1994,H46<1998),VLOOKUP(I46,Feuil1!$A$11:$F$29,5),IF(AND(H46>1997,H46<2000),VLOOKUP(I46,Feuil1!$A$11:$F$29,4),IF(AND(H46>1999,H46<2002),VLOOKUP(I46,Feuil1!$A$11:$F$29,3),VLOOKUP(I46,Feuil1!$A$11:$F$29,2))))),IF(OR(H46=\"SEN\",H46<1995),VLOOKUP(I46,Feuil1!$G$11:$L$25,6),IF(AND(H46>1994,H46<1998),VLOOKUP(I46,Feuil1!$G$11:$L$25,5),IF(AND(H46>1997,H46<2000),VLOOKUP(I46,Feuil1!$G$11:$L$25,4),IF(AND(H46>1999,H46<2002),VLOOKUP(I46,Feuil1!$G$11:$L$25,3),VLOOKUP(I46,Feuil1!$G$11:$L$25,2)))))))","v":"S56"},{"$f":"IF(I46=\"\",\"\",IF(A46=\"H\",10^(0.794358141*LOG(I46/174.393)^2)*T46,IF(A46=\"F\",10^(0.89726074*LOG(I46/148.026)^2)*T46,\"\")))","v":273.90059096971584},null," ",{"$f":"T46-HLOOKUP(X46,Feuil1!$C$1:$BL$10,2,FALSE)","v":80},{"$f":"T46-HLOOKUP(X46,Feuil1!$C$1:$BL$10,3,FALSE)","v":60},{"$f":"T46-HLOOKUP(X46,Feuil1!$C$1:$BL$10,4,FALSE)","v":45},{"$f":"T46-HLOOKUP(X46,Feuil1!$C$1:$BL$10,5,FALSE)","v":30},{"$f":"T46-HLOOKUP(X46,Feuil1!$C$1:$BL$10,6,FALSE)","v":5},{"$f":"T46-HLOOKUP(X46,Feuil1!$C$1:$BL$10,7,FALSE)","v":-15},{"$f":"T46-HLOOKUP(X46,Feuil1!$C$1:$BL$10,8,FALSE)","v":-35},{"$f":"T46-HLOOKUP(X46,Feuil1!$C$1:$BL$10,9,FALSE)","v":-50},{"$f":"T46-HLOOKUP(X46,Feuil1!$C$1:$BL$10,10,FALSE)","v":-65},null,null,null,null,null,null,{"$f":"IF(AJ46>=0,$AJ$4,IF(AI46>=0,$AI$4,IF(AH46>=0,$AH$4,IF(AG46>=0,$AG$4,IF(AF46>=0,$AF$4,IF(AE46>=0,$AE$4,IF(AD46>=0,$AD$4,IF(AC46>=0,$AC$4,$AB$4))))))))","v":"FED +"}]
["H","SEST","CAZ",2,326485,"DELAYEN","Antoine",1992,54.2,"E.S. VILLENEUVE LOUBET","F",73,-77,77,{"$f":"IF(H47=\"\",\"\",IF(MAXA(L47:N47)<=0,0,MAXA(L47:N47)))","v":77},85,90,-95,{"$f":"IF(H47=\"\",\"\",IF(MAXA(P47:R47)<=0,0,MAXA(P47:R47)))","v":90},{"$f":"IF(H47=\"\",\"\",IF(OR(O47=0,S47=0),0,O47+S47))","v":167},{"$f":"T47-I47*2","v":58.599999999999994},{"$f":"IF(H47=\"\",\"\",AQ47)","v":"IRG +"},{"$f":"IF(AJ47>=0,AJ47,IF(AI47>=0,AI47,IF(AH47>=0,AH47,IF(AG47>=0,AG47,IF(AF47>=0,AF47,IF(AE47>=0,AE47,IF(AD47>=0,AD47,IF(AC47>=0,AC47,AB47))))))))","v":22},{"$f":"IF(I47=\"\",\"\",IF(A47=\"H\",IF(OR(H47=\"SEN\",H47<1995),VLOOKUP(I47,Feuil1!$A$11:$F$29,6),IF(AND(H47>1994,H47<1998),VLOOKUP(I47,Feuil1!$A$11:$F$29,5),IF(AND(H47>1997,H47<2000),VLOOKUP(I47,Feuil1!$A$11:$F$29,4),IF(AND(H47>1999,H47<2002),VLOOKUP(I47,Feuil1!$A$11:$F$29,3),VLOOKUP(I47,Feuil1!$A$11:$F$29,2))))),IF(OR(H47=\"SEN\",H47<1995),VLOOKUP(I47,Feuil1!$G$11:$L$25,6),IF(AND(H47>1994,H47<1998),VLOOKUP(I47,Feuil1!$G$11:$L$25,5),IF(AND(H47>1997,H47<2000),VLOOKUP(I47,Feuil1!$G$11:$L$25,4),IF(AND(H47>1999,H47<2002),VLOOKUP(I47,Feuil1!$G$11:$L$25,3),VLOOKUP(I47,Feuil1!$G$11:$L$25,2)))))))","v":"S56"},{"$f":"IF(I47=\"\",\"\",IF(A47=\"H\",10^(0.794358141*LOG(I47/174.393)^2)*T47,IF(A47=\"F\",10^(0.89726074*LOG(I47/148.026)^2)*T47,\"\")))","v":267.50528845910088},null," ",{"$f":"T47-HLOOKUP(X47,Feuil1!$C$1:$BL$10,2,FALSE)","v":72},{"$f":"T47-HLOOKUP(X47,Feuil1!$C$1:$BL$10,3,FALSE)","v":52},{"$f":"T47-HLOOKUP(X47,Feuil1!$C$1:$BL$10,4,FALSE)","v":37},{"$f":"T47-HLOOKUP(X47,Feuil1!$C$1:$BL$10,5,FALSE)","v":22},{"$f":"T47-HLOOKUP(X47,Feuil1!$C$1:$BL$10,6,FALSE)","v":-3},{"$f":"T47-HLOOKUP(X47,Feuil1!$C$1:$BL$10,7,FALSE)","v":-23},{"$f":"T47-HLOOKUP(X47,Feuil1!$C$1:$BL$10,8,FALSE)","v":-43},{"$f":"T47-HLOOKUP(X47,Feuil1!$C$1:$BL$10,9,FALSE)","v":-58},{"$f":"T47-HLOOKUP(X47,Feuil1!$C$1:$BL$10,10,FALSE)","v":-73},null,null,null,null,null,null,{"$f":"IF(AJ47>=0,$AJ$4,IF(AI47>=0,$AI$4,IF(AH47>=0,$AH$4,IF(AG47>=0,$AG$4,IF(AF47>=0,$AF$4,IF(AE47>=0,$AE$4,IF(AD47>=0,$AD$4,IF(AC47>=0,$AC$4,$AB$4))))))))","v":"IRG +"}]
["H","DOM","REU",3,182130,"PALMA","EMMANUEL",1993,55.8,"CH TAMPON","F",65,70,-72,{"$f":"IF(H48=\"\",\"\",IF(MAXA(L48:N48)<=0,0,MAXA(L48:N48)))","v":70},80,85,-90,{"$f":"IF(H48=\"\",\"\",IF(MAXA(P48:R48)<=0,0,MAXA(P48:R48)))","v":85},{"$f":"IF(H48=\"\",\"\",IF(OR(O48=0,S48=0),0,O48+S48))","v":155},{"$f":"T48-I48*2","v":43.400000000000006},{"$f":"IF(H48=\"\",\"\",AQ48)","v":"IRG +"},{"$f":"IF(AJ48>=0,AJ48,IF(AI48>=0,AI48,IF(AH48>=0,AH48,IF(AG48>=0,AG48,IF(AF48>=0,AF48,IF(AE48>=0,AE48,IF(AD48>=0,AD48,IF(AC48>=0,AC48,AB48))))))))","v":10},{"$f":"IF(I48=\"\",\"\",IF(A48=\"H\",IF(OR(H48=\"SEN\",H48<1995),VLOOKUP(I48,Feuil1!$A$11:$F$29,6),IF(AND(H48>1994,H48<1998),VLOOKUP(I48,Feuil1!$A$11:$F$29,5),IF(AND(H48>1997,H48<2000),VLOOKUP(I48,Feuil1!$A$11:$F$29,4),IF(AND(H48>1999,H48<2002),VLOOKUP(I48,Feuil1!$A$11:$F$29,3),VLOOKUP(I48,Feuil1!$A$11:$F$29,2))))),IF(OR(H48=\"SEN\",H48<1995),VLOOKUP(I48,Feuil1!$G$11:$L$25,6),IF(AND(H48>1994,H48<1998),VLOOKUP(I48,Feuil1!$G$11:$L$25,5),IF(AND(H48>1997,H48<2000),VLOOKUP(I48,Feuil1!$G$11:$L$25,4),IF(AND(H48>1999,H48<2002),VLOOKUP(I48,Feuil1!$G$11:$L$25,3),VLOOKUP(I48,Feuil1!$G$11:$L$25,2)))))))","v":"S56"},{"$f":"IF(I48=\"\",\"\",IF(A48=\"H\",10^(0.794358141*LOG(I48/174.393)^2)*T48,IF(A48=\"F\",10^(0.89726074*LOG(I48/148.026)^2)*T48,\"\")))","v":242.59766628746257},null," ",{"$f":"T48-HLOOKUP(X48,Feuil1!$C$1:$BL$10,2,FALSE)","v":60},{"$f":"T48-HLOOKUP(X48,Feuil1!$C$1:$BL$10,3,FALSE)","v":40},{"$f":"T48-HLOOKUP(X48,Feuil1!$C$1:$BL$10,4,FALSE)","v":25},{"$f":"T48-HLOOKUP(X48,Feuil1!$C$1:$BL$10,5,FALSE)","v":10},{"$f":"T48-HLOOKUP(X48,Feuil1!$C$1:$BL$10,6,FALSE)","v":-15},{"$f":"T48-HLOOKUP(X48,Feuil1!$C$1:$BL$10,7,FALSE)","v":-35},{"$f":"T48-HLOOKUP(X48,Feuil1!$C$1:$BL$10,8,FALSE)","v":-55},{"$f":"T48-HLOOKUP(X48,Feuil1!$C$1:$BL$10,9,FALSE)","v":-70},{"$f":"T48-HLOOKUP(X48,Feuil1!$C$1:$BL$10,10,FALSE)","v":-85},null,null,null,null,null,null,{"$f":"IF(AJ48>=0,$AJ$4,IF(AI48>=0,$AI$4,IF(AH48>=0,$AH$4,IF(AG48>=0,$AG$4,IF(AF48>=0,$AF$4,IF(AE48>=0,$AE$4,IF(AD48>=0,$AD$4,IF(AC48>=0,$AC$4,$AB$4))))))))","v":"IRG +"}]
["H","Nord","IDF","NC",304880,"RASCLE","David",1979,56,"VGA St Maur","F",-80,-80,-80,{"$f":"IF(H49=\"\",\"\",IF(MAXA(L49:N49)<=0,0,MAXA(L49:N49)))","v":0},"-","-","-",{"$f":"IF(H49=\"\",\"\",IF(MAXA(P49:R49)<=0,0,MAXA(P49:R49)))","v":0},{"$f":"IF(H49=\"\",\"\",IF(OR(O49=0,S49=0),0,O49+S49))","v":0},{"$f":"T49-I49*2","v":-112},{"$f":"IF(H49=\"\",\"\",AQ49)","v":"DEB "},{"$f":"IF(AJ49>=0,AJ49,IF(AI49>=0,AI49,IF(AH49>=0,AH49,IF(AG49>=0,AG49,IF(AF49>=0,AF49,IF(AE49>=0,AE49,IF(AD49>=0,AD49,IF(AC49>=0,AC49,AB49))))))))","v":-95},{"$f":"IF(I49=\"\",\"\",IF(A49=\"H\",IF(OR(H49=\"SEN\",H49<1995),VLOOKUP(I49,Feuil1!$A$11:$F$29,6),IF(AND(H49>1994,H49<1998),VLOOKUP(I49,Feuil1!$A$11:$F$29,5),IF(AND(H49>1997,H49<2000),VLOOKUP(I49,Feuil1!$A$11:$F$29,4),IF(AND(H49>1999,H49<2002),VLOOKUP(I49,Feuil1!$A$11:$F$29,3),VLOOKUP(I49,Feuil1!$A$11:$F$29,2))))),IF(OR(H49=\"SEN\",H49<1995),VLOOKUP(I49,Feuil1!$G$11:$L$25,6),IF(AND(H49>1994,H49<1998),VLOOKUP(I49,Feuil1!$G$11:$L$25,5),IF(AND(H49>1997,H49<2000),VLOOKUP(I49,Feuil1!$G$11:$L$25,4),IF(AND(H49>1999,H49<2002),VLOOKUP(I49,Feuil1!$G$11:$L$25,3),VLOOKUP(I49,Feuil1!$G$11:$L$25,2)))))))","v":"S56"},{"$f":"IF(I49=\"\",\"\",IF(A49=\"H\",10^(0.794358141*LOG(I49/174.393)^2)*T49,IF(A49=\"F\",10^(0.89726074*LOG(I49/148.026)^2)*T49,\"\")))","v":0},null," ",{"$f":"T49-HLOOKUP(X49,Feuil1!$C$1:$BL$10,2,FALSE)","v":-95},{"$f":"T49-HLOOKUP(X49,Feuil1!$C$1:$BL$10,3,FALSE)","v":-115},{"$f":"T49-HLOOKUP(X49,Feuil1!$C$1:$BL$10,4,FALSE)","v":-130},{"$f":"T49-HLOOKUP(X49,Feuil1!$C$1:$BL$10,5,FALSE)","v":-145},{"$f":"T49-HLOOKUP(X49,Feuil1!$C$1:$BL$10,6,FALSE)","v":-170},{"$f":"T49-HLOOKUP(X49,Feuil1!$C$1:$BL$10,7,FALSE)","v":-190},{"$f":"T49-HLOOKUP(X49,Feuil1!$C$1:$BL$10,8,FALSE)","v":-210},{"$f":"T49-HLOOKUP(X49,Feuil1!$C$1:$BL$10,9,FALSE)","v":-225},{"$f":"T49-HLOOKUP(X49,Feuil1!$C$1:$BL$10,10,FALSE)","v":-240},null,null,null,null,null,null,{"$f":"IF(AJ49>=0,$AJ$4,IF(AI49>=0,$AI$4,IF(AH49>=0,$AH$4,IF(AG49>=0,$AG$4,IF(AF49>=0,$AF$4,IF(AE49>=0,$AE$4,IF(AD49>=0,$AD$4,IF(AC49>=0,$AC$4,$AB$4))))))))","v":"DEB "}]
[]
["H","Nord","IDF",1,32445,"CAESEMAEKER","Kévin",1986,61.02,"Rueil AC","F",95,102,107,{"$f":"IF(H51=\"\",\"\",IF(MAXA(L51:N51)<=0,0,MAXA(L51:N51)))","v":107},115,125,132,{"$f":"IF(H51=\"\",\"\",IF(MAXA(P51:R51)<=0,0,MAXA(P51:R51)))","v":132},{"$f":"IF(H51=\"\",\"\",IF(OR(O51=0,S51=0),0,O51+S51))","v":239},{"$f":"T51-I51*2","v":116.96},{"$f":"IF(H51=\"\",\"\",AQ51)","v":"INTB +"},{"$f":"IF(AJ51>=0,AJ51,IF(AI51>=0,AI51,IF(AH51>=0,AH51,IF(AG51>=0,AG51,IF(AF51>=0,AF51,IF(AE51>=0,AE51,IF(AD51>=0,AD51,IF(AC51>=0,AC51,AB51))))))))","v":9},{"$f":"IF(I51=\"\",\"\",IF(A51=\"H\",IF(OR(H51=\"SEN\",H51<1995),VLOOKUP(I51,Feuil1!$A$11:$F$29,6),IF(AND(H51>1994,H51<1998),VLOOKUP(I51,Feuil1!$A$11:$F$29,5),IF(AND(H51>1997,H51<2000),VLOOKUP(I51,Feuil1!$A$11:$F$29,4),IF(AND(H51>1999,H51<2002),VLOOKUP(I51,Feuil1!$A$11:$F$29,3),VLOOKUP(I51,Feuil1!$A$11:$F$29,2))))),IF(OR(H51=\"SEN\",H51<1995),VLOOKUP(I51,Feuil1!$G$11:$L$25,6),IF(AND(H51>1994,H51<1998),VLOOKUP(I51,Feuil1!$G$11:$L$25,5),IF(AND(H51>1997,H51<2000),VLOOKUP(I51,Feuil1!$G$11:$L$25,4),IF(AND(H51>1999,H51<2002),VLOOKUP(I51,Feuil1!$G$11:$L$25,3),VLOOKUP(I51,Feuil1!$G$11:$L$25,2)))))))","v":"S62"},{"$f":"IF(I51=\"\",\"\",IF(A51=\"H\",10^(0.794358141*LOG(I51/174.393)^2)*T51,IF(A51=\"F\",10^(0.89726074*LOG(I51/148.026)^2)*T51,\"\")))","v":349.63487030990552},null," ",{"$f":"T51-HLOOKUP(X51,Feuil1!$C$1:$BL$10,2,FALSE)","v":119},{"$f":"T51-HLOOKUP(X51,Feuil1!$C$1:$BL$10,3,FALSE)","v":104},{"$f":"T51-HLOOKUP(X51,Feuil1!$C$1:$BL$10,4,FALSE)","v":89},{"$f":"T51-HLOOKUP(X51,Feuil1!$C$1:$BL$10,5,FALSE)","v":69},{"$f":"T51-HLOOKUP(X51,Feuil1!$C$1:$BL$10,6,FALSE)","v":49},{"$f":"T51-HLOOKUP(X51,Feuil1!$C$1:$BL$10,7,FALSE)","v":29},{"$f":"T51-HLOOKUP(X51,Feuil1!$C$1:$BL$10,8,FALSE)","v":9},{"$f":"T51-HLOOKUP(X51,Feuil1!$C$1:$BL$10,9,FALSE)","v":-16},{"$f":"T51-HLOOKUP(X51,Feuil1!$C$1:$BL$10,10,FALSE)","v":-31},null,null,null,null,null,null,{"$f":"IF(AJ51>=0,$AJ$4,IF(AI51>=0,$AI$4,IF(AH51>=0,$AH$4,IF(AG51>=0,$AG$4,IF(AF51>=0,$AF$4,IF(AE51>=0,$AE$4,IF(AD51>=0,$AD$4,IF(AC51>=0,$AC$4,$AB$4))))))))","v":"INTB +"}]
["H","SO","AQU",2,263896,"RICHEBOIS","EDWARD",1994,61.5,"ST MEDARD","F",74,78,80,80,92,97,100,100,180,57,"IRG +",10,{"$f":"IF(I52=\"\",\"\",IF(A52=\"H\",IF(OR(H52=\"SEN\",H52<1995),VLOOKUP(I52,Feuil1!$A$11:$F$29,6),IF(AND(H52>1994,H52<1998),VLOOKUP(I52,Feuil1!$A$11:$F$29,5),IF(AND(H52>1997,H52<2000),VLOOKUP(I52,Feuil1!$A$11:$F$29,4),IF(AND(H52>1999,H52<2002),VLOOKUP(I52,Feuil1!$A$11:$F$29,3),VLOOKUP(I52,Feuil1!$A$11:$F$29,2))))),IF(OR(H52=\"SEN\",H52<1995),VLOOKUP(I52,Feuil1!$G$11:$L$25,6),IF(AND(H52>1994,H52<1998),VLOOKUP(I52,Feuil1!$G$11:$L$25,5),IF(AND(H52>1997,H52<2000),VLOOKUP(I52,Feuil1!$G$11:$L$25,4),IF(AND(H52>1999,H52<2002),VLOOKUP(I52,Feuil1!$G$11:$L$25,3),VLOOKUP(I52,Feuil1!$G$11:$L$25,2)))))))","v":"S62"},261.8381835682157,null," ",{"$f":"T52-HLOOKUP(X52,Feuil1!$C$1:$BL$10,2,FALSE)","v":60},{"$f":"T52-HLOOKUP(X52,Feuil1!$C$1:$BL$10,3,FALSE)","v":45},{"$f":"T52-HLOOKUP(X52,Feuil1!$C$1:$BL$10,4,FALSE)","v":30},{"$f":"T52-HLOOKUP(X52,Feuil1!$C$1:$BL$10,5,FALSE)","v":10},{"$f":"T52-HLOOKUP(X52,Feuil1!$C$1:$BL$10,6,FALSE)","v":-10},{"$f":"T52-HLOOKUP(X52,Feuil1!$C$1:$BL$10,7,FALSE)","v":-30},{"$f":"T52-HLOOKUP(X52,Feuil1!$C$1:$BL$10,8,FALSE)","v":-50},{"$f":"T52-HLOOKUP(X52,Feuil1!$C$1:$BL$10,9,FALSE)","v":-75},{"$f":"T52-HLOOKUP(X52,Feuil1!$C$1:$BL$10,10,FALSE)","v":-90},null,null,null,null,null,null,"IRG +"]
["H","NE","FCO",3,139465,"CREVOISIER ","Lucien",1991,59.69,"CH Luxeuil","F",83,-87,-87,83,90,-101,-107,90,173,53.620000000000005,"IRG +",3,{"$f":"IF(I53=\"\",\"\",IF(A53=\"H\",IF(OR(H53=\"SEN\",H53<1995),VLOOKUP(I53,Feuil1!$A$11:$F$29,6),IF(AND(H53>1994,H53<1998),VLOOKUP(I53,Feuil1!$A$11:$F$29,5),IF(AND(H53>1997,H53<2000),VLOOKUP(I53,Feuil1!$A$11:$F$29,4),IF(AND(H53>1999,H53<2002),VLOOKUP(I53,Feuil1!$A$11:$F$29,3),VLOOKUP(I53,Feuil1!$A$11:$F$29,2))))),IF(OR(H53=\"SEN\",H53<1995),VLOOKUP(I53,Feuil1!$G$11:$L$25,6),IF(AND(H53>1994,H53<1998),VLOOKUP(I53,Feuil1!$G$11:$L$25,5),IF(AND(H53>1997,H53<2000),VLOOKUP(I53,Feuil1!$G$11:$L$25,4),IF(AND(H53>1999,H53<2002),VLOOKUP(I53,Feuil1!$G$11:$L$25,3),VLOOKUP(I53,Feuil1!$G$11:$L$25,2)))))))","v":"S62"},257.19945865801355,null," ",{"$f":"T53-HLOOKUP(X53,Feuil1!$C$1:$BL$10,2,FALSE)","v":53},{"$f":"T53-HLOOKUP(X53,Feuil1!$C$1:$BL$10,3,FALSE)","v":38},{"$f":"T53-HLOOKUP(X53,Feuil1!$C$1:$BL$10,4,FALSE)","v":23},{"$f":"T53-HLOOKUP(X53,Feuil1!$C$1:$BL$10,5,FALSE)","v":3},{"$f":"T53-HLOOKUP(X53,Feuil1!$C$1:$BL$10,6,FALSE)","v":-17},{"$f":"T53-HLOOKUP(X53,Feuil1!$C$1:$BL$10,7,FALSE)","v":-37},{"$f":"T53-HLOOKUP(X53,Feuil1!$C$1:$BL$10,8,FALSE)","v":-57},{"$f":"T53-HLOOKUP(X53,Feuil1!$C$1:$BL$10,9,FALSE)","v":-82},{"$f":"T53-HLOOKUP(X53,Feuil1!$C$1:$BL$10,10,FALSE)","v":-97},null,null,null,null,null,null,"IRG +"]
["H","NE","FCO",4,208774,"GROSJEAN","Marc",1979,61.77,"CH Luxeuil","F",73,76,78,78,90,94,-97,94,172,48.459999999999994,"IRG +",2,{"$f":"IF(I54=\"\",\"\",IF(A54=\"H\",IF(OR(H54=\"SEN\",H54<1995),VLOOKUP(I54,Feuil1!$A$11:$F$29,6),IF(AND(H54>1994,H54<1998),VLOOKUP(I54,Feuil1!$A$11:$F$29,5),IF(AND(H54>1997,H54<2000),VLOOKUP(I54,Feuil1!$A$11:$F$29,4),IF(AND(H54>1999,H54<2002),VLOOKUP(I54,Feuil1!$A$11:$F$29,3),VLOOKUP(I54,Feuil1!$A$11:$F$29,2))))),IF(OR(H54=\"SEN\",H54<1995),VLOOKUP(I54,Feuil1!$G$11:$L$25,6),IF(AND(H54>1994,H54<1998),VLOOKUP(I54,Feuil1!$G$11:$L$25,5),IF(AND(H54>1997,H54<2000),VLOOKUP(I54,Feuil1!$G$11:$L$25,4),IF(AND(H54>1999,H54<2002),VLOOKUP(I54,Feuil1!$G$11:$L$25,3),VLOOKUP(I54,Feuil1!$G$11:$L$25,2)))))))","v":"S62"},249.41561840405964,null," ",{"$f":"T54-HLOOKUP(X54,Feuil1!$C$1:$BL$10,2,FALSE)","v":52},{"$f":"T54-HLOOKUP(X54,Feuil1!$C$1:$BL$10,3,FALSE)","v":37},{"$f":"T54-HLOOKUP(X54,Feuil1!$C$1:$BL$10,4,FALSE)","v":22},{"$f":"T54-HLOOKUP(X54,Feuil1!$C$1:$BL$10,5,FALSE)","v":2},{"$f":"T54-HLOOKUP(X54,Feuil1!$C$1:$BL$10,6,FALSE)","v":-18},{"$f":"T54-HLOOKUP(X54,Feuil1!$C$1:$BL$10,7,FALSE)","v":-38},{"$f":"T54-HLOOKUP(X54,Feuil1!$C$1:$BL$10,8,FALSE)","v":-58},{"$f":"T54-HLOOKUP(X54,Feuil1!$C$1:$BL$10,9,FALSE)","v":-83},{"$f":"T54-HLOOKUP(X54,Feuil1!$C$1:$BL$10,10,FALSE)","v":-98},null,null,null,null,null,null,"IRG +"]
["H","NE","ALS",5,219699,"MIESCH","Baptiste",1990,61.49,"US Wittenheim","F",70,75,-78,75,-90,90,-95,90,165,42.019999999999996,"REG +",15,{"$f":"IF(I55=\"\",\"\",IF(A55=\"H\",IF(OR(H55=\"SEN\",H55<1995),VLOOKUP(I55,Feuil1!$A$11:$F$29,6),IF(AND(H55>1994,H55<1998),VLOOKUP(I55,Feuil1!$A$11:$F$29,5),IF(AND(H55>1997,H55<2000),VLOOKUP(I55,Feuil1!$A$11:$F$29,4),IF(AND(H55>1999,H55<2002),VLOOKUP(I55,Feuil1!$A$11:$F$29,3),VLOOKUP(I55,Feuil1!$A$11:$F$29,2))))),IF(OR(H55=\"SEN\",H55<1995),VLOOKUP(I55,Feuil1!$G$11:$L$25,6),IF(AND(H55>1994,H55<1998),VLOOKUP(I55,Feuil1!$G$11:$L$25,5),IF(AND(H55>1997,H55<2000),VLOOKUP(I55,Feuil1!$G$11:$L$25,4),IF(AND(H55>1999,H55<2002),VLOOKUP(I55,Feuil1!$G$11:$L$25,3),VLOOKUP(I55,Feuil1!$G$11:$L$25,2)))))))","v":"S62"},240.04640714288252,null," ",{"$f":"T55-HLOOKUP(X55,Feuil1!$C$1:$BL$10,2,FALSE)","v":45},{"$f":"T55-HLOOKUP(X55,Feuil1!$C$1:$BL$10,3,FALSE)","v":30},{"$f":"T55-HLOOKUP(X55,Feuil1!$C$1:$BL$10,4,FALSE)","v":15},{"$f":"T55-HLOOKUP(X55,Feuil1!$C$1:$BL$10,5,FALSE)","v":-5},{"$f":"T55-HLOOKUP(X55,Feuil1!$C$1:$BL$10,6,FALSE)","v":-25},{"$f":"T55-HLOOKUP(X55,Feuil1!$C$1:$BL$10,7,FALSE)","v":-45},{"$f":"T55-HLOOKUP(X55,Feuil1!$C$1:$BL$10,8,FALSE)","v":-65},{"$f":"T55-HLOOKUP(X55,Feuil1!$C$1:$BL$10,9,FALSE)","v":-90},{"$f":"T55-HLOOKUP(X55,Feuil1!$C$1:$BL$10,10,FALSE)","v":-105},null,null,null,null,null,null,"REG +"]
["H","NE","CHA","NC","133565","POIRET ","Allan",1990,60.24,"Reims HM","F",77,81,84,84,-100,-100,-100,0,0,-120.48,"DEB ",-120,{"$f":"IF(I56=\"\",\"\",IF(A56=\"H\",IF(OR(H56=\"SEN\",H56<1995),VLOOKUP(I56,Feuil1!$A$11:$F$29,6),IF(AND(H56>1994,H56<1998),VLOOKUP(I56,Feuil1!$A$11:$F$29,5),IF(AND(H56>1997,H56<2000),VLOOKUP(I56,Feuil1!$A$11:$F$29,4),IF(AND(H56>1999,H56<2002),VLOOKUP(I56,Feuil1!$A$11:$F$29,3),VLOOKUP(I56,Feuil1!$A$11:$F$29,2))))),IF(OR(H56=\"SEN\",H56<1995),VLOOKUP(I56,Feuil1!$G$11:$L$25,6),IF(AND(H56>1994,H56<1998),VLOOKUP(I56,Feuil1!$G$11:$L$25,5),IF(AND(H56>1997,H56<2000),VLOOKUP(I56,Feuil1!$G$11:$L$25,4),IF(AND(H56>1999,H56<2002),VLOOKUP(I56,Feuil1!$G$11:$L$25,3),VLOOKUP(I56,Feuil1!$G$11:$L$25,2)))))))","v":"S62"},0,null," ",{"$f":"T56-HLOOKUP(X56,Feuil1!$C$1:$BL$10,2,FALSE)","v":-120},{"$f":"T56-HLOOKUP(X56,Feuil1!$C$1:$BL$10,3,FALSE)","v":-135},{"$f":"T56-HLOOKUP(X56,Feuil1!$C$1:$BL$10,4,FALSE)","v":-150},{"$f":"T56-HLOOKUP(X56,Feuil1!$C$1:$BL$10,5,FALSE)","v":-170},{"$f":"T56-HLOOKUP(X56,Feuil1!$C$1:$BL$10,6,FALSE)","v":-190},{"$f":"T56-HLOOKUP(X56,Feuil1!$C$1:$BL$10,7,FALSE)","v":-210},{"$f":"T56-HLOOKUP(X56,Feuil1!$C$1:$BL$10,8,FALSE)","v":-230},{"$f":"T56-HLOOKUP(X56,Feuil1!$C$1:$BL$10,9,FALSE)","v":-255},{"$f":"T56-HLOOKUP(X56,Feuil1!$C$1:$BL$10,10,FALSE)","v":-270},null,null,null,null,null,null,"DEB "]
[]
["H","SEST","PRO",1,130685,"CLAUX","Anthony",1991,66.2,"ISTRES SPORTS","F",100,104,107,{"$f":"IF(H58=\"\",\"\",IF(MAXA(L58:N58)<=0,0,MAXA(L58:N58)))","v":107},120,127,-131,{"$f":"IF(H58=\"\",\"\",IF(MAXA(P58:R58)<=0,0,MAXA(P58:R58)))","v":127},{"$f":"IF(H58=\"\",\"\",IF(OR(O58=0,S58=0),0,O58+S58))","v":234},{"$f":"T58-I58*2","v":101.6},{"$f":"IF(H58=\"\",\"\",AQ58)","v":"FED +"},{"$f":"IF(AJ58>=0,AJ58,IF(AI58>=0,AI58,IF(AH58>=0,AH58,IF(AG58>=0,AG58,IF(AF58>=0,AF58,IF(AE58>=0,AE58,IF(AD58>=0,AD58,IF(AC58>=0,AC58,AB58))))))))","v":14},{"$f":"IF(I58=\"\",\"\",IF(A58=\"H\",IF(OR(H58=\"SEN\",H58<1995),VLOOKUP(I58,Feuil1!$A$11:$F$29,6),IF(AND(H58>1994,H58<1998),VLOOKUP(I58,Feuil1!$A$11:$F$29,5),IF(AND(H58>1997,H58<2000),VLOOKUP(I58,Feuil1!$A$11:$F$29,4),IF(AND(H58>1999,H58<2002),VLOOKUP(I58,Feuil1!$A$11:$F$29,3),VLOOKUP(I58,Feuil1!$A$11:$F$29,2))))),IF(OR(H58=\"SEN\",H58<1995),VLOOKUP(I58,Feuil1!$G$11:$L$25,6),IF(AND(H58>1994,H58<1998),VLOOKUP(I58,Feuil1!$G$11:$L$25,5),IF(AND(H58>1997,H58<2000),VLOOKUP(I58,Feuil1!$G$11:$L$25,4),IF(AND(H58>1999,H58<2002),VLOOKUP(I58,Feuil1!$G$11:$L$25,3),VLOOKUP(I58,Feuil1!$G$11:$L$25,2)))))))","v":"S69"},{"$f":"IF(I58=\"\",\"\",IF(A58=\"H\",10^(0.794358141*LOG(I58/174.393)^2)*T58,IF(A58=\"F\",10^(0.89726074*LOG(I58/148.026)^2)*T58,\"\")))","v":323.43630192876316},null," ",{"$f":"T58-HLOOKUP(X58,Feuil1!$C$1:$BL$10,2,FALSE)","v":104},{"$f":"T58-HLOOKUP(X58,Feuil1!$C$1:$BL$10,3,FALSE)","v":84},{"$f":"T58-HLOOKUP(X58,Feuil1!$C$1:$BL$10,4,FALSE)","v":64},{"$f":"T58-HLOOKUP(X58,Feuil1!$C$1:$BL$10,5,FALSE)","v":44},{"$f":"T58-HLOOKUP(X58,Feuil1!$C$1:$BL$10,6,FALSE)","v":14},{"$f":"T58-HLOOKUP(X58,Feuil1!$C$1:$BL$10,7,FALSE)","v":-6},{"$f":"T58-HLOOKUP(X58,Feuil1!$C$1:$BL$10,8,FALSE)","v":-26},{"$f":"T58-HLOOKUP(X58,Feuil1!$C$1:$BL$10,9,FALSE)","v":-41},{"$f":"T58-HLOOKUP(X58,Feuil1!$C$1:$BL$10,10,FALSE)","v":-56},null,null,null,null,null,null,{"$f":"IF(AJ58>=0,$AJ$4,IF(AI58>=0,$AI$4,IF(AH58>=0,$AH$4,IF(AG58>=0,$AG$4,IF(AF58>=0,$AF$4,IF(AE58>=0,$AE$4,IF(AD58>=0,$AD$4,IF(AC58>=0,$AC$4,$AB$4))))))))","v":"FED +"}]
["H","CO","PDL",2,25361,"LECHAT","Kevin",1992,67.8,"CA Evron 53","F",102,106,-110,106,120,125,-130,125,231,95.4,"FED +",11,{"$f":"IF(I59=\"\",\"\",IF(A59=\"H\",IF(OR(H59=\"SEN\",H59<1995),VLOOKUP(I59,Feuil1!$A$11:$F$29,6),IF(AND(H59>1994,H59<1998),VLOOKUP(I59,Feuil1!$A$11:$F$29,5),IF(AND(H59>1997,H59<2000),VLOOKUP(I59,Feuil1!$A$11:$F$29,4),IF(AND(H59>1999,H59<2002),VLOOKUP(I59,Feuil1!$A$11:$F$29,3),VLOOKUP(I59,Feuil1!$A$11:$F$29,2))))),IF(OR(H59=\"SEN\",H59<1995),VLOOKUP(I59,Feuil1!$G$11:$L$25,6),IF(AND(H59>1994,H59<1998),VLOOKUP(I59,Feuil1!$G$11:$L$25,5),IF(AND(H59>1997,H59<2000),VLOOKUP(I59,Feuil1!$G$11:$L$25,4),IF(AND(H59>1999,H59<2002),VLOOKUP(I59,Feuil1!$G$11:$L$25,3),VLOOKUP(I59,Feuil1!$G$11:$L$25,2)))))))","v":"S69"},314.29584989824883,null," ",{"$f":"T59-HLOOKUP(X59,Feuil1!$C$1:$BL$10,2,FALSE)","v":101},{"$f":"T59-HLOOKUP(X59,Feuil1!$C$1:$BL$10,3,FALSE)","v":81},{"$f":"T59-HLOOKUP(X59,Feuil1!$C$1:$BL$10,4,FALSE)","v":61},{"$f":"T59-HLOOKUP(X59,Feuil1!$C$1:$BL$10,5,FALSE)","v":41},{"$f":"T59-HLOOKUP(X59,Feuil1!$C$1:$BL$10,6,FALSE)","v":11},{"$f":"T59-HLOOKUP(X59,Feuil1!$C$1:$BL$10,7,FALSE)","v":-9},{"$f":"T59-HLOOKUP(X59,Feuil1!$C$1:$BL$10,8,FALSE)","v":-29},{"$f":"T59-HLOOKUP(X59,Feuil1!$C$1:$BL$10,9,FALSE)","v":-44},{"$f":"T59-HLOOKUP(X59,Feuil1!$C$1:$BL$10,10,FALSE)","v":-59},null,null,null,null,null,null,"FED +"]
["H","Nord","PIC",3,223277,"DUMEIGE","Antoine",1994,68.47,"Villers-Bretonneux KC","F",100,-104,-105,100,120,130,-132,130,230,93.06,"FED +",10,{"$f":"IF(I60=\"\",\"\",IF(A60=\"H\",IF(OR(H60=\"SEN\",H60<1995),VLOOKUP(I60,Feuil1!$A$11:$F$29,6),IF(AND(H60>1994,H60<1998),VLOOKUP(I60,Feuil1!$A$11:$F$29,5),IF(AND(H60>1997,H60<2000),VLOOKUP(I60,Feuil1!$A$11:$F$29,4),IF(AND(H60>1999,H60<2002),VLOOKUP(I60,Feuil1!$A$11:$F$29,3),VLOOKUP(I60,Feuil1!$A$11:$F$29,2))))),IF(OR(H60=\"SEN\",H60<1995),VLOOKUP(I60,Feuil1!$G$11:$L$25,6),IF(AND(H60>1994,H60<1998),VLOOKUP(I60,Feuil1!$G$11:$L$25,5),IF(AND(H60>1997,H60<2000),VLOOKUP(I60,Feuil1!$G$11:$L$25,4),IF(AND(H60>1999,H60<2002),VLOOKUP(I60,Feuil1!$G$11:$L$25,3),VLOOKUP(I60,Feuil1!$G$11:$L$25,2)))))))","v":"S69"},310.94614766877322,null," ",{"$f":"T60-HLOOKUP(X60,Feuil1!$C$1:$BL$10,2,FALSE)","v":100},{"$f":"T60-HLOOKUP(X60,Feuil1!$C$1:$BL$10,3,FALSE)","v":80},{"$f":"T60-HLOOKUP(X60,Feuil1!$C$1:$BL$10,4,FALSE)","v":60},{"$f":"T60-HLOOKUP(X60,Feuil1!$C$1:$BL$10,5,FALSE)","v":40},{"$f":"T60-HLOOKUP(X60,Feuil1!$C$1:$BL$10,6,FALSE)","v":10},{"$f":"T60-HLOOKUP(X60,Feuil1!$C$1:$BL$10,7,FALSE)","v":-10},{"$f":"T60-HLOOKUP(X60,Feuil1!$C$1:$BL$10,8,FALSE)","v":-30},{"$f":"T60-HLOOKUP(X60,Feuil1!$C$1:$BL$10,9,FALSE)","v":-45},{"$f":"T60-HLOOKUP(X60,Feuil1!$C$1:$BL$10,10,FALSE)","v":-60},null,null,null,null,null,null,"FED +"]
["H","CO","BRE",4,157718,"BEREHOUC","Maxime",1985,69,"AL Quimper","F",100,-104,-104,100,130,-132,-132,130,230,92,"FED +",10,{"$f":"IF(I61=\"\",\"\",IF(A61=\"H\",IF(OR(H61=\"SEN\",H61<1995),VLOOKUP(I61,Feuil1!$A$11:$F$29,6),IF(AND(H61>1994,H61<1998),VLOOKUP(I61,Feuil1!$A$11:$F$29,5),IF(AND(H61>1997,H61<2000),VLOOKUP(I61,Feuil1!$A$11:$F$29,4),IF(AND(H61>1999,H61<2002),VLOOKUP(I61,Feuil1!$A$11:$F$29,3),VLOOKUP(I61,Feuil1!$A$11:$F$29,2))))),IF(OR(H61=\"SEN\",H61<1995),VLOOKUP(I61,Feuil1!$G$11:$L$25,6),IF(AND(H61>1994,H61<1998),VLOOKUP(I61,Feuil1!$G$11:$L$25,5),IF(AND(H61>1997,H61<2000),VLOOKUP(I61,Feuil1!$G$11:$L$25,4),IF(AND(H61>1999,H61<2002),VLOOKUP(I61,Feuil1!$G$11:$L$25,3),VLOOKUP(I61,Feuil1!$G$11:$L$25,2)))))))","v":"S69"},309.40969730769342,null," ",{"$f":"T61-HLOOKUP(X61,Feuil1!$C$1:$BL$10,2,FALSE)","v":100},{"$f":"T61-HLOOKUP(X61,Feuil1!$C$1:$BL$10,3,FALSE)","v":80},{"$f":"T61-HLOOKUP(X61,Feuil1!$C$1:$BL$10,4,FALSE)","v":60},{"$f":"T61-HLOOKUP(X61,Feuil1!$C$1:$BL$10,5,FALSE)","v":40},{"$f":"T61-HLOOKUP(X61,Feuil1!$C$1:$BL$10,6,FALSE)","v":10},{"$f":"T61-HLOOKUP(X61,Feuil1!$C$1:$BL$10,7,FALSE)","v":-10},{"$f":"T61-HLOOKUP(X61,Feuil1!$C$1:$BL$10,8,FALSE)","v":-30},{"$f":"T61-HLOOKUP(X61,Feuil1!$C$1:$BL$10,9,FALSE)","v":-45},{"$f":"T61-HLOOKUP(X61,Feuil1!$C$1:$BL$10,10,FALSE)","v":-60},null,null,null,null,null,null,"FED +"]
["H","NE","FCO",5,28538,"JEGAN","Thaya",1982,68.84,"CH Luxeuil","F",-103,-103,103,103,126,-130,-130,126,229,91.32,"FED +",9,{"$f":"IF(I62=\"\",\"\",IF(A62=\"H\",IF(OR(H62=\"SEN\",H62<1995),VLOOKUP(I62,Feuil1!$A$11:$F$29,6),IF(AND(H62>1994,H62<1998),VLOOKUP(I62,Feuil1!$A$11:$F$29,5),IF(AND(H62>1997,H62<2000),VLOOKUP(I62,Feuil1!$A$11:$F$29,4),IF(AND(H62>1999,H62<2002),VLOOKUP(I62,Feuil1!$A$11:$F$29,3),VLOOKUP(I62,Feuil1!$A$11:$F$29,2))))),IF(OR(H62=\"SEN\",H62<1995),VLOOKUP(I62,Feuil1!$G$11:$L$25,6),IF(AND(H62>1994,H62<1998),VLOOKUP(I62,Feuil1!$G$11:$L$25,5),IF(AND(H62>1997,H62<2000),VLOOKUP(I62,Feuil1!$G$11:$L$25,4),IF(AND(H62>1999,H62<2002),VLOOKUP(I62,Feuil1!$G$11:$L$25,3),VLOOKUP(I62,Feuil1!$G$11:$L$25,2)))))))","v":"S69"},308.52288475725817,null," ",{"$f":"T62-HLOOKUP(X62,Feuil1!$C$1:$BL$10,2,FALSE)","v":99},{"$f":"T62-HLOOKUP(X62,Feuil1!$C$1:$BL$10,3,FALSE)","v":79},{"$f":"T62-HLOOKUP(X62,Feuil1!$C$1:$BL$10,4,FALSE)","v":59},{"$f":"T62-HLOOKUP(X62,Feuil1!$C$1:$BL$10,5,FALSE)","v":39},{"$f":"T62-HLOOKUP(X62,Feuil1!$C$1:$BL$10,6,FALSE)","v":9},{"$f":"T62-HLOOKUP(X62,Feuil1!$C$1:$BL$10,7,FALSE)","v":-11},{"$f":"T62-HLOOKUP(X62,Feuil1!$C$1:$BL$10,8,FALSE)","v":-31},{"$f":"T62-HLOOKUP(X62,Feuil1!$C$1:$BL$10,9,FALSE)","v":-46},{"$f":"T62-HLOOKUP(X62,Feuil1!$C$1:$BL$10,10,FALSE)","v":-61},null,null,null,null,null,null,"FED +"]
["H","CO","BNO",6,96798,"TANQUEREL","Antoine",1994,63.3,"VERSON","F",92,96,100,100,120,125,-130,125,225,98.4,"FED +",5,{"$f":"IF(I63=\"\",\"\",IF(A63=\"H\",IF(OR(H63=\"SEN\",H63<1995),VLOOKUP(I63,Feuil1!$A$11:$F$29,6),IF(AND(H63>1994,H63<1998),VLOOKUP(I63,Feuil1!$A$11:$F$29,5),IF(AND(H63>1997,H63<2000),VLOOKUP(I63,Feuil1!$A$11:$F$29,4),IF(AND(H63>1999,H63<2002),VLOOKUP(I63,Feuil1!$A$11:$F$29,3),VLOOKUP(I63,Feuil1!$A$11:$F$29,2))))),IF(OR(H63=\"SEN\",H63<1995),VLOOKUP(I63,Feuil1!$G$11:$L$25,6),IF(AND(H63>1994,H63<1998),VLOOKUP(I63,Feuil1!$G$11:$L$25,5),IF(AND(H63>1997,H63<2000),VLOOKUP(I63,Feuil1!$G$11:$L$25,4),IF(AND(H63>1999,H63<2002),VLOOKUP(I63,Feuil1!$G$11:$L$25,3),VLOOKUP(I63,Feuil1!$G$11:$L$25,2)))))))","v":"S69"},320.66966850594997,null," ",{"$f":"T63-HLOOKUP(X63,Feuil1!$C$1:$BL$10,2,FALSE)","v":95},{"$f":"T63-HLOOKUP(X63,Feuil1!$C$1:$BL$10,3,FALSE)","v":75},{"$f":"T63-HLOOKUP(X63,Feuil1!$C$1:$BL$10,4,FALSE)","v":55},{"$f":"T63-HLOOKUP(X63,Feuil1!$C$1:$BL$10,5,FALSE)","v":35},{"$f":"T63-HLOOKUP(X63,Feuil1!$C$1:$BL$10,6,FALSE)","v":5},{"$f":"T63-HLOOKUP(X63,Feuil1!$C$1:$BL$10,7,FALSE)","v":-15},{"$f":"T63-HLOOKUP(X63,Feuil1!$C$1:$BL$10,8,FALSE)","v":-35},{"$f":"T63-HLOOKUP(X63,Feuil1!$C$1:$BL$10,9,FALSE)","v":-50},{"$f":"T63-HLOOKUP(X63,Feuil1!$C$1:$BL$10,10,FALSE)","v":-65},null,null,null,null,null,null,"FED +"]
["H","Nord","PIC",7,75095,"JEROME","Kévin",1992,68.900000000000006,"Senlis Ligne & Forme","F",94,98,102,102,118,122,-126,122,224,86.199999999999989,"FED +",4,{"$f":"IF(I64=\"\",\"\",IF(A64=\"H\",IF(OR(H64=\"SEN\",H64<1995),VLOOKUP(I64,Feuil1!$A$11:$F$29,6),IF(AND(H64>1994,H64<1998),VLOOKUP(I64,Feuil1!$A$11:$F$29,5),IF(AND(H64>1997,H64<2000),VLOOKUP(I64,Feuil1!$A$11:$F$29,4),IF(AND(H64>1999,H64<2002),VLOOKUP(I64,Feuil1!$A$11:$F$29,3),VLOOKUP(I64,Feuil1!$A$11:$F$29,2))))),IF(OR(H64=\"SEN\",H64<1995),VLOOKUP(I64,Feuil1!$G$11:$L$25,6),IF(AND(H64>1994,H64<1998),VLOOKUP(I64,Feuil1!$G$11:$L$25,5),IF(AND(H64>1997,H64<2000),VLOOKUP(I64,Feuil1!$G$11:$L$25,4),IF(AND(H64>1999,H64<2002),VLOOKUP(I64,Feuil1!$G$11:$L$25,3),VLOOKUP(I64,Feuil1!$G$11:$L$25,2)))))))","v":"S69"},301.61808159135632,null," ",{"$f":"T64-HLOOKUP(X64,Feuil1!$C$1:$BL$10,2,FALSE)","v":94},{"$f":"T64-HLOOKUP(X64,Feuil1!$C$1:$BL$10,3,FALSE)","v":74},{"$f":"T64-HLOOKUP(X64,Feuil1!$C$1:$BL$10,4,FALSE)","v":54},{"$f":"T64-HLOOKUP(X64,Feuil1!$C$1:$BL$10,5,FALSE)","v":34},{"$f":"T64-HLOOKUP(X64,Feuil1!$C$1:$BL$10,6,FALSE)","v":4},{"$f":"T64-HLOOKUP(X64,Feuil1!$C$1:$BL$10,7,FALSE)","v":-16},{"$f":"T64-HLOOKUP(X64,Feuil1!$C$1:$BL$10,8,FALSE)","v":-36},{"$f":"T64-HLOOKUP(X64,Feuil1!$C$1:$BL$10,9,FALSE)","v":-51},{"$f":"T64-HLOOKUP(X64,Feuil1!$C$1:$BL$10,10,FALSE)","v":-66},null,null,null,null,null,null,"FED +"]
["H","CO","PDL",8,366255,"COGNON","Jonathan",1990,68.8,"CJF Laval-Voutré","F",95,-100,0,95,120,125,-130,125,220,82.4,"FED +",0,{"$f":"IF(I65=\"\",\"\",IF(A65=\"H\",IF(OR(H65=\"SEN\",H65<1995),VLOOKUP(I65,Feuil1!$A$11:$F$29,6),IF(AND(H65>1994,H65<1998),VLOOKUP(I65,Feuil1!$A$11:$F$29,5),IF(AND(H65>1997,H65<2000),VLOOKUP(I65,Feuil1!$A$11:$F$29,4),IF(AND(H65>1999,H65<2002),VLOOKUP(I65,Feuil1!$A$11:$F$29,3),VLOOKUP(I65,Feuil1!$A$11:$F$29,2))))),IF(OR(H65=\"SEN\",H65<1995),VLOOKUP(I65,Feuil1!$G$11:$L$25,6),IF(AND(H65>1994,H65<1998),VLOOKUP(I65,Feuil1!$G$11:$L$25,5),IF(AND(H65>1997,H65<2000),VLOOKUP(I65,Feuil1!$G$11:$L$25,4),IF(AND(H65>1999,H65<2002),VLOOKUP(I65,Feuil1!$G$11:$L$25,3),VLOOKUP(I65,Feuil1!$G$11:$L$25,2)))))))","v":"S69"},296.50807364550366,null," ",{"$f":"T65-HLOOKUP(X65,Feuil1!$C$1:$BL$10,2,FALSE)","v":90},{"$f":"T65-HLOOKUP(X65,Feuil1!$C$1:$BL$10,3,FALSE)","v":70},{"$f":"T65-HLOOKUP(X65,Feuil1!$C$1:$BL$10,4,FALSE)","v":50},{"$f":"T65-HLOOKUP(X65,Feuil1!$C$1:$BL$10,5,FALSE)","v":30},{"$f":"T65-HLOOKUP(X65,Feuil1!$C$1:$BL$10,6,FALSE)","v":0},{"$f":"T65-HLOOKUP(X65,Feuil1!$C$1:$BL$10,7,FALSE)","v":-20},{"$f":"T65-HLOOKUP(X65,Feuil1!$C$1:$BL$10,8,FALSE)","v":-40},{"$f":"T65-HLOOKUP(X65,Feuil1!$C$1:$BL$10,9,FALSE)","v":-55},{"$f":"T65-HLOOKUP(X65,Feuil1!$C$1:$BL$10,10,FALSE)","v":-70},null,null,null,null,null,null,"FED +"]
["H","NE","CHA",9,"079275","BLANCHARD ","Alexandre",1989,67.650000000000006,"Langres HM","F",92,-95,-95,92,121,-128,-128,121,213,77.699999999999989,"IRG +",23,{"$f":"IF(I66=\"\",\"\",IF(A66=\"H\",IF(OR(H66=\"SEN\",H66<1995),VLOOKUP(I66,Feuil1!$A$11:$F$29,6),IF(AND(H66>1994,H66<1998),VLOOKUP(I66,Feuil1!$A$11:$F$29,5),IF(AND(H66>1997,H66<2000),VLOOKUP(I66,Feuil1!$A$11:$F$29,4),IF(AND(H66>1999,H66<2002),VLOOKUP(I66,Feuil1!$A$11:$F$29,3),VLOOKUP(I66,Feuil1!$A$11:$F$29,2))))),IF(OR(H66=\"SEN\",H66<1995),VLOOKUP(I66,Feuil1!$G$11:$L$25,6),IF(AND(H66>1994,H66<1998),VLOOKUP(I66,Feuil1!$G$11:$L$25,5),IF(AND(H66>1997,H66<2000),VLOOKUP(I66,Feuil1!$G$11:$L$25,4),IF(AND(H66>1999,H66<2002),VLOOKUP(I66,Feuil1!$G$11:$L$25,3),VLOOKUP(I66,Feuil1!$G$11:$L$25,2)))))))","v":"S69"},290.22446157063848,null," ",{"$f":"T66-HLOOKUP(X66,Feuil1!$C$1:$BL$10,2,FALSE)","v":83},{"$f":"T66-HLOOKUP(X66,Feuil1!$C$1:$BL$10,3,FALSE)","v":63},{"$f":"T66-HLOOKUP(X66,Feuil1!$C$1:$BL$10,4,FALSE)","v":43},{"$f":"T66-HLOOKUP(X66,Feuil1!$C$1:$BL$10,5,FALSE)","v":23},{"$f":"T66-HLOOKUP(X66,Feuil1!$C$1:$BL$10,6,FALSE)","v":-7},{"$f":"T66-HLOOKUP(X66,Feuil1!$C$1:$BL$10,7,FALSE)","v":-27},{"$f":"T66-HLOOKUP(X66,Feuil1!$C$1:$BL$10,8,FALSE)","v":-47},{"$f":"T66-HLOOKUP(X66,Feuil1!$C$1:$BL$10,9,FALSE)","v":-62},{"$f":"T66-HLOOKUP(X66,Feuil1!$C$1:$BL$10,10,FALSE)","v":-77},null,null,null,null,null,null,"IRG +"]
["H","CO","PDL",10,19801,"MEZIERE","Benjamin",1990,68.5,"CA Evron 53","F",-93,93,-97,93,113,116,0,116,209,72,"IRG +",19,{"$f":"IF(I67=\"\",\"\",IF(A67=\"H\",IF(OR(H67=\"SEN\",H67<1995),VLOOKUP(I67,Feuil1!$A$11:$F$29,6),IF(AND(H67>1994,H67<1998),VLOOKUP(I67,Feuil1!$A$11:$F$29,5),IF(AND(H67>1997,H67<2000),VLOOKUP(I67,Feuil1!$A$11:$F$29,4),IF(AND(H67>1999,H67<2002),VLOOKUP(I67,Feuil1!$A$11:$F$29,3),VLOOKUP(I67,Feuil1!$A$11:$F$29,2))))),IF(OR(H67=\"SEN\",H67<1995),VLOOKUP(I67,Feuil1!$G$11:$L$25,6),IF(AND(H67>1994,H67<1998),VLOOKUP(I67,Feuil1!$G$11:$L$25,5),IF(AND(H67>1997,H67<2000),VLOOKUP(I67,Feuil1!$G$11:$L$25,4),IF(AND(H67>1999,H67<2002),VLOOKUP(I67,Feuil1!$G$11:$L$25,3),VLOOKUP(I67,Feuil1!$G$11:$L$25,2)))))))","v":"S69"},282.47560021891121,null," ",{"$f":"T67-HLOOKUP(X67,Feuil1!$C$1:$BL$10,2,FALSE)","v":79},{"$f":"T67-HLOOKUP(X67,Feuil1!$C$1:$BL$10,3,FALSE)","v":59},{"$f":"T67-HLOOKUP(X67,Feuil1!$C$1:$BL$10,4,FALSE)","v":39},{"$f":"T67-HLOOKUP(X67,Feuil1!$C$1:$BL$10,5,FALSE)","v":19},{"$f":"T67-HLOOKUP(X67,Feuil1!$C$1:$BL$10,6,FALSE)","v":-11},{"$f":"T67-HLOOKUP(X67,Feuil1!$C$1:$BL$10,7,FALSE)","v":-31},{"$f":"T67-HLOOKUP(X67,Feuil1!$C$1:$BL$10,8,FALSE)","v":-51},{"$f":"T67-HLOOKUP(X67,Feuil1!$C$1:$BL$10,9,FALSE)","v":-66},{"$f":"T67-HLOOKUP(X67,Feuil1!$C$1:$BL$10,10,FALSE)","v":-81},null,null,null,null,null,null,"IRG +"]
["H","Nord","NPC",11,34399,"RIQUIER","Daniel",1978,66.7,"CHCD Comines","F",85,90,-95,90,110,115,"-",115,205,71.599999999999994,"IRG +",15,{"$f":"IF(I68=\"\",\"\",IF(A68=\"H\",IF(OR(H68=\"SEN\",H68<1995),VLOOKUP(I68,Feuil1!$A$11:$F$29,6),IF(AND(H68>1994,H68<1998),VLOOKUP(I68,Feuil1!$A$11:$F$29,5),IF(AND(H68>1997,H68<2000),VLOOKUP(I68,Feuil1!$A$11:$F$29,4),IF(AND(H68>1999,H68<2002),VLOOKUP(I68,Feuil1!$A$11:$F$29,3),VLOOKUP(I68,Feuil1!$A$11:$F$29,2))))),IF(OR(H68=\"SEN\",H68<1995),VLOOKUP(I68,Feuil1!$G$11:$L$25,6),IF(AND(H68>1994,H68<1998),VLOOKUP(I68,Feuil1!$G$11:$L$25,5),IF(AND(H68>1997,H68<2000),VLOOKUP(I68,Feuil1!$G$11:$L$25,4),IF(AND(H68>1999,H68<2002),VLOOKUP(I68,Feuil1!$G$11:$L$25,3),VLOOKUP(I68,Feuil1!$G$11:$L$25,2)))))))","v":"S69"},281.93647182059044,null," ",{"$f":"T68-HLOOKUP(X68,Feuil1!$C$1:$BL$10,2,FALSE)","v":75},{"$f":"T68-HLOOKUP(X68,Feuil1!$C$1:$BL$10,3,FALSE)","v":55},{"$f":"T68-HLOOKUP(X68,Feuil1!$C$1:$BL$10,4,FALSE)","v":35},{"$f":"T68-HLOOKUP(X68,Feuil1!$C$1:$BL$10,5,FALSE)","v":15},{"$f":"T68-HLOOKUP(X68,Feuil1!$C$1:$BL$10,6,FALSE)","v":-15},{"$f":"T68-HLOOKUP(X68,Feuil1!$C$1:$BL$10,7,FALSE)","v":-35},{"$f":"T68-HLOOKUP(X68,Feuil1!$C$1:$BL$10,8,FALSE)","v":-55},{"$f":"T68-HLOOKUP(X68,Feuil1!$C$1:$BL$10,9,FALSE)","v":-70},{"$f":"T68-HLOOKUP(X68,Feuil1!$C$1:$BL$10,10,FALSE)","v":-85},null,null,null,null,null,null,"IRG +"]
["H","Nord","IDF",12,295954,"DE MESQUITA","Jérémy",1988,69,"SC Neuilly","F",90,-95,-100,90,-110,110,115,115,205,67,"IRG +",15,{"$f":"IF(I69=\"\",\"\",IF(A69=\"H\",IF(OR(H69=\"SEN\",H69<1995),VLOOKUP(I69,Feuil1!$A$11:$F$29,6),IF(AND(H69>1994,H69<1998),VLOOKUP(I69,Feuil1!$A$11:$F$29,5),IF(AND(H69>1997,H69<2000),VLOOKUP(I69,Feuil1!$A$11:$F$29,4),IF(AND(H69>1999,H69<2002),VLOOKUP(I69,Feuil1!$A$11:$F$29,3),VLOOKUP(I69,Feuil1!$A$11:$F$29,2))))),IF(OR(H69=\"SEN\",H69<1995),VLOOKUP(I69,Feuil1!$G$11:$L$25,6),IF(AND(H69>1994,H69<1998),VLOOKUP(I69,Feuil1!$G$11:$L$25,5),IF(AND(H69>1997,H69<2000),VLOOKUP(I69,Feuil1!$G$11:$L$25,4),IF(AND(H69>1999,H69<2002),VLOOKUP(I69,Feuil1!$G$11:$L$25,3),VLOOKUP(I69,Feuil1!$G$11:$L$25,2)))))))","v":"S69"},275.77820846990062,null," ",{"$f":"T69-HLOOKUP(X69,Feuil1!$C$1:$BL$10,2,FALSE)","v":75},{"$f":"T69-HLOOKUP(X69,Feuil1!$C$1:$BL$10,3,FALSE)","v":55},{"$f":"T69-HLOOKUP(X69,Feuil1!$C$1:$BL$10,4,FALSE)","v":35},{"$f":"T69-HLOOKUP(X69,Feuil1!$C$1:$BL$10,5,FALSE)","v":15},{"$f":"T69-HLOOKUP(X69,Feuil1!$C$1:$BL$10,6,FALSE)","v":-15},{"$f":"T69-HLOOKUP(X69,Feuil1!$C$1:$BL$10,7,FALSE)","v":-35},{"$f":"T69-HLOOKUP(X69,Feuil1!$C$1:$BL$10,8,FALSE)","v":-55},{"$f":"T69-HLOOKUP(X69,Feuil1!$C$1:$BL$10,9,FALSE)","v":-70},{"$f":"T69-HLOOKUP(X69,Feuil1!$C$1:$BL$10,10,FALSE)","v":-85},null,null,null,null,null,null,"IRG +"]
["H","DOM","REU",13,366168,"RICHARD","Cédric",1985,68.099999999999994,"SCHM Saint Paul","F",83,-90,90,90,-100,100,-102,100,190,53.800000000000011,"IRG +",0,{"$f":"IF(I70=\"\",\"\",IF(A70=\"H\",IF(OR(H70=\"SEN\",H70<1995),VLOOKUP(I70,Feuil1!$A$11:$F$29,6),IF(AND(H70>1994,H70<1998),VLOOKUP(I70,Feuil1!$A$11:$F$29,5),IF(AND(H70>1997,H70<2000),VLOOKUP(I70,Feuil1!$A$11:$F$29,4),IF(AND(H70>1999,H70<2002),VLOOKUP(I70,Feuil1!$A$11:$F$29,3),VLOOKUP(I70,Feuil1!$A$11:$F$29,2))))),IF(OR(H70=\"SEN\",H70<1995),VLOOKUP(I70,Feuil1!$G$11:$L$25,6),IF(AND(H70>1994,H70<1998),VLOOKUP(I70,Feuil1!$G$11:$L$25,5),IF(AND(H70>1997,H70<2000),VLOOKUP(I70,Feuil1!$G$11:$L$25,4),IF(AND(H70>1999,H70<2002),VLOOKUP(I70,Feuil1!$G$11:$L$25,3),VLOOKUP(I70,Feuil1!$G$11:$L$25,2)))))))","v":"S69"},257.77056318725477,null," ",{"$f":"T70-HLOOKUP(X70,Feuil1!$C$1:$BL$10,2,FALSE)","v":60},{"$f":"T70-HLOOKUP(X70,Feuil1!$C$1:$BL$10,3,FALSE)","v":40},{"$f":"T70-HLOOKUP(X70,Feuil1!$C$1:$BL$10,4,FALSE)","v":20},{"$f":"T70-HLOOKUP(X70,Feuil1!$C$1:$BL$10,5,FALSE)","v":0},{"$f":"T70-HLOOKUP(X70,Feuil1!$C$1:$BL$10,6,FALSE)","v":-30},{"$f":"T70-HLOOKUP(X70,Feuil1!$C$1:$BL$10,7,FALSE)","v":-50},{"$f":"T70-HLOOKUP(X70,Feuil1!$C$1:$BL$10,8,FALSE)","v":-70},{"$f":"T70-HLOOKUP(X70,Feuil1!$C$1:$BL$10,9,FALSE)","v":-85},{"$f":"T70-HLOOKUP(X70,Feuil1!$C$1:$BL$10,10,FALSE)","v":-100},null,null,null,null,null,null,"IRG +"]
["H","NE","ALS",14,141114,"FAESSEL","Loic",1991,68.989999999999995,"SA Koenigshoffen","F",80,85,-87,85,100,105,-108,105,190,52.02000000000001,"IRG +",0,{"$f":"IF(I71=\"\",\"\",IF(A71=\"H\",IF(OR(H71=\"SEN\",H71<1995),VLOOKUP(I71,Feuil1!$A$11:$F$29,6),IF(AND(H71>1994,H71<1998),VLOOKUP(I71,Feuil1!$A$11:$F$29,5),IF(AND(H71>1997,H71<2000),VLOOKUP(I71,Feuil1!$A$11:$F$29,4),IF(AND(H71>1999,H71<2002),VLOOKUP(I71,Feuil1!$A$11:$F$29,3),VLOOKUP(I71,Feuil1!$A$11:$F$29,2))))),IF(OR(H71=\"SEN\",H71<1995),VLOOKUP(I71,Feuil1!$G$11:$L$25,6),IF(AND(H71>1994,H71<1998),VLOOKUP(I71,Feuil1!$G$11:$L$25,5),IF(AND(H71>1997,H71<2000),VLOOKUP(I71,Feuil1!$G$11:$L$25,4),IF(AND(H71>1999,H71<2002),VLOOKUP(I71,Feuil1!$G$11:$L$25,3),VLOOKUP(I71,Feuil1!$G$11:$L$25,2)))))))","v":"S69"},255.62301812307291,null," ",{"$f":"T71-HLOOKUP(X71,Feuil1!$C$1:$BL$10,2,FALSE)","v":60},{"$f":"T71-HLOOKUP(X71,Feuil1!$C$1:$BL$10,3,FALSE)","v":40},{"$f":"T71-HLOOKUP(X71,Feuil1!$C$1:$BL$10,4,FALSE)","v":20},{"$f":"T71-HLOOKUP(X71,Feuil1!$C$1:$BL$10,5,FALSE)","v":0},{"$f":"T71-HLOOKUP(X71,Feuil1!$C$1:$BL$10,6,FALSE)","v":-30},{"$f":"T71-HLOOKUP(X71,Feuil1!$C$1:$BL$10,7,FALSE)","v":-50},{"$f":"T71-HLOOKUP(X71,Feuil1!$C$1:$BL$10,8,FALSE)","v":-70},{"$f":"T71-HLOOKUP(X71,Feuil1!$C$1:$BL$10,9,FALSE)","v":-85},{"$f":"T71-HLOOKUP(X71,Feuil1!$C$1:$BL$10,10,FALSE)","v":-100},null,null,null,null,null,null,"IRG +"]
["H","NE","ALS",15,5861,"GORTH","Alexandre",1984,68.459999999999994,"HCA Selestat","F",78,83,-87,83,100,106,-108,106,189,52.080000000000013,"REG +",19,{"$f":"IF(I72=\"\",\"\",IF(A72=\"H\",IF(OR(H72=\"SEN\",H72<1995),VLOOKUP(I72,Feuil1!$A$11:$F$29,6),IF(AND(H72>1994,H72<1998),VLOOKUP(I72,Feuil1!$A$11:$F$29,5),IF(AND(H72>1997,H72<2000),VLOOKUP(I72,Feuil1!$A$11:$F$29,4),IF(AND(H72>1999,H72<2002),VLOOKUP(I72,Feuil1!$A$11:$F$29,3),VLOOKUP(I72,Feuil1!$A$11:$F$29,2))))),IF(OR(H72=\"SEN\",H72<1995),VLOOKUP(I72,Feuil1!$G$11:$L$25,6),IF(AND(H72>1994,H72<1998),VLOOKUP(I72,Feuil1!$G$11:$L$25,5),IF(AND(H72>1997,H72<2000),VLOOKUP(I72,Feuil1!$G$11:$L$25,4),IF(AND(H72>1999,H72<2002),VLOOKUP(I72,Feuil1!$G$11:$L$25,3),VLOOKUP(I72,Feuil1!$G$11:$L$25,2)))))))","v":"S69"},255.54069431060816,null," ",{"$f":"T72-HLOOKUP(X72,Feuil1!$C$1:$BL$10,2,FALSE)","v":59},{"$f":"T72-HLOOKUP(X72,Feuil1!$C$1:$BL$10,3,FALSE)","v":39},{"$f":"T72-HLOOKUP(X72,Feuil1!$C$1:$BL$10,4,FALSE)","v":19},{"$f":"T72-HLOOKUP(X72,Feuil1!$C$1:$BL$10,5,FALSE)","v":-1},{"$f":"T72-HLOOKUP(X72,Feuil1!$C$1:$BL$10,6,FALSE)","v":-31},{"$f":"T72-HLOOKUP(X72,Feuil1!$C$1:$BL$10,7,FALSE)","v":-51},{"$f":"T72-HLOOKUP(X72,Feuil1!$C$1:$BL$10,8,FALSE)","v":-71},{"$f":"T72-HLOOKUP(X72,Feuil1!$C$1:$BL$10,9,FALSE)","v":-86},{"$f":"T72-HLOOKUP(X72,Feuil1!$C$1:$BL$10,10,FALSE)","v":-101},null,null,null,null,null,null,"REG +"]
["H","DOM","REU",16,118313,"LEBLE","JEAN LOUIS",1960,68.400000000000006,"SCHM St Paul","F",73,77,-83,77,102,107,-112,107,184,47.199999999999989,"REG +",14,{"$f":"IF(I73=\"\",\"\",IF(A73=\"H\",IF(OR(H73=\"SEN\",H73<1995),VLOOKUP(I73,Feuil1!$A$11:$F$29,6),IF(AND(H73>1994,H73<1998),VLOOKUP(I73,Feuil1!$A$11:$F$29,5),IF(AND(H73>1997,H73<2000),VLOOKUP(I73,Feuil1!$A$11:$F$29,4),IF(AND(H73>1999,H73<2002),VLOOKUP(I73,Feuil1!$A$11:$F$29,3),VLOOKUP(I73,Feuil1!$A$11:$F$29,2))))),IF(OR(H73=\"SEN\",H73<1995),VLOOKUP(I73,Feuil1!$G$11:$L$25,6),IF(AND(H73>1994,H73<1998),VLOOKUP(I73,Feuil1!$G$11:$L$25,5),IF(AND(H73>1997,H73<2000),VLOOKUP(I73,Feuil1!$G$11:$L$25,4),IF(AND(H73>1999,H73<2002),VLOOKUP(I73,Feuil1!$G$11:$L$25,3),VLOOKUP(I73,Feuil1!$G$11:$L$25,2)))))))","v":"S69"},248.92119596195306,null," ",{"$f":"T73-HLOOKUP(X73,Feuil1!$C$1:$BL$10,2,FALSE)","v":54},{"$f":"T73-HLOOKUP(X73,Feuil1!$C$1:$BL$10,3,FALSE)","v":34},{"$f":"T73-HLOOKUP(X73,Feuil1!$C$1:$BL$10,4,FALSE)","v":14},{"$f":"T73-HLOOKUP(X73,Feuil1!$C$1:$BL$10,5,FALSE)","v":-6},{"$f":"T73-HLOOKUP(X73,Feuil1!$C$1:$BL$10,6,FALSE)","v":-36},{"$f":"T73-HLOOKUP(X73,Feuil1!$C$1:$BL$10,7,FALSE)","v":-56},{"$f":"T73-HLOOKUP(X73,Feuil1!$C$1:$BL$10,8,FALSE)","v":-76},{"$f":"T73-HLOOKUP(X73,Feuil1!$C$1:$BL$10,9,FALSE)","v":-91},{"$f":"T73-HLOOKUP(X73,Feuil1!$C$1:$BL$10,10,FALSE)","v":-106},null,null,null,null,null,null,"REG +"]
["H","Nord","IDF","NC",245354,"FICO","Enzo",1990,68.55,"Rueil AC","F",-105,-105,105,{"$f":"IF(H74=\"\",\"\",IF(MAXA(L74:N74)<=0,0,MAXA(L74:N74)))","v":105},-115,-115,-115,{"$f":"IF(H74=\"\",\"\",IF(MAXA(P74:R74)<=0,0,MAXA(P74:R74)))","v":0},{"$f":"IF(H74=\"\",\"\",IF(OR(O74=0,S74=0),0,O74+S74))","v":0},{"$f":"T74-I74*2","v":-137.1},{"$f":"IF(H74=\"\",\"\",AQ74)","v":"DEB "},{"$f":"IF(AJ74>=0,AJ74,IF(AI74>=0,AI74,IF(AH74>=0,AH74,IF(AG74>=0,AG74,IF(AF74>=0,AF74,IF(AE74>=0,AE74,IF(AD74>=0,AD74,IF(AC74>=0,AC74,AB74))))))))","v":-130},{"$f":"IF(I74=\"\",\"\",IF(A74=\"H\",IF(OR(H74=\"SEN\",H74<1995),VLOOKUP(I74,Feuil1!$A$11:$F$29,6),IF(AND(H74>1994,H74<1998),VLOOKUP(I74,Feuil1!$A$11:$F$29,5),IF(AND(H74>1997,H74<2000),VLOOKUP(I74,Feuil1!$A$11:$F$29,4),IF(AND(H74>1999,H74<2002),VLOOKUP(I74,Feuil1!$A$11:$F$29,3),VLOOKUP(I74,Feuil1!$A$11:$F$29,2))))),IF(OR(H74=\"SEN\",H74<1995),VLOOKUP(I74,Feuil1!$G$11:$L$25,6),IF(AND(H74>1994,H74<1998),VLOOKUP(I74,Feuil1!$G$11:$L$25,5),IF(AND(H74>1997,H74<2000),VLOOKUP(I74,Feuil1!$G$11:$L$25,4),IF(AND(H74>1999,H74<2002),VLOOKUP(I74,Feuil1!$G$11:$L$25,3),VLOOKUP(I74,Feuil1!$G$11:$L$25,2)))))))","v":"S69"},{"$f":"IF(I74=\"\",\"\",IF(A74=\"H\",10^(0.794358141*LOG(I74/174.393)^2)*T74,IF(A74=\"F\",10^(0.89726074*LOG(I74/148.026)^2)*T74,\"\")))","v":0},null," ",{"$f":"T74-HLOOKUP(X74,Feuil1!$C$1:$BL$10,2,FALSE)","v":-130},{"$f":"T74-HLOOKUP(X74,Feuil1!$C$1:$BL$10,3,FALSE)","v":-150},{"$f":"T74-HLOOKUP(X74,Feuil1!$C$1:$BL$10,4,FALSE)","v":-170},{"$f":"T74-HLOOKUP(X74,Feuil1!$C$1:$BL$10,5,FALSE)","v":-190},{"$f":"T74-HLOOKUP(X74,Feuil1!$C$1:$BL$10,6,FALSE)","v":-220},{"$f":"T74-HLOOKUP(X74,Feuil1!$C$1:$BL$10,7,FALSE)","v":-240},{"$f":"T74-HLOOKUP(X74,Feuil1!$C$1:$BL$10,8,FALSE)","v":-260},{"$f":"T74-HLOOKUP(X74,Feuil1!$C$1:$BL$10,9,FALSE)","v":-275},{"$f":"T74-HLOOKUP(X74,Feuil1!$C$1:$BL$10,10,FALSE)","v":-290},null,null,null,null,null,null,{"$f":"IF(AJ74>=0,$AJ$4,IF(AI74>=0,$AI$4,IF(AH74>=0,$AH$4,IF(AG74>=0,$AG$4,IF(AF74>=0,$AF$4,IF(AE74>=0,$AE$4,IF(AD74>=0,$AD$4,IF(AC74>=0,$AC$4,$AB$4))))))))","v":"DEB "}]
["H","Nord","NPC","NC",2579,"FONTENELLE","Ludovic",1979,68.400000000000006,"CHCD Comines","F",-95,95,98,{"$f":"IF(H75=\"\",\"\",IF(MAXA(L75:N75)<=0,0,MAXA(L75:N75)))","v":98},-116,-116,-118,{"$f":"IF(H75=\"\",\"\",IF(MAXA(P75:R75)<=0,0,MAXA(P75:R75)))","v":0},{"$f":"IF(H75=\"\",\"\",IF(OR(O75=0,S75=0),0,O75+S75))","v":0},{"$f":"T75-I75*2","v":-136.80000000000001},{"$f":"IF(H75=\"\",\"\",AQ75)","v":"DEB "},{"$f":"IF(AJ75>=0,AJ75,IF(AI75>=0,AI75,IF(AH75>=0,AH75,IF(AG75>=0,AG75,IF(AF75>=0,AF75,IF(AE75>=0,AE75,IF(AD75>=0,AD75,IF(AC75>=0,AC75,AB75))))))))","v":-130},{"$f":"IF(I75=\"\",\"\",IF(A75=\"H\",IF(OR(H75=\"SEN\",H75<1995),VLOOKUP(I75,Feuil1!$A$11:$F$29,6),IF(AND(H75>1994,H75<1998),VLOOKUP(I75,Feuil1!$A$11:$F$29,5),IF(AND(H75>1997,H75<2000),VLOOKUP(I75,Feuil1!$A$11:$F$29,4),IF(AND(H75>1999,H75<2002),VLOOKUP(I75,Feuil1!$A$11:$F$29,3),VLOOKUP(I75,Feuil1!$A$11:$F$29,2))))),IF(OR(H75=\"SEN\",H75<1995),VLOOKUP(I75,Feuil1!$G$11:$L$25,6),IF(AND(H75>1994,H75<1998),VLOOKUP(I75,Feuil1!$G$11:$L$25,5),IF(AND(H75>1997,H75<2000),VLOOKUP(I75,Feuil1!$G$11:$L$25,4),IF(AND(H75>1999,H75<2002),VLOOKUP(I75,Feuil1!$G$11:$L$25,3),VLOOKUP(I75,Feuil1!$G$11:$L$25,2)))))))","v":"S69"},{"$f":"IF(I75=\"\",\"\",IF(A75=\"H\",10^(0.794358141*LOG(I75/174.393)^2)*T75,IF(A75=\"F\",10^(0.89726074*LOG(I75/148.026)^2)*T75,\"\")))","v":0},null," ",{"$f":"T75-HLOOKUP(X75,Feuil1!$C$1:$BL$10,2,FALSE)","v":-130},{"$f":"T75-HLOOKUP(X75,Feuil1!$C$1:$BL$10,3,FALSE)","v":-150},{"$f":"T75-HLOOKUP(X75,Feuil1!$C$1:$BL$10,4,FALSE)","v":-170},{"$f":"T75-HLOOKUP(X75,Feuil1!$C$1:$BL$10,5,FALSE)","v":-190},{"$f":"T75-HLOOKUP(X75,Feuil1!$C$1:$BL$10,6,FALSE)","v":-220},{"$f":"T75-HLOOKUP(X75,Feuil1!$C$1:$BL$10,7,FALSE)","v":-240},{"$f":"T75-HLOOKUP(X75,Feuil1!$C$1:$BL$10,8,FALSE)","v":-260},{"$f":"T75-HLOOKUP(X75,Feuil1!$C$1:$BL$10,9,FALSE)","v":-275},{"$f":"T75-HLOOKUP(X75,Feuil1!$C$1:$BL$10,10,FALSE)","v":-290},null,null,null,null,null,null,{"$f":"IF(AJ75>=0,$AJ$4,IF(AI75>=0,$AI$4,IF(AH75>=0,$AH$4,IF(AG75>=0,$AG$4,IF(AF75>=0,$AF$4,IF(AE75>=0,$AE$4,IF(AD75>=0,$AD$4,IF(AC75>=0,$AC$4,$AB$4))))))))","v":"DEB "}]
["H","NE","ALS","NC",145070,"GERBER","Sébastien",1993,68.989999999999995,"SR Obernai HM","F",90,95,-97,{"$f":"IF(H76=\"\",\"\",IF(MAXA(L76:N76)<=0,0,MAXA(L76:N76)))","v":95},-120,-125,-125,{"$f":"IF(H76=\"\",\"\",IF(MAXA(P76:R76)<=0,0,MAXA(P76:R76)))","v":0},{"$f":"IF(H76=\"\",\"\",IF(OR(O76=0,S76=0),0,O76+S76))","v":0},{"$f":"T76-I76*2","v":-137.97999999999999},{"$f":"IF(H76=\"\",\"\",AQ76)","v":"DEB "},{"$f":"IF(AJ76>=0,AJ76,IF(AI76>=0,AI76,IF(AH76>=0,AH76,IF(AG76>=0,AG76,IF(AF76>=0,AF76,IF(AE76>=0,AE76,IF(AD76>=0,AD76,IF(AC76>=0,AC76,AB76))))))))","v":-130},{"$f":"IF(I76=\"\",\"\",IF(A76=\"H\",IF(OR(H76=\"SEN\",H76<1995),VLOOKUP(I76,Feuil1!$A$11:$F$29,6),IF(AND(H76>1994,H76<1998),VLOOKUP(I76,Feuil1!$A$11:$F$29,5),IF(AND(H76>1997,H76<2000),VLOOKUP(I76,Feuil1!$A$11:$F$29,4),IF(AND(H76>1999,H76<2002),VLOOKUP(I76,Feuil1!$A$11:$F$29,3),VLOOKUP(I76,Feuil1!$A$11:$F$29,2))))),IF(OR(H76=\"SEN\",H76<1995),VLOOKUP(I76,Feuil1!$G$11:$L$25,6),IF(AND(H76>1994,H76<1998),VLOOKUP(I76,Feuil1!$G$11:$L$25,5),IF(AND(H76>1997,H76<2000),VLOOKUP(I76,Feuil1!$G$11:$L$25,4),IF(AND(H76>1999,H76<2002),VLOOKUP(I76,Feuil1!$G$11:$L$25,3),VLOOKUP(I76,Feuil1!$G$11:$L$25,2)))))))","v":"S69"},{"$f":"IF(I76=\"\",\"\",IF(A76=\"H\",10^(0.794358141*LOG(I76/174.393)^2)*T76,IF(A76=\"F\",10^(0.89726074*LOG(I76/148.026)^2)*T76,\"\")))","v":0},null," ",{"$f":"T76-HLOOKUP(X76,Feuil1!$C$1:$BL$10,2,FALSE)","v":-130},{"$f":"T76-HLOOKUP(X76,Feuil1!$C$1:$BL$10,3,FALSE)","v":-150},{"$f":"T76-HLOOKUP(X76,Feuil1!$C$1:$BL$10,4,FALSE)","v":-170},{"$f":"T76-HLOOKUP(X76,Feuil1!$C$1:$BL$10,5,FALSE)","v":-190},{"$f":"T76-HLOOKUP(X76,Feuil1!$C$1:$BL$10,6,FALSE)","v":-220},{"$f":"T76-HLOOKUP(X76,Feuil1!$C$1:$BL$10,7,FALSE)","v":-240},{"$f":"T76-HLOOKUP(X76,Feuil1!$C$1:$BL$10,8,FALSE)","v":-260},{"$f":"T76-HLOOKUP(X76,Feuil1!$C$1:$BL$10,9,FALSE)","v":-275},{"$f":"T76-HLOOKUP(X76,Feuil1!$C$1:$BL$10,10,FALSE)","v":-290},null,null,null,null,null,null,{"$f":"IF(AJ76>=0,$AJ$4,IF(AI76>=0,$AI$4,IF(AH76>=0,$AH$4,IF(AG76>=0,$AG$4,IF(AF76>=0,$AF$4,IF(AE76>=0,$AE$4,IF(AD76>=0,$AD$4,IF(AC76>=0,$AC$4,$AB$4))))))))","v":"DEB "}]
["H","NE","CHA","NC",323378,"CHOL","Nicolas",1986,67.66,"Reims HM","F",76,-80,80,{"$f":"IF(H77=\"\",\"\",IF(MAXA(L77:N77)<=0,0,MAXA(L77:N77)))","v":80},-107,-107,-107,{"$f":"IF(H77=\"\",\"\",IF(MAXA(P77:R77)<=0,0,MAXA(P77:R77)))","v":0},{"$f":"IF(H77=\"\",\"\",IF(OR(O77=0,S77=0),0,O77+S77))","v":0},{"$f":"T77-I77*2","v":-135.32},{"$f":"IF(H77=\"\",\"\",AQ77)","v":"DEB "},{"$f":"IF(AJ77>=0,AJ77,IF(AI77>=0,AI77,IF(AH77>=0,AH77,IF(AG77>=0,AG77,IF(AF77>=0,AF77,IF(AE77>=0,AE77,IF(AD77>=0,AD77,IF(AC77>=0,AC77,AB77))))))))","v":-130},{"$f":"IF(I77=\"\",\"\",IF(A77=\"H\",IF(OR(H77=\"SEN\",H77<1995),VLOOKUP(I77,Feuil1!$A$11:$F$29,6),IF(AND(H77>1994,H77<1998),VLOOKUP(I77,Feuil1!$A$11:$F$29,5),IF(AND(H77>1997,H77<2000),VLOOKUP(I77,Feuil1!$A$11:$F$29,4),IF(AND(H77>1999,H77<2002),VLOOKUP(I77,Feuil1!$A$11:$F$29,3),VLOOKUP(I77,Feuil1!$A$11:$F$29,2))))),IF(OR(H77=\"SEN\",H77<1995),VLOOKUP(I77,Feuil1!$G$11:$L$25,6),IF(AND(H77>1994,H77<1998),VLOOKUP(I77,Feuil1!$G$11:$L$25,5),IF(AND(H77>1997,H77<2000),VLOOKUP(I77,Feuil1!$G$11:$L$25,4),IF(AND(H77>1999,H77<2002),VLOOKUP(I77,Feuil1!$G$11:$L$25,3),VLOOKUP(I77,Feuil1!$G$11:$L$25,2)))))))","v":"S69"},{"$f":"IF(I77=\"\",\"\",IF(A77=\"H\",10^(0.794358141*LOG(I77/174.393)^2)*T77,IF(A77=\"F\",10^(0.89726074*LOG(I77/148.026)^2)*T77,\"\")))","v":0},null," ",{"$f":"T77-HLOOKUP(X77,Feuil1!$C$1:$BL$10,2,FALSE)","v":-130},{"$f":"T77-HLOOKUP(X77,Feuil1!$C$1:$BL$10,3,FALSE)","v":-150},{"$f":"T77-HLOOKUP(X77,Feuil1!$C$1:$BL$10,4,FALSE)","v":-170},{"$f":"T77-HLOOKUP(X77,Feuil1!$C$1:$BL$10,5,FALSE)","v":-190},{"$f":"T77-HLOOKUP(X77,Feuil1!$C$1:$BL$10,6,FALSE)","v":-220},{"$f":"T77-HLOOKUP(X77,Feuil1!$C$1:$BL$10,7,FALSE)","v":-240},{"$f":"T77-HLOOKUP(X77,Feuil1!$C$1:$BL$10,8,FALSE)","v":-260},{"$f":"T77-HLOOKUP(X77,Feuil1!$C$1:$BL$10,9,FALSE)","v":-275},{"$f":"T77-HLOOKUP(X77,Feuil1!$C$1:$BL$10,10,FALSE)","v":-290},null,null,null,null,null,null,{"$f":"IF(AJ77>=0,$AJ$4,IF(AI77>=0,$AI$4,IF(AH77>=0,$AH$4,IF(AG77>=0,$AG$4,IF(AF77>=0,$AF$4,IF(AE77>=0,$AE$4,IF(AD77>=0,$AD$4,IF(AC77>=0,$AC$4,$AB$4))))))))","v":"DEB "}]
[]
["H","NE","CHA",1,106238,"DIJOUX","Romain",1989,76.67,"Reims HM","F",115,120,-123,{"$f":"IF(H79=\"\",\"\",IF(MAXA(L79:N79)<=0,0,MAXA(L79:N79)))","v":120},145,"-","-",{"$f":"IF(H79=\"\",\"\",IF(MAXA(P79:R79)<=0,0,MAXA(P79:R79)))","v":145},{"$f":"IF(H79=\"\",\"\",IF(OR(O79=0,S79=0),0,O79+S79))","v":265},{"$f":"T79-I79*2","v":111.66},{"$f":"IF(H79=\"\",\"\",AQ79)","v":"NAT +"},{"$f":"IF(AJ79>=0,AJ79,IF(AI79>=0,AI79,IF(AH79>=0,AH79,IF(AG79>=0,AG79,IF(AF79>=0,AF79,IF(AE79>=0,AE79,IF(AD79>=0,AD79,IF(AC79>=0,AC79,AB79))))))))","v":0},{"$f":"IF(I79=\"\",\"\",IF(A79=\"H\",IF(OR(H79=\"SEN\",H79<1995),VLOOKUP(I79,Feuil1!$A$11:$F$29,6),IF(AND(H79>1994,H79<1998),VLOOKUP(I79,Feuil1!$A$11:$F$29,5),IF(AND(H79>1997,H79<2000),VLOOKUP(I79,Feuil1!$A$11:$F$29,4),IF(AND(H79>1999,H79<2002),VLOOKUP(I79,Feuil1!$A$11:$F$29,3),VLOOKUP(I79,Feuil1!$A$11:$F$29,2))))),IF(OR(H79=\"SEN\",H79<1995),VLOOKUP(I79,Feuil1!$G$11:$L$25,6),IF(AND(H79>1994,H79<1998),VLOOKUP(I79,Feuil1!$G$11:$L$25,5),IF(AND(H79>1997,H79<2000),VLOOKUP(I79,Feuil1!$G$11:$L$25,4),IF(AND(H79>1999,H79<2002),VLOOKUP(I79,Feuil1!$G$11:$L$25,3),VLOOKUP(I79,Feuil1!$G$11:$L$25,2)))))))","v":"S77"},{"$f":"IF(I79=\"\",\"\",IF(A79=\"H\",10^(0.794358141*LOG(I79/174.393)^2)*T79,IF(A79=\"F\",10^(0.89726074*LOG(I79/148.026)^2)*T79,\"\")))","v":334.52713293163811},null," ",{"$f":"T79-HLOOKUP(X79,Feuil1!$C$1:$BL$10,2,FALSE)","v":115},{"$f":"T79-HLOOKUP(X79,Feuil1!$C$1:$BL$10,3,FALSE)","v":95},{"$f":"T79-HLOOKUP(X79,Feuil1!$C$1:$BL$10,4,FALSE)","v":75},{"$f":"T79-HLOOKUP(X79,Feuil1!$C$1:$BL$10,5,FALSE)","v":55},{"$f":"T79-HLOOKUP(X79,Feuil1!$C$1:$BL$10,6,FALSE)","v":25},{"$f":"T79-HLOOKUP(X79,Feuil1!$C$1:$BL$10,7,FALSE)","v":0},{"$f":"T79-HLOOKUP(X79,Feuil1!$C$1:$BL$10,8,FALSE)","v":-20},{"$f":"T79-HLOOKUP(X79,Feuil1!$C$1:$BL$10,9,FALSE)","v":-40},{"$f":"T79-HLOOKUP(X79,Feuil1!$C$1:$BL$10,10,FALSE)","v":-55},null,null,null,null,null,null,{"$f":"IF(AJ79>=0,$AJ$4,IF(AI79>=0,$AI$4,IF(AH79>=0,$AH$4,IF(AG79>=0,$AG$4,IF(AF79>=0,$AF$4,IF(AE79>=0,$AE$4,IF(AD79>=0,$AD$4,IF(AC79>=0,$AC$4,$AB$4))))))))","v":"NAT +"}]
["H","Nord","NPC",2,211179,"BUYSSCHAERT","Nathan",1994,70.599999999999994,"CHCD Comines","F",115,119,-122,119,138,-146,-146,138,257,115.80000000000001,"FED +",17,{"$f":"IF(I80=\"\",\"\",IF(A80=\"H\",IF(OR(H80=\"SEN\",H80<1995),VLOOKUP(I80,Feuil1!$A$11:$F$29,6),IF(AND(H80>1994,H80<1998),VLOOKUP(I80,Feuil1!$A$11:$F$29,5),IF(AND(H80>1997,H80<2000),VLOOKUP(I80,Feuil1!$A$11:$F$29,4),IF(AND(H80>1999,H80<2002),VLOOKUP(I80,Feuil1!$A$11:$F$29,3),VLOOKUP(I80,Feuil1!$A$11:$F$29,2))))),IF(OR(H80=\"SEN\",H80<1995),VLOOKUP(I80,Feuil1!$G$11:$L$25,6),IF(AND(H80>1994,H80<1998),VLOOKUP(I80,Feuil1!$G$11:$L$25,5),IF(AND(H80>1997,H80<2000),VLOOKUP(I80,Feuil1!$G$11:$L$25,4),IF(AND(H80>1999,H80<2002),VLOOKUP(I80,Feuil1!$G$11:$L$25,3),VLOOKUP(I80,Feuil1!$G$11:$L$25,2)))))))","v":"S77"},340.76022504749062,null," ",{"$f":"T80-HLOOKUP(X80,Feuil1!$C$1:$BL$10,2,FALSE)","v":107},{"$f":"T80-HLOOKUP(X80,Feuil1!$C$1:$BL$10,3,FALSE)","v":87},{"$f":"T80-HLOOKUP(X80,Feuil1!$C$1:$BL$10,4,FALSE)","v":67},{"$f":"T80-HLOOKUP(X80,Feuil1!$C$1:$BL$10,5,FALSE)","v":47},{"$f":"T80-HLOOKUP(X80,Feuil1!$C$1:$BL$10,6,FALSE)","v":17},{"$f":"T80-HLOOKUP(X80,Feuil1!$C$1:$BL$10,7,FALSE)","v":-8},{"$f":"T80-HLOOKUP(X80,Feuil1!$C$1:$BL$10,8,FALSE)","v":-28},{"$f":"T80-HLOOKUP(X80,Feuil1!$C$1:$BL$10,9,FALSE)","v":-48},{"$f":"T80-HLOOKUP(X80,Feuil1!$C$1:$BL$10,10,FALSE)","v":-63},null,null,null,null,null,null,"FED +"]
["H","Nord","IDF",3,38385,"MÉLOU","Yohann",1985,76.53,"Rueil AC","F",103,-107,-107,103,128,133,-137,133,236,82.94,"IRG +",26,{"$f":"IF(I81=\"\",\"\",IF(A81=\"H\",IF(OR(H81=\"SEN\",H81<1995),VLOOKUP(I81,Feuil1!$A$11:$F$29,6),IF(AND(H81>1994,H81<1998),VLOOKUP(I81,Feuil1!$A$11:$F$29,5),IF(AND(H81>1997,H81<2000),VLOOKUP(I81,Feuil1!$A$11:$F$29,4),IF(AND(H81>1999,H81<2002),VLOOKUP(I81,Feuil1!$A$11:$F$29,3),VLOOKUP(I81,Feuil1!$A$11:$F$29,2))))),IF(OR(H81=\"SEN\",H81<1995),VLOOKUP(I81,Feuil1!$G$11:$L$25,6),IF(AND(H81>1994,H81<1998),VLOOKUP(I81,Feuil1!$G$11:$L$25,5),IF(AND(H81>1997,H81<2000),VLOOKUP(I81,Feuil1!$G$11:$L$25,4),IF(AND(H81>1999,H81<2002),VLOOKUP(I81,Feuil1!$G$11:$L$25,3),VLOOKUP(I81,Feuil1!$G$11:$L$25,2)))))))","v":"S77"},298.22774786662512,null," ",{"$f":"T81-HLOOKUP(X81,Feuil1!$C$1:$BL$10,2,FALSE)","v":86},{"$f":"T81-HLOOKUP(X81,Feuil1!$C$1:$BL$10,3,FALSE)","v":66},{"$f":"T81-HLOOKUP(X81,Feuil1!$C$1:$BL$10,4,FALSE)","v":46},{"$f":"T81-HLOOKUP(X81,Feuil1!$C$1:$BL$10,5,FALSE)","v":26},{"$f":"T81-HLOOKUP(X81,Feuil1!$C$1:$BL$10,6,FALSE)","v":-4},{"$f":"T81-HLOOKUP(X81,Feuil1!$C$1:$BL$10,7,FALSE)","v":-29},{"$f":"T81-HLOOKUP(X81,Feuil1!$C$1:$BL$10,8,FALSE)","v":-49},{"$f":"T81-HLOOKUP(X81,Feuil1!$C$1:$BL$10,9,FALSE)","v":-69},{"$f":"T81-HLOOKUP(X81,Feuil1!$C$1:$BL$10,10,FALSE)","v":-84},null,null,null,null,null,null,"IRG +"]
["H","Nord","IDF",4,371999,"HASSAINE","Adam",1994,75.27,"Herblay","F",90,100,-105,100,120,130,"-",130,230,79.460000000000008,"IRG +",20,{"$f":"IF(I82=\"\",\"\",IF(A82=\"H\",IF(OR(H82=\"SEN\",H82<1995),VLOOKUP(I82,Feuil1!$A$11:$F$29,6),IF(AND(H82>1994,H82<1998),VLOOKUP(I82,Feuil1!$A$11:$F$29,5),IF(AND(H82>1997,H82<2000),VLOOKUP(I82,Feuil1!$A$11:$F$29,4),IF(AND(H82>1999,H82<2002),VLOOKUP(I82,Feuil1!$A$11:$F$29,3),VLOOKUP(I82,Feuil1!$A$11:$F$29,2))))),IF(OR(H82=\"SEN\",H82<1995),VLOOKUP(I82,Feuil1!$G$11:$L$25,6),IF(AND(H82>1994,H82<1998),VLOOKUP(I82,Feuil1!$G$11:$L$25,5),IF(AND(H82>1997,H82<2000),VLOOKUP(I82,Feuil1!$G$11:$L$25,4),IF(AND(H82>1999,H82<2002),VLOOKUP(I82,Feuil1!$G$11:$L$25,3),VLOOKUP(I82,Feuil1!$G$11:$L$25,2)))))))","v":"S77"},293.42854096618635,null," ",{"$f":"T82-HLOOKUP(X82,Feuil1!$C$1:$BL$10,2,FALSE)","v":80},{"$f":"T82-HLOOKUP(X82,Feuil1!$C$1:$BL$10,3,FALSE)","v":60},{"$f":"T82-HLOOKUP(X82,Feuil1!$C$1:$BL$10,4,FALSE)","v":40},{"$f":"T82-HLOOKUP(X82,Feuil1!$C$1:$BL$10,5,FALSE)","v":20},{"$f":"T82-HLOOKUP(X82,Feuil1!$C$1:$BL$10,6,FALSE)","v":-10},{"$f":"T82-HLOOKUP(X82,Feuil1!$C$1:$BL$10,7,FALSE)","v":-35},{"$f":"T82-HLOOKUP(X82,Feuil1!$C$1:$BL$10,8,FALSE)","v":-55},{"$f":"T82-HLOOKUP(X82,Feuil1!$C$1:$BL$10,9,FALSE)","v":-75},{"$f":"T82-HLOOKUP(X82,Feuil1!$C$1:$BL$10,10,FALSE)","v":-90},null,null,null,null,null,null,"IRG +"]
["H","CO","BNO",5,302189,"FARIA VILACA","Alexandre",1992,75.099999999999994,"Stade St Lois","F",98,101,-104,101,125,-130,-130,125,226,75.800000000000011,"IRG +",16,{"$f":"IF(I83=\"\",\"\",IF(A83=\"H\",IF(OR(H83=\"SEN\",H83<1995),VLOOKUP(I83,Feuil1!$A$11:$F$29,6),IF(AND(H83>1994,H83<1998),VLOOKUP(I83,Feuil1!$A$11:$F$29,5),IF(AND(H83>1997,H83<2000),VLOOKUP(I83,Feuil1!$A$11:$F$29,4),IF(AND(H83>1999,H83<2002),VLOOKUP(I83,Feuil1!$A$11:$F$29,3),VLOOKUP(I83,Feuil1!$A$11:$F$29,2))))),IF(OR(H83=\"SEN\",H83<1995),VLOOKUP(I83,Feuil1!$G$11:$L$25,6),IF(AND(H83>1994,H83<1998),VLOOKUP(I83,Feuil1!$G$11:$L$25,5),IF(AND(H83>1997,H83<2000),VLOOKUP(I83,Feuil1!$G$11:$L$25,4),IF(AND(H83>1999,H83<2002),VLOOKUP(I83,Feuil1!$G$11:$L$25,3),VLOOKUP(I83,Feuil1!$G$11:$L$25,2)))))))","v":"S77"},288.7041387569148,null," ",{"$f":"T83-HLOOKUP(X83,Feuil1!$C$1:$BL$10,2,FALSE)","v":76},{"$f":"T83-HLOOKUP(X83,Feuil1!$C$1:$BL$10,3,FALSE)","v":56},{"$f":"T83-HLOOKUP(X83,Feuil1!$C$1:$BL$10,4,FALSE)","v":36},{"$f":"T83-HLOOKUP(X83,Feuil1!$C$1:$BL$10,5,FALSE)","v":16},{"$f":"T83-HLOOKUP(X83,Feuil1!$C$1:$BL$10,6,FALSE)","v":-14},{"$f":"T83-HLOOKUP(X83,Feuil1!$C$1:$BL$10,7,FALSE)","v":-39},{"$f":"T83-HLOOKUP(X83,Feuil1!$C$1:$BL$10,8,FALSE)","v":-59},{"$f":"T83-HLOOKUP(X83,Feuil1!$C$1:$BL$10,9,FALSE)","v":-79},{"$f":"T83-HLOOKUP(X83,Feuil1!$C$1:$BL$10,10,FALSE)","v":-94},null,null,null,null,null,null,"IRG +"]
["H","CO","PDL",6,127418,"DANIEL","Alexandre",1994,76.7,"CJF Laval-Voutré","F",96,-100,100,100,115,118,121,121,221,67.599999999999994,"IRG +",11,{"$f":"IF(I84=\"\",\"\",IF(A84=\"H\",IF(OR(H84=\"SEN\",H84<1995),VLOOKUP(I84,Feuil1!$A$11:$F$29,6),IF(AND(H84>1994,H84<1998),VLOOKUP(I84,Feuil1!$A$11:$F$29,5),IF(AND(H84>1997,H84<2000),VLOOKUP(I84,Feuil1!$A$11:$F$29,4),IF(AND(H84>1999,H84<2002),VLOOKUP(I84,Feuil1!$A$11:$F$29,3),VLOOKUP(I84,Feuil1!$A$11:$F$29,2))))),IF(OR(H84=\"SEN\",H84<1995),VLOOKUP(I84,Feuil1!$G$11:$L$25,6),IF(AND(H84>1994,H84<1998),VLOOKUP(I84,Feuil1!$G$11:$L$25,5),IF(AND(H84>1997,H84<2000),VLOOKUP(I84,Feuil1!$G$11:$L$25,4),IF(AND(H84>1999,H84<2002),VLOOKUP(I84,Feuil1!$G$11:$L$25,3),VLOOKUP(I84,Feuil1!$G$11:$L$25,2)))))))","v":"S77"},278.92114172559701,null," ",{"$f":"T84-HLOOKUP(X84,Feuil1!$C$1:$BL$10,2,FALSE)","v":71},{"$f":"T84-HLOOKUP(X84,Feuil1!$C$1:$BL$10,3,FALSE)","v":51},{"$f":"T84-HLOOKUP(X84,Feuil1!$C$1:$BL$10,4,FALSE)","v":31},{"$f":"T84-HLOOKUP(X84,Feuil1!$C$1:$BL$10,5,FALSE)","v":11},{"$f":"T84-HLOOKUP(X84,Feuil1!$C$1:$BL$10,6,FALSE)","v":-19},{"$f":"T84-HLOOKUP(X84,Feuil1!$C$1:$BL$10,7,FALSE)","v":-44},{"$f":"T84-HLOOKUP(X84,Feuil1!$C$1:$BL$10,8,FALSE)","v":-64},{"$f":"T84-HLOOKUP(X84,Feuil1!$C$1:$BL$10,9,FALSE)","v":-84},{"$f":"T84-HLOOKUP(X84,Feuil1!$C$1:$BL$10,10,FALSE)","v":-99},null,null,null,null,null,null,"IRG +"]
["H","SO","MPY",7,144700,"FRANCOUAL","Loïck",1994,76.400000000000006,"FIGEAC","F",80,-95,100,100,100,115,120,120,220,67.199999999999989,"IRG +",10,{"$f":"IF(I85=\"\",\"\",IF(A85=\"H\",IF(OR(H85=\"SEN\",H85<1995),VLOOKUP(I85,Feuil1!$A$11:$F$29,6),IF(AND(H85>1994,H85<1998),VLOOKUP(I85,Feuil1!$A$11:$F$29,5),IF(AND(H85>1997,H85<2000),VLOOKUP(I85,Feuil1!$A$11:$F$29,4),IF(AND(H85>1999,H85<2002),VLOOKUP(I85,Feuil1!$A$11:$F$29,3),VLOOKUP(I85,Feuil1!$A$11:$F$29,2))))),IF(OR(H85=\"SEN\",H85<1995),VLOOKUP(I85,Feuil1!$G$11:$L$25,6),IF(AND(H85>1994,H85<1998),VLOOKUP(I85,Feuil1!$G$11:$L$25,5),IF(AND(H85>1997,H85<2000),VLOOKUP(I85,Feuil1!$G$11:$L$25,4),IF(AND(H85>1999,H85<2002),VLOOKUP(I85,Feuil1!$G$11:$L$25,3),VLOOKUP(I85,Feuil1!$G$11:$L$25,2)))))))","v":"S77"},278.27792202023409,null," ",{"$f":"T85-HLOOKUP(X85,Feuil1!$C$1:$BL$10,2,FALSE)","v":70},{"$f":"T85-HLOOKUP(X85,Feuil1!$C$1:$BL$10,3,FALSE)","v":50},{"$f":"T85-HLOOKUP(X85,Feuil1!$C$1:$BL$10,4,FALSE)","v":30},{"$f":"T85-HLOOKUP(X85,Feuil1!$C$1:$BL$10,5,FALSE)","v":10},{"$f":"T85-HLOOKUP(X85,Feuil1!$C$1:$BL$10,6,FALSE)","v":-20},{"$f":"T85-HLOOKUP(X85,Feuil1!$C$1:$BL$10,7,FALSE)","v":-45},{"$f":"T85-HLOOKUP(X85,Feuil1!$C$1:$BL$10,8,FALSE)","v":-65},{"$f":"T85-HLOOKUP(X85,Feuil1!$C$1:$BL$10,9,FALSE)","v":-85},{"$f":"T85-HLOOKUP(X85,Feuil1!$C$1:$BL$10,10,FALSE)","v":-100},null,null,null,null,null,null,"IRG +"]
["H","DOM","REU",8,194173,"MARKA","Alexandre",1976,75.5,"CSPJ St Denis","F",-97,97,-102,97,115,119,-123,119,216,65,"IRG +",6,{"$f":"IF(I86=\"\",\"\",IF(A86=\"H\",IF(OR(H86=\"SEN\",H86<1995),VLOOKUP(I86,Feuil1!$A$11:$F$29,6),IF(AND(H86>1994,H86<1998),VLOOKUP(I86,Feuil1!$A$11:$F$29,5),IF(AND(H86>1997,H86<2000),VLOOKUP(I86,Feuil1!$A$11:$F$29,4),IF(AND(H86>1999,H86<2002),VLOOKUP(I86,Feuil1!$A$11:$F$29,3),VLOOKUP(I86,Feuil1!$A$11:$F$29,2))))),IF(OR(H86=\"SEN\",H86<1995),VLOOKUP(I86,Feuil1!$G$11:$L$25,6),IF(AND(H86>1994,H86<1998),VLOOKUP(I86,Feuil1!$G$11:$L$25,5),IF(AND(H86>1997,H86<2000),VLOOKUP(I86,Feuil1!$G$11:$L$25,4),IF(AND(H86>1999,H86<2002),VLOOKUP(I86,Feuil1!$G$11:$L$25,3),VLOOKUP(I86,Feuil1!$G$11:$L$25,2)))))))","v":"S77"},275.08157097427562,null," ",{"$f":"T86-HLOOKUP(X86,Feuil1!$C$1:$BL$10,2,FALSE)","v":66},{"$f":"T86-HLOOKUP(X86,Feuil1!$C$1:$BL$10,3,FALSE)","v":46},{"$f":"T86-HLOOKUP(X86,Feuil1!$C$1:$BL$10,4,FALSE)","v":26},{"$f":"T86-HLOOKUP(X86,Feuil1!$C$1:$BL$10,5,FALSE)","v":6},{"$f":"T86-HLOOKUP(X86,Feuil1!$C$1:$BL$10,6,FALSE)","v":-24},{"$f":"T86-HLOOKUP(X86,Feuil1!$C$1:$BL$10,7,FALSE)","v":-49},{"$f":"T86-HLOOKUP(X86,Feuil1!$C$1:$BL$10,8,FALSE)","v":-69},{"$f":"T86-HLOOKUP(X86,Feuil1!$C$1:$BL$10,9,FALSE)","v":-89},{"$f":"T86-HLOOKUP(X86,Feuil1!$C$1:$BL$10,10,FALSE)","v":-104},null,null,null,null,null,null,"IRG +"]
["H","Nord","NPC",9,199341,"CETANI","Mariolino",1994,76.5,"AO Sallaumines","F",83,88,91,91,114,118,-122,118,209,56,"REG +",19,{"$f":"IF(I87=\"\",\"\",IF(A87=\"H\",IF(OR(H87=\"SEN\",H87<1995),VLOOKUP(I87,Feuil1!$A$11:$F$29,6),IF(AND(H87>1994,H87<1998),VLOOKUP(I87,Feuil1!$A$11:$F$29,5),IF(AND(H87>1997,H87<2000),VLOOKUP(I87,Feuil1!$A$11:$F$29,4),IF(AND(H87>1999,H87<2002),VLOOKUP(I87,Feuil1!$A$11:$F$29,3),VLOOKUP(I87,Feuil1!$A$11:$F$29,2))))),IF(OR(H87=\"SEN\",H87<1995),VLOOKUP(I87,Feuil1!$G$11:$L$25,6),IF(AND(H87>1994,H87<1998),VLOOKUP(I87,Feuil1!$G$11:$L$25,5),IF(AND(H87>1997,H87<2000),VLOOKUP(I87,Feuil1!$G$11:$L$25,4),IF(AND(H87>1999,H87<2002),VLOOKUP(I87,Feuil1!$G$11:$L$25,3),VLOOKUP(I87,Feuil1!$G$11:$L$25,2)))))))","v":"S77"},264.16733848003855,null," ",{"$f":"T87-HLOOKUP(X87,Feuil1!$C$1:$BL$10,2,FALSE)","v":59},{"$f":"T87-HLOOKUP(X87,Feuil1!$C$1:$BL$10,3,FALSE)","v":39},{"$f":"T87-HLOOKUP(X87,Feuil1!$C$1:$BL$10,4,FALSE)","v":19},{"$f":"T87-HLOOKUP(X87,Feuil1!$C$1:$BL$10,5,FALSE)","v":-1},{"$f":"T87-HLOOKUP(X87,Feuil1!$C$1:$BL$10,6,FALSE)","v":-31},{"$f":"T87-HLOOKUP(X87,Feuil1!$C$1:$BL$10,7,FALSE)","v":-56},{"$f":"T87-HLOOKUP(X87,Feuil1!$C$1:$BL$10,8,FALSE)","v":-76},{"$f":"T87-HLOOKUP(X87,Feuil1!$C$1:$BL$10,9,FALSE)","v":-96},{"$f":"T87-HLOOKUP(X87,Feuil1!$C$1:$BL$10,10,FALSE)","v":-111},null,null,null,null,null,null,"REG +"]
["H","SEST","PRO","NC",652,"BAZIN","Anthony",1983,75.599999999999994,"H.M. STE TULLE","F",-110,-110,-110,0,"-",null,null,0,0,-151.19999999999999,"DEB ",-150,{"$f":"IF(I88=\"\",\"\",IF(A88=\"H\",IF(OR(H88=\"SEN\",H88<1995),VLOOKUP(I88,Feuil1!$A$11:$F$29,6),IF(AND(H88>1994,H88<1998),VLOOKUP(I88,Feuil1!$A$11:$F$29,5),IF(AND(H88>1997,H88<2000),VLOOKUP(I88,Feuil1!$A$11:$F$29,4),IF(AND(H88>1999,H88<2002),VLOOKUP(I88,Feuil1!$A$11:$F$29,3),VLOOKUP(I88,Feuil1!$A$11:$F$29,2))))),IF(OR(H88=\"SEN\",H88<1995),VLOOKUP(I88,Feuil1!$G$11:$L$25,6),IF(AND(H88>1994,H88<1998),VLOOKUP(I88,Feuil1!$G$11:$L$25,5),IF(AND(H88>1997,H88<2000),VLOOKUP(I88,Feuil1!$G$11:$L$25,4),IF(AND(H88>1999,H88<2002),VLOOKUP(I88,Feuil1!$G$11:$L$25,3),VLOOKUP(I88,Feuil1!$G$11:$L$25,2)))))))","v":"S77"},0,null," ",{"$f":"T88-HLOOKUP(X88,Feuil1!$C$1:$BL$10,2,FALSE)","v":-150},{"$f":"T88-HLOOKUP(X88,Feuil1!$C$1:$BL$10,3,FALSE)","v":-170},{"$f":"T88-HLOOKUP(X88,Feuil1!$C$1:$BL$10,4,FALSE)","v":-190},{"$f":"T88-HLOOKUP(X88,Feuil1!$C$1:$BL$10,5,FALSE)","v":-210},{"$f":"T88-HLOOKUP(X88,Feuil1!$C$1:$BL$10,6,FALSE)","v":-240},{"$f":"T88-HLOOKUP(X88,Feuil1!$C$1:$BL$10,7,FALSE)","v":-265},{"$f":"T88-HLOOKUP(X88,Feuil1!$C$1:$BL$10,8,FALSE)","v":-285},{"$f":"T88-HLOOKUP(X88,Feuil1!$C$1:$BL$10,9,FALSE)","v":-305},{"$f":"T88-HLOOKUP(X88,Feuil1!$C$1:$BL$10,10,FALSE)","v":-320},null,null,null,null,null,null,"DEB "]
["H","Nord","NPC","NC",34401,"RIQUIER","Laurent",1979,75.900000000000006,"CHCD Comines","F",-115,-115,-116,0,"-","-","-",0,0,-151.80000000000001,"DEB ",-150,{"$f":"IF(I89=\"\",\"\",IF(A89=\"H\",IF(OR(H89=\"SEN\",H89<1995),VLOOKUP(I89,Feuil1!$A$11:$F$29,6),IF(AND(H89>1994,H89<1998),VLOOKUP(I89,Feuil1!$A$11:$F$29,5),IF(AND(H89>1997,H89<2000),VLOOKUP(I89,Feuil1!$A$11:$F$29,4),IF(AND(H89>1999,H89<2002),VLOOKUP(I89,Feuil1!$A$11:$F$29,3),VLOOKUP(I89,Feuil1!$A$11:$F$29,2))))),IF(OR(H89=\"SEN\",H89<1995),VLOOKUP(I89,Feuil1!$G$11:$L$25,6),IF(AND(H89>1994,H89<1998),VLOOKUP(I89,Feuil1!$G$11:$L$25,5),IF(AND(H89>1997,H89<2000),VLOOKUP(I89,Feuil1!$G$11:$L$25,4),IF(AND(H89>1999,H89<2002),VLOOKUP(I89,Feuil1!$G$11:$L$25,3),VLOOKUP(I89,Feuil1!$G$11:$L$25,2)))))))","v":"S77"},0,null," ",{"$f":"T89-HLOOKUP(X89,Feuil1!$C$1:$BL$10,2,FALSE)","v":-150},{"$f":"T89-HLOOKUP(X89,Feuil1!$C$1:$BL$10,3,FALSE)","v":-170},{"$f":"T89-HLOOKUP(X89,Feuil1!$C$1:$BL$10,4,FALSE)","v":-190},{"$f":"T89-HLOOKUP(X89,Feuil1!$C$1:$BL$10,5,FALSE)","v":-210},{"$f":"T89-HLOOKUP(X89,Feuil1!$C$1:$BL$10,6,FALSE)","v":-240},{"$f":"T89-HLOOKUP(X89,Feuil1!$C$1:$BL$10,7,FALSE)","v":-265},{"$f":"T89-HLOOKUP(X89,Feuil1!$C$1:$BL$10,8,FALSE)","v":-285},{"$f":"T89-HLOOKUP(X89,Feuil1!$C$1:$BL$10,9,FALSE)","v":-305},{"$f":"T89-HLOOKUP(X89,Feuil1!$C$1:$BL$10,10,FALSE)","v":-320},null,null,null,null,null,null,"DEB "]
["H","Nord","PIC","NC",269669,"PECQUEUX","Maxence",1994,76.2,"Villers-Bretonneux KC","F",-107,-110,-110,0,"-","-","-",0,0,-152.4,"DEB ",-150,{"$f":"IF(I90=\"\",\"\",IF(A90=\"H\",IF(OR(H90=\"SEN\",H90<1995),VLOOKUP(I90,Feuil1!$A$11:$F$29,6),IF(AND(H90>1994,H90<1998),VLOOKUP(I90,Feuil1!$A$11:$F$29,5),IF(AND(H90>1997,H90<2000),VLOOKUP(I90,Feuil1!$A$11:$F$29,4),IF(AND(H90>1999,H90<2002),VLOOKUP(I90,Feuil1!$A$11:$F$29,3),VLOOKUP(I90,Feuil1!$A$11:$F$29,2))))),IF(OR(H90=\"SEN\",H90<1995),VLOOKUP(I90,Feuil1!$G$11:$L$25,6),IF(AND(H90>1994,H90<1998),VLOOKUP(I90,Feuil1!$G$11:$L$25,5),IF(AND(H90>1997,H90<2000),VLOOKUP(I90,Feuil1!$G$11:$L$25,4),IF(AND(H90>1999,H90<2002),VLOOKUP(I90,Feuil1!$G$11:$L$25,3),VLOOKUP(I90,Feuil1!$G$11:$L$25,2)))))))","v":"S77"},0,null," ",{"$f":"T90-HLOOKUP(X90,Feuil1!$C$1:$BL$10,2,FALSE)","v":-150},{"$f":"T90-HLOOKUP(X90,Feuil1!$C$1:$BL$10,3,FALSE)","v":-170},{"$f":"T90-HLOOKUP(X90,Feuil1!$C$1:$BL$10,4,FALSE)","v":-190},{"$f":"T90-HLOOKUP(X90,Feuil1!$C$1:$BL$10,5,FALSE)","v":-210},{"$f":"T90-HLOOKUP(X90,Feuil1!$C$1:$BL$10,6,FALSE)","v":-240},{"$f":"T90-HLOOKUP(X90,Feuil1!$C$1:$BL$10,7,FALSE)","v":-265},{"$f":"T90-HLOOKUP(X90,Feuil1!$C$1:$BL$10,8,FALSE)","v":-285},{"$f":"T90-HLOOKUP(X90,Feuil1!$C$1:$BL$10,9,FALSE)","v":-305},{"$f":"T90-HLOOKUP(X90,Feuil1!$C$1:$BL$10,10,FALSE)","v":-320},null,null,null,null,null,null,"DEB "]
[]
["H","Nord","NPC",1,9108,"FONTENELLE","Vincent",1980,84.9,"CHCD Comines","F",127,-132,-132,{"$f":"IF(H92=\"\",\"\",IF(MAXA(L92:N92)<=0,0,MAXA(L92:N92)))","v":127},160,165,-173,{"$f":"IF(H92=\"\",\"\",IF(MAXA(P92:R92)<=0,0,MAXA(P92:R92)))","v":165},{"$f":"IF(H92=\"\",\"\",IF(OR(O92=0,S92=0),0,O92+S92))","v":292},{"$f":"T92-I92*2","v":122.19999999999999},{"$f":"IF(H92=\"\",\"\",AQ92)","v":"NAT +"},{"$f":"IF(AJ92>=0,AJ92,IF(AI92>=0,AI92,IF(AH92>=0,AH92,IF(AG92>=0,AG92,IF(AF92>=0,AF92,IF(AE92>=0,AE92,IF(AD92>=0,AD92,IF(AC92>=0,AC92,AB92))))))))","v":12},{"$f":"IF(I92=\"\",\"\",IF(A92=\"H\",IF(OR(H92=\"SEN\",H92<1995),VLOOKUP(I92,Feuil1!$A$11:$F$29,6),IF(AND(H92>1994,H92<1998),VLOOKUP(I92,Feuil1!$A$11:$F$29,5),IF(AND(H92>1997,H92<2000),VLOOKUP(I92,Feuil1!$A$11:$F$29,4),IF(AND(H92>1999,H92<2002),VLOOKUP(I92,Feuil1!$A$11:$F$29,3),VLOOKUP(I92,Feuil1!$A$11:$F$29,2))))),IF(OR(H92=\"SEN\",H92<1995),VLOOKUP(I92,Feuil1!$G$11:$L$25,6),IF(AND(H92>1994,H92<1998),VLOOKUP(I92,Feuil1!$G$11:$L$25,5),IF(AND(H92>1997,H92<2000),VLOOKUP(I92,Feuil1!$G$11:$L$25,4),IF(AND(H92>1999,H92<2002),VLOOKUP(I92,Feuil1!$G$11:$L$25,3),VLOOKUP(I92,Feuil1!$G$11:$L$25,2)))))))","v":"S85"},{"$f":"IF(I92=\"\",\"\",IF(A92=\"H\",10^(0.794358141*LOG(I92/174.393)^2)*T92,IF(A92=\"F\",10^(0.89726074*LOG(I92/148.026)^2)*T92,\"\")))","v":349.15410439935727},null," ",{"$f":"T92-HLOOKUP(X92,Feuil1!$C$1:$BL$10,2,FALSE)","v":127},{"$f":"T92-HLOOKUP(X92,Feuil1!$C$1:$BL$10,3,FALSE)","v":107},{"$f":"T92-HLOOKUP(X92,Feuil1!$C$1:$BL$10,4,FALSE)","v":87},{"$f":"T92-HLOOKUP(X92,Feuil1!$C$1:$BL$10,5,FALSE)","v":67},{"$f":"T92-HLOOKUP(X92,Feuil1!$C$1:$BL$10,6,FALSE)","v":42},{"$f":"T92-HLOOKUP(X92,Feuil1!$C$1:$BL$10,7,FALSE)","v":12},{"$f":"T92-HLOOKUP(X92,Feuil1!$C$1:$BL$10,8,FALSE)","v":-8},{"$f":"T92-HLOOKUP(X92,Feuil1!$C$1:$BL$10,9,FALSE)","v":-33},{"$f":"T92-HLOOKUP(X92,Feuil1!$C$1:$BL$10,10,FALSE)","v":-53},null,null,null,null,null,null,{"$f":"IF(AJ92>=0,$AJ$4,IF(AI92>=0,$AI$4,IF(AH92>=0,$AH$4,IF(AG92>=0,$AG$4,IF(AF92>=0,$AF$4,IF(AE92>=0,$AE$4,IF(AD92>=0,$AD$4,IF(AC92>=0,$AC$4,$AB$4))))))))","v":"NAT +"}]
["H","NE","FCO",2,94944,"LEPAUL","Emmanuel",1991,77.73,"CH Luxeuil","F",124,128,-132,128,158,-165,-172,158,286,130.54,"NAT +",6,{"$f":"IF(I93=\"\",\"\",IF(A93=\"H\",IF(OR(H93=\"SEN\",H93<1995),VLOOKUP(I93,Feuil1!$A$11:$F$29,6),IF(AND(H93>1994,H93<1998),VLOOKUP(I93,Feuil1!$A$11:$F$29,5),IF(AND(H93>1997,H93<2000),VLOOKUP(I93,Feuil1!$A$11:$F$29,4),IF(AND(H93>1999,H93<2002),VLOOKUP(I93,Feuil1!$A$11:$F$29,3),VLOOKUP(I93,Feuil1!$A$11:$F$29,2))))),IF(OR(H93=\"SEN\",H93<1995),VLOOKUP(I93,Feuil1!$G$11:$L$25,6),IF(AND(H93>1994,H93<1998),VLOOKUP(I93,Feuil1!$G$11:$L$25,5),IF(AND(H93>1997,H93<2000),VLOOKUP(I93,Feuil1!$G$11:$L$25,4),IF(AND(H93>1999,H93<2002),VLOOKUP(I93,Feuil1!$G$11:$L$25,3),VLOOKUP(I93,Feuil1!$G$11:$L$25,2)))))))","v":"S85"},358.26015327943162,null," ",{"$f":"T93-HLOOKUP(X93,Feuil1!$C$1:$BL$10,2,FALSE)","v":121},{"$f":"T93-HLOOKUP(X93,Feuil1!$C$1:$BL$10,3,FALSE)","v":101},{"$f":"T93-HLOOKUP(X93,Feuil1!$C$1:$BL$10,4,FALSE)","v":81},{"$f":"T93-HLOOKUP(X93,Feuil1!$C$1:$BL$10,5,FALSE)","v":61},{"$f":"T93-HLOOKUP(X93,Feuil1!$C$1:$BL$10,6,FALSE)","v":36},{"$f":"T93-HLOOKUP(X93,Feuil1!$C$1:$BL$10,7,FALSE)","v":6},{"$f":"T93-HLOOKUP(X93,Feuil1!$C$1:$BL$10,8,FALSE)","v":-14},{"$f":"T93-HLOOKUP(X93,Feuil1!$C$1:$BL$10,9,FALSE)","v":-39},{"$f":"T93-HLOOKUP(X93,Feuil1!$C$1:$BL$10,10,FALSE)","v":-59},null,null,null,null,null,null,"NAT +"]
["H","CO","BRE",3,67662,"CHAVRY","Dylan",1994,83.6,"CHM Plouhinec PR","F",-122,-122,122,122,142,-147,-147,142,264,96.800000000000011,"FED +",14,{"$f":"IF(I94=\"\",\"\",IF(A94=\"H\",IF(OR(H94=\"SEN\",H94<1995),VLOOKUP(I94,Feuil1!$A$11:$F$29,6),IF(AND(H94>1994,H94<1998),VLOOKUP(I94,Feuil1!$A$11:$F$29,5),IF(AND(H94>1997,H94<2000),VLOOKUP(I94,Feuil1!$A$11:$F$29,4),IF(AND(H94>1999,H94<2002),VLOOKUP(I94,Feuil1!$A$11:$F$29,3),VLOOKUP(I94,Feuil1!$A$11:$F$29,2))))),IF(OR(H94=\"SEN\",H94<1995),VLOOKUP(I94,Feuil1!$G$11:$L$25,6),IF(AND(H94>1994,H94<1998),VLOOKUP(I94,Feuil1!$G$11:$L$25,5),IF(AND(H94>1997,H94<2000),VLOOKUP(I94,Feuil1!$G$11:$L$25,4),IF(AND(H94>1999,H94<2002),VLOOKUP(I94,Feuil1!$G$11:$L$25,3),VLOOKUP(I94,Feuil1!$G$11:$L$25,2)))))))","v":"S85"},318.12827387317606,null," ",{"$f":"T94-HLOOKUP(X94,Feuil1!$C$1:$BL$10,2,FALSE)","v":99},{"$f":"T94-HLOOKUP(X94,Feuil1!$C$1:$BL$10,3,FALSE)","v":79},{"$f":"T94-HLOOKUP(X94,Feuil1!$C$1:$BL$10,4,FALSE)","v":59},{"$f":"T94-HLOOKUP(X94,Feuil1!$C$1:$BL$10,5,FALSE)","v":39},{"$f":"T94-HLOOKUP(X94,Feuil1!$C$1:$BL$10,6,FALSE)","v":14},{"$f":"T94-HLOOKUP(X94,Feuil1!$C$1:$BL$10,7,FALSE)","v":-16},{"$f":"T94-HLOOKUP(X94,Feuil1!$C$1:$BL$10,8,FALSE)","v":-36},{"$f":"T94-HLOOKUP(X94,Feuil1!$C$1:$BL$10,9,FALSE)","v":-61},{"$f":"T94-HLOOKUP(X94,Feuil1!$C$1:$BL$10,10,FALSE)","v":-81},null,null,null,null,null,null,"FED +"]
["H","NE","ALS",4,137264,"BONNAMANT","Bastien",1994,80.64,"ASPTT Strasbourg","F",102,-107,110,110,134,141,-152,141,251,89.72,"FED +",1,{"$f":"IF(I95=\"\",\"\",IF(A95=\"H\",IF(OR(H95=\"SEN\",H95<1995),VLOOKUP(I95,Feuil1!$A$11:$F$29,6),IF(AND(H95>1994,H95<1998),VLOOKUP(I95,Feuil1!$A$11:$F$29,5),IF(AND(H95>1997,H95<2000),VLOOKUP(I95,Feuil1!$A$11:$F$29,4),IF(AND(H95>1999,H95<2002),VLOOKUP(I95,Feuil1!$A$11:$F$29,3),VLOOKUP(I95,Feuil1!$A$11:$F$29,2))))),IF(OR(H95=\"SEN\",H95<1995),VLOOKUP(I95,Feuil1!$G$11:$L$25,6),IF(AND(H95>1994,H95<1998),VLOOKUP(I95,Feuil1!$G$11:$L$25,5),IF(AND(H95>1997,H95<2000),VLOOKUP(I95,Feuil1!$G$11:$L$25,4),IF(AND(H95>1999,H95<2002),VLOOKUP(I95,Feuil1!$G$11:$L$25,3),VLOOKUP(I95,Feuil1!$G$11:$L$25,2)))))))","v":"S85"},308.18332555020214,null," ",{"$f":"T95-HLOOKUP(X95,Feuil1!$C$1:$BL$10,2,FALSE)","v":86},{"$f":"T95-HLOOKUP(X95,Feuil1!$C$1:$BL$10,3,FALSE)","v":66},{"$f":"T95-HLOOKUP(X95,Feuil1!$C$1:$BL$10,4,FALSE)","v":46},{"$f":"T95-HLOOKUP(X95,Feuil1!$C$1:$BL$10,5,FALSE)","v":26},{"$f":"T95-HLOOKUP(X95,Feuil1!$C$1:$BL$10,6,FALSE)","v":1},{"$f":"T95-HLOOKUP(X95,Feuil1!$C$1:$BL$10,7,FALSE)","v":-29},{"$f":"T95-HLOOKUP(X95,Feuil1!$C$1:$BL$10,8,FALSE)","v":-49},{"$f":"T95-HLOOKUP(X95,Feuil1!$C$1:$BL$10,9,FALSE)","v":-74},{"$f":"T95-HLOOKUP(X95,Feuil1!$C$1:$BL$10,10,FALSE)","v":-94},null,null,null,null,null,null,"FED +"]
["H","SO","MPY",5,245505,"GIGORD","Yohann",1989,84.6,"TOULOUSE","F",-105,105,110,110,-135,135,140,140,250,80.800000000000011,"FED +",0,{"$f":"IF(I96=\"\",\"\",IF(A96=\"H\",IF(OR(H96=\"SEN\",H96<1995),VLOOKUP(I96,Feuil1!$A$11:$F$29,6),IF(AND(H96>1994,H96<1998),VLOOKUP(I96,Feuil1!$A$11:$F$29,5),IF(AND(H96>1997,H96<2000),VLOOKUP(I96,Feuil1!$A$11:$F$29,4),IF(AND(H96>1999,H96<2002),VLOOKUP(I96,Feuil1!$A$11:$F$29,3),VLOOKUP(I96,Feuil1!$A$11:$F$29,2))))),IF(OR(H96=\"SEN\",H96<1995),VLOOKUP(I96,Feuil1!$G$11:$L$25,6),IF(AND(H96>1994,H96<1998),VLOOKUP(I96,Feuil1!$G$11:$L$25,5),IF(AND(H96>1997,H96<2000),VLOOKUP(I96,Feuil1!$G$11:$L$25,4),IF(AND(H96>1999,H96<2002),VLOOKUP(I96,Feuil1!$G$11:$L$25,3),VLOOKUP(I96,Feuil1!$G$11:$L$25,2)))))))","v":"S85"},299.46062412039748,null," ",{"$f":"T96-HLOOKUP(X96,Feuil1!$C$1:$BL$10,2,FALSE)","v":85},{"$f":"T96-HLOOKUP(X96,Feuil1!$C$1:$BL$10,3,FALSE)","v":65},{"$f":"T96-HLOOKUP(X96,Feuil1!$C$1:$BL$10,4,FALSE)","v":45},{"$f":"T96-HLOOKUP(X96,Feuil1!$C$1:$BL$10,5,FALSE)","v":25},{"$f":"T96-HLOOKUP(X96,Feuil1!$C$1:$BL$10,6,FALSE)","v":0},{"$f":"T96-HLOOKUP(X96,Feuil1!$C$1:$BL$10,7,FALSE)","v":-30},{"$f":"T96-HLOOKUP(X96,Feuil1!$C$1:$BL$10,8,FALSE)","v":-50},{"$f":"T96-HLOOKUP(X96,Feuil1!$C$1:$BL$10,9,FALSE)","v":-75},{"$f":"T96-HLOOKUP(X96,Feuil1!$C$1:$BL$10,10,FALSE)","v":-95},null,null,null,null,null,null,"FED +"]
["H","NE","CHA",6,219704,"CORRAZE","Guillaume",1987,77.28,"Langres HM","F",-100,107,110,110,133,-137,-140,133,243,88.44,"IRG +",18,{"$f":"IF(I97=\"\",\"\",IF(A97=\"H\",IF(OR(H97=\"SEN\",H97<1995),VLOOKUP(I97,Feuil1!$A$11:$F$29,6),IF(AND(H97>1994,H97<1998),VLOOKUP(I97,Feuil1!$A$11:$F$29,5),IF(AND(H97>1997,H97<2000),VLOOKUP(I97,Feuil1!$A$11:$F$29,4),IF(AND(H97>1999,H97<2002),VLOOKUP(I97,Feuil1!$A$11:$F$29,3),VLOOKUP(I97,Feuil1!$A$11:$F$29,2))))),IF(OR(H97=\"SEN\",H97<1995),VLOOKUP(I97,Feuil1!$G$11:$L$25,6),IF(AND(H97>1994,H97<1998),VLOOKUP(I97,Feuil1!$G$11:$L$25,5),IF(AND(H97>1997,H97<2000),VLOOKUP(I97,Feuil1!$G$11:$L$25,4),IF(AND(H97>1999,H97<2002),VLOOKUP(I97,Feuil1!$G$11:$L$25,3),VLOOKUP(I97,Feuil1!$G$11:$L$25,2)))))))","v":"S85"},305.38638973218383,null," ",{"$f":"T97-HLOOKUP(X97,Feuil1!$C$1:$BL$10,2,FALSE)","v":78},{"$f":"T97-HLOOKUP(X97,Feuil1!$C$1:$BL$10,3,FALSE)","v":58},{"$f":"T97-HLOOKUP(X97,Feuil1!$C$1:$BL$10,4,FALSE)","v":38},{"$f":"T97-HLOOKUP(X97,Feuil1!$C$1:$BL$10,5,FALSE)","v":18},{"$f":"T97-HLOOKUP(X97,Feuil1!$C$1:$BL$10,6,FALSE)","v":-7},{"$f":"T97-HLOOKUP(X97,Feuil1!$C$1:$BL$10,7,FALSE)","v":-37},{"$f":"T97-HLOOKUP(X97,Feuil1!$C$1:$BL$10,8,FALSE)","v":-57},{"$f":"T97-HLOOKUP(X97,Feuil1!$C$1:$BL$10,9,FALSE)","v":-82},{"$f":"T97-HLOOKUP(X97,Feuil1!$C$1:$BL$10,10,FALSE)","v":-102},null,null,null,null,null,null,"IRG +"]
["H","Nord","IDF",7,285663,"MARQUEZ","Octavio",1989,83.51,"SC Neuilly","F",102,-107,-107,102,133,136,140,140,242,74.97999999999999,"IRG +",17,{"$f":"IF(I98=\"\",\"\",IF(A98=\"H\",IF(OR(H98=\"SEN\",H98<1995),VLOOKUP(I98,Feuil1!$A$11:$F$29,6),IF(AND(H98>1994,H98<1998),VLOOKUP(I98,Feuil1!$A$11:$F$29,5),IF(AND(H98>1997,H98<2000),VLOOKUP(I98,Feuil1!$A$11:$F$29,4),IF(AND(H98>1999,H98<2002),VLOOKUP(I98,Feuil1!$A$11:$F$29,3),VLOOKUP(I98,Feuil1!$A$11:$F$29,2))))),IF(OR(H98=\"SEN\",H98<1995),VLOOKUP(I98,Feuil1!$G$11:$L$25,6),IF(AND(H98>1994,H98<1998),VLOOKUP(I98,Feuil1!$G$11:$L$25,5),IF(AND(H98>1997,H98<2000),VLOOKUP(I98,Feuil1!$G$11:$L$25,4),IF(AND(H98>1999,H98<2002),VLOOKUP(I98,Feuil1!$G$11:$L$25,3),VLOOKUP(I98,Feuil1!$G$11:$L$25,2)))))))","v":"S85"},291.77709764641344,null," ",{"$f":"T98-HLOOKUP(X98,Feuil1!$C$1:$BL$10,2,FALSE)","v":77},{"$f":"T98-HLOOKUP(X98,Feuil1!$C$1:$BL$10,3,FALSE)","v":57},{"$f":"T98-HLOOKUP(X98,Feuil1!$C$1:$BL$10,4,FALSE)","v":37},{"$f":"T98-HLOOKUP(X98,Feuil1!$C$1:$BL$10,5,FALSE)","v":17},{"$f":"T98-HLOOKUP(X98,Feuil1!$C$1:$BL$10,6,FALSE)","v":-8},{"$f":"T98-HLOOKUP(X98,Feuil1!$C$1:$BL$10,7,FALSE)","v":-38},{"$f":"T98-HLOOKUP(X98,Feuil1!$C$1:$BL$10,8,FALSE)","v":-58},{"$f":"T98-HLOOKUP(X98,Feuil1!$C$1:$BL$10,9,FALSE)","v":-83},{"$f":"T98-HLOOKUP(X98,Feuil1!$C$1:$BL$10,10,FALSE)","v":-103},null,null,null,null,null,null,"IRG +"]
["H","SEST","PRO",8,86808,"LAUGIER","Jonathan",1989,79.400000000000006,"EEAR.MONTEUX","F",105,-110,-115,105,120,128,132,132,237,78.199999999999989,"IRG +",12,{"$f":"IF(I99=\"\",\"\",IF(A99=\"H\",IF(OR(H99=\"SEN\",H99<1995),VLOOKUP(I99,Feuil1!$A$11:$F$29,6),IF(AND(H99>1994,H99<1998),VLOOKUP(I99,Feuil1!$A$11:$F$29,5),IF(AND(H99>1997,H99<2000),VLOOKUP(I99,Feuil1!$A$11:$F$29,4),IF(AND(H99>1999,H99<2002),VLOOKUP(I99,Feuil1!$A$11:$F$29,3),VLOOKUP(I99,Feuil1!$A$11:$F$29,2))))),IF(OR(H99=\"SEN\",H99<1995),VLOOKUP(I99,Feuil1!$G$11:$L$25,6),IF(AND(H99>1994,H99<1998),VLOOKUP(I99,Feuil1!$G$11:$L$25,5),IF(AND(H99>1997,H99<2000),VLOOKUP(I99,Feuil1!$G$11:$L$25,4),IF(AND(H99>1999,H99<2002),VLOOKUP(I99,Feuil1!$G$11:$L$25,3),VLOOKUP(I99,Feuil1!$G$11:$L$25,2)))))))","v":"S85"},293.42786949909458,null," ",{"$f":"T99-HLOOKUP(X99,Feuil1!$C$1:$BL$10,2,FALSE)","v":72},{"$f":"T99-HLOOKUP(X99,Feuil1!$C$1:$BL$10,3,FALSE)","v":52},{"$f":"T99-HLOOKUP(X99,Feuil1!$C$1:$BL$10,4,FALSE)","v":32},{"$f":"T99-HLOOKUP(X99,Feuil1!$C$1:$BL$10,5,FALSE)","v":12},{"$f":"T99-HLOOKUP(X99,Feuil1!$C$1:$BL$10,6,FALSE)","v":-13},{"$f":"T99-HLOOKUP(X99,Feuil1!$C$1:$BL$10,7,FALSE)","v":-43},{"$f":"T99-HLOOKUP(X99,Feuil1!$C$1:$BL$10,8,FALSE)","v":-63},{"$f":"T99-HLOOKUP(X99,Feuil1!$C$1:$BL$10,9,FALSE)","v":-88},{"$f":"T99-HLOOKUP(X99,Feuil1!$C$1:$BL$10,10,FALSE)","v":-108},null,null,null,null,null,null,"IRG +"]
["H","Nord","PIC",9,219975,"COMMONT","Benoit",1986,84.36,"Péronne AAEEP","F",100,102,104,104,128,130,-132,130,234,65.28,"IRG +",9,{"$f":"IF(I100=\"\",\"\",IF(A100=\"H\",IF(OR(H100=\"SEN\",H100<1995),VLOOKUP(I100,Feuil1!$A$11:$F$29,6),IF(AND(H100>1994,H100<1998),VLOOKUP(I100,Feuil1!$A$11:$F$29,5),IF(AND(H100>1997,H100<2000),VLOOKUP(I100,Feuil1!$A$11:$F$29,4),IF(AND(H100>1999,H100<2002),VLOOKUP(I100,Feuil1!$A$11:$F$29,3),VLOOKUP(I100,Feuil1!$A$11:$F$29,2))))),IF(OR(H100=\"SEN\",H100<1995),VLOOKUP(I100,Feuil1!$G$11:$L$25,6),IF(AND(H100>1994,H100<1998),VLOOKUP(I100,Feuil1!$G$11:$L$25,5),IF(AND(H100>1997,H100<2000),VLOOKUP(I100,Feuil1!$G$11:$L$25,4),IF(AND(H100>1999,H100<2002),VLOOKUP(I100,Feuil1!$G$11:$L$25,3),VLOOKUP(I100,Feuil1!$G$11:$L$25,2)))))))","v":"S85"},280.69364490894691,null," ",{"$f":"T100-HLOOKUP(X100,Feuil1!$C$1:$BL$10,2,FALSE)","v":69},{"$f":"T100-HLOOKUP(X100,Feuil1!$C$1:$BL$10,3,FALSE)","v":49},{"$f":"T100-HLOOKUP(X100,Feuil1!$C$1:$BL$10,4,FALSE)","v":29},{"$f":"T100-HLOOKUP(X100,Feuil1!$C$1:$BL$10,5,FALSE)","v":9},{"$f":"T100-HLOOKUP(X100,Feuil1!$C$1:$BL$10,6,FALSE)","v":-16},{"$f":"T100-HLOOKUP(X100,Feuil1!$C$1:$BL$10,7,FALSE)","v":-46},{"$f":"T100-HLOOKUP(X100,Feuil1!$C$1:$BL$10,8,FALSE)","v":-66},{"$f":"T100-HLOOKUP(X100,Feuil1!$C$1:$BL$10,9,FALSE)","v":-91},{"$f":"T100-HLOOKUP(X100,Feuil1!$C$1:$BL$10,10,FALSE)","v":-111},null,null,null,null,null,null,"IRG +"]
["H","Nord","NPC",10,271405,"BUZELIN","Cédric",1994,81.2,"Berck sur Mer","F",-100,100,-105,100,-125,125,-132,125,225,62.599999999999994,"IRG +",0,{"$f":"IF(I101=\"\",\"\",IF(A101=\"H\",IF(OR(H101=\"SEN\",H101<1995),VLOOKUP(I101,Feuil1!$A$11:$F$29,6),IF(AND(H101>1994,H101<1998),VLOOKUP(I101,Feuil1!$A$11:$F$29,5),IF(AND(H101>1997,H101<2000),VLOOKUP(I101,Feuil1!$A$11:$F$29,4),IF(AND(H101>1999,H101<2002),VLOOKUP(I101,Feuil1!$A$11:$F$29,3),VLOOKUP(I101,Feuil1!$A$11:$F$29,2))))),IF(OR(H101=\"SEN\",H101<1995),VLOOKUP(I101,Feuil1!$G$11:$L$25,6),IF(AND(H101>1994,H101<1998),VLOOKUP(I101,Feuil1!$G$11:$L$25,5),IF(AND(H101>1997,H101<2000),VLOOKUP(I101,Feuil1!$G$11:$L$25,4),IF(AND(H101>1999,H101<2002),VLOOKUP(I101,Feuil1!$G$11:$L$25,3),VLOOKUP(I101,Feuil1!$G$11:$L$25,2)))))))","v":"S85"},275.24891736250953,null," ",{"$f":"T101-HLOOKUP(X101,Feuil1!$C$1:$BL$10,2,FALSE)","v":60},{"$f":"T101-HLOOKUP(X101,Feuil1!$C$1:$BL$10,3,FALSE)","v":40},{"$f":"T101-HLOOKUP(X101,Feuil1!$C$1:$BL$10,4,FALSE)","v":20},{"$f":"T101-HLOOKUP(X101,Feuil1!$C$1:$BL$10,5,FALSE)","v":0},{"$f":"T101-HLOOKUP(X101,Feuil1!$C$1:$BL$10,6,FALSE)","v":-25},{"$f":"T101-HLOOKUP(X101,Feuil1!$C$1:$BL$10,7,FALSE)","v":-55},{"$f":"T101-HLOOKUP(X101,Feuil1!$C$1:$BL$10,8,FALSE)","v":-75},{"$f":"T101-HLOOKUP(X101,Feuil1!$C$1:$BL$10,9,FALSE)","v":-100},{"$f":"T101-HLOOKUP(X101,Feuil1!$C$1:$BL$10,10,FALSE)","v":-120},null,null,null,null,null,null,"IRG +"]
["H","Nord","IDF",11,178055,"DABO","Amadou",1986,85,"Franconville","F",105,-110,-110,105,120,-130,-135,120,225,55,"IRG +",0,{"$f":"IF(I102=\"\",\"\",IF(A102=\"H\",IF(OR(H102=\"SEN\",H102<1995),VLOOKUP(I102,Feuil1!$A$11:$F$29,6),IF(AND(H102>1994,H102<1998),VLOOKUP(I102,Feuil1!$A$11:$F$29,5),IF(AND(H102>1997,H102<2000),VLOOKUP(I102,Feuil1!$A$11:$F$29,4),IF(AND(H102>1999,H102<2002),VLOOKUP(I102,Feuil1!$A$11:$F$29,3),VLOOKUP(I102,Feuil1!$A$11:$F$29,2))))),IF(OR(H102=\"SEN\",H102<1995),VLOOKUP(I102,Feuil1!$G$11:$L$25,6),IF(AND(H102>1994,H102<1998),VLOOKUP(I102,Feuil1!$G$11:$L$25,5),IF(AND(H102>1997,H102<2000),VLOOKUP(I102,Feuil1!$G$11:$L$25,4),IF(AND(H102>1999,H102<2002),VLOOKUP(I102,Feuil1!$G$11:$L$25,3),VLOOKUP(I102,Feuil1!$G$11:$L$25,2)))))))","v":"S85"},268.88285592854078,null," ",{"$f":"T102-HLOOKUP(X102,Feuil1!$C$1:$BL$10,2,FALSE)","v":60},{"$f":"T102-HLOOKUP(X102,Feuil1!$C$1:$BL$10,3,FALSE)","v":40},{"$f":"T102-HLOOKUP(X102,Feuil1!$C$1:$BL$10,4,FALSE)","v":20},{"$f":"T102-HLOOKUP(X102,Feuil1!$C$1:$BL$10,5,FALSE)","v":0},{"$f":"T102-HLOOKUP(X102,Feuil1!$C$1:$BL$10,6,FALSE)","v":-25},{"$f":"T102-HLOOKUP(X102,Feuil1!$C$1:$BL$10,7,FALSE)","v":-55},{"$f":"T102-HLOOKUP(X102,Feuil1!$C$1:$BL$10,8,FALSE)","v":-75},{"$f":"T102-HLOOKUP(X102,Feuil1!$C$1:$BL$10,9,FALSE)","v":-100},{"$f":"T102-HLOOKUP(X102,Feuil1!$C$1:$BL$10,10,FALSE)","v":-120},null,null,null,null,null,null,"IRG +"]
["H","CO","BNO",12,113896,"LECLERC HAIRIE","Romain",1988,79.7,"Caen CHM","F",-86,86,90,90,120,-125,-125,120,210,50.599999999999994,"REG +",5,{"$f":"IF(I103=\"\",\"\",IF(A103=\"H\",IF(OR(H103=\"SEN\",H103<1995),VLOOKUP(I103,Feuil1!$A$11:$F$29,6),IF(AND(H103>1994,H103<1998),VLOOKUP(I103,Feuil1!$A$11:$F$29,5),IF(AND(H103>1997,H103<2000),VLOOKUP(I103,Feuil1!$A$11:$F$29,4),IF(AND(H103>1999,H103<2002),VLOOKUP(I103,Feuil1!$A$11:$F$29,3),VLOOKUP(I103,Feuil1!$A$11:$F$29,2))))),IF(OR(H103=\"SEN\",H103<1995),VLOOKUP(I103,Feuil1!$G$11:$L$25,6),IF(AND(H103>1994,H103<1998),VLOOKUP(I103,Feuil1!$G$11:$L$25,5),IF(AND(H103>1997,H103<2000),VLOOKUP(I103,Feuil1!$G$11:$L$25,4),IF(AND(H103>1999,H103<2002),VLOOKUP(I103,Feuil1!$G$11:$L$25,3),VLOOKUP(I103,Feuil1!$G$11:$L$25,2)))))))","v":"S85"},259.46889608557495,null," ",{"$f":"T103-HLOOKUP(X103,Feuil1!$C$1:$BL$10,2,FALSE)","v":45},{"$f":"T103-HLOOKUP(X103,Feuil1!$C$1:$BL$10,3,FALSE)","v":25},{"$f":"T103-HLOOKUP(X103,Feuil1!$C$1:$BL$10,4,FALSE)","v":5},{"$f":"T103-HLOOKUP(X103,Feuil1!$C$1:$BL$10,5,FALSE)","v":-15},{"$f":"T103-HLOOKUP(X103,Feuil1!$C$1:$BL$10,6,FALSE)","v":-40},{"$f":"T103-HLOOKUP(X103,Feuil1!$C$1:$BL$10,7,FALSE)","v":-70},{"$f":"T103-HLOOKUP(X103,Feuil1!$C$1:$BL$10,8,FALSE)","v":-90},{"$f":"T103-HLOOKUP(X103,Feuil1!$C$1:$BL$10,9,FALSE)","v":-115},{"$f":"T103-HLOOKUP(X103,Feuil1!$C$1:$BL$10,10,FALSE)","v":-135},null,null,null,null,null,null,"REG +"]
["H","Nord","IDF",13,141055,"CHANE-KUNE","Guillaume",1987,82.49,"SA Montmartroise","F",95,-105,-107,95,115,-122,-122,115,210,45.02000000000001,"REG +",5,{"$f":"IF(I104=\"\",\"\",IF(A104=\"H\",IF(OR(H104=\"SEN\",H104<1995),VLOOKUP(I104,Feuil1!$A$11:$F$29,6),IF(AND(H104>1994,H104<1998),VLOOKUP(I104,Feuil1!$A$11:$F$29,5),IF(AND(H104>1997,H104<2000),VLOOKUP(I104,Feuil1!$A$11:$F$29,4),IF(AND(H104>1999,H104<2002),VLOOKUP(I104,Feuil1!$A$11:$F$29,3),VLOOKUP(I104,Feuil1!$A$11:$F$29,2))))),IF(OR(H104=\"SEN\",H104<1995),VLOOKUP(I104,Feuil1!$G$11:$L$25,6),IF(AND(H104>1994,H104<1998),VLOOKUP(I104,Feuil1!$G$11:$L$25,5),IF(AND(H104>1997,H104<2000),VLOOKUP(I104,Feuil1!$G$11:$L$25,4),IF(AND(H104>1999,H104<2002),VLOOKUP(I104,Feuil1!$G$11:$L$25,3),VLOOKUP(I104,Feuil1!$G$11:$L$25,2)))))))","v":"S85"},254.79408711976717,null," ",{"$f":"T104-HLOOKUP(X104,Feuil1!$C$1:$BL$10,2,FALSE)","v":45},{"$f":"T104-HLOOKUP(X104,Feuil1!$C$1:$BL$10,3,FALSE)","v":25},{"$f":"T104-HLOOKUP(X104,Feuil1!$C$1:$BL$10,4,FALSE)","v":5},{"$f":"T104-HLOOKUP(X104,Feuil1!$C$1:$BL$10,5,FALSE)","v":-15},{"$f":"T104-HLOOKUP(X104,Feuil1!$C$1:$BL$10,6,FALSE)","v":-40},{"$f":"T104-HLOOKUP(X104,Feuil1!$C$1:$BL$10,7,FALSE)","v":-70},{"$f":"T104-HLOOKUP(X104,Feuil1!$C$1:$BL$10,8,FALSE)","v":-90},{"$f":"T104-HLOOKUP(X104,Feuil1!$C$1:$BL$10,9,FALSE)","v":-115},{"$f":"T104-HLOOKUP(X104,Feuil1!$C$1:$BL$10,10,FALSE)","v":-135},null,null,null,null,null,null,"REG +"]
["H","CO","BRE","NC",122826,"BEQUET","Jérémmy",1988,83,"ES Saint Avé","F",-120,-120,-120,0,0,0,0,0,0,-166,"DEB ",-165,{"$f":"IF(I105=\"\",\"\",IF(A105=\"H\",IF(OR(H105=\"SEN\",H105<1995),VLOOKUP(I105,Feuil1!$A$11:$F$29,6),IF(AND(H105>1994,H105<1998),VLOOKUP(I105,Feuil1!$A$11:$F$29,5),IF(AND(H105>1997,H105<2000),VLOOKUP(I105,Feuil1!$A$11:$F$29,4),IF(AND(H105>1999,H105<2002),VLOOKUP(I105,Feuil1!$A$11:$F$29,3),VLOOKUP(I105,Feuil1!$A$11:$F$29,2))))),IF(OR(H105=\"SEN\",H105<1995),VLOOKUP(I105,Feuil1!$G$11:$L$25,6),IF(AND(H105>1994,H105<1998),VLOOKUP(I105,Feuil1!$G$11:$L$25,5),IF(AND(H105>1997,H105<2000),VLOOKUP(I105,Feuil1!$G$11:$L$25,4),IF(AND(H105>1999,H105<2002),VLOOKUP(I105,Feuil1!$G$11:$L$25,3),VLOOKUP(I105,Feuil1!$G$11:$L$25,2)))))))","v":"S85"},0,null," ",{"$f":"T105-HLOOKUP(X105,Feuil1!$C$1:$BL$10,2,FALSE)","v":-165},{"$f":"T105-HLOOKUP(X105,Feuil1!$C$1:$BL$10,3,FALSE)","v":-185},{"$f":"T105-HLOOKUP(X105,Feuil1!$C$1:$BL$10,4,FALSE)","v":-205},{"$f":"T105-HLOOKUP(X105,Feuil1!$C$1:$BL$10,5,FALSE)","v":-225},{"$f":"T105-HLOOKUP(X105,Feuil1!$C$1:$BL$10,6,FALSE)","v":-250},{"$f":"T105-HLOOKUP(X105,Feuil1!$C$1:$BL$10,7,FALSE)","v":-280},{"$f":"T105-HLOOKUP(X105,Feuil1!$C$1:$BL$10,8,FALSE)","v":-300},{"$f":"T105-HLOOKUP(X105,Feuil1!$C$1:$BL$10,9,FALSE)","v":-325},{"$f":"T105-HLOOKUP(X105,Feuil1!$C$1:$BL$10,10,FALSE)","v":-345},null,null,null,null,null,null,"DEB "]
["H","NE","FCO","NC",1146,"AUBRY","Stéphane",1982,83.67,"CH Luxeuil","F",108,113,-115,113,-130,-130,-130,0,0,-167.34,"DEB ",-165,{"$f":"IF(I106=\"\",\"\",IF(A106=\"H\",IF(OR(H106=\"SEN\",H106<1995),VLOOKUP(I106,Feuil1!$A$11:$F$29,6),IF(AND(H106>1994,H106<1998),VLOOKUP(I106,Feuil1!$A$11:$F$29,5),IF(AND(H106>1997,H106<2000),VLOOKUP(I106,Feuil1!$A$11:$F$29,4),IF(AND(H106>1999,H106<2002),VLOOKUP(I106,Feuil1!$A$11:$F$29,3),VLOOKUP(I106,Feuil1!$A$11:$F$29,2))))),IF(OR(H106=\"SEN\",H106<1995),VLOOKUP(I106,Feuil1!$G$11:$L$25,6),IF(AND(H106>1994,H106<1998),VLOOKUP(I106,Feuil1!$G$11:$L$25,5),IF(AND(H106>1997,H106<2000),VLOOKUP(I106,Feuil1!$G$11:$L$25,4),IF(AND(H106>1999,H106<2002),VLOOKUP(I106,Feuil1!$G$11:$L$25,3),VLOOKUP(I106,Feuil1!$G$11:$L$25,2)))))))","v":"S85"},0,null," ",{"$f":"T106-HLOOKUP(X106,Feuil1!$C$1:$BL$10,2,FALSE)","v":-165},{"$f":"T106-HLOOKUP(X106,Feuil1!$C$1:$BL$10,3,FALSE)","v":-185},{"$f":"T106-HLOOKUP(X106,Feuil1!$C$1:$BL$10,4,FALSE)","v":-205},{"$f":"T106-HLOOKUP(X106,Feuil1!$C$1:$BL$10,5,FALSE)","v":-225},{"$f":"T106-HLOOKUP(X106,Feuil1!$C$1:$BL$10,6,FALSE)","v":-250},{"$f":"T106-HLOOKUP(X106,Feuil1!$C$1:$BL$10,7,FALSE)","v":-280},{"$f":"T106-HLOOKUP(X106,Feuil1!$C$1:$BL$10,8,FALSE)","v":-300},{"$f":"T106-HLOOKUP(X106,Feuil1!$C$1:$BL$10,9,FALSE)","v":-325},{"$f":"T106-HLOOKUP(X106,Feuil1!$C$1:$BL$10,10,FALSE)","v":-345},null,null,null,null,null,null,"DEB "]
["H","Nord","NPC","NC",176611,"DENECKER","Rémi",1986,84.1,"CA Rosendael","F",-103,-106,-106,0,"-","-","-",0,0,-168.2,"DEB ",-165,{"$f":"IF(I107=\"\",\"\",IF(A107=\"H\",IF(OR(H107=\"SEN\",H107<1995),VLOOKUP(I107,Feuil1!$A$11:$F$29,6),IF(AND(H107>1994,H107<1998),VLOOKUP(I107,Feuil1!$A$11:$F$29,5),IF(AND(H107>1997,H107<2000),VLOOKUP(I107,Feuil1!$A$11:$F$29,4),IF(AND(H107>1999,H107<2002),VLOOKUP(I107,Feuil1!$A$11:$F$29,3),VLOOKUP(I107,Feuil1!$A$11:$F$29,2))))),IF(OR(H107=\"SEN\",H107<1995),VLOOKUP(I107,Feuil1!$G$11:$L$25,6),IF(AND(H107>1994,H107<1998),VLOOKUP(I107,Feuil1!$G$11:$L$25,5),IF(AND(H107>1997,H107<2000),VLOOKUP(I107,Feuil1!$G$11:$L$25,4),IF(AND(H107>1999,H107<2002),VLOOKUP(I107,Feuil1!$G$11:$L$25,3),VLOOKUP(I107,Feuil1!$G$11:$L$25,2)))))))","v":"S85"},0,null," ",{"$f":"T107-HLOOKUP(X107,Feuil1!$C$1:$BL$10,2,FALSE)","v":-165},{"$f":"T107-HLOOKUP(X107,Feuil1!$C$1:$BL$10,3,FALSE)","v":-185},{"$f":"T107-HLOOKUP(X107,Feuil1!$C$1:$BL$10,4,FALSE)","v":-205},{"$f":"T107-HLOOKUP(X107,Feuil1!$C$1:$BL$10,5,FALSE)","v":-225},{"$f":"T107-HLOOKUP(X107,Feuil1!$C$1:$BL$10,6,FALSE)","v":-250},{"$f":"T107-HLOOKUP(X107,Feuil1!$C$1:$BL$10,7,FALSE)","v":-280},{"$f":"T107-HLOOKUP(X107,Feuil1!$C$1:$BL$10,8,FALSE)","v":-300},{"$f":"T107-HLOOKUP(X107,Feuil1!$C$1:$BL$10,9,FALSE)","v":-325},{"$f":"T107-HLOOKUP(X107,Feuil1!$C$1:$BL$10,10,FALSE)","v":-345},null,null,null,null,null,null,"DEB "]
[]
["H","Nord","IDF",1,124862,"MANUSHI","Redon",1990,92.55,"VGA St Maur","F",135,140,145,{"$f":"IF(H109=\"\",\"\",IF(MAXA(L109:N109)<=0,0,MAXA(L109:N109)))","v":145},145,150,"-",{"$f":"IF(H109=\"\",\"\",IF(MAXA(P109:R109)<=0,0,MAXA(P109:R109)))","v":150},{"$f":"IF(H109=\"\",\"\",IF(OR(O109=0,S109=0),0,O109+S109))","v":295},{"$f":"T109-I109*2","v":109.9},{"$f":"IF(H109=\"\",\"\",AQ109)","v":"NAT +"},{"$f":"IF(AJ109>=0,AJ109,IF(AI109>=0,AI109,IF(AH109>=0,AH109,IF(AG109>=0,AG109,IF(AF109>=0,AF109,IF(AE109>=0,AE109,IF(AD109>=0,AD109,IF(AC109>=0,AC109,AB109))))))))","v":5},{"$f":"IF(I109=\"\",\"\",IF(A109=\"H\",IF(OR(H109=\"SEN\",H109<1995),VLOOKUP(I109,Feuil1!$A$11:$F$29,6),IF(AND(H109>1994,H109<1998),VLOOKUP(I109,Feuil1!$A$11:$F$29,5),IF(AND(H109>1997,H109<2000),VLOOKUP(I109,Feuil1!$A$11:$F$29,4),IF(AND(H109>1999,H109<2002),VLOOKUP(I109,Feuil1!$A$11:$F$29,3),VLOOKUP(I109,Feuil1!$A$11:$F$29,2))))),IF(OR(H109=\"SEN\",H109<1995),VLOOKUP(I109,Feuil1!$G$11:$L$25,6),IF(AND(H109>1994,H109<1998),VLOOKUP(I109,Feuil1!$G$11:$L$25,5),IF(AND(H109>1997,H109<2000),VLOOKUP(I109,Feuil1!$G$11:$L$25,4),IF(AND(H109>1999,H109<2002),VLOOKUP(I109,Feuil1!$G$11:$L$25,3),VLOOKUP(I109,Feuil1!$G$11:$L$25,2)))))))","v":"S94"},{"$f":"IF(I109=\"\",\"\",IF(A109=\"H\",10^(0.794358141*LOG(I109/174.393)^2)*T109,IF(A109=\"F\",10^(0.89726074*LOG(I109/148.026)^2)*T109,\"\")))","v":338.81454861910885},null," ",{"$f":"T109-HLOOKUP(X109,Feuil1!$C$1:$BL$10,2,FALSE)","v":125},{"$f":"T109-HLOOKUP(X109,Feuil1!$C$1:$BL$10,3,FALSE)","v":105},{"$f":"T109-HLOOKUP(X109,Feuil1!$C$1:$BL$10,4,FALSE)","v":80},{"$f":"T109-HLOOKUP(X109,Feuil1!$C$1:$BL$10,5,FALSE)","v":60},{"$f":"T109-HLOOKUP(X109,Feuil1!$C$1:$BL$10,6,FALSE)","v":35},{"$f":"T109-HLOOKUP(X109,Feuil1!$C$1:$BL$10,7,FALSE)","v":5},{"$f":"T109-HLOOKUP(X109,Feuil1!$C$1:$BL$10,8,FALSE)","v":-15},{"$f":"T109-HLOOKUP(X109,Feuil1!$C$1:$BL$10,9,FALSE)","v":-35},{"$f":"T109-HLOOKUP(X109,Feuil1!$C$1:$BL$10,10,FALSE)","v":-60},null,null,null,null,null,null,{"$f":"IF(AJ109>=0,$AJ$4,IF(AI109>=0,$AI$4,IF(AH109>=0,$AH$4,IF(AG109>=0,$AG$4,IF(AF109>=0,$AF$4,IF(AE109>=0,$AE$4,IF(AD109>=0,$AD$4,IF(AC109>=0,$AC$4,$AB$4))))))))","v":"NAT +"}]
["H","SEST","PRO",2,273516,"USSEGLIO","Julien",1994,85.7,"H.M. STE TULLE","F",-115,115,-125,115,155,163,166,166,281,109.6,"FED +",21,{"$f":"IF(I110=\"\",\"\",IF(A110=\"H\",IF(OR(H110=\"SEN\",H110<1995),VLOOKUP(I110,Feuil1!$A$11:$F$29,6),IF(AND(H110>1994,H110<1998),VLOOKUP(I110,Feuil1!$A$11:$F$29,5),IF(AND(H110>1997,H110<2000),VLOOKUP(I110,Feuil1!$A$11:$F$29,4),IF(AND(H110>1999,H110<2002),VLOOKUP(I110,Feuil1!$A$11:$F$29,3),VLOOKUP(I110,Feuil1!$A$11:$F$29,2))))),IF(OR(H110=\"SEN\",H110<1995),VLOOKUP(I110,Feuil1!$G$11:$L$25,6),IF(AND(H110>1994,H110<1998),VLOOKUP(I110,Feuil1!$G$11:$L$25,5),IF(AND(H110>1997,H110<2000),VLOOKUP(I110,Feuil1!$G$11:$L$25,4),IF(AND(H110>1999,H110<2002),VLOOKUP(I110,Feuil1!$G$11:$L$25,3),VLOOKUP(I110,Feuil1!$G$11:$L$25,2)))))))","v":"S94"},334.44969959053657,null," ",{"$f":"T110-HLOOKUP(X110,Feuil1!$C$1:$BL$10,2,FALSE)","v":111},{"$f":"T110-HLOOKUP(X110,Feuil1!$C$1:$BL$10,3,FALSE)","v":91},{"$f":"T110-HLOOKUP(X110,Feuil1!$C$1:$BL$10,4,FALSE)","v":66},{"$f":"T110-HLOOKUP(X110,Feuil1!$C$1:$BL$10,5,FALSE)","v":46},{"$f":"T110-HLOOKUP(X110,Feuil1!$C$1:$BL$10,6,FALSE)","v":21},{"$f":"T110-HLOOKUP(X110,Feuil1!$C$1:$BL$10,7,FALSE)","v":-9},{"$f":"T110-HLOOKUP(X110,Feuil1!$C$1:$BL$10,8,FALSE)","v":-29},{"$f":"T110-HLOOKUP(X110,Feuil1!$C$1:$BL$10,9,FALSE)","v":-49},{"$f":"T110-HLOOKUP(X110,Feuil1!$C$1:$BL$10,10,FALSE)","v":-74},null,null,null,null,null,null,"FED +"]
["H","Nord","IDF",3,108218,"COLIN","Thomas",1992,85.11,"Franconville","F",125,-132,-135,125,145,155,-159,155,280,109.78,"FED +",20,{"$f":"IF(I111=\"\",\"\",IF(A111=\"H\",IF(OR(H111=\"SEN\",H111<1995),VLOOKUP(I111,Feuil1!$A$11:$F$29,6),IF(AND(H111>1994,H111<1998),VLOOKUP(I111,Feuil1!$A$11:$F$29,5),IF(AND(H111>1997,H111<2000),VLOOKUP(I111,Feuil1!$A$11:$F$29,4),IF(AND(H111>1999,H111<2002),VLOOKUP(I111,Feuil1!$A$11:$F$29,3),VLOOKUP(I111,Feuil1!$A$11:$F$29,2))))),IF(OR(H111=\"SEN\",H111<1995),VLOOKUP(I111,Feuil1!$G$11:$L$25,6),IF(AND(H111>1994,H111<1998),VLOOKUP(I111,Feuil1!$G$11:$L$25,5),IF(AND(H111>1997,H111<2000),VLOOKUP(I111,Feuil1!$G$11:$L$25,4),IF(AND(H111>1999,H111<2002),VLOOKUP(I111,Feuil1!$G$11:$L$25,3),VLOOKUP(I111,Feuil1!$G$11:$L$25,2)))))))","v":"S94"},334.39545974293856,null," ",{"$f":"T111-HLOOKUP(X111,Feuil1!$C$1:$BL$10,2,FALSE)","v":110},{"$f":"T111-HLOOKUP(X111,Feuil1!$C$1:$BL$10,3,FALSE)","v":90},{"$f":"T111-HLOOKUP(X111,Feuil1!$C$1:$BL$10,4,FALSE)","v":65},{"$f":"T111-HLOOKUP(X111,Feuil1!$C$1:$BL$10,5,FALSE)","v":45},{"$f":"T111-HLOOKUP(X111,Feuil1!$C$1:$BL$10,6,FALSE)","v":20},{"$f":"T111-HLOOKUP(X111,Feuil1!$C$1:$BL$10,7,FALSE)","v":-10},{"$f":"T111-HLOOKUP(X111,Feuil1!$C$1:$BL$10,8,FALSE)","v":-30},{"$f":"T111-HLOOKUP(X111,Feuil1!$C$1:$BL$10,9,FALSE)","v":-50},{"$f":"T111-HLOOKUP(X111,Feuil1!$C$1:$BL$10,10,FALSE)","v":-75},null,null,null,null,null,null,"FED +"]
["H","Nord","NPC",4,25214,"MONIER","Bruno",1985,87.1,"Ol Grande-Synthe","F",-110,110,115,115,-140,-145,145,145,260,85.800000000000011,"FED +",0,{"$f":"IF(I112=\"\",\"\",IF(A112=\"H\",IF(OR(H112=\"SEN\",H112<1995),VLOOKUP(I112,Feuil1!$A$11:$F$29,6),IF(AND(H112>1994,H112<1998),VLOOKUP(I112,Feuil1!$A$11:$F$29,5),IF(AND(H112>1997,H112<2000),VLOOKUP(I112,Feuil1!$A$11:$F$29,4),IF(AND(H112>1999,H112<2002),VLOOKUP(I112,Feuil1!$A$11:$F$29,3),VLOOKUP(I112,Feuil1!$A$11:$F$29,2))))),IF(OR(H112=\"SEN\",H112<1995),VLOOKUP(I112,Feuil1!$G$11:$L$25,6),IF(AND(H112>1994,H112<1998),VLOOKUP(I112,Feuil1!$G$11:$L$25,5),IF(AND(H112>1997,H112<2000),VLOOKUP(I112,Feuil1!$G$11:$L$25,4),IF(AND(H112>1999,H112<2002),VLOOKUP(I112,Feuil1!$G$11:$L$25,3),VLOOKUP(I112,Feuil1!$G$11:$L$25,2)))))))","v":"S94"},307.03473374653765,null," ",{"$f":"T112-HLOOKUP(X112,Feuil1!$C$1:$BL$10,2,FALSE)","v":90},{"$f":"T112-HLOOKUP(X112,Feuil1!$C$1:$BL$10,3,FALSE)","v":70},{"$f":"T112-HLOOKUP(X112,Feuil1!$C$1:$BL$10,4,FALSE)","v":45},{"$f":"T112-HLOOKUP(X112,Feuil1!$C$1:$BL$10,5,FALSE)","v":25},{"$f":"T112-HLOOKUP(X112,Feuil1!$C$1:$BL$10,6,FALSE)","v":0},{"$f":"T112-HLOOKUP(X112,Feuil1!$C$1:$BL$10,7,FALSE)","v":-30},{"$f":"T112-HLOOKUP(X112,Feuil1!$C$1:$BL$10,8,FALSE)","v":-50},{"$f":"T112-HLOOKUP(X112,Feuil1!$C$1:$BL$10,9,FALSE)","v":-70},{"$f":"T112-HLOOKUP(X112,Feuil1!$C$1:$BL$10,10,FALSE)","v":-95},null,null,null,null,null,null,"FED +"]
["H","Nord","IDF",5,219545,"LENEPVEU","Nicolas",1992,88.94,"SC Neuilly","F",-105,105,115,115,135,140,145,145,260,82.12,"FED +",0,{"$f":"IF(I113=\"\",\"\",IF(A113=\"H\",IF(OR(H113=\"SEN\",H113<1995),VLOOKUP(I113,Feuil1!$A$11:$F$29,6),IF(AND(H113>1994,H113<1998),VLOOKUP(I113,Feuil1!$A$11:$F$29,5),IF(AND(H113>1997,H113<2000),VLOOKUP(I113,Feuil1!$A$11:$F$29,4),IF(AND(H113>1999,H113<2002),VLOOKUP(I113,Feuil1!$A$11:$F$29,3),VLOOKUP(I113,Feuil1!$A$11:$F$29,2))))),IF(OR(H113=\"SEN\",H113<1995),VLOOKUP(I113,Feuil1!$G$11:$L$25,6),IF(AND(H113>1994,H113<1998),VLOOKUP(I113,Feuil1!$G$11:$L$25,5),IF(AND(H113>1997,H113<2000),VLOOKUP(I113,Feuil1!$G$11:$L$25,4),IF(AND(H113>1999,H113<2002),VLOOKUP(I113,Feuil1!$G$11:$L$25,3),VLOOKUP(I113,Feuil1!$G$11:$L$25,2)))))))","v":"S94"},304.02130598508882,null," ",{"$f":"T113-HLOOKUP(X113,Feuil1!$C$1:$BL$10,2,FALSE)","v":90},{"$f":"T113-HLOOKUP(X113,Feuil1!$C$1:$BL$10,3,FALSE)","v":70},{"$f":"T113-HLOOKUP(X113,Feuil1!$C$1:$BL$10,4,FALSE)","v":45},{"$f":"T113-HLOOKUP(X113,Feuil1!$C$1:$BL$10,5,FALSE)","v":25},{"$f":"T113-HLOOKUP(X113,Feuil1!$C$1:$BL$10,6,FALSE)","v":0},{"$f":"T113-HLOOKUP(X113,Feuil1!$C$1:$BL$10,7,FALSE)","v":-30},{"$f":"T113-HLOOKUP(X113,Feuil1!$C$1:$BL$10,8,FALSE)","v":-50},{"$f":"T113-HLOOKUP(X113,Feuil1!$C$1:$BL$10,9,FALSE)","v":-70},{"$f":"T113-HLOOKUP(X113,Feuil1!$C$1:$BL$10,10,FALSE)","v":-95},null,null,null,null,null,null,"FED +"]
["H","Nord","IDF",6,145034,"HAZIR","Cem",1993,92.53,"Franconville","F",100,110,120,120,120,130,-140,130,250,64.94,"IRG +",15,{"$f":"IF(I114=\"\",\"\",IF(A114=\"H\",IF(OR(H114=\"SEN\",H114<1995),VLOOKUP(I114,Feuil1!$A$11:$F$29,6),IF(AND(H114>1994,H114<1998),VLOOKUP(I114,Feuil1!$A$11:$F$29,5),IF(AND(H114>1997,H114<2000),VLOOKUP(I114,Feuil1!$A$11:$F$29,4),IF(AND(H114>1999,H114<2002),VLOOKUP(I114,Feuil1!$A$11:$F$29,3),VLOOKUP(I114,Feuil1!$A$11:$F$29,2))))),IF(OR(H114=\"SEN\",H114<1995),VLOOKUP(I114,Feuil1!$G$11:$L$25,6),IF(AND(H114>1994,H114<1998),VLOOKUP(I114,Feuil1!$G$11:$L$25,5),IF(AND(H114>1997,H114<2000),VLOOKUP(I114,Feuil1!$G$11:$L$25,4),IF(AND(H114>1999,H114<2002),VLOOKUP(I114,Feuil1!$G$11:$L$25,3),VLOOKUP(I114,Feuil1!$G$11:$L$25,2)))))))","v":"S94"},287.1581062388945,null," ",{"$f":"T114-HLOOKUP(X114,Feuil1!$C$1:$BL$10,2,FALSE)","v":80},{"$f":"T114-HLOOKUP(X114,Feuil1!$C$1:$BL$10,3,FALSE)","v":60},{"$f":"T114-HLOOKUP(X114,Feuil1!$C$1:$BL$10,4,FALSE)","v":35},{"$f":"T114-HLOOKUP(X114,Feuil1!$C$1:$BL$10,5,FALSE)","v":15},{"$f":"T114-HLOOKUP(X114,Feuil1!$C$1:$BL$10,6,FALSE)","v":-10},{"$f":"T114-HLOOKUP(X114,Feuil1!$C$1:$BL$10,7,FALSE)","v":-40},{"$f":"T114-HLOOKUP(X114,Feuil1!$C$1:$BL$10,8,FALSE)","v":-60},{"$f":"T114-HLOOKUP(X114,Feuil1!$C$1:$BL$10,9,FALSE)","v":-80},{"$f":"T114-HLOOKUP(X114,Feuil1!$C$1:$BL$10,10,FALSE)","v":-105},null,null,null,null,null,null,"IRG +"]
["H","CO","BNO",7,326123,"CAILLARD","Charly",1992,89.3,"Caen CHM","F",-75,80,85,85,95,-105,105,105,190,11.400000000000006,"DEP +",0,{"$f":"IF(I115=\"\",\"\",IF(A115=\"H\",IF(OR(H115=\"SEN\",H115<1995),VLOOKUP(I115,Feuil1!$A$11:$F$29,6),IF(AND(H115>1994,H115<1998),VLOOKUP(I115,Feuil1!$A$11:$F$29,5),IF(AND(H115>1997,H115<2000),VLOOKUP(I115,Feuil1!$A$11:$F$29,4),IF(AND(H115>1999,H115<2002),VLOOKUP(I115,Feuil1!$A$11:$F$29,3),VLOOKUP(I115,Feuil1!$A$11:$F$29,2))))),IF(OR(H115=\"SEN\",H115<1995),VLOOKUP(I115,Feuil1!$G$11:$L$25,6),IF(AND(H115>1994,H115<1998),VLOOKUP(I115,Feuil1!$G$11:$L$25,5),IF(AND(H115>1997,H115<2000),VLOOKUP(I115,Feuil1!$G$11:$L$25,4),IF(AND(H115>1999,H115<2002),VLOOKUP(I115,Feuil1!$G$11:$L$25,3),VLOOKUP(I115,Feuil1!$G$11:$L$25,2)))))))","v":"S94"},221.7541058760907,null," ",{"$f":"T115-HLOOKUP(X115,Feuil1!$C$1:$BL$10,2,FALSE)","v":20},{"$f":"T115-HLOOKUP(X115,Feuil1!$C$1:$BL$10,3,FALSE)","v":0},{"$f":"T115-HLOOKUP(X115,Feuil1!$C$1:$BL$10,4,FALSE)","v":-25},{"$f":"T115-HLOOKUP(X115,Feuil1!$C$1:$BL$10,5,FALSE)","v":-45},{"$f":"T115-HLOOKUP(X115,Feuil1!$C$1:$BL$10,6,FALSE)","v":-70},{"$f":"T115-HLOOKUP(X115,Feuil1!$C$1:$BL$10,7,FALSE)","v":-100},{"$f":"T115-HLOOKUP(X115,Feuil1!$C$1:$BL$10,8,FALSE)","v":-120},{"$f":"T115-HLOOKUP(X115,Feuil1!$C$1:$BL$10,9,FALSE)","v":-140},{"$f":"T115-HLOOKUP(X115,Feuil1!$C$1:$BL$10,10,FALSE)","v":-165},null,null,null,null,null,null,"DEP +"]
["H","NE","ALS","NC",355144,"KELHETTER","JEROME",1981,89.79,"SR Obernai HM","F",96,101,-105,101,-126,-126,-128,0,0,-179.58,"DEB ",-170,{"$f":"IF(I116=\"\",\"\",IF(A116=\"H\",IF(OR(H116=\"SEN\",H116<1995),VLOOKUP(I116,Feuil1!$A$11:$F$29,6),IF(AND(H116>1994,H116<1998),VLOOKUP(I116,Feuil1!$A$11:$F$29,5),IF(AND(H116>1997,H116<2000),VLOOKUP(I116,Feuil1!$A$11:$F$29,4),IF(AND(H116>1999,H116<2002),VLOOKUP(I116,Feuil1!$A$11:$F$29,3),VLOOKUP(I116,Feuil1!$A$11:$F$29,2))))),IF(OR(H116=\"SEN\",H116<1995),VLOOKUP(I116,Feuil1!$G$11:$L$25,6),IF(AND(H116>1994,H116<1998),VLOOKUP(I116,Feuil1!$G$11:$L$25,5),IF(AND(H116>1997,H116<2000),VLOOKUP(I116,Feuil1!$G$11:$L$25,4),IF(AND(H116>1999,H116<2002),VLOOKUP(I116,Feuil1!$G$11:$L$25,3),VLOOKUP(I116,Feuil1!$G$11:$L$25,2)))))))","v":"S94"},0,null," ",{"$f":"T116-HLOOKUP(X116,Feuil1!$C$1:$BL$10,2,FALSE)","v":-170},{"$f":"T116-HLOOKUP(X116,Feuil1!$C$1:$BL$10,3,FALSE)","v":-190},{"$f":"T116-HLOOKUP(X116,Feuil1!$C$1:$BL$10,4,FALSE)","v":-215},{"$f":"T116-HLOOKUP(X116,Feuil1!$C$1:$BL$10,5,FALSE)","v":-235},{"$f":"T116-HLOOKUP(X116,Feuil1!$C$1:$BL$10,6,FALSE)","v":-260},{"$f":"T116-HLOOKUP(X116,Feuil1!$C$1:$BL$10,7,FALSE)","v":-290},{"$f":"T116-HLOOKUP(X116,Feuil1!$C$1:$BL$10,8,FALSE)","v":-310},{"$f":"T116-HLOOKUP(X116,Feuil1!$C$1:$BL$10,9,FALSE)","v":-330},{"$f":"T116-HLOOKUP(X116,Feuil1!$C$1:$BL$10,10,FALSE)","v":-355},null,null,null,null,null,null,"DEB "]
["H","NE","ALS","NC",282099,"WILM","Clément",1989,93.83,"CS Brumath","F",-108,-110,110,110,-144,-145,-145,0,0,-187.66,"DEB ",-170,{"$f":"IF(I117=\"\",\"\",IF(A117=\"H\",IF(OR(H117=\"SEN\",H117<1995),VLOOKUP(I117,Feuil1!$A$11:$F$29,6),IF(AND(H117>1994,H117<1998),VLOOKUP(I117,Feuil1!$A$11:$F$29,5),IF(AND(H117>1997,H117<2000),VLOOKUP(I117,Feuil1!$A$11:$F$29,4),IF(AND(H117>1999,H117<2002),VLOOKUP(I117,Feuil1!$A$11:$F$29,3),VLOOKUP(I117,Feuil1!$A$11:$F$29,2))))),IF(OR(H117=\"SEN\",H117<1995),VLOOKUP(I117,Feuil1!$G$11:$L$25,6),IF(AND(H117>1994,H117<1998),VLOOKUP(I117,Feuil1!$G$11:$L$25,5),IF(AND(H117>1997,H117<2000),VLOOKUP(I117,Feuil1!$G$11:$L$25,4),IF(AND(H117>1999,H117<2002),VLOOKUP(I117,Feuil1!$G$11:$L$25,3),VLOOKUP(I117,Feuil1!$G$11:$L$25,2)))))))","v":"S94"},0,null," ",{"$f":"T117-HLOOKUP(X117,Feuil1!$C$1:$BL$10,2,FALSE)","v":-170},{"$f":"T117-HLOOKUP(X117,Feuil1!$C$1:$BL$10,3,FALSE)","v":-190},{"$f":"T117-HLOOKUP(X117,Feuil1!$C$1:$BL$10,4,FALSE)","v":-215},{"$f":"T117-HLOOKUP(X117,Feuil1!$C$1:$BL$10,5,FALSE)","v":-235},{"$f":"T117-HLOOKUP(X117,Feuil1!$C$1:$BL$10,6,FALSE)","v":-260},{"$f":"T117-HLOOKUP(X117,Feuil1!$C$1:$BL$10,7,FALSE)","v":-290},{"$f":"T117-HLOOKUP(X117,Feuil1!$C$1:$BL$10,8,FALSE)","v":-310},{"$f":"T117-HLOOKUP(X117,Feuil1!$C$1:$BL$10,9,FALSE)","v":-330},{"$f":"T117-HLOOKUP(X117,Feuil1!$C$1:$BL$10,10,FALSE)","v":-355},null,null,null,null,null,null,"DEB "]
[]
["H","SEST","CAZ",1,187663,"BOUCHER","Alexis",1994,102.2,"E.S. VILLENEUVE LOUBET","F",-132,132,-140,{"$f":"IF(H119=\"\",\"\",IF(MAXA(L119:N119)<=0,0,MAXA(L119:N119)))","v":132},155,164,-168,{"$f":"IF(H119=\"\",\"\",IF(MAXA(P119:R119)<=0,0,MAXA(P119:R119)))","v":164},{"$f":"IF(H119=\"\",\"\",IF(OR(O119=0,S119=0),0,O119+S119))","v":296},{"$f":"T119-I119*2","v":91.6},{"$f":"IF(H119=\"\",\"\",AQ119)","v":"FED +"},{"$f":"IF(AJ119>=0,AJ119,IF(AI119>=0,AI119,IF(AH119>=0,AH119,IF(AG119>=0,AG119,IF(AF119>=0,AF119,IF(AE119>=0,AE119,IF(AD119>=0,AD119,IF(AC119>=0,AC119,AB119))))))))","v":26},{"$f":"IF(I119=\"\",\"\",IF(A119=\"H\",IF(OR(H119=\"SEN\",H119<1995),VLOOKUP(I119,Feuil1!$A$11:$F$29,6),IF(AND(H119>1994,H119<1998),VLOOKUP(I119,Feuil1!$A$11:$F$29,5),IF(AND(H119>1997,H119<2000),VLOOKUP(I119,Feuil1!$A$11:$F$29,4),IF(AND(H119>1999,H119<2002),VLOOKUP(I119,Feuil1!$A$11:$F$29,3),VLOOKUP(I119,Feuil1!$A$11:$F$29,2))))),IF(OR(H119=\"SEN\",H119<1995),VLOOKUP(I119,Feuil1!$G$11:$L$25,6),IF(AND(H119>1994,H119<1998),VLOOKUP(I119,Feuil1!$G$11:$L$25,5),IF(AND(H119>1997,H119<2000),VLOOKUP(I119,Feuil1!$G$11:$L$25,4),IF(AND(H119>1999,H119<2002),VLOOKUP(I119,Feuil1!$G$11:$L$25,3),VLOOKUP(I119,Feuil1!$G$11:$L$25,2)))))))","v":"S105"},{"$f":"IF(I119=\"\",\"\",IF(A119=\"H\",10^(0.794358141*LOG(I119/174.393)^2)*T119,IF(A119=\"F\",10^(0.89726074*LOG(I119/148.026)^2)*T119,\"\")))","v":326.64502970004429},null," ",{"$f":"T119-HLOOKUP(X119,Feuil1!$C$1:$BL$10,2,FALSE)","v":121},{"$f":"T119-HLOOKUP(X119,Feuil1!$C$1:$BL$10,3,FALSE)","v":101},{"$f":"T119-HLOOKUP(X119,Feuil1!$C$1:$BL$10,4,FALSE)","v":76},{"$f":"T119-HLOOKUP(X119,Feuil1!$C$1:$BL$10,5,FALSE)","v":51},{"$f":"T119-HLOOKUP(X119,Feuil1!$C$1:$BL$10,6,FALSE)","v":26},{"$f":"T119-HLOOKUP(X119,Feuil1!$C$1:$BL$10,7,FALSE)","v":-4},{"$f":"T119-HLOOKUP(X119,Feuil1!$C$1:$BL$10,8,FALSE)","v":-29},{"$f":"T119-HLOOKUP(X119,Feuil1!$C$1:$BL$10,9,FALSE)","v":-49},{"$f":"T119-HLOOKUP(X119,Feuil1!$C$1:$BL$10,10,FALSE)","v":-69},null,null,null,null,null,null,{"$f":"IF(AJ119>=0,$AJ$4,IF(AI119>=0,$AI$4,IF(AH119>=0,$AH$4,IF(AG119>=0,$AG$4,IF(AF119>=0,$AF$4,IF(AE119>=0,$AE$4,IF(AD119>=0,$AD$4,IF(AC119>=0,$AC$4,$AB$4))))))))","v":"FED +"}]
["H","CO","BNO",2,357286,"KABIA","Abu Bakarr",1987,94.4,"Caen CHM","Srl",125,130,-135,130,160,165,-170,165,295,106.19999999999999,"FED +",25,{"$f":"IF(I120=\"\",\"\",IF(A120=\"H\",IF(OR(H120=\"SEN\",H120<1995),VLOOKUP(I120,Feuil1!$A$11:$F$29,6),IF(AND(H120>1994,H120<1998),VLOOKUP(I120,Feuil1!$A$11:$F$29,5),IF(AND(H120>1997,H120<2000),VLOOKUP(I120,Feuil1!$A$11:$F$29,4),IF(AND(H120>1999,H120<2002),VLOOKUP(I120,Feuil1!$A$11:$F$29,3),VLOOKUP(I120,Feuil1!$A$11:$F$29,2))))),IF(OR(H120=\"SEN\",H120<1995),VLOOKUP(I120,Feuil1!$G$11:$L$25,6),IF(AND(H120>1994,H120<1998),VLOOKUP(I120,Feuil1!$G$11:$L$25,5),IF(AND(H120>1997,H120<2000),VLOOKUP(I120,Feuil1!$G$11:$L$25,4),IF(AND(H120>1999,H120<2002),VLOOKUP(I120,Feuil1!$G$11:$L$25,3),VLOOKUP(I120,Feuil1!$G$11:$L$25,2)))))))","v":"S105"},335.94120639555342,null," ",{"$f":"T120-HLOOKUP(X120,Feuil1!$C$1:$BL$10,2,FALSE)","v":120},{"$f":"T120-HLOOKUP(X120,Feuil1!$C$1:$BL$10,3,FALSE)","v":100},{"$f":"T120-HLOOKUP(X120,Feuil1!$C$1:$BL$10,4,FALSE)","v":75},{"$f":"T120-HLOOKUP(X120,Feuil1!$C$1:$BL$10,5,FALSE)","v":50},{"$f":"T120-HLOOKUP(X120,Feuil1!$C$1:$BL$10,6,FALSE)","v":25},{"$f":"T120-HLOOKUP(X120,Feuil1!$C$1:$BL$10,7,FALSE)","v":-5},{"$f":"T120-HLOOKUP(X120,Feuil1!$C$1:$BL$10,8,FALSE)","v":-30},{"$f":"T120-HLOOKUP(X120,Feuil1!$C$1:$BL$10,9,FALSE)","v":-50},{"$f":"T120-HLOOKUP(X120,Feuil1!$C$1:$BL$10,10,FALSE)","v":-70},null,null,null,null,null,null,"FED +"]
["H","Nord","NPC",3,218733,"LAPOSTOLLE","David",1992,95.4,"Berck sur Mer","F",120,125,130,130,155,-160,160,160,290,99.199999999999989,"FED +",20,{"$f":"IF(I121=\"\",\"\",IF(A121=\"H\",IF(OR(H121=\"SEN\",H121<1995),VLOOKUP(I121,Feuil1!$A$11:$F$29,6),IF(AND(H121>1994,H121<1998),VLOOKUP(I121,Feuil1!$A$11:$F$29,5),IF(AND(H121>1997,H121<2000),VLOOKUP(I121,Feuil1!$A$11:$F$29,4),IF(AND(H121>1999,H121<2002),VLOOKUP(I121,Feuil1!$A$11:$F$29,3),VLOOKUP(I121,Feuil1!$A$11:$F$29,2))))),IF(OR(H121=\"SEN\",H121<1995),VLOOKUP(I121,Feuil1!$G$11:$L$25,6),IF(AND(H121>1994,H121<1998),VLOOKUP(I121,Feuil1!$G$11:$L$25,5),IF(AND(H121>1997,H121<2000),VLOOKUP(I121,Feuil1!$G$11:$L$25,4),IF(AND(H121>1999,H121<2002),VLOOKUP(I121,Feuil1!$G$11:$L$25,3),VLOOKUP(I121,Feuil1!$G$11:$L$25,2)))))))","v":"S105"},328.78945029644717,null," ",{"$f":"T121-HLOOKUP(X121,Feuil1!$C$1:$BL$10,2,FALSE)","v":115},{"$f":"T121-HLOOKUP(X121,Feuil1!$C$1:$BL$10,3,FALSE)","v":95},{"$f":"T121-HLOOKUP(X121,Feuil1!$C$1:$BL$10,4,FALSE)","v":70},{"$f":"T121-HLOOKUP(X121,Feuil1!$C$1:$BL$10,5,FALSE)","v":45},{"$f":"T121-HLOOKUP(X121,Feuil1!$C$1:$BL$10,6,FALSE)","v":20},{"$f":"T121-HLOOKUP(X121,Feuil1!$C$1:$BL$10,7,FALSE)","v":-10},{"$f":"T121-HLOOKUP(X121,Feuil1!$C$1:$BL$10,8,FALSE)","v":-35},{"$f":"T121-HLOOKUP(X121,Feuil1!$C$1:$BL$10,9,FALSE)","v":-55},{"$f":"T121-HLOOKUP(X121,Feuil1!$C$1:$BL$10,10,FALSE)","v":-75},null,null,null,null,null,null,"FED +"]
["H","SEST","RAL",4,97663,"DELACALLE","Yoann",1979,97.3,"C.H. L'ARBRESLE","F",112,117,-121,117,143,153,"-",153,270,75.400000000000006,"FED +",0,{"$f":"IF(I122=\"\",\"\",IF(A122=\"H\",IF(OR(H122=\"SEN\",H122<1995),VLOOKUP(I122,Feuil1!$A$11:$F$29,6),IF(AND(H122>1994,H122<1998),VLOOKUP(I122,Feuil1!$A$11:$F$29,5),IF(AND(H122>1997,H122<2000),VLOOKUP(I122,Feuil1!$A$11:$F$29,4),IF(AND(H122>1999,H122<2002),VLOOKUP(I122,Feuil1!$A$11:$F$29,3),VLOOKUP(I122,Feuil1!$A$11:$F$29,2))))),IF(OR(H122=\"SEN\",H122<1995),VLOOKUP(I122,Feuil1!$G$11:$L$25,6),IF(AND(H122>1994,H122<1998),VLOOKUP(I122,Feuil1!$G$11:$L$25,5),IF(AND(H122>1997,H122<2000),VLOOKUP(I122,Feuil1!$G$11:$L$25,4),IF(AND(H122>1999,H122<2002),VLOOKUP(I122,Feuil1!$G$11:$L$25,3),VLOOKUP(I122,Feuil1!$G$11:$L$25,2)))))))","v":"S105"},303.65278243025881,null," ",{"$f":"T122-HLOOKUP(X122,Feuil1!$C$1:$BL$10,2,FALSE)","v":95},{"$f":"T122-HLOOKUP(X122,Feuil1!$C$1:$BL$10,3,FALSE)","v":75},{"$f":"T122-HLOOKUP(X122,Feuil1!$C$1:$BL$10,4,FALSE)","v":50},{"$f":"T122-HLOOKUP(X122,Feuil1!$C$1:$BL$10,5,FALSE)","v":25},{"$f":"T122-HLOOKUP(X122,Feuil1!$C$1:$BL$10,6,FALSE)","v":0},{"$f":"T122-HLOOKUP(X122,Feuil1!$C$1:$BL$10,7,FALSE)","v":-30},{"$f":"T122-HLOOKUP(X122,Feuil1!$C$1:$BL$10,8,FALSE)","v":-55},{"$f":"T122-HLOOKUP(X122,Feuil1!$C$1:$BL$10,9,FALSE)","v":-75},{"$f":"T122-HLOOKUP(X122,Feuil1!$C$1:$BL$10,10,FALSE)","v":-95},null,null,null,null,null,null,"FED +"]
["H","CO","BNO",5,376364,"GONCALVES","Raoul",1988,100.4,"Caen CHM","F",110,115,-120,115,135,140,150,150,265,64.199999999999989,"IRG +",20,{"$f":"IF(I123=\"\",\"\",IF(A123=\"H\",IF(OR(H123=\"SEN\",H123<1995),VLOOKUP(I123,Feuil1!$A$11:$F$29,6),IF(AND(H123>1994,H123<1998),VLOOKUP(I123,Feuil1!$A$11:$F$29,5),IF(AND(H123>1997,H123<2000),VLOOKUP(I123,Feuil1!$A$11:$F$29,4),IF(AND(H123>1999,H123<2002),VLOOKUP(I123,Feuil1!$A$11:$F$29,3),VLOOKUP(I123,Feuil1!$A$11:$F$29,2))))),IF(OR(H123=\"SEN\",H123<1995),VLOOKUP(I123,Feuil1!$G$11:$L$25,6),IF(AND(H123>1994,H123<1998),VLOOKUP(I123,Feuil1!$G$11:$L$25,5),IF(AND(H123>1997,H123<2000),VLOOKUP(I123,Feuil1!$G$11:$L$25,4),IF(AND(H123>1999,H123<2002),VLOOKUP(I123,Feuil1!$G$11:$L$25,3),VLOOKUP(I123,Feuil1!$G$11:$L$25,2)))))))","v":"S105"},294.38989547428139,null," ",{"$f":"T123-HLOOKUP(X123,Feuil1!$C$1:$BL$10,2,FALSE)","v":90},{"$f":"T123-HLOOKUP(X123,Feuil1!$C$1:$BL$10,3,FALSE)","v":70},{"$f":"T123-HLOOKUP(X123,Feuil1!$C$1:$BL$10,4,FALSE)","v":45},{"$f":"T123-HLOOKUP(X123,Feuil1!$C$1:$BL$10,5,FALSE)","v":20},{"$f":"T123-HLOOKUP(X123,Feuil1!$C$1:$BL$10,6,FALSE)","v":-5},{"$f":"T123-HLOOKUP(X123,Feuil1!$C$1:$BL$10,7,FALSE)","v":-35},{"$f":"T123-HLOOKUP(X123,Feuil1!$C$1:$BL$10,8,FALSE)","v":-60},{"$f":"T123-HLOOKUP(X123,Feuil1!$C$1:$BL$10,9,FALSE)","v":-80},{"$f":"T123-HLOOKUP(X123,Feuil1!$C$1:$BL$10,10,FALSE)","v":-100},null,null,null,null,null,null,"IRG +"]
["H","NE","FCO","NC",81998,"BOFFY","Matthieu",1981,99.35,"CH Luxeuil","F",-120,-120,-120,0,"-","-","-",0,0,-198.7,"DEB ",-175,{"$f":"IF(I124=\"\",\"\",IF(A124=\"H\",IF(OR(H124=\"SEN\",H124<1995),VLOOKUP(I124,Feuil1!$A$11:$F$29,6),IF(AND(H124>1994,H124<1998),VLOOKUP(I124,Feuil1!$A$11:$F$29,5),IF(AND(H124>1997,H124<2000),VLOOKUP(I124,Feuil1!$A$11:$F$29,4),IF(AND(H124>1999,H124<2002),VLOOKUP(I124,Feuil1!$A$11:$F$29,3),VLOOKUP(I124,Feuil1!$A$11:$F$29,2))))),IF(OR(H124=\"SEN\",H124<1995),VLOOKUP(I124,Feuil1!$G$11:$L$25,6),IF(AND(H124>1994,H124<1998),VLOOKUP(I124,Feuil1!$G$11:$L$25,5),IF(AND(H124>1997,H124<2000),VLOOKUP(I124,Feuil1!$G$11:$L$25,4),IF(AND(H124>1999,H124<2002),VLOOKUP(I124,Feuil1!$G$11:$L$25,3),VLOOKUP(I124,Feuil1!$G$11:$L$25,2)))))))","v":"S105"},0,null," ",{"$f":"T124-HLOOKUP(X124,Feuil1!$C$1:$BL$10,2,FALSE)","v":-175},{"$f":"T124-HLOOKUP(X124,Feuil1!$C$1:$BL$10,3,FALSE)","v":-195},{"$f":"T124-HLOOKUP(X124,Feuil1!$C$1:$BL$10,4,FALSE)","v":-220},{"$f":"T124-HLOOKUP(X124,Feuil1!$C$1:$BL$10,5,FALSE)","v":-245},{"$f":"T124-HLOOKUP(X124,Feuil1!$C$1:$BL$10,6,FALSE)","v":-270},{"$f":"T124-HLOOKUP(X124,Feuil1!$C$1:$BL$10,7,FALSE)","v":-300},{"$f":"T124-HLOOKUP(X124,Feuil1!$C$1:$BL$10,8,FALSE)","v":-325},{"$f":"T124-HLOOKUP(X124,Feuil1!$C$1:$BL$10,9,FALSE)","v":-345},{"$f":"T124-HLOOKUP(X124,Feuil1!$C$1:$BL$10,10,FALSE)","v":-365},null,null,null,null,null,null,"DEB "]
[]
["H",null,null,null,null,null,null,null,null,null,null,null,null,null,{"$f":"IF(H126=\"\",\"\",IF(MAXA(L126:N126)<=0,0,MAXA(L126:N126)))","v":""},null,null,null,{"$f":"IF(H126=\"\",\"\",IF(MAXA(P126:R126)<=0,0,MAXA(P126:R126)))","v":""},{"$f":"IF(H126=\"\",\"\",IF(OR(O126=0,S126=0),0,O126+S126))","v":""},{"$f":"T126-I126*2","v":{"$error":"#VALUE!"}},{"$f":"IF(H126=\"\",\"\",AQ126)","v":""},{"$f":"IF(AJ126>=0,AJ126,IF(AI126>=0,AI126,IF(AH126>=0,AH126,IF(AG126>=0,AG126,IF(AF126>=0,AF126,IF(AE126>=0,AE126,IF(AD126>=0,AD126,IF(AC126>=0,AC126,AB126))))))))","v":{"$error":"#VALUE!"}},{"$f":"IF(I126=\"\",\"\",IF(A126=\"H\",IF(OR(H126=\"SEN\",H126<1995),VLOOKUP(I126,Feuil1!$A$11:$F$29,6),IF(AND(H126>1994,H126<1998),VLOOKUP(I126,Feuil1!$A$11:$F$29,5),IF(AND(H126>1997,H126<2000),VLOOKUP(I126,Feuil1!$A$11:$F$29,4),IF(AND(H126>1999,H126<2002),VLOOKUP(I126,Feuil1!$A$11:$F$29,3),VLOOKUP(I126,Feuil1!$A$11:$F$29,2))))),IF(OR(H126=\"SEN\",H126<1995),VLOOKUP(I126,Feuil1!$G$11:$L$25,6),IF(AND(H126>1994,H126<1998),VLOOKUP(I126,Feuil1!$G$11:$L$25,5),IF(AND(H126>1997,H126<2000),VLOOKUP(I126,Feuil1!$G$11:$L$25,4),IF(AND(H126>1999,H126<2002),VLOOKUP(I126,Feuil1!$G$11:$L$25,3),VLOOKUP(I126,Feuil1!$G$11:$L$25,2)))))))","v":""},{"$f":"IF(I126=\"\",\"\",IF(A126=\"H\",10^(0.794358141*LOG(I126/174.393)^2)*T126,IF(A126=\"F\",10^(0.89726074*LOG(I126/148.026)^2)*T126,\"\")))","v":""},null," ",{"$f":"T126-HLOOKUP(X126,Feuil1!$C$1:$BJ$10,2,FALSE)","v":{"$error":"#VALUE!"}},{"$f":"T126-HLOOKUP(X126,Feuil1!$C$1:$BJ$10,3,FALSE)","v":{"$error":"#VALUE!"}},{"$f":"T126-HLOOKUP(X126,Feuil1!$C$1:$BJ$10,4,FALSE)","v":{"$error":"#VALUE!"}},{"$f":"T126-HLOOKUP(X126,Feuil1!$C$1:$BJ$10,5,FALSE)","v":{"$error":"#VALUE!"}},{"$f":"T126-HLOOKUP(X126,Feuil1!$C$1:$BJ$10,6,FALSE)","v":{"$error":"#VALUE!"}},{"$f":"T126-HLOOKUP(X126,Feuil1!$C$1:$BJ$10,7,FALSE)","v":{"$error":"#VALUE!"}},{"$f":"T126-HLOOKUP(X126,Feuil1!$C$1:$BJ$10,8,FALSE)","v":{"$error":"#VALUE!"}},{"$f":"T126-HLOOKUP(X126,Feuil1!$C$1:$BJ$10,9,FALSE)","v":{"$error":"#VALUE!"}},{"$f":"T126-HLOOKUP(X126,Feuil1!$C$1:$BJ$10,10,FALSE)","v":{"$error":"#VALUE!"}},null,null,null,null,null,null,{"$f":"IF(AJ126>=0,$AJ$4,IF(AI126>=0,$AI$4,IF(AH126>=0,$AH$4,IF(AG126>=0,$AG$4,IF(AF126>=0,$AF$4,IF(AE126>=0,$AE$4,IF(AD126>=0,$AD$4,IF(AC126>=0,$AC$4,$AB$4))))))))","v":{"$error":"#VALUE!"}}]
[]
[]
[]
[]
[]
[]
[]
[]
[]
[]
[]
[]
[]
[]
[]
[]
[]
[]
[]
[]
[]
[]
[]
[]
[]
[]
[]
[]
[]
[]
[]
[]
[]
[]
[]
[]
[]
[]
[]
[]
[]
[]
[]
[]
[]
[]
[]
[]
[]
[]
[]
[]
[]
[]
[]
[]
[]
[]
[]
[]
[]
[]
[]
[]
[]
[]
[]
[]
[]
[]
[]
[]
[]
[]
[]
[]
[]
[]
[]
[]
[]
[]
[]
[]
[]
[]
[]
[]
[]
[]
[]
[]
[]
[]
[]
[]
[]
[]
[]
[]
[]
[]
[]
[]
[]
[]
[]
[]
[]
[]
[]
[]
[]
[]
[]
[]
[]
[]
[]
[]
[]
[]
[]
[]
[]
[]
[]
[]
[]
[]
[]
[]
[]
[]
[]
[]
[]
[]
[]
[]
[]
[]
[]
[]
[]
[]
[]
[]
[]
[]
[]
[]
[]
[]
[]
[]
[]
[]
[]
[]
[]
[]
[]
[]
[]
[]
[]
[]
[]
[]
[]
[]
[]
[]
[]
[]
[]
[]
[]
[]
[]
[]
[]
[]
[]
[]
[]
[]
[]
[]
[]
[]
[]
[]
[]
[]
[]
[]
[]
[]
[]
[]
[]
[]
[]
[]
[]
[]
[]
[]
[]
[]
[]
[]
[]
[]
[]
[]
[]
[]
[]
[]
[]
[]
[]
[]
[]
[]
[]
[]
[]
[]
[]
[]
[]
[]
[]
[]
[]
[]
[]
[]
[]
[]
[]
[]
[]
[]
[]
[]
[]
[]
[]
[]
[]
[]
[]
[]
[]
[]
[]
[]
[]
[]
[]
[]
[]
[]
[]
[]
[]
[]
[]
[]
[]
[]
[]
[]
[]
[]
[]
[]
[]
[]
[]
[]
[]
[]
[]
[]
[]
[]
[]
[]
[]
[]
[]
[]
[]
[]
[]
[]
[]
[]
[]
[]
[]
[]
[]
[]
[]
[]
[]
[]
[]
[]
[]
[]
[]
[]
[]
[]
[]
[]
[]
[]
[]
[]
[]
[]
[]
[]
[]
[]
[]
[]
[]
[]
[]
[]
[]
[]
[]
[]
[]
[]
[]
[]
[]
[]
[]
[]
[]
[]
[]
[]
[]
[]
[]
[]
[]
[]
[]
[]
[]
[]
[]
[]
[]
[]
[]
[]
[]
[]
[]
[]
[]
[]
[]
[]
[]
[]
[]
[]
[]
[]
[]
[]
[]
[]
[]
[]
[null,null,null,null,null,null,null,null,null,null,null,null,null,null,null,null,null,null,null,null,null,null,null,null,null,null,null,"J77","J85","J94","J105","J+105",null,"J56","J62","J69","J77","J85","J94","J105","J+105",null,"S56","S62","S69","S77","S85","S94","S105","S+105"]
[null,null,null,null,null,null,null,null,null,null,null,null,null,null,null,null,null,null,null,null,null,null,null,null,null,null,null,145,160,170,180,190,null,100,115,130,145,160,170,180,190,null,115,135,150,165,180,190,200,210]
[null,null,null,null,null,null,null,null,null,null,null,null,null,null,null,null,null,null,null,null,null,null,null,null,null,null,null,165,180,190,200,210,null,115,135,150,165,180,190,200,210,null,130,150,165,185,200,210,220,230]
[null,null,null,null,null,null,null,null,null,null,null,null,null,null,null,null,null,null,null,null,null,null,null,null,null,null,null,185,200,210,220,230,null,130,150,165,185,200,210,220,230,null,145,165,180,200,220,230,240,250]
[null,null,null,null,null,null,null,null,null,null,null,null,null,null,null,null,null,null,null,null,null,null,null,null,null,null,null,200,220,230,240,250,null,145,165,180,200,220,230,240,250,null,175,195,215,235,250,260,275,280]
[null,null,null,null,null,null,null,null,null,null,null,null,null,null,null,null,null,null,null,null,null,null,null,null,null,null,null,235,250,260,275,280,null,175,195,215,235,250,260,275,280,null,210,230,250,270,290,300,310,325]
[null,null,null,null,null,null,null,null,null,null,null,null,null,null,null,null,null,null,null,null,null,null,null,null,null,null,null,270,290,300,310,325,null,210,230,250,270,290,300,310,325,null,230,255,275,300,315,335,345,355]
[null,null,null,null,null,null,null,null,null,null,null,null,null,null,null,null,null,null,null,null,null,null,null,null,null,null,null,320,335,355,370,380,null,245,270,295,320,335,355,370,380,null,245,270,295,320,335,355,370,380]