{"text_format":"1","workbook":"xlsx","n_sheets":4,"sheets":["Feuil1","FEMININES","CADETS JUNIORS","SENIORS"],"not_rendered":{"charts":0,"images":1,"macros":1,"external_links":0,"defined_names":9,"comments":3,"pivot_tables":0},"unopened":[],"bounds":{"document_bytes":16777216,"sheet_cells":100000,"rows_first":2000,"rows_last":500,"rows_between":2000,"halvings":0,"cell_chars":16384,"cell_head_chars":4096},"cells_cut":0,"cells_raw":0,"read":"whole","date_system":"1900"}

{"sheet":"Feuil1","index":0,"n_rows":29,"n_cols":64,"rows_kept":29,"cut":false,"hidden":true,"merged":[]}
[null,null,"FC1 40","FC1 44","FC1 48","FC1 53","FC1 58","FC1 63","FC1 69","FC1 +69","FC2 44","FC2 48","FC2 53","FC2 58","FC2 63","FC2 69","FC2 +69","FJ48","FJ53","FJ58","FJ63","FJ69","FJ75","FJ+75","FS48","FS53","FS58","FS63","FS69","FS75","FS+75","C1 45","C1 50","C1 56","C1 62","C1 69","C1 77","C1 85","C1 94","C1 +94","C2 50","C2 56","C2 62","C2 69","C2 77","C2 85","C2 94","C2 +94","J56","J62","J69","J77","J85","J94","J105","J+105","S56","S62","S69","S77","S85","S94","S105","S+105"]
[null,"DEBUTANT",20,25,25,35,40,45,50,60,30,35,45,50,55,60,70,45,55,60,65,70,80,90,55,65,70,75,80,95,100,35,40,50,75,85,90,100,110,120,45,65,85,95,110,120,125,135,80,90,110,130,145,150,155,165,95,120,130,150,165,170,175,185]
[null,"DEPARTEMENTAL",25,35,35,45,50,55,60,70,40,45,55,60,65,70,80,55,65,70,75,80,95,100,65,75,80,85,90,105,110,50,55,70,95,105,110,120,130,140,65,85,105,115,130,140,145,155,100,120,130,150,165,170,175,185,115,135,150,170,185,190,195,205]
[null,"REGIONAL",35,40,45,55,60,65,70,80,50,55,65,70,75,80,95,65,75,80,85,90,105,110,75,85,90,95,105,115,125,60,65,85,105,115,130,140,145,155,80,100,120,130,150,160,165,175,115,135,150,170,185,190,195,205,130,150,170,190,205,215,220,225]
[null,"INTERREGIONAL",45,50,55,65,70,75,80,95,60,65,75,80,85,90,105,75,85,90,95,105,115,125,85,95,100,110,120,130,140,75,80,100,120,130,150,160,165,175,95,115,135,150,170,180,185,195,130,150,170,190,205,215,220,225,145,170,190,210,225,235,245,250]
[null,"FEDERAL",50,60,65,75,80,85,90,105,70,75,85,90,95,105,115,85,95,100,110,120,130,140,95,105,115,125,135,145,150,90,95,115,135,150,170,180,185,195,110,130,150,170,185,200,210,220,145,170,190,210,225,235,245,250,170,190,220,240,250,260,270,280]
[null,"NATIONAL",60,70,75,85,90,95,105,115,80,85,95,100,110,120,130,95,105,115,125,135,145,150,110,120,130,140,150,160,170,105,110,130,150,170,185,200,210,220,120,145,170,190,200,220,225,235,170,190,220,240,250,260,270,280,190,210,240,265,280,290,300,310]
[null,"INTERNATIONAL B",70,80,85,95,100,110,120,130,90,95,105,115,125,135,145,110,120,130,140,150,160,170,125,140,150,160,170,180,190,115,120,145,170,190,200,220,225,235,135,170,190,210,220,240,250,260,190,210,240,260,280,290,300,310,210,230,260,285,300,310,325,330]
[null,"INTERNATIONAL A",80,90,95,105,115,125,135,145,100,110,120,130,140,150,160,125,135,150,160,170,180,190,140,160,170,180,190,195,210,130,135,170,190,210,220,240,250,260,150,190,210,230,250,260,280,280,210,230,250,285,300,310,325,330,225,255,275,305,325,330,345,355]
[null,"OLYMPIQUE",1000,1000,1000,1000,1000,1000,1000,1000,1000,1000,1000,1000,1000,1000,1000,1000,1000,1000,1000,1000,1000,1000,155,175,190,200,205,210,225,1000,1000,1000,1000,1000,1000,10000,1000,1000,1000,1000,1000,1000,1000,10000,1000,1000,1000,1000,1000,10000,1000,1000,1000,10000,240,270,290,320,345,355,365,375]
[null,"MINIME","CADET","CADET","JUNIOR","SENIOR",null,"MINIME","CADETTE","CADETTE","JUNIOR","SENIOR"]
[20.010000000000002,"NON","C1 45","C2 50","J56","S56",20.010000000000002,"NON","FC1 40","FC2 44","FJ48","FS48"]
[34.01,"NON","C1 45","C2 50","J56","S56",30.01,"NON","FC1 40","FC2 44","FJ48","FS48"]
[38.01,"NON","C1 45","C2 50","J56","S56",35.01,"NON","FC1 40","FC2 44","FJ48","FS48"]
[40.01,"NON","C1 45","C2 50","J56","S56",36.01,"NON","FC1 40","FC2 44","FJ48","FS48"]
[45.01,"NON","C1 50","C2 50","J56","S56",40.01,"NON","FC1 44","FC2 44","FJ48","FS48"]
[50.01,"NON","C1 56","C2 56","J56","S56",44.01,"NON","FC1 48","FC2 48","FJ48","FS48"]
[52.05,"NON","C1 56","C2 56","J56","S56",48.01,"NON","FC1 53","FC2 53","FJ53","FS53"]
[56.01,"NON","C1 62","C2 62","J62","S62",53.01,"NON","FC1 58","FC2 58","FJ58","FS58"]
[62.01,"NON","C1 69","C2 69","J69","S69",58.01,"NON","FC1 63","FC2 63","FJ63","FS63"]
[69.010000000000005,"NON","C1 77","C2 77","J77","S77",63.01,"NON","FC1 69","FC2 69","FJ69","FS69"]
[77.010000000000005,"NON","C1 85","C2 85","J85","S85",69.010000000000005,"NON","FC1 +69","FC2 +69","FJ75","FS75"]
[85.01,"NON","C1 94","C2 94","J94","S94",75.010000000000005,"NON","FC1 +69","FC2 +69","FJ+75","FS+75"]
[94.01,"NON","C1 +94","C2 +94","J105","S105",110,"NON","FC1 +69","FC2 +69","FJ+75","FS+75"]
[105.01,"NON","C1 +94","C2 +94","J+105","S+105",140,"NON","FC1 +69","FC2 +69","FJ+75","FS+75"]
[110,"NON","C1 +94","C2 +94","J+105","S+105"]
[120,"NON","C1 +94","C2 +94","J+105","S+105"]
[130,"NON","C1 +94","C2 +94","J+105","S+105"]
[140,"NON","C1 +94","C2 +94","J+105","S+105",null,null,null,null,null,null,null,null,null,null,null,null,null,null,null,null,null,null,null,null,null,null,null,null,null,null,null," "]

{"sheet":"FEMININES","index":1,"n_rows":632,"n_cols":50,"rows_kept":632,"cut":false,"hidden":false,"merged":[[3,21,3,22],[0,18,0,21],[1,6,1,10],[1,18,1,19],[1,21,1,22],[1,11,1,12],[1,13,1,14]]}
[null,null,null,null,null,"EPREUVE :","CHAMPIONNAT INTERREGIONAL D'AUTOMNE",null,null,null,null,null,null,null,null,null,"DATE :",null,"2014-11-15"]
[null,null,null,null,null," ","CLASSEMENT NATIONAL des ZONES",null,null,null,null," ",null," ",null,null,null,null," ",null,null," "]
[]
["SEXE","ZONE","REG.","CL.","LICENCE","NOMS","Prénoms","AN","POIDS","CLUB","NAT",1,2,3,"ARR",1,2,3,"EP-J","Total","Points","SERIE",null,"Catég","IWF",null," ","DEB ","DEP +","REG +","IRG +","FED +","NAT +","INTB +","INTA +","OLY +"]
[null,null,null,null," "," "]
["F","NE","LOR",1,191333,"DUCHAUFFOUR","Mélanie",2001,31.4,"H.Valleroy-Auboué","F",-20,-20,22,{"$f":"IF(H6=\"\",\"\",IF(MAXA(L6:N6)<=0,0,MAXA(L6:N6)))","v":22},28,30,31,{"$f":"IF(H6=\"\",\"\",IF(MAXA(P6:R6)<=0,0,MAXA(P6:R6)))","v":31},{"$f":"IF(H6=\"\",\"\",IF(OR(O6=0,S6=0),0,O6+S6))","v":53},{"$f":"T6-I6","v":21.6},{"$f":"IF(H6=\"\",\"\",AQ6)","v":"FED +"},{"$f":"IF(AJ6>=0,AJ6,IF(AI6>=0,AI6,IF(AH6>=0,AH6,IF(AG6>=0,AG6,IF(AF6>=0,AF6,IF(AE6>=0,AE6,IF(AD6>=0,AD6,IF(AC6>=0,AC6,AB6))))))))","v":3},{"$f":"IF(I6=\"\",\"\",IF(A6=\"H\",IF(OR(H6=\"SEN\",H6<1995),VLOOKUP(I6,Feuil1!$A$11:$F$29,6),IF(AND(H6>1994,H6<1998),VLOOKUP(I6,Feuil1!$A$11:$F$29,5),IF(AND(H6>1997,H6<2000),VLOOKUP(I6,Feuil1!$A$11:$F$29,4),IF(AND(H6>1999,H6<2002),VLOOKUP(I6,Feuil1!$A$11:$F$29,3),VLOOKUP(I6,Feuil1!$A$11:$F$29,2))))),IF(OR(H6=\"SEN\",H6<1995),VLOOKUP(I6,Feuil1!$G$11:$L$25,6),IF(AND(H6>1994,H6<1998),VLOOKUP(I6,Feuil1!$G$11:$L$25,5),IF(AND(H6>1997,H6<2000),VLOOKUP(I6,Feuil1!$G$11:$L$25,4),IF(AND(H6>1999,H6<2002),VLOOKUP(I6,Feuil1!$G$11:$L$25,3),VLOOKUP(I6,Feuil1!$G$11:$L$25,2)))))))","v":"FC1 40"},{"$f":"IF(I6=\"\",\"\",IF(A6=\"H\",10^(0.794358141*LOG(I6/174.393)^2)*T6,IF(A6=\"F\",10^(0.89726074*LOG(I6/148.026)^2)*T6,\"\")))","v":135.258511969436},null," ",{"$f":"T6-HLOOKUP(X6,Feuil1!$C$1:$BL$10,2,FALSE)","v":33},{"$f":"T6-HLOOKUP(X6,Feuil1!$C$1:$BL$10,3,FALSE)","v":28},{"$f":"T6-HLOOKUP(X6,Feuil1!$C$1:$BL$10,4,FALSE)","v":18},{"$f":"T6-HLOOKUP(X6,Feuil1!$C$1:$BL$10,5,FALSE)","v":8},{"$f":"T6-HLOOKUP(X6,Feuil1!$C$1:$BL$10,6,FALSE)","v":3},{"$f":"T6-HLOOKUP(X6,Feuil1!$C$1:$BL$10,7,FALSE)","v":-7},{"$f":"T6-HLOOKUP(X6,Feuil1!$C$1:$BL$10,8,FALSE)","v":-17},{"$f":"T6-HLOOKUP(X6,Feuil1!$C$1:$BL$10,9,FALSE)","v":-27},{"$f":"T6-HLOOKUP(X6,Feuil1!$C$1:$BL$10,10,FALSE)","v":-947},null,null,null,null,null,null,{"$f":"IF(AJ6>=0,$AJ$4,IF(AI6>=0,$AI$4,IF(AH6>=0,$AH$4,IF(AG6>=0,$AG$4,IF(AF6>=0,$AF$4,IF(AE6>=0,$AE$4,IF(AD6>=0,$AD$4,IF(AC6>=0,$AC$4,$AB$4))))))))","v":"FED +"}]
[]
["F","NE","ALS",1,244336,"CHRISTOPHEL","Marie",2000,43.5,"ASPTT Strasbourg","F",32,35,38,{"$f":"IF(H8=\"\",\"\",IF(MAXA(L8:N8)<=0,0,MAXA(L8:N8)))","v":38},42,45,48,{"$f":"IF(H8=\"\",\"\",IF(MAXA(P8:R8)<=0,0,MAXA(P8:R8)))","v":48},{"$f":"IF(H8=\"\",\"\",IF(OR(O8=0,S8=0),0,O8+S8))","v":86},{"$f":"T8-I8","v":42.5},{"$f":"IF(H8=\"\",\"\",AQ8)","v":"INTB +"},{"$f":"IF(AJ8>=0,AJ8,IF(AI8>=0,AI8,IF(AH8>=0,AH8,IF(AG8>=0,AG8,IF(AF8>=0,AF8,IF(AE8>=0,AE8,IF(AD8>=0,AD8,IF(AC8>=0,AC8,AB8))))))))","v":6},{"$f":"IF(I8=\"\",\"\",IF(A8=\"H\",IF(OR(H8=\"SEN\",H8<1995),VLOOKUP(I8,Feuil1!$A$11:$F$29,6),IF(AND(H8>1994,H8<1998),VLOOKUP(I8,Feuil1!$A$11:$F$29,5),IF(AND(H8>1997,H8<2000),VLOOKUP(I8,Feuil1!$A$11:$F$29,4),IF(AND(H8>1999,H8<2002),VLOOKUP(I8,Feuil1!$A$11:$F$29,3),VLOOKUP(I8,Feuil1!$A$11:$F$29,2))))),IF(OR(H8=\"SEN\",H8<1995),VLOOKUP(I8,Feuil1!$G$11:$L$25,6),IF(AND(H8>1994,H8<1998),VLOOKUP(I8,Feuil1!$G$11:$L$25,5),IF(AND(H8>1997,H8<2000),VLOOKUP(I8,Feuil1!$G$11:$L$25,4),IF(AND(H8>1999,H8<2002),VLOOKUP(I8,Feuil1!$G$11:$L$25,3),VLOOKUP(I8,Feuil1!$G$11:$L$25,2)))))))","v":"FC1 44"},{"$f":"IF(I8=\"\",\"\",IF(A8=\"H\",10^(0.794358141*LOG(I8/174.393)^2)*T8,IF(A8=\"F\",10^(0.89726074*LOG(I8/148.026)^2)*T8,\"\")))","v":154.27671970428452},null," ",{"$f":"T8-HLOOKUP(X8,Feuil1!$C$1:$BL$10,2,FALSE)","v":61},{"$f":"T8-HLOOKUP(X8,Feuil1!$C$1:$BL$10,3,FALSE)","v":51},{"$f":"T8-HLOOKUP(X8,Feuil1!$C$1:$BL$10,4,FALSE)","v":46},{"$f":"T8-HLOOKUP(X8,Feuil1!$C$1:$BL$10,5,FALSE)","v":36},{"$f":"T8-HLOOKUP(X8,Feuil1!$C$1:$BL$10,6,FALSE)","v":26},{"$f":"T8-HLOOKUP(X8,Feuil1!$C$1:$BL$10,7,FALSE)","v":16},{"$f":"T8-HLOOKUP(X8,Feuil1!$C$1:$BL$10,8,FALSE)","v":6},{"$f":"T8-HLOOKUP(X8,Feuil1!$C$1:$BL$10,9,FALSE)","v":-4},{"$f":"T8-HLOOKUP(X8,Feuil1!$C$1:$BL$10,10,FALSE)","v":-914},null,null,null,null,null,null,{"$f":"IF(AJ8>=0,$AJ$4,IF(AI8>=0,$AI$4,IF(AH8>=0,$AH$4,IF(AG8>=0,$AG$4,IF(AF8>=0,$AF$4,IF(AE8>=0,$AE$4,IF(AD8>=0,$AD$4,IF(AC8>=0,$AC$4,$AB$4))))))))","v":"INTB +"}]
["F","ZCO","BNO",2,379232,"HEUZE","Emma",2000,43.49,"CA Evron 53","F",26,-28,28,{"$f":"IF(H9=\"\",\"\",IF(MAXA(L9:N9)<=0,0,MAXA(L9:N9)))","v":28},35,38,40,{"$f":"IF(H9=\"\",\"\",IF(MAXA(P9:R9)<=0,0,MAXA(P9:R9)))","v":40},{"$f":"IF(H9=\"\",\"\",IF(OR(O9=0,S9=0),0,O9+S9))","v":68},24.509999999999998,{"$f":"IF(H9=\"\",\"\",AQ9)","v":"FED +"},{"$f":"IF(AJ9>=0,AJ9,IF(AI9>=0,AI9,IF(AH9>=0,AH9,IF(AG9>=0,AG9,IF(AF9>=0,AF9,IF(AE9>=0,AE9,IF(AD9>=0,AD9,IF(AC9>=0,AC9,AB9))))))))","v":8},{"$f":"IF(I9=\"\",\"\",IF(A9=\"H\",IF(OR(H9=\"SEN\",H9<1995),VLOOKUP(I9,Feuil1!$A$11:$F$29,6),IF(AND(H9>1994,H9<1998),VLOOKUP(I9,Feuil1!$A$11:$F$29,5),IF(AND(H9>1997,H9<2000),VLOOKUP(I9,Feuil1!$A$11:$F$29,4),IF(AND(H9>1999,H9<2002),VLOOKUP(I9,Feuil1!$A$11:$F$29,3),VLOOKUP(I9,Feuil1!$A$11:$F$29,2))))),IF(OR(H9=\"SEN\",H9<1995),VLOOKUP(I9,Feuil1!$G$11:$L$25,6),IF(AND(H9>1994,H9<1998),VLOOKUP(I9,Feuil1!$G$11:$L$25,5),IF(AND(H9>1997,H9<2000),VLOOKUP(I9,Feuil1!$G$11:$L$25,4),IF(AND(H9>1999,H9<2002),VLOOKUP(I9,Feuil1!$G$11:$L$25,3),VLOOKUP(I9,Feuil1!$G$11:$L$25,2)))))))","v":"FC1 44"},{"$f":"IF(I9=\"\",\"\",IF(A9=\"H\",10^(0.794358141*LOG(I9/174.393)^2)*T9,IF(A9=\"F\",10^(0.89726074*LOG(I9/148.026)^2)*T9,\"\")))","v":122.01301646904986},null," ",{"$f":"T9-HLOOKUP(X9,Feuil1!$C$1:$BL$10,2,FALSE)","v":43},{"$f":"T9-HLOOKUP(X9,Feuil1!$C$1:$BL$10,3,FALSE)","v":33},{"$f":"T9-HLOOKUP(X9,Feuil1!$C$1:$BL$10,4,FALSE)","v":28},{"$f":"T9-HLOOKUP(X9,Feuil1!$C$1:$BL$10,5,FALSE)","v":18},{"$f":"T9-HLOOKUP(X9,Feuil1!$C$1:$BL$10,6,FALSE)","v":8},{"$f":"T9-HLOOKUP(X9,Feuil1!$C$1:$BL$10,7,FALSE)","v":-2},{"$f":"T9-HLOOKUP(X9,Feuil1!$C$1:$BL$10,8,FALSE)","v":-12},{"$f":"T9-HLOOKUP(X9,Feuil1!$C$1:$BL$10,9,FALSE)","v":-22},{"$f":"T9-HLOOKUP(X9,Feuil1!$C$1:$BL$10,10,FALSE)","v":-932},null,null,null,null,null,null,{"$f":"IF(AJ9>=0,$AJ$4,IF(AI9>=0,$AI$4,IF(AH9>=0,$AH$4,IF(AG9>=0,$AG$4,IF(AF9>=0,$AF$4,IF(AE9>=0,$AE$4,IF(AD9>=0,$AD$4,IF(AC9>=0,$AC$4,$AB$4))))))))","v":"FED +"}]
["F","Nord","NPC",3,298339,"RIQUIER","Angélique",2001,41,"Lille UC","F",23,-25,-25,{"$f":"IF(H10=\"\",\"\",IF(MAXA(L10:N10)<=0,0,MAXA(L10:N10)))","v":23},-34,34,-37,{"$f":"IF(H10=\"\",\"\",IF(MAXA(P10:R10)<=0,0,MAXA(P10:R10)))","v":34},{"$f":"IF(H10=\"\",\"\",IF(OR(O10=0,S10=0),0,O10+S10))","v":57},16,{"$f":"IF(H10=\"\",\"\",AQ10)","v":"IRG +"},{"$f":"IF(AJ10>=0,AJ10,IF(AI10>=0,AI10,IF(AH10>=0,AH10,IF(AG10>=0,AG10,IF(AF10>=0,AF10,IF(AE10>=0,AE10,IF(AD10>=0,AD10,IF(AC10>=0,AC10,AB10))))))))","v":7},{"$f":"IF(I10=\"\",\"\",IF(A10=\"H\",IF(OR(H10=\"SEN\",H10<1995),VLOOKUP(I10,Feuil1!$A$11:$F$29,6),IF(AND(H10>1994,H10<1998),VLOOKUP(I10,Feuil1!$A$11:$F$29,5),IF(AND(H10>1997,H10<2000),VLOOKUP(I10,Feuil1!$A$11:$F$29,4),IF(AND(H10>1999,H10<2002),VLOOKUP(I10,Feuil1!$A$11:$F$29,3),VLOOKUP(I10,Feuil1!$A$11:$F$29,2))))),IF(OR(H10=\"SEN\",H10<1995),VLOOKUP(I10,Feuil1!$G$11:$L$25,6),IF(AND(H10>1994,H10<1998),VLOOKUP(I10,Feuil1!$G$11:$L$25,5),IF(AND(H10>1997,H10<2000),VLOOKUP(I10,Feuil1!$G$11:$L$25,4),IF(AND(H10>1999,H10<2002),VLOOKUP(I10,Feuil1!$G$11:$L$25,3),VLOOKUP(I10,Feuil1!$G$11:$L$25,2)))))))","v":"FC1 44"},{"$f":"IF(I10=\"\",\"\",IF(A10=\"H\",10^(0.794358141*LOG(I10/174.393)^2)*T10,IF(A10=\"F\",10^(0.89726074*LOG(I10/148.026)^2)*T10,\"\")))","v":108.3436032923469},null," ",{"$f":"T10-HLOOKUP(X10,Feuil1!$C$1:$BL$10,2,FALSE)","v":32},{"$f":"T10-HLOOKUP(X10,Feuil1!$C$1:$BL$10,3,FALSE)","v":22},{"$f":"T10-HLOOKUP(X10,Feuil1!$C$1:$BL$10,4,FALSE)","v":17},{"$f":"T10-HLOOKUP(X10,Feuil1!$C$1:$BL$10,5,FALSE)","v":7},{"$f":"T10-HLOOKUP(X10,Feuil1!$C$1:$BL$10,6,FALSE)","v":-3},{"$f":"T10-HLOOKUP(X10,Feuil1!$C$1:$BL$10,7,FALSE)","v":-13},{"$f":"T10-HLOOKUP(X10,Feuil1!$C$1:$BL$10,8,FALSE)","v":-23},{"$f":"T10-HLOOKUP(X10,Feuil1!$C$1:$BL$10,9,FALSE)","v":-33},{"$f":"T10-HLOOKUP(X10,Feuil1!$C$1:$BL$10,10,FALSE)","v":-943},null,null,null,null,null,null,{"$f":"IF(AJ10>=0,$AJ$4,IF(AI10>=0,$AI$4,IF(AH10>=0,$AH$4,IF(AG10>=0,$AG$4,IF(AF10>=0,$AF$4,IF(AE10>=0,$AE$4,IF(AD10>=0,$AD$4,IF(AC10>=0,$AC$4,$AB$4))))))))","v":"IRG +"}]
[null,null,null,null,null,null,null,null,null,null,null,null,null,null,null,null,null,null,null,null," ",null,null,null,null,null,null,{"$f":"T11-HLOOKUP(X11,Feuil1!$C$1:$BL$10,2,FALSE)","v":{"$error":"#N/A"}},{"$f":"T11-HLOOKUP(X11,Feuil1!$C$1:$BL$10,3,FALSE)","v":{"$error":"#N/A"}},{"$f":"T11-HLOOKUP(X11,Feuil1!$C$1:$BL$10,4,FALSE)","v":{"$error":"#N/A"}},{"$f":"T11-HLOOKUP(X11,Feuil1!$C$1:$BL$10,5,FALSE)","v":{"$error":"#N/A"}},{"$f":"T11-HLOOKUP(X11,Feuil1!$C$1:$BL$10,6,FALSE)","v":{"$error":"#N/A"}},{"$f":"T11-HLOOKUP(X11,Feuil1!$C$1:$BL$10,7,FALSE)","v":{"$error":"#N/A"}},{"$f":"T11-HLOOKUP(X11,Feuil1!$C$1:$BL$10,8,FALSE)","v":{"$error":"#N/A"}},{"$f":"T11-HLOOKUP(X11,Feuil1!$C$1:$BL$10,9,FALSE)","v":{"$error":"#N/A"}},{"$f":"T11-HLOOKUP(X11,Feuil1!$C$1:$BL$10,10,FALSE)","v":{"$error":"#N/A"}}]
["F","SEST","LAN",1,290105,"ROMERO","Heloise",2000,46.55,"NARBONNE","F",32,35,-37,{"$f":"IF(H12=\"\",\"\",IF(MAXA(L12:N12)<=0,0,MAXA(L12:N12)))","v":35},43,46,50,{"$f":"IF(H12=\"\",\"\",IF(MAXA(P12:R12)<=0,0,MAXA(P12:R12)))","v":50},{"$f":"IF(H12=\"\",\"\",IF(OR(O12=0,S12=0),0,O12+S12))","v":85},38.450000000000003,{"$f":"IF(H12=\"\",\"\",AQ12)","v":"INTB +"},{"$f":"IF(AJ12>=0,AJ12,IF(AI12>=0,AI12,IF(AH12>=0,AH12,IF(AG12>=0,AG12,IF(AF12>=0,AF12,IF(AE12>=0,AE12,IF(AD12>=0,AD12,IF(AC12>=0,AC12,AB12))))))))","v":0},{"$f":"IF(I12=\"\",\"\",IF(A12=\"H\",IF(OR(H12=\"SEN\",H12<1995),VLOOKUP(I12,Feuil1!$A$11:$F$29,6),IF(AND(H12>1994,H12<1998),VLOOKUP(I12,Feuil1!$A$11:$F$29,5),IF(AND(H12>1997,H12<2000),VLOOKUP(I12,Feuil1!$A$11:$F$29,4),IF(AND(H12>1999,H12<2002),VLOOKUP(I12,Feuil1!$A$11:$F$29,3),VLOOKUP(I12,Feuil1!$A$11:$F$29,2))))),IF(OR(H12=\"SEN\",H12<1995),VLOOKUP(I12,Feuil1!$G$11:$L$25,6),IF(AND(H12>1994,H12<1998),VLOOKUP(I12,Feuil1!$G$11:$L$25,5),IF(AND(H12>1997,H12<2000),VLOOKUP(I12,Feuil1!$G$11:$L$25,4),IF(AND(H12>1999,H12<2002),VLOOKUP(I12,Feuil1!$G$11:$L$25,3),VLOOKUP(I12,Feuil1!$G$11:$L$25,2)))))))","v":"FC1 48"},{"$f":"IF(I12=\"\",\"\",IF(A12=\"H\",10^(0.794358141*LOG(I12/174.393)^2)*T12,IF(A12=\"F\",10^(0.89726074*LOG(I12/148.026)^2)*T12,\"\")))","v":143.18885630352818},null," ",{"$f":"T12-HLOOKUP(X12,Feuil1!$C$1:$BL$10,2,FALSE)","v":60},{"$f":"T12-HLOOKUP(X12,Feuil1!$C$1:$BL$10,3,FALSE)","v":50},{"$f":"T12-HLOOKUP(X12,Feuil1!$C$1:$BL$10,4,FALSE)","v":40},{"$f":"T12-HLOOKUP(X12,Feuil1!$C$1:$BL$10,5,FALSE)","v":30},{"$f":"T12-HLOOKUP(X12,Feuil1!$C$1:$BL$10,6,FALSE)","v":20},{"$f":"T12-HLOOKUP(X12,Feuil1!$C$1:$BL$10,7,FALSE)","v":10},{"$f":"T12-HLOOKUP(X12,Feuil1!$C$1:$BL$10,8,FALSE)","v":0},{"$f":"T12-HLOOKUP(X12,Feuil1!$C$1:$BL$10,9,FALSE)","v":-10},{"$f":"T12-HLOOKUP(X12,Feuil1!$C$1:$BL$10,10,FALSE)","v":-915},null,null,null,null,null,null,{"$f":"IF(AJ12>=0,$AJ$4,IF(AI12>=0,$AI$4,IF(AH12>=0,$AH$4,IF(AG12>=0,$AG$4,IF(AF12>=0,$AF$4,IF(AE12>=0,$AE$4,IF(AD12>=0,$AD$4,IF(AC12>=0,$AC$4,$AB$4))))))))","v":"INTB +"}]
["F","Nord","NPC",2,367010,"PIETERS","Justine",2000,45.07,"CA Rosendael","F",25,27,-29,{"$f":"IF(H13=\"\",\"\",IF(MAXA(L13:N13)<=0,0,MAXA(L13:N13)))","v":27},33,38,-40,{"$f":"IF(H13=\"\",\"\",IF(MAXA(P13:R13)<=0,0,MAXA(P13:R13)))","v":38},{"$f":"IF(H13=\"\",\"\",IF(OR(O13=0,S13=0),0,O13+S13))","v":65},19.93,{"$f":"IF(H13=\"\",\"\",AQ13)","v":"FED +"},{"$f":"IF(AJ13>=0,AJ13,IF(AI13>=0,AI13,IF(AH13>=0,AH13,IF(AG13>=0,AG13,IF(AF13>=0,AF13,IF(AE13>=0,AE13,IF(AD13>=0,AD13,IF(AC13>=0,AC13,AB13))))))))","v":0},{"$f":"IF(I13=\"\",\"\",IF(A13=\"H\",IF(OR(H13=\"SEN\",H13<1995),VLOOKUP(I13,Feuil1!$A$11:$F$29,6),IF(AND(H13>1994,H13<1998),VLOOKUP(I13,Feuil1!$A$11:$F$29,5),IF(AND(H13>1997,H13<2000),VLOOKUP(I13,Feuil1!$A$11:$F$29,4),IF(AND(H13>1999,H13<2002),VLOOKUP(I13,Feuil1!$A$11:$F$29,3),VLOOKUP(I13,Feuil1!$A$11:$F$29,2))))),IF(OR(H13=\"SEN\",H13<1995),VLOOKUP(I13,Feuil1!$G$11:$L$25,6),IF(AND(H13>1994,H13<1998),VLOOKUP(I13,Feuil1!$G$11:$L$25,5),IF(AND(H13>1997,H13<2000),VLOOKUP(I13,Feuil1!$G$11:$L$25,4),IF(AND(H13>1999,H13<2002),VLOOKUP(I13,Feuil1!$G$11:$L$25,3),VLOOKUP(I13,Feuil1!$G$11:$L$25,2)))))))","v":"FC1 48"},{"$f":"IF(I13=\"\",\"\",IF(A13=\"H\",10^(0.794358141*LOG(I13/174.393)^2)*T13,IF(A13=\"F\",10^(0.89726074*LOG(I13/148.026)^2)*T13,\"\")))","v":112.77989730383648},null," ",{"$f":"T13-HLOOKUP(X13,Feuil1!$C$1:$BL$10,2,FALSE)","v":40},{"$f":"T13-HLOOKUP(X13,Feuil1!$C$1:$BL$10,3,FALSE)","v":30},{"$f":"T13-HLOOKUP(X13,Feuil1!$C$1:$BL$10,4,FALSE)","v":20},{"$f":"T13-HLOOKUP(X13,Feuil1!$C$1:$BL$10,5,FALSE)","v":10},{"$f":"T13-HLOOKUP(X13,Feuil1!$C$1:$BL$10,6,FALSE)","v":0},{"$f":"T13-HLOOKUP(X13,Feuil1!$C$1:$BL$10,7,FALSE)","v":-10},{"$f":"T13-HLOOKUP(X13,Feuil1!$C$1:$BL$10,8,FALSE)","v":-20},{"$f":"T13-HLOOKUP(X13,Feuil1!$C$1:$BL$10,9,FALSE)","v":-30},{"$f":"T13-HLOOKUP(X13,Feuil1!$C$1:$BL$10,10,FALSE)","v":-935},null,null,null,null,null,null,{"$f":"IF(AJ13>=0,$AJ$4,IF(AI13>=0,$AI$4,IF(AH13>=0,$AH$4,IF(AG13>=0,$AG$4,IF(AF13>=0,$AF$4,IF(AE13>=0,$AE$4,IF(AD13>=0,$AD$4,IF(AC13>=0,$AC$4,$AB$4))))))))","v":"FED +"}]
["F","NE","ALS",3,340255,"MIGUEL","Lea",2001,45.8,"Dorlisheim FH","F",25,28,-29,{"$f":"IF(H14=\"\",\"\",IF(MAXA(L14:N14)<=0,0,MAXA(L14:N14)))","v":28},32,35,-37,{"$f":"IF(H14=\"\",\"\",IF(MAXA(P14:R14)<=0,0,MAXA(P14:R14)))","v":35},{"$f":"IF(H14=\"\",\"\",IF(OR(O14=0,S14=0),0,O14+S14))","v":63},17.200000000000003,{"$f":"IF(H14=\"\",\"\",AQ14)","v":"IRG +"},{"$f":"IF(AJ14>=0,AJ14,IF(AI14>=0,AI14,IF(AH14>=0,AH14,IF(AG14>=0,AG14,IF(AF14>=0,AF14,IF(AE14>=0,AE14,IF(AD14>=0,AD14,IF(AC14>=0,AC14,AB14))))))))","v":8},{"$f":"IF(I14=\"\",\"\",IF(A14=\"H\",IF(OR(H14=\"SEN\",H14<1995),VLOOKUP(I14,Feuil1!$A$11:$F$29,6),IF(AND(H14>1994,H14<1998),VLOOKUP(I14,Feuil1!$A$11:$F$29,5),IF(AND(H14>1997,H14<2000),VLOOKUP(I14,Feuil1!$A$11:$F$29,4),IF(AND(H14>1999,H14<2002),VLOOKUP(I14,Feuil1!$A$11:$F$29,3),VLOOKUP(I14,Feuil1!$A$11:$F$29,2))))),IF(OR(H14=\"SEN\",H14<1995),VLOOKUP(I14,Feuil1!$G$11:$L$25,6),IF(AND(H14>1994,H14<1998),VLOOKUP(I14,Feuil1!$G$11:$L$25,5),IF(AND(H14>1997,H14<2000),VLOOKUP(I14,Feuil1!$G$11:$L$25,4),IF(AND(H14>1999,H14<2002),VLOOKUP(I14,Feuil1!$G$11:$L$25,3),VLOOKUP(I14,Feuil1!$G$11:$L$25,2)))))))","v":"FC1 48"},{"$f":"IF(I14=\"\",\"\",IF(A14=\"H\",10^(0.794358141*LOG(I14/174.393)^2)*T14,IF(A14=\"F\",10^(0.89726074*LOG(I14/148.026)^2)*T14,\"\")))","v":107.70492680502572},null," ",{"$f":"T14-HLOOKUP(X14,Feuil1!$C$1:$BL$10,2,FALSE)","v":38},{"$f":"T14-HLOOKUP(X14,Feuil1!$C$1:$BL$10,3,FALSE)","v":28},{"$f":"T14-HLOOKUP(X14,Feuil1!$C$1:$BL$10,4,FALSE)","v":18},{"$f":"T14-HLOOKUP(X14,Feuil1!$C$1:$BL$10,5,FALSE)","v":8},{"$f":"T14-HLOOKUP(X14,Feuil1!$C$1:$BL$10,6,FALSE)","v":-2},{"$f":"T14-HLOOKUP(X14,Feuil1!$C$1:$BL$10,7,FALSE)","v":-12},{"$f":"T14-HLOOKUP(X14,Feuil1!$C$1:$BL$10,8,FALSE)","v":-22},{"$f":"T14-HLOOKUP(X14,Feuil1!$C$1:$BL$10,9,FALSE)","v":-32},{"$f":"T14-HLOOKUP(X14,Feuil1!$C$1:$BL$10,10,FALSE)","v":-937},null,null,null,null,null,null,{"$f":"IF(AJ14>=0,$AJ$4,IF(AI14>=0,$AI$4,IF(AH14>=0,$AH$4,IF(AG14>=0,$AG$4,IF(AF14>=0,$AF$4,IF(AE14>=0,$AE$4,IF(AD14>=0,$AD$4,IF(AC14>=0,$AC$4,$AB$4))))))))","v":"IRG +"}]
[null,null,null,null,null,null,null,null,null,null,null,null,null,null,null,null,null,null,null,null," ",null,null,null,null,null,null,{"$f":"T15-HLOOKUP(X15,Feuil1!$C$1:$BL$10,2,FALSE)","v":{"$error":"#N/A"}},{"$f":"T15-HLOOKUP(X15,Feuil1!$C$1:$BL$10,3,FALSE)","v":{"$error":"#N/A"}},{"$f":"T15-HLOOKUP(X15,Feuil1!$C$1:$BL$10,4,FALSE)","v":{"$error":"#N/A"}},{"$f":"T15-HLOOKUP(X15,Feuil1!$C$1:$BL$10,5,FALSE)","v":{"$error":"#N/A"}},{"$f":"T15-HLOOKUP(X15,Feuil1!$C$1:$BL$10,6,FALSE)","v":{"$error":"#N/A"}},{"$f":"T15-HLOOKUP(X15,Feuil1!$C$1:$BL$10,7,FALSE)","v":{"$error":"#N/A"}},{"$f":"T15-HLOOKUP(X15,Feuil1!$C$1:$BL$10,8,FALSE)","v":{"$error":"#N/A"}},{"$f":"T15-HLOOKUP(X15,Feuil1!$C$1:$BL$10,9,FALSE)","v":{"$error":"#N/A"}},{"$f":"T15-HLOOKUP(X15,Feuil1!$C$1:$BL$10,10,FALSE)","v":{"$error":"#N/A"}}]
["F","NE","ALS",1,300315,"IMBS","Honorine",2001,48.1,"Dorlisheim FH","F",34,36,38,{"$f":"IF(H16=\"\",\"\",IF(MAXA(L16:N16)<=0,0,MAXA(L16:N16)))","v":38},43,46,47,{"$f":"IF(H16=\"\",\"\",IF(MAXA(P16:R16)<=0,0,MAXA(P16:R16)))","v":47},{"$f":"IF(H16=\"\",\"\",IF(OR(O16=0,S16=0),0,O16+S16))","v":85},36.9,{"$f":"IF(H16=\"\",\"\",AQ16)","v":"NAT +"},{"$f":"IF(AJ16>=0,AJ16,IF(AI16>=0,AI16,IF(AH16>=0,AH16,IF(AG16>=0,AG16,IF(AF16>=0,AF16,IF(AE16>=0,AE16,IF(AD16>=0,AD16,IF(AC16>=0,AC16,AB16))))))))","v":0},{"$f":"IF(I16=\"\",\"\",IF(A16=\"H\",IF(OR(H16=\"SEN\",H16<1995),VLOOKUP(I16,Feuil1!$A$11:$F$29,6),IF(AND(H16>1994,H16<1998),VLOOKUP(I16,Feuil1!$A$11:$F$29,5),IF(AND(H16>1997,H16<2000),VLOOKUP(I16,Feuil1!$A$11:$F$29,4),IF(AND(H16>1999,H16<2002),VLOOKUP(I16,Feuil1!$A$11:$F$29,3),VLOOKUP(I16,Feuil1!$A$11:$F$29,2))))),IF(OR(H16=\"SEN\",H16<1995),VLOOKUP(I16,Feuil1!$G$11:$L$25,6),IF(AND(H16>1994,H16<1998),VLOOKUP(I16,Feuil1!$G$11:$L$25,5),IF(AND(H16>1997,H16<2000),VLOOKUP(I16,Feuil1!$G$11:$L$25,4),IF(AND(H16>1999,H16<2002),VLOOKUP(I16,Feuil1!$G$11:$L$25,3),VLOOKUP(I16,Feuil1!$G$11:$L$25,2)))))))","v":"FC1 53"},{"$f":"IF(I16=\"\",\"\",IF(A16=\"H\",10^(0.794358141*LOG(I16/174.393)^2)*T16,IF(A16=\"F\",10^(0.89726074*LOG(I16/148.026)^2)*T16,\"\")))","v":139.08015701854961},null," ",{"$f":"T16-HLOOKUP(X16,Feuil1!$C$1:$BL$10,2,FALSE)","v":50},{"$f":"T16-HLOOKUP(X16,Feuil1!$C$1:$BL$10,3,FALSE)","v":40},{"$f":"T16-HLOOKUP(X16,Feuil1!$C$1:$BL$10,4,FALSE)","v":30},{"$f":"T16-HLOOKUP(X16,Feuil1!$C$1:$BL$10,5,FALSE)","v":20},{"$f":"T16-HLOOKUP(X16,Feuil1!$C$1:$BL$10,6,FALSE)","v":10},{"$f":"T16-HLOOKUP(X16,Feuil1!$C$1:$BL$10,7,FALSE)","v":0},{"$f":"T16-HLOOKUP(X16,Feuil1!$C$1:$BL$10,8,FALSE)","v":-10},{"$f":"T16-HLOOKUP(X16,Feuil1!$C$1:$BL$10,9,FALSE)","v":-20},{"$f":"T16-HLOOKUP(X16,Feuil1!$C$1:$BL$10,10,FALSE)","v":-915},null,null,null,null,null,null,{"$f":"IF(AJ16>=0,$AJ$4,IF(AI16>=0,$AI$4,IF(AH16>=0,$AH$4,IF(AG16>=0,$AG$4,IF(AF16>=0,$AF$4,IF(AE16>=0,$AE$4,IF(AD16>=0,$AD$4,IF(AC16>=0,$AC$4,$AB$4))))))))","v":"NAT +"}]
["F","SO","LIM",2,326705,"LOPEZ ","Mélissa",2001,52.1,"LIMOGES AVA","F",28,31,33,{"$f":"IF(H17=\"\",\"\",IF(MAXA(L17:N17)<=0,0,MAXA(L17:N17)))","v":33},38,42,-43,{"$f":"IF(H17=\"\",\"\",IF(MAXA(P17:R17)<=0,0,MAXA(P17:R17)))","v":42},{"$f":"IF(H17=\"\",\"\",IF(OR(O17=0,S17=0),0,O17+S17))","v":75},22.9,{"$f":"IF(H17=\"\",\"\",AQ17)","v":"FED +"},{"$f":"IF(AJ17>=0,AJ17,IF(AI17>=0,AI17,IF(AH17>=0,AH17,IF(AG17>=0,AG17,IF(AF17>=0,AF17,IF(AE17>=0,AE17,IF(AD17>=0,AD17,IF(AC17>=0,AC17,AB17))))))))","v":0},{"$f":"IF(I17=\"\",\"\",IF(A17=\"H\",IF(OR(H17=\"SEN\",H17<1995),VLOOKUP(I17,Feuil1!$A$11:$F$29,6),IF(AND(H17>1994,H17<1998),VLOOKUP(I17,Feuil1!$A$11:$F$29,5),IF(AND(H17>1997,H17<2000),VLOOKUP(I17,Feuil1!$A$11:$F$29,4),IF(AND(H17>1999,H17<2002),VLOOKUP(I17,Feuil1!$A$11:$F$29,3),VLOOKUP(I17,Feuil1!$A$11:$F$29,2))))),IF(OR(H17=\"SEN\",H17<1995),VLOOKUP(I17,Feuil1!$G$11:$L$25,6),IF(AND(H17>1994,H17<1998),VLOOKUP(I17,Feuil1!$G$11:$L$25,5),IF(AND(H17>1997,H17<2000),VLOOKUP(I17,Feuil1!$G$11:$L$25,4),IF(AND(H17>1999,H17<2002),VLOOKUP(I17,Feuil1!$G$11:$L$25,3),VLOOKUP(I17,Feuil1!$G$11:$L$25,2)))))))","v":"FC1 53"},{"$f":"IF(I17=\"\",\"\",IF(A17=\"H\",10^(0.794358141*LOG(I17/174.393)^2)*T17,IF(A17=\"F\",10^(0.89726074*LOG(I17/148.026)^2)*T17,\"\")))","v":114.70811794048728},null," ",{"$f":"T17-HLOOKUP(X17,Feuil1!$C$1:$BL$10,2,FALSE)","v":40},{"$f":"T17-HLOOKUP(X17,Feuil1!$C$1:$BL$10,3,FALSE)","v":30},{"$f":"T17-HLOOKUP(X17,Feuil1!$C$1:$BL$10,4,FALSE)","v":20},{"$f":"T17-HLOOKUP(X17,Feuil1!$C$1:$BL$10,5,FALSE)","v":10},{"$f":"T17-HLOOKUP(X17,Feuil1!$C$1:$BL$10,6,FALSE)","v":0},{"$f":"T17-HLOOKUP(X17,Feuil1!$C$1:$BL$10,7,FALSE)","v":-10},{"$f":"T17-HLOOKUP(X17,Feuil1!$C$1:$BL$10,8,FALSE)","v":-20},{"$f":"T17-HLOOKUP(X17,Feuil1!$C$1:$BL$10,9,FALSE)","v":-30},{"$f":"T17-HLOOKUP(X17,Feuil1!$C$1:$BL$10,10,FALSE)","v":-925},null,null,null,null,null,null,{"$f":"IF(AJ17>=0,$AJ$4,IF(AI17>=0,$AI$4,IF(AH17>=0,$AH$4,IF(AG17>=0,$AG$4,IF(AF17>=0,$AF$4,IF(AE17>=0,$AE$4,IF(AD17>=0,$AD$4,IF(AC17>=0,$AC$4,$AB$4))))))))","v":"FED +"}]
["F","SO","LIM",3,326707,"LAMARGUE ","Loriane",2000,52.5,"LIMOGES AVA","F",28,31,32,32,39,43,-45,{"$f":"IF(H18=\"\",\"\",IF(MAXA(P18:R18)<=0,0,MAXA(P18:R18)))","v":43},{"$f":"IF(H18=\"\",\"\",IF(OR(O18=0,S18=0),0,O18+S18))","v":75},22.5,{"$f":"IF(H18=\"\",\"\",AQ18)","v":"FED +"},{"$f":"IF(AJ18>=0,AJ18,IF(AI18>=0,AI18,IF(AH18>=0,AH18,IF(AG18>=0,AG18,IF(AF18>=0,AF18,IF(AE18>=0,AE18,IF(AD18>=0,AD18,IF(AC18>=0,AC18,AB18))))))))","v":0},{"$f":"IF(I18=\"\",\"\",IF(A18=\"H\",IF(OR(H18=\"SEN\",H18<1995),VLOOKUP(I18,Feuil1!$A$11:$F$29,6),IF(AND(H18>1994,H18<1998),VLOOKUP(I18,Feuil1!$A$11:$F$29,5),IF(AND(H18>1997,H18<2000),VLOOKUP(I18,Feuil1!$A$11:$F$29,4),IF(AND(H18>1999,H18<2002),VLOOKUP(I18,Feuil1!$A$11:$F$29,3),VLOOKUP(I18,Feuil1!$A$11:$F$29,2))))),IF(OR(H18=\"SEN\",H18<1995),VLOOKUP(I18,Feuil1!$G$11:$L$25,6),IF(AND(H18>1994,H18<1998),VLOOKUP(I18,Feuil1!$G$11:$L$25,5),IF(AND(H18>1997,H18<2000),VLOOKUP(I18,Feuil1!$G$11:$L$25,4),IF(AND(H18>1999,H18<2002),VLOOKUP(I18,Feuil1!$G$11:$L$25,3),VLOOKUP(I18,Feuil1!$G$11:$L$25,2)))))))","v":"FC1 53"},{"$f":"IF(I18=\"\",\"\",IF(A18=\"H\",10^(0.794358141*LOG(I18/174.393)^2)*T18,IF(A18=\"F\",10^(0.89726074*LOG(I18/148.026)^2)*T18,\"\")))","v":113.99896242007074},null," ",{"$f":"T18-HLOOKUP(X18,Feuil1!$C$1:$BL$10,2,FALSE)","v":40},{"$f":"T18-HLOOKUP(X18,Feuil1!$C$1:$BL$10,3,FALSE)","v":30},{"$f":"T18-HLOOKUP(X18,Feuil1!$C$1:$BL$10,4,FALSE)","v":20},{"$f":"T18-HLOOKUP(X18,Feuil1!$C$1:$BL$10,5,FALSE)","v":10},{"$f":"T18-HLOOKUP(X18,Feuil1!$C$1:$BL$10,6,FALSE)","v":0},{"$f":"T18-HLOOKUP(X18,Feuil1!$C$1:$BL$10,7,FALSE)","v":-10},{"$f":"T18-HLOOKUP(X18,Feuil1!$C$1:$BL$10,8,FALSE)","v":-20},{"$f":"T18-HLOOKUP(X18,Feuil1!$C$1:$BL$10,9,FALSE)","v":-30},{"$f":"T18-HLOOKUP(X18,Feuil1!$C$1:$BL$10,10,FALSE)","v":-925},null,null,null,null,null,null,{"$f":"IF(AJ18>=0,$AJ$4,IF(AI18>=0,$AI$4,IF(AH18>=0,$AH$4,IF(AG18>=0,$AG$4,IF(AF18>=0,$AF$4,IF(AE18>=0,$AE$4,IF(AD18>=0,$AD$4,IF(AC18>=0,$AC$4,$AB$4))))))))","v":"FED +"}]
[null,null,null,null,null,null,null,null,null,null,null,null,null,null,null,null,null,null,null,null," ",null,null,null,null,null,null,{"$f":"T19-HLOOKUP(X19,Feuil1!$C$1:$BL$10,2,FALSE)","v":{"$error":"#N/A"}},{"$f":"T19-HLOOKUP(X19,Feuil1!$C$1:$BL$10,3,FALSE)","v":{"$error":"#N/A"}},{"$f":"T19-HLOOKUP(X19,Feuil1!$C$1:$BL$10,4,FALSE)","v":{"$error":"#N/A"}},{"$f":"T19-HLOOKUP(X19,Feuil1!$C$1:$BL$10,5,FALSE)","v":{"$error":"#N/A"}},{"$f":"T19-HLOOKUP(X19,Feuil1!$C$1:$BL$10,6,FALSE)","v":{"$error":"#N/A"}},{"$f":"T19-HLOOKUP(X19,Feuil1!$C$1:$BL$10,7,FALSE)","v":{"$error":"#N/A"}},{"$f":"T19-HLOOKUP(X19,Feuil1!$C$1:$BL$10,8,FALSE)","v":{"$error":"#N/A"}},{"$f":"T19-HLOOKUP(X19,Feuil1!$C$1:$BL$10,9,FALSE)","v":{"$error":"#N/A"}},{"$f":"T19-HLOOKUP(X19,Feuil1!$C$1:$BL$10,10,FALSE)","v":{"$error":"#N/A"}}]
["F","Nord","NPC",1,359845,"PARANTHOEN","Kimberley",2000,57.27,"CA Rosendael","F",35,38,-40,{"$f":"IF(H20=\"\",\"\",IF(MAXA(L20:N20)<=0,0,MAXA(L20:N20)))","v":38},48,-52,52,{"$f":"IF(H20=\"\",\"\",IF(MAXA(P20:R20)<=0,0,MAXA(P20:R20)))","v":52},{"$f":"IF(H20=\"\",\"\",IF(OR(O20=0,S20=0),0,O20+S20))","v":90},32.729999999999997,{"$f":"IF(H20=\"\",\"\",AQ20)","v":"NAT +"},{"$f":"IF(AJ20>=0,AJ20,IF(AI20>=0,AI20,IF(AH20>=0,AH20,IF(AG20>=0,AG20,IF(AF20>=0,AF20,IF(AE20>=0,AE20,IF(AD20>=0,AD20,IF(AC20>=0,AC20,AB20))))))))","v":0},{"$f":"IF(I20=\"\",\"\",IF(A20=\"H\",IF(OR(H20=\"SEN\",H20<1995),VLOOKUP(I20,Feuil1!$A$11:$F$29,6),IF(AND(H20>1994,H20<1998),VLOOKUP(I20,Feuil1!$A$11:$F$29,5),IF(AND(H20>1997,H20<2000),VLOOKUP(I20,Feuil1!$A$11:$F$29,4),IF(AND(H20>1999,H20<2002),VLOOKUP(I20,Feuil1!$A$11:$F$29,3),VLOOKUP(I20,Feuil1!$A$11:$F$29,2))))),IF(OR(H20=\"SEN\",H20<1995),VLOOKUP(I20,Feuil1!$G$11:$L$25,6),IF(AND(H20>1994,H20<1998),VLOOKUP(I20,Feuil1!$G$11:$L$25,5),IF(AND(H20>1997,H20<2000),VLOOKUP(I20,Feuil1!$G$11:$L$25,4),IF(AND(H20>1999,H20<2002),VLOOKUP(I20,Feuil1!$G$11:$L$25,3),VLOOKUP(I20,Feuil1!$G$11:$L$25,2)))))))","v":"FC1 58"},{"$f":"IF(I20=\"\",\"\",IF(A20=\"H\",10^(0.794358141*LOG(I20/174.393)^2)*T20,IF(A20=\"F\",10^(0.89726074*LOG(I20/148.026)^2)*T20,\"\")))","v":127.89425167905696},null," ",{"$f":"T20-HLOOKUP(X20,Feuil1!$C$1:$BL$10,2,FALSE)","v":50},{"$f":"T20-HLOOKUP(X20,Feuil1!$C$1:$BL$10,3,FALSE)","v":40},{"$f":"T20-HLOOKUP(X20,Feuil1!$C$1:$BL$10,4,FALSE)","v":30},{"$f":"T20-HLOOKUP(X20,Feuil1!$C$1:$BL$10,5,FALSE)","v":20},{"$f":"T20-HLOOKUP(X20,Feuil1!$C$1:$BL$10,6,FALSE)","v":10},{"$f":"T20-HLOOKUP(X20,Feuil1!$C$1:$BL$10,7,FALSE)","v":0},{"$f":"T20-HLOOKUP(X20,Feuil1!$C$1:$BL$10,8,FALSE)","v":-10},{"$f":"T20-HLOOKUP(X20,Feuil1!$C$1:$BL$10,9,FALSE)","v":-25},{"$f":"T20-HLOOKUP(X20,Feuil1!$C$1:$BL$10,10,FALSE)","v":-910},null,null,null,null,null,null,{"$f":"IF(AJ20>=0,$AJ$4,IF(AI20>=0,$AI$4,IF(AH20>=0,$AH$4,IF(AG20>=0,$AG$4,IF(AF20>=0,$AF$4,IF(AE20>=0,$AE$4,IF(AD20>=0,$AD$4,IF(AC20>=0,$AC$4,$AB$4))))))))","v":"NAT +"}]
["F","NE","CHA",2,320210,"ROEHRIG","Ludivine",2000,54.9,"Langres HM","F",35,38,40,{"$f":"IF(H21=\"\",\"\",IF(MAXA(L21:N21)<=0,0,MAXA(L21:N21)))","v":40},45,"-","-",{"$f":"IF(H21=\"\",\"\",IF(MAXA(P21:R21)<=0,0,MAXA(P21:R21)))","v":45},{"$f":"IF(H21=\"\",\"\",IF(OR(O21=0,S21=0),0,O21+S21))","v":85},30.1,{"$f":"IF(H21=\"\",\"\",AQ21)","v":"FED +"},{"$f":"IF(AJ21>=0,AJ21,IF(AI21>=0,AI21,IF(AH21>=0,AH21,IF(AG21>=0,AG21,IF(AF21>=0,AF21,IF(AE21>=0,AE21,IF(AD21>=0,AD21,IF(AC21>=0,AC21,AB21))))))))","v":5},{"$f":"IF(I21=\"\",\"\",IF(A21=\"H\",IF(OR(H21=\"SEN\",H21<1995),VLOOKUP(I21,Feuil1!$A$11:$F$29,6),IF(AND(H21>1994,H21<1998),VLOOKUP(I21,Feuil1!$A$11:$F$29,5),IF(AND(H21>1997,H21<2000),VLOOKUP(I21,Feuil1!$A$11:$F$29,4),IF(AND(H21>1999,H21<2002),VLOOKUP(I21,Feuil1!$A$11:$F$29,3),VLOOKUP(I21,Feuil1!$A$11:$F$29,2))))),IF(OR(H21=\"SEN\",H21<1995),VLOOKUP(I21,Feuil1!$G$11:$L$25,6),IF(AND(H21>1994,H21<1998),VLOOKUP(I21,Feuil1!$G$11:$L$25,5),IF(AND(H21>1997,H21<2000),VLOOKUP(I21,Feuil1!$G$11:$L$25,4),IF(AND(H21>1999,H21<2002),VLOOKUP(I21,Feuil1!$G$11:$L$25,3),VLOOKUP(I21,Feuil1!$G$11:$L$25,2)))))))","v":"FC1 58"},{"$f":"IF(I21=\"\",\"\",IF(A21=\"H\",10^(0.794358141*LOG(I21/174.393)^2)*T21,IF(A21=\"F\",10^(0.89726074*LOG(I21/148.026)^2)*T21,\"\")))","v":124.71358944915011},null," ",{"$f":"T21-HLOOKUP(X21,Feuil1!$C$1:$BL$10,2,FALSE)","v":45},{"$f":"T21-HLOOKUP(X21,Feuil1!$C$1:$BL$10,3,FALSE)","v":35},{"$f":"T21-HLOOKUP(X21,Feuil1!$C$1:$BL$10,4,FALSE)","v":25},{"$f":"T21-HLOOKUP(X21,Feuil1!$C$1:$BL$10,5,FALSE)","v":15},{"$f":"T21-HLOOKUP(X21,Feuil1!$C$1:$BL$10,6,FALSE)","v":5},{"$f":"T21-HLOOKUP(X21,Feuil1!$C$1:$BL$10,7,FALSE)","v":-5},{"$f":"T21-HLOOKUP(X21,Feuil1!$C$1:$BL$10,8,FALSE)","v":-15},{"$f":"T21-HLOOKUP(X21,Feuil1!$C$1:$BL$10,9,FALSE)","v":-30},{"$f":"T21-HLOOKUP(X21,Feuil1!$C$1:$BL$10,10,FALSE)","v":-915},null,null,null,null,null,null,{"$f":"IF(AJ21>=0,$AJ$4,IF(AI21>=0,$AI$4,IF(AH21>=0,$AH$4,IF(AG21>=0,$AG$4,IF(AF21>=0,$AF$4,IF(AE21>=0,$AE$4,IF(AD21>=0,$AD$4,IF(AC21>=0,$AC$4,$AB$4))))))))","v":"FED +"}]
[null,null,null,null,null,null,null,null,null,null,null,null,null,null,null,null,null,null,null,null," ",null,null,null,null,null,null,{"$f":"T22-HLOOKUP(X22,Feuil1!$C$1:$BL$10,2,FALSE)","v":{"$error":"#N/A"}},{"$f":"T22-HLOOKUP(X22,Feuil1!$C$1:$BL$10,3,FALSE)","v":{"$error":"#N/A"}},{"$f":"T22-HLOOKUP(X22,Feuil1!$C$1:$BL$10,4,FALSE)","v":{"$error":"#N/A"}},{"$f":"T22-HLOOKUP(X22,Feuil1!$C$1:$BL$10,5,FALSE)","v":{"$error":"#N/A"}},{"$f":"T22-HLOOKUP(X22,Feuil1!$C$1:$BL$10,6,FALSE)","v":{"$error":"#N/A"}},{"$f":"T22-HLOOKUP(X22,Feuil1!$C$1:$BL$10,7,FALSE)","v":{"$error":"#N/A"}},{"$f":"T22-HLOOKUP(X22,Feuil1!$C$1:$BL$10,8,FALSE)","v":{"$error":"#N/A"}},{"$f":"T22-HLOOKUP(X22,Feuil1!$C$1:$BL$10,9,FALSE)","v":{"$error":"#N/A"}},{"$f":"T22-HLOOKUP(X22,Feuil1!$C$1:$BL$10,10,FALSE)","v":{"$error":"#N/A"}}]
["F","NE","BOU",1,363267,"GRAILLOT","Vicky",2000,59.9,"Stade Dijonnais HM","F",47,50,52,{"$f":"IF(H23=\"\",\"\",IF(MAXA(L23:N23)<=0,0,MAXA(L23:N23)))","v":52},-58,58,-63,{"$f":"IF(H23=\"\",\"\",IF(MAXA(P23:R23)<=0,0,MAXA(P23:R23)))","v":58},{"$f":"IF(H23=\"\",\"\",IF(OR(O23=0,S23=0),0,O23+S23))","v":110},50.1,{"$f":"IF(H23=\"\",\"\",AQ23)","v":"INTB +"},{"$f":"IF(AJ23>=0,AJ23,IF(AI23>=0,AI23,IF(AH23>=0,AH23,IF(AG23>=0,AG23,IF(AF23>=0,AF23,IF(AE23>=0,AE23,IF(AD23>=0,AD23,IF(AC23>=0,AC23,AB23))))))))","v":0},{"$f":"IF(I23=\"\",\"\",IF(A23=\"H\",IF(OR(H23=\"SEN\",H23<1995),VLOOKUP(I23,Feuil1!$A$11:$F$29,6),IF(AND(H23>1994,H23<1998),VLOOKUP(I23,Feuil1!$A$11:$F$29,5),IF(AND(H23>1997,H23<2000),VLOOKUP(I23,Feuil1!$A$11:$F$29,4),IF(AND(H23>1999,H23<2002),VLOOKUP(I23,Feuil1!$A$11:$F$29,3),VLOOKUP(I23,Feuil1!$A$11:$F$29,2))))),IF(OR(H23=\"SEN\",H23<1995),VLOOKUP(I23,Feuil1!$G$11:$L$25,6),IF(AND(H23>1994,H23<1998),VLOOKUP(I23,Feuil1!$G$11:$L$25,5),IF(AND(H23>1997,H23<2000),VLOOKUP(I23,Feuil1!$G$11:$L$25,4),IF(AND(H23>1999,H23<2002),VLOOKUP(I23,Feuil1!$G$11:$L$25,3),VLOOKUP(I23,Feuil1!$G$11:$L$25,2)))))))","v":"FC1 63"},{"$f":"IF(I23=\"\",\"\",IF(A23=\"H\",10^(0.794358141*LOG(I23/174.393)^2)*T23,IF(A23=\"F\",10^(0.89726074*LOG(I23/148.026)^2)*T23,\"\")))","v":151.32513747812158},null," ",{"$f":"T23-HLOOKUP(X23,Feuil1!$C$1:$BL$10,2,FALSE)","v":65},{"$f":"T23-HLOOKUP(X23,Feuil1!$C$1:$BL$10,3,FALSE)","v":55},{"$f":"T23-HLOOKUP(X23,Feuil1!$C$1:$BL$10,4,FALSE)","v":45},{"$f":"T23-HLOOKUP(X23,Feuil1!$C$1:$BL$10,5,FALSE)","v":35},{"$f":"T23-HLOOKUP(X23,Feuil1!$C$1:$BL$10,6,FALSE)","v":25},{"$f":"T23-HLOOKUP(X23,Feuil1!$C$1:$BL$10,7,FALSE)","v":15},{"$f":"T23-HLOOKUP(X23,Feuil1!$C$1:$BL$10,8,FALSE)","v":0},{"$f":"T23-HLOOKUP(X23,Feuil1!$C$1:$BL$10,9,FALSE)","v":-15},{"$f":"T23-HLOOKUP(X23,Feuil1!$C$1:$BL$10,10,FALSE)","v":-890},null,null,null,null,null,null,{"$f":"IF(AJ23>=0,$AJ$4,IF(AI23>=0,$AI$4,IF(AH23>=0,$AH$4,IF(AG23>=0,$AG$4,IF(AF23>=0,$AF$4,IF(AE23>=0,$AE$4,IF(AD23>=0,$AD$4,IF(AC23>=0,$AC$4,$AB$4))))))))","v":"INTB +"}]
[null,null,null,null,null,null,null,null,null,null,null,null,null,null,null,null,null,null,null,null,null,null,null,null,null,null,null,{"$f":"T24-HLOOKUP(X24,Feuil1!$C$1:$BL$10,2,FALSE)","v":{"$error":"#N/A"}},{"$f":"T24-HLOOKUP(X24,Feuil1!$C$1:$BL$10,3,FALSE)","v":{"$error":"#N/A"}},{"$f":"T24-HLOOKUP(X24,Feuil1!$C$1:$BL$10,4,FALSE)","v":{"$error":"#N/A"}},{"$f":"T24-HLOOKUP(X24,Feuil1!$C$1:$BL$10,5,FALSE)","v":{"$error":"#N/A"}},{"$f":"T24-HLOOKUP(X24,Feuil1!$C$1:$BL$10,6,FALSE)","v":{"$error":"#N/A"}},{"$f":"T24-HLOOKUP(X24,Feuil1!$C$1:$BL$10,7,FALSE)","v":{"$error":"#N/A"}},{"$f":"T24-HLOOKUP(X24,Feuil1!$C$1:$BL$10,8,FALSE)","v":{"$error":"#N/A"}},{"$f":"T24-HLOOKUP(X24,Feuil1!$C$1:$BL$10,9,FALSE)","v":{"$error":"#N/A"}},{"$f":"T24-HLOOKUP(X24,Feuil1!$C$1:$BL$10,10,FALSE)","v":{"$error":"#N/A"}}]
["F","ZCO","PDL",1,191138,"L'HERMIER","Nolwen",1999,42.77,"CA Evron 53","F",38,-40,40,{"$f":"IF(H25=\"\",\"\",IF(MAXA(L25:N25)<=0,0,MAXA(L25:N25)))","v":40},53,55,-58,{"$f":"IF(H25=\"\",\"\",IF(MAXA(P25:R25)<=0,0,MAXA(P25:R25)))","v":55},{"$f":"IF(H25=\"\",\"\",IF(OR(O25=0,S25=0),0,O25+S25))","v":95},52.23,{"$f":"IF(H25=\"\",\"\",AQ25)","v":"INTB +"},{"$f":"IF(AJ25>=0,AJ25,IF(AI25>=0,AI25,IF(AH25>=0,AH25,IF(AG25>=0,AG25,IF(AF25>=0,AF25,IF(AE25>=0,AE25,IF(AD25>=0,AD25,IF(AC25>=0,AC25,AB25))))))))","v":5},{"$f":"IF(I25=\"\",\"\",IF(A25=\"H\",IF(OR(H25=\"SEN\",H25<1995),VLOOKUP(I25,Feuil1!$A$11:$F$29,6),IF(AND(H25>1994,H25<1998),VLOOKUP(I25,Feuil1!$A$11:$F$29,5),IF(AND(H25>1997,H25<2000),VLOOKUP(I25,Feuil1!$A$11:$F$29,4),IF(AND(H25>1999,H25<2002),VLOOKUP(I25,Feuil1!$A$11:$F$29,3),VLOOKUP(I25,Feuil1!$A$11:$F$29,2))))),IF(OR(H25=\"SEN\",H25<1995),VLOOKUP(I25,Feuil1!$G$11:$L$25,6),IF(AND(H25>1994,H25<1998),VLOOKUP(I25,Feuil1!$G$11:$L$25,5),IF(AND(H25>1997,H25<2000),VLOOKUP(I25,Feuil1!$G$11:$L$25,4),IF(AND(H25>1999,H25<2002),VLOOKUP(I25,Feuil1!$G$11:$L$25,3),VLOOKUP(I25,Feuil1!$G$11:$L$25,2)))))))","v":"FC2 44"},{"$f":"IF(I25=\"\",\"\",IF(A25=\"H\",10^(0.794358141*LOG(I25/174.393)^2)*T25,IF(A25=\"F\",10^(0.89726074*LOG(I25/148.026)^2)*T25,\"\")))","v":173.21638545444648},null," ",{"$f":"T25-HLOOKUP(X25,Feuil1!$C$1:$BL$10,2,FALSE)","v":65},{"$f":"T25-HLOOKUP(X25,Feuil1!$C$1:$BL$10,3,FALSE)","v":55},{"$f":"T25-HLOOKUP(X25,Feuil1!$C$1:$BL$10,4,FALSE)","v":45},{"$f":"T25-HLOOKUP(X25,Feuil1!$C$1:$BL$10,5,FALSE)","v":35},{"$f":"T25-HLOOKUP(X25,Feuil1!$C$1:$BL$10,6,FALSE)","v":25},{"$f":"T25-HLOOKUP(X25,Feuil1!$C$1:$BL$10,7,FALSE)","v":15},{"$f":"T25-HLOOKUP(X25,Feuil1!$C$1:$BL$10,8,FALSE)","v":5},{"$f":"T25-HLOOKUP(X25,Feuil1!$C$1:$BL$10,9,FALSE)","v":-5},{"$f":"T25-HLOOKUP(X25,Feuil1!$C$1:$BL$10,10,FALSE)","v":-905},null,null,null,null,null,null,{"$f":"IF(AJ25>=0,$AJ$4,IF(AI25>=0,$AI$4,IF(AH25>=0,$AH$4,IF(AG25>=0,$AG$4,IF(AF25>=0,$AF$4,IF(AE25>=0,$AE$4,IF(AD25>=0,$AD$4,IF(AC25>=0,$AC$4,$AB$4))))))))","v":"INTB +"}]
[null,null,null,null,null,null,null,null,null,null,null,null,null,null,null,null,null,null,null,null," ",null,null,null,null,null,null,{"$f":"T26-HLOOKUP(X26,Feuil1!$C$1:$BL$10,2,FALSE)","v":{"$error":"#N/A"}},{"$f":"T26-HLOOKUP(X26,Feuil1!$C$1:$BL$10,3,FALSE)","v":{"$error":"#N/A"}},{"$f":"T26-HLOOKUP(X26,Feuil1!$C$1:$BL$10,4,FALSE)","v":{"$error":"#N/A"}},{"$f":"T26-HLOOKUP(X26,Feuil1!$C$1:$BL$10,5,FALSE)","v":{"$error":"#N/A"}},{"$f":"T26-HLOOKUP(X26,Feuil1!$C$1:$BL$10,6,FALSE)","v":{"$error":"#N/A"}},{"$f":"T26-HLOOKUP(X26,Feuil1!$C$1:$BL$10,7,FALSE)","v":{"$error":"#N/A"}},{"$f":"T26-HLOOKUP(X26,Feuil1!$C$1:$BL$10,8,FALSE)","v":{"$error":"#N/A"}},{"$f":"T26-HLOOKUP(X26,Feuil1!$C$1:$BL$10,9,FALSE)","v":{"$error":"#N/A"}},{"$f":"T26-HLOOKUP(X26,Feuil1!$C$1:$BL$10,10,FALSE)","v":{"$error":"#N/A"}}]
["F","SO","AQ",1,277832,"RIGAUD","Garance",1999,47.9,"ST MEDARD EN JALLES EA","F",43,47,50,{"$f":"IF(H27=\"\",\"\",IF(MAXA(L27:N27)<=0,0,MAXA(L27:N27)))","v":50},54,57,60,{"$f":"IF(H27=\"\",\"\",IF(MAXA(P27:R27)<=0,0,MAXA(P27:R27)))","v":60},{"$f":"IF(H27=\"\",\"\",IF(OR(O27=0,S27=0),0,O27+S27))","v":110},62.1,{"$f":"IF(H27=\"\",\"\",AQ27)","v":"INTA +"},{"$f":"IF(AJ27>=0,AJ27,IF(AI27>=0,AI27,IF(AH27>=0,AH27,IF(AG27>=0,AG27,IF(AF27>=0,AF27,IF(AE27>=0,AE27,IF(AD27>=0,AD27,IF(AC27>=0,AC27,AB27))))))))","v":0},{"$f":"IF(I27=\"\",\"\",IF(A27=\"H\",IF(OR(H27=\"SEN\",H27<1995),VLOOKUP(I27,Feuil1!$A$11:$F$29,6),IF(AND(H27>1994,H27<1998),VLOOKUP(I27,Feuil1!$A$11:$F$29,5),IF(AND(H27>1997,H27<2000),VLOOKUP(I27,Feuil1!$A$11:$F$29,4),IF(AND(H27>1999,H27<2002),VLOOKUP(I27,Feuil1!$A$11:$F$29,3),VLOOKUP(I27,Feuil1!$A$11:$F$29,2))))),IF(OR(H27=\"SEN\",H27<1995),VLOOKUP(I27,Feuil1!$G$11:$L$25,6),IF(AND(H27>1994,H27<1998),VLOOKUP(I27,Feuil1!$G$11:$L$25,5),IF(AND(H27>1997,H27<2000),VLOOKUP(I27,Feuil1!$G$11:$L$25,4),IF(AND(H27>1999,H27<2002),VLOOKUP(I27,Feuil1!$G$11:$L$25,3),VLOOKUP(I27,Feuil1!$G$11:$L$25,2)))))))","v":"FC2 48"},{"$f":"IF(I27=\"\",\"\",IF(A27=\"H\",10^(0.794358141*LOG(I27/174.393)^2)*T27,IF(A27=\"F\",10^(0.89726074*LOG(I27/148.026)^2)*T27,\"\")))","v":180.64551293000693},null," ",{"$f":"T27-HLOOKUP(X27,Feuil1!$C$1:$BL$10,2,FALSE)","v":75},{"$f":"T27-HLOOKUP(X27,Feuil1!$C$1:$BL$10,3,FALSE)","v":65},{"$f":"T27-HLOOKUP(X27,Feuil1!$C$1:$BL$10,4,FALSE)","v":55},{"$f":"T27-HLOOKUP(X27,Feuil1!$C$1:$BL$10,5,FALSE)","v":45},{"$f":"T27-HLOOKUP(X27,Feuil1!$C$1:$BL$10,6,FALSE)","v":35},{"$f":"T27-HLOOKUP(X27,Feuil1!$C$1:$BL$10,7,FALSE)","v":25},{"$f":"T27-HLOOKUP(X27,Feuil1!$C$1:$BL$10,8,FALSE)","v":15},{"$f":"T27-HLOOKUP(X27,Feuil1!$C$1:$BL$10,9,FALSE)","v":0},{"$f":"T27-HLOOKUP(X27,Feuil1!$C$1:$BL$10,10,FALSE)","v":-890},null,null,null,null,null,null,{"$f":"IF(AJ27>=0,$AJ$4,IF(AI27>=0,$AI$4,IF(AH27>=0,$AH$4,IF(AG27>=0,$AG$4,IF(AF27>=0,$AF$4,IF(AE27>=0,$AE$4,IF(AD27>=0,$AD$4,IF(AC27>=0,$AC$4,$AB$4))))))))","v":"INTA +"}]
["F","SO","AQ",2,298421,"MOCAER","Nolwenn",1999,44.8,"ST MEDARD EN JALLES EA","F",40,43,46,{"$f":"IF(H28=\"\",\"\",IF(MAXA(L28:N28)<=0,0,MAXA(L28:N28)))","v":46},55,58,61,{"$f":"IF(H28=\"\",\"\",IF(MAXA(P28:R28)<=0,0,MAXA(P28:R28)))","v":61},{"$f":"IF(H28=\"\",\"\",IF(OR(O28=0,S28=0),0,O28+S28))","v":107},62.2,{"$f":"IF(H28=\"\",\"\",AQ28)","v":"INTB +"},{"$f":"IF(AJ28>=0,AJ28,IF(AI28>=0,AI28,IF(AH28>=0,AH28,IF(AG28>=0,AG28,IF(AF28>=0,AF28,IF(AE28>=0,AE28,IF(AD28>=0,AD28,IF(AC28>=0,AC28,AB28))))))))","v":12},{"$f":"IF(I28=\"\",\"\",IF(A28=\"H\",IF(OR(H28=\"SEN\",H28<1995),VLOOKUP(I28,Feuil1!$A$11:$F$29,6),IF(AND(H28>1994,H28<1998),VLOOKUP(I28,Feuil1!$A$11:$F$29,5),IF(AND(H28>1997,H28<2000),VLOOKUP(I28,Feuil1!$A$11:$F$29,4),IF(AND(H28>1999,H28<2002),VLOOKUP(I28,Feuil1!$A$11:$F$29,3),VLOOKUP(I28,Feuil1!$A$11:$F$29,2))))),IF(OR(H28=\"SEN\",H28<1995),VLOOKUP(I28,Feuil1!$G$11:$L$25,6),IF(AND(H28>1994,H28<1998),VLOOKUP(I28,Feuil1!$G$11:$L$25,5),IF(AND(H28>1997,H28<2000),VLOOKUP(I28,Feuil1!$G$11:$L$25,4),IF(AND(H28>1999,H28<2002),VLOOKUP(I28,Feuil1!$G$11:$L$25,3),VLOOKUP(I28,Feuil1!$G$11:$L$25,2)))))))","v":"FC2 48"},{"$f":"IF(I28=\"\",\"\",IF(A28=\"H\",10^(0.794358141*LOG(I28/174.393)^2)*T28,IF(A28=\"F\",10^(0.89726074*LOG(I28/148.026)^2)*T28,\"\")))","v":186.69242756582267},null," ",{"$f":"T28-HLOOKUP(X28,Feuil1!$C$1:$BL$10,2,FALSE)","v":72},{"$f":"T28-HLOOKUP(X28,Feuil1!$C$1:$BL$10,3,FALSE)","v":62},{"$f":"T28-HLOOKUP(X28,Feuil1!$C$1:$BL$10,4,FALSE)","v":52},{"$f":"T28-HLOOKUP(X28,Feuil1!$C$1:$BL$10,5,FALSE)","v":42},{"$f":"T28-HLOOKUP(X28,Feuil1!$C$1:$BL$10,6,FALSE)","v":32},{"$f":"T28-HLOOKUP(X28,Feuil1!$C$1:$BL$10,7,FALSE)","v":22},{"$f":"T28-HLOOKUP(X28,Feuil1!$C$1:$BL$10,8,FALSE)","v":12},{"$f":"T28-HLOOKUP(X28,Feuil1!$C$1:$BL$10,9,FALSE)","v":-3},{"$f":"T28-HLOOKUP(X28,Feuil1!$C$1:$BL$10,10,FALSE)","v":-893},null,null,null,null,null,null,{"$f":"IF(AJ28>=0,$AJ$4,IF(AI28>=0,$AI$4,IF(AH28>=0,$AH$4,IF(AG28>=0,$AG$4,IF(AF28>=0,$AF$4,IF(AE28>=0,$AE$4,IF(AD28>=0,$AD$4,IF(AC28>=0,$AC$4,$AB$4))))))))","v":"INTB +"}]
[null,null,null,null,null,null,null,null,null,null,null,null,null,null,null,null,null,null,null,null," ",null,null,null,null,null,null,{"$f":"T29-HLOOKUP(X29,Feuil1!$C$1:$BL$10,2,FALSE)","v":{"$error":"#N/A"}},{"$f":"T29-HLOOKUP(X29,Feuil1!$C$1:$BL$10,3,FALSE)","v":{"$error":"#N/A"}},{"$f":"T29-HLOOKUP(X29,Feuil1!$C$1:$BL$10,4,FALSE)","v":{"$error":"#N/A"}},{"$f":"T29-HLOOKUP(X29,Feuil1!$C$1:$BL$10,5,FALSE)","v":{"$error":"#N/A"}},{"$f":"T29-HLOOKUP(X29,Feuil1!$C$1:$BL$10,6,FALSE)","v":{"$error":"#N/A"}},{"$f":"T29-HLOOKUP(X29,Feuil1!$C$1:$BL$10,7,FALSE)","v":{"$error":"#N/A"}},{"$f":"T29-HLOOKUP(X29,Feuil1!$C$1:$BL$10,8,FALSE)","v":{"$error":"#N/A"}},{"$f":"T29-HLOOKUP(X29,Feuil1!$C$1:$BL$10,9,FALSE)","v":{"$error":"#N/A"}},{"$f":"T29-HLOOKUP(X29,Feuil1!$C$1:$BL$10,10,FALSE)","v":{"$error":"#N/A"}}]
["F","SEST","CAZ",1,295873,"RICHET","Caterine",1999,49.25,"E.S. VILLENEUVE LOUBET","F",-40,41,44,{"$f":"IF(H30=\"\",\"\",IF(MAXA(L30:N30)<=0,0,MAXA(L30:N30)))","v":44},54,58,61,{"$f":"IF(H30=\"\",\"\",IF(MAXA(P30:R30)<=0,0,MAXA(P30:R30)))","v":61},{"$f":"IF(H30=\"\",\"\",IF(OR(O30=0,S30=0),0,O30+S30))","v":105},55.75,{"$f":"IF(H30=\"\",\"\",AQ30)","v":"INTB +"},{"$f":"IF(AJ30>=0,AJ30,IF(AI30>=0,AI30,IF(AH30>=0,AH30,IF(AG30>=0,AG30,IF(AF30>=0,AF30,IF(AE30>=0,AE30,IF(AD30>=0,AD30,IF(AC30>=0,AC30,AB30))))))))","v":0},{"$f":"IF(I30=\"\",\"\",IF(A30=\"H\",IF(OR(H30=\"SEN\",H30<1995),VLOOKUP(I30,Feuil1!$A$11:$F$29,6),IF(AND(H30>1994,H30<1998),VLOOKUP(I30,Feuil1!$A$11:$F$29,5),IF(AND(H30>1997,H30<2000),VLOOKUP(I30,Feuil1!$A$11:$F$29,4),IF(AND(H30>1999,H30<2002),VLOOKUP(I30,Feuil1!$A$11:$F$29,3),VLOOKUP(I30,Feuil1!$A$11:$F$29,2))))),IF(OR(H30=\"SEN\",H30<1995),VLOOKUP(I30,Feuil1!$G$11:$L$25,6),IF(AND(H30>1994,H30<1998),VLOOKUP(I30,Feuil1!$G$11:$L$25,5),IF(AND(H30>1997,H30<2000),VLOOKUP(I30,Feuil1!$G$11:$L$25,4),IF(AND(H30>1999,H30<2002),VLOOKUP(I30,Feuil1!$G$11:$L$25,3),VLOOKUP(I30,Feuil1!$G$11:$L$25,2)))))))","v":"FC2 53"},{"$f":"IF(I30=\"\",\"\",IF(A30=\"H\",10^(0.794358141*LOG(I30/174.393)^2)*T30,IF(A30=\"F\",10^(0.89726074*LOG(I30/148.026)^2)*T30,\"\")))","v":168.3218511576965},null," ",{"$f":"T30-HLOOKUP(X30,Feuil1!$C$1:$BL$10,2,FALSE)","v":60},{"$f":"T30-HLOOKUP(X30,Feuil1!$C$1:$BL$10,3,FALSE)","v":50},{"$f":"T30-HLOOKUP(X30,Feuil1!$C$1:$BL$10,4,FALSE)","v":40},{"$f":"T30-HLOOKUP(X30,Feuil1!$C$1:$BL$10,5,FALSE)","v":30},{"$f":"T30-HLOOKUP(X30,Feuil1!$C$1:$BL$10,6,FALSE)","v":20},{"$f":"T30-HLOOKUP(X30,Feuil1!$C$1:$BL$10,7,FALSE)","v":10},{"$f":"T30-HLOOKUP(X30,Feuil1!$C$1:$BL$10,8,FALSE)","v":0},{"$f":"T30-HLOOKUP(X30,Feuil1!$C$1:$BL$10,9,FALSE)","v":-15},{"$f":"T30-HLOOKUP(X30,Feuil1!$C$1:$BL$10,10,FALSE)","v":-895},null,null,null,null,null,null,{"$f":"IF(AJ30>=0,$AJ$4,IF(AI30>=0,$AI$4,IF(AH30>=0,$AH$4,IF(AG30>=0,$AG$4,IF(AF30>=0,$AF$4,IF(AE30>=0,$AE$4,IF(AD30>=0,$AD$4,IF(AC30>=0,$AC$4,$AB$4))))))))","v":"INTB +"}]
["F","Nord","PIC",2,326995,"BONNIERE","Priscillia",1999,52.93,"Villers-Bretonneux KC","F",40,43,-44,{"$f":"IF(H31=\"\",\"\",IF(MAXA(L31:N31)<=0,0,MAXA(L31:N31)))","v":43},48,52,-55,{"$f":"IF(H31=\"\",\"\",IF(MAXA(P31:R31)<=0,0,MAXA(P31:R31)))","v":52},{"$f":"IF(H31=\"\",\"\",IF(OR(O31=0,S31=0),0,O31+S31))","v":95},42.07,{"$f":"IF(H31=\"\",\"\",AQ31)","v":"NAT +"},{"$f":"IF(AJ31>=0,AJ31,IF(AI31>=0,AI31,IF(AH31>=0,AH31,IF(AG31>=0,AG31,IF(AF31>=0,AF31,IF(AE31>=0,AE31,IF(AD31>=0,AD31,IF(AC31>=0,AC31,AB31))))))))","v":0},{"$f":"IF(I31=\"\",\"\",IF(A31=\"H\",IF(OR(H31=\"SEN\",H31<1995),VLOOKUP(I31,Feuil1!$A$11:$F$29,6),IF(AND(H31>1994,H31<1998),VLOOKUP(I31,Feuil1!$A$11:$F$29,5),IF(AND(H31>1997,H31<2000),VLOOKUP(I31,Feuil1!$A$11:$F$29,4),IF(AND(H31>1999,H31<2002),VLOOKUP(I31,Feuil1!$A$11:$F$29,3),VLOOKUP(I31,Feuil1!$A$11:$F$29,2))))),IF(OR(H31=\"SEN\",H31<1995),VLOOKUP(I31,Feuil1!$G$11:$L$25,6),IF(AND(H31>1994,H31<1998),VLOOKUP(I31,Feuil1!$G$11:$L$25,5),IF(AND(H31>1997,H31<2000),VLOOKUP(I31,Feuil1!$G$11:$L$25,4),IF(AND(H31>1999,H31<2002),VLOOKUP(I31,Feuil1!$G$11:$L$25,3),VLOOKUP(I31,Feuil1!$G$11:$L$25,2)))))))","v":"FC2 53"},{"$f":"IF(I31=\"\",\"\",IF(A31=\"H\",10^(0.794358141*LOG(I31/174.393)^2)*T31,IF(A31=\"F\",10^(0.89726074*LOG(I31/148.026)^2)*T31,\"\")))","v":143.45397947938741},null," ",{"$f":"T31-HLOOKUP(X31,Feuil1!$C$1:$BL$10,2,FALSE)","v":50},{"$f":"T31-HLOOKUP(X31,Feuil1!$C$1:$BL$10,3,FALSE)","v":40},{"$f":"T31-HLOOKUP(X31,Feuil1!$C$1:$BL$10,4,FALSE)","v":30},{"$f":"T31-HLOOKUP(X31,Feuil1!$C$1:$BL$10,5,FALSE)","v":20},{"$f":"T31-HLOOKUP(X31,Feuil1!$C$1:$BL$10,6,FALSE)","v":10},{"$f":"T31-HLOOKUP(X31,Feuil1!$C$1:$BL$10,7,FALSE)","v":0},{"$f":"T31-HLOOKUP(X31,Feuil1!$C$1:$BL$10,8,FALSE)","v":-10},{"$f":"T31-HLOOKUP(X31,Feuil1!$C$1:$BL$10,9,FALSE)","v":-25},{"$f":"T31-HLOOKUP(X31,Feuil1!$C$1:$BL$10,10,FALSE)","v":-905},null,null,null,null,null,null,{"$f":"IF(AJ31>=0,$AJ$4,IF(AI31>=0,$AI$4,IF(AH31>=0,$AH$4,IF(AG31>=0,$AG$4,IF(AF31>=0,$AF$4,IF(AE31>=0,$AE$4,IF(AD31>=0,$AD$4,IF(AC31>=0,$AC$4,$AB$4))))))))","v":"NAT +"}]
["F","ZCO","BNO",3,285369,"VILLENEUVE","Irys",1998,52.54,"Caen CHM","F",40,-43,-43,{"$f":"IF(H32=\"\",\"\",IF(MAXA(L32:N32)<=0,0,MAXA(L32:N32)))","v":40},50,-55,-55,{"$f":"IF(H32=\"\",\"\",IF(MAXA(P32:R32)<=0,0,MAXA(P32:R32)))","v":50},{"$f":"IF(H32=\"\",\"\",IF(OR(O32=0,S32=0),0,O32+S32))","v":90},37.46,{"$f":"IF(H32=\"\",\"\",AQ32)","v":"FED +"},{"$f":"IF(AJ32>=0,AJ32,IF(AI32>=0,AI32,IF(AH32>=0,AH32,IF(AG32>=0,AG32,IF(AF32>=0,AF32,IF(AE32>=0,AE32,IF(AD32>=0,AD32,IF(AC32>=0,AC32,AB32))))))))","v":5},{"$f":"IF(I32=\"\",\"\",IF(A32=\"H\",IF(OR(H32=\"SEN\",H32<1995),VLOOKUP(I32,Feuil1!$A$11:$F$29,6),IF(AND(H32>1994,H32<1998),VLOOKUP(I32,Feuil1!$A$11:$F$29,5),IF(AND(H32>1997,H32<2000),VLOOKUP(I32,Feuil1!$A$11:$F$29,4),IF(AND(H32>1999,H32<2002),VLOOKUP(I32,Feuil1!$A$11:$F$29,3),VLOOKUP(I32,Feuil1!$A$11:$F$29,2))))),IF(OR(H32=\"SEN\",H32<1995),VLOOKUP(I32,Feuil1!$G$11:$L$25,6),IF(AND(H32>1994,H32<1998),VLOOKUP(I32,Feuil1!$G$11:$L$25,5),IF(AND(H32>1997,H32<2000),VLOOKUP(I32,Feuil1!$G$11:$L$25,4),IF(AND(H32>1999,H32<2002),VLOOKUP(I32,Feuil1!$G$11:$L$25,3),VLOOKUP(I32,Feuil1!$G$11:$L$25,2)))))))","v":"FC2 53"},{"$f":"IF(I32=\"\",\"\",IF(A32=\"H\",10^(0.794358141*LOG(I32/174.393)^2)*T32,IF(A32=\"F\",10^(0.89726074*LOG(I32/148.026)^2)*T32,\"\")))","v":136.71464291217478},null," ",{"$f":"T32-HLOOKUP(X32,Feuil1!$C$1:$BL$10,2,FALSE)","v":45},{"$f":"T32-HLOOKUP(X32,Feuil1!$C$1:$BL$10,3,FALSE)","v":35},{"$f":"T32-HLOOKUP(X32,Feuil1!$C$1:$BL$10,4,FALSE)","v":25},{"$f":"T32-HLOOKUP(X32,Feuil1!$C$1:$BL$10,5,FALSE)","v":15},{"$f":"T32-HLOOKUP(X32,Feuil1!$C$1:$BL$10,6,FALSE)","v":5},{"$f":"T32-HLOOKUP(X32,Feuil1!$C$1:$BL$10,7,FALSE)","v":-5},{"$f":"T32-HLOOKUP(X32,Feuil1!$C$1:$BL$10,8,FALSE)","v":-15},{"$f":"T32-HLOOKUP(X32,Feuil1!$C$1:$BL$10,9,FALSE)","v":-30},{"$f":"T32-HLOOKUP(X32,Feuil1!$C$1:$BL$10,10,FALSE)","v":-910},null,null,null,null,null,null,{"$f":"IF(AJ32>=0,$AJ$4,IF(AI32>=0,$AI$4,IF(AH32>=0,$AH$4,IF(AG32>=0,$AG$4,IF(AF32>=0,$AF$4,IF(AE32>=0,$AE$4,IF(AD32>=0,$AD$4,IF(AC32>=0,$AC$4,$AB$4))))))))","v":"FED +"}]
["F","SEST","CAZ",4,363002,"MAILLOT ","Asia",1998,49,"ASLDD. TOULON","F",-36,36,39,{"$f":"IF(H33=\"\",\"\",IF(MAXA(L33:N33)<=0,0,MAXA(L33:N33)))","v":39},47,50,-52,{"$f":"IF(H33=\"\",\"\",IF(MAXA(P33:R33)<=0,0,MAXA(P33:R33)))","v":50},{"$f":"IF(H33=\"\",\"\",IF(OR(O33=0,S33=0),0,O33+S33))","v":89},40,{"$f":"IF(H33=\"\",\"\",AQ33)","v":"FED +"},{"$f":"IF(AJ33>=0,AJ33,IF(AI33>=0,AI33,IF(AH33>=0,AH33,IF(AG33>=0,AG33,IF(AF33>=0,AF33,IF(AE33>=0,AE33,IF(AD33>=0,AD33,IF(AC33>=0,AC33,AB33))))))))","v":4},{"$f":"IF(I33=\"\",\"\",IF(A33=\"H\",IF(OR(H33=\"SEN\",H33<1995),VLOOKUP(I33,Feuil1!$A$11:$F$29,6),IF(AND(H33>1994,H33<1998),VLOOKUP(I33,Feuil1!$A$11:$F$29,5),IF(AND(H33>1997,H33<2000),VLOOKUP(I33,Feuil1!$A$11:$F$29,4),IF(AND(H33>1999,H33<2002),VLOOKUP(I33,Feuil1!$A$11:$F$29,3),VLOOKUP(I33,Feuil1!$A$11:$F$29,2))))),IF(OR(H33=\"SEN\",H33<1995),VLOOKUP(I33,Feuil1!$G$11:$L$25,6),IF(AND(H33>1994,H33<1998),VLOOKUP(I33,Feuil1!$G$11:$L$25,5),IF(AND(H33>1997,H33<2000),VLOOKUP(I33,Feuil1!$G$11:$L$25,4),IF(AND(H33>1999,H33<2002),VLOOKUP(I33,Feuil1!$G$11:$L$25,3),VLOOKUP(I33,Feuil1!$G$11:$L$25,2)))))))","v":"FC2 53"},{"$f":"IF(I33=\"\",\"\",IF(A33=\"H\",10^(0.794358141*LOG(I33/174.393)^2)*T33,IF(A33=\"F\",10^(0.89726074*LOG(I33/148.026)^2)*T33,\"\")))","v":143.29833622642508},null," ",{"$f":"T33-HLOOKUP(X33,Feuil1!$C$1:$BL$10,2,FALSE)","v":44},{"$f":"T33-HLOOKUP(X33,Feuil1!$C$1:$BL$10,3,FALSE)","v":34},{"$f":"T33-HLOOKUP(X33,Feuil1!$C$1:$BL$10,4,FALSE)","v":24},{"$f":"T33-HLOOKUP(X33,Feuil1!$C$1:$BL$10,5,FALSE)","v":14},{"$f":"T33-HLOOKUP(X33,Feuil1!$C$1:$BL$10,6,FALSE)","v":4},{"$f":"T33-HLOOKUP(X33,Feuil1!$C$1:$BL$10,7,FALSE)","v":-6},{"$f":"T33-HLOOKUP(X33,Feuil1!$C$1:$BL$10,8,FALSE)","v":-16},{"$f":"T33-HLOOKUP(X33,Feuil1!$C$1:$BL$10,9,FALSE)","v":-31},{"$f":"T33-HLOOKUP(X33,Feuil1!$C$1:$BL$10,10,FALSE)","v":-911},null,null,null,null,null,null,{"$f":"IF(AJ33>=0,$AJ$4,IF(AI33>=0,$AI$4,IF(AH33>=0,$AH$4,IF(AG33>=0,$AG$4,IF(AF33>=0,$AF$4,IF(AE33>=0,$AE$4,IF(AD33>=0,$AD$4,IF(AC33>=0,$AC$4,$AB$4))))))))","v":"FED +"}]
["F","DOM","MAR",5,362590,"BOISFER","Priscilla",1999,52.6,"ABBC/Foyal Didier","F",33,37,-40,{"$f":"IF(H34=\"\",\"\",IF(MAXA(L34:N34)<=0,0,MAXA(L34:N34)))","v":37},44,49,-52,{"$f":"IF(H34=\"\",\"\",IF(MAXA(P34:R34)<=0,0,MAXA(P34:R34)))","v":49},{"$f":"IF(H34=\"\",\"\",IF(OR(O34=0,S34=0),0,O34+S34))","v":86},{"$f":"T34-I34","v":33.4},{"$f":"IF(H34=\"\",\"\",AQ34)","v":"FED +"},{"$f":"IF(AJ34>=0,AJ34,IF(AI34>=0,AI34,IF(AH34>=0,AH34,IF(AG34>=0,AG34,IF(AF34>=0,AF34,IF(AE34>=0,AE34,IF(AD34>=0,AD34,IF(AC34>=0,AC34,AB34))))))))","v":1},{"$f":"IF(I34=\"\",\"\",IF(A34=\"H\",IF(OR(H34=\"SEN\",H34<1995),VLOOKUP(I34,Feuil1!$A$11:$F$29,6),IF(AND(H34>1994,H34<1998),VLOOKUP(I34,Feuil1!$A$11:$F$29,5),IF(AND(H34>1997,H34<2000),VLOOKUP(I34,Feuil1!$A$11:$F$29,4),IF(AND(H34>1999,H34<2002),VLOOKUP(I34,Feuil1!$A$11:$F$29,3),VLOOKUP(I34,Feuil1!$A$11:$F$29,2))))),IF(OR(H34=\"SEN\",H34<1995),VLOOKUP(I34,Feuil1!$G$11:$L$25,6),IF(AND(H34>1994,H34<1998),VLOOKUP(I34,Feuil1!$G$11:$L$25,5),IF(AND(H34>1997,H34<2000),VLOOKUP(I34,Feuil1!$G$11:$L$25,4),IF(AND(H34>1999,H34<2002),VLOOKUP(I34,Feuil1!$G$11:$L$25,3),VLOOKUP(I34,Feuil1!$G$11:$L$25,2)))))))","v":"FC2 53"},{"$f":"IF(I34=\"\",\"\",IF(A34=\"H\",10^(0.794358141*LOG(I34/174.393)^2)*T34,IF(A34=\"F\",10^(0.89726074*LOG(I34/148.026)^2)*T34,\"\")))","v":130.51819366991415},null," ",{"$f":"T34-HLOOKUP(X34,Feuil1!$C$1:$BL$10,2,FALSE)","v":41},{"$f":"T34-HLOOKUP(X34,Feuil1!$C$1:$BL$10,3,FALSE)","v":31},{"$f":"T34-HLOOKUP(X34,Feuil1!$C$1:$BL$10,4,FALSE)","v":21},{"$f":"T34-HLOOKUP(X34,Feuil1!$C$1:$BL$10,5,FALSE)","v":11},{"$f":"T34-HLOOKUP(X34,Feuil1!$C$1:$BL$10,6,FALSE)","v":1},{"$f":"T34-HLOOKUP(X34,Feuil1!$C$1:$BL$10,7,FALSE)","v":-9},{"$f":"T34-HLOOKUP(X34,Feuil1!$C$1:$BL$10,8,FALSE)","v":-19},{"$f":"T34-HLOOKUP(X34,Feuil1!$C$1:$BL$10,9,FALSE)","v":-34},{"$f":"T34-HLOOKUP(X34,Feuil1!$C$1:$BL$10,10,FALSE)","v":-914},null,null,null,null,null,null,{"$f":"IF(AJ34>=0,$AJ$4,IF(AI34>=0,$AI$4,IF(AH34>=0,$AH$4,IF(AG34>=0,$AG$4,IF(AF34>=0,$AF$4,IF(AE34>=0,$AE$4,IF(AD34>=0,$AD$4,IF(AC34>=0,$AC$4,$AB$4))))))))","v":"FED +"}]
[null,null,null,null,null,null,null,null,null,null,null,null,null,null,null,null,null,null,null,null," ",null,null,null,null,null,null,{"$f":"T35-HLOOKUP(X35,Feuil1!$C$1:$BL$10,2,FALSE)","v":{"$error":"#N/A"}},{"$f":"T35-HLOOKUP(X35,Feuil1!$C$1:$BL$10,3,FALSE)","v":{"$error":"#N/A"}},{"$f":"T35-HLOOKUP(X35,Feuil1!$C$1:$BL$10,4,FALSE)","v":{"$error":"#N/A"}},{"$f":"T35-HLOOKUP(X35,Feuil1!$C$1:$BL$10,5,FALSE)","v":{"$error":"#N/A"}},{"$f":"T35-HLOOKUP(X35,Feuil1!$C$1:$BL$10,6,FALSE)","v":{"$error":"#N/A"}},{"$f":"T35-HLOOKUP(X35,Feuil1!$C$1:$BL$10,7,FALSE)","v":{"$error":"#N/A"}},{"$f":"T35-HLOOKUP(X35,Feuil1!$C$1:$BL$10,8,FALSE)","v":{"$error":"#N/A"}},{"$f":"T35-HLOOKUP(X35,Feuil1!$C$1:$BL$10,9,FALSE)","v":{"$error":"#N/A"}},{"$f":"T35-HLOOKUP(X35,Feuil1!$C$1:$BL$10,10,FALSE)","v":{"$error":"#N/A"}}]
["F","Nord","PIC",1,260923,"ARNOULD","Lutricia",1998,57.94,"Villers-Bretonneux KC","F",52,-56,56,{"$f":"IF(H36=\"\",\"\",IF(MAXA(L36:N36)<=0,0,MAXA(L36:N36)))","v":56},67,70,72,{"$f":"IF(H36=\"\",\"\",IF(MAXA(P36:R36)<=0,0,MAXA(P36:R36)))","v":72},{"$f":"IF(H36=\"\",\"\",IF(OR(O36=0,S36=0),0,O36+S36))","v":128},70.06,{"$f":"IF(H36=\"\",\"\",AQ36)","v":"INTB +"},{"$f":"IF(AJ36>=0,AJ36,IF(AI36>=0,AI36,IF(AH36>=0,AH36,IF(AG36>=0,AG36,IF(AF36>=0,AF36,IF(AE36>=0,AE36,IF(AD36>=0,AD36,IF(AC36>=0,AC36,AB36))))))))","v":13},{"$f":"IF(I36=\"\",\"\",IF(A36=\"H\",IF(OR(H36=\"SEN\",H36<1995),VLOOKUP(I36,Feuil1!$A$11:$F$29,6),IF(AND(H36>1994,H36<1998),VLOOKUP(I36,Feuil1!$A$11:$F$29,5),IF(AND(H36>1997,H36<2000),VLOOKUP(I36,Feuil1!$A$11:$F$29,4),IF(AND(H36>1999,H36<2002),VLOOKUP(I36,Feuil1!$A$11:$F$29,3),VLOOKUP(I36,Feuil1!$A$11:$F$29,2))))),IF(OR(H36=\"SEN\",H36<1995),VLOOKUP(I36,Feuil1!$G$11:$L$25,6),IF(AND(H36>1994,H36<1998),VLOOKUP(I36,Feuil1!$G$11:$L$25,5),IF(AND(H36>1997,H36<2000),VLOOKUP(I36,Feuil1!$G$11:$L$25,4),IF(AND(H36>1999,H36<2002),VLOOKUP(I36,Feuil1!$G$11:$L$25,3),VLOOKUP(I36,Feuil1!$G$11:$L$25,2)))))))","v":"FC2 58"},{"$f":"IF(I36=\"\",\"\",IF(A36=\"H\",10^(0.794358141*LOG(I36/174.393)^2)*T36,IF(A36=\"F\",10^(0.89726074*LOG(I36/148.026)^2)*T36,\"\")))","v":180.34454372484234},null," ",{"$f":"T36-HLOOKUP(X36,Feuil1!$C$1:$BL$10,2,FALSE)","v":78},{"$f":"T36-HLOOKUP(X36,Feuil1!$C$1:$BL$10,3,FALSE)","v":68},{"$f":"T36-HLOOKUP(X36,Feuil1!$C$1:$BL$10,4,FALSE)","v":58},{"$f":"T36-HLOOKUP(X36,Feuil1!$C$1:$BL$10,5,FALSE)","v":48},{"$f":"T36-HLOOKUP(X36,Feuil1!$C$1:$BL$10,6,FALSE)","v":38},{"$f":"T36-HLOOKUP(X36,Feuil1!$C$1:$BL$10,7,FALSE)","v":28},{"$f":"T36-HLOOKUP(X36,Feuil1!$C$1:$BL$10,8,FALSE)","v":13},{"$f":"T36-HLOOKUP(X36,Feuil1!$C$1:$BL$10,9,FALSE)","v":-2},{"$f":"T36-HLOOKUP(X36,Feuil1!$C$1:$BL$10,10,FALSE)","v":-872},null,null,null,null,null,null,{"$f":"IF(AJ36>=0,$AJ$4,IF(AI36>=0,$AI$4,IF(AH36>=0,$AH$4,IF(AG36>=0,$AG$4,IF(AF36>=0,$AF$4,IF(AE36>=0,$AE$4,IF(AD36>=0,$AD$4,IF(AC36>=0,$AC$4,$AB$4))))))))","v":"INTB +"}]
["F","Nord","NPC",2,208590,"HOUZÉ","Océane",1998,57.99,"CHCD Comines","F",43,45,47,{"$f":"IF(H37=\"\",\"\",IF(MAXA(L37:N37)<=0,0,MAXA(L37:N37)))","v":47},53,56,-60,{"$f":"IF(H37=\"\",\"\",IF(MAXA(P37:R37)<=0,0,MAXA(P37:R37)))","v":56},{"$f":"IF(H37=\"\",\"\",IF(OR(O37=0,S37=0),0,O37+S37))","v":103},45.01,{"$f":"IF(H37=\"\",\"\",AQ37)","v":"NAT +"},{"$f":"IF(AJ37>=0,AJ37,IF(AI37>=0,AI37,IF(AH37>=0,AH37,IF(AG37>=0,AG37,IF(AF37>=0,AF37,IF(AE37>=0,AE37,IF(AD37>=0,AD37,IF(AC37>=0,AC37,AB37))))))))","v":3},{"$f":"IF(I37=\"\",\"\",IF(A37=\"H\",IF(OR(H37=\"SEN\",H37<1995),VLOOKUP(I37,Feuil1!$A$11:$F$29,6),IF(AND(H37>1994,H37<1998),VLOOKUP(I37,Feuil1!$A$11:$F$29,5),IF(AND(H37>1997,H37<2000),VLOOKUP(I37,Feuil1!$A$11:$F$29,4),IF(AND(H37>1999,H37<2002),VLOOKUP(I37,Feuil1!$A$11:$F$29,3),VLOOKUP(I37,Feuil1!$A$11:$F$29,2))))),IF(OR(H37=\"SEN\",H37<1995),VLOOKUP(I37,Feuil1!$G$11:$L$25,6),IF(AND(H37>1994,H37<1998),VLOOKUP(I37,Feuil1!$G$11:$L$25,5),IF(AND(H37>1997,H37<2000),VLOOKUP(I37,Feuil1!$G$11:$L$25,4),IF(AND(H37>1999,H37<2002),VLOOKUP(I37,Feuil1!$G$11:$L$25,3),VLOOKUP(I37,Feuil1!$G$11:$L$25,2)))))))","v":"FC2 58"},{"$f":"IF(I37=\"\",\"\",IF(A37=\"H\",10^(0.794358141*LOG(I37/174.393)^2)*T37,IF(A37=\"F\",10^(0.89726074*LOG(I37/148.026)^2)*T37,\"\")))","v":145.02956252053252},null," ",{"$f":"T37-HLOOKUP(X37,Feuil1!$C$1:$BL$10,2,FALSE)","v":53},{"$f":"T37-HLOOKUP(X37,Feuil1!$C$1:$BL$10,3,FALSE)","v":43},{"$f":"T37-HLOOKUP(X37,Feuil1!$C$1:$BL$10,4,FALSE)","v":33},{"$f":"T37-HLOOKUP(X37,Feuil1!$C$1:$BL$10,5,FALSE)","v":23},{"$f":"T37-HLOOKUP(X37,Feuil1!$C$1:$BL$10,6,FALSE)","v":13},{"$f":"T37-HLOOKUP(X37,Feuil1!$C$1:$BL$10,7,FALSE)","v":3},{"$f":"T37-HLOOKUP(X37,Feuil1!$C$1:$BL$10,8,FALSE)","v":-12},{"$f":"T37-HLOOKUP(X37,Feuil1!$C$1:$BL$10,9,FALSE)","v":-27},{"$f":"T37-HLOOKUP(X37,Feuil1!$C$1:$BL$10,10,FALSE)","v":-897},null,null,null,null,null,null,{"$f":"IF(AJ37>=0,$AJ$4,IF(AI37>=0,$AI$4,IF(AH37>=0,$AH$4,IF(AG37>=0,$AG$4,IF(AF37>=0,$AF$4,IF(AE37>=0,$AE$4,IF(AD37>=0,$AD$4,IF(AC37>=0,$AC$4,$AB$4))))))))","v":"NAT +"}]
["F","DOM","MAR",3,286912,"KICHENAMA","Clara",1999,58,"ABBC/Foyal Didier","F",40,45,-48,{"$f":"IF(H38=\"\",\"\",IF(MAXA(L38:N38)<=0,0,MAXA(L38:N38)))","v":45},55,-60,-60,{"$f":"IF(H38=\"\",\"\",IF(MAXA(P38:R38)<=0,0,MAXA(P38:R38)))","v":55},{"$f":"IF(H38=\"\",\"\",IF(OR(O38=0,S38=0),0,O38+S38))","v":100},{"$f":"T38-I38","v":42},{"$f":"IF(H38=\"\",\"\",AQ38)","v":"NAT +"},{"$f":"IF(AJ38>=0,AJ38,IF(AI38>=0,AI38,IF(AH38>=0,AH38,IF(AG38>=0,AG38,IF(AF38>=0,AF38,IF(AE38>=0,AE38,IF(AD38>=0,AD38,IF(AC38>=0,AC38,AB38))))))))","v":0},{"$f":"IF(I38=\"\",\"\",IF(A38=\"H\",IF(OR(H38=\"SEN\",H38<1995),VLOOKUP(I38,Feuil1!$A$11:$F$29,6),IF(AND(H38>1994,H38<1998),VLOOKUP(I38,Feuil1!$A$11:$F$29,5),IF(AND(H38>1997,H38<2000),VLOOKUP(I38,Feuil1!$A$11:$F$29,4),IF(AND(H38>1999,H38<2002),VLOOKUP(I38,Feuil1!$A$11:$F$29,3),VLOOKUP(I38,Feuil1!$A$11:$F$29,2))))),IF(OR(H38=\"SEN\",H38<1995),VLOOKUP(I38,Feuil1!$G$11:$L$25,6),IF(AND(H38>1994,H38<1998),VLOOKUP(I38,Feuil1!$G$11:$L$25,5),IF(AND(H38>1997,H38<2000),VLOOKUP(I38,Feuil1!$G$11:$L$25,4),IF(AND(H38>1999,H38<2002),VLOOKUP(I38,Feuil1!$G$11:$L$25,3),VLOOKUP(I38,Feuil1!$G$11:$L$25,2)))))))","v":"FC2 58"},{"$f":"IF(I38=\"\",\"\",IF(A38=\"H\",10^(0.794358141*LOG(I38/174.393)^2)*T38,IF(A38=\"F\",10^(0.89726074*LOG(I38/148.026)^2)*T38,\"\")))","v":140.78767133502768},null," ",{"$f":"T38-HLOOKUP(X38,Feuil1!$C$1:$BL$10,2,FALSE)","v":50},{"$f":"T38-HLOOKUP(X38,Feuil1!$C$1:$BL$10,3,FALSE)","v":40},{"$f":"T38-HLOOKUP(X38,Feuil1!$C$1:$BL$10,4,FALSE)","v":30},{"$f":"T38-HLOOKUP(X38,Feuil1!$C$1:$BL$10,5,FALSE)","v":20},{"$f":"T38-HLOOKUP(X38,Feuil1!$C$1:$BL$10,6,FALSE)","v":10},{"$f":"T38-HLOOKUP(X38,Feuil1!$C$1:$BL$10,7,FALSE)","v":0},{"$f":"T38-HLOOKUP(X38,Feuil1!$C$1:$BL$10,8,FALSE)","v":-15},{"$f":"T38-HLOOKUP(X38,Feuil1!$C$1:$BL$10,9,FALSE)","v":-30},{"$f":"T38-HLOOKUP(X38,Feuil1!$C$1:$BL$10,10,FALSE)","v":-900},null,null,null,null,null,null,{"$f":"IF(AJ38>=0,$AJ$4,IF(AI38>=0,$AI$4,IF(AH38>=0,$AH$4,IF(AG38>=0,$AG$4,IF(AF38>=0,$AF$4,IF(AE38>=0,$AE$4,IF(AD38>=0,$AD$4,IF(AC38>=0,$AC$4,$AB$4))))))))","v":"NAT +"}]
["F","Nord","NPC",4,280129,"BOUDRAHEM","Inès",1999,56.56,"St Pol sur Mer","F",40,-43,43,{"$f":"IF(H39=\"\",\"\",IF(MAXA(L39:N39)<=0,0,MAXA(L39:N39)))","v":43},50,55,-57,55,98,41.44,"FED +",8,{"$f":"IF(I39=\"\",\"\",IF(A39=\"H\",IF(OR(H39=\"SEN\",H39<1995),VLOOKUP(I39,Feuil1!$A$11:$F$29,6),IF(AND(H39>1994,H39<1998),VLOOKUP(I39,Feuil1!$A$11:$F$29,5),IF(AND(H39>1997,H39<2000),VLOOKUP(I39,Feuil1!$A$11:$F$29,4),IF(AND(H39>1999,H39<2002),VLOOKUP(I39,Feuil1!$A$11:$F$29,3),VLOOKUP(I39,Feuil1!$A$11:$F$29,2))))),IF(OR(H39=\"SEN\",H39<1995),VLOOKUP(I39,Feuil1!$G$11:$L$25,6),IF(AND(H39>1994,H39<1998),VLOOKUP(I39,Feuil1!$G$11:$L$25,5),IF(AND(H39>1997,H39<2000),VLOOKUP(I39,Feuil1!$G$11:$L$25,4),IF(AND(H39>1999,H39<2002),VLOOKUP(I39,Feuil1!$G$11:$L$25,3),VLOOKUP(I39,Feuil1!$G$11:$L$25,2)))))))","v":"FC2 58"},140.56283923149502,null," ",{"$f":"T39-HLOOKUP(X39,Feuil1!$C$1:$BL$10,2,FALSE)","v":48},{"$f":"T39-HLOOKUP(X39,Feuil1!$C$1:$BL$10,3,FALSE)","v":38},{"$f":"T39-HLOOKUP(X39,Feuil1!$C$1:$BL$10,4,FALSE)","v":28},{"$f":"T39-HLOOKUP(X39,Feuil1!$C$1:$BL$10,5,FALSE)","v":18},{"$f":"T39-HLOOKUP(X39,Feuil1!$C$1:$BL$10,6,FALSE)","v":8},{"$f":"T39-HLOOKUP(X39,Feuil1!$C$1:$BL$10,7,FALSE)","v":-2},{"$f":"T39-HLOOKUP(X39,Feuil1!$C$1:$BL$10,8,FALSE)","v":-17},{"$f":"T39-HLOOKUP(X39,Feuil1!$C$1:$BL$10,9,FALSE)","v":-32},{"$f":"T39-HLOOKUP(X39,Feuil1!$C$1:$BL$10,10,FALSE)","v":-902},null,null,null,null,null,null,"FED +"]
["F","DOM","GUA",5,367889,"UFFREN","Aurore",1998,57.7,"AHCS/Pointois","F",34,37,-40,{"$f":"IF(H40=\"\",\"\",IF(MAXA(L40:N40)<=0,0,MAXA(L40:N40)))","v":37},40,45,-50,45,82,24.299999999999997,"IRG +",2,{"$f":"IF(I40=\"\",\"\",IF(A40=\"H\",IF(OR(H40=\"SEN\",H40<1995),VLOOKUP(I40,Feuil1!$A$11:$F$29,6),IF(AND(H40>1994,H40<1998),VLOOKUP(I40,Feuil1!$A$11:$F$29,5),IF(AND(H40>1997,H40<2000),VLOOKUP(I40,Feuil1!$A$11:$F$29,4),IF(AND(H40>1999,H40<2002),VLOOKUP(I40,Feuil1!$A$11:$F$29,3),VLOOKUP(I40,Feuil1!$A$11:$F$29,2))))),IF(OR(H40=\"SEN\",H40<1995),VLOOKUP(I40,Feuil1!$G$11:$L$25,6),IF(AND(H40>1994,H40<1998),VLOOKUP(I40,Feuil1!$G$11:$L$25,5),IF(AND(H40>1997,H40<2000),VLOOKUP(I40,Feuil1!$G$11:$L$25,4),IF(AND(H40>1999,H40<2002),VLOOKUP(I40,Feuil1!$G$11:$L$25,3),VLOOKUP(I40,Feuil1!$G$11:$L$25,2)))))))","v":"FC2 58"},115.88509765284535,null," ",{"$f":"T40-HLOOKUP(X40,Feuil1!$C$1:$BL$10,2,FALSE)","v":32},{"$f":"T40-HLOOKUP(X40,Feuil1!$C$1:$BL$10,3,FALSE)","v":22},{"$f":"T40-HLOOKUP(X40,Feuil1!$C$1:$BL$10,4,FALSE)","v":12},{"$f":"T40-HLOOKUP(X40,Feuil1!$C$1:$BL$10,5,FALSE)","v":2},{"$f":"T40-HLOOKUP(X40,Feuil1!$C$1:$BL$10,6,FALSE)","v":-8},{"$f":"T40-HLOOKUP(X40,Feuil1!$C$1:$BL$10,7,FALSE)","v":-18},{"$f":"T40-HLOOKUP(X40,Feuil1!$C$1:$BL$10,8,FALSE)","v":-33},{"$f":"T40-HLOOKUP(X40,Feuil1!$C$1:$BL$10,9,FALSE)","v":-48},{"$f":"T40-HLOOKUP(X40,Feuil1!$C$1:$BL$10,10,FALSE)","v":-918},null,null,null,null,null,null,"IRG +"]
[null,null,null,null,null,null,null,null,null,null,null,null,null,null,null,null,null,null,null,null," ",null,null,null,null,null,null,{"$f":"T41-HLOOKUP(X41,Feuil1!$C$1:$BL$10,2,FALSE)","v":{"$error":"#N/A"}},{"$f":"T41-HLOOKUP(X41,Feuil1!$C$1:$BL$10,3,FALSE)","v":{"$error":"#N/A"}},{"$f":"T41-HLOOKUP(X41,Feuil1!$C$1:$BL$10,4,FALSE)","v":{"$error":"#N/A"}},{"$f":"T41-HLOOKUP(X41,Feuil1!$C$1:$BL$10,5,FALSE)","v":{"$error":"#N/A"}},{"$f":"T41-HLOOKUP(X41,Feuil1!$C$1:$BL$10,6,FALSE)","v":{"$error":"#N/A"}},{"$f":"T41-HLOOKUP(X41,Feuil1!$C$1:$BL$10,7,FALSE)","v":{"$error":"#N/A"}},{"$f":"T41-HLOOKUP(X41,Feuil1!$C$1:$BL$10,8,FALSE)","v":{"$error":"#N/A"}},{"$f":"T41-HLOOKUP(X41,Feuil1!$C$1:$BL$10,9,FALSE)","v":{"$error":"#N/A"}},{"$f":"T41-HLOOKUP(X41,Feuil1!$C$1:$BL$10,10,FALSE)","v":{"$error":"#N/A"}}]
["F","NE","BOU",1,334936,"COMTE","Pauline",1999,60.8,"HC Avallon","F",48,52,56,{"$f":"IF(H42=\"\",\"\",IF(MAXA(L42:N42)<=0,0,MAXA(L42:N42)))","v":56},60,65,-69,{"$f":"IF(H42=\"\",\"\",IF(MAXA(P42:R42)<=0,0,MAXA(P42:R42)))","v":65},{"$f":"IF(H42=\"\",\"\",IF(OR(O42=0,S42=0),0,O42+S42))","v":121},60.2,{"$f":"IF(H42=\"\",\"\",AQ42)","v":"NAT +"},{"$f":"IF(AJ42>=0,AJ42,IF(AI42>=0,AI42,IF(AH42>=0,AH42,IF(AG42>=0,AG42,IF(AF42>=0,AF42,IF(AE42>=0,AE42,IF(AD42>=0,AD42,IF(AC42>=0,AC42,AB42))))))))","v":11},{"$f":"IF(I42=\"\",\"\",IF(A42=\"H\",IF(OR(H42=\"SEN\",H42<1995),VLOOKUP(I42,Feuil1!$A$11:$F$29,6),IF(AND(H42>1994,H42<1998),VLOOKUP(I42,Feuil1!$A$11:$F$29,5),IF(AND(H42>1997,H42<2000),VLOOKUP(I42,Feuil1!$A$11:$F$29,4),IF(AND(H42>1999,H42<2002),VLOOKUP(I42,Feuil1!$A$11:$F$29,3),VLOOKUP(I42,Feuil1!$A$11:$F$29,2))))),IF(OR(H42=\"SEN\",H42<1995),VLOOKUP(I42,Feuil1!$G$11:$L$25,6),IF(AND(H42>1994,H42<1998),VLOOKUP(I42,Feuil1!$G$11:$L$25,5),IF(AND(H42>1997,H42<2000),VLOOKUP(I42,Feuil1!$G$11:$L$25,4),IF(AND(H42>1999,H42<2002),VLOOKUP(I42,Feuil1!$G$11:$L$25,3),VLOOKUP(I42,Feuil1!$G$11:$L$25,2)))))))","v":"FC2 63"},{"$f":"IF(I42=\"\",\"\",IF(A42=\"H\",10^(0.794358141*LOG(I42/174.393)^2)*T42,IF(A42=\"F\",10^(0.89726074*LOG(I42/148.026)^2)*T42,\"\")))","v":164.73076689178384},null," ",{"$f":"T42-HLOOKUP(X42,Feuil1!$C$1:$BL$10,2,FALSE)","v":66},{"$f":"T42-HLOOKUP(X42,Feuil1!$C$1:$BL$10,3,FALSE)","v":56},{"$f":"T42-HLOOKUP(X42,Feuil1!$C$1:$BL$10,4,FALSE)","v":46},{"$f":"T42-HLOOKUP(X42,Feuil1!$C$1:$BL$10,5,FALSE)","v":36},{"$f":"T42-HLOOKUP(X42,Feuil1!$C$1:$BL$10,6,FALSE)","v":26},{"$f":"T42-HLOOKUP(X42,Feuil1!$C$1:$BL$10,7,FALSE)","v":11},{"$f":"T42-HLOOKUP(X42,Feuil1!$C$1:$BL$10,8,FALSE)","v":-4},{"$f":"T42-HLOOKUP(X42,Feuil1!$C$1:$BL$10,9,FALSE)","v":-19},{"$f":"T42-HLOOKUP(X42,Feuil1!$C$1:$BL$10,10,FALSE)","v":-879},null,null,null,null,null,null,{"$f":"IF(AJ42>=0,$AJ$4,IF(AI42>=0,$AI$4,IF(AH42>=0,$AH$4,IF(AG42>=0,$AG$4,IF(AF42>=0,$AF$4,IF(AE42>=0,$AE$4,IF(AD42>=0,$AD$4,IF(AC42>=0,$AC$4,$AB$4))))))))","v":"NAT +"}]
["F","DOM","GUA",2,382038,"NUIRO","Naomy",1999,59.7,"AHCS/Pointois","F",45,50,52,{"$f":"IF(H43=\"\",\"\",IF(MAXA(L43:N43)<=0,0,MAXA(L43:N43)))","v":52},53,58,-60,{"$f":"IF(H43=\"\",\"\",IF(MAXA(P43:R43)<=0,0,MAXA(P43:R43)))","v":58},{"$f":"IF(H43=\"\",\"\",IF(OR(O43=0,S43=0),0,O43+S43))","v":110},{"$f":"T43-I43","v":50.3},{"$f":"IF(H43=\"\",\"\",AQ43)","v":"NAT +"},{"$f":"IF(AJ43>=0,AJ43,IF(AI43>=0,AI43,IF(AH43>=0,AH43,IF(AG43>=0,AG43,IF(AF43>=0,AF43,IF(AE43>=0,AE43,IF(AD43>=0,AD43,IF(AC43>=0,AC43,AB43))))))))","v":0},{"$f":"IF(I43=\"\",\"\",IF(A43=\"H\",IF(OR(H43=\"SEN\",H43<1995),VLOOKUP(I43,Feuil1!$A$11:$F$29,6),IF(AND(H43>1994,H43<1998),VLOOKUP(I43,Feuil1!$A$11:$F$29,5),IF(AND(H43>1997,H43<2000),VLOOKUP(I43,Feuil1!$A$11:$F$29,4),IF(AND(H43>1999,H43<2002),VLOOKUP(I43,Feuil1!$A$11:$F$29,3),VLOOKUP(I43,Feuil1!$A$11:$F$29,2))))),IF(OR(H43=\"SEN\",H43<1995),VLOOKUP(I43,Feuil1!$G$11:$L$25,6),IF(AND(H43>1994,H43<1998),VLOOKUP(I43,Feuil1!$G$11:$L$25,5),IF(AND(H43>1997,H43<2000),VLOOKUP(I43,Feuil1!$G$11:$L$25,4),IF(AND(H43>1999,H43<2002),VLOOKUP(I43,Feuil1!$G$11:$L$25,3),VLOOKUP(I43,Feuil1!$G$11:$L$25,2)))))))","v":"FC2 63"},{"$f":"IF(I43=\"\",\"\",IF(A43=\"H\",10^(0.794358141*LOG(I43/174.393)^2)*T43,IF(A43=\"F\",10^(0.89726074*LOG(I43/148.026)^2)*T43,\"\")))","v":151.68306776892734},null," ",{"$f":"T43-HLOOKUP(X43,Feuil1!$C$1:$BL$10,2,FALSE)","v":55},{"$f":"T43-HLOOKUP(X43,Feuil1!$C$1:$BL$10,3,FALSE)","v":45},{"$f":"T43-HLOOKUP(X43,Feuil1!$C$1:$BL$10,4,FALSE)","v":35},{"$f":"T43-HLOOKUP(X43,Feuil1!$C$1:$BL$10,5,FALSE)","v":25},{"$f":"T43-HLOOKUP(X43,Feuil1!$C$1:$BL$10,6,FALSE)","v":15},{"$f":"T43-HLOOKUP(X43,Feuil1!$C$1:$BL$10,7,FALSE)","v":0},{"$f":"T43-HLOOKUP(X43,Feuil1!$C$1:$BL$10,8,FALSE)","v":-15},{"$f":"T43-HLOOKUP(X43,Feuil1!$C$1:$BL$10,9,FALSE)","v":-30},{"$f":"T43-HLOOKUP(X43,Feuil1!$C$1:$BL$10,10,FALSE)","v":-890},null,null,null,null,null,null,{"$f":"IF(AJ43>=0,$AJ$4,IF(AI43>=0,$AI$4,IF(AH43>=0,$AH$4,IF(AG43>=0,$AG$4,IF(AF43>=0,$AF$4,IF(AE43>=0,$AE$4,IF(AD43>=0,$AD$4,IF(AC43>=0,$AC$4,$AB$4))))))))","v":"NAT +"}]
["F","SEST","CAZ",3,339283,"DULIO","Ambre",1999,58.3,"E.S. VILLENEUVE LOUBET","F",44,-48,48,{"$f":"IF(H44=\"\",\"\",IF(MAXA(L44:N44)<=0,0,MAXA(L44:N44)))","v":48},-54,54,58,{"$f":"IF(H44=\"\",\"\",IF(MAXA(P44:R44)<=0,0,MAXA(P44:R44)))","v":58},{"$f":"IF(H44=\"\",\"\",IF(OR(O44=0,S44=0),0,O44+S44))","v":106},47.7,{"$f":"IF(H44=\"\",\"\",AQ44)","v":"FED +"},{"$f":"IF(AJ44>=0,AJ44,IF(AI44>=0,AI44,IF(AH44>=0,AH44,IF(AG44>=0,AG44,IF(AF44>=0,AF44,IF(AE44>=0,AE44,IF(AD44>=0,AD44,IF(AC44>=0,AC44,AB44))))))))","v":11},{"$f":"IF(I44=\"\",\"\",IF(A44=\"H\",IF(OR(H44=\"SEN\",H44<1995),VLOOKUP(I44,Feuil1!$A$11:$F$29,6),IF(AND(H44>1994,H44<1998),VLOOKUP(I44,Feuil1!$A$11:$F$29,5),IF(AND(H44>1997,H44<2000),VLOOKUP(I44,Feuil1!$A$11:$F$29,4),IF(AND(H44>1999,H44<2002),VLOOKUP(I44,Feuil1!$A$11:$F$29,3),VLOOKUP(I44,Feuil1!$A$11:$F$29,2))))),IF(OR(H44=\"SEN\",H44<1995),VLOOKUP(I44,Feuil1!$G$11:$L$25,6),IF(AND(H44>1994,H44<1998),VLOOKUP(I44,Feuil1!$G$11:$L$25,5),IF(AND(H44>1997,H44<2000),VLOOKUP(I44,Feuil1!$G$11:$L$25,4),IF(AND(H44>1999,H44<2002),VLOOKUP(I44,Feuil1!$G$11:$L$25,3),VLOOKUP(I44,Feuil1!$G$11:$L$25,2)))))))","v":"FC2 63"},{"$f":"IF(I44=\"\",\"\",IF(A44=\"H\",10^(0.794358141*LOG(I44/174.393)^2)*T44,IF(A44=\"F\",10^(0.89726074*LOG(I44/148.026)^2)*T44,\"\")))","v":148.67533230463519},null," ",{"$f":"T44-HLOOKUP(X44,Feuil1!$C$1:$BL$10,2,FALSE)","v":51},{"$f":"T44-HLOOKUP(X44,Feuil1!$C$1:$BL$10,3,FALSE)","v":41},{"$f":"T44-HLOOKUP(X44,Feuil1!$C$1:$BL$10,4,FALSE)","v":31},{"$f":"T44-HLOOKUP(X44,Feuil1!$C$1:$BL$10,5,FALSE)","v":21},{"$f":"T44-HLOOKUP(X44,Feuil1!$C$1:$BL$10,6,FALSE)","v":11},{"$f":"T44-HLOOKUP(X44,Feuil1!$C$1:$BL$10,7,FALSE)","v":-4},{"$f":"T44-HLOOKUP(X44,Feuil1!$C$1:$BL$10,8,FALSE)","v":-19},{"$f":"T44-HLOOKUP(X44,Feuil1!$C$1:$BL$10,9,FALSE)","v":-34},{"$f":"T44-HLOOKUP(X44,Feuil1!$C$1:$BL$10,10,FALSE)","v":-894},null,null,null,null,null,null,{"$f":"IF(AJ44>=0,$AJ$4,IF(AI44>=0,$AI$4,IF(AH44>=0,$AH$4,IF(AG44>=0,$AG$4,IF(AF44>=0,$AF$4,IF(AE44>=0,$AE$4,IF(AD44>=0,$AD$4,IF(AC44>=0,$AC$4,$AB$4))))))))","v":"FED +"}]
["F","SO","MPY",4,360521,"JENNISKEN","Laura",1998,62.1,"TOULOUSE HC","F",40,43,-46,{"$f":"IF(H45=\"\",\"\",IF(MAXA(L45:N45)<=0,0,MAXA(L45:N45)))","v":43},50,53,-55,{"$f":"IF(H45=\"\",\"\",IF(MAXA(P45:R45)<=0,0,MAXA(P45:R45)))","v":53},{"$f":"IF(H45=\"\",\"\",IF(OR(O45=0,S45=0),0,O45+S45))","v":96},33.9,{"$f":"IF(H45=\"\",\"\",AQ45)","v":"FED +"},{"$f":"IF(AJ45>=0,AJ45,IF(AI45>=0,AI45,IF(AH45>=0,AH45,IF(AG45>=0,AG45,IF(AF45>=0,AF45,IF(AE45>=0,AE45,IF(AD45>=0,AD45,IF(AC45>=0,AC45,AB45))))))))","v":1},{"$f":"IF(I45=\"\",\"\",IF(A45=\"H\",IF(OR(H45=\"SEN\",H45<1995),VLOOKUP(I45,Feuil1!$A$11:$F$29,6),IF(AND(H45>1994,H45<1998),VLOOKUP(I45,Feuil1!$A$11:$F$29,5),IF(AND(H45>1997,H45<2000),VLOOKUP(I45,Feuil1!$A$11:$F$29,4),IF(AND(H45>1999,H45<2002),VLOOKUP(I45,Feuil1!$A$11:$F$29,3),VLOOKUP(I45,Feuil1!$A$11:$F$29,2))))),IF(OR(H45=\"SEN\",H45<1995),VLOOKUP(I45,Feuil1!$G$11:$L$25,6),IF(AND(H45>1994,H45<1998),VLOOKUP(I45,Feuil1!$G$11:$L$25,5),IF(AND(H45>1997,H45<2000),VLOOKUP(I45,Feuil1!$G$11:$L$25,4),IF(AND(H45>1999,H45<2002),VLOOKUP(I45,Feuil1!$G$11:$L$25,3),VLOOKUP(I45,Feuil1!$G$11:$L$25,2)))))))","v":"FC2 63"},{"$f":"IF(I45=\"\",\"\",IF(A45=\"H\",10^(0.794358141*LOG(I45/174.393)^2)*T45,IF(A45=\"F\",10^(0.89726074*LOG(I45/148.026)^2)*T45,\"\")))","v":128.81450225453412},null," ",{"$f":"T45-HLOOKUP(X45,Feuil1!$C$1:$BL$10,2,FALSE)","v":41},{"$f":"T45-HLOOKUP(X45,Feuil1!$C$1:$BL$10,3,FALSE)","v":31},{"$f":"T45-HLOOKUP(X45,Feuil1!$C$1:$BL$10,4,FALSE)","v":21},{"$f":"T45-HLOOKUP(X45,Feuil1!$C$1:$BL$10,5,FALSE)","v":11},{"$f":"T45-HLOOKUP(X45,Feuil1!$C$1:$BL$10,6,FALSE)","v":1},{"$f":"T45-HLOOKUP(X45,Feuil1!$C$1:$BL$10,7,FALSE)","v":-14},{"$f":"T45-HLOOKUP(X45,Feuil1!$C$1:$BL$10,8,FALSE)","v":-29},{"$f":"T45-HLOOKUP(X45,Feuil1!$C$1:$BL$10,9,FALSE)","v":-44},{"$f":"T45-HLOOKUP(X45,Feuil1!$C$1:$BL$10,10,FALSE)","v":-904},null,null,null,null,null,null,{"$f":"IF(AJ45>=0,$AJ$4,IF(AI45>=0,$AI$4,IF(AH45>=0,$AH$4,IF(AG45>=0,$AG$4,IF(AF45>=0,$AF$4,IF(AE45>=0,$AE$4,IF(AD45>=0,$AD$4,IF(AC45>=0,$AC$4,$AB$4))))))))","v":"FED +"}]
["F","SEST","RAL",5,344106,"LAFAURIE","Lise",1998,61.35,"C.H. L'ARBRESLE","F",39,42,-45,{"$f":"IF(H46=\"\",\"\",IF(MAXA(L46:N46)<=0,0,MAXA(L46:N46)))","v":42},49,53,-55,{"$f":"IF(H46=\"\",\"\",IF(MAXA(P46:R46)<=0,0,MAXA(P46:R46)))","v":53},{"$f":"IF(H46=\"\",\"\",IF(OR(O46=0,S46=0),0,O46+S46))","v":95},33.65,{"$f":"IF(H46=\"\",\"\",AQ46)","v":"FED +"},{"$f":"IF(AJ46>=0,AJ46,IF(AI46>=0,AI46,IF(AH46>=0,AH46,IF(AG46>=0,AG46,IF(AF46>=0,AF46,IF(AE46>=0,AE46,IF(AD46>=0,AD46,IF(AC46>=0,AC46,AB46))))))))","v":0},{"$f":"IF(I46=\"\",\"\",IF(A46=\"H\",IF(OR(H46=\"SEN\",H46<1995),VLOOKUP(I46,Feuil1!$A$11:$F$29,6),IF(AND(H46>1994,H46<1998),VLOOKUP(I46,Feuil1!$A$11:$F$29,5),IF(AND(H46>1997,H46<2000),VLOOKUP(I46,Feuil1!$A$11:$F$29,4),IF(AND(H46>1999,H46<2002),VLOOKUP(I46,Feuil1!$A$11:$F$29,3),VLOOKUP(I46,Feuil1!$A$11:$F$29,2))))),IF(OR(H46=\"SEN\",H46<1995),VLOOKUP(I46,Feuil1!$G$11:$L$25,6),IF(AND(H46>1994,H46<1998),VLOOKUP(I46,Feuil1!$G$11:$L$25,5),IF(AND(H46>1997,H46<2000),VLOOKUP(I46,Feuil1!$G$11:$L$25,4),IF(AND(H46>1999,H46<2002),VLOOKUP(I46,Feuil1!$G$11:$L$25,3),VLOOKUP(I46,Feuil1!$G$11:$L$25,2)))))))","v":"FC2 63"},{"$f":"IF(I46=\"\",\"\",IF(A46=\"H\",10^(0.794358141*LOG(I46/174.393)^2)*T46,IF(A46=\"F\",10^(0.89726074*LOG(I46/148.026)^2)*T46,\"\")))","v":128.53297119978089},null," ",{"$f":"T46-HLOOKUP(X46,Feuil1!$C$1:$BL$10,2,FALSE)","v":40},{"$f":"T46-HLOOKUP(X46,Feuil1!$C$1:$BL$10,3,FALSE)","v":30},{"$f":"T46-HLOOKUP(X46,Feuil1!$C$1:$BL$10,4,FALSE)","v":20},{"$f":"T46-HLOOKUP(X46,Feuil1!$C$1:$BL$10,5,FALSE)","v":10},{"$f":"T46-HLOOKUP(X46,Feuil1!$C$1:$BL$10,6,FALSE)","v":0},{"$f":"T46-HLOOKUP(X46,Feuil1!$C$1:$BL$10,7,FALSE)","v":-15},{"$f":"T46-HLOOKUP(X46,Feuil1!$C$1:$BL$10,8,FALSE)","v":-30},{"$f":"T46-HLOOKUP(X46,Feuil1!$C$1:$BL$10,9,FALSE)","v":-45},{"$f":"T46-HLOOKUP(X46,Feuil1!$C$1:$BL$10,10,FALSE)","v":-905},null,null,null,null,null,null,{"$f":"IF(AJ46>=0,$AJ$4,IF(AI46>=0,$AI$4,IF(AH46>=0,$AH$4,IF(AG46>=0,$AG$4,IF(AF46>=0,$AF$4,IF(AE46>=0,$AE$4,IF(AD46>=0,$AD$4,IF(AC46>=0,$AC$4,$AB$4))))))))","v":"FED +"}]
[null,null,null,null,null,null,null,null,null,null,null,null,null,null,null,null,null,null,null,null," ",null,null,null,null,null,null,{"$f":"T47-HLOOKUP(X47,Feuil1!$C$1:$BL$10,2,FALSE)","v":{"$error":"#N/A"}},{"$f":"T47-HLOOKUP(X47,Feuil1!$C$1:$BL$10,3,FALSE)","v":{"$error":"#N/A"}},{"$f":"T47-HLOOKUP(X47,Feuil1!$C$1:$BL$10,4,FALSE)","v":{"$error":"#N/A"}},{"$f":"T47-HLOOKUP(X47,Feuil1!$C$1:$BL$10,5,FALSE)","v":{"$error":"#N/A"}},{"$f":"T47-HLOOKUP(X47,Feuil1!$C$1:$BL$10,6,FALSE)","v":{"$error":"#N/A"}},{"$f":"T47-HLOOKUP(X47,Feuil1!$C$1:$BL$10,7,FALSE)","v":{"$error":"#N/A"}},{"$f":"T47-HLOOKUP(X47,Feuil1!$C$1:$BL$10,8,FALSE)","v":{"$error":"#N/A"}},{"$f":"T47-HLOOKUP(X47,Feuil1!$C$1:$BL$10,9,FALSE)","v":{"$error":"#N/A"}},{"$f":"T47-HLOOKUP(X47,Feuil1!$C$1:$BL$10,10,FALSE)","v":{"$error":"#N/A"}}]
["F","NE","CHA",1,239747,"VAUTARD","Priscillia",1999,66.900000000000006,"Langres HM","F",45,48,50,{"$f":"IF(H48=\"\",\"\",IF(MAXA(L48:N48)<=0,0,MAXA(L48:N48)))","v":50},50,55,-57,{"$f":"IF(H48=\"\",\"\",IF(MAXA(P48:R48)<=0,0,MAXA(P48:R48)))","v":55},{"$f":"IF(H48=\"\",\"\",IF(OR(O48=0,S48=0),0,O48+S48))","v":105},38.099999999999994,{"$f":"IF(H48=\"\",\"\",AQ48)","v":"FED +"},{"$f":"IF(AJ48>=0,AJ48,IF(AI48>=0,AI48,IF(AH48>=0,AH48,IF(AG48>=0,AG48,IF(AF48>=0,AF48,IF(AE48>=0,AE48,IF(AD48>=0,AD48,IF(AC48>=0,AC48,AB48))))))))","v":0},{"$f":"IF(I48=\"\",\"\",IF(A48=\"H\",IF(OR(H48=\"SEN\",H48<1995),VLOOKUP(I48,Feuil1!$A$11:$F$29,6),IF(AND(H48>1994,H48<1998),VLOOKUP(I48,Feuil1!$A$11:$F$29,5),IF(AND(H48>1997,H48<2000),VLOOKUP(I48,Feuil1!$A$11:$F$29,4),IF(AND(H48>1999,H48<2002),VLOOKUP(I48,Feuil1!$A$11:$F$29,3),VLOOKUP(I48,Feuil1!$A$11:$F$29,2))))),IF(OR(H48=\"SEN\",H48<1995),VLOOKUP(I48,Feuil1!$G$11:$L$25,6),IF(AND(H48>1994,H48<1998),VLOOKUP(I48,Feuil1!$G$11:$L$25,5),IF(AND(H48>1997,H48<2000),VLOOKUP(I48,Feuil1!$G$11:$L$25,4),IF(AND(H48>1999,H48<2002),VLOOKUP(I48,Feuil1!$G$11:$L$25,3),VLOOKUP(I48,Feuil1!$G$11:$L$25,2)))))))","v":"FC2 69"},{"$f":"IF(I48=\"\",\"\",IF(A48=\"H\",10^(0.794358141*LOG(I48/174.393)^2)*T48,IF(A48=\"F\",10^(0.89726074*LOG(I48/148.026)^2)*T48,\"\")))","v":134.25523011694349},null," ",{"$f":"T48-HLOOKUP(X48,Feuil1!$C$1:$BL$10,2,FALSE)","v":45},{"$f":"T48-HLOOKUP(X48,Feuil1!$C$1:$BL$10,3,FALSE)","v":35},{"$f":"T48-HLOOKUP(X48,Feuil1!$C$1:$BL$10,4,FALSE)","v":25},{"$f":"T48-HLOOKUP(X48,Feuil1!$C$1:$BL$10,5,FALSE)","v":15},{"$f":"T48-HLOOKUP(X48,Feuil1!$C$1:$BL$10,6,FALSE)","v":0},{"$f":"T48-HLOOKUP(X48,Feuil1!$C$1:$BL$10,7,FALSE)","v":-15},{"$f":"T48-HLOOKUP(X48,Feuil1!$C$1:$BL$10,8,FALSE)","v":-30},{"$f":"T48-HLOOKUP(X48,Feuil1!$C$1:$BL$10,9,FALSE)","v":-45},{"$f":"T48-HLOOKUP(X48,Feuil1!$C$1:$BL$10,10,FALSE)","v":-895},null,null,null,null,null,null,{"$f":"IF(AJ48>=0,$AJ$4,IF(AI48>=0,$AI$4,IF(AH48>=0,$AH$4,IF(AG48>=0,$AG$4,IF(AF48>=0,$AF$4,IF(AE48>=0,$AE$4,IF(AD48>=0,$AD$4,IF(AC48>=0,$AC$4,$AB$4))))))))","v":"FED +"}]
["F","SEST","CAZ",2,362268,"MAZOUZ ","Sophie",1998,65.2,"ASLDD. TOULON","F",39,-42,-42,{"$f":"IF(H49=\"\",\"\",IF(MAXA(L49:N49)<=0,0,MAXA(L49:N49)))","v":39},58,-62,-63,{"$f":"IF(H49=\"\",\"\",IF(MAXA(P49:R49)<=0,0,MAXA(P49:R49)))","v":58},{"$f":"IF(H49=\"\",\"\",IF(OR(O49=0,S49=0),0,O49+S49))","v":97},31.799999999999997,{"$f":"IF(H49=\"\",\"\",AQ49)","v":"IRG +"},{"$f":"IF(AJ49>=0,AJ49,IF(AI49>=0,AI49,IF(AH49>=0,AH49,IF(AG49>=0,AG49,IF(AF49>=0,AF49,IF(AE49>=0,AE49,IF(AD49>=0,AD49,IF(AC49>=0,AC49,AB49))))))))","v":7},{"$f":"IF(I49=\"\",\"\",IF(A49=\"H\",IF(OR(H49=\"SEN\",H49<1995),VLOOKUP(I49,Feuil1!$A$11:$F$29,6),IF(AND(H49>1994,H49<1998),VLOOKUP(I49,Feuil1!$A$11:$F$29,5),IF(AND(H49>1997,H49<2000),VLOOKUP(I49,Feuil1!$A$11:$F$29,4),IF(AND(H49>1999,H49<2002),VLOOKUP(I49,Feuil1!$A$11:$F$29,3),VLOOKUP(I49,Feuil1!$A$11:$F$29,2))))),IF(OR(H49=\"SEN\",H49<1995),VLOOKUP(I49,Feuil1!$G$11:$L$25,6),IF(AND(H49>1994,H49<1998),VLOOKUP(I49,Feuil1!$G$11:$L$25,5),IF(AND(H49>1997,H49<2000),VLOOKUP(I49,Feuil1!$G$11:$L$25,4),IF(AND(H49>1999,H49<2002),VLOOKUP(I49,Feuil1!$G$11:$L$25,3),VLOOKUP(I49,Feuil1!$G$11:$L$25,2)))))))","v":"FC2 69"},{"$f":"IF(I49=\"\",\"\",IF(A49=\"H\",10^(0.794358141*LOG(I49/174.393)^2)*T49,IF(A49=\"F\",10^(0.89726074*LOG(I49/148.026)^2)*T49,\"\")))","v":126.05054734087828},null," ",{"$f":"T49-HLOOKUP(X49,Feuil1!$C$1:$BL$10,2,FALSE)","v":37},{"$f":"T49-HLOOKUP(X49,Feuil1!$C$1:$BL$10,3,FALSE)","v":27},{"$f":"T49-HLOOKUP(X49,Feuil1!$C$1:$BL$10,4,FALSE)","v":17},{"$f":"T49-HLOOKUP(X49,Feuil1!$C$1:$BL$10,5,FALSE)","v":7},{"$f":"T49-HLOOKUP(X49,Feuil1!$C$1:$BL$10,6,FALSE)","v":-8},{"$f":"T49-HLOOKUP(X49,Feuil1!$C$1:$BL$10,7,FALSE)","v":-23},{"$f":"T49-HLOOKUP(X49,Feuil1!$C$1:$BL$10,8,FALSE)","v":-38},{"$f":"T49-HLOOKUP(X49,Feuil1!$C$1:$BL$10,9,FALSE)","v":-53},{"$f":"T49-HLOOKUP(X49,Feuil1!$C$1:$BL$10,10,FALSE)","v":-903},null,null,null,null,null,null,{"$f":"IF(AJ49>=0,$AJ$4,IF(AI49>=0,$AI$4,IF(AH49>=0,$AH$4,IF(AG49>=0,$AG$4,IF(AF49>=0,$AF$4,IF(AE49>=0,$AE$4,IF(AD49>=0,$AD$4,IF(AC49>=0,$AC$4,$AB$4))))))))","v":"IRG +"}]
["F","SEST","CAZ",3,365254,"GAUJARD","Marine",1998,63.6,"ASLDD. TOULON","F",36,38,40,{"$f":"IF(H50=\"\",\"\",IF(MAXA(L50:N50)<=0,0,MAXA(L50:N50)))","v":40},48,51,53,{"$f":"IF(H50=\"\",\"\",IF(MAXA(P50:R50)<=0,0,MAXA(P50:R50)))","v":53},{"$f":"IF(H50=\"\",\"\",IF(OR(O50=0,S50=0),0,O50+S50))","v":93},29.4,{"$f":"IF(H50=\"\",\"\",AQ50)","v":"IRG +"},{"$f":"IF(AJ50>=0,AJ50,IF(AI50>=0,AI50,IF(AH50>=0,AH50,IF(AG50>=0,AG50,IF(AF50>=0,AF50,IF(AE50>=0,AE50,IF(AD50>=0,AD50,IF(AC50>=0,AC50,AB50))))))))","v":3},{"$f":"IF(I50=\"\",\"\",IF(A50=\"H\",IF(OR(H50=\"SEN\",H50<1995),VLOOKUP(I50,Feuil1!$A$11:$F$29,6),IF(AND(H50>1994,H50<1998),VLOOKUP(I50,Feuil1!$A$11:$F$29,5),IF(AND(H50>1997,H50<2000),VLOOKUP(I50,Feuil1!$A$11:$F$29,4),IF(AND(H50>1999,H50<2002),VLOOKUP(I50,Feuil1!$A$11:$F$29,3),VLOOKUP(I50,Feuil1!$A$11:$F$29,2))))),IF(OR(H50=\"SEN\",H50<1995),VLOOKUP(I50,Feuil1!$G$11:$L$25,6),IF(AND(H50>1994,H50<1998),VLOOKUP(I50,Feuil1!$G$11:$L$25,5),IF(AND(H50>1997,H50<2000),VLOOKUP(I50,Feuil1!$G$11:$L$25,4),IF(AND(H50>1999,H50<2002),VLOOKUP(I50,Feuil1!$G$11:$L$25,3),VLOOKUP(I50,Feuil1!$G$11:$L$25,2)))))))","v":"FC2 69"},{"$f":"IF(I50=\"\",\"\",IF(A50=\"H\",10^(0.794358141*LOG(I50/174.393)^2)*T50,IF(A50=\"F\",10^(0.89726074*LOG(I50/148.026)^2)*T50,\"\")))","v":122.81620318519209},null," ",{"$f":"T50-HLOOKUP(X50,Feuil1!$C$1:$BL$10,2,FALSE)","v":33},{"$f":"T50-HLOOKUP(X50,Feuil1!$C$1:$BL$10,3,FALSE)","v":23},{"$f":"T50-HLOOKUP(X50,Feuil1!$C$1:$BL$10,4,FALSE)","v":13},{"$f":"T50-HLOOKUP(X50,Feuil1!$C$1:$BL$10,5,FALSE)","v":3},{"$f":"T50-HLOOKUP(X50,Feuil1!$C$1:$BL$10,6,FALSE)","v":-12},{"$f":"T50-HLOOKUP(X50,Feuil1!$C$1:$BL$10,7,FALSE)","v":-27},{"$f":"T50-HLOOKUP(X50,Feuil1!$C$1:$BL$10,8,FALSE)","v":-42},{"$f":"T50-HLOOKUP(X50,Feuil1!$C$1:$BL$10,9,FALSE)","v":-57},{"$f":"T50-HLOOKUP(X50,Feuil1!$C$1:$BL$10,10,FALSE)","v":-907},null,null,null,null,null,null,{"$f":"IF(AJ50>=0,$AJ$4,IF(AI50>=0,$AI$4,IF(AH50>=0,$AH$4,IF(AG50>=0,$AG$4,IF(AF50>=0,$AF$4,IF(AE50>=0,$AE$4,IF(AD50>=0,$AD$4,IF(AC50>=0,$AC$4,$AB$4))))))))","v":"IRG +"}]
["F","SEST","CAZ",4,363004,"PEUGNIEZ","Clea",1998,65.7,"ASLDD. TOULON","F",35,38,40,{"$f":"IF(H51=\"\",\"\",IF(MAXA(L51:N51)<=0,0,MAXA(L51:N51)))","v":40},47,50,-52,{"$f":"IF(H51=\"\",\"\",IF(MAXA(P51:R51)<=0,0,MAXA(P51:R51)))","v":50},{"$f":"IF(H51=\"\",\"\",IF(OR(O51=0,S51=0),0,O51+S51))","v":90},24.299999999999997,{"$f":"IF(H51=\"\",\"\",AQ51)","v":"IRG +"},{"$f":"IF(AJ51>=0,AJ51,IF(AI51>=0,AI51,IF(AH51>=0,AH51,IF(AG51>=0,AG51,IF(AF51>=0,AF51,IF(AE51>=0,AE51,IF(AD51>=0,AD51,IF(AC51>=0,AC51,AB51))))))))","v":0},{"$f":"IF(I51=\"\",\"\",IF(A51=\"H\",IF(OR(H51=\"SEN\",H51<1995),VLOOKUP(I51,Feuil1!$A$11:$F$29,6),IF(AND(H51>1994,H51<1998),VLOOKUP(I51,Feuil1!$A$11:$F$29,5),IF(AND(H51>1997,H51<2000),VLOOKUP(I51,Feuil1!$A$11:$F$29,4),IF(AND(H51>1999,H51<2002),VLOOKUP(I51,Feuil1!$A$11:$F$29,3),VLOOKUP(I51,Feuil1!$A$11:$F$29,2))))),IF(OR(H51=\"SEN\",H51<1995),VLOOKUP(I51,Feuil1!$G$11:$L$25,6),IF(AND(H51>1994,H51<1998),VLOOKUP(I51,Feuil1!$G$11:$L$25,5),IF(AND(H51>1997,H51<2000),VLOOKUP(I51,Feuil1!$G$11:$L$25,4),IF(AND(H51>1999,H51<2002),VLOOKUP(I51,Feuil1!$G$11:$L$25,3),VLOOKUP(I51,Feuil1!$G$11:$L$25,2)))))))","v":"FC2 69"},{"$f":"IF(I51=\"\",\"\",IF(A51=\"H\",10^(0.794358141*LOG(I51/174.393)^2)*T51,IF(A51=\"F\",10^(0.89726074*LOG(I51/148.026)^2)*T51,\"\")))","v":116.38721891377347},null," ",{"$f":"T51-HLOOKUP(X51,Feuil1!$C$1:$BL$10,2,FALSE)","v":30},{"$f":"T51-HLOOKUP(X51,Feuil1!$C$1:$BL$10,3,FALSE)","v":20},{"$f":"T51-HLOOKUP(X51,Feuil1!$C$1:$BL$10,4,FALSE)","v":10},{"$f":"T51-HLOOKUP(X51,Feuil1!$C$1:$BL$10,5,FALSE)","v":0},{"$f":"T51-HLOOKUP(X51,Feuil1!$C$1:$BL$10,6,FALSE)","v":-15},{"$f":"T51-HLOOKUP(X51,Feuil1!$C$1:$BL$10,7,FALSE)","v":-30},{"$f":"T51-HLOOKUP(X51,Feuil1!$C$1:$BL$10,8,FALSE)","v":-45},{"$f":"T51-HLOOKUP(X51,Feuil1!$C$1:$BL$10,9,FALSE)","v":-60},{"$f":"T51-HLOOKUP(X51,Feuil1!$C$1:$BL$10,10,FALSE)","v":-910},null,null,null,null,null,null,{"$f":"IF(AJ51>=0,$AJ$4,IF(AI51>=0,$AI$4,IF(AH51>=0,$AH$4,IF(AG51>=0,$AG$4,IF(AF51>=0,$AF$4,IF(AE51>=0,$AE$4,IF(AD51>=0,$AD$4,IF(AC51>=0,$AC$4,$AB$4))))))))","v":"IRG +"}]
[null,null,null,null,null,null,null,null,null,null,null,null,null,null,null,null,null,null,null,null," ",null,null,null,null,null,null,{"$f":"T52-HLOOKUP(X52,Feuil1!$C$1:$BL$10,2,FALSE)","v":{"$error":"#N/A"}},{"$f":"T52-HLOOKUP(X52,Feuil1!$C$1:$BL$10,3,FALSE)","v":{"$error":"#N/A"}},{"$f":"T52-HLOOKUP(X52,Feuil1!$C$1:$BL$10,4,FALSE)","v":{"$error":"#N/A"}},{"$f":"T52-HLOOKUP(X52,Feuil1!$C$1:$BL$10,5,FALSE)","v":{"$error":"#N/A"}},{"$f":"T52-HLOOKUP(X52,Feuil1!$C$1:$BL$10,6,FALSE)","v":{"$error":"#N/A"}},{"$f":"T52-HLOOKUP(X52,Feuil1!$C$1:$BL$10,7,FALSE)","v":{"$error":"#N/A"}},{"$f":"T52-HLOOKUP(X52,Feuil1!$C$1:$BL$10,8,FALSE)","v":{"$error":"#N/A"}},{"$f":"T52-HLOOKUP(X52,Feuil1!$C$1:$BL$10,9,FALSE)","v":{"$error":"#N/A"}},{"$f":"T52-HLOOKUP(X52,Feuil1!$C$1:$BL$10,10,FALSE)","v":{"$error":"#N/A"}}]
["F","ZCO","BRE",1,210931,"BACCEI","Marilou",1998,79.56,"CHM Plouhinec PR","F",50,53,-56,{"$f":"IF(H53=\"\",\"\",IF(MAXA(L53:N53)<=0,0,MAXA(L53:N53)))","v":53},57,62,-65,{"$f":"IF(H53=\"\",\"\",IF(MAXA(P53:R53)<=0,0,MAXA(P53:R53)))","v":62},{"$f":"IF(H53=\"\",\"\",IF(OR(O53=0,S53=0),0,O53+S53))","v":115},35.44,{"$f":"IF(H53=\"\",\"\",AQ53)","v":"FED +"},{"$f":"IF(AJ53>=0,AJ53,IF(AI53>=0,AI53,IF(AH53>=0,AH53,IF(AG53>=0,AG53,IF(AF53>=0,AF53,IF(AE53>=0,AE53,IF(AD53>=0,AD53,IF(AC53>=0,AC53,AB53))))))))","v":0},{"$f":"IF(I53=\"\",\"\",IF(A53=\"H\",IF(OR(H53=\"SEN\",H53<1995),VLOOKUP(I53,Feuil1!$A$11:$F$29,6),IF(AND(H53>1994,H53<1998),VLOOKUP(I53,Feuil1!$A$11:$F$29,5),IF(AND(H53>1997,H53<2000),VLOOKUP(I53,Feuil1!$A$11:$F$29,4),IF(AND(H53>1999,H53<2002),VLOOKUP(I53,Feuil1!$A$11:$F$29,3),VLOOKUP(I53,Feuil1!$A$11:$F$29,2))))),IF(OR(H53=\"SEN\",H53<1995),VLOOKUP(I53,Feuil1!$G$11:$L$25,6),IF(AND(H53>1994,H53<1998),VLOOKUP(I53,Feuil1!$G$11:$L$25,5),IF(AND(H53>1997,H53<2000),VLOOKUP(I53,Feuil1!$G$11:$L$25,4),IF(AND(H53>1999,H53<2002),VLOOKUP(I53,Feuil1!$G$11:$L$25,3),VLOOKUP(I53,Feuil1!$G$11:$L$25,2)))))))","v":"FC2 +69"},{"$f":"IF(I53=\"\",\"\",IF(A53=\"H\",10^(0.794358141*LOG(I53/174.393)^2)*T53,IF(A53=\"F\",10^(0.89726074*LOG(I53/148.026)^2)*T53,\"\")))","v":133.63967156655548},null," ",{"$f":"T53-HLOOKUP(X53,Feuil1!$C$1:$BL$10,2,FALSE)","v":45},{"$f":"T53-HLOOKUP(X53,Feuil1!$C$1:$BL$10,3,FALSE)","v":35},{"$f":"T53-HLOOKUP(X53,Feuil1!$C$1:$BL$10,4,FALSE)","v":20},{"$f":"T53-HLOOKUP(X53,Feuil1!$C$1:$BL$10,5,FALSE)","v":10},{"$f":"T53-HLOOKUP(X53,Feuil1!$C$1:$BL$10,6,FALSE)","v":0},{"$f":"T53-HLOOKUP(X53,Feuil1!$C$1:$BL$10,7,FALSE)","v":-15},{"$f":"T53-HLOOKUP(X53,Feuil1!$C$1:$BL$10,8,FALSE)","v":-30},{"$f":"T53-HLOOKUP(X53,Feuil1!$C$1:$BL$10,9,FALSE)","v":-45},{"$f":"T53-HLOOKUP(X53,Feuil1!$C$1:$BL$10,10,FALSE)","v":-885},null,null,null,null,null,null,{"$f":"IF(AJ53>=0,$AJ$4,IF(AI53>=0,$AI$4,IF(AH53>=0,$AH$4,IF(AG53>=0,$AG$4,IF(AF53>=0,$AF$4,IF(AE53>=0,$AE$4,IF(AD53>=0,$AD$4,IF(AC53>=0,$AC$4,$AB$4))))))))","v":"FED +"}]
[null,null,null,null,null," ",null,null,null,null,null,null,null,null,null,null,null,null,null,null,null,null,null,null,null,null,null,{"$f":"T54-HLOOKUP(X54,Feuil1!$C$1:$BL$10,2,FALSE)","v":{"$error":"#N/A"}},{"$f":"T54-HLOOKUP(X54,Feuil1!$C$1:$BL$10,3,FALSE)","v":{"$error":"#N/A"}},{"$f":"T54-HLOOKUP(X54,Feuil1!$C$1:$BL$10,4,FALSE)","v":{"$error":"#N/A"}},{"$f":"T54-HLOOKUP(X54,Feuil1!$C$1:$BL$10,5,FALSE)","v":{"$error":"#N/A"}},{"$f":"T54-HLOOKUP(X54,Feuil1!$C$1:$BL$10,6,FALSE)","v":{"$error":"#N/A"}},{"$f":"T54-HLOOKUP(X54,Feuil1!$C$1:$BL$10,7,FALSE)","v":{"$error":"#N/A"}},{"$f":"T54-HLOOKUP(X54,Feuil1!$C$1:$BL$10,8,FALSE)","v":{"$error":"#N/A"}},{"$f":"T54-HLOOKUP(X54,Feuil1!$C$1:$BL$10,9,FALSE)","v":{"$error":"#N/A"}},{"$f":"T54-HLOOKUP(X54,Feuil1!$C$1:$BL$10,10,FALSE)","v":{"$error":"#N/A"}}]
[null,null,null,null,null,null,null,null,null,null,null,null,null,null,null,null,null,null,null,null,null,null,null,null,null,null,null,{"$f":"T55-HLOOKUP(X55,Feuil1!$C$1:$BL$10,2,FALSE)","v":{"$error":"#N/A"}},{"$f":"T55-HLOOKUP(X55,Feuil1!$C$1:$BL$10,3,FALSE)","v":{"$error":"#N/A"}},{"$f":"T55-HLOOKUP(X55,Feuil1!$C$1:$BL$10,4,FALSE)","v":{"$error":"#N/A"}},{"$f":"T55-HLOOKUP(X55,Feuil1!$C$1:$BL$10,5,FALSE)","v":{"$error":"#N/A"}},{"$f":"T55-HLOOKUP(X55,Feuil1!$C$1:$BL$10,6,FALSE)","v":{"$error":"#N/A"}},{"$f":"T55-HLOOKUP(X55,Feuil1!$C$1:$BL$10,7,FALSE)","v":{"$error":"#N/A"}},{"$f":"T55-HLOOKUP(X55,Feuil1!$C$1:$BL$10,8,FALSE)","v":{"$error":"#N/A"}},{"$f":"T55-HLOOKUP(X55,Feuil1!$C$1:$BL$10,9,FALSE)","v":{"$error":"#N/A"}},{"$f":"T55-HLOOKUP(X55,Feuil1!$C$1:$BL$10,10,FALSE)","v":{"$error":"#N/A"}}]
["F","ZCO","PDL",1,97644,"L'HERMIER","Mélanie",1996,47.74,"CA Evron 53","F",-43,43,45,{"$f":"IF(H56=\"\",\"\",IF(MAXA(L56:N56)<=0,0,MAXA(L56:N56)))","v":45},53,56,-59,{"$f":"IF(H56=\"\",\"\",IF(MAXA(P56:R56)<=0,0,MAXA(P56:R56)))","v":56},{"$f":"IF(H56=\"\",\"\",IF(OR(O56=0,S56=0),0,O56+S56))","v":101},{"$f":"T56-I56","v":53.26},{"$f":"IF(H56=\"\",\"\",AQ56)","v":"NAT +"},{"$f":"IF(AJ56>=0,AJ56,IF(AI56>=0,AI56,IF(AH56>=0,AH56,IF(AG56>=0,AG56,IF(AF56>=0,AF56,IF(AE56>=0,AE56,IF(AD56>=0,AD56,IF(AC56>=0,AC56,AB56))))))))","v":6},{"$f":"IF(I56=\"\",\"\",IF(A56=\"H\",IF(OR(H56=\"SEN\",H56<1995),VLOOKUP(I56,Feuil1!$A$11:$F$29,6),IF(AND(H56>1994,H56<1998),VLOOKUP(I56,Feuil1!$A$11:$F$29,5),IF(AND(H56>1997,H56<2000),VLOOKUP(I56,Feuil1!$A$11:$F$29,4),IF(AND(H56>1999,H56<2002),VLOOKUP(I56,Feuil1!$A$11:$F$29,3),VLOOKUP(I56,Feuil1!$A$11:$F$29,2))))),IF(OR(H56=\"SEN\",H56<1995),VLOOKUP(I56,Feuil1!$G$11:$L$25,6),IF(AND(H56>1994,H56<1998),VLOOKUP(I56,Feuil1!$G$11:$L$25,5),IF(AND(H56>1997,H56<2000),VLOOKUP(I56,Feuil1!$G$11:$L$25,4),IF(AND(H56>1999,H56<2002),VLOOKUP(I56,Feuil1!$G$11:$L$25,3),VLOOKUP(I56,Feuil1!$G$11:$L$25,2)))))))","v":"FJ48"},{"$f":"IF(I56=\"\",\"\",IF(A56=\"H\",10^(0.794358141*LOG(I56/174.393)^2)*T56,IF(A56=\"F\",10^(0.89726074*LOG(I56/148.026)^2)*T56,\"\")))","v":166.35486282312925},null," ",{"$f":"T56-HLOOKUP(X56,Feuil1!$C$1:$BL$10,2,FALSE)","v":56},{"$f":"T56-HLOOKUP(X56,Feuil1!$C$1:$BL$10,3,FALSE)","v":46},{"$f":"T56-HLOOKUP(X56,Feuil1!$C$1:$BL$10,4,FALSE)","v":36},{"$f":"T56-HLOOKUP(X56,Feuil1!$C$1:$BL$10,5,FALSE)","v":26},{"$f":"T56-HLOOKUP(X56,Feuil1!$C$1:$BL$10,6,FALSE)","v":16},{"$f":"T56-HLOOKUP(X56,Feuil1!$C$1:$BL$10,7,FALSE)","v":6},{"$f":"T56-HLOOKUP(X56,Feuil1!$C$1:$BL$10,8,FALSE)","v":-9},{"$f":"T56-HLOOKUP(X56,Feuil1!$C$1:$BL$10,9,FALSE)","v":-24},{"$f":"T56-HLOOKUP(X56,Feuil1!$C$1:$BL$10,10,FALSE)","v":-899},null,null,null,null,null,null,{"$f":"IF(AJ56>=0,$AJ$4,IF(AI56>=0,$AI$4,IF(AH56>=0,$AH$4,IF(AG56>=0,$AG$4,IF(AF56>=0,$AF$4,IF(AE56>=0,$AE$4,IF(AD56>=0,$AD$4,IF(AC56>=0,$AC$4,$AB$4))))))))","v":"NAT +"}]
["F","NE","CHA",2,"193808","POIRET ","Kimberley",1997,41.1,"Reims HM","F",40,42,-44,{"$f":"IF(H57=\"\",\"\",IF(MAXA(L57:N57)<=0,0,MAXA(L57:N57)))","v":42},50,53,55,{"$f":"IF(H57=\"\",\"\",IF(MAXA(P57:R57)<=0,0,MAXA(P57:R57)))","v":55},{"$f":"IF(H57=\"\",\"\",IF(OR(O57=0,S57=0),0,O57+S57))","v":97},55.9,{"$f":"IF(H57=\"\",\"\",AQ57)","v":"NAT +"},{"$f":"IF(AJ57>=0,AJ57,IF(AI57>=0,AI57,IF(AH57>=0,AH57,IF(AG57>=0,AG57,IF(AF57>=0,AF57,IF(AE57>=0,AE57,IF(AD57>=0,AD57,IF(AC57>=0,AC57,AB57))))))))","v":2},{"$f":"IF(I57=\"\",\"\",IF(A57=\"H\",IF(OR(H57=\"SEN\",H57<1995),VLOOKUP(I57,Feuil1!$A$11:$F$29,6),IF(AND(H57>1994,H57<1998),VLOOKUP(I57,Feuil1!$A$11:$F$29,5),IF(AND(H57>1997,H57<2000),VLOOKUP(I57,Feuil1!$A$11:$F$29,4),IF(AND(H57>1999,H57<2002),VLOOKUP(I57,Feuil1!$A$11:$F$29,3),VLOOKUP(I57,Feuil1!$A$11:$F$29,2))))),IF(OR(H57=\"SEN\",H57<1995),VLOOKUP(I57,Feuil1!$G$11:$L$25,6),IF(AND(H57>1994,H57<1998),VLOOKUP(I57,Feuil1!$G$11:$L$25,5),IF(AND(H57>1997,H57<2000),VLOOKUP(I57,Feuil1!$G$11:$L$25,4),IF(AND(H57>1999,H57<2002),VLOOKUP(I57,Feuil1!$G$11:$L$25,3),VLOOKUP(I57,Feuil1!$G$11:$L$25,2)))))))","v":"FJ48"},{"$f":"IF(I57=\"\",\"\",IF(A57=\"H\",10^(0.794358141*LOG(I57/174.393)^2)*T57,IF(A57=\"F\",10^(0.89726074*LOG(I57/148.026)^2)*T57,\"\")))","v":183.92578514088061},null," ",{"$f":"T57-HLOOKUP(X57,Feuil1!$C$1:$BL$10,2,FALSE)","v":52},{"$f":"T57-HLOOKUP(X57,Feuil1!$C$1:$BL$10,3,FALSE)","v":42},{"$f":"T57-HLOOKUP(X57,Feuil1!$C$1:$BL$10,4,FALSE)","v":32},{"$f":"T57-HLOOKUP(X57,Feuil1!$C$1:$BL$10,5,FALSE)","v":22},{"$f":"T57-HLOOKUP(X57,Feuil1!$C$1:$BL$10,6,FALSE)","v":12},{"$f":"T57-HLOOKUP(X57,Feuil1!$C$1:$BL$10,7,FALSE)","v":2},{"$f":"T57-HLOOKUP(X57,Feuil1!$C$1:$BL$10,8,FALSE)","v":-13},{"$f":"T57-HLOOKUP(X57,Feuil1!$C$1:$BL$10,9,FALSE)","v":-28},{"$f":"T57-HLOOKUP(X57,Feuil1!$C$1:$BL$10,10,FALSE)","v":-903},null,null,null,null,null,null,{"$f":"IF(AJ57>=0,$AJ$4,IF(AI57>=0,$AI$4,IF(AH57>=0,$AH$4,IF(AG57>=0,$AG$4,IF(AF57>=0,$AF$4,IF(AE57>=0,$AE$4,IF(AD57>=0,$AD$4,IF(AC57>=0,$AC$4,$AB$4))))))))","v":"NAT +"}]
["F","SEST","PRO",3,361701,"DELEUIL","Fanny",1995,47.2,"EEAR. MONTEUX","F",40,-42,42,{"$f":"IF(H58=\"\",\"\",IF(MAXA(L58:N58)<=0,0,MAXA(L58:N58)))","v":42},-50,53,-55,{"$f":"IF(H58=\"\",\"\",IF(MAXA(P58:R58)<=0,0,MAXA(P58:R58)))","v":53},{"$f":"IF(H58=\"\",\"\",IF(OR(O58=0,S58=0),0,O58+S58))","v":95},47.8,{"$f":"IF(H58=\"\",\"\",AQ58)","v":"NAT +"},{"$f":"IF(AJ58>=0,AJ58,IF(AI58>=0,AI58,IF(AH58>=0,AH58,IF(AG58>=0,AG58,IF(AF58>=0,AF58,IF(AE58>=0,AE58,IF(AD58>=0,AD58,IF(AC58>=0,AC58,AB58))))))))","v":0},{"$f":"IF(I58=\"\",\"\",IF(A58=\"H\",IF(OR(H58=\"SEN\",H58<1995),VLOOKUP(I58,Feuil1!$A$11:$F$29,6),IF(AND(H58>1994,H58<1998),VLOOKUP(I58,Feuil1!$A$11:$F$29,5),IF(AND(H58>1997,H58<2000),VLOOKUP(I58,Feuil1!$A$11:$F$29,4),IF(AND(H58>1999,H58<2002),VLOOKUP(I58,Feuil1!$A$11:$F$29,3),VLOOKUP(I58,Feuil1!$A$11:$F$29,2))))),IF(OR(H58=\"SEN\",H58<1995),VLOOKUP(I58,Feuil1!$G$11:$L$25,6),IF(AND(H58>1994,H58<1998),VLOOKUP(I58,Feuil1!$G$11:$L$25,5),IF(AND(H58>1997,H58<2000),VLOOKUP(I58,Feuil1!$G$11:$L$25,4),IF(AND(H58>1999,H58<2002),VLOOKUP(I58,Feuil1!$G$11:$L$25,3),VLOOKUP(I58,Feuil1!$G$11:$L$25,2)))))))","v":"FJ48"},{"$f":"IF(I58=\"\",\"\",IF(A58=\"H\",10^(0.794358141*LOG(I58/174.393)^2)*T58,IF(A58=\"F\",10^(0.89726074*LOG(I58/148.026)^2)*T58,\"\")))","v":158.05808704270962},null," ",{"$f":"T58-HLOOKUP(X58,Feuil1!$C$1:$BL$10,2,FALSE)","v":50},{"$f":"T58-HLOOKUP(X58,Feuil1!$C$1:$BL$10,3,FALSE)","v":40},{"$f":"T58-HLOOKUP(X58,Feuil1!$C$1:$BL$10,4,FALSE)","v":30},{"$f":"T58-HLOOKUP(X58,Feuil1!$C$1:$BL$10,5,FALSE)","v":20},{"$f":"T58-HLOOKUP(X58,Feuil1!$C$1:$BL$10,6,FALSE)","v":10},{"$f":"T58-HLOOKUP(X58,Feuil1!$C$1:$BL$10,7,FALSE)","v":0},{"$f":"T58-HLOOKUP(X58,Feuil1!$C$1:$BL$10,8,FALSE)","v":-15},{"$f":"T58-HLOOKUP(X58,Feuil1!$C$1:$BL$10,9,FALSE)","v":-30},{"$f":"T58-HLOOKUP(X58,Feuil1!$C$1:$BL$10,10,FALSE)","v":-905},null,null,null,null,null,null,{"$f":"IF(AJ58>=0,$AJ$4,IF(AI58>=0,$AI$4,IF(AH58>=0,$AH$4,IF(AG58>=0,$AG$4,IF(AF58>=0,$AF$4,IF(AE58>=0,$AE$4,IF(AD58>=0,$AD$4,IF(AC58>=0,$AC$4,$AB$4))))))))","v":"NAT +"}]
["F","DOM","REU",4,357739,"VIRAMA","Deborah",1996,47.3,"CH LA PLAINE","F",35,42,-45,{"$f":"IF(H59=\"\",\"\",IF(MAXA(L59:N59)<=0,0,MAXA(L59:N59)))","v":42},45,-50,50,{"$f":"IF(H59=\"\",\"\",IF(MAXA(P59:R59)<=0,0,MAXA(P59:R59)))","v":50},{"$f":"IF(H59=\"\",\"\",IF(OR(O59=0,S59=0),0,O59+S59))","v":92},{"$f":"T59-I59","v":44.7},{"$f":"IF(H59=\"\",\"\",AQ59)","v":"FED +"},{"$f":"IF(AJ59>=0,AJ59,IF(AI59>=0,AI59,IF(AH59>=0,AH59,IF(AG59>=0,AG59,IF(AF59>=0,AF59,IF(AE59>=0,AE59,IF(AD59>=0,AD59,IF(AC59>=0,AC59,AB59))))))))","v":7},{"$f":"IF(I59=\"\",\"\",IF(A59=\"H\",IF(OR(H59=\"SEN\",H59<1995),VLOOKUP(I59,Feuil1!$A$11:$F$29,6),IF(AND(H59>1994,H59<1998),VLOOKUP(I59,Feuil1!$A$11:$F$29,5),IF(AND(H59>1997,H59<2000),VLOOKUP(I59,Feuil1!$A$11:$F$29,4),IF(AND(H59>1999,H59<2002),VLOOKUP(I59,Feuil1!$A$11:$F$29,3),VLOOKUP(I59,Feuil1!$A$11:$F$29,2))))),IF(OR(H59=\"SEN\",H59<1995),VLOOKUP(I59,Feuil1!$G$11:$L$25,6),IF(AND(H59>1994,H59<1998),VLOOKUP(I59,Feuil1!$G$11:$L$25,5),IF(AND(H59>1997,H59<2000),VLOOKUP(I59,Feuil1!$G$11:$L$25,4),IF(AND(H59>1999,H59<2002),VLOOKUP(I59,Feuil1!$G$11:$L$25,3),VLOOKUP(I59,Feuil1!$G$11:$L$25,2)))))))","v":"FJ48"},{"$f":"IF(I59=\"\",\"\",IF(A59=\"H\",10^(0.794358141*LOG(I59/174.393)^2)*T59,IF(A59=\"F\",10^(0.89726074*LOG(I59/148.026)^2)*T59,\"\")))","v":152.77874418618319},null," ",{"$f":"T59-HLOOKUP(X59,Feuil1!$C$1:$BL$10,2,FALSE)","v":47},{"$f":"T59-HLOOKUP(X59,Feuil1!$C$1:$BL$10,3,FALSE)","v":37},{"$f":"T59-HLOOKUP(X59,Feuil1!$C$1:$BL$10,4,FALSE)","v":27},{"$f":"T59-HLOOKUP(X59,Feuil1!$C$1:$BL$10,5,FALSE)","v":17},{"$f":"T59-HLOOKUP(X59,Feuil1!$C$1:$BL$10,6,FALSE)","v":7},{"$f":"T59-HLOOKUP(X59,Feuil1!$C$1:$BL$10,7,FALSE)","v":-3},{"$f":"T59-HLOOKUP(X59,Feuil1!$C$1:$BL$10,8,FALSE)","v":-18},{"$f":"T59-HLOOKUP(X59,Feuil1!$C$1:$BL$10,9,FALSE)","v":-33},{"$f":"T59-HLOOKUP(X59,Feuil1!$C$1:$BL$10,10,FALSE)","v":-908},null,null,null,null,null,null,{"$f":"IF(AJ59>=0,$AJ$4,IF(AI59>=0,$AI$4,IF(AH59>=0,$AH$4,IF(AG59>=0,$AG$4,IF(AF59>=0,$AF$4,IF(AE59>=0,$AE$4,IF(AD59>=0,$AD$4,IF(AC59>=0,$AC$4,$AB$4))))))))","v":"FED +"}]
[null,null,null,null,null,null,null,null,null,null,null,null,null,null,null,null,null,null,null,null," ",null,null,null,null,null,null,{"$f":"T60-HLOOKUP(X60,Feuil1!$C$1:$BL$10,2,FALSE)","v":{"$error":"#N/A"}},{"$f":"T60-HLOOKUP(X60,Feuil1!$C$1:$BL$10,3,FALSE)","v":{"$error":"#N/A"}},{"$f":"T60-HLOOKUP(X60,Feuil1!$C$1:$BL$10,4,FALSE)","v":{"$error":"#N/A"}},{"$f":"T60-HLOOKUP(X60,Feuil1!$C$1:$BL$10,5,FALSE)","v":{"$error":"#N/A"}},{"$f":"T60-HLOOKUP(X60,Feuil1!$C$1:$BL$10,6,FALSE)","v":{"$error":"#N/A"}},{"$f":"T60-HLOOKUP(X60,Feuil1!$C$1:$BL$10,7,FALSE)","v":{"$error":"#N/A"}},{"$f":"T60-HLOOKUP(X60,Feuil1!$C$1:$BL$10,8,FALSE)","v":{"$error":"#N/A"}},{"$f":"T60-HLOOKUP(X60,Feuil1!$C$1:$BL$10,9,FALSE)","v":{"$error":"#N/A"}},{"$f":"T60-HLOOKUP(X60,Feuil1!$C$1:$BL$10,10,FALSE)","v":{"$error":"#N/A"}}]
["F","Nord","PIC",1,280885,"CABON","Ophélie",1997,52.86,"Péronne AAEEP","F",57,-60,60,{"$f":"IF(H61=\"\",\"\",IF(MAXA(L61:N61)<=0,0,MAXA(L61:N61)))","v":60},70,75,-80,{"$f":"IF(H61=\"\",\"\",IF(MAXA(P61:R61)<=0,0,MAXA(P61:R61)))","v":75},{"$f":"IF(H61=\"\",\"\",IF(OR(O61=0,S61=0),0,O61+S61))","v":135},82.14,{"$f":"IF(H61=\"\",\"\",AQ61)","v":"INTA +"},{"$f":"IF(AJ61>=0,AJ61,IF(AI61>=0,AI61,IF(AH61>=0,AH61,IF(AG61>=0,AG61,IF(AF61>=0,AF61,IF(AE61>=0,AE61,IF(AD61>=0,AD61,IF(AC61>=0,AC61,AB61))))))))","v":0},{"$f":"IF(I61=\"\",\"\",IF(A61=\"H\",IF(OR(H61=\"SEN\",H61<1995),VLOOKUP(I61,Feuil1!$A$11:$F$29,6),IF(AND(H61>1994,H61<1998),VLOOKUP(I61,Feuil1!$A$11:$F$29,5),IF(AND(H61>1997,H61<2000),VLOOKUP(I61,Feuil1!$A$11:$F$29,4),IF(AND(H61>1999,H61<2002),VLOOKUP(I61,Feuil1!$A$11:$F$29,3),VLOOKUP(I61,Feuil1!$A$11:$F$29,2))))),IF(OR(H61=\"SEN\",H61<1995),VLOOKUP(I61,Feuil1!$G$11:$L$25,6),IF(AND(H61>1994,H61<1998),VLOOKUP(I61,Feuil1!$G$11:$L$25,5),IF(AND(H61>1997,H61<2000),VLOOKUP(I61,Feuil1!$G$11:$L$25,4),IF(AND(H61>1999,H61<2002),VLOOKUP(I61,Feuil1!$G$11:$L$25,3),VLOOKUP(I61,Feuil1!$G$11:$L$25,2)))))))","v":"FJ53"},{"$f":"IF(I61=\"\",\"\",IF(A61=\"H\",10^(0.794358141*LOG(I61/174.393)^2)*T61,IF(A61=\"F\",10^(0.89726074*LOG(I61/148.026)^2)*T61,\"\")))","v":204.07213544321601},null," ",{"$f":"T61-HLOOKUP(X61,Feuil1!$C$1:$BL$10,2,FALSE)","v":80},{"$f":"T61-HLOOKUP(X61,Feuil1!$C$1:$BL$10,3,FALSE)","v":70},{"$f":"T61-HLOOKUP(X61,Feuil1!$C$1:$BL$10,4,FALSE)","v":60},{"$f":"T61-HLOOKUP(X61,Feuil1!$C$1:$BL$10,5,FALSE)","v":50},{"$f":"T61-HLOOKUP(X61,Feuil1!$C$1:$BL$10,6,FALSE)","v":40},{"$f":"T61-HLOOKUP(X61,Feuil1!$C$1:$BL$10,7,FALSE)","v":30},{"$f":"T61-HLOOKUP(X61,Feuil1!$C$1:$BL$10,8,FALSE)","v":15},{"$f":"T61-HLOOKUP(X61,Feuil1!$C$1:$BL$10,9,FALSE)","v":0},{"$f":"T61-HLOOKUP(X61,Feuil1!$C$1:$BL$10,10,FALSE)","v":-865},null,null,null,null,null,null,{"$f":"IF(AJ61>=0,$AJ$4,IF(AI61>=0,$AI$4,IF(AH61>=0,$AH$4,IF(AG61>=0,$AG$4,IF(AF61>=0,$AF$4,IF(AE61>=0,$AE$4,IF(AD61>=0,$AD$4,IF(AC61>=0,$AC$4,$AB$4))))))))","v":"INTA +"}]
["F","NE","BOU",2,196470,"BALACE","Julie",1996,51.4,"Stade Dijonnais HM","F",58,-61,61,{"$f":"IF(H62=\"\",\"\",IF(MAXA(L62:N62)<=0,0,MAXA(L62:N62)))","v":61},70,-75,-75,{"$f":"IF(H62=\"\",\"\",IF(MAXA(P62:R62)<=0,0,MAXA(P62:R62)))","v":70},{"$f":"IF(H62=\"\",\"\",IF(OR(O62=0,S62=0),0,O62+S62))","v":131},79.599999999999994,{"$f":"IF(H62=\"\",\"\",AQ62)","v":"INTB +"},{"$f":"IF(AJ62>=0,AJ62,IF(AI62>=0,AI62,IF(AH62>=0,AH62,IF(AG62>=0,AG62,IF(AF62>=0,AF62,IF(AE62>=0,AE62,IF(AD62>=0,AD62,IF(AC62>=0,AC62,AB62))))))))","v":11},{"$f":"IF(I62=\"\",\"\",IF(A62=\"H\",IF(OR(H62=\"SEN\",H62<1995),VLOOKUP(I62,Feuil1!$A$11:$F$29,6),IF(AND(H62>1994,H62<1998),VLOOKUP(I62,Feuil1!$A$11:$F$29,5),IF(AND(H62>1997,H62<2000),VLOOKUP(I62,Feuil1!$A$11:$F$29,4),IF(AND(H62>1999,H62<2002),VLOOKUP(I62,Feuil1!$A$11:$F$29,3),VLOOKUP(I62,Feuil1!$A$11:$F$29,2))))),IF(OR(H62=\"SEN\",H62<1995),VLOOKUP(I62,Feuil1!$G$11:$L$25,6),IF(AND(H62>1994,H62<1998),VLOOKUP(I62,Feuil1!$G$11:$L$25,5),IF(AND(H62>1997,H62<2000),VLOOKUP(I62,Feuil1!$G$11:$L$25,4),IF(AND(H62>1999,H62<2002),VLOOKUP(I62,Feuil1!$G$11:$L$25,3),VLOOKUP(I62,Feuil1!$G$11:$L$25,2)))))))","v":"FJ53"},{"$f":"IF(I62=\"\",\"\",IF(A62=\"H\",10^(0.794358141*LOG(I62/174.393)^2)*T62,IF(A62=\"F\",10^(0.89726074*LOG(I62/148.026)^2)*T62,\"\")))","v":202.58906438092566},null," ",{"$f":"T62-HLOOKUP(X62,Feuil1!$C$1:$BL$10,2,FALSE)","v":76},{"$f":"T62-HLOOKUP(X62,Feuil1!$C$1:$BL$10,3,FALSE)","v":66},{"$f":"T62-HLOOKUP(X62,Feuil1!$C$1:$BL$10,4,FALSE)","v":56},{"$f":"T62-HLOOKUP(X62,Feuil1!$C$1:$BL$10,5,FALSE)","v":46},{"$f":"T62-HLOOKUP(X62,Feuil1!$C$1:$BL$10,6,FALSE)","v":36},{"$f":"T62-HLOOKUP(X62,Feuil1!$C$1:$BL$10,7,FALSE)","v":26},{"$f":"T62-HLOOKUP(X62,Feuil1!$C$1:$BL$10,8,FALSE)","v":11},{"$f":"T62-HLOOKUP(X62,Feuil1!$C$1:$BL$10,9,FALSE)","v":-4},{"$f":"T62-HLOOKUP(X62,Feuil1!$C$1:$BL$10,10,FALSE)","v":-869},null,null,null,null,null,null,{"$f":"IF(AJ62>=0,$AJ$4,IF(AI62>=0,$AI$4,IF(AH62>=0,$AH$4,IF(AG62>=0,$AG$4,IF(AF62>=0,$AF$4,IF(AE62>=0,$AE$4,IF(AD62>=0,$AD$4,IF(AC62>=0,$AC$4,$AB$4))))))))","v":"INTB +"}]
["F","Nord","PIC",3,187400,"CARON","Amélie",1996,52.46,"Saleux CHM","F",47,50,53,{"$f":"IF(H63=\"\",\"\",IF(MAXA(L63:N63)<=0,0,MAXA(L63:N63)))","v":53},55,60,65,{"$f":"IF(H63=\"\",\"\",IF(MAXA(P63:R63)<=0,0,MAXA(P63:R63)))","v":65},{"$f":"IF(H63=\"\",\"\",IF(OR(O63=0,S63=0),0,O63+S63))","v":118},65.539999999999992,{"$f":"IF(H63=\"\",\"\",AQ63)","v":"NAT +"},{"$f":"IF(AJ63>=0,AJ63,IF(AI63>=0,AI63,IF(AH63>=0,AH63,IF(AG63>=0,AG63,IF(AF63>=0,AF63,IF(AE63>=0,AE63,IF(AD63>=0,AD63,IF(AC63>=0,AC63,AB63))))))))","v":13},{"$f":"IF(I63=\"\",\"\",IF(A63=\"H\",IF(OR(H63=\"SEN\",H63<1995),VLOOKUP(I63,Feuil1!$A$11:$F$29,6),IF(AND(H63>1994,H63<1998),VLOOKUP(I63,Feuil1!$A$11:$F$29,5),IF(AND(H63>1997,H63<2000),VLOOKUP(I63,Feuil1!$A$11:$F$29,4),IF(AND(H63>1999,H63<2002),VLOOKUP(I63,Feuil1!$A$11:$F$29,3),VLOOKUP(I63,Feuil1!$A$11:$F$29,2))))),IF(OR(H63=\"SEN\",H63<1995),VLOOKUP(I63,Feuil1!$G$11:$L$25,6),IF(AND(H63>1994,H63<1998),VLOOKUP(I63,Feuil1!$G$11:$L$25,5),IF(AND(H63>1997,H63<2000),VLOOKUP(I63,Feuil1!$G$11:$L$25,4),IF(AND(H63>1999,H63<2002),VLOOKUP(I63,Feuil1!$G$11:$L$25,3),VLOOKUP(I63,Feuil1!$G$11:$L$25,2)))))))","v":"FJ53"},{"$f":"IF(I63=\"\",\"\",IF(A63=\"H\",10^(0.794358141*LOG(I63/174.393)^2)*T63,IF(A63=\"F\",10^(0.89726074*LOG(I63/148.026)^2)*T63,\"\")))","v":179.46888091406777},null," ",{"$f":"T63-HLOOKUP(X63,Feuil1!$C$1:$BL$10,2,FALSE)","v":63},{"$f":"T63-HLOOKUP(X63,Feuil1!$C$1:$BL$10,3,FALSE)","v":53},{"$f":"T63-HLOOKUP(X63,Feuil1!$C$1:$BL$10,4,FALSE)","v":43},{"$f":"T63-HLOOKUP(X63,Feuil1!$C$1:$BL$10,5,FALSE)","v":33},{"$f":"T63-HLOOKUP(X63,Feuil1!$C$1:$BL$10,6,FALSE)","v":23},{"$f":"T63-HLOOKUP(X63,Feuil1!$C$1:$BL$10,7,FALSE)","v":13},{"$f":"T63-HLOOKUP(X63,Feuil1!$C$1:$BL$10,8,FALSE)","v":-2},{"$f":"T63-HLOOKUP(X63,Feuil1!$C$1:$BL$10,9,FALSE)","v":-17},{"$f":"T63-HLOOKUP(X63,Feuil1!$C$1:$BL$10,10,FALSE)","v":-882},null,null,null,null,null,null,{"$f":"IF(AJ63>=0,$AJ$4,IF(AI63>=0,$AI$4,IF(AH63>=0,$AH$4,IF(AG63>=0,$AG$4,IF(AF63>=0,$AF$4,IF(AE63>=0,$AE$4,IF(AD63>=0,$AD$4,IF(AC63>=0,$AC$4,$AB$4))))))))","v":"NAT +"}]
["F","SO","MPY",4,253454,"JOURNET","Mégane",1995,50.2,"FIGEAC HC","F",47,-50,-50,{"$f":"IF(H64=\"\",\"\",IF(MAXA(L64:N64)<=0,0,MAXA(L64:N64)))","v":47},55,-60,-60,{"$f":"IF(H64=\"\",\"\",IF(MAXA(P64:R64)<=0,0,MAXA(P64:R64)))","v":55},{"$f":"IF(H64=\"\",\"\",IF(OR(O64=0,S64=0),0,O64+S64))","v":102},51.8,{"$f":"IF(H64=\"\",\"\",AQ64)","v":"FED +"},{"$f":"IF(AJ64>=0,AJ64,IF(AI64>=0,AI64,IF(AH64>=0,AH64,IF(AG64>=0,AG64,IF(AF64>=0,AF64,IF(AE64>=0,AE64,IF(AD64>=0,AD64,IF(AC64>=0,AC64,AB64))))))))","v":7},{"$f":"IF(I64=\"\",\"\",IF(A64=\"H\",IF(OR(H64=\"SEN\",H64<1995),VLOOKUP(I64,Feuil1!$A$11:$F$29,6),IF(AND(H64>1994,H64<1998),VLOOKUP(I64,Feuil1!$A$11:$F$29,5),IF(AND(H64>1997,H64<2000),VLOOKUP(I64,Feuil1!$A$11:$F$29,4),IF(AND(H64>1999,H64<2002),VLOOKUP(I64,Feuil1!$A$11:$F$29,3),VLOOKUP(I64,Feuil1!$A$11:$F$29,2))))),IF(OR(H64=\"SEN\",H64<1995),VLOOKUP(I64,Feuil1!$G$11:$L$25,6),IF(AND(H64>1994,H64<1998),VLOOKUP(I64,Feuil1!$G$11:$L$25,5),IF(AND(H64>1997,H64<2000),VLOOKUP(I64,Feuil1!$G$11:$L$25,4),IF(AND(H64>1999,H64<2002),VLOOKUP(I64,Feuil1!$G$11:$L$25,3),VLOOKUP(I64,Feuil1!$G$11:$L$25,2)))))))","v":"FJ53"},{"$f":"IF(I64=\"\",\"\",IF(A64=\"H\",10^(0.794358141*LOG(I64/174.393)^2)*T64,IF(A64=\"F\",10^(0.89726074*LOG(I64/148.026)^2)*T64,\"\")))","v":160.878029169077},null," ",{"$f":"T64-HLOOKUP(X64,Feuil1!$C$1:$BL$10,2,FALSE)","v":47},{"$f":"T64-HLOOKUP(X64,Feuil1!$C$1:$BL$10,3,FALSE)","v":37},{"$f":"T64-HLOOKUP(X64,Feuil1!$C$1:$BL$10,4,FALSE)","v":27},{"$f":"T64-HLOOKUP(X64,Feuil1!$C$1:$BL$10,5,FALSE)","v":17},{"$f":"T64-HLOOKUP(X64,Feuil1!$C$1:$BL$10,6,FALSE)","v":7},{"$f":"T64-HLOOKUP(X64,Feuil1!$C$1:$BL$10,7,FALSE)","v":-3},{"$f":"T64-HLOOKUP(X64,Feuil1!$C$1:$BL$10,8,FALSE)","v":-18},{"$f":"T64-HLOOKUP(X64,Feuil1!$C$1:$BL$10,9,FALSE)","v":-33},{"$f":"T64-HLOOKUP(X64,Feuil1!$C$1:$BL$10,10,FALSE)","v":-898},null,null,null,null,null,null,{"$f":"IF(AJ64>=0,$AJ$4,IF(AI64>=0,$AI$4,IF(AH64>=0,$AH$4,IF(AG64>=0,$AG$4,IF(AF64>=0,$AF$4,IF(AE64>=0,$AE$4,IF(AD64>=0,$AD$4,IF(AC64>=0,$AC$4,$AB$4))))))))","v":"FED +"}]
["F","Nord","PIC",5,309751,"SEIGNEUR","Manon",1995,52.61,"Villers-Bretonneux KC","F",40,-43,43,{"$f":"IF(H65=\"\",\"\",IF(MAXA(L65:N65)<=0,0,MAXA(L65:N65)))","v":43},52,56,-62,{"$f":"IF(H65=\"\",\"\",IF(MAXA(P65:R65)<=0,0,MAXA(P65:R65)))","v":56},{"$f":"IF(H65=\"\",\"\",IF(OR(O65=0,S65=0),0,O65+S65))","v":99},46.39,{"$f":"IF(H65=\"\",\"\",AQ65)","v":"FED +"},{"$f":"IF(AJ65>=0,AJ65,IF(AI65>=0,AI65,IF(AH65>=0,AH65,IF(AG65>=0,AG65,IF(AF65>=0,AF65,IF(AE65>=0,AE65,IF(AD65>=0,AD65,IF(AC65>=0,AC65,AB65))))))))","v":4},{"$f":"IF(I65=\"\",\"\",IF(A65=\"H\",IF(OR(H65=\"SEN\",H65<1995),VLOOKUP(I65,Feuil1!$A$11:$F$29,6),IF(AND(H65>1994,H65<1998),VLOOKUP(I65,Feuil1!$A$11:$F$29,5),IF(AND(H65>1997,H65<2000),VLOOKUP(I65,Feuil1!$A$11:$F$29,4),IF(AND(H65>1999,H65<2002),VLOOKUP(I65,Feuil1!$A$11:$F$29,3),VLOOKUP(I65,Feuil1!$A$11:$F$29,2))))),IF(OR(H65=\"SEN\",H65<1995),VLOOKUP(I65,Feuil1!$G$11:$L$25,6),IF(AND(H65>1994,H65<1998),VLOOKUP(I65,Feuil1!$G$11:$L$25,5),IF(AND(H65>1997,H65<2000),VLOOKUP(I65,Feuil1!$G$11:$L$25,4),IF(AND(H65>1999,H65<2002),VLOOKUP(I65,Feuil1!$G$11:$L$25,3),VLOOKUP(I65,Feuil1!$G$11:$L$25,2)))))))","v":"FJ53"},{"$f":"IF(I65=\"\",\"\",IF(A65=\"H\",10^(0.794358141*LOG(I65/174.393)^2)*T65,IF(A65=\"F\",10^(0.89726074*LOG(I65/148.026)^2)*T65,\"\")))","v":150.22466075305988},null," ",{"$f":"T65-HLOOKUP(X65,Feuil1!$C$1:$BL$10,2,FALSE)","v":44},{"$f":"T65-HLOOKUP(X65,Feuil1!$C$1:$BL$10,3,FALSE)","v":34},{"$f":"T65-HLOOKUP(X65,Feuil1!$C$1:$BL$10,4,FALSE)","v":24},{"$f":"T65-HLOOKUP(X65,Feuil1!$C$1:$BL$10,5,FALSE)","v":14},{"$f":"T65-HLOOKUP(X65,Feuil1!$C$1:$BL$10,6,FALSE)","v":4},{"$f":"T65-HLOOKUP(X65,Feuil1!$C$1:$BL$10,7,FALSE)","v":-6},{"$f":"T65-HLOOKUP(X65,Feuil1!$C$1:$BL$10,8,FALSE)","v":-21},{"$f":"T65-HLOOKUP(X65,Feuil1!$C$1:$BL$10,9,FALSE)","v":-36},{"$f":"T65-HLOOKUP(X65,Feuil1!$C$1:$BL$10,10,FALSE)","v":-901},null,null,null,null,null,null,{"$f":"IF(AJ65>=0,$AJ$4,IF(AI65>=0,$AI$4,IF(AH65>=0,$AH$4,IF(AG65>=0,$AG$4,IF(AF65>=0,$AF$4,IF(AE65>=0,$AE$4,IF(AD65>=0,$AD$4,IF(AC65>=0,$AC$4,$AB$4))))))))","v":"FED +"}]
[null,null,null,null,null,null,null,null,null,null,null,null,null,null,null,null,null,null,null,null," ",null,null,null,null,null,null,{"$f":"T66-HLOOKUP(X66,Feuil1!$C$1:$BL$10,2,FALSE)","v":{"$error":"#N/A"}},{"$f":"T66-HLOOKUP(X66,Feuil1!$C$1:$BL$10,3,FALSE)","v":{"$error":"#N/A"}},{"$f":"T66-HLOOKUP(X66,Feuil1!$C$1:$BL$10,4,FALSE)","v":{"$error":"#N/A"}},{"$f":"T66-HLOOKUP(X66,Feuil1!$C$1:$BL$10,5,FALSE)","v":{"$error":"#N/A"}},{"$f":"T66-HLOOKUP(X66,Feuil1!$C$1:$BL$10,6,FALSE)","v":{"$error":"#N/A"}},{"$f":"T66-HLOOKUP(X66,Feuil1!$C$1:$BL$10,7,FALSE)","v":{"$error":"#N/A"}},{"$f":"T66-HLOOKUP(X66,Feuil1!$C$1:$BL$10,8,FALSE)","v":{"$error":"#N/A"}},{"$f":"T66-HLOOKUP(X66,Feuil1!$C$1:$BL$10,9,FALSE)","v":{"$error":"#N/A"}},{"$f":"T66-HLOOKUP(X66,Feuil1!$C$1:$BL$10,10,FALSE)","v":{"$error":"#N/A"}}]
["F","Nord","PIC",1,140592,"ARANJO","Caroline",1995,56.73,"Villers-Bretonneux KC","F",50,54,-56,{"$f":"IF(H67=\"\",\"\",IF(MAXA(L67:N67)<=0,0,MAXA(L67:N67)))","v":54},61,64,-66,{"$f":"IF(H67=\"\",\"\",IF(MAXA(P67:R67)<=0,0,MAXA(P67:R67)))","v":64},{"$f":"IF(H67=\"\",\"\",IF(OR(O67=0,S67=0),0,O67+S67))","v":118},61.27,{"$f":"IF(H67=\"\",\"\",AQ67)","v":"NAT +"},{"$f":"IF(AJ67>=0,AJ67,IF(AI67>=0,AI67,IF(AH67>=0,AH67,IF(AG67>=0,AG67,IF(AF67>=0,AF67,IF(AE67>=0,AE67,IF(AD67>=0,AD67,IF(AC67>=0,AC67,AB67))))))))","v":3},{"$f":"IF(I67=\"\",\"\",IF(A67=\"H\",IF(OR(H67=\"SEN\",H67<1995),VLOOKUP(I67,Feuil1!$A$11:$F$29,6),IF(AND(H67>1994,H67<1998),VLOOKUP(I67,Feuil1!$A$11:$F$29,5),IF(AND(H67>1997,H67<2000),VLOOKUP(I67,Feuil1!$A$11:$F$29,4),IF(AND(H67>1999,H67<2002),VLOOKUP(I67,Feuil1!$A$11:$F$29,3),VLOOKUP(I67,Feuil1!$A$11:$F$29,2))))),IF(OR(H67=\"SEN\",H67<1995),VLOOKUP(I67,Feuil1!$G$11:$L$25,6),IF(AND(H67>1994,H67<1998),VLOOKUP(I67,Feuil1!$G$11:$L$25,5),IF(AND(H67>1997,H67<2000),VLOOKUP(I67,Feuil1!$G$11:$L$25,4),IF(AND(H67>1999,H67<2002),VLOOKUP(I67,Feuil1!$G$11:$L$25,3),VLOOKUP(I67,Feuil1!$G$11:$L$25,2)))))))","v":"FJ58"},{"$f":"IF(I67=\"\",\"\",IF(A67=\"H\",10^(0.794358141*LOG(I67/174.393)^2)*T67,IF(A67=\"F\",10^(0.89726074*LOG(I67/148.026)^2)*T67,\"\")))","v":168.86929770936308},null," ",{"$f":"T67-HLOOKUP(X67,Feuil1!$C$1:$BL$10,2,FALSE)","v":58},{"$f":"T67-HLOOKUP(X67,Feuil1!$C$1:$BL$10,3,FALSE)","v":48},{"$f":"T67-HLOOKUP(X67,Feuil1!$C$1:$BL$10,4,FALSE)","v":38},{"$f":"T67-HLOOKUP(X67,Feuil1!$C$1:$BL$10,5,FALSE)","v":28},{"$f":"T67-HLOOKUP(X67,Feuil1!$C$1:$BL$10,6,FALSE)","v":18},{"$f":"T67-HLOOKUP(X67,Feuil1!$C$1:$BL$10,7,FALSE)","v":3},{"$f":"T67-HLOOKUP(X67,Feuil1!$C$1:$BL$10,8,FALSE)","v":-12},{"$f":"T67-HLOOKUP(X67,Feuil1!$C$1:$BL$10,9,FALSE)","v":-32},{"$f":"T67-HLOOKUP(X67,Feuil1!$C$1:$BL$10,10,FALSE)","v":-882},null,null,null,null,null,null,{"$f":"IF(AJ67>=0,$AJ$4,IF(AI67>=0,$AI$4,IF(AH67>=0,$AH$4,IF(AG67>=0,$AG$4,IF(AF67>=0,$AF$4,IF(AE67>=0,$AE$4,IF(AD67>=0,$AD$4,IF(AC67>=0,$AC$4,$AB$4))))))))","v":"NAT +"}]
["F","SEST","RAL",2,171425,"HOSTALIER","Melinda",1997,57.1,"H.C. ST BALDOPH","F",48,-50,51,51,64,66,-68,66,117,59.9,"NAT +",2,{"$f":"IF(I68=\"\",\"\",IF(A68=\"H\",IF(OR(H68=\"SEN\",H68<1995),VLOOKUP(I68,Feuil1!$A$11:$F$29,6),IF(AND(H68>1994,H68<1998),VLOOKUP(I68,Feuil1!$A$11:$F$29,5),IF(AND(H68>1997,H68<2000),VLOOKUP(I68,Feuil1!$A$11:$F$29,4),IF(AND(H68>1999,H68<2002),VLOOKUP(I68,Feuil1!$A$11:$F$29,3),VLOOKUP(I68,Feuil1!$A$11:$F$29,2))))),IF(OR(H68=\"SEN\",H68<1995),VLOOKUP(I68,Feuil1!$G$11:$L$25,6),IF(AND(H68>1994,H68<1998),VLOOKUP(I68,Feuil1!$G$11:$L$25,5),IF(AND(H68>1997,H68<2000),VLOOKUP(I68,Feuil1!$G$11:$L$25,4),IF(AND(H68>1999,H68<2002),VLOOKUP(I68,Feuil1!$G$11:$L$25,3),VLOOKUP(I68,Feuil1!$G$11:$L$25,2)))))))","v":"FJ58"},166.62930076827811,null," ",{"$f":"T68-HLOOKUP(X68,Feuil1!$C$1:$BL$10,2,FALSE)","v":57},{"$f":"T68-HLOOKUP(X68,Feuil1!$C$1:$BL$10,3,FALSE)","v":47},{"$f":"T68-HLOOKUP(X68,Feuil1!$C$1:$BL$10,4,FALSE)","v":37},{"$f":"T68-HLOOKUP(X68,Feuil1!$C$1:$BL$10,5,FALSE)","v":27},{"$f":"T68-HLOOKUP(X68,Feuil1!$C$1:$BL$10,6,FALSE)","v":17},{"$f":"T68-HLOOKUP(X68,Feuil1!$C$1:$BL$10,7,FALSE)","v":2},{"$f":"T68-HLOOKUP(X68,Feuil1!$C$1:$BL$10,8,FALSE)","v":-13},{"$f":"T68-HLOOKUP(X68,Feuil1!$C$1:$BL$10,9,FALSE)","v":-33},{"$f":"T68-HLOOKUP(X68,Feuil1!$C$1:$BL$10,10,FALSE)","v":-883},null,null,null,null,null,null,"NAT +"]
["F","Nord","PIC",3,219978,"GAUTIER","Ophélie",1997,57.66,"La Vaillante St Quentin","F",-47,47,-50,47,65,-68,-68,65,112,54.34,"FED +",12,{"$f":"IF(I69=\"\",\"\",IF(A69=\"H\",IF(OR(H69=\"SEN\",H69<1995),VLOOKUP(I69,Feuil1!$A$11:$F$29,6),IF(AND(H69>1994,H69<1998),VLOOKUP(I69,Feuil1!$A$11:$F$29,5),IF(AND(H69>1997,H69<2000),VLOOKUP(I69,Feuil1!$A$11:$F$29,4),IF(AND(H69>1999,H69<2002),VLOOKUP(I69,Feuil1!$A$11:$F$29,3),VLOOKUP(I69,Feuil1!$A$11:$F$29,2))))),IF(OR(H69=\"SEN\",H69<1995),VLOOKUP(I69,Feuil1!$G$11:$L$25,6),IF(AND(H69>1994,H69<1998),VLOOKUP(I69,Feuil1!$G$11:$L$25,5),IF(AND(H69>1997,H69<2000),VLOOKUP(I69,Feuil1!$G$11:$L$25,4),IF(AND(H69>1999,H69<2002),VLOOKUP(I69,Feuil1!$G$11:$L$25,3),VLOOKUP(I69,Feuil1!$G$11:$L$25,2)))))))","v":"FJ58"},158.36273027685991,null," ",{"$f":"T69-HLOOKUP(X69,Feuil1!$C$1:$BL$10,2,FALSE)","v":52},{"$f":"T69-HLOOKUP(X69,Feuil1!$C$1:$BL$10,3,FALSE)","v":42},{"$f":"T69-HLOOKUP(X69,Feuil1!$C$1:$BL$10,4,FALSE)","v":32},{"$f":"T69-HLOOKUP(X69,Feuil1!$C$1:$BL$10,5,FALSE)","v":22},{"$f":"T69-HLOOKUP(X69,Feuil1!$C$1:$BL$10,6,FALSE)","v":12},{"$f":"T69-HLOOKUP(X69,Feuil1!$C$1:$BL$10,7,FALSE)","v":-3},{"$f":"T69-HLOOKUP(X69,Feuil1!$C$1:$BL$10,8,FALSE)","v":-18},{"$f":"T69-HLOOKUP(X69,Feuil1!$C$1:$BL$10,9,FALSE)","v":-38},{"$f":"T69-HLOOKUP(X69,Feuil1!$C$1:$BL$10,10,FALSE)","v":-888},null,null,null,null,null,null,"FED +"]
["F","SEST","CAZ",4,323896,"DUPEYROUX ","Elise",1997,53.5,"ASLDD. TOULON","F",43,45,47,47,53,56,59,59,106,52.5,"FED +",6,{"$f":"IF(I70=\"\",\"\",IF(A70=\"H\",IF(OR(H70=\"SEN\",H70<1995),VLOOKUP(I70,Feuil1!$A$11:$F$29,6),IF(AND(H70>1994,H70<1998),VLOOKUP(I70,Feuil1!$A$11:$F$29,5),IF(AND(H70>1997,H70<2000),VLOOKUP(I70,Feuil1!$A$11:$F$29,4),IF(AND(H70>1999,H70<2002),VLOOKUP(I70,Feuil1!$A$11:$F$29,3),VLOOKUP(I70,Feuil1!$A$11:$F$29,2))))),IF(OR(H70=\"SEN\",H70<1995),VLOOKUP(I70,Feuil1!$G$11:$L$25,6),IF(AND(H70>1994,H70<1998),VLOOKUP(I70,Feuil1!$G$11:$L$25,5),IF(AND(H70>1997,H70<2000),VLOOKUP(I70,Feuil1!$G$11:$L$25,4),IF(AND(H70>1999,H70<2002),VLOOKUP(I70,Feuil1!$G$11:$L$25,3),VLOOKUP(I70,Feuil1!$G$11:$L$25,2)))))))","v":"FJ58"},158.70324163757698,null," ",{"$f":"T70-HLOOKUP(X70,Feuil1!$C$1:$BL$10,2,FALSE)","v":46},{"$f":"T70-HLOOKUP(X70,Feuil1!$C$1:$BL$10,3,FALSE)","v":36},{"$f":"T70-HLOOKUP(X70,Feuil1!$C$1:$BL$10,4,FALSE)","v":26},{"$f":"T70-HLOOKUP(X70,Feuil1!$C$1:$BL$10,5,FALSE)","v":16},{"$f":"T70-HLOOKUP(X70,Feuil1!$C$1:$BL$10,6,FALSE)","v":6},{"$f":"T70-HLOOKUP(X70,Feuil1!$C$1:$BL$10,7,FALSE)","v":-9},{"$f":"T70-HLOOKUP(X70,Feuil1!$C$1:$BL$10,8,FALSE)","v":-24},{"$f":"T70-HLOOKUP(X70,Feuil1!$C$1:$BL$10,9,FALSE)","v":-44},{"$f":"T70-HLOOKUP(X70,Feuil1!$C$1:$BL$10,10,FALSE)","v":-894},null,null,null,null,null,null,"FED +"]
["F","ZCO","BRE",5,146079,"DEBIAIS","Joanna",1996,53.83,"ES Saint Avé","F",45,48,-50,48,52,56,58,58,106,52.17,"FED +",6,{"$f":"IF(I71=\"\",\"\",IF(A71=\"H\",IF(OR(H71=\"SEN\",H71<1995),VLOOKUP(I71,Feuil1!$A$11:$F$29,6),IF(AND(H71>1994,H71<1998),VLOOKUP(I71,Feuil1!$A$11:$F$29,5),IF(AND(H71>1997,H71<2000),VLOOKUP(I71,Feuil1!$A$11:$F$29,4),IF(AND(H71>1999,H71<2002),VLOOKUP(I71,Feuil1!$A$11:$F$29,3),VLOOKUP(I71,Feuil1!$A$11:$F$29,2))))),IF(OR(H71=\"SEN\",H71<1995),VLOOKUP(I71,Feuil1!$G$11:$L$25,6),IF(AND(H71>1994,H71<1998),VLOOKUP(I71,Feuil1!$G$11:$L$25,5),IF(AND(H71>1997,H71<2000),VLOOKUP(I71,Feuil1!$G$11:$L$25,4),IF(AND(H71>1999,H71<2002),VLOOKUP(I71,Feuil1!$G$11:$L$25,3),VLOOKUP(I71,Feuil1!$G$11:$L$25,2)))))))","v":"FJ58"},157.93340977672801,null," ",{"$f":"T71-HLOOKUP(X71,Feuil1!$C$1:$BL$10,2,FALSE)","v":46},{"$f":"T71-HLOOKUP(X71,Feuil1!$C$1:$BL$10,3,FALSE)","v":36},{"$f":"T71-HLOOKUP(X71,Feuil1!$C$1:$BL$10,4,FALSE)","v":26},{"$f":"T71-HLOOKUP(X71,Feuil1!$C$1:$BL$10,5,FALSE)","v":16},{"$f":"T71-HLOOKUP(X71,Feuil1!$C$1:$BL$10,6,FALSE)","v":6},{"$f":"T71-HLOOKUP(X71,Feuil1!$C$1:$BL$10,7,FALSE)","v":-9},{"$f":"T71-HLOOKUP(X71,Feuil1!$C$1:$BL$10,8,FALSE)","v":-24},{"$f":"T71-HLOOKUP(X71,Feuil1!$C$1:$BL$10,9,FALSE)","v":-44},{"$f":"T71-HLOOKUP(X71,Feuil1!$C$1:$BL$10,10,FALSE)","v":-894},null,null,null,null,null,null,"FED +"]
["F","Nord","NPC",6,345628,"HENIN","Manon",1995,55.04,"Berck sur Mer","F",41,44,-46,44,51,54,56,56,100,44.96,"FED +",0,{"$f":"IF(I72=\"\",\"\",IF(A72=\"H\",IF(OR(H72=\"SEN\",H72<1995),VLOOKUP(I72,Feuil1!$A$11:$F$29,6),IF(AND(H72>1994,H72<1998),VLOOKUP(I72,Feuil1!$A$11:$F$29,5),IF(AND(H72>1997,H72<2000),VLOOKUP(I72,Feuil1!$A$11:$F$29,4),IF(AND(H72>1999,H72<2002),VLOOKUP(I72,Feuil1!$A$11:$F$29,3),VLOOKUP(I72,Feuil1!$A$11:$F$29,2))))),IF(OR(H72=\"SEN\",H72<1995),VLOOKUP(I72,Feuil1!$G$11:$L$25,6),IF(AND(H72>1994,H72<1998),VLOOKUP(I72,Feuil1!$G$11:$L$25,5),IF(AND(H72>1997,H72<2000),VLOOKUP(I72,Feuil1!$G$11:$L$25,4),IF(AND(H72>1999,H72<2002),VLOOKUP(I72,Feuil1!$G$11:$L$25,3),VLOOKUP(I72,Feuil1!$G$11:$L$25,2)))))))","v":"FJ58"},146.43366441577081,null," ",{"$f":"T72-HLOOKUP(X72,Feuil1!$C$1:$BL$10,2,FALSE)","v":40},{"$f":"T72-HLOOKUP(X72,Feuil1!$C$1:$BL$10,3,FALSE)","v":30},{"$f":"T72-HLOOKUP(X72,Feuil1!$C$1:$BL$10,4,FALSE)","v":20},{"$f":"T72-HLOOKUP(X72,Feuil1!$C$1:$BL$10,5,FALSE)","v":10},{"$f":"T72-HLOOKUP(X72,Feuil1!$C$1:$BL$10,6,FALSE)","v":0},{"$f":"T72-HLOOKUP(X72,Feuil1!$C$1:$BL$10,7,FALSE)","v":-15},{"$f":"T72-HLOOKUP(X72,Feuil1!$C$1:$BL$10,8,FALSE)","v":-30},{"$f":"T72-HLOOKUP(X72,Feuil1!$C$1:$BL$10,9,FALSE)","v":-50},{"$f":"T72-HLOOKUP(X72,Feuil1!$C$1:$BL$10,10,FALSE)","v":-900},null,null,null,null,null,null,"FED +"]
["F","Nord","NPC",7,192187,"BAERT","Blandine",1995,54.25,"CHCD Comines","F",40,43,-45,43,50,54,-57,54,97,42.75,"IRG +",7,{"$f":"IF(I73=\"\",\"\",IF(A73=\"H\",IF(OR(H73=\"SEN\",H73<1995),VLOOKUP(I73,Feuil1!$A$11:$F$29,6),IF(AND(H73>1994,H73<1998),VLOOKUP(I73,Feuil1!$A$11:$F$29,5),IF(AND(H73>1997,H73<2000),VLOOKUP(I73,Feuil1!$A$11:$F$29,4),IF(AND(H73>1999,H73<2002),VLOOKUP(I73,Feuil1!$A$11:$F$29,3),VLOOKUP(I73,Feuil1!$A$11:$F$29,2))))),IF(OR(H73=\"SEN\",H73<1995),VLOOKUP(I73,Feuil1!$G$11:$L$25,6),IF(AND(H73>1994,H73<1998),VLOOKUP(I73,Feuil1!$G$11:$L$25,5),IF(AND(H73>1997,H73<2000),VLOOKUP(I73,Feuil1!$G$11:$L$25,4),IF(AND(H73>1999,H73<2002),VLOOKUP(I73,Feuil1!$G$11:$L$25,3),VLOOKUP(I73,Feuil1!$G$11:$L$25,2)))))))","v":"FJ58"},143.64453578152725,null," ",{"$f":"T73-HLOOKUP(X73,Feuil1!$C$1:$BL$10,2,FALSE)","v":37},{"$f":"T73-HLOOKUP(X73,Feuil1!$C$1:$BL$10,3,FALSE)","v":27},{"$f":"T73-HLOOKUP(X73,Feuil1!$C$1:$BL$10,4,FALSE)","v":17},{"$f":"T73-HLOOKUP(X73,Feuil1!$C$1:$BL$10,5,FALSE)","v":7},{"$f":"T73-HLOOKUP(X73,Feuil1!$C$1:$BL$10,6,FALSE)","v":-3},{"$f":"T73-HLOOKUP(X73,Feuil1!$C$1:$BL$10,7,FALSE)","v":-18},{"$f":"T73-HLOOKUP(X73,Feuil1!$C$1:$BL$10,8,FALSE)","v":-33},{"$f":"T73-HLOOKUP(X73,Feuil1!$C$1:$BL$10,9,FALSE)","v":-53},{"$f":"T73-HLOOKUP(X73,Feuil1!$C$1:$BL$10,10,FALSE)","v":-903},null,null,null,null,null,null,"IRG +"]
[null,null,null,null,null,null,null,null,null,null,null,null,null,null,null,null,null,null,null,null," ",null,null,null,null,null,null,{"$f":"T74-HLOOKUP(X74,Feuil1!$C$1:$BL$10,2,FALSE)","v":{"$error":"#N/A"}},{"$f":"T74-HLOOKUP(X74,Feuil1!$C$1:$BL$10,3,FALSE)","v":{"$error":"#N/A"}},{"$f":"T74-HLOOKUP(X74,Feuil1!$C$1:$BL$10,4,FALSE)","v":{"$error":"#N/A"}},{"$f":"T74-HLOOKUP(X74,Feuil1!$C$1:$BL$10,5,FALSE)","v":{"$error":"#N/A"}},{"$f":"T74-HLOOKUP(X74,Feuil1!$C$1:$BL$10,6,FALSE)","v":{"$error":"#N/A"}},{"$f":"T74-HLOOKUP(X74,Feuil1!$C$1:$BL$10,7,FALSE)","v":{"$error":"#N/A"}},{"$f":"T74-HLOOKUP(X74,Feuil1!$C$1:$BL$10,8,FALSE)","v":{"$error":"#N/A"}},{"$f":"T74-HLOOKUP(X74,Feuil1!$C$1:$BL$10,9,FALSE)","v":{"$error":"#N/A"}},{"$f":"T74-HLOOKUP(X74,Feuil1!$C$1:$BL$10,10,FALSE)","v":{"$error":"#N/A"}}]
["F","NE","CHA",1,"274946","GROSJEAN ","Loriane",1997,60.3,"Langres HM","F",50,53,55,{"$f":"IF(H75=\"\",\"\",IF(MAXA(L75:N75)<=0,0,MAXA(L75:N75)))","v":55},60,64,68,{"$f":"IF(H75=\"\",\"\",IF(MAXA(P75:R75)<=0,0,MAXA(P75:R75)))","v":68},{"$f":"IF(H75=\"\",\"\",IF(OR(O75=0,S75=0),0,O75+S75))","v":123},62.7,{"$f":"IF(H75=\"\",\"\",AQ75)","v":"FED +"},{"$f":"IF(AJ75>=0,AJ75,IF(AI75>=0,AI75,IF(AH75>=0,AH75,IF(AG75>=0,AG75,IF(AF75>=0,AF75,IF(AE75>=0,AE75,IF(AD75>=0,AD75,IF(AC75>=0,AC75,AB75))))))))","v":13},{"$f":"IF(I75=\"\",\"\",IF(A75=\"H\",IF(OR(H75=\"SEN\",H75<1995),VLOOKUP(I75,Feuil1!$A$11:$F$29,6),IF(AND(H75>1994,H75<1998),VLOOKUP(I75,Feuil1!$A$11:$F$29,5),IF(AND(H75>1997,H75<2000),VLOOKUP(I75,Feuil1!$A$11:$F$29,4),IF(AND(H75>1999,H75<2002),VLOOKUP(I75,Feuil1!$A$11:$F$29,3),VLOOKUP(I75,Feuil1!$A$11:$F$29,2))))),IF(OR(H75=\"SEN\",H75<1995),VLOOKUP(I75,Feuil1!$G$11:$L$25,6),IF(AND(H75>1994,H75<1998),VLOOKUP(I75,Feuil1!$G$11:$L$25,5),IF(AND(H75>1997,H75<2000),VLOOKUP(I75,Feuil1!$G$11:$L$25,4),IF(AND(H75>1999,H75<2002),VLOOKUP(I75,Feuil1!$G$11:$L$25,3),VLOOKUP(I75,Feuil1!$G$11:$L$25,2)))))))","v":"FJ63"},{"$f":"IF(I75=\"\",\"\",IF(A75=\"H\",10^(0.794358141*LOG(I75/174.393)^2)*T75,IF(A75=\"F\",10^(0.89726074*LOG(I75/148.026)^2)*T75,\"\")))","v":168.4197241198442},null," ",{"$f":"T75-HLOOKUP(X75,Feuil1!$C$1:$BL$10,2,FALSE)","v":58},{"$f":"T75-HLOOKUP(X75,Feuil1!$C$1:$BL$10,3,FALSE)","v":48},{"$f":"T75-HLOOKUP(X75,Feuil1!$C$1:$BL$10,4,FALSE)","v":38},{"$f":"T75-HLOOKUP(X75,Feuil1!$C$1:$BL$10,5,FALSE)","v":28},{"$f":"T75-HLOOKUP(X75,Feuil1!$C$1:$BL$10,6,FALSE)","v":13},{"$f":"T75-HLOOKUP(X75,Feuil1!$C$1:$BL$10,7,FALSE)","v":-2},{"$f":"T75-HLOOKUP(X75,Feuil1!$C$1:$BL$10,8,FALSE)","v":-17},{"$f":"T75-HLOOKUP(X75,Feuil1!$C$1:$BL$10,9,FALSE)","v":-37},{"$f":"T75-HLOOKUP(X75,Feuil1!$C$1:$BL$10,10,FALSE)","v":-877},null,null,null,null,null,null,{"$f":"IF(AJ75>=0,$AJ$4,IF(AI75>=0,$AI$4,IF(AH75>=0,$AH$4,IF(AG75>=0,$AG$4,IF(AF75>=0,$AF$4,IF(AE75>=0,$AE$4,IF(AD75>=0,$AD$4,IF(AC75>=0,$AC$4,$AB$4))))))))","v":"FED +"}]
["F","SO","MPY",2,253453,"JOURNET","Anaïs",1995,62.8,"FIGEAC HC","F",45,-50,50,{"$f":"IF(H76=\"\",\"\",IF(MAXA(L76:N76)<=0,0,MAXA(L76:N76)))","v":50},60,65,70,{"$f":"IF(H76=\"\",\"\",IF(MAXA(P76:R76)<=0,0,MAXA(P76:R76)))","v":70},{"$f":"IF(H76=\"\",\"\",IF(OR(O76=0,S76=0),0,O76+S76))","v":120},57.2,{"$f":"IF(H76=\"\",\"\",AQ76)","v":"FED +"},{"$f":"IF(AJ76>=0,AJ76,IF(AI76>=0,AI76,IF(AH76>=0,AH76,IF(AG76>=0,AG76,IF(AF76>=0,AF76,IF(AE76>=0,AE76,IF(AD76>=0,AD76,IF(AC76>=0,AC76,AB76))))))))","v":10},{"$f":"IF(I76=\"\",\"\",IF(A76=\"H\",IF(OR(H76=\"SEN\",H76<1995),VLOOKUP(I76,Feuil1!$A$11:$F$29,6),IF(AND(H76>1994,H76<1998),VLOOKUP(I76,Feuil1!$A$11:$F$29,5),IF(AND(H76>1997,H76<2000),VLOOKUP(I76,Feuil1!$A$11:$F$29,4),IF(AND(H76>1999,H76<2002),VLOOKUP(I76,Feuil1!$A$11:$F$29,3),VLOOKUP(I76,Feuil1!$A$11:$F$29,2))))),IF(OR(H76=\"SEN\",H76<1995),VLOOKUP(I76,Feuil1!$G$11:$L$25,6),IF(AND(H76>1994,H76<1998),VLOOKUP(I76,Feuil1!$G$11:$L$25,5),IF(AND(H76>1997,H76<2000),VLOOKUP(I76,Feuil1!$G$11:$L$25,4),IF(AND(H76>1999,H76<2002),VLOOKUP(I76,Feuil1!$G$11:$L$25,3),VLOOKUP(I76,Feuil1!$G$11:$L$25,2)))))))","v":"FJ63"},{"$f":"IF(I76=\"\",\"\",IF(A76=\"H\",10^(0.794358141*LOG(I76/174.393)^2)*T76,IF(A76=\"F\",10^(0.89726074*LOG(I76/148.026)^2)*T76,\"\")))","v":159.80872384407496},null," ",{"$f":"T76-HLOOKUP(X76,Feuil1!$C$1:$BL$10,2,FALSE)","v":55},{"$f":"T76-HLOOKUP(X76,Feuil1!$C$1:$BL$10,3,FALSE)","v":45},{"$f":"T76-HLOOKUP(X76,Feuil1!$C$1:$BL$10,4,FALSE)","v":35},{"$f":"T76-HLOOKUP(X76,Feuil1!$C$1:$BL$10,5,FALSE)","v":25},{"$f":"T76-HLOOKUP(X76,Feuil1!$C$1:$BL$10,6,FALSE)","v":10},{"$f":"T76-HLOOKUP(X76,Feuil1!$C$1:$BL$10,7,FALSE)","v":-5},{"$f":"T76-HLOOKUP(X76,Feuil1!$C$1:$BL$10,8,FALSE)","v":-20},{"$f":"T76-HLOOKUP(X76,Feuil1!$C$1:$BL$10,9,FALSE)","v":-40},{"$f":"T76-HLOOKUP(X76,Feuil1!$C$1:$BL$10,10,FALSE)","v":-880},null,null,null,null,null,null,{"$f":"IF(AJ76>=0,$AJ$4,IF(AI76>=0,$AI$4,IF(AH76>=0,$AH$4,IF(AG76>=0,$AG$4,IF(AF76>=0,$AF$4,IF(AE76>=0,$AE$4,IF(AD76>=0,$AD$4,IF(AC76>=0,$AC$4,$AB$4))))))))","v":"FED +"}]
[null,null,null,null,null,null,null,null,null,null,null,null,null,null,null,null,null,null,null,null," ",null,null,null,null,null,null,{"$f":"T77-HLOOKUP(X77,Feuil1!$C$1:$BL$10,2,FALSE)","v":{"$error":"#N/A"}},{"$f":"T77-HLOOKUP(X77,Feuil1!$C$1:$BL$10,3,FALSE)","v":{"$error":"#N/A"}},{"$f":"T77-HLOOKUP(X77,Feuil1!$C$1:$BL$10,4,FALSE)","v":{"$error":"#N/A"}},{"$f":"T77-HLOOKUP(X77,Feuil1!$C$1:$BL$10,5,FALSE)","v":{"$error":"#N/A"}},{"$f":"T77-HLOOKUP(X77,Feuil1!$C$1:$BL$10,6,FALSE)","v":{"$error":"#N/A"}},{"$f":"T77-HLOOKUP(X77,Feuil1!$C$1:$BL$10,7,FALSE)","v":{"$error":"#N/A"}},{"$f":"T77-HLOOKUP(X77,Feuil1!$C$1:$BL$10,8,FALSE)","v":{"$error":"#N/A"}},{"$f":"T77-HLOOKUP(X77,Feuil1!$C$1:$BL$10,9,FALSE)","v":{"$error":"#N/A"}},{"$f":"T77-HLOOKUP(X77,Feuil1!$C$1:$BL$10,10,FALSE)","v":{"$error":"#N/A"}}]
["F","DOM","GUA",1,183203,"GRAVA","Naomi",1996,68.8,"AHCS/Pointois","F",65,70,72,{"$f":"IF(H78=\"\",\"\",IF(MAXA(L78:N78)<=0,0,MAXA(L78:N78)))","v":72},80,85,-89,{"$f":"IF(H78=\"\",\"\",IF(MAXA(P78:R78)<=0,0,MAXA(P78:R78)))","v":85},{"$f":"IF(H78=\"\",\"\",IF(OR(O78=0,S78=0),0,O78+S78))","v":157},{"$f":"T78-I78","v":88.2},{"$f":"IF(H78=\"\",\"\",AQ78)","v":"INTB +"},{"$f":"IF(AJ78>=0,AJ78,IF(AI78>=0,AI78,IF(AH78>=0,AH78,IF(AG78>=0,AG78,IF(AF78>=0,AF78,IF(AE78>=0,AE78,IF(AD78>=0,AD78,IF(AC78>=0,AC78,AB78))))))))","v":7},{"$f":"IF(I78=\"\",\"\",IF(A78=\"H\",IF(OR(H78=\"SEN\",H78<1995),VLOOKUP(I78,Feuil1!$A$11:$F$29,6),IF(AND(H78>1994,H78<1998),VLOOKUP(I78,Feuil1!$A$11:$F$29,5),IF(AND(H78>1997,H78<2000),VLOOKUP(I78,Feuil1!$A$11:$F$29,4),IF(AND(H78>1999,H78<2002),VLOOKUP(I78,Feuil1!$A$11:$F$29,3),VLOOKUP(I78,Feuil1!$A$11:$F$29,2))))),IF(OR(H78=\"SEN\",H78<1995),VLOOKUP(I78,Feuil1!$G$11:$L$25,6),IF(AND(H78>1994,H78<1998),VLOOKUP(I78,Feuil1!$G$11:$L$25,5),IF(AND(H78>1997,H78<2000),VLOOKUP(I78,Feuil1!$G$11:$L$25,4),IF(AND(H78>1999,H78<2002),VLOOKUP(I78,Feuil1!$G$11:$L$25,3),VLOOKUP(I78,Feuil1!$G$11:$L$25,2)))))))","v":"FJ69"},{"$f":"IF(I78=\"\",\"\",IF(A78=\"H\",10^(0.794358141*LOG(I78/174.393)^2)*T78,IF(A78=\"F\",10^(0.89726074*LOG(I78/148.026)^2)*T78,\"\")))","v":197.35421272392091},null," ",{"$f":"T78-HLOOKUP(X78,Feuil1!$C$1:$BL$10,2,FALSE)","v":87},{"$f":"T78-HLOOKUP(X78,Feuil1!$C$1:$BL$10,3,FALSE)","v":77},{"$f":"T78-HLOOKUP(X78,Feuil1!$C$1:$BL$10,4,FALSE)","v":67},{"$f":"T78-HLOOKUP(X78,Feuil1!$C$1:$BL$10,5,FALSE)","v":52},{"$f":"T78-HLOOKUP(X78,Feuil1!$C$1:$BL$10,6,FALSE)","v":37},{"$f":"T78-HLOOKUP(X78,Feuil1!$C$1:$BL$10,7,FALSE)","v":22},{"$f":"T78-HLOOKUP(X78,Feuil1!$C$1:$BL$10,8,FALSE)","v":7},{"$f":"T78-HLOOKUP(X78,Feuil1!$C$1:$BL$10,9,FALSE)","v":-13},{"$f":"T78-HLOOKUP(X78,Feuil1!$C$1:$BL$10,10,FALSE)","v":-843},null,null,null,null,null,null,{"$f":"IF(AJ78>=0,$AJ$4,IF(AI78>=0,$AI$4,IF(AH78>=0,$AH$4,IF(AG78>=0,$AG$4,IF(AF78>=0,$AF$4,IF(AE78>=0,$AE$4,IF(AD78>=0,$AD$4,IF(AC78>=0,$AC$4,$AB$4))))))))","v":"INTB +"}]
["F","SEST","CAZ",2,231757,"RONCO","Emmanuelle",1995,65,"E.S. VILLENEUVE LOUBET","F",51,55,57,{"$f":"IF(H79=\"\",\"\",IF(MAXA(L79:N79)<=0,0,MAXA(L79:N79)))","v":57},60,63,66,{"$f":"IF(H79=\"\",\"\",IF(MAXA(P79:R79)<=0,0,MAXA(P79:R79)))","v":66},{"$f":"IF(H79=\"\",\"\",IF(OR(O79=0,S79=0),0,O79+S79))","v":123},58,{"$f":"IF(H79=\"\",\"\",AQ79)","v":"FED +"},{"$f":"IF(AJ79>=0,AJ79,IF(AI79>=0,AI79,IF(AH79>=0,AH79,IF(AG79>=0,AG79,IF(AF79>=0,AF79,IF(AE79>=0,AE79,IF(AD79>=0,AD79,IF(AC79>=0,AC79,AB79))))))))","v":3},{"$f":"IF(I79=\"\",\"\",IF(A79=\"H\",IF(OR(H79=\"SEN\",H79<1995),VLOOKUP(I79,Feuil1!$A$11:$F$29,6),IF(AND(H79>1994,H79<1998),VLOOKUP(I79,Feuil1!$A$11:$F$29,5),IF(AND(H79>1997,H79<2000),VLOOKUP(I79,Feuil1!$A$11:$F$29,4),IF(AND(H79>1999,H79<2002),VLOOKUP(I79,Feuil1!$A$11:$F$29,3),VLOOKUP(I79,Feuil1!$A$11:$F$29,2))))),IF(OR(H79=\"SEN\",H79<1995),VLOOKUP(I79,Feuil1!$G$11:$L$25,6),IF(AND(H79>1994,H79<1998),VLOOKUP(I79,Feuil1!$G$11:$L$25,5),IF(AND(H79>1997,H79<2000),VLOOKUP(I79,Feuil1!$G$11:$L$25,4),IF(AND(H79>1999,H79<2002),VLOOKUP(I79,Feuil1!$G$11:$L$25,3),VLOOKUP(I79,Feuil1!$G$11:$L$25,2)))))))","v":"FJ69"},{"$f":"IF(I79=\"\",\"\",IF(A79=\"H\",10^(0.794358141*LOG(I79/174.393)^2)*T79,IF(A79=\"F\",10^(0.89726074*LOG(I79/148.026)^2)*T79,\"\")))","v":160.15197727306952},null," ",{"$f":"T79-HLOOKUP(X79,Feuil1!$C$1:$BL$10,2,FALSE)","v":53},{"$f":"T79-HLOOKUP(X79,Feuil1!$C$1:$BL$10,3,FALSE)","v":43},{"$f":"T79-HLOOKUP(X79,Feuil1!$C$1:$BL$10,4,FALSE)","v":33},{"$f":"T79-HLOOKUP(X79,Feuil1!$C$1:$BL$10,5,FALSE)","v":18},{"$f":"T79-HLOOKUP(X79,Feuil1!$C$1:$BL$10,6,FALSE)","v":3},{"$f":"T79-HLOOKUP(X79,Feuil1!$C$1:$BL$10,7,FALSE)","v":-12},{"$f":"T79-HLOOKUP(X79,Feuil1!$C$1:$BL$10,8,FALSE)","v":-27},{"$f":"T79-HLOOKUP(X79,Feuil1!$C$1:$BL$10,9,FALSE)","v":-47},{"$f":"T79-HLOOKUP(X79,Feuil1!$C$1:$BL$10,10,FALSE)","v":-877},null,null,null,null,null,null,{"$f":"IF(AJ79>=0,$AJ$4,IF(AI79>=0,$AI$4,IF(AH79>=0,$AH$4,IF(AG79>=0,$AG$4,IF(AF79>=0,$AF$4,IF(AE79>=0,$AE$4,IF(AD79>=0,$AD$4,IF(AC79>=0,$AC$4,$AB$4))))))))","v":"FED +"}]
[null,null,null,null,null,null,null,null,null,null,null,null,null,null,null,null,null,null,null,null,null,null,null,null,null,null,null,{"$f":"T80-HLOOKUP(X80,Feuil1!$C$1:$BL$10,2,FALSE)","v":{"$error":"#N/A"}},{"$f":"T80-HLOOKUP(X80,Feuil1!$C$1:$BL$10,3,FALSE)","v":{"$error":"#N/A"}},{"$f":"T80-HLOOKUP(X80,Feuil1!$C$1:$BL$10,4,FALSE)","v":{"$error":"#N/A"}},{"$f":"T80-HLOOKUP(X80,Feuil1!$C$1:$BL$10,5,FALSE)","v":{"$error":"#N/A"}},{"$f":"T80-HLOOKUP(X80,Feuil1!$C$1:$BL$10,6,FALSE)","v":{"$error":"#N/A"}},{"$f":"T80-HLOOKUP(X80,Feuil1!$C$1:$BL$10,7,FALSE)","v":{"$error":"#N/A"}},{"$f":"T80-HLOOKUP(X80,Feuil1!$C$1:$BL$10,8,FALSE)","v":{"$error":"#N/A"}},{"$f":"T80-HLOOKUP(X80,Feuil1!$C$1:$BL$10,9,FALSE)","v":{"$error":"#N/A"}},{"$f":"T80-HLOOKUP(X80,Feuil1!$C$1:$BL$10,10,FALSE)","v":{"$error":"#N/A"}}]
["F","DOM","GUA",1,212730,"ROSAN","Kysia",1996,74.7,"AHCS/Pointois","F",60,65,67,{"$f":"IF(H81=\"\",\"\",IF(MAXA(L81:N81)<=0,0,MAXA(L81:N81)))","v":67},80,85,-90,{"$f":"IF(H81=\"\",\"\",IF(MAXA(P81:R81)<=0,0,MAXA(P81:R81)))","v":85},{"$f":"IF(H81=\"\",\"\",IF(OR(O81=0,S81=0),0,O81+S81))","v":152},{"$f":"T81-I81","v":77.3},{"$f":"IF(H81=\"\",\"\",AQ81)","v":"NAT +"},{"$f":"IF(AJ81>=0,AJ81,IF(AI81>=0,AI81,IF(AH81>=0,AH81,IF(AG81>=0,AG81,IF(AF81>=0,AF81,IF(AE81>=0,AE81,IF(AD81>=0,AD81,IF(AC81>=0,AC81,AB81))))))))","v":7},{"$f":"IF(I81=\"\",\"\",IF(A81=\"H\",IF(OR(H81=\"SEN\",H81<1995),VLOOKUP(I81,Feuil1!$A$11:$F$29,6),IF(AND(H81>1994,H81<1998),VLOOKUP(I81,Feuil1!$A$11:$F$29,5),IF(AND(H81>1997,H81<2000),VLOOKUP(I81,Feuil1!$A$11:$F$29,4),IF(AND(H81>1999,H81<2002),VLOOKUP(I81,Feuil1!$A$11:$F$29,3),VLOOKUP(I81,Feuil1!$A$11:$F$29,2))))),IF(OR(H81=\"SEN\",H81<1995),VLOOKUP(I81,Feuil1!$G$11:$L$25,6),IF(AND(H81>1994,H81<1998),VLOOKUP(I81,Feuil1!$G$11:$L$25,5),IF(AND(H81>1997,H81<2000),VLOOKUP(I81,Feuil1!$G$11:$L$25,4),IF(AND(H81>1999,H81<2002),VLOOKUP(I81,Feuil1!$G$11:$L$25,3),VLOOKUP(I81,Feuil1!$G$11:$L$25,2)))))))","v":"FJ75"},{"$f":"IF(I81=\"\",\"\",IF(A81=\"H\",10^(0.794358141*LOG(I81/174.393)^2)*T81,IF(A81=\"F\",10^(0.89726074*LOG(I81/148.026)^2)*T81,\"\")))","v":182.38929118396118},null," ",{"$f":"T81-HLOOKUP(X81,Feuil1!$C$1:$BL$10,2,FALSE)","v":72},{"$f":"T81-HLOOKUP(X81,Feuil1!$C$1:$BL$10,3,FALSE)","v":57},{"$f":"T81-HLOOKUP(X81,Feuil1!$C$1:$BL$10,4,FALSE)","v":47},{"$f":"T81-HLOOKUP(X81,Feuil1!$C$1:$BL$10,5,FALSE)","v":37},{"$f":"T81-HLOOKUP(X81,Feuil1!$C$1:$BL$10,6,FALSE)","v":22},{"$f":"T81-HLOOKUP(X81,Feuil1!$C$1:$BL$10,7,FALSE)","v":7},{"$f":"T81-HLOOKUP(X81,Feuil1!$C$1:$BL$10,8,FALSE)","v":-8},{"$f":"T81-HLOOKUP(X81,Feuil1!$C$1:$BL$10,9,FALSE)","v":-28},{"$f":"T81-HLOOKUP(X81,Feuil1!$C$1:$BL$10,10,FALSE)","v":-848},null,null,null,null,null,null,{"$f":"IF(AJ81>=0,$AJ$4,IF(AI81>=0,$AI$4,IF(AH81>=0,$AH$4,IF(AG81>=0,$AG$4,IF(AF81>=0,$AF$4,IF(AE81>=0,$AE$4,IF(AD81>=0,$AD$4,IF(AC81>=0,$AC$4,$AB$4))))))))","v":"NAT +"}]
[null,null,null,null,null," ",null,null,null,null,null,null,null,null,null,null,null,null,null,null,null,null,null,null,null,null,null,{"$f":"T82-HLOOKUP(X82,Feuil1!$C$1:$BL$10,2,FALSE)","v":{"$error":"#N/A"}},{"$f":"T82-HLOOKUP(X82,Feuil1!$C$1:$BL$10,3,FALSE)","v":{"$error":"#N/A"}},{"$f":"T82-HLOOKUP(X82,Feuil1!$C$1:$BL$10,4,FALSE)","v":{"$error":"#N/A"}},{"$f":"T82-HLOOKUP(X82,Feuil1!$C$1:$BL$10,5,FALSE)","v":{"$error":"#N/A"}},{"$f":"T82-HLOOKUP(X82,Feuil1!$C$1:$BL$10,6,FALSE)","v":{"$error":"#N/A"}},{"$f":"T82-HLOOKUP(X82,Feuil1!$C$1:$BL$10,7,FALSE)","v":{"$error":"#N/A"}},{"$f":"T82-HLOOKUP(X82,Feuil1!$C$1:$BL$10,8,FALSE)","v":{"$error":"#N/A"}},{"$f":"T82-HLOOKUP(X82,Feuil1!$C$1:$BL$10,9,FALSE)","v":{"$error":"#N/A"}},{"$f":"T82-HLOOKUP(X82,Feuil1!$C$1:$BL$10,10,FALSE)","v":{"$error":"#N/A"}}]
["F","NE","BOU",1,"007051","BARDIS","Mélanie",1986,47.7,"Stade Dijonnais HM","F",53,57,60,{"$f":"IF(H83=\"\",\"\",IF(MAXA(L83:N83)<=0,0,MAXA(L83:N83)))","v":60},65,69,72,{"$f":"IF(H83=\"\",\"\",IF(MAXA(P83:R83)<=0,0,MAXA(P83:R83)))","v":72},{"$f":"IF(H83=\"\",\"\",IF(OR(O83=0,S83=0),0,O83+S83))","v":132},{"$f":"T83-I83","v":84.3},{"$f":"IF(H83=\"\",\"\",AQ83)","v":"INTB +"},{"$f":"IF(AJ83>=0,AJ83,IF(AI83>=0,AI83,IF(AH83>=0,AH83,IF(AG83>=0,AG83,IF(AF83>=0,AF83,IF(AE83>=0,AE83,IF(AD83>=0,AD83,IF(AC83>=0,AC83,AB83))))))))","v":7},{"$f":"IF(I83=\"\",\"\",IF(A83=\"H\",IF(OR(H83=\"SEN\",H83<1995),VLOOKUP(I83,Feuil1!$A$11:$F$29,6),IF(AND(H83>1994,H83<1998),VLOOKUP(I83,Feuil1!$A$11:$F$29,5),IF(AND(H83>1997,H83<2000),VLOOKUP(I83,Feuil1!$A$11:$F$29,4),IF(AND(H83>1999,H83<2002),VLOOKUP(I83,Feuil1!$A$11:$F$29,3),VLOOKUP(I83,Feuil1!$A$11:$F$29,2))))),IF(OR(H83=\"SEN\",H83<1995),VLOOKUP(I83,Feuil1!$G$11:$L$25,6),IF(AND(H83>1994,H83<1998),VLOOKUP(I83,Feuil1!$G$11:$L$25,5),IF(AND(H83>1997,H83<2000),VLOOKUP(I83,Feuil1!$G$11:$L$25,4),IF(AND(H83>1999,H83<2002),VLOOKUP(I83,Feuil1!$G$11:$L$25,3),VLOOKUP(I83,Feuil1!$G$11:$L$25,2)))))))","v":"FS48"},{"$f":"IF(I83=\"\",\"\",IF(A83=\"H\",10^(0.794358141*LOG(I83/174.393)^2)*T83,IF(A83=\"F\",10^(0.89726074*LOG(I83/148.026)^2)*T83,\"\")))","v":217.57511910110728},null," ",{"$f":"T83-HLOOKUP(X83,Feuil1!$C$1:$BL$10,2,FALSE)","v":77},{"$f":"T83-HLOOKUP(X83,Feuil1!$C$1:$BL$10,3,FALSE)","v":67},{"$f":"T83-HLOOKUP(X83,Feuil1!$C$1:$BL$10,4,FALSE)","v":57},{"$f":"T83-HLOOKUP(X83,Feuil1!$C$1:$BL$10,5,FALSE)","v":47},{"$f":"T83-HLOOKUP(X83,Feuil1!$C$1:$BL$10,6,FALSE)","v":37},{"$f":"T83-HLOOKUP(X83,Feuil1!$C$1:$BL$10,7,FALSE)","v":22},{"$f":"T83-HLOOKUP(X83,Feuil1!$C$1:$BL$10,8,FALSE)","v":7},{"$f":"T83-HLOOKUP(X83,Feuil1!$C$1:$BL$10,9,FALSE)","v":-8},{"$f":"T83-HLOOKUP(X83,Feuil1!$C$1:$BL$10,10,FALSE)","v":-23},null,null,null,null,null,null,{"$f":"IF(AJ83>=0,$AJ$4,IF(AI83>=0,$AI$4,IF(AH83>=0,$AH$4,IF(AG83>=0,$AG$4,IF(AF83>=0,$AF$4,IF(AE83>=0,$AE$4,IF(AD83>=0,$AD$4,IF(AC83>=0,$AC$4,$AB$4))))))))","v":"INTB +"}]
["F","SEST","RAL",2,21779,"LYAUDET","Chrystel",1972,47.1,"H.C. OYONNAX","F",-43,43,45,{"$f":"IF(H84=\"\",\"\",IF(MAXA(L84:N84)<=0,0,MAXA(L84:N84)))","v":45},55,57,-59,{"$f":"IF(H84=\"\",\"\",IF(MAXA(P84:R84)<=0,0,MAXA(P84:R84)))","v":57},{"$f":"IF(H84=\"\",\"\",IF(OR(O84=0,S84=0),0,O84+S84))","v":102},54.9,{"$f":"IF(H84=\"\",\"\",AQ84)","v":"FED +"},{"$f":"IF(AJ84>=0,AJ84,IF(AI84>=0,AI84,IF(AH84>=0,AH84,IF(AG84>=0,AG84,IF(AF84>=0,AF84,IF(AE84>=0,AE84,IF(AD84>=0,AD84,IF(AC84>=0,AC84,AB84))))))))","v":7},{"$f":"IF(I84=\"\",\"\",IF(A84=\"H\",IF(OR(H84=\"SEN\",H84<1995),VLOOKUP(I84,Feuil1!$A$11:$F$29,6),IF(AND(H84>1994,H84<1998),VLOOKUP(I84,Feuil1!$A$11:$F$29,5),IF(AND(H84>1997,H84<2000),VLOOKUP(I84,Feuil1!$A$11:$F$29,4),IF(AND(H84>1999,H84<2002),VLOOKUP(I84,Feuil1!$A$11:$F$29,3),VLOOKUP(I84,Feuil1!$A$11:$F$29,2))))),IF(OR(H84=\"SEN\",H84<1995),VLOOKUP(I84,Feuil1!$G$11:$L$25,6),IF(AND(H84>1994,H84<1998),VLOOKUP(I84,Feuil1!$G$11:$L$25,5),IF(AND(H84>1997,H84<2000),VLOOKUP(I84,Feuil1!$G$11:$L$25,4),IF(AND(H84>1999,H84<2002),VLOOKUP(I84,Feuil1!$G$11:$L$25,3),VLOOKUP(I84,Feuil1!$G$11:$L$25,2)))))))","v":"FS48"},{"$f":"IF(I84=\"\",\"\",IF(A84=\"H\",10^(0.794358141*LOG(I84/174.393)^2)*T84,IF(A84=\"F\",10^(0.89726074*LOG(I84/148.026)^2)*T84,\"\")))","v":170.02569207349907},null," ",{"$f":"T84-HLOOKUP(X84,Feuil1!$C$1:$BL$10,2,FALSE)","v":47},{"$f":"T84-HLOOKUP(X84,Feuil1!$C$1:$BL$10,3,FALSE)","v":37},{"$f":"T84-HLOOKUP(X84,Feuil1!$C$1:$BL$10,4,FALSE)","v":27},{"$f":"T84-HLOOKUP(X84,Feuil1!$C$1:$BL$10,5,FALSE)","v":17},{"$f":"T84-HLOOKUP(X84,Feuil1!$C$1:$BL$10,6,FALSE)","v":7},{"$f":"T84-HLOOKUP(X84,Feuil1!$C$1:$BL$10,7,FALSE)","v":-8},{"$f":"T84-HLOOKUP(X84,Feuil1!$C$1:$BL$10,8,FALSE)","v":-23},{"$f":"T84-HLOOKUP(X84,Feuil1!$C$1:$BL$10,9,FALSE)","v":-38},{"$f":"T84-HLOOKUP(X84,Feuil1!$C$1:$BL$10,10,FALSE)","v":-53},null,null,null,null,null,null,{"$f":"IF(AJ84>=0,$AJ$4,IF(AI84>=0,$AI$4,IF(AH84>=0,$AH$4,IF(AG84>=0,$AG$4,IF(AF84>=0,$AF$4,IF(AE84>=0,$AE$4,IF(AD84>=0,$AD$4,IF(AC84>=0,$AC$4,$AB$4))))))))","v":"FED +"}]
["F","Nord","NPC",3,368810,"CRET","Crinuta",1989,48,"CA Rosendael","Rou",-47,47,-50,{"$f":"IF(H85=\"\",\"\",IF(MAXA(L85:N85)<=0,0,MAXA(L85:N85)))","v":47},50,54,-58,{"$f":"IF(H85=\"\",\"\",IF(MAXA(P85:R85)<=0,0,MAXA(P85:R85)))","v":54},{"$f":"IF(H85=\"\",\"\",IF(OR(O85=0,S85=0),0,O85+S85))","v":101},53,{"$f":"IF(H85=\"\",\"\",AQ85)","v":"FED +"},{"$f":"IF(AJ85>=0,AJ85,IF(AI85>=0,AI85,IF(AH85>=0,AH85,IF(AG85>=0,AG85,IF(AF85>=0,AF85,IF(AE85>=0,AE85,IF(AD85>=0,AD85,IF(AC85>=0,AC85,AB85))))))))","v":6},{"$f":"IF(I85=\"\",\"\",IF(A85=\"H\",IF(OR(H85=\"SEN\",H85<1995),VLOOKUP(I85,Feuil1!$A$11:$F$29,6),IF(AND(H85>1994,H85<1998),VLOOKUP(I85,Feuil1!$A$11:$F$29,5),IF(AND(H85>1997,H85<2000),VLOOKUP(I85,Feuil1!$A$11:$F$29,4),IF(AND(H85>1999,H85<2002),VLOOKUP(I85,Feuil1!$A$11:$F$29,3),VLOOKUP(I85,Feuil1!$A$11:$F$29,2))))),IF(OR(H85=\"SEN\",H85<1995),VLOOKUP(I85,Feuil1!$G$11:$L$25,6),IF(AND(H85>1994,H85<1998),VLOOKUP(I85,Feuil1!$G$11:$L$25,5),IF(AND(H85>1997,H85<2000),VLOOKUP(I85,Feuil1!$G$11:$L$25,4),IF(AND(H85>1999,H85<2002),VLOOKUP(I85,Feuil1!$G$11:$L$25,3),VLOOKUP(I85,Feuil1!$G$11:$L$25,2)))))))","v":"FS48"},{"$f":"IF(I85=\"\",\"\",IF(A85=\"H\",10^(0.794358141*LOG(I85/174.393)^2)*T85,IF(A85=\"F\",10^(0.89726074*LOG(I85/148.026)^2)*T85,\"\")))","v":165.56181624551851},null," ",{"$f":"T85-HLOOKUP(X85,Feuil1!$C$1:$BL$10,2,FALSE)","v":46},{"$f":"T85-HLOOKUP(X85,Feuil1!$C$1:$BL$10,3,FALSE)","v":36},{"$f":"T85-HLOOKUP(X85,Feuil1!$C$1:$BL$10,4,FALSE)","v":26},{"$f":"T85-HLOOKUP(X85,Feuil1!$C$1:$BL$10,5,FALSE)","v":16},{"$f":"T85-HLOOKUP(X85,Feuil1!$C$1:$BL$10,6,FALSE)","v":6},{"$f":"T85-HLOOKUP(X85,Feuil1!$C$1:$BL$10,7,FALSE)","v":-9},{"$f":"T85-HLOOKUP(X85,Feuil1!$C$1:$BL$10,8,FALSE)","v":-24},{"$f":"T85-HLOOKUP(X85,Feuil1!$C$1:$BL$10,9,FALSE)","v":-39},{"$f":"T85-HLOOKUP(X85,Feuil1!$C$1:$BL$10,10,FALSE)","v":-54},null,null,null,null,null,null,{"$f":"IF(AJ85>=0,$AJ$4,IF(AI85>=0,$AI$4,IF(AH85>=0,$AH$4,IF(AG85>=0,$AG$4,IF(AF85>=0,$AF$4,IF(AE85>=0,$AE$4,IF(AD85>=0,$AD$4,IF(AC85>=0,$AC$4,$AB$4))))))))","v":"FED +"}]
["F","ZCO","BRE",4,270512,"SAYAH","Nadia",1965,47.33,"Caen CHM","F",38,40,42,{"$f":"IF(H86=\"\",\"\",IF(MAXA(L86:N86)<=0,0,MAXA(L86:N86)))","v":42},45,48,-50,{"$f":"IF(H86=\"\",\"\",IF(MAXA(P86:R86)<=0,0,MAXA(P86:R86)))","v":48},{"$f":"IF(H86=\"\",\"\",IF(OR(O86=0,S86=0),0,O86+S86))","v":90},42.67,{"$f":"IF(H86=\"\",\"\",AQ86)","v":"IRG +"},{"$f":"IF(AJ86>=0,AJ86,IF(AI86>=0,AI86,IF(AH86>=0,AH86,IF(AG86>=0,AG86,IF(AF86>=0,AF86,IF(AE86>=0,AE86,IF(AD86>=0,AD86,IF(AC86>=0,AC86,AB86))))))))","v":5},{"$f":"IF(I86=\"\",\"\",IF(A86=\"H\",IF(OR(H86=\"SEN\",H86<1995),VLOOKUP(I86,Feuil1!$A$11:$F$29,6),IF(AND(H86>1994,H86<1998),VLOOKUP(I86,Feuil1!$A$11:$F$29,5),IF(AND(H86>1997,H86<2000),VLOOKUP(I86,Feuil1!$A$11:$F$29,4),IF(AND(H86>1999,H86<2002),VLOOKUP(I86,Feuil1!$A$11:$F$29,3),VLOOKUP(I86,Feuil1!$A$11:$F$29,2))))),IF(OR(H86=\"SEN\",H86<1995),VLOOKUP(I86,Feuil1!$G$11:$L$25,6),IF(AND(H86>1994,H86<1998),VLOOKUP(I86,Feuil1!$G$11:$L$25,5),IF(AND(H86>1997,H86<2000),VLOOKUP(I86,Feuil1!$G$11:$L$25,4),IF(AND(H86>1999,H86<2002),VLOOKUP(I86,Feuil1!$G$11:$L$25,3),VLOOKUP(I86,Feuil1!$G$11:$L$25,2)))))))","v":"FS48"},{"$f":"IF(I86=\"\",\"\",IF(A86=\"H\",10^(0.794358141*LOG(I86/174.393)^2)*T86,IF(A86=\"F\",10^(0.89726074*LOG(I86/148.026)^2)*T86,\"\")))","v":149.3732561033857},null," ",{"$f":"T86-HLOOKUP(X86,Feuil1!$C$1:$BL$10,2,FALSE)","v":35},{"$f":"T86-HLOOKUP(X86,Feuil1!$C$1:$BL$10,3,FALSE)","v":25},{"$f":"T86-HLOOKUP(X86,Feuil1!$C$1:$BL$10,4,FALSE)","v":15},{"$f":"T86-HLOOKUP(X86,Feuil1!$C$1:$BL$10,5,FALSE)","v":5},{"$f":"T86-HLOOKUP(X86,Feuil1!$C$1:$BL$10,6,FALSE)","v":-5},{"$f":"T86-HLOOKUP(X86,Feuil1!$C$1:$BL$10,7,FALSE)","v":-20},{"$f":"T86-HLOOKUP(X86,Feuil1!$C$1:$BL$10,8,FALSE)","v":-35},{"$f":"T86-HLOOKUP(X86,Feuil1!$C$1:$BL$10,9,FALSE)","v":-50},{"$f":"T86-HLOOKUP(X86,Feuil1!$C$1:$BL$10,10,FALSE)","v":-65},null,null,null,null,null,null,{"$f":"IF(AJ86>=0,$AJ$4,IF(AI86>=0,$AI$4,IF(AH86>=0,$AH$4,IF(AG86>=0,$AG$4,IF(AF86>=0,$AF$4,IF(AE86>=0,$AE$4,IF(AD86>=0,$AD$4,IF(AC86>=0,$AC$4,$AB$4))))))))","v":"IRG +"}]
[null,null,null,null,null,null,null,null,null,null,null,null,null,null,null,null,null,null,null,null," ",null,null,null,null,null,null,{"$f":"T87-HLOOKUP(X87,Feuil1!$C$1:$BL$10,2,FALSE)","v":{"$error":"#N/A"}},{"$f":"T87-HLOOKUP(X87,Feuil1!$C$1:$BL$10,3,FALSE)","v":{"$error":"#N/A"}},{"$f":"T87-HLOOKUP(X87,Feuil1!$C$1:$BL$10,4,FALSE)","v":{"$error":"#N/A"}},{"$f":"T87-HLOOKUP(X87,Feuil1!$C$1:$BL$10,5,FALSE)","v":{"$error":"#N/A"}},{"$f":"T87-HLOOKUP(X87,Feuil1!$C$1:$BL$10,6,FALSE)","v":{"$error":"#N/A"}},{"$f":"T87-HLOOKUP(X87,Feuil1!$C$1:$BL$10,7,FALSE)","v":{"$error":"#N/A"}},{"$f":"T87-HLOOKUP(X87,Feuil1!$C$1:$BL$10,8,FALSE)","v":{"$error":"#N/A"}},{"$f":"T87-HLOOKUP(X87,Feuil1!$C$1:$BL$10,9,FALSE)","v":{"$error":"#N/A"}},{"$f":"T87-HLOOKUP(X87,Feuil1!$C$1:$BL$10,10,FALSE)","v":{"$error":"#N/A"}}]
["F","Nord","NPC",1,250225,"PLANCQ","Déborah",1993,52.2,"CA Rosendael","F",57,60,63,{"$f":"IF(H88=\"\",\"\",IF(MAXA(L88:N88)<=0,0,MAXA(L88:N88)))","v":63},73,77,80,{"$f":"IF(H88=\"\",\"\",IF(MAXA(P88:R88)<=0,0,MAXA(P88:R88)))","v":80},{"$f":"IF(H88=\"\",\"\",IF(OR(O88=0,S88=0),0,O88+S88))","v":143},90.8,{"$f":"IF(H88=\"\",\"\",AQ88)","v":"INTB +"},{"$f":"IF(AJ88>=0,AJ88,IF(AI88>=0,AI88,IF(AH88>=0,AH88,IF(AG88>=0,AG88,IF(AF88>=0,AF88,IF(AE88>=0,AE88,IF(AD88>=0,AD88,IF(AC88>=0,AC88,AB88))))))))","v":3},{"$f":"IF(I88=\"\",\"\",IF(A88=\"H\",IF(OR(H88=\"SEN\",H88<1995),VLOOKUP(I88,Feuil1!$A$11:$F$29,6),IF(AND(H88>1994,H88<1998),VLOOKUP(I88,Feuil1!$A$11:$F$29,5),IF(AND(H88>1997,H88<2000),VLOOKUP(I88,Feuil1!$A$11:$F$29,4),IF(AND(H88>1999,H88<2002),VLOOKUP(I88,Feuil1!$A$11:$F$29,3),VLOOKUP(I88,Feuil1!$A$11:$F$29,2))))),IF(OR(H88=\"SEN\",H88<1995),VLOOKUP(I88,Feuil1!$G$11:$L$25,6),IF(AND(H88>1994,H88<1998),VLOOKUP(I88,Feuil1!$G$11:$L$25,5),IF(AND(H88>1997,H88<2000),VLOOKUP(I88,Feuil1!$G$11:$L$25,4),IF(AND(H88>1999,H88<2002),VLOOKUP(I88,Feuil1!$G$11:$L$25,3),VLOOKUP(I88,Feuil1!$G$11:$L$25,2)))))))","v":"FS53"},{"$f":"IF(I88=\"\",\"\",IF(A88=\"H\",10^(0.794358141*LOG(I88/174.393)^2)*T88,IF(A88=\"F\",10^(0.89726074*LOG(I88/148.026)^2)*T88,\"\")))","v":218.36942024906929},null," ",{"$f":"T88-HLOOKUP(X88,Feuil1!$C$1:$BL$10,2,FALSE)","v":78},{"$f":"T88-HLOOKUP(X88,Feuil1!$C$1:$BL$10,3,FALSE)","v":68},{"$f":"T88-HLOOKUP(X88,Feuil1!$C$1:$BL$10,4,FALSE)","v":58},{"$f":"T88-HLOOKUP(X88,Feuil1!$C$1:$BL$10,5,FALSE)","v":48},{"$f":"T88-HLOOKUP(X88,Feuil1!$C$1:$BL$10,6,FALSE)","v":38},{"$f":"T88-HLOOKUP(X88,Feuil1!$C$1:$BL$10,7,FALSE)","v":23},{"$f":"T88-HLOOKUP(X88,Feuil1!$C$1:$BL$10,8,FALSE)","v":3},{"$f":"T88-HLOOKUP(X88,Feuil1!$C$1:$BL$10,9,FALSE)","v":-17},{"$f":"T88-HLOOKUP(X88,Feuil1!$C$1:$BL$10,10,FALSE)","v":-32},null,null,null,null,null,null,{"$f":"IF(AJ88>=0,$AJ$4,IF(AI88>=0,$AI$4,IF(AH88>=0,$AH$4,IF(AG88>=0,$AG$4,IF(AF88>=0,$AF$4,IF(AE88>=0,$AE$4,IF(AD88>=0,$AD$4,IF(AC88>=0,$AC$4,$AB$4))))))))","v":"INTB +"}]
["F","SEST","RAL",2,79011,"BAILLET","Florence",1990,48.4,"H.C. ST BALDOPH","F",53,56,59,59,71,75,-78,75,134,85.6,"NAT +",14,{"$f":"IF(I89=\"\",\"\",IF(A89=\"H\",IF(OR(H89=\"SEN\",H89<1995),VLOOKUP(I89,Feuil1!$A$11:$F$29,6),IF(AND(H89>1994,H89<1998),VLOOKUP(I89,Feuil1!$A$11:$F$29,5),IF(AND(H89>1997,H89<2000),VLOOKUP(I89,Feuil1!$A$11:$F$29,4),IF(AND(H89>1999,H89<2002),VLOOKUP(I89,Feuil1!$A$11:$F$29,3),VLOOKUP(I89,Feuil1!$A$11:$F$29,2))))),IF(OR(H89=\"SEN\",H89<1995),VLOOKUP(I89,Feuil1!$G$11:$L$25,6),IF(AND(H89>1994,H89<1998),VLOOKUP(I89,Feuil1!$G$11:$L$25,5),IF(AND(H89>1997,H89<2000),VLOOKUP(I89,Feuil1!$G$11:$L$25,4),IF(AND(H89>1999,H89<2002),VLOOKUP(I89,Feuil1!$G$11:$L$25,3),VLOOKUP(I89,Feuil1!$G$11:$L$25,2)))))))","v":"FS53"},218.06800035507709,null," ",{"$f":"T89-HLOOKUP(X89,Feuil1!$C$1:$BL$10,2,FALSE)","v":69},{"$f":"T89-HLOOKUP(X89,Feuil1!$C$1:$BL$10,3,FALSE)","v":59},{"$f":"T89-HLOOKUP(X89,Feuil1!$C$1:$BL$10,4,FALSE)","v":49},{"$f":"T89-HLOOKUP(X89,Feuil1!$C$1:$BL$10,5,FALSE)","v":39},{"$f":"T89-HLOOKUP(X89,Feuil1!$C$1:$BL$10,6,FALSE)","v":29},{"$f":"T89-HLOOKUP(X89,Feuil1!$C$1:$BL$10,7,FALSE)","v":14},{"$f":"T89-HLOOKUP(X89,Feuil1!$C$1:$BL$10,8,FALSE)","v":-6},{"$f":"T89-HLOOKUP(X89,Feuil1!$C$1:$BL$10,9,FALSE)","v":-26},{"$f":"T89-HLOOKUP(X89,Feuil1!$C$1:$BL$10,10,FALSE)","v":-41},null,null,null,null,null,null,"NAT +"]
["F","ZCO","BNO",3,32998,"FLEURY","Laura",1988,52.7,"Caen CHM","F",53,55,57,57,63,66,68,68,125,72.3,"NAT +",5,{"$f":"IF(I90=\"\",\"\",IF(A90=\"H\",IF(OR(H90=\"SEN\",H90<1995),VLOOKUP(I90,Feuil1!$A$11:$F$29,6),IF(AND(H90>1994,H90<1998),VLOOKUP(I90,Feuil1!$A$11:$F$29,5),IF(AND(H90>1997,H90<2000),VLOOKUP(I90,Feuil1!$A$11:$F$29,4),IF(AND(H90>1999,H90<2002),VLOOKUP(I90,Feuil1!$A$11:$F$29,3),VLOOKUP(I90,Feuil1!$A$11:$F$29,2))))),IF(OR(H90=\"SEN\",H90<1995),VLOOKUP(I90,Feuil1!$G$11:$L$25,6),IF(AND(H90>1994,H90<1998),VLOOKUP(I90,Feuil1!$G$11:$L$25,5),IF(AND(H90>1997,H90<2000),VLOOKUP(I90,Feuil1!$G$11:$L$25,4),IF(AND(H90>1999,H90<2002),VLOOKUP(I90,Feuil1!$G$11:$L$25,3),VLOOKUP(I90,Feuil1!$G$11:$L$25,2)))))))","v":"FS53"},189.41661611584902,null," ",{"$f":"T90-HLOOKUP(X90,Feuil1!$C$1:$BL$10,2,FALSE)","v":60},{"$f":"T90-HLOOKUP(X90,Feuil1!$C$1:$BL$10,3,FALSE)","v":50},{"$f":"T90-HLOOKUP(X90,Feuil1!$C$1:$BL$10,4,FALSE)","v":40},{"$f":"T90-HLOOKUP(X90,Feuil1!$C$1:$BL$10,5,FALSE)","v":30},{"$f":"T90-HLOOKUP(X90,Feuil1!$C$1:$BL$10,6,FALSE)","v":20},{"$f":"T90-HLOOKUP(X90,Feuil1!$C$1:$BL$10,7,FALSE)","v":5},{"$f":"T90-HLOOKUP(X90,Feuil1!$C$1:$BL$10,8,FALSE)","v":-15},{"$f":"T90-HLOOKUP(X90,Feuil1!$C$1:$BL$10,9,FALSE)","v":-35},{"$f":"T90-HLOOKUP(X90,Feuil1!$C$1:$BL$10,10,FALSE)","v":-50},null,null,null,null,null,null,"NAT +"]
["F","SEST","CAZ",4,31729,"DRAGO ","Sylvie",1982,50.6,"ASLDD. TOULON","F",51,53,-55,53,67,-70,-70,67,120,69.400000000000006,"NAT +",0,{"$f":"IF(I91=\"\",\"\",IF(A91=\"H\",IF(OR(H91=\"SEN\",H91<1995),VLOOKUP(I91,Feuil1!$A$11:$F$29,6),IF(AND(H91>1994,H91<1998),VLOOKUP(I91,Feuil1!$A$11:$F$29,5),IF(AND(H91>1997,H91<2000),VLOOKUP(I91,Feuil1!$A$11:$F$29,4),IF(AND(H91>1999,H91<2002),VLOOKUP(I91,Feuil1!$A$11:$F$29,3),VLOOKUP(I91,Feuil1!$A$11:$F$29,2))))),IF(OR(H91=\"SEN\",H91<1995),VLOOKUP(I91,Feuil1!$G$11:$L$25,6),IF(AND(H91>1994,H91<1998),VLOOKUP(I91,Feuil1!$G$11:$L$25,5),IF(AND(H91>1997,H91<2000),VLOOKUP(I91,Feuil1!$G$11:$L$25,4),IF(AND(H91>1999,H91<2002),VLOOKUP(I91,Feuil1!$G$11:$L$25,3),VLOOKUP(I91,Feuil1!$G$11:$L$25,2)))))))","v":"FS53"},188.01115445287022,null," ",{"$f":"T91-HLOOKUP(X91,Feuil1!$C$1:$BL$10,2,FALSE)","v":55},{"$f":"T91-HLOOKUP(X91,Feuil1!$C$1:$BL$10,3,FALSE)","v":45},{"$f":"T91-HLOOKUP(X91,Feuil1!$C$1:$BL$10,4,FALSE)","v":35},{"$f":"T91-HLOOKUP(X91,Feuil1!$C$1:$BL$10,5,FALSE)","v":25},{"$f":"T91-HLOOKUP(X91,Feuil1!$C$1:$BL$10,6,FALSE)","v":15},{"$f":"T91-HLOOKUP(X91,Feuil1!$C$1:$BL$10,7,FALSE)","v":0},{"$f":"T91-HLOOKUP(X91,Feuil1!$C$1:$BL$10,8,FALSE)","v":-20},{"$f":"T91-HLOOKUP(X91,Feuil1!$C$1:$BL$10,9,FALSE)","v":-40},{"$f":"T91-HLOOKUP(X91,Feuil1!$C$1:$BL$10,10,FALSE)","v":-55},null,null,null,null,null,null,"NAT +"]
["F","ZCO","BRE",5,1312,"LE GUENNEC","Isabelle",1972,52.41,"Vannes AC","F",48,50,52,52,58,60,63,63,115,62.59,"FED +",10,{"$f":"IF(I92=\"\",\"\",IF(A92=\"H\",IF(OR(H92=\"SEN\",H92<1995),VLOOKUP(I92,Feuil1!$A$11:$F$29,6),IF(AND(H92>1994,H92<1998),VLOOKUP(I92,Feuil1!$A$11:$F$29,5),IF(AND(H92>1997,H92<2000),VLOOKUP(I92,Feuil1!$A$11:$F$29,4),IF(AND(H92>1999,H92<2002),VLOOKUP(I92,Feuil1!$A$11:$F$29,3),VLOOKUP(I92,Feuil1!$A$11:$F$29,2))))),IF(OR(H92=\"SEN\",H92<1995),VLOOKUP(I92,Feuil1!$G$11:$L$25,6),IF(AND(H92>1994,H92<1998),VLOOKUP(I92,Feuil1!$G$11:$L$25,5),IF(AND(H92>1997,H92<2000),VLOOKUP(I92,Feuil1!$G$11:$L$25,4),IF(AND(H92>1999,H92<2002),VLOOKUP(I92,Feuil1!$G$11:$L$25,3),VLOOKUP(I92,Feuil1!$G$11:$L$25,2)))))))","v":"FS53"},175.04106298531622,null," ",{"$f":"T92-HLOOKUP(X92,Feuil1!$C$1:$BL$10,2,FALSE)","v":50},{"$f":"T92-HLOOKUP(X92,Feuil1!$C$1:$BL$10,3,FALSE)","v":40},{"$f":"T92-HLOOKUP(X92,Feuil1!$C$1:$BL$10,4,FALSE)","v":30},{"$f":"T92-HLOOKUP(X92,Feuil1!$C$1:$BL$10,5,FALSE)","v":20},{"$f":"T92-HLOOKUP(X92,Feuil1!$C$1:$BL$10,6,FALSE)","v":10},{"$f":"T92-HLOOKUP(X92,Feuil1!$C$1:$BL$10,7,FALSE)","v":-5},{"$f":"T92-HLOOKUP(X92,Feuil1!$C$1:$BL$10,8,FALSE)","v":-25},{"$f":"T92-HLOOKUP(X92,Feuil1!$C$1:$BL$10,9,FALSE)","v":-45},{"$f":"T92-HLOOKUP(X92,Feuil1!$C$1:$BL$10,10,FALSE)","v":-60},null,null,null,null,null,null,"FED +"]
["F","NE","ALS",6,25608,"WITKOWSKI","Dagmar",1958,53,"ASPTT Strasbourg","F",43,46,49,49,53,56,-58,56,105,52,"FED +",0,{"$f":"IF(I93=\"\",\"\",IF(A93=\"H\",IF(OR(H93=\"SEN\",H93<1995),VLOOKUP(I93,Feuil1!$A$11:$F$29,6),IF(AND(H93>1994,H93<1998),VLOOKUP(I93,Feuil1!$A$11:$F$29,5),IF(AND(H93>1997,H93<2000),VLOOKUP(I93,Feuil1!$A$11:$F$29,4),IF(AND(H93>1999,H93<2002),VLOOKUP(I93,Feuil1!$A$11:$F$29,3),VLOOKUP(I93,Feuil1!$A$11:$F$29,2))))),IF(OR(H93=\"SEN\",H93<1995),VLOOKUP(I93,Feuil1!$G$11:$L$25,6),IF(AND(H93>1994,H93<1998),VLOOKUP(I93,Feuil1!$G$11:$L$25,5),IF(AND(H93>1997,H93<2000),VLOOKUP(I93,Feuil1!$G$11:$L$25,4),IF(AND(H93>1999,H93<2002),VLOOKUP(I93,Feuil1!$G$11:$L$25,3),VLOOKUP(I93,Feuil1!$G$11:$L$25,2)))))))","v":"FS53"},158.38664127023276,null," ",{"$f":"T93-HLOOKUP(X93,Feuil1!$C$1:$BL$10,2,FALSE)","v":40},{"$f":"T93-HLOOKUP(X93,Feuil1!$C$1:$BL$10,3,FALSE)","v":30},{"$f":"T93-HLOOKUP(X93,Feuil1!$C$1:$BL$10,4,FALSE)","v":20},{"$f":"T93-HLOOKUP(X93,Feuil1!$C$1:$BL$10,5,FALSE)","v":10},{"$f":"T93-HLOOKUP(X93,Feuil1!$C$1:$BL$10,6,FALSE)","v":0},{"$f":"T93-HLOOKUP(X93,Feuil1!$C$1:$BL$10,7,FALSE)","v":-15},{"$f":"T93-HLOOKUP(X93,Feuil1!$C$1:$BL$10,8,FALSE)","v":-35},{"$f":"T93-HLOOKUP(X93,Feuil1!$C$1:$BL$10,9,FALSE)","v":-55},{"$f":"T93-HLOOKUP(X93,Feuil1!$C$1:$BL$10,10,FALSE)","v":-70},null,null,null,null,null,null,"FED +"]
[null,null,null,null,null,null,null,null,null,null,null,null,null,null,null,null,null,null,null,null," ",null,null,null,null,null,null,{"$f":"T94-HLOOKUP(X94,Feuil1!$C$1:$BL$10,2,FALSE)","v":{"$error":"#N/A"}},{"$f":"T94-HLOOKUP(X94,Feuil1!$C$1:$BL$10,3,FALSE)","v":{"$error":"#N/A"}},{"$f":"T94-HLOOKUP(X94,Feuil1!$C$1:$BL$10,4,FALSE)","v":{"$error":"#N/A"}},{"$f":"T94-HLOOKUP(X94,Feuil1!$C$1:$BL$10,5,FALSE)","v":{"$error":"#N/A"}},{"$f":"T94-HLOOKUP(X94,Feuil1!$C$1:$BL$10,6,FALSE)","v":{"$error":"#N/A"}},{"$f":"T94-HLOOKUP(X94,Feuil1!$C$1:$BL$10,7,FALSE)","v":{"$error":"#N/A"}},{"$f":"T94-HLOOKUP(X94,Feuil1!$C$1:$BL$10,8,FALSE)","v":{"$error":"#N/A"}},{"$f":"T94-HLOOKUP(X94,Feuil1!$C$1:$BL$10,9,FALSE)","v":{"$error":"#N/A"}},{"$f":"T94-HLOOKUP(X94,Feuil1!$C$1:$BL$10,10,FALSE)","v":{"$error":"#N/A"}}]
["F","SO","MPY",1,264816,"LABRUNIE","Elise",1988,56.9,"TOULOUSE HC","F",69,73,76,{"$f":"IF(H95=\"\",\"\",IF(MAXA(L95:N95)<=0,0,MAXA(L95:N95)))","v":76},88,92,94,{"$f":"IF(H95=\"\",\"\",IF(MAXA(P95:R95)<=0,0,MAXA(P95:R95)))","v":94},{"$f":"IF(H95=\"\",\"\",IF(OR(O95=0,S95=0),0,O95+S95))","v":170},113.1,{"$f":"IF(H95=\"\",\"\",AQ95)","v":"INTA +"},{"$f":"IF(AJ95>=0,AJ95,IF(AI95>=0,AI95,IF(AH95>=0,AH95,IF(AG95>=0,AG95,IF(AF95>=0,AF95,IF(AE95>=0,AE95,IF(AD95>=0,AD95,IF(AC95>=0,AC95,AB95))))))))","v":0},{"$f":"IF(I95=\"\",\"\",IF(A95=\"H\",IF(OR(H95=\"SEN\",H95<1995),VLOOKUP(I95,Feuil1!$A$11:$F$29,6),IF(AND(H95>1994,H95<1998),VLOOKUP(I95,Feuil1!$A$11:$F$29,5),IF(AND(H95>1997,H95<2000),VLOOKUP(I95,Feuil1!$A$11:$F$29,4),IF(AND(H95>1999,H95<2002),VLOOKUP(I95,Feuil1!$A$11:$F$29,3),VLOOKUP(I95,Feuil1!$A$11:$F$29,2))))),IF(OR(H95=\"SEN\",H95<1995),VLOOKUP(I95,Feuil1!$G$11:$L$25,6),IF(AND(H95>1994,H95<1998),VLOOKUP(I95,Feuil1!$G$11:$L$25,5),IF(AND(H95>1997,H95<2000),VLOOKUP(I95,Feuil1!$G$11:$L$25,4),IF(AND(H95>1999,H95<2002),VLOOKUP(I95,Feuil1!$G$11:$L$25,3),VLOOKUP(I95,Feuil1!$G$11:$L$25,2)))))))","v":"FS58"},{"$f":"IF(I95=\"\",\"\",IF(A95=\"H\",10^(0.794358141*LOG(I95/174.393)^2)*T95,IF(A95=\"F\",10^(0.89726074*LOG(I95/148.026)^2)*T95,\"\")))","v":242.74361236253478},null," ",{"$f":"T95-HLOOKUP(X95,Feuil1!$C$1:$BL$10,2,FALSE)","v":100},{"$f":"T95-HLOOKUP(X95,Feuil1!$C$1:$BL$10,3,FALSE)","v":90},{"$f":"T95-HLOOKUP(X95,Feuil1!$C$1:$BL$10,4,FALSE)","v":80},{"$f":"T95-HLOOKUP(X95,Feuil1!$C$1:$BL$10,5,FALSE)","v":70},{"$f":"T95-HLOOKUP(X95,Feuil1!$C$1:$BL$10,6,FALSE)","v":55},{"$f":"T95-HLOOKUP(X95,Feuil1!$C$1:$BL$10,7,FALSE)","v":40},{"$f":"T95-HLOOKUP(X95,Feuil1!$C$1:$BL$10,8,FALSE)","v":20},{"$f":"T95-HLOOKUP(X95,Feuil1!$C$1:$BL$10,9,FALSE)","v":0},{"$f":"T95-HLOOKUP(X95,Feuil1!$C$1:$BL$10,10,FALSE)","v":-20},null,null,null,null,null,null,{"$f":"IF(AJ95>=0,$AJ$4,IF(AI95>=0,$AI$4,IF(AH95>=0,$AH$4,IF(AG95>=0,$AG$4,IF(AF95>=0,$AF$4,IF(AE95>=0,$AE$4,IF(AD95>=0,$AD$4,IF(AC95>=0,$AC$4,$AB$4))))))))","v":"INTA +"}]
["F","NE","BOU",2,"034097","EYANGO","Delphine",1986,57.3,"Stade Dijonnais HM","F",57,59,60,60,70,72,"-",72,132,74.7,"NAT +",2,{"$f":"IF(I96=\"\",\"\",IF(A96=\"H\",IF(OR(H96=\"SEN\",H96<1995),VLOOKUP(I96,Feuil1!$A$11:$F$29,6),IF(AND(H96>1994,H96<1998),VLOOKUP(I96,Feuil1!$A$11:$F$29,5),IF(AND(H96>1997,H96<2000),VLOOKUP(I96,Feuil1!$A$11:$F$29,4),IF(AND(H96>1999,H96<2002),VLOOKUP(I96,Feuil1!$A$11:$F$29,3),VLOOKUP(I96,Feuil1!$A$11:$F$29,2))))),IF(OR(H96=\"SEN\",H96<1995),VLOOKUP(I96,Feuil1!$G$11:$L$25,6),IF(AND(H96>1994,H96<1998),VLOOKUP(I96,Feuil1!$G$11:$L$25,5),IF(AND(H96>1997,H96<2000),VLOOKUP(I96,Feuil1!$G$11:$L$25,4),IF(AND(H96>1999,H96<2002),VLOOKUP(I96,Feuil1!$G$11:$L$25,3),VLOOKUP(I96,Feuil1!$G$11:$L$25,2)))))))","v":"FS58"},187.50556873405543,null," ",{"$f":"T96-HLOOKUP(X96,Feuil1!$C$1:$BL$10,2,FALSE)","v":62},{"$f":"T96-HLOOKUP(X96,Feuil1!$C$1:$BL$10,3,FALSE)","v":52},{"$f":"T96-HLOOKUP(X96,Feuil1!$C$1:$BL$10,4,FALSE)","v":42},{"$f":"T96-HLOOKUP(X96,Feuil1!$C$1:$BL$10,5,FALSE)","v":32},{"$f":"T96-HLOOKUP(X96,Feuil1!$C$1:$BL$10,6,FALSE)","v":17},{"$f":"T96-HLOOKUP(X96,Feuil1!$C$1:$BL$10,7,FALSE)","v":2},{"$f":"T96-HLOOKUP(X96,Feuil1!$C$1:$BL$10,8,FALSE)","v":-18},{"$f":"T96-HLOOKUP(X96,Feuil1!$C$1:$BL$10,9,FALSE)","v":-38},{"$f":"T96-HLOOKUP(X96,Feuil1!$C$1:$BL$10,10,FALSE)","v":-58},null,null,null,null,null,null,"NAT +"]
["F","SEST","PRO",3,112257,"CONDE ","Fabienne",1985,57.5,"ISTRES SPORTS","F",51,55,-57,55,70,75,-78,75,130,72.5,"NAT +",0,{"$f":"IF(I97=\"\",\"\",IF(A97=\"H\",IF(OR(H97=\"SEN\",H97<1995),VLOOKUP(I97,Feuil1!$A$11:$F$29,6),IF(AND(H97>1994,H97<1998),VLOOKUP(I97,Feuil1!$A$11:$F$29,5),IF(AND(H97>1997,H97<2000),VLOOKUP(I97,Feuil1!$A$11:$F$29,4),IF(AND(H97>1999,H97<2002),VLOOKUP(I97,Feuil1!$A$11:$F$29,3),VLOOKUP(I97,Feuil1!$A$11:$F$29,2))))),IF(OR(H97=\"SEN\",H97<1995),VLOOKUP(I97,Feuil1!$G$11:$L$25,6),IF(AND(H97>1994,H97<1998),VLOOKUP(I97,Feuil1!$G$11:$L$25,5),IF(AND(H97>1997,H97<2000),VLOOKUP(I97,Feuil1!$G$11:$L$25,4),IF(AND(H97>1999,H97<2002),VLOOKUP(I97,Feuil1!$G$11:$L$25,3),VLOOKUP(I97,Feuil1!$G$11:$L$25,2)))))))","v":"FS58"},184.19013139304164,null," ",{"$f":"T97-HLOOKUP(X97,Feuil1!$C$1:$BL$10,2,FALSE)","v":60},{"$f":"T97-HLOOKUP(X97,Feuil1!$C$1:$BL$10,3,FALSE)","v":50},{"$f":"T97-HLOOKUP(X97,Feuil1!$C$1:$BL$10,4,FALSE)","v":40},{"$f":"T97-HLOOKUP(X97,Feuil1!$C$1:$BL$10,5,FALSE)","v":30},{"$f":"T97-HLOOKUP(X97,Feuil1!$C$1:$BL$10,6,FALSE)","v":15},{"$f":"T97-HLOOKUP(X97,Feuil1!$C$1:$BL$10,7,FALSE)","v":0},{"$f":"T97-HLOOKUP(X97,Feuil1!$C$1:$BL$10,8,FALSE)","v":-20},{"$f":"T97-HLOOKUP(X97,Feuil1!$C$1:$BL$10,9,FALSE)","v":-40},{"$f":"T97-HLOOKUP(X97,Feuil1!$C$1:$BL$10,10,FALSE)","v":-60},null,null,null,null,null,null,"NAT +"]
["F","SEST","CAZ",4,377635,"GABBIANI","Celia",1990,57.6,"A.S. MONACO","F",50,55,57,57,63,67,-73,67,124,66.400000000000006,"FED +",9,{"$f":"IF(I98=\"\",\"\",IF(A98=\"H\",IF(OR(H98=\"SEN\",H98<1995),VLOOKUP(I98,Feuil1!$A$11:$F$29,6),IF(AND(H98>1994,H98<1998),VLOOKUP(I98,Feuil1!$A$11:$F$29,5),IF(AND(H98>1997,H98<2000),VLOOKUP(I98,Feuil1!$A$11:$F$29,4),IF(AND(H98>1999,H98<2002),VLOOKUP(I98,Feuil1!$A$11:$F$29,3),VLOOKUP(I98,Feuil1!$A$11:$F$29,2))))),IF(OR(H98=\"SEN\",H98<1995),VLOOKUP(I98,Feuil1!$G$11:$L$25,6),IF(AND(H98>1994,H98<1998),VLOOKUP(I98,Feuil1!$G$11:$L$25,5),IF(AND(H98>1997,H98<2000),VLOOKUP(I98,Feuil1!$G$11:$L$25,4),IF(AND(H98>1999,H98<2002),VLOOKUP(I98,Feuil1!$G$11:$L$25,3),VLOOKUP(I98,Feuil1!$G$11:$L$25,2)))))))","v":"FS58"},175.46442020003789,null," ",{"$f":"T98-HLOOKUP(X98,Feuil1!$C$1:$BL$10,2,FALSE)","v":54},{"$f":"T98-HLOOKUP(X98,Feuil1!$C$1:$BL$10,3,FALSE)","v":44},{"$f":"T98-HLOOKUP(X98,Feuil1!$C$1:$BL$10,4,FALSE)","v":34},{"$f":"T98-HLOOKUP(X98,Feuil1!$C$1:$BL$10,5,FALSE)","v":24},{"$f":"T98-HLOOKUP(X98,Feuil1!$C$1:$BL$10,6,FALSE)","v":9},{"$f":"T98-HLOOKUP(X98,Feuil1!$C$1:$BL$10,7,FALSE)","v":-6},{"$f":"T98-HLOOKUP(X98,Feuil1!$C$1:$BL$10,8,FALSE)","v":-26},{"$f":"T98-HLOOKUP(X98,Feuil1!$C$1:$BL$10,9,FALSE)","v":-46},{"$f":"T98-HLOOKUP(X98,Feuil1!$C$1:$BL$10,10,FALSE)","v":-66},null,null,null,null,null,null,"FED +"]
["F","SO","MPY",5,331243,"ASPE","Camille",1991,57.6,"TARBES CUTPH","F",52,-56,56,56,65,-69,-69,65,121,63.4,"FED +",6,{"$f":"IF(I99=\"\",\"\",IF(A99=\"H\",IF(OR(H99=\"SEN\",H99<1995),VLOOKUP(I99,Feuil1!$A$11:$F$29,6),IF(AND(H99>1994,H99<1998),VLOOKUP(I99,Feuil1!$A$11:$F$29,5),IF(AND(H99>1997,H99<2000),VLOOKUP(I99,Feuil1!$A$11:$F$29,4),IF(AND(H99>1999,H99<2002),VLOOKUP(I99,Feuil1!$A$11:$F$29,3),VLOOKUP(I99,Feuil1!$A$11:$F$29,2))))),IF(OR(H99=\"SEN\",H99<1995),VLOOKUP(I99,Feuil1!$G$11:$L$25,6),IF(AND(H99>1994,H99<1998),VLOOKUP(I99,Feuil1!$G$11:$L$25,5),IF(AND(H99>1997,H99<2000),VLOOKUP(I99,Feuil1!$G$11:$L$25,4),IF(AND(H99>1999,H99<2002),VLOOKUP(I99,Feuil1!$G$11:$L$25,3),VLOOKUP(I99,Feuil1!$G$11:$L$25,2)))))))","v":"FS58"},171.2193132597144,null," ",{"$f":"T99-HLOOKUP(X99,Feuil1!$C$1:$BL$10,2,FALSE)","v":51},{"$f":"T99-HLOOKUP(X99,Feuil1!$C$1:$BL$10,3,FALSE)","v":41},{"$f":"T99-HLOOKUP(X99,Feuil1!$C$1:$BL$10,4,FALSE)","v":31},{"$f":"T99-HLOOKUP(X99,Feuil1!$C$1:$BL$10,5,FALSE)","v":21},{"$f":"T99-HLOOKUP(X99,Feuil1!$C$1:$BL$10,6,FALSE)","v":6},{"$f":"T99-HLOOKUP(X99,Feuil1!$C$1:$BL$10,7,FALSE)","v":-9},{"$f":"T99-HLOOKUP(X99,Feuil1!$C$1:$BL$10,8,FALSE)","v":-29},{"$f":"T99-HLOOKUP(X99,Feuil1!$C$1:$BL$10,9,FALSE)","v":-49},{"$f":"T99-HLOOKUP(X99,Feuil1!$C$1:$BL$10,10,FALSE)","v":-69},null,null,null,null,null,null,"FED +"]
["F","DOM","REU",6,250371,"OULOUMENI","Aurelia",1993,57.8,"CSPJ St Denis","F",55,58,-60,58,63,-66,-66,{"$f":"IF(H100=\"\",\"\",IF(MAXA(P100:R100)<=0,0,MAXA(P100:R100)))","v":63},{"$f":"IF(H100=\"\",\"\",IF(OR(O100=0,S100=0),0,O100+S100))","v":121},{"$f":"T100-I100","v":63.2},{"$f":"IF(H100=\"\",\"\",AQ100)","v":"FED +"},{"$f":"IF(AJ100>=0,AJ100,IF(AI100>=0,AI100,IF(AH100>=0,AH100,IF(AG100>=0,AG100,IF(AF100>=0,AF100,IF(AE100>=0,AE100,IF(AD100>=0,AD100,IF(AC100>=0,AC100,AB100))))))))","v":6},{"$f":"IF(I100=\"\",\"\",IF(A100=\"H\",IF(OR(H100=\"SEN\",H100<1995),VLOOKUP(I100,Feuil1!$A$11:$F$29,6),IF(AND(H100>1994,H100<1998),VLOOKUP(I100,Feuil1!$A$11:$F$29,5),IF(AND(H100>1997,H100<2000),VLOOKUP(I100,Feuil1!$A$11:$F$29,4),IF(AND(H100>1999,H100<2002),VLOOKUP(I100,Feuil1!$A$11:$F$29,3),VLOOKUP(I100,Feuil1!$A$11:$F$29,2))))),IF(OR(H100=\"SEN\",H100<1995),VLOOKUP(I100,Feuil1!$G$11:$L$25,6),IF(AND(H100>1994,H100<1998),VLOOKUP(I100,Feuil1!$G$11:$L$25,5),IF(AND(H100>1997,H100<2000),VLOOKUP(I100,Feuil1!$G$11:$L$25,4),IF(AND(H100>1999,H100<2002),VLOOKUP(I100,Feuil1!$G$11:$L$25,3),VLOOKUP(I100,Feuil1!$G$11:$L$25,2)))))))","v":"FS58"},{"$f":"IF(I100=\"\",\"\",IF(A100=\"H\",10^(0.794358141*LOG(I100/174.393)^2)*T100,IF(A100=\"F\",10^(0.89726074*LOG(I100/148.026)^2)*T100,\"\")))","v":170.78410244459366},null," ",{"$f":"T100-HLOOKUP(X100,Feuil1!$C$1:$BL$10,2,FALSE)","v":51},{"$f":"T100-HLOOKUP(X100,Feuil1!$C$1:$BL$10,3,FALSE)","v":41},{"$f":"T100-HLOOKUP(X100,Feuil1!$C$1:$BL$10,4,FALSE)","v":31},{"$f":"T100-HLOOKUP(X100,Feuil1!$C$1:$BL$10,5,FALSE)","v":21},{"$f":"T100-HLOOKUP(X100,Feuil1!$C$1:$BL$10,6,FALSE)","v":6},{"$f":"T100-HLOOKUP(X100,Feuil1!$C$1:$BL$10,7,FALSE)","v":-9},{"$f":"T100-HLOOKUP(X100,Feuil1!$C$1:$BL$10,8,FALSE)","v":-29},{"$f":"T100-HLOOKUP(X100,Feuil1!$C$1:$BL$10,9,FALSE)","v":-49},{"$f":"T100-HLOOKUP(X100,Feuil1!$C$1:$BL$10,10,FALSE)","v":-69},null,null,null,null,null,null,{"$f":"IF(AJ100>=0,$AJ$4,IF(AI100>=0,$AI$4,IF(AH100>=0,$AH$4,IF(AG100>=0,$AG$4,IF(AF100>=0,$AF$4,IF(AE100>=0,$AE$4,IF(AD100>=0,$AD$4,IF(AC100>=0,$AC$4,$AB$4))))))))","v":"FED +"}]
["F","SEST","CAZ",7,326048,"DURAN","Sandra",1994,53.3,"ASPTT. DRAGUIGNAN","F",45,-50,52,52,-63,63,66,66,118,64.7,"FED +",3,{"$f":"IF(I101=\"\",\"\",IF(A101=\"H\",IF(OR(H101=\"SEN\",H101<1995),VLOOKUP(I101,Feuil1!$A$11:$F$29,6),IF(AND(H101>1994,H101<1998),VLOOKUP(I101,Feuil1!$A$11:$F$29,5),IF(AND(H101>1997,H101<2000),VLOOKUP(I101,Feuil1!$A$11:$F$29,4),IF(AND(H101>1999,H101<2002),VLOOKUP(I101,Feuil1!$A$11:$F$29,3),VLOOKUP(I101,Feuil1!$A$11:$F$29,2))))),IF(OR(H101=\"SEN\",H101<1995),VLOOKUP(I101,Feuil1!$G$11:$L$25,6),IF(AND(H101>1994,H101<1998),VLOOKUP(I101,Feuil1!$G$11:$L$25,5),IF(AND(H101>1997,H101<2000),VLOOKUP(I101,Feuil1!$G$11:$L$25,4),IF(AND(H101>1999,H101<2002),VLOOKUP(I101,Feuil1!$G$11:$L$25,3),VLOOKUP(I101,Feuil1!$G$11:$L$25,2)))))))","v":"FS58"},177.19621066265861,null," ",{"$f":"T101-HLOOKUP(X101,Feuil1!$C$1:$BL$10,2,FALSE)","v":48},{"$f":"T101-HLOOKUP(X101,Feuil1!$C$1:$BL$10,3,FALSE)","v":38},{"$f":"T101-HLOOKUP(X101,Feuil1!$C$1:$BL$10,4,FALSE)","v":28},{"$f":"T101-HLOOKUP(X101,Feuil1!$C$1:$BL$10,5,FALSE)","v":18},{"$f":"T101-HLOOKUP(X101,Feuil1!$C$1:$BL$10,6,FALSE)","v":3},{"$f":"T101-HLOOKUP(X101,Feuil1!$C$1:$BL$10,7,FALSE)","v":-12},{"$f":"T101-HLOOKUP(X101,Feuil1!$C$1:$BL$10,8,FALSE)","v":-32},{"$f":"T101-HLOOKUP(X101,Feuil1!$C$1:$BL$10,9,FALSE)","v":-52},{"$f":"T101-HLOOKUP(X101,Feuil1!$C$1:$BL$10,10,FALSE)","v":-72},null,null,null,null,null,null,"FED +"]
["F","SEST","RAL",8,372599,"SAINTE AIME","Sarah",1991,57.7,"VAULX EN VELIN","F",-48,-48,48,48,-67,-67,67,67,115,57.3,"FED +",0,{"$f":"IF(I102=\"\",\"\",IF(A102=\"H\",IF(OR(H102=\"SEN\",H102<1995),VLOOKUP(I102,Feuil1!$A$11:$F$29,6),IF(AND(H102>1994,H102<1998),VLOOKUP(I102,Feuil1!$A$11:$F$29,5),IF(AND(H102>1997,H102<2000),VLOOKUP(I102,Feuil1!$A$11:$F$29,4),IF(AND(H102>1999,H102<2002),VLOOKUP(I102,Feuil1!$A$11:$F$29,3),VLOOKUP(I102,Feuil1!$A$11:$F$29,2))))),IF(OR(H102=\"SEN\",H102<1995),VLOOKUP(I102,Feuil1!$G$11:$L$25,6),IF(AND(H102>1994,H102<1998),VLOOKUP(I102,Feuil1!$G$11:$L$25,5),IF(AND(H102>1997,H102<2000),VLOOKUP(I102,Feuil1!$G$11:$L$25,4),IF(AND(H102>1999,H102<2002),VLOOKUP(I102,Feuil1!$G$11:$L$25,3),VLOOKUP(I102,Feuil1!$G$11:$L$25,2)))))))","v":"FS58"},162.52178329362457,null," ",{"$f":"T102-HLOOKUP(X102,Feuil1!$C$1:$BL$10,2,FALSE)","v":45},{"$f":"T102-HLOOKUP(X102,Feuil1!$C$1:$BL$10,3,FALSE)","v":35},{"$f":"T102-HLOOKUP(X102,Feuil1!$C$1:$BL$10,4,FALSE)","v":25},{"$f":"T102-HLOOKUP(X102,Feuil1!$C$1:$BL$10,5,FALSE)","v":15},{"$f":"T102-HLOOKUP(X102,Feuil1!$C$1:$BL$10,6,FALSE)","v":0},{"$f":"T102-HLOOKUP(X102,Feuil1!$C$1:$BL$10,7,FALSE)","v":-15},{"$f":"T102-HLOOKUP(X102,Feuil1!$C$1:$BL$10,8,FALSE)","v":-35},{"$f":"T102-HLOOKUP(X102,Feuil1!$C$1:$BL$10,9,FALSE)","v":-55},{"$f":"T102-HLOOKUP(X102,Feuil1!$C$1:$BL$10,10,FALSE)","v":-75},null,null,null,null,null,null,"FED +"]
["F","SEST","RAL",9,198067,"LAROIX","Adeline",1991,57.6,"A.L. CHARLIEU","F",48,-52,-52,48,60,-64,-64,60,108,50.4,"IRG +",8,{"$f":"IF(I103=\"\",\"\",IF(A103=\"H\",IF(OR(H103=\"SEN\",H103<1995),VLOOKUP(I103,Feuil1!$A$11:$F$29,6),IF(AND(H103>1994,H103<1998),VLOOKUP(I103,Feuil1!$A$11:$F$29,5),IF(AND(H103>1997,H103<2000),VLOOKUP(I103,Feuil1!$A$11:$F$29,4),IF(AND(H103>1999,H103<2002),VLOOKUP(I103,Feuil1!$A$11:$F$29,3),VLOOKUP(I103,Feuil1!$A$11:$F$29,2))))),IF(OR(H103=\"SEN\",H103<1995),VLOOKUP(I103,Feuil1!$G$11:$L$25,6),IF(AND(H103>1994,H103<1998),VLOOKUP(I103,Feuil1!$G$11:$L$25,5),IF(AND(H103>1997,H103<2000),VLOOKUP(I103,Feuil1!$G$11:$L$25,4),IF(AND(H103>1999,H103<2002),VLOOKUP(I103,Feuil1!$G$11:$L$25,3),VLOOKUP(I103,Feuil1!$G$11:$L$25,2)))))))","v":"FS58"},152.82384985164592,null," ",{"$f":"T103-HLOOKUP(X103,Feuil1!$C$1:$BL$10,2,FALSE)","v":38},{"$f":"T103-HLOOKUP(X103,Feuil1!$C$1:$BL$10,3,FALSE)","v":28},{"$f":"T103-HLOOKUP(X103,Feuil1!$C$1:$BL$10,4,FALSE)","v":18},{"$f":"T103-HLOOKUP(X103,Feuil1!$C$1:$BL$10,5,FALSE)","v":8},{"$f":"T103-HLOOKUP(X103,Feuil1!$C$1:$BL$10,6,FALSE)","v":-7},{"$f":"T103-HLOOKUP(X103,Feuil1!$C$1:$BL$10,7,FALSE)","v":-22},{"$f":"T103-HLOOKUP(X103,Feuil1!$C$1:$BL$10,8,FALSE)","v":-42},{"$f":"T103-HLOOKUP(X103,Feuil1!$C$1:$BL$10,9,FALSE)","v":-62},{"$f":"T103-HLOOKUP(X103,Feuil1!$C$1:$BL$10,10,FALSE)","v":-82},null,null,null,null,null,null,"IRG +"]
["F","DOM","GUY",10,186614,"BOROT","Lenaïc",1994,57.5,"ASCPG/Rémire Montjoly","F",40,45,-47,45,50,55,-60,{"$f":"IF(H104=\"\",\"\",IF(MAXA(P104:R104)<=0,0,MAXA(P104:R104)))","v":55},{"$f":"IF(H104=\"\",\"\",IF(OR(O104=0,S104=0),0,O104+S104))","v":100},{"$f":"T104-I104","v":42.5},{"$f":"IF(H104=\"\",\"\",AQ104)","v":"IRG +"},{"$f":"IF(AJ104>=0,AJ104,IF(AI104>=0,AI104,IF(AH104>=0,AH104,IF(AG104>=0,AG104,IF(AF104>=0,AF104,IF(AE104>=0,AE104,IF(AD104>=0,AD104,IF(AC104>=0,AC104,AB104))))))))","v":0},{"$f":"IF(I104=\"\",\"\",IF(A104=\"H\",IF(OR(H104=\"SEN\",H104<1995),VLOOKUP(I104,Feuil1!$A$11:$F$29,6),IF(AND(H104>1994,H104<1998),VLOOKUP(I104,Feuil1!$A$11:$F$29,5),IF(AND(H104>1997,H104<2000),VLOOKUP(I104,Feuil1!$A$11:$F$29,4),IF(AND(H104>1999,H104<2002),VLOOKUP(I104,Feuil1!$A$11:$F$29,3),VLOOKUP(I104,Feuil1!$A$11:$F$29,2))))),IF(OR(H104=\"SEN\",H104<1995),VLOOKUP(I104,Feuil1!$G$11:$L$25,6),IF(AND(H104>1994,H104<1998),VLOOKUP(I104,Feuil1!$G$11:$L$25,5),IF(AND(H104>1997,H104<2000),VLOOKUP(I104,Feuil1!$G$11:$L$25,4),IF(AND(H104>1999,H104<2002),VLOOKUP(I104,Feuil1!$G$11:$L$25,3),VLOOKUP(I104,Feuil1!$G$11:$L$25,2)))))))","v":"FS58"},{"$f":"IF(I104=\"\",\"\",IF(A104=\"H\",10^(0.794358141*LOG(I104/174.393)^2)*T104,IF(A104=\"F\",10^(0.89726074*LOG(I104/148.026)^2)*T104,\"\")))","v":141.68471645618587},null," ",{"$f":"T104-HLOOKUP(X104,Feuil1!$C$1:$BL$10,2,FALSE)","v":30},{"$f":"T104-HLOOKUP(X104,Feuil1!$C$1:$BL$10,3,FALSE)","v":20},{"$f":"T104-HLOOKUP(X104,Feuil1!$C$1:$BL$10,4,FALSE)","v":10},{"$f":"T104-HLOOKUP(X104,Feuil1!$C$1:$BL$10,5,FALSE)","v":0},{"$f":"T104-HLOOKUP(X104,Feuil1!$C$1:$BL$10,6,FALSE)","v":-15},{"$f":"T104-HLOOKUP(X104,Feuil1!$C$1:$BL$10,7,FALSE)","v":-30},{"$f":"T104-HLOOKUP(X104,Feuil1!$C$1:$BL$10,8,FALSE)","v":-50},{"$f":"T104-HLOOKUP(X104,Feuil1!$C$1:$BL$10,9,FALSE)","v":-70},{"$f":"T104-HLOOKUP(X104,Feuil1!$C$1:$BL$10,10,FALSE)","v":-90},null,null,null,null,null,null,{"$f":"IF(AJ104>=0,$AJ$4,IF(AI104>=0,$AI$4,IF(AH104>=0,$AH$4,IF(AG104>=0,$AG$4,IF(AF104>=0,$AF$4,IF(AE104>=0,$AE$4,IF(AD104>=0,$AD$4,IF(AC104>=0,$AC$4,$AB$4))))))))","v":"IRG +"}]
[null,null,null,null,null,null,null,null,null,null,null,null,null,null,null,null,null,null,null,null," ",null,null,null,null,null,null,{"$f":"T105-HLOOKUP(X105,Feuil1!$C$1:$BL$10,2,FALSE)","v":{"$error":"#N/A"}},{"$f":"T105-HLOOKUP(X105,Feuil1!$C$1:$BL$10,3,FALSE)","v":{"$error":"#N/A"}},{"$f":"T105-HLOOKUP(X105,Feuil1!$C$1:$BL$10,4,FALSE)","v":{"$error":"#N/A"}},{"$f":"T105-HLOOKUP(X105,Feuil1!$C$1:$BL$10,5,FALSE)","v":{"$error":"#N/A"}},{"$f":"T105-HLOOKUP(X105,Feuil1!$C$1:$BL$10,6,FALSE)","v":{"$error":"#N/A"}},{"$f":"T105-HLOOKUP(X105,Feuil1!$C$1:$BL$10,7,FALSE)","v":{"$error":"#N/A"}},{"$f":"T105-HLOOKUP(X105,Feuil1!$C$1:$BL$10,8,FALSE)","v":{"$error":"#N/A"}},{"$f":"T105-HLOOKUP(X105,Feuil1!$C$1:$BL$10,9,FALSE)","v":{"$error":"#N/A"}},{"$f":"T105-HLOOKUP(X105,Feuil1!$C$1:$BL$10,10,FALSE)","v":{"$error":"#N/A"}}]
["F","ZCO","BRE",1,376538,"OSUNGU","Epie",1983,60.45,"ES Saint Avé","Cam",72,75,78,{"$f":"IF(H106=\"\",\"\",IF(MAXA(L106:N106)<=0,0,MAXA(L106:N106)))","v":78},83,87,90,{"$f":"IF(H106=\"\",\"\",IF(MAXA(P106:R106)<=0,0,MAXA(P106:R106)))","v":90},{"$f":"IF(H106=\"\",\"\",IF(OR(O106=0,S106=0),0,O106+S106))","v":168},107.55,{"$f":"IF(H106=\"\",\"\",AQ106)","v":"INTB +"},{"$f":"IF(AJ106>=0,AJ106,IF(AI106>=0,AI106,IF(AH106>=0,AH106,IF(AG106>=0,AG106,IF(AF106>=0,AF106,IF(AE106>=0,AE106,IF(AD106>=0,AD106,IF(AC106>=0,AC106,AB106))))))))","v":8},{"$f":"IF(I106=\"\",\"\",IF(A106=\"H\",IF(OR(H106=\"SEN\",H106<1995),VLOOKUP(I106,Feuil1!$A$11:$F$29,6),IF(AND(H106>1994,H106<1998),VLOOKUP(I106,Feuil1!$A$11:$F$29,5),IF(AND(H106>1997,H106<2000),VLOOKUP(I106,Feuil1!$A$11:$F$29,4),IF(AND(H106>1999,H106<2002),VLOOKUP(I106,Feuil1!$A$11:$F$29,3),VLOOKUP(I106,Feuil1!$A$11:$F$29,2))))),IF(OR(H106=\"SEN\",H106<1995),VLOOKUP(I106,Feuil1!$G$11:$L$25,6),IF(AND(H106>1994,H106<1998),VLOOKUP(I106,Feuil1!$G$11:$L$25,5),IF(AND(H106>1997,H106<2000),VLOOKUP(I106,Feuil1!$G$11:$L$25,4),IF(AND(H106>1999,H106<2002),VLOOKUP(I106,Feuil1!$G$11:$L$25,3),VLOOKUP(I106,Feuil1!$G$11:$L$25,2)))))))","v":"FS63"},{"$f":"IF(I106=\"\",\"\",IF(A106=\"H\",10^(0.794358141*LOG(I106/174.393)^2)*T106,IF(A106=\"F\",10^(0.89726074*LOG(I106/148.026)^2)*T106,\"\")))","v":229.6375891258472},null," ",{"$f":"T106-HLOOKUP(X106,Feuil1!$C$1:$BL$10,2,FALSE)","v":93},{"$f":"T106-HLOOKUP(X106,Feuil1!$C$1:$BL$10,3,FALSE)","v":83},{"$f":"T106-HLOOKUP(X106,Feuil1!$C$1:$BL$10,4,FALSE)","v":73},{"$f":"T106-HLOOKUP(X106,Feuil1!$C$1:$BL$10,5,FALSE)","v":58},{"$f":"T106-HLOOKUP(X106,Feuil1!$C$1:$BL$10,6,FALSE)","v":43},{"$f":"T106-HLOOKUP(X106,Feuil1!$C$1:$BL$10,7,FALSE)","v":28},{"$f":"T106-HLOOKUP(X106,Feuil1!$C$1:$BL$10,8,FALSE)","v":8},{"$f":"T106-HLOOKUP(X106,Feuil1!$C$1:$BL$10,9,FALSE)","v":-12},{"$f":"T106-HLOOKUP(X106,Feuil1!$C$1:$BL$10,10,FALSE)","v":-32},null,null,null,null,null,null,{"$f":"IF(AJ106>=0,$AJ$4,IF(AI106>=0,$AI$4,IF(AH106>=0,$AH$4,IF(AG106>=0,$AG$4,IF(AF106>=0,$AF$4,IF(AE106>=0,$AE$4,IF(AD106>=0,$AD$4,IF(AC106>=0,$AC$4,$AB$4))))))))","v":"INTB +"}]
["F","ZCO","BNO",2,115950,"DUMARAIS","Mélissa",1992,59.6,"Caen CHM","F",62,65,68,68,78,81,-84,81,149,89.4,"NAT +",9,{"$f":"IF(I107=\"\",\"\",IF(A107=\"H\",IF(OR(H107=\"SEN\",H107<1995),VLOOKUP(I107,Feuil1!$A$11:$F$29,6),IF(AND(H107>1994,H107<1998),VLOOKUP(I107,Feuil1!$A$11:$F$29,5),IF(AND(H107>1997,H107<2000),VLOOKUP(I107,Feuil1!$A$11:$F$29,4),IF(AND(H107>1999,H107<2002),VLOOKUP(I107,Feuil1!$A$11:$F$29,3),VLOOKUP(I107,Feuil1!$A$11:$F$29,2))))),IF(OR(H107=\"SEN\",H107<1995),VLOOKUP(I107,Feuil1!$G$11:$L$25,6),IF(AND(H107>1994,H107<1998),VLOOKUP(I107,Feuil1!$G$11:$L$25,5),IF(AND(H107>1997,H107<2000),VLOOKUP(I107,Feuil1!$G$11:$L$25,4),IF(AND(H107>1999,H107<2002),VLOOKUP(I107,Feuil1!$G$11:$L$25,3),VLOOKUP(I107,Feuil1!$G$11:$L$25,2)))))))","v":"FS63"},205.70574186270079,null," ",{"$f":"T107-HLOOKUP(X107,Feuil1!$C$1:$BL$10,2,FALSE)","v":74},{"$f":"T107-HLOOKUP(X107,Feuil1!$C$1:$BL$10,3,FALSE)","v":64},{"$f":"T107-HLOOKUP(X107,Feuil1!$C$1:$BL$10,4,FALSE)","v":54},{"$f":"T107-HLOOKUP(X107,Feuil1!$C$1:$BL$10,5,FALSE)","v":39},{"$f":"T107-HLOOKUP(X107,Feuil1!$C$1:$BL$10,6,FALSE)","v":24},{"$f":"T107-HLOOKUP(X107,Feuil1!$C$1:$BL$10,7,FALSE)","v":9},{"$f":"T107-HLOOKUP(X107,Feuil1!$C$1:$BL$10,8,FALSE)","v":-11},{"$f":"T107-HLOOKUP(X107,Feuil1!$C$1:$BL$10,9,FALSE)","v":-31},{"$f":"T107-HLOOKUP(X107,Feuil1!$C$1:$BL$10,10,FALSE)","v":-51},null,null,null,null,null,null,"NAT +"]
["F","SO","MPY",3,250351,"BRIDIER","Stéphanie",1985,62.4,"TOULOUSE HC","F",62,65,68,68,72,75,78,78,146,83.6,"NAT +",6,{"$f":"IF(I108=\"\",\"\",IF(A108=\"H\",IF(OR(H108=\"SEN\",H108<1995),VLOOKUP(I108,Feuil1!$A$11:$F$29,6),IF(AND(H108>1994,H108<1998),VLOOKUP(I108,Feuil1!$A$11:$F$29,5),IF(AND(H108>1997,H108<2000),VLOOKUP(I108,Feuil1!$A$11:$F$29,4),IF(AND(H108>1999,H108<2002),VLOOKUP(I108,Feuil1!$A$11:$F$29,3),VLOOKUP(I108,Feuil1!$A$11:$F$29,2))))),IF(OR(H108=\"SEN\",H108<1995),VLOOKUP(I108,Feuil1!$G$11:$L$25,6),IF(AND(H108>1994,H108<1998),VLOOKUP(I108,Feuil1!$G$11:$L$25,5),IF(AND(H108>1997,H108<2000),VLOOKUP(I108,Feuil1!$G$11:$L$25,4),IF(AND(H108>1999,H108<2002),VLOOKUP(I108,Feuil1!$G$11:$L$25,3),VLOOKUP(I108,Feuil1!$G$11:$L$25,2)))))))","v":"FS63"},195.26904745420282,null," ",{"$f":"T108-HLOOKUP(X108,Feuil1!$C$1:$BL$10,2,FALSE)","v":71},{"$f":"T108-HLOOKUP(X108,Feuil1!$C$1:$BL$10,3,FALSE)","v":61},{"$f":"T108-HLOOKUP(X108,Feuil1!$C$1:$BL$10,4,FALSE)","v":51},{"$f":"T108-HLOOKUP(X108,Feuil1!$C$1:$BL$10,5,FALSE)","v":36},{"$f":"T108-HLOOKUP(X108,Feuil1!$C$1:$BL$10,6,FALSE)","v":21},{"$f":"T108-HLOOKUP(X108,Feuil1!$C$1:$BL$10,7,FALSE)","v":6},{"$f":"T108-HLOOKUP(X108,Feuil1!$C$1:$BL$10,8,FALSE)","v":-14},{"$f":"T108-HLOOKUP(X108,Feuil1!$C$1:$BL$10,9,FALSE)","v":-34},{"$f":"T108-HLOOKUP(X108,Feuil1!$C$1:$BL$10,10,FALSE)","v":-54},null,null,null,null,null,null,"NAT +"]
["F","SEST","CAZ",4,196091,"SOULET ","Frederique",1986,61.1,"ASLDD. TOULON","F",52,-55,55,55,70,-74,-75,70,125,63.9,"FED +",0,{"$f":"IF(I109=\"\",\"\",IF(A109=\"H\",IF(OR(H109=\"SEN\",H109<1995),VLOOKUP(I109,Feuil1!$A$11:$F$29,6),IF(AND(H109>1994,H109<1998),VLOOKUP(I109,Feuil1!$A$11:$F$29,5),IF(AND(H109>1997,H109<2000),VLOOKUP(I109,Feuil1!$A$11:$F$29,4),IF(AND(H109>1999,H109<2002),VLOOKUP(I109,Feuil1!$A$11:$F$29,3),VLOOKUP(I109,Feuil1!$A$11:$F$29,2))))),IF(OR(H109=\"SEN\",H109<1995),VLOOKUP(I109,Feuil1!$G$11:$L$25,6),IF(AND(H109>1994,H109<1998),VLOOKUP(I109,Feuil1!$G$11:$L$25,5),IF(AND(H109>1997,H109<2000),VLOOKUP(I109,Feuil1!$G$11:$L$25,4),IF(AND(H109>1999,H109<2002),VLOOKUP(I109,Feuil1!$G$11:$L$25,3),VLOOKUP(I109,Feuil1!$G$11:$L$25,2)))))))","v":"FS63"},169.59814232925584,null," ",{"$f":"T109-HLOOKUP(X109,Feuil1!$C$1:$BL$10,2,FALSE)","v":50},{"$f":"T109-HLOOKUP(X109,Feuil1!$C$1:$BL$10,3,FALSE)","v":40},{"$f":"T109-HLOOKUP(X109,Feuil1!$C$1:$BL$10,4,FALSE)","v":30},{"$f":"T109-HLOOKUP(X109,Feuil1!$C$1:$BL$10,5,FALSE)","v":15},{"$f":"T109-HLOOKUP(X109,Feuil1!$C$1:$BL$10,6,FALSE)","v":0},{"$f":"T109-HLOOKUP(X109,Feuil1!$C$1:$BL$10,7,FALSE)","v":-15},{"$f":"T109-HLOOKUP(X109,Feuil1!$C$1:$BL$10,8,FALSE)","v":-35},{"$f":"T109-HLOOKUP(X109,Feuil1!$C$1:$BL$10,9,FALSE)","v":-55},{"$f":"T109-HLOOKUP(X109,Feuil1!$C$1:$BL$10,10,FALSE)","v":-75},null,null,null,null,null,null,"FED +"]
["F","SEST","CAZ",5,332675,"RADEAU","Celine",1983,62.05,"A.S. MONACO","F",-50,50,-53,50,67,71,-73,71,121,58.95,"IRG +",11,{"$f":"IF(I110=\"\",\"\",IF(A110=\"H\",IF(OR(H110=\"SEN\",H110<1995),VLOOKUP(I110,Feuil1!$A$11:$F$29,6),IF(AND(H110>1994,H110<1998),VLOOKUP(I110,Feuil1!$A$11:$F$29,5),IF(AND(H110>1997,H110<2000),VLOOKUP(I110,Feuil1!$A$11:$F$29,4),IF(AND(H110>1999,H110<2002),VLOOKUP(I110,Feuil1!$A$11:$F$29,3),VLOOKUP(I110,Feuil1!$A$11:$F$29,2))))),IF(OR(H110=\"SEN\",H110<1995),VLOOKUP(I110,Feuil1!$G$11:$L$25,6),IF(AND(H110>1994,H110<1998),VLOOKUP(I110,Feuil1!$G$11:$L$25,5),IF(AND(H110>1997,H110<2000),VLOOKUP(I110,Feuil1!$G$11:$L$25,4),IF(AND(H110>1999,H110<2002),VLOOKUP(I110,Feuil1!$G$11:$L$25,3),VLOOKUP(I110,Feuil1!$G$11:$L$25,2)))))))","v":"FS63"},162.44854392254831,null," ",{"$f":"T110-HLOOKUP(X110,Feuil1!$C$1:$BL$10,2,FALSE)","v":46},{"$f":"T110-HLOOKUP(X110,Feuil1!$C$1:$BL$10,3,FALSE)","v":36},{"$f":"T110-HLOOKUP(X110,Feuil1!$C$1:$BL$10,4,FALSE)","v":26},{"$f":"T110-HLOOKUP(X110,Feuil1!$C$1:$BL$10,5,FALSE)","v":11},{"$f":"T110-HLOOKUP(X110,Feuil1!$C$1:$BL$10,6,FALSE)","v":-4},{"$f":"T110-HLOOKUP(X110,Feuil1!$C$1:$BL$10,7,FALSE)","v":-19},{"$f":"T110-HLOOKUP(X110,Feuil1!$C$1:$BL$10,8,FALSE)","v":-39},{"$f":"T110-HLOOKUP(X110,Feuil1!$C$1:$BL$10,9,FALSE)","v":-59},{"$f":"T110-HLOOKUP(X110,Feuil1!$C$1:$BL$10,10,FALSE)","v":-79},null,null,null,null,null,null,"IRG +"]
["F","SEST","RAL",6,142132,"BAILLET","Nathalie",1994,58.2,"H.C. ST BALDOPH","F",47,-50,51,51,-63,63,-66,63,114,55.8,"IRG +",4,{"$f":"IF(I111=\"\",\"\",IF(A111=\"H\",IF(OR(H111=\"SEN\",H111<1995),VLOOKUP(I111,Feuil1!$A$11:$F$29,6),IF(AND(H111>1994,H111<1998),VLOOKUP(I111,Feuil1!$A$11:$F$29,5),IF(AND(H111>1997,H111<2000),VLOOKUP(I111,Feuil1!$A$11:$F$29,4),IF(AND(H111>1999,H111<2002),VLOOKUP(I111,Feuil1!$A$11:$F$29,3),VLOOKUP(I111,Feuil1!$A$11:$F$29,2))))),IF(OR(H111=\"SEN\",H111<1995),VLOOKUP(I111,Feuil1!$G$11:$L$25,6),IF(AND(H111>1994,H111<1998),VLOOKUP(I111,Feuil1!$G$11:$L$25,5),IF(AND(H111>1997,H111<2000),VLOOKUP(I111,Feuil1!$G$11:$L$25,4),IF(AND(H111>1999,H111<2002),VLOOKUP(I111,Feuil1!$G$11:$L$25,3),VLOOKUP(I111,Feuil1!$G$11:$L$25,2)))))))","v":"FS63"},160.09575875765091,null," ",{"$f":"T111-HLOOKUP(X111,Feuil1!$C$1:$BL$10,2,FALSE)","v":39},{"$f":"T111-HLOOKUP(X111,Feuil1!$C$1:$BL$10,3,FALSE)","v":29},{"$f":"T111-HLOOKUP(X111,Feuil1!$C$1:$BL$10,4,FALSE)","v":19},{"$f":"T111-HLOOKUP(X111,Feuil1!$C$1:$BL$10,5,FALSE)","v":4},{"$f":"T111-HLOOKUP(X111,Feuil1!$C$1:$BL$10,6,FALSE)","v":-11},{"$f":"T111-HLOOKUP(X111,Feuil1!$C$1:$BL$10,7,FALSE)","v":-26},{"$f":"T111-HLOOKUP(X111,Feuil1!$C$1:$BL$10,8,FALSE)","v":-46},{"$f":"T111-HLOOKUP(X111,Feuil1!$C$1:$BL$10,9,FALSE)","v":-66},{"$f":"T111-HLOOKUP(X111,Feuil1!$C$1:$BL$10,10,FALSE)","v":-86},null,null,null,null,null,null,"IRG +"]
[null,null,null,null,null,null,null,null,null,null,null,null,null,null,null,null,null,null,null,null," ",null,null,null,null,null,null,{"$f":"T112-HLOOKUP(X112,Feuil1!$C$1:$BL$10,2,FALSE)","v":{"$error":"#N/A"}},{"$f":"T112-HLOOKUP(X112,Feuil1!$C$1:$BL$10,3,FALSE)","v":{"$error":"#N/A"}},{"$f":"T112-HLOOKUP(X112,Feuil1!$C$1:$BL$10,4,FALSE)","v":{"$error":"#N/A"}},{"$f":"T112-HLOOKUP(X112,Feuil1!$C$1:$BL$10,5,FALSE)","v":{"$error":"#N/A"}},{"$f":"T112-HLOOKUP(X112,Feuil1!$C$1:$BL$10,6,FALSE)","v":{"$error":"#N/A"}},{"$f":"T112-HLOOKUP(X112,Feuil1!$C$1:$BL$10,7,FALSE)","v":{"$error":"#N/A"}},{"$f":"T112-HLOOKUP(X112,Feuil1!$C$1:$BL$10,8,FALSE)","v":{"$error":"#N/A"}},{"$f":"T112-HLOOKUP(X112,Feuil1!$C$1:$BL$10,9,FALSE)","v":{"$error":"#N/A"}},{"$f":"T112-HLOOKUP(X112,Feuil1!$C$1:$BL$10,10,FALSE)","v":{"$error":"#N/A"}}]
["F","DOM","REU",1,94140,"SAINT JACQUES","Larissa",1979,68.2,"CSPJ St Denis","F",65,70,"-",{"$f":"IF(H113=\"\",\"\",IF(MAXA(L113:N113)<=0,0,MAXA(L113:N113)))","v":70},80,85,90,{"$f":"IF(H113=\"\",\"\",IF(MAXA(P113:R113)<=0,0,MAXA(P113:R113)))","v":90},{"$f":"IF(H113=\"\",\"\",IF(OR(O113=0,S113=0),0,O113+S113))","v":160},{"$f":"T113-I113","v":91.8},{"$f":"IF(H113=\"\",\"\",AQ113)","v":"NAT +"},{"$f":"IF(AJ113>=0,AJ113,IF(AI113>=0,AI113,IF(AH113>=0,AH113,IF(AG113>=0,AG113,IF(AF113>=0,AF113,IF(AE113>=0,AE113,IF(AD113>=0,AD113,IF(AC113>=0,AC113,AB113))))))))","v":10},{"$f":"IF(I113=\"\",\"\",IF(A113=\"H\",IF(OR(H113=\"SEN\",H113<1995),VLOOKUP(I113,Feuil1!$A$11:$F$29,6),IF(AND(H113>1994,H113<1998),VLOOKUP(I113,Feuil1!$A$11:$F$29,5),IF(AND(H113>1997,H113<2000),VLOOKUP(I113,Feuil1!$A$11:$F$29,4),IF(AND(H113>1999,H113<2002),VLOOKUP(I113,Feuil1!$A$11:$F$29,3),VLOOKUP(I113,Feuil1!$A$11:$F$29,2))))),IF(OR(H113=\"SEN\",H113<1995),VLOOKUP(I113,Feuil1!$G$11:$L$25,6),IF(AND(H113>1994,H113<1998),VLOOKUP(I113,Feuil1!$G$11:$L$25,5),IF(AND(H113>1997,H113<2000),VLOOKUP(I113,Feuil1!$G$11:$L$25,4),IF(AND(H113>1999,H113<2002),VLOOKUP(I113,Feuil1!$G$11:$L$25,3),VLOOKUP(I113,Feuil1!$G$11:$L$25,2)))))))","v":"FS69"},{"$f":"IF(I113=\"\",\"\",IF(A113=\"H\",10^(0.794358141*LOG(I113/174.393)^2)*T113,IF(A113=\"F\",10^(0.89726074*LOG(I113/148.026)^2)*T113,\"\")))","v":202.18606588588636},null," ",{"$f":"T113-HLOOKUP(X113,Feuil1!$C$1:$BL$10,2,FALSE)","v":80},{"$f":"T113-HLOOKUP(X113,Feuil1!$C$1:$BL$10,3,FALSE)","v":70},{"$f":"T113-HLOOKUP(X113,Feuil1!$C$1:$BL$10,4,FALSE)","v":55},{"$f":"T113-HLOOKUP(X113,Feuil1!$C$1:$BL$10,5,FALSE)","v":40},{"$f":"T113-HLOOKUP(X113,Feuil1!$C$1:$BL$10,6,FALSE)","v":25},{"$f":"T113-HLOOKUP(X113,Feuil1!$C$1:$BL$10,7,FALSE)","v":10},{"$f":"T113-HLOOKUP(X113,Feuil1!$C$1:$BL$10,8,FALSE)","v":-10},{"$f":"T113-HLOOKUP(X113,Feuil1!$C$1:$BL$10,9,FALSE)","v":-30},{"$f":"T113-HLOOKUP(X113,Feuil1!$C$1:$BL$10,10,FALSE)","v":-45},null,null,null,null,null,null,{"$f":"IF(AJ113>=0,$AJ$4,IF(AI113>=0,$AI$4,IF(AH113>=0,$AH$4,IF(AG113>=0,$AG$4,IF(AF113>=0,$AF$4,IF(AE113>=0,$AE$4,IF(AD113>=0,$AD$4,IF(AC113>=0,$AC$4,$AB$4))))))))","v":"NAT +"}]
["F","NE","ALS",2,319461,"TITTEL MOSSER","Lindsay",1984,68.7,"SR Obernai HM","F",-60,60,64,{"$f":"IF(H114=\"\",\"\",IF(MAXA(L114:N114)<=0,0,MAXA(L114:N114)))","v":64},75,79,82,{"$f":"IF(H114=\"\",\"\",IF(MAXA(P114:R114)<=0,0,MAXA(P114:R114)))","v":82},{"$f":"IF(H114=\"\",\"\",IF(OR(O114=0,S114=0),0,O114+S114))","v":146},77.3,{"$f":"IF(H114=\"\",\"\",AQ114)","v":"FED +"},{"$f":"IF(AJ114>=0,AJ114,IF(AI114>=0,AI114,IF(AH114>=0,AH114,IF(AG114>=0,AG114,IF(AF114>=0,AF114,IF(AE114>=0,AE114,IF(AD114>=0,AD114,IF(AC114>=0,AC114,AB114))))))))","v":11},{"$f":"IF(I114=\"\",\"\",IF(A114=\"H\",IF(OR(H114=\"SEN\",H114<1995),VLOOKUP(I114,Feuil1!$A$11:$F$29,6),IF(AND(H114>1994,H114<1998),VLOOKUP(I114,Feuil1!$A$11:$F$29,5),IF(AND(H114>1997,H114<2000),VLOOKUP(I114,Feuil1!$A$11:$F$29,4),IF(AND(H114>1999,H114<2002),VLOOKUP(I114,Feuil1!$A$11:$F$29,3),VLOOKUP(I114,Feuil1!$A$11:$F$29,2))))),IF(OR(H114=\"SEN\",H114<1995),VLOOKUP(I114,Feuil1!$G$11:$L$25,6),IF(AND(H114>1994,H114<1998),VLOOKUP(I114,Feuil1!$G$11:$L$25,5),IF(AND(H114>1997,H114<2000),VLOOKUP(I114,Feuil1!$G$11:$L$25,4),IF(AND(H114>1999,H114<2002),VLOOKUP(I114,Feuil1!$G$11:$L$25,3),VLOOKUP(I114,Feuil1!$G$11:$L$25,2)))))))","v":"FS69"},{"$f":"IF(I114=\"\",\"\",IF(A114=\"H\",10^(0.794358141*LOG(I114/174.393)^2)*T114,IF(A114=\"F\",10^(0.89726074*LOG(I114/148.026)^2)*T114,\"\")))","v":183.68646995222301},null," ",{"$f":"T114-HLOOKUP(X114,Feuil1!$C$1:$BL$10,2,FALSE)","v":66},{"$f":"T114-HLOOKUP(X114,Feuil1!$C$1:$BL$10,3,FALSE)","v":56},{"$f":"T114-HLOOKUP(X114,Feuil1!$C$1:$BL$10,4,FALSE)","v":41},{"$f":"T114-HLOOKUP(X114,Feuil1!$C$1:$BL$10,5,FALSE)","v":26},{"$f":"T114-HLOOKUP(X114,Feuil1!$C$1:$BL$10,6,FALSE)","v":11},{"$f":"T114-HLOOKUP(X114,Feuil1!$C$1:$BL$10,7,FALSE)","v":-4},{"$f":"T114-HLOOKUP(X114,Feuil1!$C$1:$BL$10,8,FALSE)","v":-24},{"$f":"T114-HLOOKUP(X114,Feuil1!$C$1:$BL$10,9,FALSE)","v":-44},{"$f":"T114-HLOOKUP(X114,Feuil1!$C$1:$BL$10,10,FALSE)","v":-59},null,null,null,null,null,null,{"$f":"IF(AJ114>=0,$AJ$4,IF(AI114>=0,$AI$4,IF(AH114>=0,$AH$4,IF(AG114>=0,$AG$4,IF(AF114>=0,$AF$4,IF(AE114>=0,$AE$4,IF(AD114>=0,$AD$4,IF(AC114>=0,$AC$4,$AB$4))))))))","v":"FED +"}]
["F","NE","CHA",3,"034517","CRISTOFOLI ","Adeline",1985,68.599999999999994,"Langres HM","F",63,66,-68,{"$f":"IF(H115=\"\",\"\",IF(MAXA(L115:N115)<=0,0,MAXA(L115:N115)))","v":66},73,76,79,{"$f":"IF(H115=\"\",\"\",IF(MAXA(P115:R115)<=0,0,MAXA(P115:R115)))","v":79},{"$f":"IF(H115=\"\",\"\",IF(OR(O115=0,S115=0),0,O115+S115))","v":145},76.400000000000006,{"$f":"IF(H115=\"\",\"\",AQ115)","v":"FED +"},{"$f":"IF(AJ115>=0,AJ115,IF(AI115>=0,AI115,IF(AH115>=0,AH115,IF(AG115>=0,AG115,IF(AF115>=0,AF115,IF(AE115>=0,AE115,IF(AD115>=0,AD115,IF(AC115>=0,AC115,AB115))))))))","v":10},{"$f":"IF(I115=\"\",\"\",IF(A115=\"H\",IF(OR(H115=\"SEN\",H115<1995),VLOOKUP(I115,Feuil1!$A$11:$F$29,6),IF(AND(H115>1994,H115<1998),VLOOKUP(I115,Feuil1!$A$11:$F$29,5),IF(AND(H115>1997,H115<2000),VLOOKUP(I115,Feuil1!$A$11:$F$29,4),IF(AND(H115>1999,H115<2002),VLOOKUP(I115,Feuil1!$A$11:$F$29,3),VLOOKUP(I115,Feuil1!$A$11:$F$29,2))))),IF(OR(H115=\"SEN\",H115<1995),VLOOKUP(I115,Feuil1!$G$11:$L$25,6),IF(AND(H115>1994,H115<1998),VLOOKUP(I115,Feuil1!$G$11:$L$25,5),IF(AND(H115>1997,H115<2000),VLOOKUP(I115,Feuil1!$G$11:$L$25,4),IF(AND(H115>1999,H115<2002),VLOOKUP(I115,Feuil1!$G$11:$L$25,3),VLOOKUP(I115,Feuil1!$G$11:$L$25,2)))))))","v":"FS69"},{"$f":"IF(I115=\"\",\"\",IF(A115=\"H\",10^(0.794358141*LOG(I115/174.393)^2)*T115,IF(A115=\"F\",10^(0.89726074*LOG(I115/148.026)^2)*T115,\"\")))","v":182.58754342015791},null," ",{"$f":"T115-HLOOKUP(X115,Feuil1!$C$1:$BL$10,2,FALSE)","v":65},{"$f":"T115-HLOOKUP(X115,Feuil1!$C$1:$BL$10,3,FALSE)","v":55},{"$f":"T115-HLOOKUP(X115,Feuil1!$C$1:$BL$10,4,FALSE)","v":40},{"$f":"T115-HLOOKUP(X115,Feuil1!$C$1:$BL$10,5,FALSE)","v":25},{"$f":"T115-HLOOKUP(X115,Feuil1!$C$1:$BL$10,6,FALSE)","v":10},{"$f":"T115-HLOOKUP(X115,Feuil1!$C$1:$BL$10,7,FALSE)","v":-5},{"$f":"T115-HLOOKUP(X115,Feuil1!$C$1:$BL$10,8,FALSE)","v":-25},{"$f":"T115-HLOOKUP(X115,Feuil1!$C$1:$BL$10,9,FALSE)","v":-45},{"$f":"T115-HLOOKUP(X115,Feuil1!$C$1:$BL$10,10,FALSE)","v":-60},null,null,null,null,null,null,{"$f":"IF(AJ115>=0,$AJ$4,IF(AI115>=0,$AI$4,IF(AH115>=0,$AH$4,IF(AG115>=0,$AG$4,IF(AF115>=0,$AF$4,IF(AE115>=0,$AE$4,IF(AD115>=0,$AD$4,IF(AC115>=0,$AC$4,$AB$4))))))))","v":"FED +"}]
["F","SEST","CAZ",4,230430,"ATTIA ","Séverine",1991,64.349999999999994,"ASLDD. TOULON","F",59,62,-64,{"$f":"IF(H116=\"\",\"\",IF(MAXA(L116:N116)<=0,0,MAXA(L116:N116)))","v":62},70,73,-76,{"$f":"IF(H116=\"\",\"\",IF(MAXA(P116:R116)<=0,0,MAXA(P116:R116)))","v":73},{"$f":"IF(H116=\"\",\"\",IF(OR(O116=0,S116=0),0,O116+S116))","v":135},70.650000000000006,{"$f":"IF(H116=\"\",\"\",AQ116)","v":"FED +"},{"$f":"IF(AJ116>=0,AJ116,IF(AI116>=0,AI116,IF(AH116>=0,AH116,IF(AG116>=0,AG116,IF(AF116>=0,AF116,IF(AE116>=0,AE116,IF(AD116>=0,AD116,IF(AC116>=0,AC116,AB116))))))))","v":0},{"$f":"IF(I116=\"\",\"\",IF(A116=\"H\",IF(OR(H116=\"SEN\",H116<1995),VLOOKUP(I116,Feuil1!$A$11:$F$29,6),IF(AND(H116>1994,H116<1998),VLOOKUP(I116,Feuil1!$A$11:$F$29,5),IF(AND(H116>1997,H116<2000),VLOOKUP(I116,Feuil1!$A$11:$F$29,4),IF(AND(H116>1999,H116<2002),VLOOKUP(I116,Feuil1!$A$11:$F$29,3),VLOOKUP(I116,Feuil1!$A$11:$F$29,2))))),IF(OR(H116=\"SEN\",H116<1995),VLOOKUP(I116,Feuil1!$G$11:$L$25,6),IF(AND(H116>1994,H116<1998),VLOOKUP(I116,Feuil1!$G$11:$L$25,5),IF(AND(H116>1997,H116<2000),VLOOKUP(I116,Feuil1!$G$11:$L$25,4),IF(AND(H116>1999,H116<2002),VLOOKUP(I116,Feuil1!$G$11:$L$25,3),VLOOKUP(I116,Feuil1!$G$11:$L$25,2)))))))","v":"FS69"},{"$f":"IF(I116=\"\",\"\",IF(A116=\"H\",10^(0.794358141*LOG(I116/174.393)^2)*T116,IF(A116=\"F\",10^(0.89726074*LOG(I116/148.026)^2)*T116,\"\")))","v":176.92030094831867},null," ",{"$f":"T116-HLOOKUP(X116,Feuil1!$C$1:$BL$10,2,FALSE)","v":55},{"$f":"T116-HLOOKUP(X116,Feuil1!$C$1:$BL$10,3,FALSE)","v":45},{"$f":"T116-HLOOKUP(X116,Feuil1!$C$1:$BL$10,4,FALSE)","v":30},{"$f":"T116-HLOOKUP(X116,Feuil1!$C$1:$BL$10,5,FALSE)","v":15},{"$f":"T116-HLOOKUP(X116,Feuil1!$C$1:$BL$10,6,FALSE)","v":0},{"$f":"T116-HLOOKUP(X116,Feuil1!$C$1:$BL$10,7,FALSE)","v":-15},{"$f":"T116-HLOOKUP(X116,Feuil1!$C$1:$BL$10,8,FALSE)","v":-35},{"$f":"T116-HLOOKUP(X116,Feuil1!$C$1:$BL$10,9,FALSE)","v":-55},{"$f":"T116-HLOOKUP(X116,Feuil1!$C$1:$BL$10,10,FALSE)","v":-70},null,null,null,null,null,null,{"$f":"IF(AJ116>=0,$AJ$4,IF(AI116>=0,$AI$4,IF(AH116>=0,$AH$4,IF(AG116>=0,$AG$4,IF(AF116>=0,$AF$4,IF(AE116>=0,$AE$4,IF(AD116>=0,$AD$4,IF(AC116>=0,$AC$4,$AB$4))))))))","v":"FED +"}]
["F","NE","ALS",5,20829,"THOMAS","Evelyne",1979,69,"ASPTT Strasbourg","F",52,54,56,{"$f":"IF(H117=\"\",\"\",IF(MAXA(L117:N117)<=0,0,MAXA(L117:N117)))","v":56},64,67,70,{"$f":"IF(H117=\"\",\"\",IF(MAXA(P117:R117)<=0,0,MAXA(P117:R117)))","v":70},{"$f":"IF(H117=\"\",\"\",IF(OR(O117=0,S117=0),0,O117+S117))","v":126},57,{"$f":"IF(H117=\"\",\"\",AQ117)","v":"IRG +"},{"$f":"IF(AJ117>=0,AJ117,IF(AI117>=0,AI117,IF(AH117>=0,AH117,IF(AG117>=0,AG117,IF(AF117>=0,AF117,IF(AE117>=0,AE117,IF(AD117>=0,AD117,IF(AC117>=0,AC117,AB117))))))))","v":6},{"$f":"IF(I117=\"\",\"\",IF(A117=\"H\",IF(OR(H117=\"SEN\",H117<1995),VLOOKUP(I117,Feuil1!$A$11:$F$29,6),IF(AND(H117>1994,H117<1998),VLOOKUP(I117,Feuil1!$A$11:$F$29,5),IF(AND(H117>1997,H117<2000),VLOOKUP(I117,Feuil1!$A$11:$F$29,4),IF(AND(H117>1999,H117<2002),VLOOKUP(I117,Feuil1!$A$11:$F$29,3),VLOOKUP(I117,Feuil1!$A$11:$F$29,2))))),IF(OR(H117=\"SEN\",H117<1995),VLOOKUP(I117,Feuil1!$G$11:$L$25,6),IF(AND(H117>1994,H117<1998),VLOOKUP(I117,Feuil1!$G$11:$L$25,5),IF(AND(H117>1997,H117<2000),VLOOKUP(I117,Feuil1!$G$11:$L$25,4),IF(AND(H117>1999,H117<2002),VLOOKUP(I117,Feuil1!$G$11:$L$25,3),VLOOKUP(I117,Feuil1!$G$11:$L$25,2)))))))","v":"FS69"},{"$f":"IF(I117=\"\",\"\",IF(A117=\"H\",10^(0.794358141*LOG(I117/174.393)^2)*T117,IF(A117=\"F\",10^(0.89726074*LOG(I117/148.026)^2)*T117,\"\")))","v":158.11240741140892},null," ",{"$f":"T117-HLOOKUP(X117,Feuil1!$C$1:$BL$10,2,FALSE)","v":46},{"$f":"T117-HLOOKUP(X117,Feuil1!$C$1:$BL$10,3,FALSE)","v":36},{"$f":"T117-HLOOKUP(X117,Feuil1!$C$1:$BL$10,4,FALSE)","v":21},{"$f":"T117-HLOOKUP(X117,Feuil1!$C$1:$BL$10,5,FALSE)","v":6},{"$f":"T117-HLOOKUP(X117,Feuil1!$C$1:$BL$10,6,FALSE)","v":-9},{"$f":"T117-HLOOKUP(X117,Feuil1!$C$1:$BL$10,7,FALSE)","v":-24},{"$f":"T117-HLOOKUP(X117,Feuil1!$C$1:$BL$10,8,FALSE)","v":-44},{"$f":"T117-HLOOKUP(X117,Feuil1!$C$1:$BL$10,9,FALSE)","v":-64},{"$f":"T117-HLOOKUP(X117,Feuil1!$C$1:$BL$10,10,FALSE)","v":-79},null,null,null,null,null,null,{"$f":"IF(AJ117>=0,$AJ$4,IF(AI117>=0,$AI$4,IF(AH117>=0,$AH$4,IF(AG117>=0,$AG$4,IF(AF117>=0,$AF$4,IF(AE117>=0,$AE$4,IF(AD117>=0,$AD$4,IF(AC117>=0,$AC$4,$AB$4))))))))","v":"IRG +"}]
[null,null,null," ",null,null,null,null,null,null,null,null,null,null,null,null,null,null,null,null," ",null,null,null,null,null,null,{"$f":"T118-HLOOKUP(X118,Feuil1!$C$1:$BL$10,2,FALSE)","v":{"$error":"#N/A"}},{"$f":"T118-HLOOKUP(X118,Feuil1!$C$1:$BL$10,3,FALSE)","v":{"$error":"#N/A"}},{"$f":"T118-HLOOKUP(X118,Feuil1!$C$1:$BL$10,4,FALSE)","v":{"$error":"#N/A"}},{"$f":"T118-HLOOKUP(X118,Feuil1!$C$1:$BL$10,5,FALSE)","v":{"$error":"#N/A"}},{"$f":"T118-HLOOKUP(X118,Feuil1!$C$1:$BL$10,6,FALSE)","v":{"$error":"#N/A"}},{"$f":"T118-HLOOKUP(X118,Feuil1!$C$1:$BL$10,7,FALSE)","v":{"$error":"#N/A"}},{"$f":"T118-HLOOKUP(X118,Feuil1!$C$1:$BL$10,8,FALSE)","v":{"$error":"#N/A"}},{"$f":"T118-HLOOKUP(X118,Feuil1!$C$1:$BL$10,9,FALSE)","v":{"$error":"#N/A"}},{"$f":"T118-HLOOKUP(X118,Feuil1!$C$1:$BL$10,10,FALSE)","v":{"$error":"#N/A"}}]
["F","NE","ALS",1,176279,"ZAHNER","Salome",1993,70.7,"SAS Colmarienne","F",70,73,-75,{"$f":"IF(H119=\"\",\"\",IF(MAXA(L119:N119)<=0,0,MAXA(L119:N119)))","v":73},80,87,-90,{"$f":"IF(H119=\"\",\"\",IF(MAXA(P119:R119)<=0,0,MAXA(P119:R119)))","v":87},{"$f":"IF(H119=\"\",\"\",IF(OR(O119=0,S119=0),0,O119+S119))","v":160},89.3,{"$f":"IF(H119=\"\",\"\",AQ119)","v":"NAT +"},{"$f":"IF(AJ119>=0,AJ119,IF(AI119>=0,AI119,IF(AH119>=0,AH119,IF(AG119>=0,AG119,IF(AF119>=0,AF119,IF(AE119>=0,AE119,IF(AD119>=0,AD119,IF(AC119>=0,AC119,AB119))))))))","v":0},{"$f":"IF(I119=\"\",\"\",IF(A119=\"H\",IF(OR(H119=\"SEN\",H119<1995),VLOOKUP(I119,Feuil1!$A$11:$F$29,6),IF(AND(H119>1994,H119<1998),VLOOKUP(I119,Feuil1!$A$11:$F$29,5),IF(AND(H119>1997,H119<2000),VLOOKUP(I119,Feuil1!$A$11:$F$29,4),IF(AND(H119>1999,H119<2002),VLOOKUP(I119,Feuil1!$A$11:$F$29,3),VLOOKUP(I119,Feuil1!$A$11:$F$29,2))))),IF(OR(H119=\"SEN\",H119<1995),VLOOKUP(I119,Feuil1!$G$11:$L$25,6),IF(AND(H119>1994,H119<1998),VLOOKUP(I119,Feuil1!$G$11:$L$25,5),IF(AND(H119>1997,H119<2000),VLOOKUP(I119,Feuil1!$G$11:$L$25,4),IF(AND(H119>1999,H119<2002),VLOOKUP(I119,Feuil1!$G$11:$L$25,3),VLOOKUP(I119,Feuil1!$G$11:$L$25,2)))))))","v":"FS75"},{"$f":"IF(I119=\"\",\"\",IF(A119=\"H\",10^(0.794358141*LOG(I119/174.393)^2)*T119,IF(A119=\"F\",10^(0.89726074*LOG(I119/148.026)^2)*T119,\"\")))","v":197.9373433044498},null," ",{"$f":"T119-HLOOKUP(X119,Feuil1!$C$1:$BL$10,2,FALSE)","v":65},{"$f":"T119-HLOOKUP(X119,Feuil1!$C$1:$BL$10,3,FALSE)","v":55},{"$f":"T119-HLOOKUP(X119,Feuil1!$C$1:$BL$10,4,FALSE)","v":45},{"$f":"T119-HLOOKUP(X119,Feuil1!$C$1:$BL$10,5,FALSE)","v":30},{"$f":"T119-HLOOKUP(X119,Feuil1!$C$1:$BL$10,6,FALSE)","v":15},{"$f":"T119-HLOOKUP(X119,Feuil1!$C$1:$BL$10,7,FALSE)","v":0},{"$f":"T119-HLOOKUP(X119,Feuil1!$C$1:$BL$10,8,FALSE)","v":-20},{"$f":"T119-HLOOKUP(X119,Feuil1!$C$1:$BL$10,9,FALSE)","v":-35},{"$f":"T119-HLOOKUP(X119,Feuil1!$C$1:$BL$10,10,FALSE)","v":-50},null,null,null,null,null,null,{"$f":"IF(AJ119>=0,$AJ$4,IF(AI119>=0,$AI$4,IF(AH119>=0,$AH$4,IF(AG119>=0,$AG$4,IF(AF119>=0,$AF$4,IF(AE119>=0,$AE$4,IF(AD119>=0,$AD$4,IF(AC119>=0,$AC$4,$AB$4))))))))","v":"NAT +"}]
[null,null,null,null,null,null,null,null,null,null,null,null,null,null,null,null,null,null,null,null," ",null,null,null,null,null,null,{"$f":"T120-HLOOKUP(X120,Feuil1!$C$1:$BL$10,2,FALSE)","v":{"$error":"#N/A"}},{"$f":"T120-HLOOKUP(X120,Feuil1!$C$1:$BL$10,3,FALSE)","v":{"$error":"#N/A"}},{"$f":"T120-HLOOKUP(X120,Feuil1!$C$1:$BL$10,4,FALSE)","v":{"$error":"#N/A"}},{"$f":"T120-HLOOKUP(X120,Feuil1!$C$1:$BL$10,5,FALSE)","v":{"$error":"#N/A"}},{"$f":"T120-HLOOKUP(X120,Feuil1!$C$1:$BL$10,6,FALSE)","v":{"$error":"#N/A"}},{"$f":"T120-HLOOKUP(X120,Feuil1!$C$1:$BL$10,7,FALSE)","v":{"$error":"#N/A"}},{"$f":"T120-HLOOKUP(X120,Feuil1!$C$1:$BL$10,8,FALSE)","v":{"$error":"#N/A"}},{"$f":"T120-HLOOKUP(X120,Feuil1!$C$1:$BL$10,9,FALSE)","v":{"$error":"#N/A"}},{"$f":"T120-HLOOKUP(X120,Feuil1!$C$1:$BL$10,10,FALSE)","v":{"$error":"#N/A"}}]
["F","NE","BOU",1,378763,"MIYENGA","Hélène",1984,81.3,"Stade Dijonnais HM","Cam",70,75,78,{"$f":"IF(H121=\"\",\"\",IF(MAXA(L121:N121)<=0,0,MAXA(L121:N121)))","v":78},92,98,103,{"$f":"IF(H121=\"\",\"\",IF(MAXA(P121:R121)<=0,0,MAXA(P121:R121)))","v":103},{"$f":"IF(H121=\"\",\"\",IF(OR(O121=0,S121=0),0,O121+S121))","v":181},99.7,{"$f":"IF(H121=\"\",\"\",AQ121)","v":"NAT +"},{"$f":"IF(AJ121>=0,AJ121,IF(AI121>=0,AI121,IF(AH121>=0,AH121,IF(AG121>=0,AG121,IF(AF121>=0,AF121,IF(AE121>=0,AE121,IF(AD121>=0,AD121,IF(AC121>=0,AC121,AB121))))))))","v":11},{"$f":"IF(I121=\"\",\"\",IF(A121=\"H\",IF(OR(H121=\"SEN\",H121<1995),VLOOKUP(I121,Feuil1!$A$11:$F$29,6),IF(AND(H121>1994,H121<1998),VLOOKUP(I121,Feuil1!$A$11:$F$29,5),IF(AND(H121>1997,H121<2000),VLOOKUP(I121,Feuil1!$A$11:$F$29,4),IF(AND(H121>1999,H121<2002),VLOOKUP(I121,Feuil1!$A$11:$F$29,3),VLOOKUP(I121,Feuil1!$A$11:$F$29,2))))),IF(OR(H121=\"SEN\",H121<1995),VLOOKUP(I121,Feuil1!$G$11:$L$25,6),IF(AND(H121>1994,H121<1998),VLOOKUP(I121,Feuil1!$G$11:$L$25,5),IF(AND(H121>1997,H121<2000),VLOOKUP(I121,Feuil1!$G$11:$L$25,4),IF(AND(H121>1999,H121<2002),VLOOKUP(I121,Feuil1!$G$11:$L$25,3),VLOOKUP(I121,Feuil1!$G$11:$L$25,2)))))))","v":"FS+75"},{"$f":"IF(I121=\"\",\"\",IF(A121=\"H\",10^(0.794358141*LOG(I121/174.393)^2)*T121,IF(A121=\"F\",10^(0.89726074*LOG(I121/148.026)^2)*T121,\"\")))","v":208.1847502107787},null," ",{"$f":"T121-HLOOKUP(X121,Feuil1!$C$1:$BL$10,2,FALSE)","v":81},{"$f":"T121-HLOOKUP(X121,Feuil1!$C$1:$BL$10,3,FALSE)","v":71},{"$f":"T121-HLOOKUP(X121,Feuil1!$C$1:$BL$10,4,FALSE)","v":56},{"$f":"T121-HLOOKUP(X121,Feuil1!$C$1:$BL$10,5,FALSE)","v":41},{"$f":"T121-HLOOKUP(X121,Feuil1!$C$1:$BL$10,6,FALSE)","v":31},{"$f":"T121-HLOOKUP(X121,Feuil1!$C$1:$BL$10,7,FALSE)","v":11},{"$f":"T121-HLOOKUP(X121,Feuil1!$C$1:$BL$10,8,FALSE)","v":-9},{"$f":"T121-HLOOKUP(X121,Feuil1!$C$1:$BL$10,9,FALSE)","v":-29},{"$f":"T121-HLOOKUP(X121,Feuil1!$C$1:$BL$10,10,FALSE)","v":-44},null,null,null,null,null,null,{"$f":"IF(AJ121>=0,$AJ$4,IF(AI121>=0,$AI$4,IF(AH121>=0,$AH$4,IF(AG121>=0,$AG$4,IF(AF121>=0,$AF$4,IF(AE121>=0,$AE$4,IF(AD121>=0,$AD$4,IF(AC121>=0,$AC$4,$AB$4))))))))","v":"NAT +"}]
["F","NE","BOU",2,357580,"ELUARD","Judith",1983,83.1,"Stade Dijonnais HM","F",58,61,63,{"$f":"IF(H122=\"\",\"\",IF(MAXA(L122:N122)<=0,0,MAXA(L122:N122)))","v":63},87,92,"-",{"$f":"IF(H122=\"\",\"\",IF(MAXA(P122:R122)<=0,0,MAXA(P122:R122)))","v":92},{"$f":"IF(H122=\"\",\"\",IF(OR(O122=0,S122=0),0,O122+S122))","v":155},71.900000000000006,{"$f":"IF(H122=\"\",\"\",AQ122)","v":"FED +"},{"$f":"IF(AJ122>=0,AJ122,IF(AI122>=0,AI122,IF(AH122>=0,AH122,IF(AG122>=0,AG122,IF(AF122>=0,AF122,IF(AE122>=0,AE122,IF(AD122>=0,AD122,IF(AC122>=0,AC122,AB122))))))))","v":5},{"$f":"IF(I122=\"\",\"\",IF(A122=\"H\",IF(OR(H122=\"SEN\",H122<1995),VLOOKUP(I122,Feuil1!$A$11:$F$29,6),IF(AND(H122>1994,H122<1998),VLOOKUP(I122,Feuil1!$A$11:$F$29,5),IF(AND(H122>1997,H122<2000),VLOOKUP(I122,Feuil1!$A$11:$F$29,4),IF(AND(H122>1999,H122<2002),VLOOKUP(I122,Feuil1!$A$11:$F$29,3),VLOOKUP(I122,Feuil1!$A$11:$F$29,2))))),IF(OR(H122=\"SEN\",H122<1995),VLOOKUP(I122,Feuil1!$G$11:$L$25,6),IF(AND(H122>1994,H122<1998),VLOOKUP(I122,Feuil1!$G$11:$L$25,5),IF(AND(H122>1997,H122<2000),VLOOKUP(I122,Feuil1!$G$11:$L$25,4),IF(AND(H122>1999,H122<2002),VLOOKUP(I122,Feuil1!$G$11:$L$25,3),VLOOKUP(I122,Feuil1!$G$11:$L$25,2)))))))","v":"FS+75"},{"$f":"IF(I122=\"\",\"\",IF(A122=\"H\",10^(0.794358141*LOG(I122/174.393)^2)*T122,IF(A122=\"F\",10^(0.89726074*LOG(I122/148.026)^2)*T122,\"\")))","v":176.49874160538158},null," ",{"$f":"T122-HLOOKUP(X122,Feuil1!$C$1:$BL$10,2,FALSE)","v":55},{"$f":"T122-HLOOKUP(X122,Feuil1!$C$1:$BL$10,3,FALSE)","v":45},{"$f":"T122-HLOOKUP(X122,Feuil1!$C$1:$BL$10,4,FALSE)","v":30},{"$f":"T122-HLOOKUP(X122,Feuil1!$C$1:$BL$10,5,FALSE)","v":15},{"$f":"T122-HLOOKUP(X122,Feuil1!$C$1:$BL$10,6,FALSE)","v":5},{"$f":"T122-HLOOKUP(X122,Feuil1!$C$1:$BL$10,7,FALSE)","v":-15},{"$f":"T122-HLOOKUP(X122,Feuil1!$C$1:$BL$10,8,FALSE)","v":-35},{"$f":"T122-HLOOKUP(X122,Feuil1!$C$1:$BL$10,9,FALSE)","v":-55},{"$f":"T122-HLOOKUP(X122,Feuil1!$C$1:$BL$10,10,FALSE)","v":-70},null,null,null,null,null,null,{"$f":"IF(AJ122>=0,$AJ$4,IF(AI122>=0,$AI$4,IF(AH122>=0,$AH$4,IF(AG122>=0,$AG$4,IF(AF122>=0,$AF$4,IF(AE122>=0,$AE$4,IF(AD122>=0,$AD$4,IF(AC122>=0,$AC$4,$AB$4))))))))","v":"FED +"}]
["F","NE","ALS",3,134752,"CHRISTNACHER","Adeline",1992,78.900000000000006,"ASPTT Strasbourg","F",64,67,-69,{"$f":"IF(H123=\"\",\"\",IF(MAXA(L123:N123)<=0,0,MAXA(L123:N123)))","v":67},80,83,86,{"$f":"IF(H123=\"\",\"\",IF(MAXA(P123:R123)<=0,0,MAXA(P123:R123)))","v":86},{"$f":"IF(H123=\"\",\"\",IF(OR(O123=0,S123=0),0,O123+S123))","v":153},74.099999999999994,{"$f":"IF(H123=\"\",\"\",AQ123)","v":"FED +"},{"$f":"IF(AJ123>=0,AJ123,IF(AI123>=0,AI123,IF(AH123>=0,AH123,IF(AG123>=0,AG123,IF(AF123>=0,AF123,IF(AE123>=0,AE123,IF(AD123>=0,AD123,IF(AC123>=0,AC123,AB123))))))))","v":3},{"$f":"IF(I123=\"\",\"\",IF(A123=\"H\",IF(OR(H123=\"SEN\",H123<1995),VLOOKUP(I123,Feuil1!$A$11:$F$29,6),IF(AND(H123>1994,H123<1998),VLOOKUP(I123,Feuil1!$A$11:$F$29,5),IF(AND(H123>1997,H123<2000),VLOOKUP(I123,Feuil1!$A$11:$F$29,4),IF(AND(H123>1999,H123<2002),VLOOKUP(I123,Feuil1!$A$11:$F$29,3),VLOOKUP(I123,Feuil1!$A$11:$F$29,2))))),IF(OR(H123=\"SEN\",H123<1995),VLOOKUP(I123,Feuil1!$G$11:$L$25,6),IF(AND(H123>1994,H123<1998),VLOOKUP(I123,Feuil1!$G$11:$L$25,5),IF(AND(H123>1997,H123<2000),VLOOKUP(I123,Feuil1!$G$11:$L$25,4),IF(AND(H123>1999,H123<2002),VLOOKUP(I123,Feuil1!$G$11:$L$25,3),VLOOKUP(I123,Feuil1!$G$11:$L$25,2)))))))","v":"FS+75"},{"$f":"IF(I123=\"\",\"\",IF(A123=\"H\",10^(0.794358141*LOG(I123/174.393)^2)*T123,IF(A123=\"F\",10^(0.89726074*LOG(I123/148.026)^2)*T123,\"\")))","v":178.52181882688853},null," ",{"$f":"T123-HLOOKUP(X123,Feuil1!$C$1:$BL$10,2,FALSE)","v":53},{"$f":"T123-HLOOKUP(X123,Feuil1!$C$1:$BL$10,3,FALSE)","v":43},{"$f":"T123-HLOOKUP(X123,Feuil1!$C$1:$BL$10,4,FALSE)","v":28},{"$f":"T123-HLOOKUP(X123,Feuil1!$C$1:$BL$10,5,FALSE)","v":13},{"$f":"T123-HLOOKUP(X123,Feuil1!$C$1:$BL$10,6,FALSE)","v":3},{"$f":"T123-HLOOKUP(X123,Feuil1!$C$1:$BL$10,7,FALSE)","v":-17},{"$f":"T123-HLOOKUP(X123,Feuil1!$C$1:$BL$10,8,FALSE)","v":-37},{"$f":"T123-HLOOKUP(X123,Feuil1!$C$1:$BL$10,9,FALSE)","v":-57},{"$f":"T123-HLOOKUP(X123,Feuil1!$C$1:$BL$10,10,FALSE)","v":-72},null,null,null,null,null,null,{"$f":"IF(AJ123>=0,$AJ$4,IF(AI123>=0,$AI$4,IF(AH123>=0,$AH$4,IF(AG123>=0,$AG$4,IF(AF123>=0,$AF$4,IF(AE123>=0,$AE$4,IF(AD123>=0,$AD$4,IF(AC123>=0,$AC$4,$AB$4))))))))","v":"FED +"}]
["F","Nord","IDF",4,45169,"DRENO","Eva",1985,79.739999999999995,"CHM Chaville","F",58,62,65,{"$f":"IF(H124=\"\",\"\",IF(MAXA(L124:N124)<=0,0,MAXA(L124:N124)))","v":65},75,80,85,{"$f":"IF(H124=\"\",\"\",IF(MAXA(P124:R124)<=0,0,MAXA(P124:R124)))","v":85},{"$f":"IF(H124=\"\",\"\",IF(OR(O124=0,S124=0),0,O124+S124))","v":150},70.260000000000005,{"$f":"IF(H124=\"\",\"\",AQ124)","v":"FED +"},{"$f":"IF(AJ124>=0,AJ124,IF(AI124>=0,AI124,IF(AH124>=0,AH124,IF(AG124>=0,AG124,IF(AF124>=0,AF124,IF(AE124>=0,AE124,IF(AD124>=0,AD124,IF(AC124>=0,AC124,AB124))))))))","v":0},{"$f":"IF(I124=\"\",\"\",IF(A124=\"H\",IF(OR(H124=\"SEN\",H124<1995),VLOOKUP(I124,Feuil1!$A$11:$F$29,6),IF(AND(H124>1994,H124<1998),VLOOKUP(I124,Feuil1!$A$11:$F$29,5),IF(AND(H124>1997,H124<2000),VLOOKUP(I124,Feuil1!$A$11:$F$29,4),IF(AND(H124>1999,H124<2002),VLOOKUP(I124,Feuil1!$A$11:$F$29,3),VLOOKUP(I124,Feuil1!$A$11:$F$29,2))))),IF(OR(H124=\"SEN\",H124<1995),VLOOKUP(I124,Feuil1!$G$11:$L$25,6),IF(AND(H124>1994,H124<1998),VLOOKUP(I124,Feuil1!$G$11:$L$25,5),IF(AND(H124>1997,H124<2000),VLOOKUP(I124,Feuil1!$G$11:$L$25,4),IF(AND(H124>1999,H124<2002),VLOOKUP(I124,Feuil1!$G$11:$L$25,3),VLOOKUP(I124,Feuil1!$G$11:$L$25,2)))))))","v":"FS+75"},{"$f":"IF(I124=\"\",\"\",IF(A124=\"H\",10^(0.794358141*LOG(I124/174.393)^2)*T124,IF(A124=\"F\",10^(0.89726074*LOG(I124/148.026)^2)*T124,\"\")))","v":174.12245217956945},null," ",{"$f":"T124-HLOOKUP(X124,Feuil1!$C$1:$BL$10,2,FALSE)","v":50},{"$f":"T124-HLOOKUP(X124,Feuil1!$C$1:$BL$10,3,FALSE)","v":40},{"$f":"T124-HLOOKUP(X124,Feuil1!$C$1:$BL$10,4,FALSE)","v":25},{"$f":"T124-HLOOKUP(X124,Feuil1!$C$1:$BL$10,5,FALSE)","v":10},{"$f":"T124-HLOOKUP(X124,Feuil1!$C$1:$BL$10,6,FALSE)","v":0},{"$f":"T124-HLOOKUP(X124,Feuil1!$C$1:$BL$10,7,FALSE)","v":-20},{"$f":"T124-HLOOKUP(X124,Feuil1!$C$1:$BL$10,8,FALSE)","v":-40},{"$f":"T124-HLOOKUP(X124,Feuil1!$C$1:$BL$10,9,FALSE)","v":-60},{"$f":"T124-HLOOKUP(X124,Feuil1!$C$1:$BL$10,10,FALSE)","v":-75},null,null,null,null,null,null,{"$f":"IF(AJ124>=0,$AJ$4,IF(AI124>=0,$AI$4,IF(AH124>=0,$AH$4,IF(AG124>=0,$AG$4,IF(AF124>=0,$AF$4,IF(AE124>=0,$AE$4,IF(AD124>=0,$AD$4,IF(AC124>=0,$AC$4,$AB$4))))))))","v":"FED +"}]
[null,null,null,null,null," ",null,null,null,null,null,null,null,null,null,null,null,null,null,null,null,null,null,null,null,null,null,{"$f":"T125-HLOOKUP(X125,Feuil1!$C$1:$BL$10,2,FALSE)","v":{"$error":"#N/A"}},{"$f":"T125-HLOOKUP(X125,Feuil1!$C$1:$BL$10,3,FALSE)","v":{"$error":"#N/A"}},{"$f":"T125-HLOOKUP(X125,Feuil1!$C$1:$BL$10,4,FALSE)","v":{"$error":"#N/A"}},{"$f":"T125-HLOOKUP(X125,Feuil1!$C$1:$BL$10,5,FALSE)","v":{"$error":"#N/A"}},{"$f":"T125-HLOOKUP(X125,Feuil1!$C$1:$BL$10,6,FALSE)","v":{"$error":"#N/A"}},{"$f":"T125-HLOOKUP(X125,Feuil1!$C$1:$BL$10,7,FALSE)","v":{"$error":"#N/A"}},{"$f":"T125-HLOOKUP(X125,Feuil1!$C$1:$BL$10,8,FALSE)","v":{"$error":"#N/A"}},{"$f":"T125-HLOOKUP(X125,Feuil1!$C$1:$BL$10,9,FALSE)","v":{"$error":"#N/A"}},{"$f":"T125-HLOOKUP(X125,Feuil1!$C$1:$BL$10,10,FALSE)","v":{"$error":"#N/A"}}]
[null,null,null,null,null,null,null,null,null,null,null,null," "," ",null,null,null,null,null,null,null,null,null,null,null,null," ",{"$f":"T126-HLOOKUP(X126,Feuil1!$C$1:$BL$10,2,FALSE)","v":{"$error":"#N/A"}},{"$f":"T126-HLOOKUP(X126,Feuil1!$C$1:$BL$10,3,FALSE)","v":{"$error":"#N/A"}},{"$f":"T126-HLOOKUP(X126,Feuil1!$C$1:$BL$10,4,FALSE)","v":{"$error":"#N/A"}},{"$f":"T126-HLOOKUP(X126,Feuil1!$C$1:$BL$10,5,FALSE)","v":{"$error":"#N/A"}},{"$f":"T126-HLOOKUP(X126,Feuil1!$C$1:$BL$10,6,FALSE)","v":{"$error":"#N/A"}},{"$f":"T126-HLOOKUP(X126,Feuil1!$C$1:$BL$10,7,FALSE)","v":{"$error":"#N/A"}},{"$f":"T126-HLOOKUP(X126,Feuil1!$C$1:$BL$10,8,FALSE)","v":{"$error":"#N/A"}},{"$f":"T126-HLOOKUP(X126,Feuil1!$C$1:$BL$10,9,FALSE)","v":{"$error":"#N/A"}},{"$f":"T126-HLOOKUP(X126,Feuil1!$C$1:$BL$10,10,FALSE)","v":{"$error":"#N/A"}},null,null,null,null,null,null,{"$f":"IF(AJ126>=0,$AJ$4,IF(AI126>=0,$AI$4,IF(AH126>=0,$AH$4,IF(AG126>=0,$AG$4,IF(AF126>=0,$AF$4,IF(AE126>=0,$AE$4,IF(AD126>=0,$AD$4,IF(AC126>=0,$AC$4,$AB$4))))))))","v":{"$error":"#N/A"}}]
[]
[]
[]
[]
[]
[]
[]
[]
[]
[]
[]
[]
[]
[]
[]
[]
[]
[]
[]
[]
[]
[]
[]
[]
[]
[]
[]
[]
[]
[]
[]
[]
[]
[]
[]
[]
[]
[]
[]
[]
[]
[]
[]
[]
[]
[]
[]
[]
[]
[]
[]
[]
[]
[]
[]
[]
[]
[]
[]
[]
[]
[]
[]
[]
[]
[]
[]
[]
[]
[]
[]
[]
[]
[]
[]
[]
[]
[]
[]
[]
[]
[]
[]
[]
[]
[]
[]
[]
[]
[]
[]
[]
[]
[]
[]
[]
[]
[]
[]
[]
[]
[]
[]
[]
[]
[]
[]
[]
[]
[]
[]
[]
[]
[]
[]
[]
[]
[]
[]
[]
[]
[]
[]
[]
[]
[]
[]
[]
[]
[]
[]
[]
[]
[]
[]
[]
[]
[]
[]
[]
[]
[]
[]
[]
[]
[]
[]
[]
[]
[]
[]
[]
[]
[]
[]
[]
[]
[]
[]
[]
[]
[]
[]
[]
[]
[]
[]
[]
[]
[]
[]
[]
[]
[]
[]
[]
[]
[]
[]
[]
[]
[]
[]
[]
[]
[]
[]
[]
[]
[]
[]
[]
[]
[]
[]
[]
[]
[]
[]
[]
[]
[]
[]
[]
[]
[]
[]
[]
[]
[]
[]
[]
[]
[]
[]
[]
[]
[]
[]
[]
[]
[]
[]
[]
[]
[]
[]
[]
[]
[]
[]
[]
[]
[]
[]
[]
[]
[]
[]
[]
[]
[]
[]
[]
[]
[]
[]
[]
[]
[]
[]
[]
[]
[]
[]
[]
[]
[]
[]
[]
[]
[]
[]
[]
[]
[]
[]
[]
[]
[]
[]
[]
[]
[]
[]
[]
[]
[]
[]
[]
[]
[]
[]
[]
[]
[]
[]
[]
[]
[]
[]
[]
[]
[]
[]
[]
[]
[]
[]
[]
[]
[]
[]
[]
[]
[]
[]
[]
[]
[]
[]
[]
[]
[]
[]
[]
[]
[]
[]
[]
[]
[]
[]
[]
[]
[]
[]
[]
[]
[]
[]
[]
[]
[]
[]
[]
[]
[]
[]
[]
[]
[]
[]
[]
[]
[]
[]
[]
[]
[]
[]
[]
[]
[]
[]
[]
[]
[]
[]
[]
[]
[]
[]
[]
[]
[]
[]
[]
[]
[]
[]
[]
[]
[]
[]
[]
[]
[]
[]
[]
[]
[]
[]
[]
[]
[]
[]
[]
[]
[]
[]
[]
[]
[]
[]
[]
[]
[]
[]
[]
[]
[]
[]
[]
[]
[]
[]
[]
[]
[]
[]
[]
[]
[]
[]
[]
[]
[]
[]
[]
[]
[]
[]
[]
[]
[]
[]
[]
[]
[]
[]
[]
[]
[]
[]
[]
[]
[]
[]
[]
[]
[]
[]
[]
[]
[]
[]
[]
[]
[]
[]
[]
[]
[]
[]
[]
[]
[]
[]
[]
[]
[]
[]
[]
[]
[]
[]
[]
[]
[]
[]
[]
[]
[]
[]
[]
[]
[]
[]
[]
[]
[]
[]
[]
[]
[]
[]
[]
[]
[]
[]
[]
[]
[]
[]
[]
[]
[]
[null,null,null,null,null,null,null,null,null,null,null,null,null,null,null,null,null,null,null,null,null,null,null,null,null,null,null,"J77","J85","J94","J105","J+105",null,"J56","J62","J69","J77","J85","J94","J105","J+105",null,"S56","S62","S69","S77","S85","S94","S105","S+105"]
[null,null,null,null,null,null,null,null,null,null,null,null,null,null,null,null,null,null,null,null,null,null,null,null,null,null,null,145,160,170,180,190,null,100,115,130,145,160,170,180,190,null,115,135,150,165,180,190,200,210]
[null,null,null,null,null,null,null,null,null,null,null,null,null,null,null,null,null,null,null,null,null,null,null,null,null,null,null,165,180,190,200,210,null,115,135,150,165,180,190,200,210,null,130,150,165,185,200,210,220,230]
[null,null,null,null,null,null,null,null,null,null,null,null,null,null,null,null,null,null,null,null,null,null,null,null,null,null,null,185,200,210,220,230,null,130,150,165,185,200,210,220,230,null,145,165,180,200,220,230,240,250]
[null,null,null,null,null,null,null,null,null,null,null,null,null,null,null,null,null,null,null,null,null,null,null,null,null,null,null,200,220,230,240,250,null,145,165,180,200,220,230,240,250,null,175,195,215,235,250,260,275,280]
[null,null,null,null,null,null,null,null,null,null,null,null,null,null,null,null,null,null,null,null,null,null,null,null,null,null,null,235,250,260,275,280,null,175,195,215,235,250,260,275,280,null,210,230,250,270,290,300,310,325]
[null,null,null,null,null,null,null,null,null,null,null,null,null,null,null,null,null,null,null,null,null,null,null,null,null,null,null,270,290,300,310,325,null,210,230,250,270,290,300,310,325,null,230,255,275,300,315,335,345,355]
[null,null,null,null,null,null,null,null,null,null,null,null,null,null,null,null,null,null,null,null,null,null,null,null,null,null,null,320,335,355,370,380,null,245,270,295,320,335,355,370,380,null,245,270,295,320,335,355,370,380]

{"sheet":"CADETS JUNIORS","index":2,"n_rows":625,"n_cols":50,"rows_kept":625,"cut":false,"hidden":false,"merged":[[3,21,3,22],[0,18,0,21],[1,6,1,10],[1,18,1,19],[1,21,1,22],[1,11,1,12],[1,13,1,14]]}
[null,null,null,null,null,"EPREUVE :","CHAMPIONNAT INTERREGIONAL D'AUTOMNE",null,null,null,null,null,null,null,null,null,"DATE :",null,"2014-11-15"]
[null,null,null,null,null," ","CLASSEMENT NATIONAL des ZONES",null,null,null,null," ",null," ",null,null,null,null," ",null,null," "]
[]
["SEXE","ZONE","REG.","CL.","LICENCE","NOMS","Prénoms","AN","POIDS","CLUB","NAT",1,2,3,"ARR",1,2,3,"EP-J","Total","Points","SERIE",null,"Catég","IWF",null," ","DEB ","DEP +","REG +","IRG +","FED +","NAT +","INTB +","INTA +","OLY +"]
[null,null,null,null,null,"U15"]
["H","NE","CHA",1,357535,"CATTEAU ","Jimmy",2000,42.5,"Reims HM","F",37,40,-42,{"$f":"IF(H6=\"\",\"\",IF(MAXA(L6:N6)<=0,0,MAXA(L6:N6)))","v":40},47,50,52,{"$f":"IF(H6=\"\",\"\",IF(MAXA(P6:R6)<=0,0,MAXA(P6:R6)))","v":52},{"$f":"IF(H6=\"\",\"\",IF(OR(O6=0,S6=0),0,O6+S6))","v":92},{"$f":"T6-I6*2","v":7},{"$f":"IF(H6=\"\",\"\",AQ6)","v":"FED +"},{"$f":"IF(AJ6>=0,AJ6,IF(AI6>=0,AI6,IF(AH6>=0,AH6,IF(AG6>=0,AG6,IF(AF6>=0,AF6,IF(AE6>=0,AE6,IF(AD6>=0,AD6,IF(AC6>=0,AC6,AB6))))))))","v":2},{"$f":"IF(I6=\"\",\"\",IF(A6=\"H\",IF(OR(H6=\"SEN\",H6<1995),VLOOKUP(I6,Feuil1!$A$11:$F$29,6),IF(AND(H6>1994,H6<1998),VLOOKUP(I6,Feuil1!$A$11:$F$29,5),IF(AND(H6>1997,H6<2000),VLOOKUP(I6,Feuil1!$A$11:$F$29,4),IF(AND(H6>1999,H6<2002),VLOOKUP(I6,Feuil1!$A$11:$F$29,3),VLOOKUP(I6,Feuil1!$A$11:$F$29,2))))),IF(OR(H6=\"SEN\",H6<1995),VLOOKUP(I6,Feuil1!$G$11:$L$25,6),IF(AND(H6>1994,H6<1998),VLOOKUP(I6,Feuil1!$G$11:$L$25,5),IF(AND(H6>1997,H6<2000),VLOOKUP(I6,Feuil1!$G$11:$L$25,4),IF(AND(H6>1999,H6<2002),VLOOKUP(I6,Feuil1!$G$11:$L$25,3),VLOOKUP(I6,Feuil1!$G$11:$L$25,2)))))))","v":"C1 45"},{"$f":"IF(I6=\"\",\"\",IF(A6=\"H\",10^(0.794358141*LOG(I6/174.393)^2)*T6,IF(A6=\"F\",10^(0.89726074*LOG(I6/148.026)^2)*T6,\"\")))","v":182.98667526992881},null," ",{"$f":"T6-HLOOKUP(X6,Feuil1!$C$1:$BL$10,2,FALSE)","v":57},{"$f":"T6-HLOOKUP(X6,Feuil1!$C$1:$BL$10,3,FALSE)","v":42},{"$f":"T6-HLOOKUP(X6,Feuil1!$C$1:$BL$10,4,FALSE)","v":32},{"$f":"T6-HLOOKUP(X6,Feuil1!$C$1:$BL$10,5,FALSE)","v":17},{"$f":"T6-HLOOKUP(X6,Feuil1!$C$1:$BL$10,6,FALSE)","v":2},{"$f":"T6-HLOOKUP(X6,Feuil1!$C$1:$BL$10,7,FALSE)","v":-13},{"$f":"T6-HLOOKUP(X6,Feuil1!$C$1:$BL$10,8,FALSE)","v":-23},{"$f":"T6-HLOOKUP(X6,Feuil1!$C$1:$BL$10,9,FALSE)","v":-38},{"$f":"T6-HLOOKUP(X6,Feuil1!$C$1:$BL$10,10,FALSE)","v":-908},null,null,null,null,null,null,{"$f":"IF(AJ6>=0,$AJ$4,IF(AI6>=0,$AI$4,IF(AH6>=0,$AH$4,IF(AG6>=0,$AG$4,IF(AF6>=0,$AF$4,IF(AE6>=0,$AE$4,IF(AD6>=0,$AD$4,IF(AC6>=0,$AC$4,$AB$4))))))))","v":"FED +"}]
["H","NE","BOU",2,329944,"AMADOU","Alexis",2001,36.200000000000003,"HC Avallon","F",30,33,35,35,47,51,-53,51,86,13.599999999999994,"IRG +",11,{"$f":"IF(I7=\"\",\"\",IF(A7=\"H\",IF(OR(H7=\"SEN\",H7<1995),VLOOKUP(I7,Feuil1!$A$11:$F$29,6),IF(AND(H7>1994,H7<1998),VLOOKUP(I7,Feuil1!$A$11:$F$29,5),IF(AND(H7>1997,H7<2000),VLOOKUP(I7,Feuil1!$A$11:$F$29,4),IF(AND(H7>1999,H7<2002),VLOOKUP(I7,Feuil1!$A$11:$F$29,3),VLOOKUP(I7,Feuil1!$A$11:$F$29,2))))),IF(OR(H7=\"SEN\",H7<1995),VLOOKUP(I7,Feuil1!$G$11:$L$25,6),IF(AND(H7>1994,H7<1998),VLOOKUP(I7,Feuil1!$G$11:$L$25,5),IF(AND(H7>1997,H7<2000),VLOOKUP(I7,Feuil1!$G$11:$L$25,4),IF(AND(H7>1999,H7<2002),VLOOKUP(I7,Feuil1!$G$11:$L$25,3),VLOOKUP(I7,Feuil1!$G$11:$L$25,2)))))))","v":"C1 45"},201.7729825960806,null," ",{"$f":"T7-HLOOKUP(X7,Feuil1!$C$1:$BL$10,2,FALSE)","v":51},{"$f":"T7-HLOOKUP(X7,Feuil1!$C$1:$BL$10,3,FALSE)","v":36},{"$f":"T7-HLOOKUP(X7,Feuil1!$C$1:$BL$10,4,FALSE)","v":26},{"$f":"T7-HLOOKUP(X7,Feuil1!$C$1:$BL$10,5,FALSE)","v":11},{"$f":"T7-HLOOKUP(X7,Feuil1!$C$1:$BL$10,6,FALSE)","v":-4},{"$f":"T7-HLOOKUP(X7,Feuil1!$C$1:$BL$10,7,FALSE)","v":-19},{"$f":"T7-HLOOKUP(X7,Feuil1!$C$1:$BL$10,8,FALSE)","v":-29},{"$f":"T7-HLOOKUP(X7,Feuil1!$C$1:$BL$10,9,FALSE)","v":-44},{"$f":"T7-HLOOKUP(X7,Feuil1!$C$1:$BL$10,10,FALSE)","v":-914},null,null,null,null,null,null,"IRG +"]
["H","NE","LOR",3,281801,"GUINDOS","Lucas",2001,41.4,"E.S.Laneuveville","F",34,37,39,39,44,47,-49,47,86,3.2000000000000028,"IRG +",11,{"$f":"IF(I8=\"\",\"\",IF(A8=\"H\",IF(OR(H8=\"SEN\",H8<1995),VLOOKUP(I8,Feuil1!$A$11:$F$29,6),IF(AND(H8>1994,H8<1998),VLOOKUP(I8,Feuil1!$A$11:$F$29,5),IF(AND(H8>1997,H8<2000),VLOOKUP(I8,Feuil1!$A$11:$F$29,4),IF(AND(H8>1999,H8<2002),VLOOKUP(I8,Feuil1!$A$11:$F$29,3),VLOOKUP(I8,Feuil1!$A$11:$F$29,2))))),IF(OR(H8=\"SEN\",H8<1995),VLOOKUP(I8,Feuil1!$G$11:$L$25,6),IF(AND(H8>1994,H8<1998),VLOOKUP(I8,Feuil1!$G$11:$L$25,5),IF(AND(H8>1997,H8<2000),VLOOKUP(I8,Feuil1!$G$11:$L$25,4),IF(AND(H8>1999,H8<2002),VLOOKUP(I8,Feuil1!$G$11:$L$25,3),VLOOKUP(I8,Feuil1!$G$11:$L$25,2)))))))","v":"C1 45"},175.52007984751683,null," ",{"$f":"T8-HLOOKUP(X8,Feuil1!$C$1:$BL$10,2,FALSE)","v":51},{"$f":"T8-HLOOKUP(X8,Feuil1!$C$1:$BL$10,3,FALSE)","v":36},{"$f":"T8-HLOOKUP(X8,Feuil1!$C$1:$BL$10,4,FALSE)","v":26},{"$f":"T8-HLOOKUP(X8,Feuil1!$C$1:$BL$10,5,FALSE)","v":11},{"$f":"T8-HLOOKUP(X8,Feuil1!$C$1:$BL$10,6,FALSE)","v":-4},{"$f":"T8-HLOOKUP(X8,Feuil1!$C$1:$BL$10,7,FALSE)","v":-19},{"$f":"T8-HLOOKUP(X8,Feuil1!$C$1:$BL$10,8,FALSE)","v":-29},{"$f":"T8-HLOOKUP(X8,Feuil1!$C$1:$BL$10,9,FALSE)","v":-44},{"$f":"T8-HLOOKUP(X8,Feuil1!$C$1:$BL$10,10,FALSE)","v":-914},null,null,null,null,null,null,"IRG +"]
["H","DOM","REU",4,239770,"ESSOB","Etienne",2001,42.2,"SCHM SAINT PAUL","F",32,36,38,38,42,45,48,{"$f":"IF(H9=\"\",\"\",IF(MAXA(P9:R9)<=0,0,MAXA(P9:R9)))","v":48},{"$f":"IF(H9=\"\",\"\",IF(OR(O9=0,S9=0),0,O9+S9))","v":86},1.5999999999999943,{"$f":"IF(H9=\"\",\"\",AQ9)","v":"IRG +"},{"$f":"IF(AJ9>=0,AJ9,IF(AI9>=0,AI9,IF(AH9>=0,AH9,IF(AG9>=0,AG9,IF(AF9>=0,AF9,IF(AE9>=0,AE9,IF(AD9>=0,AD9,IF(AC9>=0,AC9,AB9))))))))","v":11},{"$f":"IF(I9=\"\",\"\",IF(A9=\"H\",IF(OR(H9=\"SEN\",H9<1995),VLOOKUP(I9,Feuil1!$A$11:$F$29,6),IF(AND(H9>1994,H9<1998),VLOOKUP(I9,Feuil1!$A$11:$F$29,5),IF(AND(H9>1997,H9<2000),VLOOKUP(I9,Feuil1!$A$11:$F$29,4),IF(AND(H9>1999,H9<2002),VLOOKUP(I9,Feuil1!$A$11:$F$29,3),VLOOKUP(I9,Feuil1!$A$11:$F$29,2))))),IF(OR(H9=\"SEN\",H9<1995),VLOOKUP(I9,Feuil1!$G$11:$L$25,6),IF(AND(H9>1994,H9<1998),VLOOKUP(I9,Feuil1!$G$11:$L$25,5),IF(AND(H9>1997,H9<2000),VLOOKUP(I9,Feuil1!$G$11:$L$25,4),IF(AND(H9>1999,H9<2002),VLOOKUP(I9,Feuil1!$G$11:$L$25,3),VLOOKUP(I9,Feuil1!$G$11:$L$25,2)))))))","v":"C1 45"},172.24016167622895,null," ",{"$f":"T9-HLOOKUP(X9,Feuil1!$C$1:$BL$10,2,FALSE)","v":51},{"$f":"T9-HLOOKUP(X9,Feuil1!$C$1:$BL$10,3,FALSE)","v":36},{"$f":"T9-HLOOKUP(X9,Feuil1!$C$1:$BL$10,4,FALSE)","v":26},{"$f":"T9-HLOOKUP(X9,Feuil1!$C$1:$BL$10,5,FALSE)","v":11},{"$f":"T9-HLOOKUP(X9,Feuil1!$C$1:$BL$10,6,FALSE)","v":-4},{"$f":"T9-HLOOKUP(X9,Feuil1!$C$1:$BL$10,7,FALSE)","v":-19},{"$f":"T9-HLOOKUP(X9,Feuil1!$C$1:$BL$10,8,FALSE)","v":-29},{"$f":"T9-HLOOKUP(X9,Feuil1!$C$1:$BL$10,9,FALSE)","v":-44},{"$f":"T9-HLOOKUP(X9,Feuil1!$C$1:$BL$10,10,FALSE)","v":-914},null,null,null,null,null,null,{"$f":"IF(AJ9>=0,$AJ$4,IF(AI9>=0,$AI$4,IF(AH9>=0,$AH$4,IF(AG9>=0,$AG$4,IF(AF9>=0,$AF$4,IF(AE9>=0,$AE$4,IF(AD9>=0,$AD$4,IF(AC9>=0,$AC$4,$AB$4))))))))","v":"IRG +"}]
["H","Nord","NPC",5,351701,"BOUGEARD","Dylan",2001,44.78,"AO Sallaumines","F",33,-36,36,36,43,47,50,50,86,-3.5600000000000023,"IRG +",11,{"$f":"IF(I10=\"\",\"\",IF(A10=\"H\",IF(OR(H10=\"SEN\",H10<1995),VLOOKUP(I10,Feuil1!$A$11:$F$29,6),IF(AND(H10>1994,H10<1998),VLOOKUP(I10,Feuil1!$A$11:$F$29,5),IF(AND(H10>1997,H10<2000),VLOOKUP(I10,Feuil1!$A$11:$F$29,4),IF(AND(H10>1999,H10<2002),VLOOKUP(I10,Feuil1!$A$11:$F$29,3),VLOOKUP(I10,Feuil1!$A$11:$F$29,2))))),IF(OR(H10=\"SEN\",H10<1995),VLOOKUP(I10,Feuil1!$G$11:$L$25,6),IF(AND(H10>1994,H10<1998),VLOOKUP(I10,Feuil1!$G$11:$L$25,5),IF(AND(H10>1997,H10<2000),VLOOKUP(I10,Feuil1!$G$11:$L$25,4),IF(AND(H10>1999,H10<2002),VLOOKUP(I10,Feuil1!$G$11:$L$25,3),VLOOKUP(I10,Feuil1!$G$11:$L$25,2)))))))","v":"C1 45"},162.71656098441142,null," ",{"$f":"T10-HLOOKUP(X10,Feuil1!$C$1:$BL$10,2,FALSE)","v":51},{"$f":"T10-HLOOKUP(X10,Feuil1!$C$1:$BL$10,3,FALSE)","v":36},{"$f":"T10-HLOOKUP(X10,Feuil1!$C$1:$BL$10,4,FALSE)","v":26},{"$f":"T10-HLOOKUP(X10,Feuil1!$C$1:$BL$10,5,FALSE)","v":11},{"$f":"T10-HLOOKUP(X10,Feuil1!$C$1:$BL$10,6,FALSE)","v":-4},{"$f":"T10-HLOOKUP(X10,Feuil1!$C$1:$BL$10,7,FALSE)","v":-19},{"$f":"T10-HLOOKUP(X10,Feuil1!$C$1:$BL$10,8,FALSE)","v":-29},{"$f":"T10-HLOOKUP(X10,Feuil1!$C$1:$BL$10,9,FALSE)","v":-44},{"$f":"T10-HLOOKUP(X10,Feuil1!$C$1:$BL$10,10,FALSE)","v":-914},null,null,null,null,null,null,"IRG +"]
["H","DOM","REU",6,275413,"ESSOB","David",2001,43.7,"SCHM SAINT PAUL","F",35,-37,-37,35,40,45,50,50,85,-2.4000000000000057,"IRG +",10,{"$f":"IF(I11=\"\",\"\",IF(A11=\"H\",IF(OR(H11=\"SEN\",H11<1995),VLOOKUP(I11,Feuil1!$A$11:$F$29,6),IF(AND(H11>1994,H11<1998),VLOOKUP(I11,Feuil1!$A$11:$F$29,5),IF(AND(H11>1997,H11<2000),VLOOKUP(I11,Feuil1!$A$11:$F$29,4),IF(AND(H11>1999,H11<2002),VLOOKUP(I11,Feuil1!$A$11:$F$29,3),VLOOKUP(I11,Feuil1!$A$11:$F$29,2))))),IF(OR(H11=\"SEN\",H11<1995),VLOOKUP(I11,Feuil1!$G$11:$L$25,6),IF(AND(H11>1994,H11<1998),VLOOKUP(I11,Feuil1!$G$11:$L$25,5),IF(AND(H11>1997,H11<2000),VLOOKUP(I11,Feuil1!$G$11:$L$25,4),IF(AND(H11>1999,H11<2002),VLOOKUP(I11,Feuil1!$G$11:$L$25,3),VLOOKUP(I11,Feuil1!$G$11:$L$25,2)))))))","v":"C1 45"},164.58389763494893,null," ",{"$f":"T11-HLOOKUP(X11,Feuil1!$C$1:$BL$10,2,FALSE)","v":50},{"$f":"T11-HLOOKUP(X11,Feuil1!$C$1:$BL$10,3,FALSE)","v":35},{"$f":"T11-HLOOKUP(X11,Feuil1!$C$1:$BL$10,4,FALSE)","v":25},{"$f":"T11-HLOOKUP(X11,Feuil1!$C$1:$BL$10,5,FALSE)","v":10},{"$f":"T11-HLOOKUP(X11,Feuil1!$C$1:$BL$10,6,FALSE)","v":-5},{"$f":"T11-HLOOKUP(X11,Feuil1!$C$1:$BL$10,7,FALSE)","v":-20},{"$f":"T11-HLOOKUP(X11,Feuil1!$C$1:$BL$10,8,FALSE)","v":-30},{"$f":"T11-HLOOKUP(X11,Feuil1!$C$1:$BL$10,9,FALSE)","v":-45},{"$f":"T11-HLOOKUP(X11,Feuil1!$C$1:$BL$10,10,FALSE)","v":-915},null,null,null,null,null,null,"IRG +"]
[]
["H","Nord","NPC",1,279998,"RIQUIER","Jérémy",2000,46.42,"Lille UC","F",48,-51,-51,{"$f":"IF(H13=\"\",\"\",IF(MAXA(L13:N13)<=0,0,MAXA(L13:N13)))","v":48},55,62,66,{"$f":"IF(H13=\"\",\"\",IF(MAXA(P13:R13)<=0,0,MAXA(P13:R13)))","v":66},{"$f":"IF(H13=\"\",\"\",IF(OR(O13=0,S13=0),0,O13+S13))","v":114},{"$f":"T13-I13*2","v":21.159999999999997},{"$f":"IF(H13=\"\",\"\",AQ13)","v":"NAT +"},{"$f":"IF(AJ13>=0,AJ13,IF(AI13>=0,AI13,IF(AH13>=0,AH13,IF(AG13>=0,AG13,IF(AF13>=0,AF13,IF(AE13>=0,AE13,IF(AD13>=0,AD13,IF(AC13>=0,AC13,AB13))))))))","v":4},{"$f":"IF(I13=\"\",\"\",IF(A13=\"H\",IF(OR(H13=\"SEN\",H13<1995),VLOOKUP(I13,Feuil1!$A$11:$F$29,6),IF(AND(H13>1994,H13<1998),VLOOKUP(I13,Feuil1!$A$11:$F$29,5),IF(AND(H13>1997,H13<2000),VLOOKUP(I13,Feuil1!$A$11:$F$29,4),IF(AND(H13>1999,H13<2002),VLOOKUP(I13,Feuil1!$A$11:$F$29,3),VLOOKUP(I13,Feuil1!$A$11:$F$29,2))))),IF(OR(H13=\"SEN\",H13<1995),VLOOKUP(I13,Feuil1!$G$11:$L$25,6),IF(AND(H13>1994,H13<1998),VLOOKUP(I13,Feuil1!$G$11:$L$25,5),IF(AND(H13>1997,H13<2000),VLOOKUP(I13,Feuil1!$G$11:$L$25,4),IF(AND(H13>1999,H13<2002),VLOOKUP(I13,Feuil1!$G$11:$L$25,3),VLOOKUP(I13,Feuil1!$G$11:$L$25,2)))))))","v":"C1 50"},{"$f":"IF(I13=\"\",\"\",IF(A13=\"H\",10^(0.794358141*LOG(I13/174.393)^2)*T13,IF(A13=\"F\",10^(0.89726074*LOG(I13/148.026)^2)*T13,\"\")))","v":208.63092250708658},null," ",{"$f":"T13-HLOOKUP(X13,Feuil1!$C$1:$BL$10,2,FALSE)","v":74},{"$f":"T13-HLOOKUP(X13,Feuil1!$C$1:$BL$10,3,FALSE)","v":59},{"$f":"T13-HLOOKUP(X13,Feuil1!$C$1:$BL$10,4,FALSE)","v":49},{"$f":"T13-HLOOKUP(X13,Feuil1!$C$1:$BL$10,5,FALSE)","v":34},{"$f":"T13-HLOOKUP(X13,Feuil1!$C$1:$BL$10,6,FALSE)","v":19},{"$f":"T13-HLOOKUP(X13,Feuil1!$C$1:$BL$10,7,FALSE)","v":4},{"$f":"T13-HLOOKUP(X13,Feuil1!$C$1:$BL$10,8,FALSE)","v":-6},{"$f":"T13-HLOOKUP(X13,Feuil1!$C$1:$BL$10,9,FALSE)","v":-21},{"$f":"T13-HLOOKUP(X13,Feuil1!$C$1:$BL$10,10,FALSE)","v":-886},null,null,null,null,null,null,{"$f":"IF(AJ13>=0,$AJ$4,IF(AI13>=0,$AI$4,IF(AH13>=0,$AH$4,IF(AG13>=0,$AG$4,IF(AF13>=0,$AF$4,IF(AE13>=0,$AE$4,IF(AD13>=0,$AD$4,IF(AC13>=0,$AC$4,$AB$4))))))))","v":"NAT +"}]
["H","Nord","NPC",2,335809,"FOURNIER","Louis",2000,49.3,"CA Rosendael","F",48,-52,-52,48,58,62,65,65,113,14.400000000000006,"NAT +",3,{"$f":"IF(I14=\"\",\"\",IF(A14=\"H\",IF(OR(H14=\"SEN\",H14<1995),VLOOKUP(I14,Feuil1!$A$11:$F$29,6),IF(AND(H14>1994,H14<1998),VLOOKUP(I14,Feuil1!$A$11:$F$29,5),IF(AND(H14>1997,H14<2000),VLOOKUP(I14,Feuil1!$A$11:$F$29,4),IF(AND(H14>1999,H14<2002),VLOOKUP(I14,Feuil1!$A$11:$F$29,3),VLOOKUP(I14,Feuil1!$A$11:$F$29,2))))),IF(OR(H14=\"SEN\",H14<1995),VLOOKUP(I14,Feuil1!$G$11:$L$25,6),IF(AND(H14>1994,H14<1998),VLOOKUP(I14,Feuil1!$G$11:$L$25,5),IF(AND(H14>1997,H14<2000),VLOOKUP(I14,Feuil1!$G$11:$L$25,4),IF(AND(H14>1999,H14<2002),VLOOKUP(I14,Feuil1!$G$11:$L$25,3),VLOOKUP(I14,Feuil1!$G$11:$L$25,2)))))))","v":"C1 50"},195.98444952069491,null," ",{"$f":"T14-HLOOKUP(X14,Feuil1!$C$1:$BL$10,2,FALSE)","v":73},{"$f":"T14-HLOOKUP(X14,Feuil1!$C$1:$BL$10,3,FALSE)","v":58},{"$f":"T14-HLOOKUP(X14,Feuil1!$C$1:$BL$10,4,FALSE)","v":48},{"$f":"T14-HLOOKUP(X14,Feuil1!$C$1:$BL$10,5,FALSE)","v":33},{"$f":"T14-HLOOKUP(X14,Feuil1!$C$1:$BL$10,6,FALSE)","v":18},{"$f":"T14-HLOOKUP(X14,Feuil1!$C$1:$BL$10,7,FALSE)","v":3},{"$f":"T14-HLOOKUP(X14,Feuil1!$C$1:$BL$10,8,FALSE)","v":-7},{"$f":"T14-HLOOKUP(X14,Feuil1!$C$1:$BL$10,9,FALSE)","v":-22},{"$f":"T14-HLOOKUP(X14,Feuil1!$C$1:$BL$10,10,FALSE)","v":-887},null,null,null,null,null,null,"NAT +"]
["H","Nord","NPC",3,359649,"PARANTHOEN","Kévin",2000,48.08,"CA Rosendael","F",37,40,-42,40,51,55,57,57,97,0.84000000000000341,"FED +",2,{"$f":"IF(I15=\"\",\"\",IF(A15=\"H\",IF(OR(H15=\"SEN\",H15<1995),VLOOKUP(I15,Feuil1!$A$11:$F$29,6),IF(AND(H15>1994,H15<1998),VLOOKUP(I15,Feuil1!$A$11:$F$29,5),IF(AND(H15>1997,H15<2000),VLOOKUP(I15,Feuil1!$A$11:$F$29,4),IF(AND(H15>1999,H15<2002),VLOOKUP(I15,Feuil1!$A$11:$F$29,3),VLOOKUP(I15,Feuil1!$A$11:$F$29,2))))),IF(OR(H15=\"SEN\",H15<1995),VLOOKUP(I15,Feuil1!$G$11:$L$25,6),IF(AND(H15>1994,H15<1998),VLOOKUP(I15,Feuil1!$G$11:$L$25,5),IF(AND(H15>1997,H15<2000),VLOOKUP(I15,Feuil1!$G$11:$L$25,4),IF(AND(H15>1999,H15<2002),VLOOKUP(I15,Feuil1!$G$11:$L$25,3),VLOOKUP(I15,Feuil1!$G$11:$L$25,2)))))))","v":"C1 50"},171.9868417842921,null," ",{"$f":"T15-HLOOKUP(X15,Feuil1!$C$1:$BL$10,2,FALSE)","v":57},{"$f":"T15-HLOOKUP(X15,Feuil1!$C$1:$BL$10,3,FALSE)","v":42},{"$f":"T15-HLOOKUP(X15,Feuil1!$C$1:$BL$10,4,FALSE)","v":32},{"$f":"T15-HLOOKUP(X15,Feuil1!$C$1:$BL$10,5,FALSE)","v":17},{"$f":"T15-HLOOKUP(X15,Feuil1!$C$1:$BL$10,6,FALSE)","v":2},{"$f":"T15-HLOOKUP(X15,Feuil1!$C$1:$BL$10,7,FALSE)","v":-13},{"$f":"T15-HLOOKUP(X15,Feuil1!$C$1:$BL$10,8,FALSE)","v":-23},{"$f":"T15-HLOOKUP(X15,Feuil1!$C$1:$BL$10,9,FALSE)","v":-38},{"$f":"T15-HLOOKUP(X15,Feuil1!$C$1:$BL$10,10,FALSE)","v":-903},null,null,null,null,null,null,"FED +"]
[null,null,null,null,null,null,null,null,null,null,null,null,null,null,null,null,null,null,null,null," ",null,null,null,null,null,null,{"$f":"T16-HLOOKUP(X16,Feuil1!$C$1:$BL$10,2,FALSE)","v":{"$error":"#N/A"}},{"$f":"T16-HLOOKUP(X16,Feuil1!$C$1:$BL$10,3,FALSE)","v":{"$error":"#N/A"}},{"$f":"T16-HLOOKUP(X16,Feuil1!$C$1:$BL$10,4,FALSE)","v":{"$error":"#N/A"}},{"$f":"T16-HLOOKUP(X16,Feuil1!$C$1:$BL$10,5,FALSE)","v":{"$error":"#N/A"}},{"$f":"T16-HLOOKUP(X16,Feuil1!$C$1:$BL$10,6,FALSE)","v":{"$error":"#N/A"}},{"$f":"T16-HLOOKUP(X16,Feuil1!$C$1:$BL$10,7,FALSE)","v":{"$error":"#N/A"}},{"$f":"T16-HLOOKUP(X16,Feuil1!$C$1:$BL$10,8,FALSE)","v":{"$error":"#N/A"}},{"$f":"T16-HLOOKUP(X16,Feuil1!$C$1:$BL$10,9,FALSE)","v":{"$error":"#N/A"}},{"$f":"T16-HLOOKUP(X16,Feuil1!$C$1:$BL$10,10,FALSE)","v":{"$error":"#N/A"}}]
["H","Nord","NPC",1,248932,"BUYSSCHAERT","Eliott",2000,53.82,"CHCD Comines","F",56,-60,60,{"$f":"IF(H17=\"\",\"\",IF(MAXA(L17:N17)<=0,0,MAXA(L17:N17)))","v":60},66,70,-73,{"$f":"IF(H17=\"\",\"\",IF(MAXA(P17:R17)<=0,0,MAXA(P17:R17)))","v":70},{"$f":"IF(H17=\"\",\"\",IF(OR(O17=0,S17=0),0,O17+S17))","v":130},22.36,{"$f":"IF(H17=\"\",\"\",AQ17)","v":"NAT +"},{"$f":"IF(AJ17>=0,AJ17,IF(AI17>=0,AI17,IF(AH17>=0,AH17,IF(AG17>=0,AG17,IF(AF17>=0,AF17,IF(AE17>=0,AE17,IF(AD17>=0,AD17,IF(AC17>=0,AC17,AB17))))))))","v":0},{"$f":"IF(I17=\"\",\"\",IF(A17=\"H\",IF(OR(H17=\"SEN\",H17<1995),VLOOKUP(I17,Feuil1!$A$11:$F$29,6),IF(AND(H17>1994,H17<1998),VLOOKUP(I17,Feuil1!$A$11:$F$29,5),IF(AND(H17>1997,H17<2000),VLOOKUP(I17,Feuil1!$A$11:$F$29,4),IF(AND(H17>1999,H17<2002),VLOOKUP(I17,Feuil1!$A$11:$F$29,3),VLOOKUP(I17,Feuil1!$A$11:$F$29,2))))),IF(OR(H17=\"SEN\",H17<1995),VLOOKUP(I17,Feuil1!$G$11:$L$25,6),IF(AND(H17>1994,H17<1998),VLOOKUP(I17,Feuil1!$G$11:$L$25,5),IF(AND(H17>1997,H17<2000),VLOOKUP(I17,Feuil1!$G$11:$L$25,4),IF(AND(H17>1999,H17<2002),VLOOKUP(I17,Feuil1!$G$11:$L$25,3),VLOOKUP(I17,Feuil1!$G$11:$L$25,2)))))))","v":"C1 56"},{"$f":"IF(I17=\"\",\"\",IF(A17=\"H\",10^(0.794358141*LOG(I17/174.393)^2)*T17,IF(A17=\"F\",10^(0.89726074*LOG(I17/148.026)^2)*T17,\"\")))","v":209.42593271377396},null," ",{"$f":"T17-HLOOKUP(X17,Feuil1!$C$1:$BL$10,2,FALSE)","v":80},{"$f":"T17-HLOOKUP(X17,Feuil1!$C$1:$BL$10,3,FALSE)","v":60},{"$f":"T17-HLOOKUP(X17,Feuil1!$C$1:$BL$10,4,FALSE)","v":45},{"$f":"T17-HLOOKUP(X17,Feuil1!$C$1:$BL$10,5,FALSE)","v":30},{"$f":"T17-HLOOKUP(X17,Feuil1!$C$1:$BL$10,6,FALSE)","v":15},{"$f":"T17-HLOOKUP(X17,Feuil1!$C$1:$BL$10,7,FALSE)","v":0},{"$f":"T17-HLOOKUP(X17,Feuil1!$C$1:$BL$10,8,FALSE)","v":-15},{"$f":"T17-HLOOKUP(X17,Feuil1!$C$1:$BL$10,9,FALSE)","v":-40},{"$f":"T17-HLOOKUP(X17,Feuil1!$C$1:$BL$10,10,FALSE)","v":-870},null,null,null,null,null,null,{"$f":"IF(AJ17>=0,$AJ$4,IF(AI17>=0,$AI$4,IF(AH17>=0,$AH$4,IF(AG17>=0,$AG$4,IF(AF17>=0,$AF$4,IF(AE17>=0,$AE$4,IF(AD17>=0,$AD$4,IF(AC17>=0,$AC$4,$AB$4))))))))","v":"NAT +"}]
["H","NE","CHA",2,366016,"MIGEON ","Arthur",2000,53.1,"Reims HM","F",50,53,55,55,60,65,-70,65,120,13.799999999999997,"FED +",5,{"$f":"IF(I18=\"\",\"\",IF(A18=\"H\",IF(OR(H18=\"SEN\",H18<1995),VLOOKUP(I18,Feuil1!$A$11:$F$29,6),IF(AND(H18>1994,H18<1998),VLOOKUP(I18,Feuil1!$A$11:$F$29,5),IF(AND(H18>1997,H18<2000),VLOOKUP(I18,Feuil1!$A$11:$F$29,4),IF(AND(H18>1999,H18<2002),VLOOKUP(I18,Feuil1!$A$11:$F$29,3),VLOOKUP(I18,Feuil1!$A$11:$F$29,2))))),IF(OR(H18=\"SEN\",H18<1995),VLOOKUP(I18,Feuil1!$G$11:$L$25,6),IF(AND(H18>1994,H18<1998),VLOOKUP(I18,Feuil1!$G$11:$L$25,5),IF(AND(H18>1997,H18<2000),VLOOKUP(I18,Feuil1!$G$11:$L$25,4),IF(AND(H18>1999,H18<2002),VLOOKUP(I18,Feuil1!$G$11:$L$25,3),VLOOKUP(I18,Feuil1!$G$11:$L$25,2)))))))","v":"C1 56"},195.45205150408924,null," ",{"$f":"T18-HLOOKUP(X18,Feuil1!$C$1:$BL$10,2,FALSE)","v":70},{"$f":"T18-HLOOKUP(X18,Feuil1!$C$1:$BL$10,3,FALSE)","v":50},{"$f":"T18-HLOOKUP(X18,Feuil1!$C$1:$BL$10,4,FALSE)","v":35},{"$f":"T18-HLOOKUP(X18,Feuil1!$C$1:$BL$10,5,FALSE)","v":20},{"$f":"T18-HLOOKUP(X18,Feuil1!$C$1:$BL$10,6,FALSE)","v":5},{"$f":"T18-HLOOKUP(X18,Feuil1!$C$1:$BL$10,7,FALSE)","v":-10},{"$f":"T18-HLOOKUP(X18,Feuil1!$C$1:$BL$10,8,FALSE)","v":-25},{"$f":"T18-HLOOKUP(X18,Feuil1!$C$1:$BL$10,9,FALSE)","v":-50},{"$f":"T18-HLOOKUP(X18,Feuil1!$C$1:$BL$10,10,FALSE)","v":-880},null,null,null,null,null,null,"FED +"]
["H","Nord","NPC",3,311192,"JURKOWSKI","Alexis",2000,53.58,"AO Sallaumines","F",45,-49,49,49,66,70,-73,70,119,11.840000000000003,"FED +",4,{"$f":"IF(I19=\"\",\"\",IF(A19=\"H\",IF(OR(H19=\"SEN\",H19<1995),VLOOKUP(I19,Feuil1!$A$11:$F$29,6),IF(AND(H19>1994,H19<1998),VLOOKUP(I19,Feuil1!$A$11:$F$29,5),IF(AND(H19>1997,H19<2000),VLOOKUP(I19,Feuil1!$A$11:$F$29,4),IF(AND(H19>1999,H19<2002),VLOOKUP(I19,Feuil1!$A$11:$F$29,3),VLOOKUP(I19,Feuil1!$A$11:$F$29,2))))),IF(OR(H19=\"SEN\",H19<1995),VLOOKUP(I19,Feuil1!$G$11:$L$25,6),IF(AND(H19>1994,H19<1998),VLOOKUP(I19,Feuil1!$G$11:$L$25,5),IF(AND(H19>1997,H19<2000),VLOOKUP(I19,Feuil1!$G$11:$L$25,4),IF(AND(H19>1999,H19<2002),VLOOKUP(I19,Feuil1!$G$11:$L$25,3),VLOOKUP(I19,Feuil1!$G$11:$L$25,2)))))))","v":"C1 56"},192.40286666626369,null," ",{"$f":"T19-HLOOKUP(X19,Feuil1!$C$1:$BL$10,2,FALSE)","v":69},{"$f":"T19-HLOOKUP(X19,Feuil1!$C$1:$BL$10,3,FALSE)","v":49},{"$f":"T19-HLOOKUP(X19,Feuil1!$C$1:$BL$10,4,FALSE)","v":34},{"$f":"T19-HLOOKUP(X19,Feuil1!$C$1:$BL$10,5,FALSE)","v":19},{"$f":"T19-HLOOKUP(X19,Feuil1!$C$1:$BL$10,6,FALSE)","v":4},{"$f":"T19-HLOOKUP(X19,Feuil1!$C$1:$BL$10,7,FALSE)","v":-11},{"$f":"T19-HLOOKUP(X19,Feuil1!$C$1:$BL$10,8,FALSE)","v":-26},{"$f":"T19-HLOOKUP(X19,Feuil1!$C$1:$BL$10,9,FALSE)","v":-51},{"$f":"T19-HLOOKUP(X19,Feuil1!$C$1:$BL$10,10,FALSE)","v":-881},null,null,null,null,null,null,"FED +"]
["H","ZCO","PDL",4,368728,"MELLIER","Romain",2000,55.3,"CA Evron 53","F",50,-54,54,54,61,65,-67,65,119,8.4000000000000057,"FED +",4,{"$f":"IF(I20=\"\",\"\",IF(A20=\"H\",IF(OR(H20=\"SEN\",H20<1995),VLOOKUP(I20,Feuil1!$A$11:$F$29,6),IF(AND(H20>1994,H20<1998),VLOOKUP(I20,Feuil1!$A$11:$F$29,5),IF(AND(H20>1997,H20<2000),VLOOKUP(I20,Feuil1!$A$11:$F$29,4),IF(AND(H20>1999,H20<2002),VLOOKUP(I20,Feuil1!$A$11:$F$29,3),VLOOKUP(I20,Feuil1!$A$11:$F$29,2))))),IF(OR(H20=\"SEN\",H20<1995),VLOOKUP(I20,Feuil1!$G$11:$L$25,6),IF(AND(H20>1994,H20<1998),VLOOKUP(I20,Feuil1!$G$11:$L$25,5),IF(AND(H20>1997,H20<2000),VLOOKUP(I20,Feuil1!$G$11:$L$25,4),IF(AND(H20>1999,H20<2002),VLOOKUP(I20,Feuil1!$G$11:$L$25,3),VLOOKUP(I20,Feuil1!$G$11:$L$25,2)))))))","v":"C1 56"},187.58042482985701,null," ",{"$f":"T20-HLOOKUP(X20,Feuil1!$C$1:$BL$10,2,FALSE)","v":69},{"$f":"T20-HLOOKUP(X20,Feuil1!$C$1:$BL$10,3,FALSE)","v":49},{"$f":"T20-HLOOKUP(X20,Feuil1!$C$1:$BL$10,4,FALSE)","v":34},{"$f":"T20-HLOOKUP(X20,Feuil1!$C$1:$BL$10,5,FALSE)","v":19},{"$f":"T20-HLOOKUP(X20,Feuil1!$C$1:$BL$10,6,FALSE)","v":4},{"$f":"T20-HLOOKUP(X20,Feuil1!$C$1:$BL$10,7,FALSE)","v":-11},{"$f":"T20-HLOOKUP(X20,Feuil1!$C$1:$BL$10,8,FALSE)","v":-26},{"$f":"T20-HLOOKUP(X20,Feuil1!$C$1:$BL$10,9,FALSE)","v":-51},{"$f":"T20-HLOOKUP(X20,Feuil1!$C$1:$BL$10,10,FALSE)","v":-881},null,null,null,null,null,null,"FED +"]
["H","ZCO","BRE",5,324558,"LERUYET","Téo",2000,55,"CA Lorient","F",50,52,53,53,60,62,65,65,118,8,"FED +",3,{"$f":"IF(I21=\"\",\"\",IF(A21=\"H\",IF(OR(H21=\"SEN\",H21<1995),VLOOKUP(I21,Feuil1!$A$11:$F$29,6),IF(AND(H21>1994,H21<1998),VLOOKUP(I21,Feuil1!$A$11:$F$29,5),IF(AND(H21>1997,H21<2000),VLOOKUP(I21,Feuil1!$A$11:$F$29,4),IF(AND(H21>1999,H21<2002),VLOOKUP(I21,Feuil1!$A$11:$F$29,3),VLOOKUP(I21,Feuil1!$A$11:$F$29,2))))),IF(OR(H21=\"SEN\",H21<1995),VLOOKUP(I21,Feuil1!$G$11:$L$25,6),IF(AND(H21>1994,H21<1998),VLOOKUP(I21,Feuil1!$G$11:$L$25,5),IF(AND(H21>1997,H21<2000),VLOOKUP(I21,Feuil1!$G$11:$L$25,4),IF(AND(H21>1999,H21<2002),VLOOKUP(I21,Feuil1!$G$11:$L$25,3),VLOOKUP(I21,Feuil1!$G$11:$L$25,2)))))))","v":"C1 56"},186.80957402142008,null," ",{"$f":"T21-HLOOKUP(X21,Feuil1!$C$1:$BL$10,2,FALSE)","v":68},{"$f":"T21-HLOOKUP(X21,Feuil1!$C$1:$BL$10,3,FALSE)","v":48},{"$f":"T21-HLOOKUP(X21,Feuil1!$C$1:$BL$10,4,FALSE)","v":33},{"$f":"T21-HLOOKUP(X21,Feuil1!$C$1:$BL$10,5,FALSE)","v":18},{"$f":"T21-HLOOKUP(X21,Feuil1!$C$1:$BL$10,6,FALSE)","v":3},{"$f":"T21-HLOOKUP(X21,Feuil1!$C$1:$BL$10,7,FALSE)","v":-12},{"$f":"T21-HLOOKUP(X21,Feuil1!$C$1:$BL$10,8,FALSE)","v":-27},{"$f":"T21-HLOOKUP(X21,Feuil1!$C$1:$BL$10,9,FALSE)","v":-52},{"$f":"T21-HLOOKUP(X21,Feuil1!$C$1:$BL$10,10,FALSE)","v":-882},null,null,null,null,null,null,"FED +"]
["H","Nord","NPC",6,248951,"KEMPENAIRE","Cédric",2001,54.37,"CHCD Comines","F",40,43,45,45,56,60,63,63,108,-0.73999999999999488,"IRG +",8,{"$f":"IF(I22=\"\",\"\",IF(A22=\"H\",IF(OR(H22=\"SEN\",H22<1995),VLOOKUP(I22,Feuil1!$A$11:$F$29,6),IF(AND(H22>1994,H22<1998),VLOOKUP(I22,Feuil1!$A$11:$F$29,5),IF(AND(H22>1997,H22<2000),VLOOKUP(I22,Feuil1!$A$11:$F$29,4),IF(AND(H22>1999,H22<2002),VLOOKUP(I22,Feuil1!$A$11:$F$29,3),VLOOKUP(I22,Feuil1!$A$11:$F$29,2))))),IF(OR(H22=\"SEN\",H22<1995),VLOOKUP(I22,Feuil1!$G$11:$L$25,6),IF(AND(H22>1994,H22<1998),VLOOKUP(I22,Feuil1!$G$11:$L$25,5),IF(AND(H22>1997,H22<2000),VLOOKUP(I22,Feuil1!$G$11:$L$25,4),IF(AND(H22>1999,H22<2002),VLOOKUP(I22,Feuil1!$G$11:$L$25,3),VLOOKUP(I22,Feuil1!$G$11:$L$25,2)))))))","v":"C1 56"},172.56173242131376,null," ",{"$f":"T22-HLOOKUP(X22,Feuil1!$C$1:$BL$10,2,FALSE)","v":58},{"$f":"T22-HLOOKUP(X22,Feuil1!$C$1:$BL$10,3,FALSE)","v":38},{"$f":"T22-HLOOKUP(X22,Feuil1!$C$1:$BL$10,4,FALSE)","v":23},{"$f":"T22-HLOOKUP(X22,Feuil1!$C$1:$BL$10,5,FALSE)","v":8},{"$f":"T22-HLOOKUP(X22,Feuil1!$C$1:$BL$10,6,FALSE)","v":-7},{"$f":"T22-HLOOKUP(X22,Feuil1!$C$1:$BL$10,7,FALSE)","v":-22},{"$f":"T22-HLOOKUP(X22,Feuil1!$C$1:$BL$10,8,FALSE)","v":-37},{"$f":"T22-HLOOKUP(X22,Feuil1!$C$1:$BL$10,9,FALSE)","v":-62},{"$f":"T22-HLOOKUP(X22,Feuil1!$C$1:$BL$10,10,FALSE)","v":-892},null,null,null,null,null,null,"IRG +"]
[null,null,null,null,null,null,null,null,null,null,null,null,null,null,null,null,null,null,null,null," ",null,null,null,null,null,null,{"$f":"T23-HLOOKUP(X23,Feuil1!$C$1:$BL$10,2,FALSE)","v":{"$error":"#N/A"}},{"$f":"T23-HLOOKUP(X23,Feuil1!$C$1:$BL$10,3,FALSE)","v":{"$error":"#N/A"}},{"$f":"T23-HLOOKUP(X23,Feuil1!$C$1:$BL$10,4,FALSE)","v":{"$error":"#N/A"}},{"$f":"T23-HLOOKUP(X23,Feuil1!$C$1:$BL$10,5,FALSE)","v":{"$error":"#N/A"}},{"$f":"T23-HLOOKUP(X23,Feuil1!$C$1:$BL$10,6,FALSE)","v":{"$error":"#N/A"}},{"$f":"T23-HLOOKUP(X23,Feuil1!$C$1:$BL$10,7,FALSE)","v":{"$error":"#N/A"}},{"$f":"T23-HLOOKUP(X23,Feuil1!$C$1:$BL$10,8,FALSE)","v":{"$error":"#N/A"}},{"$f":"T23-HLOOKUP(X23,Feuil1!$C$1:$BL$10,9,FALSE)","v":{"$error":"#N/A"}},{"$f":"T23-HLOOKUP(X23,Feuil1!$C$1:$BL$10,10,FALSE)","v":{"$error":"#N/A"}}]
["H","Nord","NPC",1,338176,"FARETIE","Sony",2000,61.23,"CA Rosendael","F",-73,75,80,{"$f":"IF(H24=\"\",\"\",IF(MAXA(L24:N24)<=0,0,MAXA(L24:N24)))","v":80},-95,95,100,{"$f":"IF(H24=\"\",\"\",IF(MAXA(P24:R24)<=0,0,MAXA(P24:R24)))","v":100},{"$f":"IF(H24=\"\",\"\",IF(OR(O24=0,S24=0),0,O24+S24))","v":180},57.540000000000006,{"$f":"IF(H24=\"\",\"\",AQ24)","v":"INTB +"},{"$f":"IF(AJ24>=0,AJ24,IF(AI24>=0,AI24,IF(AH24>=0,AH24,IF(AG24>=0,AG24,IF(AF24>=0,AF24,IF(AE24>=0,AE24,IF(AD24>=0,AD24,IF(AC24>=0,AC24,AB24))))))))","v":10},{"$f":"IF(I24=\"\",\"\",IF(A24=\"H\",IF(OR(H24=\"SEN\",H24<1995),VLOOKUP(I24,Feuil1!$A$11:$F$29,6),IF(AND(H24>1994,H24<1998),VLOOKUP(I24,Feuil1!$A$11:$F$29,5),IF(AND(H24>1997,H24<2000),VLOOKUP(I24,Feuil1!$A$11:$F$29,4),IF(AND(H24>1999,H24<2002),VLOOKUP(I24,Feuil1!$A$11:$F$29,3),VLOOKUP(I24,Feuil1!$A$11:$F$29,2))))),IF(OR(H24=\"SEN\",H24<1995),VLOOKUP(I24,Feuil1!$G$11:$L$25,6),IF(AND(H24>1994,H24<1998),VLOOKUP(I24,Feuil1!$G$11:$L$25,5),IF(AND(H24>1997,H24<2000),VLOOKUP(I24,Feuil1!$G$11:$L$25,4),IF(AND(H24>1999,H24<2002),VLOOKUP(I24,Feuil1!$G$11:$L$25,3),VLOOKUP(I24,Feuil1!$G$11:$L$25,2)))))))","v":"C1 62"},{"$f":"IF(I24=\"\",\"\",IF(A24=\"H\",10^(0.794358141*LOG(I24/174.393)^2)*T24,IF(A24=\"F\",10^(0.89726074*LOG(I24/148.026)^2)*T24,\"\")))","v":262.66974392746584},null," ",{"$f":"T24-HLOOKUP(X24,Feuil1!$C$1:$BL$10,2,FALSE)","v":105},{"$f":"T24-HLOOKUP(X24,Feuil1!$C$1:$BL$10,3,FALSE)","v":85},{"$f":"T24-HLOOKUP(X24,Feuil1!$C$1:$BL$10,4,FALSE)","v":75},{"$f":"T24-HLOOKUP(X24,Feuil1!$C$1:$BL$10,5,FALSE)","v":60},{"$f":"T24-HLOOKUP(X24,Feuil1!$C$1:$BL$10,6,FALSE)","v":45},{"$f":"T24-HLOOKUP(X24,Feuil1!$C$1:$BL$10,7,FALSE)","v":30},{"$f":"T24-HLOOKUP(X24,Feuil1!$C$1:$BL$10,8,FALSE)","v":10},{"$f":"T24-HLOOKUP(X24,Feuil1!$C$1:$BL$10,9,FALSE)","v":-10},{"$f":"T24-HLOOKUP(X24,Feuil1!$C$1:$BL$10,10,FALSE)","v":-820},null,null,null,null,null,null,{"$f":"IF(AJ24>=0,$AJ$4,IF(AI24>=0,$AI$4,IF(AH24>=0,$AH$4,IF(AG24>=0,$AG$4,IF(AF24>=0,$AF$4,IF(AE24>=0,$AE$4,IF(AD24>=0,$AD$4,IF(AC24>=0,$AC$4,$AB$4))))))))","v":"INTB +"}]
["H","DOM","GUA",2,265989,"BERTILI","Bernard",2000,59.3,"Body Club Domien","F",65,68,-70,{"$f":"IF(H25=\"\",\"\",IF(MAXA(L25:N25)<=0,0,MAXA(L25:N25)))","v":68},78,83,-85,{"$f":"IF(H25=\"\",\"\",IF(MAXA(P25:R25)<=0,0,MAXA(P25:R25)))","v":83},{"$f":"IF(H25=\"\",\"\",IF(OR(O25=0,S25=0),0,O25+S25))","v":151},32.400000000000006,{"$f":"IF(H25=\"\",\"\",AQ25)","v":"NAT +"},{"$f":"IF(AJ25>=0,AJ25,IF(AI25>=0,AI25,IF(AH25>=0,AH25,IF(AG25>=0,AG25,IF(AF25>=0,AF25,IF(AE25>=0,AE25,IF(AD25>=0,AD25,IF(AC25>=0,AC25,AB25))))))))","v":1},{"$f":"IF(I25=\"\",\"\",IF(A25=\"H\",IF(OR(H25=\"SEN\",H25<1995),VLOOKUP(I25,Feuil1!$A$11:$F$29,6),IF(AND(H25>1994,H25<1998),VLOOKUP(I25,Feuil1!$A$11:$F$29,5),IF(AND(H25>1997,H25<2000),VLOOKUP(I25,Feuil1!$A$11:$F$29,4),IF(AND(H25>1999,H25<2002),VLOOKUP(I25,Feuil1!$A$11:$F$29,3),VLOOKUP(I25,Feuil1!$A$11:$F$29,2))))),IF(OR(H25=\"SEN\",H25<1995),VLOOKUP(I25,Feuil1!$G$11:$L$25,6),IF(AND(H25>1994,H25<1998),VLOOKUP(I25,Feuil1!$G$11:$L$25,5),IF(AND(H25>1997,H25<2000),VLOOKUP(I25,Feuil1!$G$11:$L$25,4),IF(AND(H25>1999,H25<2002),VLOOKUP(I25,Feuil1!$G$11:$L$25,3),VLOOKUP(I25,Feuil1!$G$11:$L$25,2)))))))","v":"C1 62"},{"$f":"IF(I25=\"\",\"\",IF(A25=\"H\",10^(0.794358141*LOG(I25/174.393)^2)*T25,IF(A25=\"F\",10^(0.89726074*LOG(I25/148.026)^2)*T25,\"\")))","v":225.58660890009367},null," ",{"$f":"T25-HLOOKUP(X25,Feuil1!$C$1:$BL$10,2,FALSE)","v":76},{"$f":"T25-HLOOKUP(X25,Feuil1!$C$1:$BL$10,3,FALSE)","v":56},{"$f":"T25-HLOOKUP(X25,Feuil1!$C$1:$BL$10,4,FALSE)","v":46},{"$f":"T25-HLOOKUP(X25,Feuil1!$C$1:$BL$10,5,FALSE)","v":31},{"$f":"T25-HLOOKUP(X25,Feuil1!$C$1:$BL$10,6,FALSE)","v":16},{"$f":"T25-HLOOKUP(X25,Feuil1!$C$1:$BL$10,7,FALSE)","v":1},{"$f":"T25-HLOOKUP(X25,Feuil1!$C$1:$BL$10,8,FALSE)","v":-19},{"$f":"T25-HLOOKUP(X25,Feuil1!$C$1:$BL$10,9,FALSE)","v":-39},{"$f":"T25-HLOOKUP(X25,Feuil1!$C$1:$BL$10,10,FALSE)","v":-849},null,null,null,null,null,null,{"$f":"IF(AJ25>=0,$AJ$4,IF(AI25>=0,$AI$4,IF(AH25>=0,$AH$4,IF(AG25>=0,$AG$4,IF(AF25>=0,$AF$4,IF(AE25>=0,$AE$4,IF(AD25>=0,$AD$4,IF(AC25>=0,$AC$4,$AB$4))))))))","v":"NAT +"}]
["H","NE","CHA",3,339573,"MKRTCHYAN ","Armen",2000,61.2,"Reims HM","Arm",51,55,57,{"$f":"IF(H26=\"\",\"\",IF(MAXA(L26:N26)<=0,0,MAXA(L26:N26)))","v":57},74,78,82,{"$f":"IF(H26=\"\",\"\",IF(MAXA(P26:R26)<=0,0,MAXA(P26:R26)))","v":82},{"$f":"IF(H26=\"\",\"\",IF(OR(O26=0,S26=0),0,O26+S26))","v":139},16.599999999999994,{"$f":"IF(H26=\"\",\"\",AQ26)","v":"FED +"},{"$f":"IF(AJ26>=0,AJ26,IF(AI26>=0,AI26,IF(AH26>=0,AH26,IF(AG26>=0,AG26,IF(AF26>=0,AF26,IF(AE26>=0,AE26,IF(AD26>=0,AD26,IF(AC26>=0,AC26,AB26))))))))","v":4},{"$f":"IF(I26=\"\",\"\",IF(A26=\"H\",IF(OR(H26=\"SEN\",H26<1995),VLOOKUP(I26,Feuil1!$A$11:$F$29,6),IF(AND(H26>1994,H26<1998),VLOOKUP(I26,Feuil1!$A$11:$F$29,5),IF(AND(H26>1997,H26<2000),VLOOKUP(I26,Feuil1!$A$11:$F$29,4),IF(AND(H26>1999,H26<2002),VLOOKUP(I26,Feuil1!$A$11:$F$29,3),VLOOKUP(I26,Feuil1!$A$11:$F$29,2))))),IF(OR(H26=\"SEN\",H26<1995),VLOOKUP(I26,Feuil1!$G$11:$L$25,6),IF(AND(H26>1994,H26<1998),VLOOKUP(I26,Feuil1!$G$11:$L$25,5),IF(AND(H26>1997,H26<2000),VLOOKUP(I26,Feuil1!$G$11:$L$25,4),IF(AND(H26>1999,H26<2002),VLOOKUP(I26,Feuil1!$G$11:$L$25,3),VLOOKUP(I26,Feuil1!$G$11:$L$25,2)))))))","v":"C1 62"},{"$f":"IF(I26=\"\",\"\",IF(A26=\"H\",10^(0.794358141*LOG(I26/174.393)^2)*T26,IF(A26=\"F\",10^(0.89726074*LOG(I26/148.026)^2)*T26,\"\")))","v":202.91123188243139},null," ",{"$f":"T26-HLOOKUP(X26,Feuil1!$C$1:$BL$10,2,FALSE)","v":64},{"$f":"T26-HLOOKUP(X26,Feuil1!$C$1:$BL$10,3,FALSE)","v":44},{"$f":"T26-HLOOKUP(X26,Feuil1!$C$1:$BL$10,4,FALSE)","v":34},{"$f":"T26-HLOOKUP(X26,Feuil1!$C$1:$BL$10,5,FALSE)","v":19},{"$f":"T26-HLOOKUP(X26,Feuil1!$C$1:$BL$10,6,FALSE)","v":4},{"$f":"T26-HLOOKUP(X26,Feuil1!$C$1:$BL$10,7,FALSE)","v":-11},{"$f":"T26-HLOOKUP(X26,Feuil1!$C$1:$BL$10,8,FALSE)","v":-31},{"$f":"T26-HLOOKUP(X26,Feuil1!$C$1:$BL$10,9,FALSE)","v":-51},{"$f":"T26-HLOOKUP(X26,Feuil1!$C$1:$BL$10,10,FALSE)","v":-861},null,null,null,null,null,null,{"$f":"IF(AJ26>=0,$AJ$4,IF(AI26>=0,$AI$4,IF(AH26>=0,$AH$4,IF(AG26>=0,$AG$4,IF(AF26>=0,$AF$4,IF(AE26>=0,$AE$4,IF(AD26>=0,$AD$4,IF(AC26>=0,$AC$4,$AB$4))))))))","v":"FED +"}]
["H","Nord","NPC",4,304778,"DESMAREST","Dylan",2000,60,"Lille UC","F",-55,55,58,{"$f":"IF(H27=\"\",\"\",IF(MAXA(L27:N27)<=0,0,MAXA(L27:N27)))","v":58},77,-80,-80,{"$f":"IF(H27=\"\",\"\",IF(MAXA(P27:R27)<=0,0,MAXA(P27:R27)))","v":77},{"$f":"IF(H27=\"\",\"\",IF(OR(O27=0,S27=0),0,O27+S27))","v":135},15,{"$f":"IF(H27=\"\",\"\",AQ27)","v":"FED +"},{"$f":"IF(AJ27>=0,AJ27,IF(AI27>=0,AI27,IF(AH27>=0,AH27,IF(AG27>=0,AG27,IF(AF27>=0,AF27,IF(AE27>=0,AE27,IF(AD27>=0,AD27,IF(AC27>=0,AC27,AB27))))))))","v":0},{"$f":"IF(I27=\"\",\"\",IF(A27=\"H\",IF(OR(H27=\"SEN\",H27<1995),VLOOKUP(I27,Feuil1!$A$11:$F$29,6),IF(AND(H27>1994,H27<1998),VLOOKUP(I27,Feuil1!$A$11:$F$29,5),IF(AND(H27>1997,H27<2000),VLOOKUP(I27,Feuil1!$A$11:$F$29,4),IF(AND(H27>1999,H27<2002),VLOOKUP(I27,Feuil1!$A$11:$F$29,3),VLOOKUP(I27,Feuil1!$A$11:$F$29,2))))),IF(OR(H27=\"SEN\",H27<1995),VLOOKUP(I27,Feuil1!$G$11:$L$25,6),IF(AND(H27>1994,H27<1998),VLOOKUP(I27,Feuil1!$G$11:$L$25,5),IF(AND(H27>1997,H27<2000),VLOOKUP(I27,Feuil1!$G$11:$L$25,4),IF(AND(H27>1999,H27<2002),VLOOKUP(I27,Feuil1!$G$11:$L$25,3),VLOOKUP(I27,Feuil1!$G$11:$L$25,2)))))))","v":"C1 62"},{"$f":"IF(I27=\"\",\"\",IF(A27=\"H\",10^(0.794358141*LOG(I27/174.393)^2)*T27,IF(A27=\"F\",10^(0.89726074*LOG(I27/148.026)^2)*T27,\"\")))","v":199.93901187754247},null," ",{"$f":"T27-HLOOKUP(X27,Feuil1!$C$1:$BL$10,2,FALSE)","v":60},{"$f":"T27-HLOOKUP(X27,Feuil1!$C$1:$BL$10,3,FALSE)","v":40},{"$f":"T27-HLOOKUP(X27,Feuil1!$C$1:$BL$10,4,FALSE)","v":30},{"$f":"T27-HLOOKUP(X27,Feuil1!$C$1:$BL$10,5,FALSE)","v":15},{"$f":"T27-HLOOKUP(X27,Feuil1!$C$1:$BL$10,6,FALSE)","v":0},{"$f":"T27-HLOOKUP(X27,Feuil1!$C$1:$BL$10,7,FALSE)","v":-15},{"$f":"T27-HLOOKUP(X27,Feuil1!$C$1:$BL$10,8,FALSE)","v":-35},{"$f":"T27-HLOOKUP(X27,Feuil1!$C$1:$BL$10,9,FALSE)","v":-55},{"$f":"T27-HLOOKUP(X27,Feuil1!$C$1:$BL$10,10,FALSE)","v":-865},null,null,null,null,null,null,{"$f":"IF(AJ27>=0,$AJ$4,IF(AI27>=0,$AI$4,IF(AH27>=0,$AH$4,IF(AG27>=0,$AG$4,IF(AF27>=0,$AF$4,IF(AE27>=0,$AE$4,IF(AD27>=0,$AD$4,IF(AC27>=0,$AC$4,$AB$4))))))))","v":"FED +"}]
["H","Nord","NPC",5,311932,"MAES","Calvin",2000,60.8,"CA Rosendael","F",50,55,-57,{"$f":"IF(H28=\"\",\"\",IF(MAXA(L28:N28)<=0,0,MAXA(L28:N28)))","v":55},70,75,-80,{"$f":"IF(H28=\"\",\"\",IF(MAXA(P28:R28)<=0,0,MAXA(P28:R28)))","v":75},{"$f":"IF(H28=\"\",\"\",IF(OR(O28=0,S28=0),0,O28+S28))","v":130},8.4000000000000057,{"$f":"IF(H28=\"\",\"\",AQ28)","v":"IRG +"},{"$f":"IF(AJ28>=0,AJ28,IF(AI28>=0,AI28,IF(AH28>=0,AH28,IF(AG28>=0,AG28,IF(AF28>=0,AF28,IF(AE28>=0,AE28,IF(AD28>=0,AD28,IF(AC28>=0,AC28,AB28))))))))","v":10},{"$f":"IF(I28=\"\",\"\",IF(A28=\"H\",IF(OR(H28=\"SEN\",H28<1995),VLOOKUP(I28,Feuil1!$A$11:$F$29,6),IF(AND(H28>1994,H28<1998),VLOOKUP(I28,Feuil1!$A$11:$F$29,5),IF(AND(H28>1997,H28<2000),VLOOKUP(I28,Feuil1!$A$11:$F$29,4),IF(AND(H28>1999,H28<2002),VLOOKUP(I28,Feuil1!$A$11:$F$29,3),VLOOKUP(I28,Feuil1!$A$11:$F$29,2))))),IF(OR(H28=\"SEN\",H28<1995),VLOOKUP(I28,Feuil1!$G$11:$L$25,6),IF(AND(H28>1994,H28<1998),VLOOKUP(I28,Feuil1!$G$11:$L$25,5),IF(AND(H28>1997,H28<2000),VLOOKUP(I28,Feuil1!$G$11:$L$25,4),IF(AND(H28>1999,H28<2002),VLOOKUP(I28,Feuil1!$G$11:$L$25,3),VLOOKUP(I28,Feuil1!$G$11:$L$25,2)))))))","v":"C1 62"},{"$f":"IF(I28=\"\",\"\",IF(A28=\"H\",10^(0.794358141*LOG(I28/174.393)^2)*T28,IF(A28=\"F\",10^(0.89726074*LOG(I28/148.026)^2)*T28,\"\")))","v":190.67716420426734},null," ",{"$f":"T28-HLOOKUP(X28,Feuil1!$C$1:$BL$10,2,FALSE)","v":55},{"$f":"T28-HLOOKUP(X28,Feuil1!$C$1:$BL$10,3,FALSE)","v":35},{"$f":"T28-HLOOKUP(X28,Feuil1!$C$1:$BL$10,4,FALSE)","v":25},{"$f":"T28-HLOOKUP(X28,Feuil1!$C$1:$BL$10,5,FALSE)","v":10},{"$f":"T28-HLOOKUP(X28,Feuil1!$C$1:$BL$10,6,FALSE)","v":-5},{"$f":"T28-HLOOKUP(X28,Feuil1!$C$1:$BL$10,7,FALSE)","v":-20},{"$f":"T28-HLOOKUP(X28,Feuil1!$C$1:$BL$10,8,FALSE)","v":-40},{"$f":"T28-HLOOKUP(X28,Feuil1!$C$1:$BL$10,9,FALSE)","v":-60},{"$f":"T28-HLOOKUP(X28,Feuil1!$C$1:$BL$10,10,FALSE)","v":-870},null,null,null,null,null,null,{"$f":"IF(AJ28>=0,$AJ$4,IF(AI28>=0,$AI$4,IF(AH28>=0,$AH$4,IF(AG28>=0,$AG$4,IF(AF28>=0,$AF$4,IF(AE28>=0,$AE$4,IF(AD28>=0,$AD$4,IF(AC28>=0,$AC$4,$AB$4))))))))","v":"IRG +"}]
[null,null,null," ",null,null,null,null,null,null,null,null,null,null,null,null,null,null,null,null," ",null,null,null,null,null,null,{"$f":"T29-HLOOKUP(X29,Feuil1!$C$1:$BL$10,2,FALSE)","v":{"$error":"#N/A"}},{"$f":"T29-HLOOKUP(X29,Feuil1!$C$1:$BL$10,3,FALSE)","v":{"$error":"#N/A"}},{"$f":"T29-HLOOKUP(X29,Feuil1!$C$1:$BL$10,4,FALSE)","v":{"$error":"#N/A"}},{"$f":"T29-HLOOKUP(X29,Feuil1!$C$1:$BL$10,5,FALSE)","v":{"$error":"#N/A"}},{"$f":"T29-HLOOKUP(X29,Feuil1!$C$1:$BL$10,6,FALSE)","v":{"$error":"#N/A"}},{"$f":"T29-HLOOKUP(X29,Feuil1!$C$1:$BL$10,7,FALSE)","v":{"$error":"#N/A"}},{"$f":"T29-HLOOKUP(X29,Feuil1!$C$1:$BL$10,8,FALSE)","v":{"$error":"#N/A"}},{"$f":"T29-HLOOKUP(X29,Feuil1!$C$1:$BL$10,9,FALSE)","v":{"$error":"#N/A"}},{"$f":"T29-HLOOKUP(X29,Feuil1!$C$1:$BL$10,10,FALSE)","v":{"$error":"#N/A"}}]
["H","SEST","PRO",1,342507,"ALFONSI","Luc ",2001,66.400000000000006,"EEAR. MONTEUX","F",-70,70,75,{"$f":"IF(H30=\"\",\"\",IF(MAXA(L30:N30)<=0,0,MAXA(L30:N30)))","v":75},95,101,"-",{"$f":"IF(H30=\"\",\"\",IF(MAXA(P30:R30)<=0,0,MAXA(P30:R30)))","v":101},{"$f":"IF(H30=\"\",\"\",IF(OR(O30=0,S30=0),0,O30+S30))","v":176},43.199999999999989,{"$f":"IF(H30=\"\",\"\",AQ30)","v":"NAT +"},{"$f":"IF(AJ30>=0,AJ30,IF(AI30>=0,AI30,IF(AH30>=0,AH30,IF(AG30>=0,AG30,IF(AF30>=0,AF30,IF(AE30>=0,AE30,IF(AD30>=0,AD30,IF(AC30>=0,AC30,AB30))))))))","v":6},{"$f":"IF(I30=\"\",\"\",IF(A30=\"H\",IF(OR(H30=\"SEN\",H30<1995),VLOOKUP(I30,Feuil1!$A$11:$F$29,6),IF(AND(H30>1994,H30<1998),VLOOKUP(I30,Feuil1!$A$11:$F$29,5),IF(AND(H30>1997,H30<2000),VLOOKUP(I30,Feuil1!$A$11:$F$29,4),IF(AND(H30>1999,H30<2002),VLOOKUP(I30,Feuil1!$A$11:$F$29,3),VLOOKUP(I30,Feuil1!$A$11:$F$29,2))))),IF(OR(H30=\"SEN\",H30<1995),VLOOKUP(I30,Feuil1!$G$11:$L$25,6),IF(AND(H30>1994,H30<1998),VLOOKUP(I30,Feuil1!$G$11:$L$25,5),IF(AND(H30>1997,H30<2000),VLOOKUP(I30,Feuil1!$G$11:$L$25,4),IF(AND(H30>1999,H30<2002),VLOOKUP(I30,Feuil1!$G$11:$L$25,3),VLOOKUP(I30,Feuil1!$G$11:$L$25,2)))))))","v":"C1 69"},{"$f":"IF(I30=\"\",\"\",IF(A30=\"H\",10^(0.794358141*LOG(I30/174.393)^2)*T30,IF(A30=\"F\",10^(0.89726074*LOG(I30/148.026)^2)*T30,\"\")))","v":242.77913969434363},null," ",{"$f":"T30-HLOOKUP(X30,Feuil1!$C$1:$BL$10,2,FALSE)","v":91},{"$f":"T30-HLOOKUP(X30,Feuil1!$C$1:$BL$10,3,FALSE)","v":71},{"$f":"T30-HLOOKUP(X30,Feuil1!$C$1:$BL$10,4,FALSE)","v":61},{"$f":"T30-HLOOKUP(X30,Feuil1!$C$1:$BL$10,5,FALSE)","v":46},{"$f":"T30-HLOOKUP(X30,Feuil1!$C$1:$BL$10,6,FALSE)","v":26},{"$f":"T30-HLOOKUP(X30,Feuil1!$C$1:$BL$10,7,FALSE)","v":6},{"$f":"T30-HLOOKUP(X30,Feuil1!$C$1:$BL$10,8,FALSE)","v":-14},{"$f":"T30-HLOOKUP(X30,Feuil1!$C$1:$BL$10,9,FALSE)","v":-34},{"$f":"T30-HLOOKUP(X30,Feuil1!$C$1:$BL$10,10,FALSE)","v":-824},null,null,null,null,null,null,{"$f":"IF(AJ30>=0,$AJ$4,IF(AI30>=0,$AI$4,IF(AH30>=0,$AH$4,IF(AG30>=0,$AG$4,IF(AF30>=0,$AF$4,IF(AE30>=0,$AE$4,IF(AD30>=0,$AD$4,IF(AC30>=0,$AC$4,$AB$4))))))))","v":"NAT +"}]
[null,null,null,null,null,null,null,null,null,null,null,null,null,null,null,null,null,null,null,null," ",null,null,null,null,null,null,{"$f":"T31-HLOOKUP(X31,Feuil1!$C$1:$BL$10,2,FALSE)","v":{"$error":"#N/A"}},{"$f":"T31-HLOOKUP(X31,Feuil1!$C$1:$BL$10,3,FALSE)","v":{"$error":"#N/A"}},{"$f":"T31-HLOOKUP(X31,Feuil1!$C$1:$BL$10,4,FALSE)","v":{"$error":"#N/A"}},{"$f":"T31-HLOOKUP(X31,Feuil1!$C$1:$BL$10,5,FALSE)","v":{"$error":"#N/A"}},{"$f":"T31-HLOOKUP(X31,Feuil1!$C$1:$BL$10,6,FALSE)","v":{"$error":"#N/A"}},{"$f":"T31-HLOOKUP(X31,Feuil1!$C$1:$BL$10,7,FALSE)","v":{"$error":"#N/A"}},{"$f":"T31-HLOOKUP(X31,Feuil1!$C$1:$BL$10,8,FALSE)","v":{"$error":"#N/A"}},{"$f":"T31-HLOOKUP(X31,Feuil1!$C$1:$BL$10,9,FALSE)","v":{"$error":"#N/A"}},{"$f":"T31-HLOOKUP(X31,Feuil1!$C$1:$BL$10,10,FALSE)","v":{"$error":"#N/A"}}]
["H","Nord","NPC",1,272004,"FRANCHOIS","Kévin",2000,76.400000000000006,"St Pol sur Mer","F",75,-80,80,80,95,-100,100,100,180,27.199999999999989,"FED +",10,{"$f":"IF(I32=\"\",\"\",IF(A32=\"H\",IF(OR(H32=\"SEN\",H32<1995),VLOOKUP(I32,Feuil1!$A$11:$F$29,6),IF(AND(H32>1994,H32<1998),VLOOKUP(I32,Feuil1!$A$11:$F$29,5),IF(AND(H32>1997,H32<2000),VLOOKUP(I32,Feuil1!$A$11:$F$29,4),IF(AND(H32>1999,H32<2002),VLOOKUP(I32,Feuil1!$A$11:$F$29,3),VLOOKUP(I32,Feuil1!$A$11:$F$29,2))))),IF(OR(H32=\"SEN\",H32<1995),VLOOKUP(I32,Feuil1!$G$11:$L$25,6),IF(AND(H32>1994,H32<1998),VLOOKUP(I32,Feuil1!$G$11:$L$25,5),IF(AND(H32>1997,H32<2000),VLOOKUP(I32,Feuil1!$G$11:$L$25,4),IF(AND(H32>1999,H32<2002),VLOOKUP(I32,Feuil1!$G$11:$L$25,3),VLOOKUP(I32,Feuil1!$G$11:$L$25,2)))))))","v":"C1 77"},{"$f":"IF(I32=\"\",\"\",IF(A32=\"H\",10^(0.794358141*LOG(I32/174.393)^2)*T32,IF(A32=\"F\",10^(0.89726074*LOG(I32/148.026)^2)*T32,\"\")))","v":227.68193619837334},null," ",{"$f":"T32-HLOOKUP(X32,Feuil1!$C$1:$BL$10,2,FALSE)","v":90},{"$f":"T32-HLOOKUP(X32,Feuil1!$C$1:$BL$10,3,FALSE)","v":70},{"$f":"T32-HLOOKUP(X32,Feuil1!$C$1:$BL$10,4,FALSE)","v":50},{"$f":"T32-HLOOKUP(X32,Feuil1!$C$1:$BL$10,5,FALSE)","v":30},{"$f":"T32-HLOOKUP(X32,Feuil1!$C$1:$BL$10,6,FALSE)","v":10},{"$f":"T32-HLOOKUP(X32,Feuil1!$C$1:$BL$10,7,FALSE)","v":-5},{"$f":"T32-HLOOKUP(X32,Feuil1!$C$1:$BL$10,8,FALSE)","v":-20},{"$f":"T32-HLOOKUP(X32,Feuil1!$C$1:$BL$10,9,FALSE)","v":-40},{"$f":"T32-HLOOKUP(X32,Feuil1!$C$1:$BL$10,10,FALSE)","v":-820},null,null,null,null,null,null,"FED +"]
["H","NE","ALS",2,326143,"SPIELMANN","Arthur",2000,74.3,"SR Obernai HM","F",-61,61,66,66,80,84,-88,84,150,1.4000000000000057,"IRG +",0,{"$f":"IF(I33=\"\",\"\",IF(A33=\"H\",IF(OR(H33=\"SEN\",H33<1995),VLOOKUP(I33,Feuil1!$A$11:$F$29,6),IF(AND(H33>1994,H33<1998),VLOOKUP(I33,Feuil1!$A$11:$F$29,5),IF(AND(H33>1997,H33<2000),VLOOKUP(I33,Feuil1!$A$11:$F$29,4),IF(AND(H33>1999,H33<2002),VLOOKUP(I33,Feuil1!$A$11:$F$29,3),VLOOKUP(I33,Feuil1!$A$11:$F$29,2))))),IF(OR(H33=\"SEN\",H33<1995),VLOOKUP(I33,Feuil1!$G$11:$L$25,6),IF(AND(H33>1994,H33<1998),VLOOKUP(I33,Feuil1!$G$11:$L$25,5),IF(AND(H33>1997,H33<2000),VLOOKUP(I33,Feuil1!$G$11:$L$25,4),IF(AND(H33>1999,H33<2002),VLOOKUP(I33,Feuil1!$G$11:$L$25,3),VLOOKUP(I33,Feuil1!$G$11:$L$25,2)))))))","v":"C1 77"},{"$f":"IF(I33=\"\",\"\",IF(A33=\"H\",10^(0.794358141*LOG(I33/174.393)^2)*T33,IF(A33=\"F\",10^(0.89726074*LOG(I33/148.026)^2)*T33,\"\")))","v":192.82204477575544},null," ",{"$f":"T33-HLOOKUP(X33,Feuil1!$C$1:$BL$10,2,FALSE)","v":60},{"$f":"T33-HLOOKUP(X33,Feuil1!$C$1:$BL$10,3,FALSE)","v":40},{"$f":"T33-HLOOKUP(X33,Feuil1!$C$1:$BL$10,4,FALSE)","v":20},{"$f":"T33-HLOOKUP(X33,Feuil1!$C$1:$BL$10,5,FALSE)","v":0},{"$f":"T33-HLOOKUP(X33,Feuil1!$C$1:$BL$10,6,FALSE)","v":-20},{"$f":"T33-HLOOKUP(X33,Feuil1!$C$1:$BL$10,7,FALSE)","v":-35},{"$f":"T33-HLOOKUP(X33,Feuil1!$C$1:$BL$10,8,FALSE)","v":-50},{"$f":"T33-HLOOKUP(X33,Feuil1!$C$1:$BL$10,9,FALSE)","v":-70},{"$f":"T33-HLOOKUP(X33,Feuil1!$C$1:$BL$10,10,FALSE)","v":-850},null,null,null,null,null,null,"IRG +"]
[null,null,null,null,null,null,null,null,null,null,null,null,null,null,null,null,null,null,null,null," ",null,null,null,null,null,null,{"$f":"T34-HLOOKUP(X34,Feuil1!$C$1:$BL$10,2,FALSE)","v":{"$error":"#N/A"}},{"$f":"T34-HLOOKUP(X34,Feuil1!$C$1:$BL$10,3,FALSE)","v":{"$error":"#N/A"}},{"$f":"T34-HLOOKUP(X34,Feuil1!$C$1:$BL$10,4,FALSE)","v":{"$error":"#N/A"}},{"$f":"T34-HLOOKUP(X34,Feuil1!$C$1:$BL$10,5,FALSE)","v":{"$error":"#N/A"}},{"$f":"T34-HLOOKUP(X34,Feuil1!$C$1:$BL$10,6,FALSE)","v":{"$error":"#N/A"}},{"$f":"T34-HLOOKUP(X34,Feuil1!$C$1:$BL$10,7,FALSE)","v":{"$error":"#N/A"}},{"$f":"T34-HLOOKUP(X34,Feuil1!$C$1:$BL$10,8,FALSE)","v":{"$error":"#N/A"}},{"$f":"T34-HLOOKUP(X34,Feuil1!$C$1:$BL$10,9,FALSE)","v":{"$error":"#N/A"}},{"$f":"T34-HLOOKUP(X34,Feuil1!$C$1:$BL$10,10,FALSE)","v":{"$error":"#N/A"}}]
[null,null,null,null,null,"U17",null,null,null,null,null,null,null,null,null,null,null,null,null,null,null,null,null,null,null,null,null,{"$f":"T35-HLOOKUP(X35,Feuil1!$C$1:$BL$10,2,FALSE)","v":{"$error":"#N/A"}},{"$f":"T35-HLOOKUP(X35,Feuil1!$C$1:$BL$10,3,FALSE)","v":{"$error":"#N/A"}},{"$f":"T35-HLOOKUP(X35,Feuil1!$C$1:$BL$10,4,FALSE)","v":{"$error":"#N/A"}},{"$f":"T35-HLOOKUP(X35,Feuil1!$C$1:$BL$10,5,FALSE)","v":{"$error":"#N/A"}},{"$f":"T35-HLOOKUP(X35,Feuil1!$C$1:$BL$10,6,FALSE)","v":{"$error":"#N/A"}},{"$f":"T35-HLOOKUP(X35,Feuil1!$C$1:$BL$10,7,FALSE)","v":{"$error":"#N/A"}},{"$f":"T35-HLOOKUP(X35,Feuil1!$C$1:$BL$10,8,FALSE)","v":{"$error":"#N/A"}},{"$f":"T35-HLOOKUP(X35,Feuil1!$C$1:$BL$10,9,FALSE)","v":{"$error":"#N/A"}},{"$f":"T35-HLOOKUP(X35,Feuil1!$C$1:$BL$10,10,FALSE)","v":{"$error":"#N/A"}}]
["H","SEST","CAZ",1,357026,"MONTAGNOLI","Corentin",1998,49.6,"E.S. VILLENEUVE LOUBET","F",44,47,-50,{"$f":"IF(H36=\"\",\"\",IF(MAXA(L36:N36)<=0,0,MAXA(L36:N36)))","v":47},53,57,-60,{"$f":"IF(H36=\"\",\"\",IF(MAXA(P36:R36)<=0,0,MAXA(P36:R36)))","v":57},{"$f":"IF(H36=\"\",\"\",IF(OR(O36=0,S36=0),0,O36+S36))","v":104},4.7999999999999972,{"$f":"IF(H36=\"\",\"\",AQ36)","v":"IRG +"},{"$f":"IF(AJ36>=0,AJ36,IF(AI36>=0,AI36,IF(AH36>=0,AH36,IF(AG36>=0,AG36,IF(AF36>=0,AF36,IF(AE36>=0,AE36,IF(AD36>=0,AD36,IF(AC36>=0,AC36,AB36))))))))","v":9},{"$f":"IF(I36=\"\",\"\",IF(A36=\"H\",IF(OR(H36=\"SEN\",H36<1995),VLOOKUP(I36,Feuil1!$A$11:$F$29,6),IF(AND(H36>1994,H36<1998),VLOOKUP(I36,Feuil1!$A$11:$F$29,5),IF(AND(H36>1997,H36<2000),VLOOKUP(I36,Feuil1!$A$11:$F$29,4),IF(AND(H36>1999,H36<2002),VLOOKUP(I36,Feuil1!$A$11:$F$29,3),VLOOKUP(I36,Feuil1!$A$11:$F$29,2))))),IF(OR(H36=\"SEN\",H36<1995),VLOOKUP(I36,Feuil1!$G$11:$L$25,6),IF(AND(H36>1994,H36<1998),VLOOKUP(I36,Feuil1!$G$11:$L$25,5),IF(AND(H36>1997,H36<2000),VLOOKUP(I36,Feuil1!$G$11:$L$25,4),IF(AND(H36>1999,H36<2002),VLOOKUP(I36,Feuil1!$G$11:$L$25,3),VLOOKUP(I36,Feuil1!$G$11:$L$25,2)))))))","v":"C2 50"},{"$f":"IF(I36=\"\",\"\",IF(A36=\"H\",10^(0.794358141*LOG(I36/174.393)^2)*T36,IF(A36=\"F\",10^(0.89726074*LOG(I36/148.026)^2)*T36,\"\")))","v":179.42597098714549},null," ",{"$f":"T36-HLOOKUP(X36,Feuil1!$C$1:$BL$10,2,FALSE)","v":59},{"$f":"T36-HLOOKUP(X36,Feuil1!$C$1:$BL$10,3,FALSE)","v":39},{"$f":"T36-HLOOKUP(X36,Feuil1!$C$1:$BL$10,4,FALSE)","v":24},{"$f":"T36-HLOOKUP(X36,Feuil1!$C$1:$BL$10,5,FALSE)","v":9},{"$f":"T36-HLOOKUP(X36,Feuil1!$C$1:$BL$10,6,FALSE)","v":-6},{"$f":"T36-HLOOKUP(X36,Feuil1!$C$1:$BL$10,7,FALSE)","v":-16},{"$f":"T36-HLOOKUP(X36,Feuil1!$C$1:$BL$10,8,FALSE)","v":-31},{"$f":"T36-HLOOKUP(X36,Feuil1!$C$1:$BL$10,9,FALSE)","v":-46},{"$f":"T36-HLOOKUP(X36,Feuil1!$C$1:$BL$10,10,FALSE)","v":-896},null,null,null,null,null,null,{"$f":"IF(AJ36>=0,$AJ$4,IF(AI36>=0,$AI$4,IF(AH36>=0,$AH$4,IF(AG36>=0,$AG$4,IF(AF36>=0,$AF$4,IF(AE36>=0,$AE$4,IF(AD36>=0,$AD$4,IF(AC36>=0,$AC$4,$AB$4))))))))","v":"IRG +"}]
["H","Nord","NPC",2,279997,"RIQUIER","Dimitri",1999,48.51,"Lille UC","F",43,47,-50,{"$f":"IF(H37=\"\",\"\",IF(MAXA(L37:N37)<=0,0,MAXA(L37:N37)))","v":47},55,-63,-63,{"$f":"IF(H37=\"\",\"\",IF(MAXA(P37:R37)<=0,0,MAXA(P37:R37)))","v":55},{"$f":"IF(H37=\"\",\"\",IF(OR(O37=0,S37=0),0,O37+S37))","v":102},4.980000000000004,{"$f":"IF(H37=\"\",\"\",AQ37)","v":"IRG +"},{"$f":"IF(AJ37>=0,AJ37,IF(AI37>=0,AI37,IF(AH37>=0,AH37,IF(AG37>=0,AG37,IF(AF37>=0,AF37,IF(AE37>=0,AE37,IF(AD37>=0,AD37,IF(AC37>=0,AC37,AB37))))))))","v":7},{"$f":"IF(I37=\"\",\"\",IF(A37=\"H\",IF(OR(H37=\"SEN\",H37<1995),VLOOKUP(I37,Feuil1!$A$11:$F$29,6),IF(AND(H37>1994,H37<1998),VLOOKUP(I37,Feuil1!$A$11:$F$29,5),IF(AND(H37>1997,H37<2000),VLOOKUP(I37,Feuil1!$A$11:$F$29,4),IF(AND(H37>1999,H37<2002),VLOOKUP(I37,Feuil1!$A$11:$F$29,3),VLOOKUP(I37,Feuil1!$A$11:$F$29,2))))),IF(OR(H37=\"SEN\",H37<1995),VLOOKUP(I37,Feuil1!$G$11:$L$25,6),IF(AND(H37>1994,H37<1998),VLOOKUP(I37,Feuil1!$G$11:$L$25,5),IF(AND(H37>1997,H37<2000),VLOOKUP(I37,Feuil1!$G$11:$L$25,4),IF(AND(H37>1999,H37<2002),VLOOKUP(I37,Feuil1!$G$11:$L$25,3),VLOOKUP(I37,Feuil1!$G$11:$L$25,2)))))))","v":"C2 50"},{"$f":"IF(I37=\"\",\"\",IF(A37=\"H\",10^(0.794358141*LOG(I37/174.393)^2)*T37,IF(A37=\"F\",10^(0.89726074*LOG(I37/148.026)^2)*T37,\"\")))","v":179.43120697659694},null," ",{"$f":"T37-HLOOKUP(X37,Feuil1!$C$1:$BL$10,2,FALSE)","v":57},{"$f":"T37-HLOOKUP(X37,Feuil1!$C$1:$BL$10,3,FALSE)","v":37},{"$f":"T37-HLOOKUP(X37,Feuil1!$C$1:$BL$10,4,FALSE)","v":22},{"$f":"T37-HLOOKUP(X37,Feuil1!$C$1:$BL$10,5,FALSE)","v":7},{"$f":"T37-HLOOKUP(X37,Feuil1!$C$1:$BL$10,6,FALSE)","v":-8},{"$f":"T37-HLOOKUP(X37,Feuil1!$C$1:$BL$10,7,FALSE)","v":-18},{"$f":"T37-HLOOKUP(X37,Feuil1!$C$1:$BL$10,8,FALSE)","v":-33},{"$f":"T37-HLOOKUP(X37,Feuil1!$C$1:$BL$10,9,FALSE)","v":-48},{"$f":"T37-HLOOKUP(X37,Feuil1!$C$1:$BL$10,10,FALSE)","v":-898},null,null,null,null,null,null,{"$f":"IF(AJ37>=0,$AJ$4,IF(AI37>=0,$AI$4,IF(AH37>=0,$AH$4,IF(AG37>=0,$AG$4,IF(AF37>=0,$AF$4,IF(AE37>=0,$AE$4,IF(AD37>=0,$AD$4,IF(AC37>=0,$AC$4,$AB$4))))))))","v":"IRG +"}]
["H","ZCO","PDL",3,234307,"ROUSSELET","Clément",1999,47.85,"Giberville","F",42,45,-47,{"$f":"IF(H38=\"\",\"\",IF(MAXA(L38:N38)<=0,0,MAXA(L38:N38)))","v":45},50,55,-60,{"$f":"IF(H38=\"\",\"\",IF(MAXA(P38:R38)<=0,0,MAXA(P38:R38)))","v":55},{"$f":"IF(H38=\"\",\"\",IF(OR(O38=0,S38=0),0,O38+S38))","v":100},4.2999999999999972,{"$f":"IF(H38=\"\",\"\",AQ38)","v":"IRG +"},{"$f":"IF(AJ38>=0,AJ38,IF(AI38>=0,AI38,IF(AH38>=0,AH38,IF(AG38>=0,AG38,IF(AF38>=0,AF38,IF(AE38>=0,AE38,IF(AD38>=0,AD38,IF(AC38>=0,AC38,AB38))))))))","v":5},{"$f":"IF(I38=\"\",\"\",IF(A38=\"H\",IF(OR(H38=\"SEN\",H38<1995),VLOOKUP(I38,Feuil1!$A$11:$F$29,6),IF(AND(H38>1994,H38<1998),VLOOKUP(I38,Feuil1!$A$11:$F$29,5),IF(AND(H38>1997,H38<2000),VLOOKUP(I38,Feuil1!$A$11:$F$29,4),IF(AND(H38>1999,H38<2002),VLOOKUP(I38,Feuil1!$A$11:$F$29,3),VLOOKUP(I38,Feuil1!$A$11:$F$29,2))))),IF(OR(H38=\"SEN\",H38<1995),VLOOKUP(I38,Feuil1!$G$11:$L$25,6),IF(AND(H38>1994,H38<1998),VLOOKUP(I38,Feuil1!$G$11:$L$25,5),IF(AND(H38>1997,H38<2000),VLOOKUP(I38,Feuil1!$G$11:$L$25,4),IF(AND(H38>1999,H38<2002),VLOOKUP(I38,Feuil1!$G$11:$L$25,3),VLOOKUP(I38,Feuil1!$G$11:$L$25,2)))))))","v":"C2 50"},{"$f":"IF(I38=\"\",\"\",IF(A38=\"H\",10^(0.794358141*LOG(I38/174.393)^2)*T38,IF(A38=\"F\",10^(0.89726074*LOG(I38/148.026)^2)*T38,\"\")))","v":178.06487850177672},null," ",{"$f":"T38-HLOOKUP(X38,Feuil1!$C$1:$BL$10,2,FALSE)","v":55},{"$f":"T38-HLOOKUP(X38,Feuil1!$C$1:$BL$10,3,FALSE)","v":35},{"$f":"T38-HLOOKUP(X38,Feuil1!$C$1:$BL$10,4,FALSE)","v":20},{"$f":"T38-HLOOKUP(X38,Feuil1!$C$1:$BL$10,5,FALSE)","v":5},{"$f":"T38-HLOOKUP(X38,Feuil1!$C$1:$BL$10,6,FALSE)","v":-10},{"$f":"T38-HLOOKUP(X38,Feuil1!$C$1:$BL$10,7,FALSE)","v":-20},{"$f":"T38-HLOOKUP(X38,Feuil1!$C$1:$BL$10,8,FALSE)","v":-35},{"$f":"T38-HLOOKUP(X38,Feuil1!$C$1:$BL$10,9,FALSE)","v":-50},{"$f":"T38-HLOOKUP(X38,Feuil1!$C$1:$BL$10,10,FALSE)","v":-900},null,null,null,null,null,null,{"$f":"IF(AJ38>=0,$AJ$4,IF(AI38>=0,$AI$4,IF(AH38>=0,$AH$4,IF(AG38>=0,$AG$4,IF(AF38>=0,$AF$4,IF(AE38>=0,$AE$4,IF(AD38>=0,$AD$4,IF(AC38>=0,$AC$4,$AB$4))))))))","v":"IRG +"}]
[null,null,null,null,null,null,null,null,null,null,null,null,null,null,null,null,"R.F.",null,null,"R.F."," ",null,null,null,null,null,null,{"$f":"T39-HLOOKUP(X39,Feuil1!$C$1:$BL$10,2,FALSE)","v":{"$error":"#VALUE!"}},{"$f":"T39-HLOOKUP(X39,Feuil1!$C$1:$BL$10,3,FALSE)","v":{"$error":"#VALUE!"}},{"$f":"T39-HLOOKUP(X39,Feuil1!$C$1:$BL$10,4,FALSE)","v":{"$error":"#VALUE!"}},{"$f":"T39-HLOOKUP(X39,Feuil1!$C$1:$BL$10,5,FALSE)","v":{"$error":"#VALUE!"}},{"$f":"T39-HLOOKUP(X39,Feuil1!$C$1:$BL$10,6,FALSE)","v":{"$error":"#VALUE!"}},{"$f":"T39-HLOOKUP(X39,Feuil1!$C$1:$BL$10,7,FALSE)","v":{"$error":"#VALUE!"}},{"$f":"T39-HLOOKUP(X39,Feuil1!$C$1:$BL$10,8,FALSE)","v":{"$error":"#VALUE!"}},{"$f":"T39-HLOOKUP(X39,Feuil1!$C$1:$BL$10,9,FALSE)","v":{"$error":"#VALUE!"}},{"$f":"T39-HLOOKUP(X39,Feuil1!$C$1:$BL$10,10,FALSE)","v":{"$error":"#VALUE!"}}]
["H","Nord","PIC",1,261141,"PEDRAK","Benjamin",1998,55.39,"Villers-Bretonneux KC","F",84,88,-92,{"$f":"IF(H40=\"\",\"\",IF(MAXA(L40:N40)<=0,0,MAXA(L40:N40)))","v":88},105,111,-113,{"$f":"IF(H40=\"\",\"\",IF(MAXA(P40:R40)<=0,0,MAXA(P40:R40)))","v":111},{"$f":"IF(H40=\"\",\"\",IF(OR(O40=0,S40=0),0,O40+S40))","v":199},88.22,{"$f":"IF(H40=\"\",\"\",AQ40)","v":"INTA +"},{"$f":"IF(AJ40>=0,AJ40,IF(AI40>=0,AI40,IF(AH40>=0,AH40,IF(AG40>=0,AG40,IF(AF40>=0,AF40,IF(AE40>=0,AE40,IF(AD40>=0,AD40,IF(AC40>=0,AC40,AB40))))))))","v":9},{"$f":"IF(I40=\"\",\"\",IF(A40=\"H\",IF(OR(H40=\"SEN\",H40<1995),VLOOKUP(I40,Feuil1!$A$11:$F$29,6),IF(AND(H40>1994,H40<1998),VLOOKUP(I40,Feuil1!$A$11:$F$29,5),IF(AND(H40>1997,H40<2000),VLOOKUP(I40,Feuil1!$A$11:$F$29,4),IF(AND(H40>1999,H40<2002),VLOOKUP(I40,Feuil1!$A$11:$F$29,3),VLOOKUP(I40,Feuil1!$A$11:$F$29,2))))),IF(OR(H40=\"SEN\",H40<1995),VLOOKUP(I40,Feuil1!$G$11:$L$25,6),IF(AND(H40>1994,H40<1998),VLOOKUP(I40,Feuil1!$G$11:$L$25,5),IF(AND(H40>1997,H40<2000),VLOOKUP(I40,Feuil1!$G$11:$L$25,4),IF(AND(H40>1999,H40<2002),VLOOKUP(I40,Feuil1!$G$11:$L$25,3),VLOOKUP(I40,Feuil1!$G$11:$L$25,2)))))))","v":"C2 56"},{"$f":"IF(I40=\"\",\"\",IF(A40=\"H\",10^(0.794358141*LOG(I40/174.393)^2)*T40,IF(A40=\"F\",10^(0.89726074*LOG(I40/148.026)^2)*T40,\"\")))","v":313.28122313839987},null," ",{"$f":"T40-HLOOKUP(X40,Feuil1!$C$1:$BL$10,2,FALSE)","v":134},{"$f":"T40-HLOOKUP(X40,Feuil1!$C$1:$BL$10,3,FALSE)","v":114},{"$f":"T40-HLOOKUP(X40,Feuil1!$C$1:$BL$10,4,FALSE)","v":99},{"$f":"T40-HLOOKUP(X40,Feuil1!$C$1:$BL$10,5,FALSE)","v":84},{"$f":"T40-HLOOKUP(X40,Feuil1!$C$1:$BL$10,6,FALSE)","v":69},{"$f":"T40-HLOOKUP(X40,Feuil1!$C$1:$BL$10,7,FALSE)","v":54},{"$f":"T40-HLOOKUP(X40,Feuil1!$C$1:$BL$10,8,FALSE)","v":29},{"$f":"T40-HLOOKUP(X40,Feuil1!$C$1:$BL$10,9,FALSE)","v":9},{"$f":"T40-HLOOKUP(X40,Feuil1!$C$1:$BL$10,10,FALSE)","v":-801},null,null,null,null,null,null,{"$f":"IF(AJ40>=0,$AJ$4,IF(AI40>=0,$AI$4,IF(AH40>=0,$AH$4,IF(AG40>=0,$AG$4,IF(AF40>=0,$AF$4,IF(AE40>=0,$AE$4,IF(AD40>=0,$AD$4,IF(AC40>=0,$AC$4,$AB$4))))))))","v":"INTA +"}]
["H","SEST","CAZ",2,305873,"LANDAIS","Alexis",1999,55.2,"E.S. VILLENEUVE LOUBET","F",66,70,-72,70,83,87,-90,87,157,46.599999999999994,"NAT +",12,{"$f":"IF(I41=\"\",\"\",IF(A41=\"H\",IF(OR(H41=\"SEN\",H41<1995),VLOOKUP(I41,Feuil1!$A$11:$F$29,6),IF(AND(H41>1994,H41<1998),VLOOKUP(I41,Feuil1!$A$11:$F$29,5),IF(AND(H41>1997,H41<2000),VLOOKUP(I41,Feuil1!$A$11:$F$29,4),IF(AND(H41>1999,H41<2002),VLOOKUP(I41,Feuil1!$A$11:$F$29,3),VLOOKUP(I41,Feuil1!$A$11:$F$29,2))))),IF(OR(H41=\"SEN\",H41<1995),VLOOKUP(I41,Feuil1!$G$11:$L$25,6),IF(AND(H41>1994,H41<1998),VLOOKUP(I41,Feuil1!$G$11:$L$25,5),IF(AND(H41>1997,H41<2000),VLOOKUP(I41,Feuil1!$G$11:$L$25,4),IF(AND(H41>1999,H41<2002),VLOOKUP(I41,Feuil1!$G$11:$L$25,3),VLOOKUP(I41,Feuil1!$G$11:$L$25,2)))))))","v":"C2 56"},{"$f":"IF(I41=\"\",\"\",IF(A41=\"H\",10^(0.794358141*LOG(I41/174.393)^2)*T41,IF(A41=\"F\",10^(0.89726074*LOG(I41/148.026)^2)*T41,\"\")))","v":247.83555501259991},null," ",{"$f":"T41-HLOOKUP(X41,Feuil1!$C$1:$BL$10,2,FALSE)","v":92},{"$f":"T41-HLOOKUP(X41,Feuil1!$C$1:$BL$10,3,FALSE)","v":72},{"$f":"T41-HLOOKUP(X41,Feuil1!$C$1:$BL$10,4,FALSE)","v":57},{"$f":"T41-HLOOKUP(X41,Feuil1!$C$1:$BL$10,5,FALSE)","v":42},{"$f":"T41-HLOOKUP(X41,Feuil1!$C$1:$BL$10,6,FALSE)","v":27},{"$f":"T41-HLOOKUP(X41,Feuil1!$C$1:$BL$10,7,FALSE)","v":12},{"$f":"T41-HLOOKUP(X41,Feuil1!$C$1:$BL$10,8,FALSE)","v":-13},{"$f":"T41-HLOOKUP(X41,Feuil1!$C$1:$BL$10,9,FALSE)","v":-33},{"$f":"T41-HLOOKUP(X41,Feuil1!$C$1:$BL$10,10,FALSE)","v":-843},null,null,null,null,null,null,"NAT +"]
["H","Nord","NPC",3,328452,"HOELLE","Alexis",1998,55.73,"CA Rosendael","F",-68,68,72,72,85,-91,-91,85,157,45.540000000000006,"NAT +",12,{"$f":"IF(I42=\"\",\"\",IF(A42=\"H\",IF(OR(H42=\"SEN\",H42<1995),VLOOKUP(I42,Feuil1!$A$11:$F$29,6),IF(AND(H42>1994,H42<1998),VLOOKUP(I42,Feuil1!$A$11:$F$29,5),IF(AND(H42>1997,H42<2000),VLOOKUP(I42,Feuil1!$A$11:$F$29,4),IF(AND(H42>1999,H42<2002),VLOOKUP(I42,Feuil1!$A$11:$F$29,3),VLOOKUP(I42,Feuil1!$A$11:$F$29,2))))),IF(OR(H42=\"SEN\",H42<1995),VLOOKUP(I42,Feuil1!$G$11:$L$25,6),IF(AND(H42>1994,H42<1998),VLOOKUP(I42,Feuil1!$G$11:$L$25,5),IF(AND(H42>1997,H42<2000),VLOOKUP(I42,Feuil1!$G$11:$L$25,4),IF(AND(H42>1999,H42<2002),VLOOKUP(I42,Feuil1!$G$11:$L$25,3),VLOOKUP(I42,Feuil1!$G$11:$L$25,2)))))))","v":"C2 56"},{"$f":"IF(I42=\"\",\"\",IF(A42=\"H\",10^(0.794358141*LOG(I42/174.393)^2)*T42,IF(A42=\"F\",10^(0.89726074*LOG(I42/148.026)^2)*T42,\"\")))","v":245.97073368049058},null," ",{"$f":"T42-HLOOKUP(X42,Feuil1!$C$1:$BL$10,2,FALSE)","v":92},{"$f":"T42-HLOOKUP(X42,Feuil1!$C$1:$BL$10,3,FALSE)","v":72},{"$f":"T42-HLOOKUP(X42,Feuil1!$C$1:$BL$10,4,FALSE)","v":57},{"$f":"T42-HLOOKUP(X42,Feuil1!$C$1:$BL$10,5,FALSE)","v":42},{"$f":"T42-HLOOKUP(X42,Feuil1!$C$1:$BL$10,6,FALSE)","v":27},{"$f":"T42-HLOOKUP(X42,Feuil1!$C$1:$BL$10,7,FALSE)","v":12},{"$f":"T42-HLOOKUP(X42,Feuil1!$C$1:$BL$10,8,FALSE)","v":-13},{"$f":"T42-HLOOKUP(X42,Feuil1!$C$1:$BL$10,9,FALSE)","v":-33},{"$f":"T42-HLOOKUP(X42,Feuil1!$C$1:$BL$10,10,FALSE)","v":-843},null,null,null,null,null,null,"NAT +"]
["H","Nord","PIC",4,343406,"CANUT","Timothé",1999,53.78,"La Vaillante St Quentin","F",-60,60,65,65,70,75,80,80,145,37.44,"NAT +",0,{"$f":"IF(I43=\"\",\"\",IF(A43=\"H\",IF(OR(H43=\"SEN\",H43<1995),VLOOKUP(I43,Feuil1!$A$11:$F$29,6),IF(AND(H43>1994,H43<1998),VLOOKUP(I43,Feuil1!$A$11:$F$29,5),IF(AND(H43>1997,H43<2000),VLOOKUP(I43,Feuil1!$A$11:$F$29,4),IF(AND(H43>1999,H43<2002),VLOOKUP(I43,Feuil1!$A$11:$F$29,3),VLOOKUP(I43,Feuil1!$A$11:$F$29,2))))),IF(OR(H43=\"SEN\",H43<1995),VLOOKUP(I43,Feuil1!$G$11:$L$25,6),IF(AND(H43>1994,H43<1998),VLOOKUP(I43,Feuil1!$G$11:$L$25,5),IF(AND(H43>1997,H43<2000),VLOOKUP(I43,Feuil1!$G$11:$L$25,4),IF(AND(H43>1999,H43<2002),VLOOKUP(I43,Feuil1!$G$11:$L$25,3),VLOOKUP(I43,Feuil1!$G$11:$L$25,2)))))))","v":"C2 56"},{"$f":"IF(I43=\"\",\"\",IF(A43=\"H\",10^(0.794358141*LOG(I43/174.393)^2)*T43,IF(A43=\"F\",10^(0.89726074*LOG(I43/148.026)^2)*T43,\"\")))","v":233.73142989228302},null," ",{"$f":"T43-HLOOKUP(X43,Feuil1!$C$1:$BL$10,2,FALSE)","v":80},{"$f":"T43-HLOOKUP(X43,Feuil1!$C$1:$BL$10,3,FALSE)","v":60},{"$f":"T43-HLOOKUP(X43,Feuil1!$C$1:$BL$10,4,FALSE)","v":45},{"$f":"T43-HLOOKUP(X43,Feuil1!$C$1:$BL$10,5,FALSE)","v":30},{"$f":"T43-HLOOKUP(X43,Feuil1!$C$1:$BL$10,6,FALSE)","v":15},{"$f":"T43-HLOOKUP(X43,Feuil1!$C$1:$BL$10,7,FALSE)","v":0},{"$f":"T43-HLOOKUP(X43,Feuil1!$C$1:$BL$10,8,FALSE)","v":-25},{"$f":"T43-HLOOKUP(X43,Feuil1!$C$1:$BL$10,9,FALSE)","v":-45},{"$f":"T43-HLOOKUP(X43,Feuil1!$C$1:$BL$10,10,FALSE)","v":-855},null,null,null,null,null,null,"NAT +"]
["H","NE","LOR",5,273033,"GUINDOS","Vincent",1998,53.8,"E.S.Laneuveville","F",57,60,62,62,70,75,78,78,140,32.400000000000006,"FED +",10,{"$f":"IF(I44=\"\",\"\",IF(A44=\"H\",IF(OR(H44=\"SEN\",H44<1995),VLOOKUP(I44,Feuil1!$A$11:$F$29,6),IF(AND(H44>1994,H44<1998),VLOOKUP(I44,Feuil1!$A$11:$F$29,5),IF(AND(H44>1997,H44<2000),VLOOKUP(I44,Feuil1!$A$11:$F$29,4),IF(AND(H44>1999,H44<2002),VLOOKUP(I44,Feuil1!$A$11:$F$29,3),VLOOKUP(I44,Feuil1!$A$11:$F$29,2))))),IF(OR(H44=\"SEN\",H44<1995),VLOOKUP(I44,Feuil1!$G$11:$L$25,6),IF(AND(H44>1994,H44<1998),VLOOKUP(I44,Feuil1!$G$11:$L$25,5),IF(AND(H44>1997,H44<2000),VLOOKUP(I44,Feuil1!$G$11:$L$25,4),IF(AND(H44>1999,H44<2002),VLOOKUP(I44,Feuil1!$G$11:$L$25,3),VLOOKUP(I44,Feuil1!$G$11:$L$25,2)))))))","v":"C2 56"},{"$f":"IF(I44=\"\",\"\",IF(A44=\"H\",10^(0.794358141*LOG(I44/174.393)^2)*T44,IF(A44=\"F\",10^(0.89726074*LOG(I44/148.026)^2)*T44,\"\")))","v":225.60363896044026},null," ",{"$f":"T44-HLOOKUP(X44,Feuil1!$C$1:$BL$10,2,FALSE)","v":75},{"$f":"T44-HLOOKUP(X44,Feuil1!$C$1:$BL$10,3,FALSE)","v":55},{"$f":"T44-HLOOKUP(X44,Feuil1!$C$1:$BL$10,4,FALSE)","v":40},{"$f":"T44-HLOOKUP(X44,Feuil1!$C$1:$BL$10,5,FALSE)","v":25},{"$f":"T44-HLOOKUP(X44,Feuil1!$C$1:$BL$10,6,FALSE)","v":10},{"$f":"T44-HLOOKUP(X44,Feuil1!$C$1:$BL$10,7,FALSE)","v":-5},{"$f":"T44-HLOOKUP(X44,Feuil1!$C$1:$BL$10,8,FALSE)","v":-30},{"$f":"T44-HLOOKUP(X44,Feuil1!$C$1:$BL$10,9,FALSE)","v":-50},{"$f":"T44-HLOOKUP(X44,Feuil1!$C$1:$BL$10,10,FALSE)","v":-860},null,null,null,null,null,null,"FED +"]
["H","DOM","REU",6,250368,"MARKA","Erwann",1999,54.6,"CSPJ St Denis","F",55,-58,58,58,70,75,-77,{"$f":"IF(H45=\"\",\"\",IF(MAXA(P45:R45)<=0,0,MAXA(P45:R45)))","v":75},{"$f":"IF(H45=\"\",\"\",IF(OR(O45=0,S45=0),0,O45+S45))","v":133},{"$f":"T45-I45*2","v":23.799999999999997},{"$f":"IF(H45=\"\",\"\",AQ45)","v":"FED +"},{"$f":"IF(AJ45>=0,AJ45,IF(AI45>=0,AI45,IF(AH45>=0,AH45,IF(AG45>=0,AG45,IF(AF45>=0,AF45,IF(AE45>=0,AE45,IF(AD45>=0,AD45,IF(AC45>=0,AC45,AB45))))))))","v":3},{"$f":"IF(I45=\"\",\"\",IF(A45=\"H\",IF(OR(H45=\"SEN\",H45<1995),VLOOKUP(I45,Feuil1!$A$11:$F$29,6),IF(AND(H45>1994,H45<1998),VLOOKUP(I45,Feuil1!$A$11:$F$29,5),IF(AND(H45>1997,H45<2000),VLOOKUP(I45,Feuil1!$A$11:$F$29,4),IF(AND(H45>1999,H45<2002),VLOOKUP(I45,Feuil1!$A$11:$F$29,3),VLOOKUP(I45,Feuil1!$A$11:$F$29,2))))),IF(OR(H45=\"SEN\",H45<1995),VLOOKUP(I45,Feuil1!$G$11:$L$25,6),IF(AND(H45>1994,H45<1998),VLOOKUP(I45,Feuil1!$G$11:$L$25,5),IF(AND(H45>1997,H45<2000),VLOOKUP(I45,Feuil1!$G$11:$L$25,4),IF(AND(H45>1999,H45<2002),VLOOKUP(I45,Feuil1!$G$11:$L$25,3),VLOOKUP(I45,Feuil1!$G$11:$L$25,2)))))))","v":"C2 56"},{"$f":"IF(I45=\"\",\"\",IF(A45=\"H\",10^(0.794358141*LOG(I45/174.393)^2)*T45,IF(A45=\"F\",10^(0.89726074*LOG(I45/148.026)^2)*T45,\"\")))","v":211.78771906457874},null," ",{"$f":"T45-HLOOKUP(X45,Feuil1!$C$1:$BL$10,2,FALSE)","v":68},{"$f":"T45-HLOOKUP(X45,Feuil1!$C$1:$BL$10,3,FALSE)","v":48},{"$f":"T45-HLOOKUP(X45,Feuil1!$C$1:$BL$10,4,FALSE)","v":33},{"$f":"T45-HLOOKUP(X45,Feuil1!$C$1:$BL$10,5,FALSE)","v":18},{"$f":"T45-HLOOKUP(X45,Feuil1!$C$1:$BL$10,6,FALSE)","v":3},{"$f":"T45-HLOOKUP(X45,Feuil1!$C$1:$BL$10,7,FALSE)","v":-12},{"$f":"T45-HLOOKUP(X45,Feuil1!$C$1:$BL$10,8,FALSE)","v":-37},{"$f":"T45-HLOOKUP(X45,Feuil1!$C$1:$BL$10,9,FALSE)","v":-57},{"$f":"T45-HLOOKUP(X45,Feuil1!$C$1:$BL$10,10,FALSE)","v":-867},null,null,null,null,null,null,{"$f":"IF(AJ45>=0,$AJ$4,IF(AI45>=0,$AI$4,IF(AH45>=0,$AH$4,IF(AG45>=0,$AG$4,IF(AF45>=0,$AF$4,IF(AE45>=0,$AE$4,IF(AD45>=0,$AD$4,IF(AC45>=0,$AC$4,$AB$4))))))))","v":"FED +"}]
["H","Nord","NPC",7,332308,"EVERAERT","Gaétan",1999,55.8,"St Pol sur Mer","F",50,55,57,57,70,73,75,75,132,20.400000000000006,"FED +",2,{"$f":"IF(I46=\"\",\"\",IF(A46=\"H\",IF(OR(H46=\"SEN\",H46<1995),VLOOKUP(I46,Feuil1!$A$11:$F$29,6),IF(AND(H46>1994,H46<1998),VLOOKUP(I46,Feuil1!$A$11:$F$29,5),IF(AND(H46>1997,H46<2000),VLOOKUP(I46,Feuil1!$A$11:$F$29,4),IF(AND(H46>1999,H46<2002),VLOOKUP(I46,Feuil1!$A$11:$F$29,3),VLOOKUP(I46,Feuil1!$A$11:$F$29,2))))),IF(OR(H46=\"SEN\",H46<1995),VLOOKUP(I46,Feuil1!$G$11:$L$25,6),IF(AND(H46>1994,H46<1998),VLOOKUP(I46,Feuil1!$G$11:$L$25,5),IF(AND(H46>1997,H46<2000),VLOOKUP(I46,Feuil1!$G$11:$L$25,4),IF(AND(H46>1999,H46<2002),VLOOKUP(I46,Feuil1!$G$11:$L$25,3),VLOOKUP(I46,Feuil1!$G$11:$L$25,2)))))))","v":"C2 56"},206.59930290287136,null," ",{"$f":"T46-HLOOKUP(X46,Feuil1!$C$1:$BL$10,2,FALSE)","v":67},{"$f":"T46-HLOOKUP(X46,Feuil1!$C$1:$BL$10,3,FALSE)","v":47},{"$f":"T46-HLOOKUP(X46,Feuil1!$C$1:$BL$10,4,FALSE)","v":32},{"$f":"T46-HLOOKUP(X46,Feuil1!$C$1:$BL$10,5,FALSE)","v":17},{"$f":"T46-HLOOKUP(X46,Feuil1!$C$1:$BL$10,6,FALSE)","v":2},{"$f":"T46-HLOOKUP(X46,Feuil1!$C$1:$BL$10,7,FALSE)","v":-13},{"$f":"T46-HLOOKUP(X46,Feuil1!$C$1:$BL$10,8,FALSE)","v":-38},{"$f":"T46-HLOOKUP(X46,Feuil1!$C$1:$BL$10,9,FALSE)","v":-58},{"$f":"T46-HLOOKUP(X46,Feuil1!$C$1:$BL$10,10,FALSE)","v":-868},null,null,null,null,null,null,"FED +"]
["H","DOM","GUA",8,363272,"PROCOPE","Nathanael",1998,55.6,"AHCS/Pointois","F",50,55,-58,55,65,70,-75,70,125,13.799999999999997,"IRG +",10,{"$f":"IF(I47=\"\",\"\",IF(A47=\"H\",IF(OR(H47=\"SEN\",H47<1995),VLOOKUP(I47,Feuil1!$A$11:$F$29,6),IF(AND(H47>1994,H47<1998),VLOOKUP(I47,Feuil1!$A$11:$F$29,5),IF(AND(H47>1997,H47<2000),VLOOKUP(I47,Feuil1!$A$11:$F$29,4),IF(AND(H47>1999,H47<2002),VLOOKUP(I47,Feuil1!$A$11:$F$29,3),VLOOKUP(I47,Feuil1!$A$11:$F$29,2))))),IF(OR(H47=\"SEN\",H47<1995),VLOOKUP(I47,Feuil1!$G$11:$L$25,6),IF(AND(H47>1994,H47<1998),VLOOKUP(I47,Feuil1!$G$11:$L$25,5),IF(AND(H47>1997,H47<2000),VLOOKUP(I47,Feuil1!$G$11:$L$25,4),IF(AND(H47>1999,H47<2002),VLOOKUP(I47,Feuil1!$G$11:$L$25,3),VLOOKUP(I47,Feuil1!$G$11:$L$25,2)))))))","v":"C2 56"},196.19726339164933,null," ",{"$f":"T47-HLOOKUP(X47,Feuil1!$C$1:$BL$10,2,FALSE)","v":60},{"$f":"T47-HLOOKUP(X47,Feuil1!$C$1:$BL$10,3,FALSE)","v":40},{"$f":"T47-HLOOKUP(X47,Feuil1!$C$1:$BL$10,4,FALSE)","v":25},{"$f":"T47-HLOOKUP(X47,Feuil1!$C$1:$BL$10,5,FALSE)","v":10},{"$f":"T47-HLOOKUP(X47,Feuil1!$C$1:$BL$10,6,FALSE)","v":-5},{"$f":"T47-HLOOKUP(X47,Feuil1!$C$1:$BL$10,7,FALSE)","v":-20},{"$f":"T47-HLOOKUP(X47,Feuil1!$C$1:$BL$10,8,FALSE)","v":-45},{"$f":"T47-HLOOKUP(X47,Feuil1!$C$1:$BL$10,9,FALSE)","v":-65},{"$f":"T47-HLOOKUP(X47,Feuil1!$C$1:$BL$10,10,FALSE)","v":-875},null,null,null,null,null,null,"IRG +"]
[null,null,null,null,null,null,null,null,null,null,null,null,null,null,null,null,null,null,null,null," ",null,null,null,null,null,null,{"$f":"T48-HLOOKUP(X48,Feuil1!$C$1:$BL$10,2,FALSE)","v":{"$error":"#N/A"}},{"$f":"T48-HLOOKUP(X48,Feuil1!$C$1:$BL$10,3,FALSE)","v":{"$error":"#N/A"}},{"$f":"T48-HLOOKUP(X48,Feuil1!$C$1:$BL$10,4,FALSE)","v":{"$error":"#N/A"}},{"$f":"T48-HLOOKUP(X48,Feuil1!$C$1:$BL$10,5,FALSE)","v":{"$error":"#N/A"}},{"$f":"T48-HLOOKUP(X48,Feuil1!$C$1:$BL$10,6,FALSE)","v":{"$error":"#N/A"}},{"$f":"T48-HLOOKUP(X48,Feuil1!$C$1:$BL$10,7,FALSE)","v":{"$error":"#N/A"}},{"$f":"T48-HLOOKUP(X48,Feuil1!$C$1:$BL$10,8,FALSE)","v":{"$error":"#N/A"}},{"$f":"T48-HLOOKUP(X48,Feuil1!$C$1:$BL$10,9,FALSE)","v":{"$error":"#N/A"}},{"$f":"T48-HLOOKUP(X48,Feuil1!$C$1:$BL$10,10,FALSE)","v":{"$error":"#N/A"}}]
["H","NE","LOR",2,283960,"CUVELLIER","Valentin",1998,59,"E.S.Laneuveville","F",70,-75,75,{"$f":"IF(H49=\"\",\"\",IF(MAXA(L49:N49)<=0,0,MAXA(L49:N49)))","v":75},90,95,100,{"$f":"IF(H49=\"\",\"\",IF(MAXA(P49:R49)<=0,0,MAXA(P49:R49)))","v":100},{"$f":"IF(H49=\"\",\"\",IF(OR(O49=0,S49=0),0,O49+S49))","v":175},{"$f":"T49-I49*2","v":57},{"$f":"IF(H49=\"\",\"\",AQ49)","v":"NAT +"},{"$f":"IF(AJ49>=0,AJ49,IF(AI49>=0,AI49,IF(AH49>=0,AH49,IF(AG49>=0,AG49,IF(AF49>=0,AF49,IF(AE49>=0,AE49,IF(AD49>=0,AD49,IF(AC49>=0,AC49,AB49))))))))","v":5},{"$f":"IF(I49=\"\",\"\",IF(A49=\"H\",IF(OR(H49=\"SEN\",H49<1995),VLOOKUP(I49,Feuil1!$A$11:$F$29,6),IF(AND(H49>1994,H49<1998),VLOOKUP(I49,Feuil1!$A$11:$F$29,5),IF(AND(H49>1997,H49<2000),VLOOKUP(I49,Feuil1!$A$11:$F$29,4),IF(AND(H49>1999,H49<2002),VLOOKUP(I49,Feuil1!$A$11:$F$29,3),VLOOKUP(I49,Feuil1!$A$11:$F$29,2))))),IF(OR(H49=\"SEN\",H49<1995),VLOOKUP(I49,Feuil1!$G$11:$L$25,6),IF(AND(H49>1994,H49<1998),VLOOKUP(I49,Feuil1!$G$11:$L$25,5),IF(AND(H49>1997,H49<2000),VLOOKUP(I49,Feuil1!$G$11:$L$25,4),IF(AND(H49>1999,H49<2002),VLOOKUP(I49,Feuil1!$G$11:$L$25,3),VLOOKUP(I49,Feuil1!$G$11:$L$25,2)))))))","v":"C2 62"},{"$f":"IF(I49=\"\",\"\",IF(A49=\"H\",10^(0.794358141*LOG(I49/174.393)^2)*T49,IF(A49=\"F\",10^(0.89726074*LOG(I49/148.026)^2)*T49,\"\")))","v":262.43253009249213},null," ",{"$f":"T49-HLOOKUP(X49,Feuil1!$C$1:$BL$10,2,FALSE)","v":90},{"$f":"T49-HLOOKUP(X49,Feuil1!$C$1:$BL$10,3,FALSE)","v":70},{"$f":"T49-HLOOKUP(X49,Feuil1!$C$1:$BL$10,4,FALSE)","v":55},{"$f":"T49-HLOOKUP(X49,Feuil1!$C$1:$BL$10,5,FALSE)","v":40},{"$f":"T49-HLOOKUP(X49,Feuil1!$C$1:$BL$10,6,FALSE)","v":25},{"$f":"T49-HLOOKUP(X49,Feuil1!$C$1:$BL$10,7,FALSE)","v":5},{"$f":"T49-HLOOKUP(X49,Feuil1!$C$1:$BL$10,8,FALSE)","v":-15},{"$f":"T49-HLOOKUP(X49,Feuil1!$C$1:$BL$10,9,FALSE)","v":-35},{"$f":"T49-HLOOKUP(X49,Feuil1!$C$1:$BL$10,10,FALSE)","v":-825},null,null,null,null,null,null,{"$f":"IF(AJ49>=0,$AJ$4,IF(AI49>=0,$AI$4,IF(AH49>=0,$AH$4,IF(AG49>=0,$AG$4,IF(AF49>=0,$AF$4,IF(AE49>=0,$AE$4,IF(AD49>=0,$AD$4,IF(AC49>=0,$AC$4,$AB$4))))))))","v":"NAT +"}]
["H","Nord","PIC",1,250197,"ANCEL","Georges",1998,61.9,"Saleux CHM","F",70,-75,75,{"$f":"IF(H50=\"\",\"\",IF(MAXA(L50:N50)<=0,0,MAXA(L50:N50)))","v":75},90,95,100,{"$f":"IF(H50=\"\",\"\",IF(MAXA(P50:R50)<=0,0,MAXA(P50:R50)))","v":100},{"$f":"IF(H50=\"\",\"\",IF(OR(O50=0,S50=0),0,O50+S50))","v":175},{"$f":"T50-I50*2","v":51.2},{"$f":"IF(H50=\"\",\"\",AQ50)","v":"NAT +"},{"$f":"IF(AJ50>=0,AJ50,IF(AI50>=0,AI50,IF(AH50>=0,AH50,IF(AG50>=0,AG50,IF(AF50>=0,AF50,IF(AE50>=0,AE50,IF(AD50>=0,AD50,IF(AC50>=0,AC50,AB50))))))))","v":5},{"$f":"IF(I50=\"\",\"\",IF(A50=\"H\",IF(OR(H50=\"SEN\",H50<1995),VLOOKUP(I50,Feuil1!$A$11:$F$29,6),IF(AND(H50>1994,H50<1998),VLOOKUP(I50,Feuil1!$A$11:$F$29,5),IF(AND(H50>1997,H50<2000),VLOOKUP(I50,Feuil1!$A$11:$F$29,4),IF(AND(H50>1999,H50<2002),VLOOKUP(I50,Feuil1!$A$11:$F$29,3),VLOOKUP(I50,Feuil1!$A$11:$F$29,2))))),IF(OR(H50=\"SEN\",H50<1995),VLOOKUP(I50,Feuil1!$G$11:$L$25,6),IF(AND(H50>1994,H50<1998),VLOOKUP(I50,Feuil1!$G$11:$L$25,5),IF(AND(H50>1997,H50<2000),VLOOKUP(I50,Feuil1!$G$11:$L$25,4),IF(AND(H50>1999,H50<2002),VLOOKUP(I50,Feuil1!$G$11:$L$25,3),VLOOKUP(I50,Feuil1!$G$11:$L$25,2)))))))","v":"C2 62"},253.38450965424991,null," ",{"$f":"T50-HLOOKUP(X50,Feuil1!$C$1:$BL$10,2,FALSE)","v":90},{"$f":"T50-HLOOKUP(X50,Feuil1!$C$1:$BL$10,3,FALSE)","v":70},{"$f":"T50-HLOOKUP(X50,Feuil1!$C$1:$BL$10,4,FALSE)","v":55},{"$f":"T50-HLOOKUP(X50,Feuil1!$C$1:$BL$10,5,FALSE)","v":40},{"$f":"T50-HLOOKUP(X50,Feuil1!$C$1:$BL$10,6,FALSE)","v":25},{"$f":"T50-HLOOKUP(X50,Feuil1!$C$1:$BL$10,7,FALSE)","v":5},{"$f":"T50-HLOOKUP(X50,Feuil1!$C$1:$BL$10,8,FALSE)","v":-15},{"$f":"T50-HLOOKUP(X50,Feuil1!$C$1:$BL$10,9,FALSE)","v":-35},{"$f":"T50-HLOOKUP(X50,Feuil1!$C$1:$BL$10,10,FALSE)","v":-825},null,null,null,null,null,null,{"$f":"IF(AJ50>=0,$AJ$4,IF(AI50>=0,$AI$4,IF(AH50>=0,$AH$4,IF(AG50>=0,$AG$4,IF(AF50>=0,$AF$4,IF(AE50>=0,$AE$4,IF(AD50>=0,$AD$4,IF(AC50>=0,$AC$4,$AB$4))))))))","v":"NAT +"}]
["H","Nord","PIC",3,274621,"CABON","Lilian",1998,57.71,"Péronne AAEEP","F",70,73,75,{"$f":"IF(H51=\"\",\"\",IF(MAXA(L51:N51)<=0,0,MAXA(L51:N51)))","v":75},90,95,-100,{"$f":"IF(H51=\"\",\"\",IF(MAXA(P51:R51)<=0,0,MAXA(P51:R51)))","v":95},{"$f":"IF(H51=\"\",\"\",IF(OR(O51=0,S51=0),0,O51+S51))","v":170},54.58,{"$f":"IF(H51=\"\",\"\",AQ51)","v":"NAT +"},{"$f":"IF(AJ51>=0,AJ51,IF(AI51>=0,AI51,IF(AH51>=0,AH51,IF(AG51>=0,AG51,IF(AF51>=0,AF51,IF(AE51>=0,AE51,IF(AD51>=0,AD51,IF(AC51>=0,AC51,AB51))))))))","v":0},{"$f":"IF(I51=\"\",\"\",IF(A51=\"H\",IF(OR(H51=\"SEN\",H51<1995),VLOOKUP(I51,Feuil1!$A$11:$F$29,6),IF(AND(H51>1994,H51<1998),VLOOKUP(I51,Feuil1!$A$11:$F$29,5),IF(AND(H51>1997,H51<2000),VLOOKUP(I51,Feuil1!$A$11:$F$29,4),IF(AND(H51>1999,H51<2002),VLOOKUP(I51,Feuil1!$A$11:$F$29,3),VLOOKUP(I51,Feuil1!$A$11:$F$29,2))))),IF(OR(H51=\"SEN\",H51<1995),VLOOKUP(I51,Feuil1!$G$11:$L$25,6),IF(AND(H51>1994,H51<1998),VLOOKUP(I51,Feuil1!$G$11:$L$25,5),IF(AND(H51>1997,H51<2000),VLOOKUP(I51,Feuil1!$G$11:$L$25,4),IF(AND(H51>1999,H51<2002),VLOOKUP(I51,Feuil1!$G$11:$L$25,3),VLOOKUP(I51,Feuil1!$G$11:$L$25,2)))))))","v":"C2 62"},259.22750339971554,null," ",{"$f":"T51-HLOOKUP(X51,Feuil1!$C$1:$BL$10,2,FALSE)","v":85},{"$f":"T51-HLOOKUP(X51,Feuil1!$C$1:$BL$10,3,FALSE)","v":65},{"$f":"T51-HLOOKUP(X51,Feuil1!$C$1:$BL$10,4,FALSE)","v":50},{"$f":"T51-HLOOKUP(X51,Feuil1!$C$1:$BL$10,5,FALSE)","v":35},{"$f":"T51-HLOOKUP(X51,Feuil1!$C$1:$BL$10,6,FALSE)","v":20},{"$f":"T51-HLOOKUP(X51,Feuil1!$C$1:$BL$10,7,FALSE)","v":0},{"$f":"T51-HLOOKUP(X51,Feuil1!$C$1:$BL$10,8,FALSE)","v":-20},{"$f":"T51-HLOOKUP(X51,Feuil1!$C$1:$BL$10,9,FALSE)","v":-40},{"$f":"T51-HLOOKUP(X51,Feuil1!$C$1:$BL$10,10,FALSE)","v":-830},null,null,null,null,null,null,{"$f":"IF(AJ51>=0,$AJ$4,IF(AI51>=0,$AI$4,IF(AH51>=0,$AH$4,IF(AG51>=0,$AG$4,IF(AF51>=0,$AF$4,IF(AE51>=0,$AE$4,IF(AD51>=0,$AD$4,IF(AC51>=0,$AC$4,$AB$4))))))))","v":"NAT +"}]
["H","SEST","CAZ",4,305874,"FOLCHER","Guilhem",1998,61.1,"E.S. VILLENEUVE LOUBET","F",70,73,76,76,85,90,-94,90,166,43.8,"FED +",16,{"$f":"IF(I52=\"\",\"\",IF(A52=\"H\",IF(OR(H52=\"SEN\",H52<1995),VLOOKUP(I52,Feuil1!$A$11:$F$29,6),IF(AND(H52>1994,H52<1998),VLOOKUP(I52,Feuil1!$A$11:$F$29,5),IF(AND(H52>1997,H52<2000),VLOOKUP(I52,Feuil1!$A$11:$F$29,4),IF(AND(H52>1999,H52<2002),VLOOKUP(I52,Feuil1!$A$11:$F$29,3),VLOOKUP(I52,Feuil1!$A$11:$F$29,2))))),IF(OR(H52=\"SEN\",H52<1995),VLOOKUP(I52,Feuil1!$G$11:$L$25,6),IF(AND(H52>1994,H52<1998),VLOOKUP(I52,Feuil1!$G$11:$L$25,5),IF(AND(H52>1997,H52<2000),VLOOKUP(I52,Feuil1!$G$11:$L$25,4),IF(AND(H52>1999,H52<2002),VLOOKUP(I52,Feuil1!$G$11:$L$25,3),VLOOKUP(I52,Feuil1!$G$11:$L$25,2)))))))","v":"C2 62"},242.61235474255852,null," ",{"$f":"T52-HLOOKUP(X52,Feuil1!$C$1:$BL$10,2,FALSE)","v":81},{"$f":"T52-HLOOKUP(X52,Feuil1!$C$1:$BL$10,3,FALSE)","v":61},{"$f":"T52-HLOOKUP(X52,Feuil1!$C$1:$BL$10,4,FALSE)","v":46},{"$f":"T52-HLOOKUP(X52,Feuil1!$C$1:$BL$10,5,FALSE)","v":31},{"$f":"T52-HLOOKUP(X52,Feuil1!$C$1:$BL$10,6,FALSE)","v":16},{"$f":"T52-HLOOKUP(X52,Feuil1!$C$1:$BL$10,7,FALSE)","v":-4},{"$f":"T52-HLOOKUP(X52,Feuil1!$C$1:$BL$10,8,FALSE)","v":-24},{"$f":"T52-HLOOKUP(X52,Feuil1!$C$1:$BL$10,9,FALSE)","v":-44},{"$f":"T52-HLOOKUP(X52,Feuil1!$C$1:$BL$10,10,FALSE)","v":-834},null,null,null,null,null,null,"FED +"]
["H","ZCO","BNO",5,312349,"RENOUF","Tom",1999,61.7,"Caen CHM","F",65,70,73,73,77,81,-85,81,154,30.599999999999994,"FED +",4,{"$f":"IF(I53=\"\",\"\",IF(A53=\"H\",IF(OR(H53=\"SEN\",H53<1995),VLOOKUP(I53,Feuil1!$A$11:$F$29,6),IF(AND(H53>1994,H53<1998),VLOOKUP(I53,Feuil1!$A$11:$F$29,5),IF(AND(H53>1997,H53<2000),VLOOKUP(I53,Feuil1!$A$11:$F$29,4),IF(AND(H53>1999,H53<2002),VLOOKUP(I53,Feuil1!$A$11:$F$29,3),VLOOKUP(I53,Feuil1!$A$11:$F$29,2))))),IF(OR(H53=\"SEN\",H53<1995),VLOOKUP(I53,Feuil1!$G$11:$L$25,6),IF(AND(H53>1994,H53<1998),VLOOKUP(I53,Feuil1!$G$11:$L$25,5),IF(AND(H53>1997,H53<2000),VLOOKUP(I53,Feuil1!$G$11:$L$25,4),IF(AND(H53>1999,H53<2002),VLOOKUP(I53,Feuil1!$G$11:$L$25,3),VLOOKUP(I53,Feuil1!$G$11:$L$25,2)))))))","v":"C2 62"},223.49548517130685,null," ",{"$f":"T53-HLOOKUP(X53,Feuil1!$C$1:$BL$10,2,FALSE)","v":69},{"$f":"T53-HLOOKUP(X53,Feuil1!$C$1:$BL$10,3,FALSE)","v":49},{"$f":"T53-HLOOKUP(X53,Feuil1!$C$1:$BL$10,4,FALSE)","v":34},{"$f":"T53-HLOOKUP(X53,Feuil1!$C$1:$BL$10,5,FALSE)","v":19},{"$f":"T53-HLOOKUP(X53,Feuil1!$C$1:$BL$10,6,FALSE)","v":4},{"$f":"T53-HLOOKUP(X53,Feuil1!$C$1:$BL$10,7,FALSE)","v":-16},{"$f":"T53-HLOOKUP(X53,Feuil1!$C$1:$BL$10,8,FALSE)","v":-36},{"$f":"T53-HLOOKUP(X53,Feuil1!$C$1:$BL$10,9,FALSE)","v":-56},{"$f":"T53-HLOOKUP(X53,Feuil1!$C$1:$BL$10,10,FALSE)","v":-846},null,null,null,null,null,null,"FED +"]
["H","Nord","PIC",6,279883,"SEGARD","Lilian",1998,57.7,"La Vaillante St Quentin","F",63,67,-72,67,85,-95,-95,85,152,36.599999999999994,"FED +",2,{"$f":"IF(I54=\"\",\"\",IF(A54=\"H\",IF(OR(H54=\"SEN\",H54<1995),VLOOKUP(I54,Feuil1!$A$11:$F$29,6),IF(AND(H54>1994,H54<1998),VLOOKUP(I54,Feuil1!$A$11:$F$29,5),IF(AND(H54>1997,H54<2000),VLOOKUP(I54,Feuil1!$A$11:$F$29,4),IF(AND(H54>1999,H54<2002),VLOOKUP(I54,Feuil1!$A$11:$F$29,3),VLOOKUP(I54,Feuil1!$A$11:$F$29,2))))),IF(OR(H54=\"SEN\",H54<1995),VLOOKUP(I54,Feuil1!$G$11:$L$25,6),IF(AND(H54>1994,H54<1998),VLOOKUP(I54,Feuil1!$G$11:$L$25,5),IF(AND(H54>1997,H54<2000),VLOOKUP(I54,Feuil1!$G$11:$L$25,4),IF(AND(H54>1999,H54<2002),VLOOKUP(I54,Feuil1!$G$11:$L$25,3),VLOOKUP(I54,Feuil1!$G$11:$L$25,2)))))))","v":"C2 62"},231.81053776261953,null," ",{"$f":"T54-HLOOKUP(X54,Feuil1!$C$1:$BL$10,2,FALSE)","v":67},{"$f":"T54-HLOOKUP(X54,Feuil1!$C$1:$BL$10,3,FALSE)","v":47},{"$f":"T54-HLOOKUP(X54,Feuil1!$C$1:$BL$10,4,FALSE)","v":32},{"$f":"T54-HLOOKUP(X54,Feuil1!$C$1:$BL$10,5,FALSE)","v":17},{"$f":"T54-HLOOKUP(X54,Feuil1!$C$1:$BL$10,6,FALSE)","v":2},{"$f":"T54-HLOOKUP(X54,Feuil1!$C$1:$BL$10,7,FALSE)","v":-18},{"$f":"T54-HLOOKUP(X54,Feuil1!$C$1:$BL$10,8,FALSE)","v":-38},{"$f":"T54-HLOOKUP(X54,Feuil1!$C$1:$BL$10,9,FALSE)","v":-58},{"$f":"T54-HLOOKUP(X54,Feuil1!$C$1:$BL$10,10,FALSE)","v":-848},null,null,null,null,null,null,"FED +"]
[null,null,null,null,null,null,null,null,null,null,null,null,null,null,null,null,null,null,null,null," ",null,null,null,null,null,null,{"$f":"T55-HLOOKUP(X55,Feuil1!$C$1:$BL$10,2,FALSE)","v":{"$error":"#N/A"}},{"$f":"T55-HLOOKUP(X55,Feuil1!$C$1:$BL$10,3,FALSE)","v":{"$error":"#N/A"}},{"$f":"T55-HLOOKUP(X55,Feuil1!$C$1:$BL$10,4,FALSE)","v":{"$error":"#N/A"}},{"$f":"T55-HLOOKUP(X55,Feuil1!$C$1:$BL$10,5,FALSE)","v":{"$error":"#N/A"}},{"$f":"T55-HLOOKUP(X55,Feuil1!$C$1:$BL$10,6,FALSE)","v":{"$error":"#N/A"}},{"$f":"T55-HLOOKUP(X55,Feuil1!$C$1:$BL$10,7,FALSE)","v":{"$error":"#N/A"}},{"$f":"T55-HLOOKUP(X55,Feuil1!$C$1:$BL$10,8,FALSE)","v":{"$error":"#N/A"}},{"$f":"T55-HLOOKUP(X55,Feuil1!$C$1:$BL$10,9,FALSE)","v":{"$error":"#N/A"}},{"$f":"T55-HLOOKUP(X55,Feuil1!$C$1:$BL$10,10,FALSE)","v":{"$error":"#N/A"}}]
["H","NE","ALS",1,295214,"YILDIRIM","Mario",1998,68.599999999999994,"SR Obernai HM","F",-90,90,-95,{"$f":"IF(H56=\"\",\"\",IF(MAXA(L56:N56)<=0,0,MAXA(L56:N56)))","v":90},107,112,-115,{"$f":"IF(H56=\"\",\"\",IF(MAXA(P56:R56)<=0,0,MAXA(P56:R56)))","v":112},{"$f":"IF(H56=\"\",\"\",IF(OR(O56=0,S56=0),0,O56+S56))","v":202},64.800000000000011,{"$f":"IF(H56=\"\",\"\",AQ56)","v":"NAT +"},{"$f":"IF(AJ56>=0,AJ56,IF(AI56>=0,AI56,IF(AH56>=0,AH56,IF(AG56>=0,AG56,IF(AF56>=0,AF56,IF(AE56>=0,AE56,IF(AD56>=0,AD56,IF(AC56>=0,AC56,AB56))))))))","v":12},{"$f":"IF(I56=\"\",\"\",IF(A56=\"H\",IF(OR(H56=\"SEN\",H56<1995),VLOOKUP(I56,Feuil1!$A$11:$F$29,6),IF(AND(H56>1994,H56<1998),VLOOKUP(I56,Feuil1!$A$11:$F$29,5),IF(AND(H56>1997,H56<2000),VLOOKUP(I56,Feuil1!$A$11:$F$29,4),IF(AND(H56>1999,H56<2002),VLOOKUP(I56,Feuil1!$A$11:$F$29,3),VLOOKUP(I56,Feuil1!$A$11:$F$29,2))))),IF(OR(H56=\"SEN\",H56<1995),VLOOKUP(I56,Feuil1!$G$11:$L$25,6),IF(AND(H56>1994,H56<1998),VLOOKUP(I56,Feuil1!$G$11:$L$25,5),IF(AND(H56>1997,H56<2000),VLOOKUP(I56,Feuil1!$G$11:$L$25,4),IF(AND(H56>1999,H56<2002),VLOOKUP(I56,Feuil1!$G$11:$L$25,3),VLOOKUP(I56,Feuil1!$G$11:$L$25,2)))))))","v":"C2 69"},{"$f":"IF(I56=\"\",\"\",IF(A56=\"H\",10^(0.794358141*LOG(I56/174.393)^2)*T56,IF(A56=\"F\",10^(0.89726074*LOG(I56/148.026)^2)*T56,\"\")))","v":272.75822586197728},null," ",{"$f":"T56-HLOOKUP(X56,Feuil1!$C$1:$BL$10,2,FALSE)","v":107},{"$f":"T56-HLOOKUP(X56,Feuil1!$C$1:$BL$10,3,FALSE)","v":87},{"$f":"T56-HLOOKUP(X56,Feuil1!$C$1:$BL$10,4,FALSE)","v":72},{"$f":"T56-HLOOKUP(X56,Feuil1!$C$1:$BL$10,5,FALSE)","v":52},{"$f":"T56-HLOOKUP(X56,Feuil1!$C$1:$BL$10,6,FALSE)","v":32},{"$f":"T56-HLOOKUP(X56,Feuil1!$C$1:$BL$10,7,FALSE)","v":12},{"$f":"T56-HLOOKUP(X56,Feuil1!$C$1:$BL$10,8,FALSE)","v":-8},{"$f":"T56-HLOOKUP(X56,Feuil1!$C$1:$BL$10,9,FALSE)","v":-28},{"$f":"T56-HLOOKUP(X56,Feuil1!$C$1:$BL$10,10,FALSE)","v":-798},null,null,null,null,null,null,{"$f":"IF(AJ56>=0,$AJ$4,IF(AI56>=0,$AI$4,IF(AH56>=0,$AH$4,IF(AG56>=0,$AG$4,IF(AF56>=0,$AF$4,IF(AE56>=0,$AE$4,IF(AD56>=0,$AD$4,IF(AC56>=0,$AC$4,$AB$4))))))))","v":"NAT +"}]
["H","ZCO","BRE",2,290461,"DELAPLACE","Quentin",1998,66.599999999999994,"ES Saint-Avé","F",83,87,-90,87,103,108,-113,108,195,61.800000000000011,"NAT +",5,{"$f":"IF(I57=\"\",\"\",IF(A57=\"H\",IF(OR(H57=\"SEN\",H57<1995),VLOOKUP(I57,Feuil1!$A$11:$F$29,6),IF(AND(H57>1994,H57<1998),VLOOKUP(I57,Feuil1!$A$11:$F$29,5),IF(AND(H57>1997,H57<2000),VLOOKUP(I57,Feuil1!$A$11:$F$29,4),IF(AND(H57>1999,H57<2002),VLOOKUP(I57,Feuil1!$A$11:$F$29,3),VLOOKUP(I57,Feuil1!$A$11:$F$29,2))))),IF(OR(H57=\"SEN\",H57<1995),VLOOKUP(I57,Feuil1!$G$11:$L$25,6),IF(AND(H57>1994,H57<1998),VLOOKUP(I57,Feuil1!$G$11:$L$25,5),IF(AND(H57>1997,H57<2000),VLOOKUP(I57,Feuil1!$G$11:$L$25,4),IF(AND(H57>1999,H57<2002),VLOOKUP(I57,Feuil1!$G$11:$L$25,3),VLOOKUP(I57,Feuil1!$G$11:$L$25,2)))))))","v":"C2 69"},268.45064410348652,null," ",{"$f":"T57-HLOOKUP(X57,Feuil1!$C$1:$BL$10,2,FALSE)","v":100},{"$f":"T57-HLOOKUP(X57,Feuil1!$C$1:$BL$10,3,FALSE)","v":80},{"$f":"T57-HLOOKUP(X57,Feuil1!$C$1:$BL$10,4,FALSE)","v":65},{"$f":"T57-HLOOKUP(X57,Feuil1!$C$1:$BL$10,5,FALSE)","v":45},{"$f":"T57-HLOOKUP(X57,Feuil1!$C$1:$BL$10,6,FALSE)","v":25},{"$f":"T57-HLOOKUP(X57,Feuil1!$C$1:$BL$10,7,FALSE)","v":5},{"$f":"T57-HLOOKUP(X57,Feuil1!$C$1:$BL$10,8,FALSE)","v":-15},{"$f":"T57-HLOOKUP(X57,Feuil1!$C$1:$BL$10,9,FALSE)","v":-35},{"$f":"T57-HLOOKUP(X57,Feuil1!$C$1:$BL$10,10,FALSE)","v":-805},null,null,null,null,null,null,"NAT +"]
["H","ZCO","PDL",3,379231,"HEUZE","Alexandre",1998,67.5,"CA Evron 53","F",72,76,80,80,92,97,100,100,180,45,"FED +",10,{"$f":"IF(I58=\"\",\"\",IF(A58=\"H\",IF(OR(H58=\"SEN\",H58<1995),VLOOKUP(I58,Feuil1!$A$11:$F$29,6),IF(AND(H58>1994,H58<1998),VLOOKUP(I58,Feuil1!$A$11:$F$29,5),IF(AND(H58>1997,H58<2000),VLOOKUP(I58,Feuil1!$A$11:$F$29,4),IF(AND(H58>1999,H58<2002),VLOOKUP(I58,Feuil1!$A$11:$F$29,3),VLOOKUP(I58,Feuil1!$A$11:$F$29,2))))),IF(OR(H58=\"SEN\",H58<1995),VLOOKUP(I58,Feuil1!$G$11:$L$25,6),IF(AND(H58>1994,H58<1998),VLOOKUP(I58,Feuil1!$G$11:$L$25,5),IF(AND(H58>1997,H58<2000),VLOOKUP(I58,Feuil1!$G$11:$L$25,4),IF(AND(H58>1999,H58<2002),VLOOKUP(I58,Feuil1!$G$11:$L$25,3),VLOOKUP(I58,Feuil1!$G$11:$L$25,2)))))))","v":"C2 69"},245.61649425066585,null," ",{"$f":"T58-HLOOKUP(X58,Feuil1!$C$1:$BL$10,2,FALSE)","v":85},{"$f":"T58-HLOOKUP(X58,Feuil1!$C$1:$BL$10,3,FALSE)","v":65},{"$f":"T58-HLOOKUP(X58,Feuil1!$C$1:$BL$10,4,FALSE)","v":50},{"$f":"T58-HLOOKUP(X58,Feuil1!$C$1:$BL$10,5,FALSE)","v":30},{"$f":"T58-HLOOKUP(X58,Feuil1!$C$1:$BL$10,6,FALSE)","v":10},{"$f":"T58-HLOOKUP(X58,Feuil1!$C$1:$BL$10,7,FALSE)","v":-10},{"$f":"T58-HLOOKUP(X58,Feuil1!$C$1:$BL$10,8,FALSE)","v":-30},{"$f":"T58-HLOOKUP(X58,Feuil1!$C$1:$BL$10,9,FALSE)","v":-50},{"$f":"T58-HLOOKUP(X58,Feuil1!$C$1:$BL$10,10,FALSE)","v":-820},null,null,null,null,null,null,"FED +"]
["H","ZCO","BNO",4,284350,"FAUNY","Sébastien",1998,66.400000000000006,"Stade St-Lo","F",65,69,-75,69,88,-95,-95,88,157,24.199999999999989,"IRG +",7,{"$f":"IF(I59=\"\",\"\",IF(A59=\"H\",IF(OR(H59=\"SEN\",H59<1995),VLOOKUP(I59,Feuil1!$A$11:$F$29,6),IF(AND(H59>1994,H59<1998),VLOOKUP(I59,Feuil1!$A$11:$F$29,5),IF(AND(H59>1997,H59<2000),VLOOKUP(I59,Feuil1!$A$11:$F$29,4),IF(AND(H59>1999,H59<2002),VLOOKUP(I59,Feuil1!$A$11:$F$29,3),VLOOKUP(I59,Feuil1!$A$11:$F$29,2))))),IF(OR(H59=\"SEN\",H59<1995),VLOOKUP(I59,Feuil1!$G$11:$L$25,6),IF(AND(H59>1994,H59<1998),VLOOKUP(I59,Feuil1!$G$11:$L$25,5),IF(AND(H59>1997,H59<2000),VLOOKUP(I59,Feuil1!$G$11:$L$25,4),IF(AND(H59>1999,H59<2002),VLOOKUP(I59,Feuil1!$G$11:$L$25,3),VLOOKUP(I59,Feuil1!$G$11:$L$25,2)))))))","v":"C2 69"},216.57002802279516,null," ",{"$f":"T59-HLOOKUP(X59,Feuil1!$C$1:$BL$10,2,FALSE)","v":62},{"$f":"T59-HLOOKUP(X59,Feuil1!$C$1:$BL$10,3,FALSE)","v":42},{"$f":"T59-HLOOKUP(X59,Feuil1!$C$1:$BL$10,4,FALSE)","v":27},{"$f":"T59-HLOOKUP(X59,Feuil1!$C$1:$BL$10,5,FALSE)","v":7},{"$f":"T59-HLOOKUP(X59,Feuil1!$C$1:$BL$10,6,FALSE)","v":-13},{"$f":"T59-HLOOKUP(X59,Feuil1!$C$1:$BL$10,7,FALSE)","v":-33},{"$f":"T59-HLOOKUP(X59,Feuil1!$C$1:$BL$10,8,FALSE)","v":-53},{"$f":"T59-HLOOKUP(X59,Feuil1!$C$1:$BL$10,9,FALSE)","v":-73},{"$f":"T59-HLOOKUP(X59,Feuil1!$C$1:$BL$10,10,FALSE)","v":-843},null,null,null,null,null,null,"IRG +"]
["H","Nord","PIC",5,334518,"DUPREZ","Kurt",1998,63.45,"Saleux CHM","F",67,70,-72,{"$f":"IF(H60=\"\",\"\",IF(MAXA(L60:N60)<=0,0,MAXA(L60:N60)))","v":70},75,80,85,{"$f":"IF(H60=\"\",\"\",IF(MAXA(P60:R60)<=0,0,MAXA(P60:R60)))","v":85},{"$f":"IF(H60=\"\",\"\",IF(OR(O60=0,S60=0),0,O60+S60))","v":155},{"$f":"T60-I60*2","v":28.099999999999994},{"$f":"IF(H60=\"\",\"\",AQ60)","v":"IRG +"},{"$f":"IF(AJ60>=0,AJ60,IF(AI60>=0,AI60,IF(AH60>=0,AH60,IF(AG60>=0,AG60,IF(AF60>=0,AF60,IF(AE60>=0,AE60,IF(AD60>=0,AD60,IF(AC60>=0,AC60,AB60))))))))","v":5},{"$f":"IF(I60=\"\",\"\",IF(A60=\"H\",IF(OR(H60=\"SEN\",H60<1995),VLOOKUP(I60,Feuil1!$A$11:$F$29,6),IF(AND(H60>1994,H60<1998),VLOOKUP(I60,Feuil1!$A$11:$F$29,5),IF(AND(H60>1997,H60<2000),VLOOKUP(I60,Feuil1!$A$11:$F$29,4),IF(AND(H60>1999,H60<2002),VLOOKUP(I60,Feuil1!$A$11:$F$29,3),VLOOKUP(I60,Feuil1!$A$11:$F$29,2))))),IF(OR(H60=\"SEN\",H60<1995),VLOOKUP(I60,Feuil1!$G$11:$L$25,6),IF(AND(H60>1994,H60<1998),VLOOKUP(I60,Feuil1!$G$11:$L$25,5),IF(AND(H60>1997,H60<2000),VLOOKUP(I60,Feuil1!$G$11:$L$25,4),IF(AND(H60>1999,H60<2002),VLOOKUP(I60,Feuil1!$G$11:$L$25,3),VLOOKUP(I60,Feuil1!$G$11:$L$25,2)))))))","v":"C2 69"},220.54090267856802,null," ",{"$f":"T60-HLOOKUP(X60,Feuil1!$C$1:$BL$10,2,FALSE)","v":60},{"$f":"T60-HLOOKUP(X60,Feuil1!$C$1:$BL$10,3,FALSE)","v":40},{"$f":"T60-HLOOKUP(X60,Feuil1!$C$1:$BL$10,4,FALSE)","v":25},{"$f":"T60-HLOOKUP(X60,Feuil1!$C$1:$BL$10,5,FALSE)","v":5},{"$f":"T60-HLOOKUP(X60,Feuil1!$C$1:$BL$10,6,FALSE)","v":-15},{"$f":"T60-HLOOKUP(X60,Feuil1!$C$1:$BL$10,7,FALSE)","v":-35},{"$f":"T60-HLOOKUP(X60,Feuil1!$C$1:$BL$10,8,FALSE)","v":-55},{"$f":"T60-HLOOKUP(X60,Feuil1!$C$1:$BL$10,9,FALSE)","v":-75},{"$f":"T60-HLOOKUP(X60,Feuil1!$C$1:$BL$10,10,FALSE)","v":-845},null,null,null,null,null,null,{"$f":"IF(AJ60>=0,$AJ$4,IF(AI60>=0,$AI$4,IF(AH60>=0,$AH$4,IF(AG60>=0,$AG$4,IF(AF60>=0,$AF$4,IF(AE60>=0,$AE$4,IF(AD60>=0,$AD$4,IF(AC60>=0,$AC$4,$AB$4))))))))","v":"IRG +"}]
["H","ZCO","BRE",6,355842,"LOZACHMEUR","David",1998,65.599999999999994,"AL Quimper","F",63,66,-69,{"$f":"IF(H61=\"\",\"\",IF(MAXA(L61:N61)<=0,0,MAXA(L61:N61)))","v":66},82,86,89,{"$f":"IF(H61=\"\",\"\",IF(MAXA(P61:R61)<=0,0,MAXA(P61:R61)))","v":89},{"$f":"IF(H61=\"\",\"\",IF(OR(O61=0,S61=0),0,O61+S61))","v":155},{"$f":"T61-I61*2","v":23.800000000000011},{"$f":"IF(H61=\"\",\"\",AQ61)","v":"IRG +"},{"$f":"IF(AJ61>=0,AJ61,IF(AI61>=0,AI61,IF(AH61>=0,AH61,IF(AG61>=0,AG61,IF(AF61>=0,AF61,IF(AE61>=0,AE61,IF(AD61>=0,AD61,IF(AC61>=0,AC61,AB61))))))))","v":5},{"$f":"IF(I61=\"\",\"\",IF(A61=\"H\",IF(OR(H61=\"SEN\",H61<1995),VLOOKUP(I61,Feuil1!$A$11:$F$29,6),IF(AND(H61>1994,H61<1998),VLOOKUP(I61,Feuil1!$A$11:$F$29,5),IF(AND(H61>1997,H61<2000),VLOOKUP(I61,Feuil1!$A$11:$F$29,4),IF(AND(H61>1999,H61<2002),VLOOKUP(I61,Feuil1!$A$11:$F$29,3),VLOOKUP(I61,Feuil1!$A$11:$F$29,2))))),IF(OR(H61=\"SEN\",H61<1995),VLOOKUP(I61,Feuil1!$G$11:$L$25,6),IF(AND(H61>1994,H61<1998),VLOOKUP(I61,Feuil1!$G$11:$L$25,5),IF(AND(H61>1997,H61<2000),VLOOKUP(I61,Feuil1!$G$11:$L$25,4),IF(AND(H61>1999,H61<2002),VLOOKUP(I61,Feuil1!$G$11:$L$25,3),VLOOKUP(I61,Feuil1!$G$11:$L$25,2)))))))","v":"C2 69"},215.55578791996399,null," ",{"$f":"T61-HLOOKUP(X61,Feuil1!$C$1:$BL$10,2,FALSE)","v":60},{"$f":"T61-HLOOKUP(X61,Feuil1!$C$1:$BL$10,3,FALSE)","v":40},{"$f":"T61-HLOOKUP(X61,Feuil1!$C$1:$BL$10,4,FALSE)","v":25},{"$f":"T61-HLOOKUP(X61,Feuil1!$C$1:$BL$10,5,FALSE)","v":5},{"$f":"T61-HLOOKUP(X61,Feuil1!$C$1:$BL$10,6,FALSE)","v":-15},{"$f":"T61-HLOOKUP(X61,Feuil1!$C$1:$BL$10,7,FALSE)","v":-35},{"$f":"T61-HLOOKUP(X61,Feuil1!$C$1:$BL$10,8,FALSE)","v":-55},{"$f":"T61-HLOOKUP(X61,Feuil1!$C$1:$BL$10,9,FALSE)","v":-75},{"$f":"T61-HLOOKUP(X61,Feuil1!$C$1:$BL$10,10,FALSE)","v":-845},null,null,null,null,null,null,{"$f":"IF(AJ61>=0,$AJ$4,IF(AI61>=0,$AI$4,IF(AH61>=0,$AH$4,IF(AG61>=0,$AG$4,IF(AF61>=0,$AF$4,IF(AE61>=0,$AE$4,IF(AD61>=0,$AD$4,IF(AC61>=0,$AC$4,$AB$4))))))))","v":"IRG +"}]
["H","DOM","GUA",7,292762,"GALVANI","Dylan",1998,65.599999999999994,"Body Club Domien","F",60,-65,65,{"$f":"IF(H62=\"\",\"\",IF(MAXA(L62:N62)<=0,0,MAXA(L62:N62)))","v":65},75,80,85,{"$f":"IF(H62=\"\",\"\",IF(MAXA(P62:R62)<=0,0,MAXA(P62:R62)))","v":85},{"$f":"IF(H62=\"\",\"\",IF(OR(O62=0,S62=0),0,O62+S62))","v":150},{"$f":"T62-I62*2","v":18.800000000000011},{"$f":"IF(H62=\"\",\"\",AQ62)","v":"IRG +"},{"$f":"IF(AJ62>=0,AJ62,IF(AI62>=0,AI62,IF(AH62>=0,AH62,IF(AG62>=0,AG62,IF(AF62>=0,AF62,IF(AE62>=0,AE62,IF(AD62>=0,AD62,IF(AC62>=0,AC62,AB62))))))))","v":0},{"$f":"IF(I62=\"\",\"\",IF(A62=\"H\",IF(OR(H62=\"SEN\",H62<1995),VLOOKUP(I62,Feuil1!$A$11:$F$29,6),IF(AND(H62>1994,H62<1998),VLOOKUP(I62,Feuil1!$A$11:$F$29,5),IF(AND(H62>1997,H62<2000),VLOOKUP(I62,Feuil1!$A$11:$F$29,4),IF(AND(H62>1999,H62<2002),VLOOKUP(I62,Feuil1!$A$11:$F$29,3),VLOOKUP(I62,Feuil1!$A$11:$F$29,2))))),IF(OR(H62=\"SEN\",H62<1995),VLOOKUP(I62,Feuil1!$G$11:$L$25,6),IF(AND(H62>1994,H62<1998),VLOOKUP(I62,Feuil1!$G$11:$L$25,5),IF(AND(H62>1997,H62<2000),VLOOKUP(I62,Feuil1!$G$11:$L$25,4),IF(AND(H62>1999,H62<2002),VLOOKUP(I62,Feuil1!$G$11:$L$25,3),VLOOKUP(I62,Feuil1!$G$11:$L$25,2)))))))","v":"C2 69"},208.60237540641677,null," ",{"$f":"T62-HLOOKUP(X62,Feuil1!$C$1:$BL$10,2,FALSE)","v":55},{"$f":"T62-HLOOKUP(X62,Feuil1!$C$1:$BL$10,3,FALSE)","v":35},{"$f":"T62-HLOOKUP(X62,Feuil1!$C$1:$BL$10,4,FALSE)","v":20},{"$f":"T62-HLOOKUP(X62,Feuil1!$C$1:$BL$10,5,FALSE)","v":0},{"$f":"T62-HLOOKUP(X62,Feuil1!$C$1:$BL$10,6,FALSE)","v":-20},{"$f":"T62-HLOOKUP(X62,Feuil1!$C$1:$BL$10,7,FALSE)","v":-40},{"$f":"T62-HLOOKUP(X62,Feuil1!$C$1:$BL$10,8,FALSE)","v":-60},{"$f":"T62-HLOOKUP(X62,Feuil1!$C$1:$BL$10,9,FALSE)","v":-80},{"$f":"T62-HLOOKUP(X62,Feuil1!$C$1:$BL$10,10,FALSE)","v":-850},null,null,null,null,null,null,{"$f":"IF(AJ62>=0,$AJ$4,IF(AI62>=0,$AI$4,IF(AH62>=0,$AH$4,IF(AG62>=0,$AG$4,IF(AF62>=0,$AF$4,IF(AE62>=0,$AE$4,IF(AD62>=0,$AD$4,IF(AC62>=0,$AC$4,$AB$4))))))))","v":"IRG +"}]
["H","SEST","CAZ",null,295872,"RICHET","Benoit",1999,66.7,"E.S. VILLENEUVE LOUBET","F",-80,-80,-80,0,null,null,null,0,0,-133.4,"DEB ",-95,{"$f":"IF(I63=\"\",\"\",IF(A63=\"H\",IF(OR(H63=\"SEN\",H63<1995),VLOOKUP(I63,Feuil1!$A$11:$F$29,6),IF(AND(H63>1994,H63<1998),VLOOKUP(I63,Feuil1!$A$11:$F$29,5),IF(AND(H63>1997,H63<2000),VLOOKUP(I63,Feuil1!$A$11:$F$29,4),IF(AND(H63>1999,H63<2002),VLOOKUP(I63,Feuil1!$A$11:$F$29,3),VLOOKUP(I63,Feuil1!$A$11:$F$29,2))))),IF(OR(H63=\"SEN\",H63<1995),VLOOKUP(I63,Feuil1!$G$11:$L$25,6),IF(AND(H63>1994,H63<1998),VLOOKUP(I63,Feuil1!$G$11:$L$25,5),IF(AND(H63>1997,H63<2000),VLOOKUP(I63,Feuil1!$G$11:$L$25,4),IF(AND(H63>1999,H63<2002),VLOOKUP(I63,Feuil1!$G$11:$L$25,3),VLOOKUP(I63,Feuil1!$G$11:$L$25,2)))))))","v":"C2 69"},0,null," ",{"$f":"T63-HLOOKUP(X63,Feuil1!$C$1:$BL$10,2,FALSE)","v":-95},{"$f":"T63-HLOOKUP(X63,Feuil1!$C$1:$BL$10,3,FALSE)","v":-115},{"$f":"T63-HLOOKUP(X63,Feuil1!$C$1:$BL$10,4,FALSE)","v":-130},{"$f":"T63-HLOOKUP(X63,Feuil1!$C$1:$BL$10,5,FALSE)","v":-150},{"$f":"T63-HLOOKUP(X63,Feuil1!$C$1:$BL$10,6,FALSE)","v":-170},{"$f":"T63-HLOOKUP(X63,Feuil1!$C$1:$BL$10,7,FALSE)","v":-190},{"$f":"T63-HLOOKUP(X63,Feuil1!$C$1:$BL$10,8,FALSE)","v":-210},{"$f":"T63-HLOOKUP(X63,Feuil1!$C$1:$BL$10,9,FALSE)","v":-230},{"$f":"T63-HLOOKUP(X63,Feuil1!$C$1:$BL$10,10,FALSE)","v":-1000},null,null,null,null,null,null,"DEB "]
[null,null,null,null,null,null,null,null,null,null,null,null,null,null,null,null,null,null,null,null," ",null,null,null,null,null,null,{"$f":"T64-HLOOKUP(X64,Feuil1!$C$1:$BL$10,2,FALSE)","v":{"$error":"#N/A"}},{"$f":"T64-HLOOKUP(X64,Feuil1!$C$1:$BL$10,3,FALSE)","v":{"$error":"#N/A"}},{"$f":"T64-HLOOKUP(X64,Feuil1!$C$1:$BL$10,4,FALSE)","v":{"$error":"#N/A"}},{"$f":"T64-HLOOKUP(X64,Feuil1!$C$1:$BL$10,5,FALSE)","v":{"$error":"#N/A"}},{"$f":"T64-HLOOKUP(X64,Feuil1!$C$1:$BL$10,6,FALSE)","v":{"$error":"#N/A"}},{"$f":"T64-HLOOKUP(X64,Feuil1!$C$1:$BL$10,7,FALSE)","v":{"$error":"#N/A"}},{"$f":"T64-HLOOKUP(X64,Feuil1!$C$1:$BL$10,8,FALSE)","v":{"$error":"#N/A"}},{"$f":"T64-HLOOKUP(X64,Feuil1!$C$1:$BL$10,9,FALSE)","v":{"$error":"#N/A"}},{"$f":"T64-HLOOKUP(X64,Feuil1!$C$1:$BL$10,10,FALSE)","v":{"$error":"#N/A"}}]
["H","NE","LOR",1,222911,"FLAUS","Dylan",1998,75.599999999999994,"A.O.C.Pte-Rosselle","F",87,92,-97,{"$f":"IF(H65=\"\",\"\",IF(MAXA(L65:N65)<=0,0,MAXA(L65:N65)))","v":92},110,115,-120,{"$f":"IF(H65=\"\",\"\",IF(MAXA(P65:R65)<=0,0,MAXA(P65:R65)))","v":115},{"$f":"IF(H65=\"\",\"\",IF(OR(O65=0,S65=0),0,O65+S65))","v":207},55.800000000000011,{"$f":"IF(H65=\"\",\"\",AQ65)","v":"NAT +"},{"$f":"IF(AJ65>=0,AJ65,IF(AI65>=0,AI65,IF(AH65>=0,AH65,IF(AG65>=0,AG65,IF(AF65>=0,AF65,IF(AE65>=0,AE65,IF(AD65>=0,AD65,IF(AC65>=0,AC65,AB65))))))))","v":7},{"$f":"IF(I65=\"\",\"\",IF(A65=\"H\",IF(OR(H65=\"SEN\",H65<1995),VLOOKUP(I65,Feuil1!$A$11:$F$29,6),IF(AND(H65>1994,H65<1998),VLOOKUP(I65,Feuil1!$A$11:$F$29,5),IF(AND(H65>1997,H65<2000),VLOOKUP(I65,Feuil1!$A$11:$F$29,4),IF(AND(H65>1999,H65<2002),VLOOKUP(I65,Feuil1!$A$11:$F$29,3),VLOOKUP(I65,Feuil1!$A$11:$F$29,2))))),IF(OR(H65=\"SEN\",H65<1995),VLOOKUP(I65,Feuil1!$G$11:$L$25,6),IF(AND(H65>1994,H65<1998),VLOOKUP(I65,Feuil1!$G$11:$L$25,5),IF(AND(H65>1997,H65<2000),VLOOKUP(I65,Feuil1!$G$11:$L$25,4),IF(AND(H65>1999,H65<2002),VLOOKUP(I65,Feuil1!$G$11:$L$25,3),VLOOKUP(I65,Feuil1!$G$11:$L$25,2)))))))","v":"C2 77"},{"$f":"IF(I65=\"\",\"\",IF(A65=\"H\",10^(0.794358141*LOG(I65/174.393)^2)*T65,IF(A65=\"F\",10^(0.89726074*LOG(I65/148.026)^2)*T65,\"\")))","v":263.41852058372831},null," ",{"$f":"T65-HLOOKUP(X65,Feuil1!$C$1:$BL$10,2,FALSE)","v":97},{"$f":"T65-HLOOKUP(X65,Feuil1!$C$1:$BL$10,3,FALSE)","v":77},{"$f":"T65-HLOOKUP(X65,Feuil1!$C$1:$BL$10,4,FALSE)","v":57},{"$f":"T65-HLOOKUP(X65,Feuil1!$C$1:$BL$10,5,FALSE)","v":37},{"$f":"T65-HLOOKUP(X65,Feuil1!$C$1:$BL$10,6,FALSE)","v":22},{"$f":"T65-HLOOKUP(X65,Feuil1!$C$1:$BL$10,7,FALSE)","v":7},{"$f":"T65-HLOOKUP(X65,Feuil1!$C$1:$BL$10,8,FALSE)","v":-13},{"$f":"T65-HLOOKUP(X65,Feuil1!$C$1:$BL$10,9,FALSE)","v":-43},{"$f":"T65-HLOOKUP(X65,Feuil1!$C$1:$BL$10,10,FALSE)","v":-793},null,null,null,null,null,null,{"$f":"IF(AJ65>=0,$AJ$4,IF(AI65>=0,$AI$4,IF(AH65>=0,$AH$4,IF(AG65>=0,$AG$4,IF(AF65>=0,$AF$4,IF(AE65>=0,$AE$4,IF(AD65>=0,$AD$4,IF(AC65>=0,$AC$4,$AB$4))))))))","v":"NAT +"}]
["H","NE","FCO",2,312740,"BULLE","Sébastien",1998,70.900000000000006,"LF Besançon","F",80,82,85,85,93,97,100,100,185,43.199999999999989,"FED +",0,{"$f":"IF(I66=\"\",\"\",IF(A66=\"H\",IF(OR(H66=\"SEN\",H66<1995),VLOOKUP(I66,Feuil1!$A$11:$F$29,6),IF(AND(H66>1994,H66<1998),VLOOKUP(I66,Feuil1!$A$11:$F$29,5),IF(AND(H66>1997,H66<2000),VLOOKUP(I66,Feuil1!$A$11:$F$29,4),IF(AND(H66>1999,H66<2002),VLOOKUP(I66,Feuil1!$A$11:$F$29,3),VLOOKUP(I66,Feuil1!$A$11:$F$29,2))))),IF(OR(H66=\"SEN\",H66<1995),VLOOKUP(I66,Feuil1!$G$11:$L$25,6),IF(AND(H66>1994,H66<1998),VLOOKUP(I66,Feuil1!$G$11:$L$25,5),IF(AND(H66>1997,H66<2000),VLOOKUP(I66,Feuil1!$G$11:$L$25,4),IF(AND(H66>1999,H66<2002),VLOOKUP(I66,Feuil1!$G$11:$L$25,3),VLOOKUP(I66,Feuil1!$G$11:$L$25,2)))))))","v":"C2 77"},{"$f":"IF(I66=\"\",\"\",IF(A66=\"H\",10^(0.794358141*LOG(I66/174.393)^2)*T66,IF(A66=\"F\",10^(0.89726074*LOG(I66/148.026)^2)*T66,\"\")))","v":244.6477418146047},null," ",{"$f":"T66-HLOOKUP(X66,Feuil1!$C$1:$BL$10,2,FALSE)","v":75},{"$f":"T66-HLOOKUP(X66,Feuil1!$C$1:$BL$10,3,FALSE)","v":55},{"$f":"T66-HLOOKUP(X66,Feuil1!$C$1:$BL$10,4,FALSE)","v":35},{"$f":"T66-HLOOKUP(X66,Feuil1!$C$1:$BL$10,5,FALSE)","v":15},{"$f":"T66-HLOOKUP(X66,Feuil1!$C$1:$BL$10,6,FALSE)","v":0},{"$f":"T66-HLOOKUP(X66,Feuil1!$C$1:$BL$10,7,FALSE)","v":-15},{"$f":"T66-HLOOKUP(X66,Feuil1!$C$1:$BL$10,8,FALSE)","v":-35},{"$f":"T66-HLOOKUP(X66,Feuil1!$C$1:$BL$10,9,FALSE)","v":-65},{"$f":"T66-HLOOKUP(X66,Feuil1!$C$1:$BL$10,10,FALSE)","v":-815},null,null,null,null,null,null,"FED +"]
[null,null,null,null,null,null,null,null,null,null,null,null,null,null,null,null,null,null,null,null,null,null,null,null,null,null,null,{"$f":"T67-HLOOKUP(X67,Feuil1!$C$1:$BL$10,2,FALSE)","v":{"$error":"#N/A"}},{"$f":"T67-HLOOKUP(X67,Feuil1!$C$1:$BL$10,3,FALSE)","v":{"$error":"#N/A"}},{"$f":"T67-HLOOKUP(X67,Feuil1!$C$1:$BL$10,4,FALSE)","v":{"$error":"#N/A"}},{"$f":"T67-HLOOKUP(X67,Feuil1!$C$1:$BL$10,5,FALSE)","v":{"$error":"#N/A"}},{"$f":"T67-HLOOKUP(X67,Feuil1!$C$1:$BL$10,6,FALSE)","v":{"$error":"#N/A"}},{"$f":"T67-HLOOKUP(X67,Feuil1!$C$1:$BL$10,7,FALSE)","v":{"$error":"#N/A"}},{"$f":"T67-HLOOKUP(X67,Feuil1!$C$1:$BL$10,8,FALSE)","v":{"$error":"#N/A"}},{"$f":"T67-HLOOKUP(X67,Feuil1!$C$1:$BL$10,9,FALSE)","v":{"$error":"#N/A"}},{"$f":"T67-HLOOKUP(X67,Feuil1!$C$1:$BL$10,10,FALSE)","v":{"$error":"#N/A"}}]
[null,null,null,null,null,"JUNIORS",null,null,null,null,null,null,null,null,null,null,null,null,null,null,null,null,null,null,null,null,null,{"$f":"T68-HLOOKUP(X68,Feuil1!$C$1:$BL$10,2,FALSE)","v":{"$error":"#N/A"}},{"$f":"T68-HLOOKUP(X68,Feuil1!$C$1:$BL$10,3,FALSE)","v":{"$error":"#N/A"}},{"$f":"T68-HLOOKUP(X68,Feuil1!$C$1:$BL$10,4,FALSE)","v":{"$error":"#N/A"}},{"$f":"T68-HLOOKUP(X68,Feuil1!$C$1:$BL$10,5,FALSE)","v":{"$error":"#N/A"}},{"$f":"T68-HLOOKUP(X68,Feuil1!$C$1:$BL$10,6,FALSE)","v":{"$error":"#N/A"}},{"$f":"T68-HLOOKUP(X68,Feuil1!$C$1:$BL$10,7,FALSE)","v":{"$error":"#N/A"}},{"$f":"T68-HLOOKUP(X68,Feuil1!$C$1:$BL$10,8,FALSE)","v":{"$error":"#N/A"}},{"$f":"T68-HLOOKUP(X68,Feuil1!$C$1:$BL$10,9,FALSE)","v":{"$error":"#N/A"}},{"$f":"T68-HLOOKUP(X68,Feuil1!$C$1:$BL$10,10,FALSE)","v":{"$error":"#N/A"}}]
[null,null,null,null,null,null,null,null,null,null,null,null,null,null,null,null,null,null,null,null,null,null,null,null,null,null,null,{"$f":"T69-HLOOKUP(X69,Feuil1!$C$1:$BL$10,2,FALSE)","v":{"$error":"#N/A"}},{"$f":"T69-HLOOKUP(X69,Feuil1!$C$1:$BL$10,3,FALSE)","v":{"$error":"#N/A"}},{"$f":"T69-HLOOKUP(X69,Feuil1!$C$1:$BL$10,4,FALSE)","v":{"$error":"#N/A"}},{"$f":"T69-HLOOKUP(X69,Feuil1!$C$1:$BL$10,5,FALSE)","v":{"$error":"#N/A"}},{"$f":"T69-HLOOKUP(X69,Feuil1!$C$1:$BL$10,6,FALSE)","v":{"$error":"#N/A"}},{"$f":"T69-HLOOKUP(X69,Feuil1!$C$1:$BL$10,7,FALSE)","v":{"$error":"#N/A"}},{"$f":"T69-HLOOKUP(X69,Feuil1!$C$1:$BL$10,8,FALSE)","v":{"$error":"#N/A"}},{"$f":"T69-HLOOKUP(X69,Feuil1!$C$1:$BL$10,9,FALSE)","v":{"$error":"#N/A"}},{"$f":"T69-HLOOKUP(X69,Feuil1!$C$1:$BL$10,10,FALSE)","v":{"$error":"#N/A"}}]
["H","SO","AQU",1,220892,"MOCAER ","Alan",1996,50.6,"St-Médard-en-Jalles","F",67,-71,71,{"$f":"IF(H70=\"\",\"\",IF(MAXA(L70:N70)<=0,0,MAXA(L70:N70)))","v":71},90,95,-99,{"$f":"IF(H70=\"\",\"\",IF(MAXA(P70:R70)<=0,0,MAXA(P70:R70)))","v":95},{"$f":"IF(H70=\"\",\"\",IF(OR(O70=0,S70=0),0,O70+S70))","v":166},{"$f":"T70-I70*2","v":64.8},{"$f":"IF(H70=\"\",\"\",AQ70)","v":"FED +"},{"$f":"IF(AJ70>=0,AJ70,IF(AI70>=0,AI70,IF(AH70>=0,AH70,IF(AG70>=0,AG70,IF(AF70>=0,AF70,IF(AE70>=0,AE70,IF(AD70>=0,AD70,IF(AC70>=0,AC70,AB70))))))))","v":21},{"$f":"IF(I70=\"\",\"\",IF(A70=\"H\",IF(OR(H70=\"SEN\",H70<1995),VLOOKUP(I70,Feuil1!$A$11:$F$29,6),IF(AND(H70>1994,H70<1998),VLOOKUP(I70,Feuil1!$A$11:$F$29,5),IF(AND(H70>1997,H70<2000),VLOOKUP(I70,Feuil1!$A$11:$F$29,4),IF(AND(H70>1999,H70<2002),VLOOKUP(I70,Feuil1!$A$11:$F$29,3),VLOOKUP(I70,Feuil1!$A$11:$F$29,2))))),IF(OR(H70=\"SEN\",H70<1995),VLOOKUP(I70,Feuil1!$G$11:$L$25,6),IF(AND(H70>1994,H70<1998),VLOOKUP(I70,Feuil1!$G$11:$L$25,5),IF(AND(H70>1997,H70<2000),VLOOKUP(I70,Feuil1!$G$11:$L$25,4),IF(AND(H70>1999,H70<2002),VLOOKUP(I70,Feuil1!$G$11:$L$25,3),VLOOKUP(I70,Feuil1!$G$11:$L$25,2)))))))","v":"J56"},{"$f":"IF(I70=\"\",\"\",IF(A70=\"H\",10^(0.794358141*LOG(I70/174.393)^2)*T70,IF(A70=\"F\",10^(0.89726074*LOG(I70/148.026)^2)*T70,\"\")))","v":281.51361617830531},null," ",{"$f":"T70-HLOOKUP(X70,Feuil1!$C$1:$BL$10,2,FALSE)","v":86},{"$f":"T70-HLOOKUP(X70,Feuil1!$C$1:$BL$10,3,FALSE)","v":66},{"$f":"T70-HLOOKUP(X70,Feuil1!$C$1:$BL$10,4,FALSE)","v":51},{"$f":"T70-HLOOKUP(X70,Feuil1!$C$1:$BL$10,5,FALSE)","v":36},{"$f":"T70-HLOOKUP(X70,Feuil1!$C$1:$BL$10,6,FALSE)","v":21},{"$f":"T70-HLOOKUP(X70,Feuil1!$C$1:$BL$10,7,FALSE)","v":-4},{"$f":"T70-HLOOKUP(X70,Feuil1!$C$1:$BL$10,8,FALSE)","v":-24},{"$f":"T70-HLOOKUP(X70,Feuil1!$C$1:$BL$10,9,FALSE)","v":-44},{"$f":"T70-HLOOKUP(X70,Feuil1!$C$1:$BL$10,10,FALSE)","v":-834},null,null,null,null,null,null,{"$f":"IF(AJ70>=0,$AJ$4,IF(AI70>=0,$AI$4,IF(AH70>=0,$AH$4,IF(AG70>=0,$AG$4,IF(AF70>=0,$AF$4,IF(AE70>=0,$AE$4,IF(AD70>=0,$AD$4,IF(AC70>=0,$AC$4,$AB$4))))))))","v":"FED +"}]
["H","Nord","NPC",2,223320,"TRANCARD","Tristan",1996,54.35,"OSM Lomme","F",-60,62,66,66,83,86,-88,86,152,43.3,"FED +",7,{"$f":"IF(I71=\"\",\"\",IF(A71=\"H\",IF(OR(H71=\"SEN\",H71<1995),VLOOKUP(I71,Feuil1!$A$11:$F$29,6),IF(AND(H71>1994,H71<1998),VLOOKUP(I71,Feuil1!$A$11:$F$29,5),IF(AND(H71>1997,H71<2000),VLOOKUP(I71,Feuil1!$A$11:$F$29,4),IF(AND(H71>1999,H71<2002),VLOOKUP(I71,Feuil1!$A$11:$F$29,3),VLOOKUP(I71,Feuil1!$A$11:$F$29,2))))),IF(OR(H71=\"SEN\",H71<1995),VLOOKUP(I71,Feuil1!$G$11:$L$25,6),IF(AND(H71>1994,H71<1998),VLOOKUP(I71,Feuil1!$G$11:$L$25,5),IF(AND(H71>1997,H71<2000),VLOOKUP(I71,Feuil1!$G$11:$L$25,4),IF(AND(H71>1999,H71<2002),VLOOKUP(I71,Feuil1!$G$11:$L$25,3),VLOOKUP(I71,Feuil1!$G$11:$L$25,2)))))))","v":"J56"},242.93653748439834,null," ",{"$f":"T71-HLOOKUP(X71,Feuil1!$C$1:$BL$10,2,FALSE)","v":72},{"$f":"T71-HLOOKUP(X71,Feuil1!$C$1:$BL$10,3,FALSE)","v":52},{"$f":"T71-HLOOKUP(X71,Feuil1!$C$1:$BL$10,4,FALSE)","v":37},{"$f":"T71-HLOOKUP(X71,Feuil1!$C$1:$BL$10,5,FALSE)","v":22},{"$f":"T71-HLOOKUP(X71,Feuil1!$C$1:$BL$10,6,FALSE)","v":7},{"$f":"T71-HLOOKUP(X71,Feuil1!$C$1:$BL$10,7,FALSE)","v":-18},{"$f":"T71-HLOOKUP(X71,Feuil1!$C$1:$BL$10,8,FALSE)","v":-38},{"$f":"T71-HLOOKUP(X71,Feuil1!$C$1:$BL$10,9,FALSE)","v":-58},{"$f":"T71-HLOOKUP(X71,Feuil1!$C$1:$BL$10,10,FALSE)","v":-848},null,null,null,null,null,null,"FED +"]
["H","NE","CHA",3,"214038","NOËL ","Tanguy",1996,52.2,"Langres HM","F",63,66,68,{"$f":"IF(H72=\"\",\"\",IF(MAXA(L72:N72)<=0,0,MAXA(L72:N72)))","v":68},74,77,-81,{"$f":"IF(H72=\"\",\"\",IF(MAXA(P72:R72)<=0,0,MAXA(P72:R72)))","v":77},{"$f":"IF(H72=\"\",\"\",IF(OR(O72=0,S72=0),0,O72+S72))","v":145},40.599999999999994,{"$f":"IF(H72=\"\",\"\",AQ72)","v":"FED +"},{"$f":"IF(AJ72>=0,AJ72,IF(AI72>=0,AI72,IF(AH72>=0,AH72,IF(AG72>=0,AG72,IF(AF72>=0,AF72,IF(AE72>=0,AE72,IF(AD72>=0,AD72,IF(AC72>=0,AC72,AB72))))))))","v":0},{"$f":"IF(I72=\"\",\"\",IF(A72=\"H\",IF(OR(H72=\"SEN\",H72<1995),VLOOKUP(I72,Feuil1!$A$11:$F$29,6),IF(AND(H72>1994,H72<1998),VLOOKUP(I72,Feuil1!$A$11:$F$29,5),IF(AND(H72>1997,H72<2000),VLOOKUP(I72,Feuil1!$A$11:$F$29,4),IF(AND(H72>1999,H72<2002),VLOOKUP(I72,Feuil1!$A$11:$F$29,3),VLOOKUP(I72,Feuil1!$A$11:$F$29,2))))),IF(OR(H72=\"SEN\",H72<1995),VLOOKUP(I72,Feuil1!$G$11:$L$25,6),IF(AND(H72>1994,H72<1998),VLOOKUP(I72,Feuil1!$G$11:$L$25,5),IF(AND(H72>1997,H72<2000),VLOOKUP(I72,Feuil1!$G$11:$L$25,4),IF(AND(H72>1999,H72<2002),VLOOKUP(I72,Feuil1!$G$11:$L$25,3),VLOOKUP(I72,Feuil1!$G$11:$L$25,2)))))))","v":"J56"},239.53111722721485,null," ",{"$f":"T72-HLOOKUP(X72,Feuil1!$C$1:$BL$10,2,FALSE)","v":65},{"$f":"T72-HLOOKUP(X72,Feuil1!$C$1:$BL$10,3,FALSE)","v":45},{"$f":"T72-HLOOKUP(X72,Feuil1!$C$1:$BL$10,4,FALSE)","v":30},{"$f":"T72-HLOOKUP(X72,Feuil1!$C$1:$BL$10,5,FALSE)","v":15},{"$f":"T72-HLOOKUP(X72,Feuil1!$C$1:$BL$10,6,FALSE)","v":0},{"$f":"T72-HLOOKUP(X72,Feuil1!$C$1:$BL$10,7,FALSE)","v":-25},{"$f":"T72-HLOOKUP(X72,Feuil1!$C$1:$BL$10,8,FALSE)","v":-45},{"$f":"T72-HLOOKUP(X72,Feuil1!$C$1:$BL$10,9,FALSE)","v":-65},{"$f":"T72-HLOOKUP(X72,Feuil1!$C$1:$BL$10,10,FALSE)","v":-855},null,null,null,null,null,null,{"$f":"IF(AJ72>=0,$AJ$4,IF(AI72>=0,$AI$4,IF(AH72>=0,$AH$4,IF(AG72>=0,$AG$4,IF(AF72>=0,$AF$4,IF(AE72>=0,$AE$4,IF(AD72>=0,$AD$4,IF(AC72>=0,$AC$4,$AB$4))))))))","v":"FED +"}]
["H","SEST","CAZ",4,325142,"MONTAGNOLI","Valentin",1996,55.2,"E.S. VILLENEUVE LOUBET","F",60,63,-65,{"$f":"IF(H73=\"\",\"\",IF(MAXA(L73:N73)<=0,0,MAXA(L73:N73)))","v":63},-78,78,82,{"$f":"IF(H73=\"\",\"\",IF(MAXA(P73:R73)<=0,0,MAXA(P73:R73)))","v":82},{"$f":"IF(H73=\"\",\"\",IF(OR(O73=0,S73=0),0,O73+S73))","v":145},34.599999999999994,{"$f":"IF(H73=\"\",\"\",AQ73)","v":"FED +"},{"$f":"IF(AJ73>=0,AJ73,IF(AI73>=0,AI73,IF(AH73>=0,AH73,IF(AG73>=0,AG73,IF(AF73>=0,AF73,IF(AE73>=0,AE73,IF(AD73>=0,AD73,IF(AC73>=0,AC73,AB73))))))))","v":0},{"$f":"IF(I73=\"\",\"\",IF(A73=\"H\",IF(OR(H73=\"SEN\",H73<1995),VLOOKUP(I73,Feuil1!$A$11:$F$29,6),IF(AND(H73>1994,H73<1998),VLOOKUP(I73,Feuil1!$A$11:$F$29,5),IF(AND(H73>1997,H73<2000),VLOOKUP(I73,Feuil1!$A$11:$F$29,4),IF(AND(H73>1999,H73<2002),VLOOKUP(I73,Feuil1!$A$11:$F$29,3),VLOOKUP(I73,Feuil1!$A$11:$F$29,2))))),IF(OR(H73=\"SEN\",H73<1995),VLOOKUP(I73,Feuil1!$G$11:$L$25,6),IF(AND(H73>1994,H73<1998),VLOOKUP(I73,Feuil1!$G$11:$L$25,5),IF(AND(H73>1997,H73<2000),VLOOKUP(I73,Feuil1!$G$11:$L$25,4),IF(AND(H73>1999,H73<2002),VLOOKUP(I73,Feuil1!$G$11:$L$25,3),VLOOKUP(I73,Feuil1!$G$11:$L$25,2)))))))","v":"J56"},228.89271004348399,null," ",{"$f":"T73-HLOOKUP(X73,Feuil1!$C$1:$BL$10,2,FALSE)","v":65},{"$f":"T73-HLOOKUP(X73,Feuil1!$C$1:$BL$10,3,FALSE)","v":45},{"$f":"T73-HLOOKUP(X73,Feuil1!$C$1:$BL$10,4,FALSE)","v":30},{"$f":"T73-HLOOKUP(X73,Feuil1!$C$1:$BL$10,5,FALSE)","v":15},{"$f":"T73-HLOOKUP(X73,Feuil1!$C$1:$BL$10,6,FALSE)","v":0},{"$f":"T73-HLOOKUP(X73,Feuil1!$C$1:$BL$10,7,FALSE)","v":-25},{"$f":"T73-HLOOKUP(X73,Feuil1!$C$1:$BL$10,8,FALSE)","v":-45},{"$f":"T73-HLOOKUP(X73,Feuil1!$C$1:$BL$10,9,FALSE)","v":-65},{"$f":"T73-HLOOKUP(X73,Feuil1!$C$1:$BL$10,10,FALSE)","v":-855},null,null,null,null,null,null,{"$f":"IF(AJ73>=0,$AJ$4,IF(AI73>=0,$AI$4,IF(AH73>=0,$AH$4,IF(AG73>=0,$AG$4,IF(AF73>=0,$AF$4,IF(AE73>=0,$AE$4,IF(AD73>=0,$AD$4,IF(AC73>=0,$AC$4,$AB$4))))))))","v":"FED +"}]
["H","SO","MPY",5,300998,"DELPECH","Rémy",1997,52,"FIGEAC HC","F",50,55,-60,55,70,75,-80,75,130,26,"IRG +",0,{"$f":"IF(I74=\"\",\"\",IF(A74=\"H\",IF(OR(H74=\"SEN\",H74<1995),VLOOKUP(I74,Feuil1!$A$11:$F$29,6),IF(AND(H74>1994,H74<1998),VLOOKUP(I74,Feuil1!$A$11:$F$29,5),IF(AND(H74>1997,H74<2000),VLOOKUP(I74,Feuil1!$A$11:$F$29,4),IF(AND(H74>1999,H74<2002),VLOOKUP(I74,Feuil1!$A$11:$F$29,3),VLOOKUP(I74,Feuil1!$A$11:$F$29,2))))),IF(OR(H74=\"SEN\",H74<1995),VLOOKUP(I74,Feuil1!$G$11:$L$25,6),IF(AND(H74>1994,H74<1998),VLOOKUP(I74,Feuil1!$G$11:$L$25,5),IF(AND(H74>1997,H74<2000),VLOOKUP(I74,Feuil1!$G$11:$L$25,4),IF(AND(H74>1999,H74<2002),VLOOKUP(I74,Feuil1!$G$11:$L$25,3),VLOOKUP(I74,Feuil1!$G$11:$L$25,2)))))))","v":"J56"},215.44033338583952,null," ",{"$f":"T74-HLOOKUP(X74,Feuil1!$C$1:$BL$10,2,FALSE)","v":50},{"$f":"T74-HLOOKUP(X74,Feuil1!$C$1:$BL$10,3,FALSE)","v":30},{"$f":"T74-HLOOKUP(X74,Feuil1!$C$1:$BL$10,4,FALSE)","v":15},{"$f":"T74-HLOOKUP(X74,Feuil1!$C$1:$BL$10,5,FALSE)","v":0},{"$f":"T74-HLOOKUP(X74,Feuil1!$C$1:$BL$10,6,FALSE)","v":-15},{"$f":"T74-HLOOKUP(X74,Feuil1!$C$1:$BL$10,7,FALSE)","v":-40},{"$f":"T74-HLOOKUP(X74,Feuil1!$C$1:$BL$10,8,FALSE)","v":-60},{"$f":"T74-HLOOKUP(X74,Feuil1!$C$1:$BL$10,9,FALSE)","v":-80},{"$f":"T74-HLOOKUP(X74,Feuil1!$C$1:$BL$10,10,FALSE)","v":-870},null,null,null,null,null,null,"IRG +"]
["H","Nord","IDF",6,307426,"ROUGE","Nicolas",1996,55.15,"Franconville","F",58,60,61,61,-69,69,-75,69,130,19.700000000000003,"IRG +",0,{"$f":"IF(I75=\"\",\"\",IF(A75=\"H\",IF(OR(H75=\"SEN\",H75<1995),VLOOKUP(I75,Feuil1!$A$11:$F$29,6),IF(AND(H75>1994,H75<1998),VLOOKUP(I75,Feuil1!$A$11:$F$29,5),IF(AND(H75>1997,H75<2000),VLOOKUP(I75,Feuil1!$A$11:$F$29,4),IF(AND(H75>1999,H75<2002),VLOOKUP(I75,Feuil1!$A$11:$F$29,3),VLOOKUP(I75,Feuil1!$A$11:$F$29,2))))),IF(OR(H75=\"SEN\",H75<1995),VLOOKUP(I75,Feuil1!$G$11:$L$25,6),IF(AND(H75>1994,H75<1998),VLOOKUP(I75,Feuil1!$G$11:$L$25,5),IF(AND(H75>1997,H75<2000),VLOOKUP(I75,Feuil1!$G$11:$L$25,4),IF(AND(H75>1999,H75<2002),VLOOKUP(I75,Feuil1!$G$11:$L$25,3),VLOOKUP(I75,Feuil1!$G$11:$L$25,2)))))))","v":"J56"},205.36186806593361,null," ",{"$f":"T75-HLOOKUP(X75,Feuil1!$C$1:$BL$10,2,FALSE)","v":50},{"$f":"T75-HLOOKUP(X75,Feuil1!$C$1:$BL$10,3,FALSE)","v":30},{"$f":"T75-HLOOKUP(X75,Feuil1!$C$1:$BL$10,4,FALSE)","v":15},{"$f":"T75-HLOOKUP(X75,Feuil1!$C$1:$BL$10,5,FALSE)","v":0},{"$f":"T75-HLOOKUP(X75,Feuil1!$C$1:$BL$10,6,FALSE)","v":-15},{"$f":"T75-HLOOKUP(X75,Feuil1!$C$1:$BL$10,7,FALSE)","v":-40},{"$f":"T75-HLOOKUP(X75,Feuil1!$C$1:$BL$10,8,FALSE)","v":-60},{"$f":"T75-HLOOKUP(X75,Feuil1!$C$1:$BL$10,9,FALSE)","v":-80},{"$f":"T75-HLOOKUP(X75,Feuil1!$C$1:$BL$10,10,FALSE)","v":-870},null,null,null,null,null,null,"IRG +"]
[null,null,null,null,null,null,null,null,null,null,null,null,null,null,null,null,null,null,null,null," ",null,null,null,null,null,null,{"$f":"T76-HLOOKUP(X76,Feuil1!$C$1:$BL$10,2,FALSE)","v":{"$error":"#N/A"}},{"$f":"T76-HLOOKUP(X76,Feuil1!$C$1:$BL$10,3,FALSE)","v":{"$error":"#N/A"}},{"$f":"T76-HLOOKUP(X76,Feuil1!$C$1:$BL$10,4,FALSE)","v":{"$error":"#N/A"}},{"$f":"T76-HLOOKUP(X76,Feuil1!$C$1:$BL$10,5,FALSE)","v":{"$error":"#N/A"}},{"$f":"T76-HLOOKUP(X76,Feuil1!$C$1:$BL$10,6,FALSE)","v":{"$error":"#N/A"}},{"$f":"T76-HLOOKUP(X76,Feuil1!$C$1:$BL$10,7,FALSE)","v":{"$error":"#N/A"}},{"$f":"T76-HLOOKUP(X76,Feuil1!$C$1:$BL$10,8,FALSE)","v":{"$error":"#N/A"}},{"$f":"T76-HLOOKUP(X76,Feuil1!$C$1:$BL$10,9,FALSE)","v":{"$error":"#N/A"}},{"$f":"T76-HLOOKUP(X76,Feuil1!$C$1:$BL$10,10,FALSE)","v":{"$error":"#N/A"}}]
["H","NORD","IDF",1,318054,"ARNOU MEUNIER","Killian",1997,61.8,"VGA. ST MAUR","F",-87,87,90,{"$f":"IF(H77=\"\",\"\",IF(MAXA(L77:N77)<=0,0,MAXA(L77:N77)))","v":90},110,117,-122,{"$f":"IF(H77=\"\",\"\",IF(MAXA(P77:R77)<=0,0,MAXA(P77:R77)))","v":117},{"$f":"IF(H77=\"\",\"\",IF(OR(O77=0,S77=0),0,O77+S77))","v":207},83.4,{"$f":"IF(H77=\"\",\"\",AQ77)","v":"NAT +"},{"$f":"IF(AJ77>=0,AJ77,IF(AI77>=0,AI77,IF(AH77>=0,AH77,IF(AG77>=0,AG77,IF(AF77>=0,AF77,IF(AE77>=0,AE77,IF(AD77>=0,AD77,IF(AC77>=0,AC77,AB77))))))))","v":17},{"$f":"IF(I77=\"\",\"\",IF(A77=\"H\",IF(OR(H77=\"SEN\",H77<1995),VLOOKUP(I77,Feuil1!$A$11:$F$29,6),IF(AND(H77>1994,H77<1998),VLOOKUP(I77,Feuil1!$A$11:$F$29,5),IF(AND(H77>1997,H77<2000),VLOOKUP(I77,Feuil1!$A$11:$F$29,4),IF(AND(H77>1999,H77<2002),VLOOKUP(I77,Feuil1!$A$11:$F$29,3),VLOOKUP(I77,Feuil1!$A$11:$F$29,2))))),IF(OR(H77=\"SEN\",H77<1995),VLOOKUP(I77,Feuil1!$G$11:$L$25,6),IF(AND(H77>1994,H77<1998),VLOOKUP(I77,Feuil1!$G$11:$L$25,5),IF(AND(H77>1997,H77<2000),VLOOKUP(I77,Feuil1!$G$11:$L$25,4),IF(AND(H77>1999,H77<2002),VLOOKUP(I77,Feuil1!$G$11:$L$25,3),VLOOKUP(I77,Feuil1!$G$11:$L$25,2)))))))","v":"J62"},{"$f":"IF(I77=\"\",\"\",IF(A77=\"H\",10^(0.794358141*LOG(I77/174.393)^2)*T77,IF(A77=\"F\",10^(0.89726074*LOG(I77/148.026)^2)*T77,\"\")))","v":300.06446634166275},null," ",{"$f":"T77-HLOOKUP(X77,Feuil1!$C$1:$BL$10,2,FALSE)","v":117},{"$f":"T77-HLOOKUP(X77,Feuil1!$C$1:$BL$10,3,FALSE)","v":87},{"$f":"T77-HLOOKUP(X77,Feuil1!$C$1:$BL$10,4,FALSE)","v":72},{"$f":"T77-HLOOKUP(X77,Feuil1!$C$1:$BL$10,5,FALSE)","v":57},{"$f":"T77-HLOOKUP(X77,Feuil1!$C$1:$BL$10,6,FALSE)","v":37},{"$f":"T77-HLOOKUP(X77,Feuil1!$C$1:$BL$10,7,FALSE)","v":17},{"$f":"T77-HLOOKUP(X77,Feuil1!$C$1:$BL$10,8,FALSE)","v":-3},{"$f":"T77-HLOOKUP(X77,Feuil1!$C$1:$BL$10,9,FALSE)","v":-23},{"$f":"T77-HLOOKUP(X77,Feuil1!$C$1:$BL$10,10,FALSE)","v":-793},null,null,null,null,null,null,{"$f":"IF(AJ77>=0,$AJ$4,IF(AI77>=0,$AI$4,IF(AH77>=0,$AH$4,IF(AG77>=0,$AG$4,IF(AF77>=0,$AF$4,IF(AE77>=0,$AE$4,IF(AD77>=0,$AD$4,IF(AC77>=0,$AC$4,$AB$4))))))))","v":"NAT +"}]
["H","SO","MPY",2,222054,"JIMENEZ","Valentin",1995,60.9,"TOULOUSE HC","F",83,-86,88,88,110,-115,115,115,203,81.2,"NAT +",13,{"$f":"IF(I78=\"\",\"\",IF(A78=\"H\",IF(OR(H78=\"SEN\",H78<1995),VLOOKUP(I78,Feuil1!$A$11:$F$29,6),IF(AND(H78>1994,H78<1998),VLOOKUP(I78,Feuil1!$A$11:$F$29,5),IF(AND(H78>1997,H78<2000),VLOOKUP(I78,Feuil1!$A$11:$F$29,4),IF(AND(H78>1999,H78<2002),VLOOKUP(I78,Feuil1!$A$11:$F$29,3),VLOOKUP(I78,Feuil1!$A$11:$F$29,2))))),IF(OR(H78=\"SEN\",H78<1995),VLOOKUP(I78,Feuil1!$G$11:$L$25,6),IF(AND(H78>1994,H78<1998),VLOOKUP(I78,Feuil1!$G$11:$L$25,5),IF(AND(H78>1997,H78<2000),VLOOKUP(I78,Feuil1!$G$11:$L$25,4),IF(AND(H78>1999,H78<2002),VLOOKUP(I78,Feuil1!$G$11:$L$25,3),VLOOKUP(I78,Feuil1!$G$11:$L$25,2)))))))","v":"J62"},297.3944631124582,null," ",{"$f":"T78-HLOOKUP(X78,Feuil1!$C$1:$BL$10,2,FALSE)","v":113},{"$f":"T78-HLOOKUP(X78,Feuil1!$C$1:$BL$10,3,FALSE)","v":83},{"$f":"T78-HLOOKUP(X78,Feuil1!$C$1:$BL$10,4,FALSE)","v":68},{"$f":"T78-HLOOKUP(X78,Feuil1!$C$1:$BL$10,5,FALSE)","v":53},{"$f":"T78-HLOOKUP(X78,Feuil1!$C$1:$BL$10,6,FALSE)","v":33},{"$f":"T78-HLOOKUP(X78,Feuil1!$C$1:$BL$10,7,FALSE)","v":13},{"$f":"T78-HLOOKUP(X78,Feuil1!$C$1:$BL$10,8,FALSE)","v":-7},{"$f":"T78-HLOOKUP(X78,Feuil1!$C$1:$BL$10,9,FALSE)","v":-27},{"$f":"T78-HLOOKUP(X78,Feuil1!$C$1:$BL$10,10,FALSE)","v":-797},null,null,null,null,null,null,"NAT +"]
["H","SEST","CAZ",3,310069,"JULLIEN","Gabriel",1995,60.1,"ASLDD. TOULON","F",75,78,80,80,95,100,-102,100,180,59.8,"FED +",10,{"$f":"IF(I79=\"\",\"\",IF(A79=\"H\",IF(OR(H79=\"SEN\",H79<1995),VLOOKUP(I79,Feuil1!$A$11:$F$29,6),IF(AND(H79>1994,H79<1998),VLOOKUP(I79,Feuil1!$A$11:$F$29,5),IF(AND(H79>1997,H79<2000),VLOOKUP(I79,Feuil1!$A$11:$F$29,4),IF(AND(H79>1999,H79<2002),VLOOKUP(I79,Feuil1!$A$11:$F$29,3),VLOOKUP(I79,Feuil1!$A$11:$F$29,2))))),IF(OR(H79=\"SEN\",H79<1995),VLOOKUP(I79,Feuil1!$G$11:$L$25,6),IF(AND(H79>1994,H79<1998),VLOOKUP(I79,Feuil1!$G$11:$L$25,5),IF(AND(H79>1997,H79<2000),VLOOKUP(I79,Feuil1!$G$11:$L$25,4),IF(AND(H79>1999,H79<2002),VLOOKUP(I79,Feuil1!$G$11:$L$25,3),VLOOKUP(I79,Feuil1!$G$11:$L$25,2)))))))","v":"J62"},266.25898692384987,null," ",{"$f":"T79-HLOOKUP(X79,Feuil1!$C$1:$BL$10,2,FALSE)","v":90},{"$f":"T79-HLOOKUP(X79,Feuil1!$C$1:$BL$10,3,FALSE)","v":60},{"$f":"T79-HLOOKUP(X79,Feuil1!$C$1:$BL$10,4,FALSE)","v":45},{"$f":"T79-HLOOKUP(X79,Feuil1!$C$1:$BL$10,5,FALSE)","v":30},{"$f":"T79-HLOOKUP(X79,Feuil1!$C$1:$BL$10,6,FALSE)","v":10},{"$f":"T79-HLOOKUP(X79,Feuil1!$C$1:$BL$10,7,FALSE)","v":-10},{"$f":"T79-HLOOKUP(X79,Feuil1!$C$1:$BL$10,8,FALSE)","v":-30},{"$f":"T79-HLOOKUP(X79,Feuil1!$C$1:$BL$10,9,FALSE)","v":-50},{"$f":"T79-HLOOKUP(X79,Feuil1!$C$1:$BL$10,10,FALSE)","v":-820},null,null,null,null,null,null,"FED +"]
["H","SEST","RAL",4,222418,"BAILLET ","Valentin",1997,60.1,"H.C. ST BALDOPH","F",77,-81,81,81,-96,96,-101,96,177,56.8,"FED +",7,{"$f":"IF(I80=\"\",\"\",IF(A80=\"H\",IF(OR(H80=\"SEN\",H80<1995),VLOOKUP(I80,Feuil1!$A$11:$F$29,6),IF(AND(H80>1994,H80<1998),VLOOKUP(I80,Feuil1!$A$11:$F$29,5),IF(AND(H80>1997,H80<2000),VLOOKUP(I80,Feuil1!$A$11:$F$29,4),IF(AND(H80>1999,H80<2002),VLOOKUP(I80,Feuil1!$A$11:$F$29,3),VLOOKUP(I80,Feuil1!$A$11:$F$29,2))))),IF(OR(H80=\"SEN\",H80<1995),VLOOKUP(I80,Feuil1!$G$11:$L$25,6),IF(AND(H80>1994,H80<1998),VLOOKUP(I80,Feuil1!$G$11:$L$25,5),IF(AND(H80>1997,H80<2000),VLOOKUP(I80,Feuil1!$G$11:$L$25,4),IF(AND(H80>1999,H80<2002),VLOOKUP(I80,Feuil1!$G$11:$L$25,3),VLOOKUP(I80,Feuil1!$G$11:$L$25,2)))))))","v":"J62"},261.8213371417857,null," ",{"$f":"T80-HLOOKUP(X80,Feuil1!$C$1:$BL$10,2,FALSE)","v":87},{"$f":"T80-HLOOKUP(X80,Feuil1!$C$1:$BL$10,3,FALSE)","v":57},{"$f":"T80-HLOOKUP(X80,Feuil1!$C$1:$BL$10,4,FALSE)","v":42},{"$f":"T80-HLOOKUP(X80,Feuil1!$C$1:$BL$10,5,FALSE)","v":27},{"$f":"T80-HLOOKUP(X80,Feuil1!$C$1:$BL$10,6,FALSE)","v":7},{"$f":"T80-HLOOKUP(X80,Feuil1!$C$1:$BL$10,7,FALSE)","v":-13},{"$f":"T80-HLOOKUP(X80,Feuil1!$C$1:$BL$10,8,FALSE)","v":-33},{"$f":"T80-HLOOKUP(X80,Feuil1!$C$1:$BL$10,9,FALSE)","v":-53},{"$f":"T80-HLOOKUP(X80,Feuil1!$C$1:$BL$10,10,FALSE)","v":-823},null,null,null,null,null,null,"FED +"]
["H","Nord","NPC",5,359842,"REMBAUVILLE","Paul",1997,61.95,"CA Rosendael","F",75,-79,79,79,87,91,-94,91,170,46.099999999999994,"FED +",0,{"$f":"IF(I81=\"\",\"\",IF(A81=\"H\",IF(OR(H81=\"SEN\",H81<1995),VLOOKUP(I81,Feuil1!$A$11:$F$29,6),IF(AND(H81>1994,H81<1998),VLOOKUP(I81,Feuil1!$A$11:$F$29,5),IF(AND(H81>1997,H81<2000),VLOOKUP(I81,Feuil1!$A$11:$F$29,4),IF(AND(H81>1999,H81<2002),VLOOKUP(I81,Feuil1!$A$11:$F$29,3),VLOOKUP(I81,Feuil1!$A$11:$F$29,2))))),IF(OR(H81=\"SEN\",H81<1995),VLOOKUP(I81,Feuil1!$G$11:$L$25,6),IF(AND(H81>1994,H81<1998),VLOOKUP(I81,Feuil1!$G$11:$L$25,5),IF(AND(H81>1997,H81<2000),VLOOKUP(I81,Feuil1!$G$11:$L$25,4),IF(AND(H81>1999,H81<2002),VLOOKUP(I81,Feuil1!$G$11:$L$25,3),VLOOKUP(I81,Feuil1!$G$11:$L$25,2)))))))","v":"J62"},246.00301273747965,null," ",{"$f":"T81-HLOOKUP(X81,Feuil1!$C$1:$BL$10,2,FALSE)","v":80},{"$f":"T81-HLOOKUP(X81,Feuil1!$C$1:$BL$10,3,FALSE)","v":50},{"$f":"T81-HLOOKUP(X81,Feuil1!$C$1:$BL$10,4,FALSE)","v":35},{"$f":"T81-HLOOKUP(X81,Feuil1!$C$1:$BL$10,5,FALSE)","v":20},{"$f":"T81-HLOOKUP(X81,Feuil1!$C$1:$BL$10,6,FALSE)","v":0},{"$f":"T81-HLOOKUP(X81,Feuil1!$C$1:$BL$10,7,FALSE)","v":-20},{"$f":"T81-HLOOKUP(X81,Feuil1!$C$1:$BL$10,8,FALSE)","v":-40},{"$f":"T81-HLOOKUP(X81,Feuil1!$C$1:$BL$10,9,FALSE)","v":-60},{"$f":"T81-HLOOKUP(X81,Feuil1!$C$1:$BL$10,10,FALSE)","v":-830},null,null,null,null,null,null,"FED +"]
["H","SO","AQ",6,263946,"LECOMTE","Ewen",1997,58.6,"ST MEDARD EN JALLES EA","F",60,65,70,70,80,85,90,90,160,42.8,"IRG +",10,{"$f":"IF(I82=\"\",\"\",IF(A82=\"H\",IF(OR(H82=\"SEN\",H82<1995),VLOOKUP(I82,Feuil1!$A$11:$F$29,6),IF(AND(H82>1994,H82<1998),VLOOKUP(I82,Feuil1!$A$11:$F$29,5),IF(AND(H82>1997,H82<2000),VLOOKUP(I82,Feuil1!$A$11:$F$29,4),IF(AND(H82>1999,H82<2002),VLOOKUP(I82,Feuil1!$A$11:$F$29,3),VLOOKUP(I82,Feuil1!$A$11:$F$29,2))))),IF(OR(H82=\"SEN\",H82<1995),VLOOKUP(I82,Feuil1!$G$11:$L$25,6),IF(AND(H82>1994,H82<1998),VLOOKUP(I82,Feuil1!$G$11:$L$25,5),IF(AND(H82>1997,H82<2000),VLOOKUP(I82,Feuil1!$G$11:$L$25,4),IF(AND(H82>1999,H82<2002),VLOOKUP(I82,Feuil1!$G$11:$L$25,3),VLOOKUP(I82,Feuil1!$G$11:$L$25,2)))))))","v":"J62"},241.1658166813562,null," ",{"$f":"T82-HLOOKUP(X82,Feuil1!$C$1:$BL$10,2,FALSE)","v":70},{"$f":"T82-HLOOKUP(X82,Feuil1!$C$1:$BL$10,3,FALSE)","v":40},{"$f":"T82-HLOOKUP(X82,Feuil1!$C$1:$BL$10,4,FALSE)","v":25},{"$f":"T82-HLOOKUP(X82,Feuil1!$C$1:$BL$10,5,FALSE)","v":10},{"$f":"T82-HLOOKUP(X82,Feuil1!$C$1:$BL$10,6,FALSE)","v":-10},{"$f":"T82-HLOOKUP(X82,Feuil1!$C$1:$BL$10,7,FALSE)","v":-30},{"$f":"T82-HLOOKUP(X82,Feuil1!$C$1:$BL$10,8,FALSE)","v":-50},{"$f":"T82-HLOOKUP(X82,Feuil1!$C$1:$BL$10,9,FALSE)","v":-70},{"$f":"T82-HLOOKUP(X82,Feuil1!$C$1:$BL$10,10,FALSE)","v":-840},null,null,null,null,null,null,"IRG +"]
[null,null,null,null,null,null,null,null,null,null,null,null,null,null,null,null,null,null,null,null," ",null,null,null,null,null,null,{"$f":"T83-HLOOKUP(X83,Feuil1!$C$1:$BL$10,2,FALSE)","v":{"$error":"#N/A"}},{"$f":"T83-HLOOKUP(X83,Feuil1!$C$1:$BL$10,3,FALSE)","v":{"$error":"#N/A"}},{"$f":"T83-HLOOKUP(X83,Feuil1!$C$1:$BL$10,4,FALSE)","v":{"$error":"#N/A"}},{"$f":"T83-HLOOKUP(X83,Feuil1!$C$1:$BL$10,5,FALSE)","v":{"$error":"#N/A"}},{"$f":"T83-HLOOKUP(X83,Feuil1!$C$1:$BL$10,6,FALSE)","v":{"$error":"#N/A"}},{"$f":"T83-HLOOKUP(X83,Feuil1!$C$1:$BL$10,7,FALSE)","v":{"$error":"#N/A"}},{"$f":"T83-HLOOKUP(X83,Feuil1!$C$1:$BL$10,8,FALSE)","v":{"$error":"#N/A"}},{"$f":"T83-HLOOKUP(X83,Feuil1!$C$1:$BL$10,9,FALSE)","v":{"$error":"#N/A"}},{"$f":"T83-HLOOKUP(X83,Feuil1!$C$1:$BL$10,10,FALSE)","v":{"$error":"#N/A"}}]
["H","ZCO","BRE",1,247499,"BOUGET","Alexandre",1996,68.7,"CHM Plouhinec PR","F",98,-102,102,{"$f":"IF(H84=\"\",\"\",IF(MAXA(L84:N84)<=0,0,MAXA(L84:N84)))","v":102},120,125,-128,{"$f":"IF(H84=\"\",\"\",IF(MAXA(P84:R84)<=0,0,MAXA(P84:R84)))","v":125},{"$f":"IF(H84=\"\",\"\",IF(OR(O84=0,S84=0),0,O84+S84))","v":227},89.6,{"$f":"IF(H84=\"\",\"\",AQ84)","v":"NAT +"},{"$f":"IF(AJ84>=0,AJ84,IF(AI84>=0,AI84,IF(AH84>=0,AH84,IF(AG84>=0,AG84,IF(AF84>=0,AF84,IF(AE84>=0,AE84,IF(AD84>=0,AD84,IF(AC84>=0,AC84,AB84))))))))","v":7},{"$f":"IF(I84=\"\",\"\",IF(A84=\"H\",IF(OR(H84=\"SEN\",H84<1995),VLOOKUP(I84,Feuil1!$A$11:$F$29,6),IF(AND(H84>1994,H84<1998),VLOOKUP(I84,Feuil1!$A$11:$F$29,5),IF(AND(H84>1997,H84<2000),VLOOKUP(I84,Feuil1!$A$11:$F$29,4),IF(AND(H84>1999,H84<2002),VLOOKUP(I84,Feuil1!$A$11:$F$29,3),VLOOKUP(I84,Feuil1!$A$11:$F$29,2))))),IF(OR(H84=\"SEN\",H84<1995),VLOOKUP(I84,Feuil1!$G$11:$L$25,6),IF(AND(H84>1994,H84<1998),VLOOKUP(I84,Feuil1!$G$11:$L$25,5),IF(AND(H84>1997,H84<2000),VLOOKUP(I84,Feuil1!$G$11:$L$25,4),IF(AND(H84>1999,H84<2002),VLOOKUP(I84,Feuil1!$G$11:$L$25,3),VLOOKUP(I84,Feuil1!$G$11:$L$25,2)))))))","v":"J69"},{"$f":"IF(I84=\"\",\"\",IF(A84=\"H\",10^(0.794358141*LOG(I84/174.393)^2)*T84,IF(A84=\"F\",10^(0.89726074*LOG(I84/148.026)^2)*T84,\"\")))","v":306.22836035536227},null," ",{"$f":"T84-HLOOKUP(X84,Feuil1!$C$1:$BL$10,2,FALSE)","v":117},{"$f":"T84-HLOOKUP(X84,Feuil1!$C$1:$BL$10,3,FALSE)","v":97},{"$f":"T84-HLOOKUP(X84,Feuil1!$C$1:$BL$10,4,FALSE)","v":77},{"$f":"T84-HLOOKUP(X84,Feuil1!$C$1:$BL$10,5,FALSE)","v":57},{"$f":"T84-HLOOKUP(X84,Feuil1!$C$1:$BL$10,6,FALSE)","v":37},{"$f":"T84-HLOOKUP(X84,Feuil1!$C$1:$BL$10,7,FALSE)","v":7},{"$f":"T84-HLOOKUP(X84,Feuil1!$C$1:$BL$10,8,FALSE)","v":-13},{"$f":"T84-HLOOKUP(X84,Feuil1!$C$1:$BL$10,9,FALSE)","v":-23},{"$f":"T84-HLOOKUP(X84,Feuil1!$C$1:$BL$10,10,FALSE)","v":-773},null,null,null,null,null,null,{"$f":"IF(AJ84>=0,$AJ$4,IF(AI84>=0,$AI$4,IF(AH84>=0,$AH$4,IF(AG84>=0,$AG$4,IF(AF84>=0,$AF$4,IF(AE84>=0,$AE$4,IF(AD84>=0,$AD$4,IF(AC84>=0,$AC$4,$AB$4))))))))","v":"NAT +"}]
["H","NEST","FCO",2,258286,"DASILVA","Luka",1997,68.3,"Française BESANCON","F",97,102,-105,102,114,118,-122,118,220,83.4,"NAT +",0,{"$f":"IF(I85=\"\",\"\",IF(A85=\"H\",IF(OR(H85=\"SEN\",H85<1995),VLOOKUP(I85,Feuil1!$A$11:$F$29,6),IF(AND(H85>1994,H85<1998),VLOOKUP(I85,Feuil1!$A$11:$F$29,5),IF(AND(H85>1997,H85<2000),VLOOKUP(I85,Feuil1!$A$11:$F$29,4),IF(AND(H85>1999,H85<2002),VLOOKUP(I85,Feuil1!$A$11:$F$29,3),VLOOKUP(I85,Feuil1!$A$11:$F$29,2))))),IF(OR(H85=\"SEN\",H85<1995),VLOOKUP(I85,Feuil1!$G$11:$L$25,6),IF(AND(H85>1994,H85<1998),VLOOKUP(I85,Feuil1!$G$11:$L$25,5),IF(AND(H85>1997,H85<2000),VLOOKUP(I85,Feuil1!$G$11:$L$25,4),IF(AND(H85>1999,H85<2002),VLOOKUP(I85,Feuil1!$G$11:$L$25,3),VLOOKUP(I85,Feuil1!$G$11:$L$25,2)))))))","v":"J69"},297.90471610610479,null," ",{"$f":"T85-HLOOKUP(X85,Feuil1!$C$1:$BL$10,2,FALSE)","v":110},{"$f":"T85-HLOOKUP(X85,Feuil1!$C$1:$BL$10,3,FALSE)","v":90},{"$f":"T85-HLOOKUP(X85,Feuil1!$C$1:$BL$10,4,FALSE)","v":70},{"$f":"T85-HLOOKUP(X85,Feuil1!$C$1:$BL$10,5,FALSE)","v":50},{"$f":"T85-HLOOKUP(X85,Feuil1!$C$1:$BL$10,6,FALSE)","v":30},{"$f":"T85-HLOOKUP(X85,Feuil1!$C$1:$BL$10,7,FALSE)","v":0},{"$f":"T85-HLOOKUP(X85,Feuil1!$C$1:$BL$10,8,FALSE)","v":-20},{"$f":"T85-HLOOKUP(X85,Feuil1!$C$1:$BL$10,9,FALSE)","v":-30},{"$f":"T85-HLOOKUP(X85,Feuil1!$C$1:$BL$10,10,FALSE)","v":-780},null,null,null,null,null,null,"NAT +"]
["H","Nord","NPC",3,225360,"PAPEGAY","Florian",1995,66.260000000000005,"St Pol sur Mer","F",-90,90,-95,90,115,120,"-",120,210,77.47999999999999,"FED +",20,{"$f":"IF(I86=\"\",\"\",IF(A86=\"H\",IF(OR(H86=\"SEN\",H86<1995),VLOOKUP(I86,Feuil1!$A$11:$F$29,6),IF(AND(H86>1994,H86<1998),VLOOKUP(I86,Feuil1!$A$11:$F$29,5),IF(AND(H86>1997,H86<2000),VLOOKUP(I86,Feuil1!$A$11:$F$29,4),IF(AND(H86>1999,H86<2002),VLOOKUP(I86,Feuil1!$A$11:$F$29,3),VLOOKUP(I86,Feuil1!$A$11:$F$29,2))))),IF(OR(H86=\"SEN\",H86<1995),VLOOKUP(I86,Feuil1!$G$11:$L$25,6),IF(AND(H86>1994,H86<1998),VLOOKUP(I86,Feuil1!$G$11:$L$25,5),IF(AND(H86>1997,H86<2000),VLOOKUP(I86,Feuil1!$G$11:$L$25,4),IF(AND(H86>1999,H86<2002),VLOOKUP(I86,Feuil1!$G$11:$L$25,3),VLOOKUP(I86,Feuil1!$G$11:$L$25,2)))))))","v":"J69"},290.08774034386721,null," ",{"$f":"T86-HLOOKUP(X86,Feuil1!$C$1:$BL$10,2,FALSE)","v":100},{"$f":"T86-HLOOKUP(X86,Feuil1!$C$1:$BL$10,3,FALSE)","v":80},{"$f":"T86-HLOOKUP(X86,Feuil1!$C$1:$BL$10,4,FALSE)","v":60},{"$f":"T86-HLOOKUP(X86,Feuil1!$C$1:$BL$10,5,FALSE)","v":40},{"$f":"T86-HLOOKUP(X86,Feuil1!$C$1:$BL$10,6,FALSE)","v":20},{"$f":"T86-HLOOKUP(X86,Feuil1!$C$1:$BL$10,7,FALSE)","v":-10},{"$f":"T86-HLOOKUP(X86,Feuil1!$C$1:$BL$10,8,FALSE)","v":-30},{"$f":"T86-HLOOKUP(X86,Feuil1!$C$1:$BL$10,9,FALSE)","v":-40},{"$f":"T86-HLOOKUP(X86,Feuil1!$C$1:$BL$10,10,FALSE)","v":-790},null,null,null,null,null,null,"FED +"]
["H","NE","FCO",4,"268097","BOYRAZ","Gokan",1995,67.599999999999994,"CH LUXEUIL","F",91,95,-98,95,110,115,-120,115,210,74.800000000000011,"FED +",20,{"$f":"IF(I87=\"\",\"\",IF(A87=\"H\",IF(OR(H87=\"SEN\",H87<1995),VLOOKUP(I87,Feuil1!$A$11:$F$29,6),IF(AND(H87>1994,H87<1998),VLOOKUP(I87,Feuil1!$A$11:$F$29,5),IF(AND(H87>1997,H87<2000),VLOOKUP(I87,Feuil1!$A$11:$F$29,4),IF(AND(H87>1999,H87<2002),VLOOKUP(I87,Feuil1!$A$11:$F$29,3),VLOOKUP(I87,Feuil1!$A$11:$F$29,2))))),IF(OR(H87=\"SEN\",H87<1995),VLOOKUP(I87,Feuil1!$G$11:$L$25,6),IF(AND(H87>1994,H87<1998),VLOOKUP(I87,Feuil1!$G$11:$L$25,5),IF(AND(H87>1997,H87<2000),VLOOKUP(I87,Feuil1!$G$11:$L$25,4),IF(AND(H87>1999,H87<2002),VLOOKUP(I87,Feuil1!$G$11:$L$25,3),VLOOKUP(I87,Feuil1!$G$11:$L$25,2)))))))","v":"J69"},286.27510993342298,null," ",{"$f":"T87-HLOOKUP(X87,Feuil1!$C$1:$BL$10,2,FALSE)","v":100},{"$f":"T87-HLOOKUP(X87,Feuil1!$C$1:$BL$10,3,FALSE)","v":80},{"$f":"T87-HLOOKUP(X87,Feuil1!$C$1:$BL$10,4,FALSE)","v":60},{"$f":"T87-HLOOKUP(X87,Feuil1!$C$1:$BL$10,5,FALSE)","v":40},{"$f":"T87-HLOOKUP(X87,Feuil1!$C$1:$BL$10,6,FALSE)","v":20},{"$f":"T87-HLOOKUP(X87,Feuil1!$C$1:$BL$10,7,FALSE)","v":-10},{"$f":"T87-HLOOKUP(X87,Feuil1!$C$1:$BL$10,8,FALSE)","v":-30},{"$f":"T87-HLOOKUP(X87,Feuil1!$C$1:$BL$10,9,FALSE)","v":-40},{"$f":"T87-HLOOKUP(X87,Feuil1!$C$1:$BL$10,10,FALSE)","v":-790},null,null,null,null,null,null,"FED +"]
["H","Nord","IDF",5,335580,"FARDEL","Marvin",1996,68.2,"Franconville","F",91,96,100,100,110,-115,-120,110,210,73.599999999999994,"FED +",20,{"$f":"IF(I88=\"\",\"\",IF(A88=\"H\",IF(OR(H88=\"SEN\",H88<1995),VLOOKUP(I88,Feuil1!$A$11:$F$29,6),IF(AND(H88>1994,H88<1998),VLOOKUP(I88,Feuil1!$A$11:$F$29,5),IF(AND(H88>1997,H88<2000),VLOOKUP(I88,Feuil1!$A$11:$F$29,4),IF(AND(H88>1999,H88<2002),VLOOKUP(I88,Feuil1!$A$11:$F$29,3),VLOOKUP(I88,Feuil1!$A$11:$F$29,2))))),IF(OR(H88=\"SEN\",H88<1995),VLOOKUP(I88,Feuil1!$G$11:$L$25,6),IF(AND(H88>1994,H88<1998),VLOOKUP(I88,Feuil1!$G$11:$L$25,5),IF(AND(H88>1997,H88<2000),VLOOKUP(I88,Feuil1!$G$11:$L$25,4),IF(AND(H88>1999,H88<2002),VLOOKUP(I88,Feuil1!$G$11:$L$25,3),VLOOKUP(I88,Feuil1!$G$11:$L$25,2)))))))","v":"J69"},284.63341194200001,null," ",{"$f":"T88-HLOOKUP(X88,Feuil1!$C$1:$BL$10,2,FALSE)","v":100},{"$f":"T88-HLOOKUP(X88,Feuil1!$C$1:$BL$10,3,FALSE)","v":80},{"$f":"T88-HLOOKUP(X88,Feuil1!$C$1:$BL$10,4,FALSE)","v":60},{"$f":"T88-HLOOKUP(X88,Feuil1!$C$1:$BL$10,5,FALSE)","v":40},{"$f":"T88-HLOOKUP(X88,Feuil1!$C$1:$BL$10,6,FALSE)","v":20},{"$f":"T88-HLOOKUP(X88,Feuil1!$C$1:$BL$10,7,FALSE)","v":-10},{"$f":"T88-HLOOKUP(X88,Feuil1!$C$1:$BL$10,8,FALSE)","v":-30},{"$f":"T88-HLOOKUP(X88,Feuil1!$C$1:$BL$10,9,FALSE)","v":-40},{"$f":"T88-HLOOKUP(X88,Feuil1!$C$1:$BL$10,10,FALSE)","v":-790},null,null,null,null,null,null,"FED +"]
["H","Nord","IDF",6,320289,"JILL","Paul",1996,65.28,"SC Neuilly","F",80,85,-90,85,110,115,120,120,205,74.44,"FED +",15,{"$f":"IF(I89=\"\",\"\",IF(A89=\"H\",IF(OR(H89=\"SEN\",H89<1995),VLOOKUP(I89,Feuil1!$A$11:$F$29,6),IF(AND(H89>1994,H89<1998),VLOOKUP(I89,Feuil1!$A$11:$F$29,5),IF(AND(H89>1997,H89<2000),VLOOKUP(I89,Feuil1!$A$11:$F$29,4),IF(AND(H89>1999,H89<2002),VLOOKUP(I89,Feuil1!$A$11:$F$29,3),VLOOKUP(I89,Feuil1!$A$11:$F$29,2))))),IF(OR(H89=\"SEN\",H89<1995),VLOOKUP(I89,Feuil1!$G$11:$L$25,6),IF(AND(H89>1994,H89<1998),VLOOKUP(I89,Feuil1!$G$11:$L$25,5),IF(AND(H89>1997,H89<2000),VLOOKUP(I89,Feuil1!$G$11:$L$25,4),IF(AND(H89>1999,H89<2002),VLOOKUP(I89,Feuil1!$G$11:$L$25,3),VLOOKUP(I89,Feuil1!$G$11:$L$25,2)))))))","v":"J69"},286.03428813103045,null," ",{"$f":"T89-HLOOKUP(X89,Feuil1!$C$1:$BL$10,2,FALSE)","v":95},{"$f":"T89-HLOOKUP(X89,Feuil1!$C$1:$BL$10,3,FALSE)","v":75},{"$f":"T89-HLOOKUP(X89,Feuil1!$C$1:$BL$10,4,FALSE)","v":55},{"$f":"T89-HLOOKUP(X89,Feuil1!$C$1:$BL$10,5,FALSE)","v":35},{"$f":"T89-HLOOKUP(X89,Feuil1!$C$1:$BL$10,6,FALSE)","v":15},{"$f":"T89-HLOOKUP(X89,Feuil1!$C$1:$BL$10,7,FALSE)","v":-15},{"$f":"T89-HLOOKUP(X89,Feuil1!$C$1:$BL$10,8,FALSE)","v":-35},{"$f":"T89-HLOOKUP(X89,Feuil1!$C$1:$BL$10,9,FALSE)","v":-45},{"$f":"T89-HLOOKUP(X89,Feuil1!$C$1:$BL$10,10,FALSE)","v":-795},null,null,null,null,null,null,"FED +"]
["H","Nord","NPC",7,265172,"SCHOLAERT","Thomas",1996,65,"Ol Grande-Synthe","F",80,85,88,88,102,108,110,110,198,68,"FED +",8,{"$f":"IF(I90=\"\",\"\",IF(A90=\"H\",IF(OR(H90=\"SEN\",H90<1995),VLOOKUP(I90,Feuil1!$A$11:$F$29,6),IF(AND(H90>1994,H90<1998),VLOOKUP(I90,Feuil1!$A$11:$F$29,5),IF(AND(H90>1997,H90<2000),VLOOKUP(I90,Feuil1!$A$11:$F$29,4),IF(AND(H90>1999,H90<2002),VLOOKUP(I90,Feuil1!$A$11:$F$29,3),VLOOKUP(I90,Feuil1!$A$11:$F$29,2))))),IF(OR(H90=\"SEN\",H90<1995),VLOOKUP(I90,Feuil1!$G$11:$L$25,6),IF(AND(H90>1994,H90<1998),VLOOKUP(I90,Feuil1!$G$11:$L$25,5),IF(AND(H90>1997,H90<2000),VLOOKUP(I90,Feuil1!$G$11:$L$25,4),IF(AND(H90>1999,H90<2002),VLOOKUP(I90,Feuil1!$G$11:$L$25,3),VLOOKUP(I90,Feuil1!$G$11:$L$25,2)))))))","v":"J69"},277.07532132828987,null," ",{"$f":"T90-HLOOKUP(X90,Feuil1!$C$1:$BL$10,2,FALSE)","v":88},{"$f":"T90-HLOOKUP(X90,Feuil1!$C$1:$BL$10,3,FALSE)","v":68},{"$f":"T90-HLOOKUP(X90,Feuil1!$C$1:$BL$10,4,FALSE)","v":48},{"$f":"T90-HLOOKUP(X90,Feuil1!$C$1:$BL$10,5,FALSE)","v":28},{"$f":"T90-HLOOKUP(X90,Feuil1!$C$1:$BL$10,6,FALSE)","v":8},{"$f":"T90-HLOOKUP(X90,Feuil1!$C$1:$BL$10,7,FALSE)","v":-22},{"$f":"T90-HLOOKUP(X90,Feuil1!$C$1:$BL$10,8,FALSE)","v":-42},{"$f":"T90-HLOOKUP(X90,Feuil1!$C$1:$BL$10,9,FALSE)","v":-52},{"$f":"T90-HLOOKUP(X90,Feuil1!$C$1:$BL$10,10,FALSE)","v":-802},null,null,null,null,null,null,"FED +"]
["H","ZCO","BNO",8,169489,"COISNARD","José",1995,67.099999999999994,"Caen CHM","F",-85,85,-90,85,100,105,110,110,195,60.800000000000011,"FED +",5,{"$f":"IF(I91=\"\",\"\",IF(A91=\"H\",IF(OR(H91=\"SEN\",H91<1995),VLOOKUP(I91,Feuil1!$A$11:$F$29,6),IF(AND(H91>1994,H91<1998),VLOOKUP(I91,Feuil1!$A$11:$F$29,5),IF(AND(H91>1997,H91<2000),VLOOKUP(I91,Feuil1!$A$11:$F$29,4),IF(AND(H91>1999,H91<2002),VLOOKUP(I91,Feuil1!$A$11:$F$29,3),VLOOKUP(I91,Feuil1!$A$11:$F$29,2))))),IF(OR(H91=\"SEN\",H91<1995),VLOOKUP(I91,Feuil1!$G$11:$L$25,6),IF(AND(H91>1994,H91<1998),VLOOKUP(I91,Feuil1!$G$11:$L$25,5),IF(AND(H91>1997,H91<2000),VLOOKUP(I91,Feuil1!$G$11:$L$25,4),IF(AND(H91>1999,H91<2002),VLOOKUP(I91,Feuil1!$G$11:$L$25,3),VLOOKUP(I91,Feuil1!$G$11:$L$25,2)))))))","v":"J69"},267.12553984289536,null," ",{"$f":"T91-HLOOKUP(X91,Feuil1!$C$1:$BL$10,2,FALSE)","v":85},{"$f":"T91-HLOOKUP(X91,Feuil1!$C$1:$BL$10,3,FALSE)","v":65},{"$f":"T91-HLOOKUP(X91,Feuil1!$C$1:$BL$10,4,FALSE)","v":45},{"$f":"T91-HLOOKUP(X91,Feuil1!$C$1:$BL$10,5,FALSE)","v":25},{"$f":"T91-HLOOKUP(X91,Feuil1!$C$1:$BL$10,6,FALSE)","v":5},{"$f":"T91-HLOOKUP(X91,Feuil1!$C$1:$BL$10,7,FALSE)","v":-25},{"$f":"T91-HLOOKUP(X91,Feuil1!$C$1:$BL$10,8,FALSE)","v":-45},{"$f":"T91-HLOOKUP(X91,Feuil1!$C$1:$BL$10,9,FALSE)","v":-55},{"$f":"T91-HLOOKUP(X91,Feuil1!$C$1:$BL$10,10,FALSE)","v":-805},null,null,null,null,null,null,"FED +"]
["H","SO","MPY",9,226978,"LICCIARDI","Kévin",1995,68.900000000000006,"FIGEAC HC","F",80,-85,85,85,100,105,"-",105,190,52.199999999999989,"FED +",0,{"$f":"IF(I92=\"\",\"\",IF(A92=\"H\",IF(OR(H92=\"SEN\",H92<1995),VLOOKUP(I92,Feuil1!$A$11:$F$29,6),IF(AND(H92>1994,H92<1998),VLOOKUP(I92,Feuil1!$A$11:$F$29,5),IF(AND(H92>1997,H92<2000),VLOOKUP(I92,Feuil1!$A$11:$F$29,4),IF(AND(H92>1999,H92<2002),VLOOKUP(I92,Feuil1!$A$11:$F$29,3),VLOOKUP(I92,Feuil1!$A$11:$F$29,2))))),IF(OR(H92=\"SEN\",H92<1995),VLOOKUP(I92,Feuil1!$G$11:$L$25,6),IF(AND(H92>1994,H92<1998),VLOOKUP(I92,Feuil1!$G$11:$L$25,5),IF(AND(H92>1997,H92<2000),VLOOKUP(I92,Feuil1!$G$11:$L$25,4),IF(AND(H92>1999,H92<2002),VLOOKUP(I92,Feuil1!$G$11:$L$25,3),VLOOKUP(I92,Feuil1!$G$11:$L$25,2)))))))","v":"J69"},255.83676563552544,null," ",{"$f":"T92-HLOOKUP(X92,Feuil1!$C$1:$BL$10,2,FALSE)","v":80},{"$f":"T92-HLOOKUP(X92,Feuil1!$C$1:$BL$10,3,FALSE)","v":60},{"$f":"T92-HLOOKUP(X92,Feuil1!$C$1:$BL$10,4,FALSE)","v":40},{"$f":"T92-HLOOKUP(X92,Feuil1!$C$1:$BL$10,5,FALSE)","v":20},{"$f":"T92-HLOOKUP(X92,Feuil1!$C$1:$BL$10,6,FALSE)","v":0},{"$f":"T92-HLOOKUP(X92,Feuil1!$C$1:$BL$10,7,FALSE)","v":-30},{"$f":"T92-HLOOKUP(X92,Feuil1!$C$1:$BL$10,8,FALSE)","v":-50},{"$f":"T92-HLOOKUP(X92,Feuil1!$C$1:$BL$10,9,FALSE)","v":-60},{"$f":"T92-HLOOKUP(X92,Feuil1!$C$1:$BL$10,10,FALSE)","v":-810},null,null,null,null,null,null,"FED +"]
["H","NE","CHA",10,246843,"RENAUT ","Guillaume",1997,68,"Langres HM","F",73,76,78,78,100,-103,103,103,181,45,"IRG +",11,{"$f":"IF(I93=\"\",\"\",IF(A93=\"H\",IF(OR(H93=\"SEN\",H93<1995),VLOOKUP(I93,Feuil1!$A$11:$F$29,6),IF(AND(H93>1994,H93<1998),VLOOKUP(I93,Feuil1!$A$11:$F$29,5),IF(AND(H93>1997,H93<2000),VLOOKUP(I93,Feuil1!$A$11:$F$29,4),IF(AND(H93>1999,H93<2002),VLOOKUP(I93,Feuil1!$A$11:$F$29,3),VLOOKUP(I93,Feuil1!$A$11:$F$29,2))))),IF(OR(H93=\"SEN\",H93<1995),VLOOKUP(I93,Feuil1!$G$11:$L$25,6),IF(AND(H93>1994,H93<1998),VLOOKUP(I93,Feuil1!$G$11:$L$25,5),IF(AND(H93>1997,H93<2000),VLOOKUP(I93,Feuil1!$G$11:$L$25,4),IF(AND(H93>1999,H93<2002),VLOOKUP(I93,Feuil1!$G$11:$L$25,3),VLOOKUP(I93,Feuil1!$G$11:$L$25,2)))))))","v":"J69"},245.79479585042989,null," ",{"$f":"T93-HLOOKUP(X93,Feuil1!$C$1:$BL$10,2,FALSE)","v":71},{"$f":"T93-HLOOKUP(X93,Feuil1!$C$1:$BL$10,3,FALSE)","v":51},{"$f":"T93-HLOOKUP(X93,Feuil1!$C$1:$BL$10,4,FALSE)","v":31},{"$f":"T93-HLOOKUP(X93,Feuil1!$C$1:$BL$10,5,FALSE)","v":11},{"$f":"T93-HLOOKUP(X93,Feuil1!$C$1:$BL$10,6,FALSE)","v":-9},{"$f":"T93-HLOOKUP(X93,Feuil1!$C$1:$BL$10,7,FALSE)","v":-39},{"$f":"T93-HLOOKUP(X93,Feuil1!$C$1:$BL$10,8,FALSE)","v":-59},{"$f":"T93-HLOOKUP(X93,Feuil1!$C$1:$BL$10,9,FALSE)","v":-69},{"$f":"T93-HLOOKUP(X93,Feuil1!$C$1:$BL$10,10,FALSE)","v":-819},null,null,null,null,null,null,"IRG +"]
["H","NE","BOU",11,35831,"GRAILLOT","Steven",1997,68.599999999999994,"Stade Dijonnais HM","F",70,74,-77,74,95,100,105,105,179,41.800000000000011,"IRG +",9,{"$f":"IF(I94=\"\",\"\",IF(A94=\"H\",IF(OR(H94=\"SEN\",H94<1995),VLOOKUP(I94,Feuil1!$A$11:$F$29,6),IF(AND(H94>1994,H94<1998),VLOOKUP(I94,Feuil1!$A$11:$F$29,5),IF(AND(H94>1997,H94<2000),VLOOKUP(I94,Feuil1!$A$11:$F$29,4),IF(AND(H94>1999,H94<2002),VLOOKUP(I94,Feuil1!$A$11:$F$29,3),VLOOKUP(I94,Feuil1!$A$11:$F$29,2))))),IF(OR(H94=\"SEN\",H94<1995),VLOOKUP(I94,Feuil1!$G$11:$L$25,6),IF(AND(H94>1994,H94<1998),VLOOKUP(I94,Feuil1!$G$11:$L$25,5),IF(AND(H94>1997,H94<2000),VLOOKUP(I94,Feuil1!$G$11:$L$25,4),IF(AND(H94>1999,H94<2002),VLOOKUP(I94,Feuil1!$G$11:$L$25,3),VLOOKUP(I94,Feuil1!$G$11:$L$25,2)))))))","v":"J69"},241.70159618462341,null," ",{"$f":"T94-HLOOKUP(X94,Feuil1!$C$1:$BL$10,2,FALSE)","v":69},{"$f":"T94-HLOOKUP(X94,Feuil1!$C$1:$BL$10,3,FALSE)","v":49},{"$f":"T94-HLOOKUP(X94,Feuil1!$C$1:$BL$10,4,FALSE)","v":29},{"$f":"T94-HLOOKUP(X94,Feuil1!$C$1:$BL$10,5,FALSE)","v":9},{"$f":"T94-HLOOKUP(X94,Feuil1!$C$1:$BL$10,6,FALSE)","v":-11},{"$f":"T94-HLOOKUP(X94,Feuil1!$C$1:$BL$10,7,FALSE)","v":-41},{"$f":"T94-HLOOKUP(X94,Feuil1!$C$1:$BL$10,8,FALSE)","v":-61},{"$f":"T94-HLOOKUP(X94,Feuil1!$C$1:$BL$10,9,FALSE)","v":-71},{"$f":"T94-HLOOKUP(X94,Feuil1!$C$1:$BL$10,10,FALSE)","v":-821},null,null,null,null,null,null,"IRG +"]
[null,null,null,null,null,null,null,null,null,null,null,null,null,null,null,null,null,null,null,null," ",null,null,null,null,null,null,{"$f":"T95-HLOOKUP(X95,Feuil1!$C$1:$BL$10,2,FALSE)","v":{"$error":"#N/A"}},{"$f":"T95-HLOOKUP(X95,Feuil1!$C$1:$BL$10,3,FALSE)","v":{"$error":"#N/A"}},{"$f":"T95-HLOOKUP(X95,Feuil1!$C$1:$BL$10,4,FALSE)","v":{"$error":"#N/A"}},{"$f":"T95-HLOOKUP(X95,Feuil1!$C$1:$BL$10,5,FALSE)","v":{"$error":"#N/A"}},{"$f":"T95-HLOOKUP(X95,Feuil1!$C$1:$BL$10,6,FALSE)","v":{"$error":"#N/A"}},{"$f":"T95-HLOOKUP(X95,Feuil1!$C$1:$BL$10,7,FALSE)","v":{"$error":"#N/A"}},{"$f":"T95-HLOOKUP(X95,Feuil1!$C$1:$BL$10,8,FALSE)","v":{"$error":"#N/A"}},{"$f":"T95-HLOOKUP(X95,Feuil1!$C$1:$BL$10,9,FALSE)","v":{"$error":"#N/A"}},{"$f":"T95-HLOOKUP(X95,Feuil1!$C$1:$BL$10,10,FALSE)","v":{"$error":"#N/A"}}]
["H","NE","ALS",1,264848,"ELAFATI","Mehdi",1996,74.7,"ASPTT Strasbourg","F",105,110,115,{"$f":"IF(H96=\"\",\"\",IF(MAXA(L96:N96)<=0,0,MAXA(L96:N96)))","v":115},133,140,145,{"$f":"IF(H96=\"\",\"\",IF(MAXA(P96:R96)<=0,0,MAXA(P96:R96)))","v":145},{"$f":"IF(H96=\"\",\"\",IF(OR(O96=0,S96=0),0,O96+S96))","v":260},110.6,{"$f":"IF(H96=\"\",\"\",AQ96)","v":"INTB +"},{"$f":"IF(AJ96>=0,AJ96,IF(AI96>=0,AI96,IF(AH96>=0,AH96,IF(AG96>=0,AG96,IF(AF96>=0,AF96,IF(AE96>=0,AE96,IF(AD96>=0,AD96,IF(AC96>=0,AC96,AB96))))))))","v":0},{"$f":"IF(I96=\"\",\"\",IF(A96=\"H\",IF(OR(H96=\"SEN\",H96<1995),VLOOKUP(I96,Feuil1!$A$11:$F$29,6),IF(AND(H96>1994,H96<1998),VLOOKUP(I96,Feuil1!$A$11:$F$29,5),IF(AND(H96>1997,H96<2000),VLOOKUP(I96,Feuil1!$A$11:$F$29,4),IF(AND(H96>1999,H96<2002),VLOOKUP(I96,Feuil1!$A$11:$F$29,3),VLOOKUP(I96,Feuil1!$A$11:$F$29,2))))),IF(OR(H96=\"SEN\",H96<1995),VLOOKUP(I96,Feuil1!$G$11:$L$25,6),IF(AND(H96>1994,H96<1998),VLOOKUP(I96,Feuil1!$G$11:$L$25,5),IF(AND(H96>1997,H96<2000),VLOOKUP(I96,Feuil1!$G$11:$L$25,4),IF(AND(H96>1999,H96<2002),VLOOKUP(I96,Feuil1!$G$11:$L$25,3),VLOOKUP(I96,Feuil1!$G$11:$L$25,2)))))))","v":"J77"},{"$f":"IF(I96=\"\",\"\",IF(A96=\"H\",10^(0.794358141*LOG(I96/174.393)^2)*T96,IF(A96=\"F\",10^(0.89726074*LOG(I96/148.026)^2)*T96,\"\")))","v":333.17346640539051},null," ",{"$f":"T96-HLOOKUP(X96,Feuil1!$C$1:$BL$10,2,FALSE)","v":130},{"$f":"T96-HLOOKUP(X96,Feuil1!$C$1:$BL$10,3,FALSE)","v":110},{"$f":"T96-HLOOKUP(X96,Feuil1!$C$1:$BL$10,4,FALSE)","v":90},{"$f":"T96-HLOOKUP(X96,Feuil1!$C$1:$BL$10,5,FALSE)","v":70},{"$f":"T96-HLOOKUP(X96,Feuil1!$C$1:$BL$10,6,FALSE)","v":50},{"$f":"T96-HLOOKUP(X96,Feuil1!$C$1:$BL$10,7,FALSE)","v":20},{"$f":"T96-HLOOKUP(X96,Feuil1!$C$1:$BL$10,8,FALSE)","v":0},{"$f":"T96-HLOOKUP(X96,Feuil1!$C$1:$BL$10,9,FALSE)","v":-25},{"$f":"T96-HLOOKUP(X96,Feuil1!$C$1:$BL$10,10,FALSE)","v":-9740},null,null,null,null,null,null,{"$f":"IF(AJ96>=0,$AJ$4,IF(AI96>=0,$AI$4,IF(AH96>=0,$AH$4,IF(AG96>=0,$AG$4,IF(AF96>=0,$AF$4,IF(AE96>=0,$AE$4,IF(AD96>=0,$AD$4,IF(AC96>=0,$AC$4,$AB$4))))))))","v":"INTB +"}]
["H","SEST","CAZ",2,231902,"CINQUIN","Raphael",1995,76.3,"E.S. VILLENEUVE LOUBET","F",93,98,101,101,109,115,-120,115,216,63.400000000000006,"FED +",6,{"$f":"IF(I97=\"\",\"\",IF(A97=\"H\",IF(OR(H97=\"SEN\",H97<1995),VLOOKUP(I97,Feuil1!$A$11:$F$29,6),IF(AND(H97>1994,H97<1998),VLOOKUP(I97,Feuil1!$A$11:$F$29,5),IF(AND(H97>1997,H97<2000),VLOOKUP(I97,Feuil1!$A$11:$F$29,4),IF(AND(H97>1999,H97<2002),VLOOKUP(I97,Feuil1!$A$11:$F$29,3),VLOOKUP(I97,Feuil1!$A$11:$F$29,2))))),IF(OR(H97=\"SEN\",H97<1995),VLOOKUP(I97,Feuil1!$G$11:$L$25,6),IF(AND(H97>1994,H97<1998),VLOOKUP(I97,Feuil1!$G$11:$L$25,5),IF(AND(H97>1997,H97<2000),VLOOKUP(I97,Feuil1!$G$11:$L$25,4),IF(AND(H97>1999,H97<2002),VLOOKUP(I97,Feuil1!$G$11:$L$25,3),VLOOKUP(I97,Feuil1!$G$11:$L$25,2)))))))","v":"J77"},273.42233979979494,null," ",{"$f":"T97-HLOOKUP(X97,Feuil1!$C$1:$BL$10,2,FALSE)","v":86},{"$f":"T97-HLOOKUP(X97,Feuil1!$C$1:$BL$10,3,FALSE)","v":66},{"$f":"T97-HLOOKUP(X97,Feuil1!$C$1:$BL$10,4,FALSE)","v":46},{"$f":"T97-HLOOKUP(X97,Feuil1!$C$1:$BL$10,5,FALSE)","v":26},{"$f":"T97-HLOOKUP(X97,Feuil1!$C$1:$BL$10,6,FALSE)","v":6},{"$f":"T97-HLOOKUP(X97,Feuil1!$C$1:$BL$10,7,FALSE)","v":-24},{"$f":"T97-HLOOKUP(X97,Feuil1!$C$1:$BL$10,8,FALSE)","v":-44},{"$f":"T97-HLOOKUP(X97,Feuil1!$C$1:$BL$10,9,FALSE)","v":-69},{"$f":"T97-HLOOKUP(X97,Feuil1!$C$1:$BL$10,10,FALSE)","v":-9784},null,null,null,null,null,null,"FED +"]
["H","Nord","NPC",3,221209,"CAFFIN","Arthur",1996,74.75,"Ol Grande-Synthe","F",85,90,-95,90,115,120,125,125,215,65.5,"FED +",5,{"$f":"IF(I98=\"\",\"\",IF(A98=\"H\",IF(OR(H98=\"SEN\",H98<1995),VLOOKUP(I98,Feuil1!$A$11:$F$29,6),IF(AND(H98>1994,H98<1998),VLOOKUP(I98,Feuil1!$A$11:$F$29,5),IF(AND(H98>1997,H98<2000),VLOOKUP(I98,Feuil1!$A$11:$F$29,4),IF(AND(H98>1999,H98<2002),VLOOKUP(I98,Feuil1!$A$11:$F$29,3),VLOOKUP(I98,Feuil1!$A$11:$F$29,2))))),IF(OR(H98=\"SEN\",H98<1995),VLOOKUP(I98,Feuil1!$G$11:$L$25,6),IF(AND(H98>1994,H98<1998),VLOOKUP(I98,Feuil1!$G$11:$L$25,5),IF(AND(H98>1997,H98<2000),VLOOKUP(I98,Feuil1!$G$11:$L$25,4),IF(AND(H98>1999,H98<2002),VLOOKUP(I98,Feuil1!$G$11:$L$25,3),VLOOKUP(I98,Feuil1!$G$11:$L$25,2)))))))","v":"J77"},275.40105167154303,null," ",{"$f":"T98-HLOOKUP(X98,Feuil1!$C$1:$BL$10,2,FALSE)","v":85},{"$f":"T98-HLOOKUP(X98,Feuil1!$C$1:$BL$10,3,FALSE)","v":65},{"$f":"T98-HLOOKUP(X98,Feuil1!$C$1:$BL$10,4,FALSE)","v":45},{"$f":"T98-HLOOKUP(X98,Feuil1!$C$1:$BL$10,5,FALSE)","v":25},{"$f":"T98-HLOOKUP(X98,Feuil1!$C$1:$BL$10,6,FALSE)","v":5},{"$f":"T98-HLOOKUP(X98,Feuil1!$C$1:$BL$10,7,FALSE)","v":-25},{"$f":"T98-HLOOKUP(X98,Feuil1!$C$1:$BL$10,8,FALSE)","v":-45},{"$f":"T98-HLOOKUP(X98,Feuil1!$C$1:$BL$10,9,FALSE)","v":-70},{"$f":"T98-HLOOKUP(X98,Feuil1!$C$1:$BL$10,10,FALSE)","v":-9785},null,null,null,null,null,null,"FED +"]
["H","SO","MPY",4,227534,"DESTRUEL","Nicolas",1995,76.39,"FIGEAC HC","F",-95,95,-100,95,115,"-","-",115,210,57.22,"FED +",0,{"$f":"IF(I99=\"\",\"\",IF(A99=\"H\",IF(OR(H99=\"SEN\",H99<1995),VLOOKUP(I99,Feuil1!$A$11:$F$29,6),IF(AND(H99>1994,H99<1998),VLOOKUP(I99,Feuil1!$A$11:$F$29,5),IF(AND(H99>1997,H99<2000),VLOOKUP(I99,Feuil1!$A$11:$F$29,4),IF(AND(H99>1999,H99<2002),VLOOKUP(I99,Feuil1!$A$11:$F$29,3),VLOOKUP(I99,Feuil1!$A$11:$F$29,2))))),IF(OR(H99=\"SEN\",H99<1995),VLOOKUP(I99,Feuil1!$G$11:$L$25,6),IF(AND(H99>1994,H99<1998),VLOOKUP(I99,Feuil1!$G$11:$L$25,5),IF(AND(H99>1997,H99<2000),VLOOKUP(I99,Feuil1!$G$11:$L$25,4),IF(AND(H99>1999,H99<2002),VLOOKUP(I99,Feuil1!$G$11:$L$25,3),VLOOKUP(I99,Feuil1!$G$11:$L$25,2)))))))","v":"J77"},265.64872800222798,null," ",{"$f":"T99-HLOOKUP(X99,Feuil1!$C$1:$BL$10,2,FALSE)","v":80},{"$f":"T99-HLOOKUP(X99,Feuil1!$C$1:$BL$10,3,FALSE)","v":60},{"$f":"T99-HLOOKUP(X99,Feuil1!$C$1:$BL$10,4,FALSE)","v":40},{"$f":"T99-HLOOKUP(X99,Feuil1!$C$1:$BL$10,5,FALSE)","v":20},{"$f":"T99-HLOOKUP(X99,Feuil1!$C$1:$BL$10,6,FALSE)","v":0},{"$f":"T99-HLOOKUP(X99,Feuil1!$C$1:$BL$10,7,FALSE)","v":-30},{"$f":"T99-HLOOKUP(X99,Feuil1!$C$1:$BL$10,8,FALSE)","v":-50},{"$f":"T99-HLOOKUP(X99,Feuil1!$C$1:$BL$10,9,FALSE)","v":-75},{"$f":"T99-HLOOKUP(X99,Feuil1!$C$1:$BL$10,10,FALSE)","v":-9790},null,null,null,null,null,null,"FED +"]
["H","Nord","NPC",5,195298,"GATNER","Arthur",1995,76.05,"OSM Lomme","F",90,-94,-94,90,117,-121,-121,117,207,54.900000000000006,"IRG +",17,{"$f":"IF(I100=\"\",\"\",IF(A100=\"H\",IF(OR(H100=\"SEN\",H100<1995),VLOOKUP(I100,Feuil1!$A$11:$F$29,6),IF(AND(H100>1994,H100<1998),VLOOKUP(I100,Feuil1!$A$11:$F$29,5),IF(AND(H100>1997,H100<2000),VLOOKUP(I100,Feuil1!$A$11:$F$29,4),IF(AND(H100>1999,H100<2002),VLOOKUP(I100,Feuil1!$A$11:$F$29,3),VLOOKUP(I100,Feuil1!$A$11:$F$29,2))))),IF(OR(H100=\"SEN\",H100<1995),VLOOKUP(I100,Feuil1!$G$11:$L$25,6),IF(AND(H100>1994,H100<1998),VLOOKUP(I100,Feuil1!$G$11:$L$25,5),IF(AND(H100>1997,H100<2000),VLOOKUP(I100,Feuil1!$G$11:$L$25,4),IF(AND(H100>1999,H100<2002),VLOOKUP(I100,Feuil1!$G$11:$L$25,3),VLOOKUP(I100,Feuil1!$G$11:$L$25,2)))))))","v":"J77"},262.52166106327229,null," ",{"$f":"T100-HLOOKUP(X100,Feuil1!$C$1:$BL$10,2,FALSE)","v":77},{"$f":"T100-HLOOKUP(X100,Feuil1!$C$1:$BL$10,3,FALSE)","v":57},{"$f":"T100-HLOOKUP(X100,Feuil1!$C$1:$BL$10,4,FALSE)","v":37},{"$f":"T100-HLOOKUP(X100,Feuil1!$C$1:$BL$10,5,FALSE)","v":17},{"$f":"T100-HLOOKUP(X100,Feuil1!$C$1:$BL$10,6,FALSE)","v":-3},{"$f":"T100-HLOOKUP(X100,Feuil1!$C$1:$BL$10,7,FALSE)","v":-33},{"$f":"T100-HLOOKUP(X100,Feuil1!$C$1:$BL$10,8,FALSE)","v":-53},{"$f":"T100-HLOOKUP(X100,Feuil1!$C$1:$BL$10,9,FALSE)","v":-78},{"$f":"T100-HLOOKUP(X100,Feuil1!$C$1:$BL$10,10,FALSE)","v":-9793},null,null,null,null,null,null,"IRG +"]
["H","NE","FCO",6,"246718","PHARIZAT","Kevin",1997,74.400000000000006,"LF BESANÇON","F",90,93,95,95,-105,105,-108,105,200,51.199999999999989,"IRG +",10,{"$f":"IF(I101=\"\",\"\",IF(A101=\"H\",IF(OR(H101=\"SEN\",H101<1995),VLOOKUP(I101,Feuil1!$A$11:$F$29,6),IF(AND(H101>1994,H101<1998),VLOOKUP(I101,Feuil1!$A$11:$F$29,5),IF(AND(H101>1997,H101<2000),VLOOKUP(I101,Feuil1!$A$11:$F$29,4),IF(AND(H101>1999,H101<2002),VLOOKUP(I101,Feuil1!$A$11:$F$29,3),VLOOKUP(I101,Feuil1!$A$11:$F$29,2))))),IF(OR(H101=\"SEN\",H101<1995),VLOOKUP(I101,Feuil1!$G$11:$L$25,6),IF(AND(H101>1994,H101<1998),VLOOKUP(I101,Feuil1!$G$11:$L$25,5),IF(AND(H101>1997,H101<2000),VLOOKUP(I101,Feuil1!$G$11:$L$25,4),IF(AND(H101>1999,H101<2002),VLOOKUP(I101,Feuil1!$G$11:$L$25,3),VLOOKUP(I101,Feuil1!$G$11:$L$25,2)))))))","v":"J77"},256.89273881172846,null," ",{"$f":"T101-HLOOKUP(X101,Feuil1!$C$1:$BL$10,2,FALSE)","v":70},{"$f":"T101-HLOOKUP(X101,Feuil1!$C$1:$BL$10,3,FALSE)","v":50},{"$f":"T101-HLOOKUP(X101,Feuil1!$C$1:$BL$10,4,FALSE)","v":30},{"$f":"T101-HLOOKUP(X101,Feuil1!$C$1:$BL$10,5,FALSE)","v":10},{"$f":"T101-HLOOKUP(X101,Feuil1!$C$1:$BL$10,6,FALSE)","v":-10},{"$f":"T101-HLOOKUP(X101,Feuil1!$C$1:$BL$10,7,FALSE)","v":-40},{"$f":"T101-HLOOKUP(X101,Feuil1!$C$1:$BL$10,8,FALSE)","v":-60},{"$f":"T101-HLOOKUP(X101,Feuil1!$C$1:$BL$10,9,FALSE)","v":-85},{"$f":"T101-HLOOKUP(X101,Feuil1!$C$1:$BL$10,10,FALSE)","v":-9800},null,null,null,null,null,null,"IRG +"]
["H","DOM","GUA",7,204691,"NIVELLES","Medy",1996,75.599999999999994,"ABBC/Foyal Didier","F",85,90,-93,90,105,110,-115,{"$f":"IF(H102=\"\",\"\",IF(MAXA(P102:R102)<=0,0,MAXA(P102:R102)))","v":110},{"$f":"IF(H102=\"\",\"\",IF(OR(O102=0,S102=0),0,O102+S102))","v":200},48.800000000000011,{"$f":"IF(H102=\"\",\"\",AQ102)","v":"IRG +"},{"$f":"IF(AJ102>=0,AJ102,IF(AI102>=0,AI102,IF(AH102>=0,AH102,IF(AG102>=0,AG102,IF(AF102>=0,AF102,IF(AE102>=0,AE102,IF(AD102>=0,AD102,IF(AC102>=0,AC102,AB102))))))))","v":10},{"$f":"IF(I102=\"\",\"\",IF(A102=\"H\",IF(OR(H102=\"SEN\",H102<1995),VLOOKUP(I102,Feuil1!$A$11:$F$29,6),IF(AND(H102>1994,H102<1998),VLOOKUP(I102,Feuil1!$A$11:$F$29,5),IF(AND(H102>1997,H102<2000),VLOOKUP(I102,Feuil1!$A$11:$F$29,4),IF(AND(H102>1999,H102<2002),VLOOKUP(I102,Feuil1!$A$11:$F$29,3),VLOOKUP(I102,Feuil1!$A$11:$F$29,2))))),IF(OR(H102=\"SEN\",H102<1995),VLOOKUP(I102,Feuil1!$G$11:$L$25,6),IF(AND(H102>1994,H102<1998),VLOOKUP(I102,Feuil1!$G$11:$L$25,5),IF(AND(H102>1997,H102<2000),VLOOKUP(I102,Feuil1!$G$11:$L$25,4),IF(AND(H102>1999,H102<2002),VLOOKUP(I102,Feuil1!$G$11:$L$25,3),VLOOKUP(I102,Feuil1!$G$11:$L$25,2)))))))","v":"J77"},254.51064790698391,null," ",{"$f":"T102-HLOOKUP(X102,Feuil1!$C$1:$BL$10,2,FALSE)","v":70},{"$f":"T102-HLOOKUP(X102,Feuil1!$C$1:$BL$10,3,FALSE)","v":50},{"$f":"T102-HLOOKUP(X102,Feuil1!$C$1:$BL$10,4,FALSE)","v":30},{"$f":"T102-HLOOKUP(X102,Feuil1!$C$1:$BL$10,5,FALSE)","v":10},{"$f":"T102-HLOOKUP(X102,Feuil1!$C$1:$BL$10,6,FALSE)","v":-10},{"$f":"T102-HLOOKUP(X102,Feuil1!$C$1:$BL$10,7,FALSE)","v":-40},{"$f":"T102-HLOOKUP(X102,Feuil1!$C$1:$BL$10,8,FALSE)","v":-60},{"$f":"T102-HLOOKUP(X102,Feuil1!$C$1:$BL$10,9,FALSE)","v":-85},{"$f":"T102-HLOOKUP(X102,Feuil1!$C$1:$BL$10,10,FALSE)","v":-9800},null,null,null,null,null,null,{"$f":"IF(AJ102>=0,$AJ$4,IF(AI102>=0,$AI$4,IF(AH102>=0,$AH$4,IF(AG102>=0,$AG$4,IF(AF102>=0,$AF$4,IF(AE102>=0,$AE$4,IF(AD102>=0,$AD$4,IF(AC102>=0,$AC$4,$AB$4))))))))","v":"IRG +"}]
["H","SEST","CAZ",8,301051,"CINQUIN","Nicolas",1996,74.2,"E.S. VILLENEUVE LOUBET","F",-88,-88,88,88,103,108,-112,108,196,47.599999999999994,"IRG +",6,{"$f":"IF(I103=\"\",\"\",IF(A103=\"H\",IF(OR(H103=\"SEN\",H103<1995),VLOOKUP(I103,Feuil1!$A$11:$F$29,6),IF(AND(H103>1994,H103<1998),VLOOKUP(I103,Feuil1!$A$11:$F$29,5),IF(AND(H103>1997,H103<2000),VLOOKUP(I103,Feuil1!$A$11:$F$29,4),IF(AND(H103>1999,H103<2002),VLOOKUP(I103,Feuil1!$A$11:$F$29,3),VLOOKUP(I103,Feuil1!$A$11:$F$29,2))))),IF(OR(H103=\"SEN\",H103<1995),VLOOKUP(I103,Feuil1!$G$11:$L$25,6),IF(AND(H103>1994,H103<1998),VLOOKUP(I103,Feuil1!$G$11:$L$25,5),IF(AND(H103>1997,H103<2000),VLOOKUP(I103,Feuil1!$G$11:$L$25,4),IF(AND(H103>1999,H103<2002),VLOOKUP(I103,Feuil1!$G$11:$L$25,3),VLOOKUP(I103,Feuil1!$G$11:$L$25,2)))))))","v":"J77"},252.15413471950131,null," ",{"$f":"T103-HLOOKUP(X103,Feuil1!$C$1:$BL$10,2,FALSE)","v":66},{"$f":"T103-HLOOKUP(X103,Feuil1!$C$1:$BL$10,3,FALSE)","v":46},{"$f":"T103-HLOOKUP(X103,Feuil1!$C$1:$BL$10,4,FALSE)","v":26},{"$f":"T103-HLOOKUP(X103,Feuil1!$C$1:$BL$10,5,FALSE)","v":6},{"$f":"T103-HLOOKUP(X103,Feuil1!$C$1:$BL$10,6,FALSE)","v":-14},{"$f":"T103-HLOOKUP(X103,Feuil1!$C$1:$BL$10,7,FALSE)","v":-44},{"$f":"T103-HLOOKUP(X103,Feuil1!$C$1:$BL$10,8,FALSE)","v":-64},{"$f":"T103-HLOOKUP(X103,Feuil1!$C$1:$BL$10,9,FALSE)","v":-89},{"$f":"T103-HLOOKUP(X103,Feuil1!$C$1:$BL$10,10,FALSE)","v":-9804},null,null,null,null,null,null,"IRG +"]
["H","NE","CHA",9,160082,"DUCOURTY ","Florentin",1995,75.900000000000006,"Reims HM","F",85,-90,-90,85,102,107,110,110,195,43.199999999999989,"IRG +",5,{"$f":"IF(I104=\"\",\"\",IF(A104=\"H\",IF(OR(H104=\"SEN\",H104<1995),VLOOKUP(I104,Feuil1!$A$11:$F$29,6),IF(AND(H104>1994,H104<1998),VLOOKUP(I104,Feuil1!$A$11:$F$29,5),IF(AND(H104>1997,H104<2000),VLOOKUP(I104,Feuil1!$A$11:$F$29,4),IF(AND(H104>1999,H104<2002),VLOOKUP(I104,Feuil1!$A$11:$F$29,3),VLOOKUP(I104,Feuil1!$A$11:$F$29,2))))),IF(OR(H104=\"SEN\",H104<1995),VLOOKUP(I104,Feuil1!$G$11:$L$25,6),IF(AND(H104>1994,H104<1998),VLOOKUP(I104,Feuil1!$G$11:$L$25,5),IF(AND(H104>1997,H104<2000),VLOOKUP(I104,Feuil1!$G$11:$L$25,4),IF(AND(H104>1999,H104<2002),VLOOKUP(I104,Feuil1!$G$11:$L$25,3),VLOOKUP(I104,Feuil1!$G$11:$L$25,2)))))))","v":"J77"},247.58309221419006,null," ",{"$f":"T104-HLOOKUP(X104,Feuil1!$C$1:$BL$10,2,FALSE)","v":65},{"$f":"T104-HLOOKUP(X104,Feuil1!$C$1:$BL$10,3,FALSE)","v":45},{"$f":"T104-HLOOKUP(X104,Feuil1!$C$1:$BL$10,4,FALSE)","v":25},{"$f":"T104-HLOOKUP(X104,Feuil1!$C$1:$BL$10,5,FALSE)","v":5},{"$f":"T104-HLOOKUP(X104,Feuil1!$C$1:$BL$10,6,FALSE)","v":-15},{"$f":"T104-HLOOKUP(X104,Feuil1!$C$1:$BL$10,7,FALSE)","v":-45},{"$f":"T104-HLOOKUP(X104,Feuil1!$C$1:$BL$10,8,FALSE)","v":-65},{"$f":"T104-HLOOKUP(X104,Feuil1!$C$1:$BL$10,9,FALSE)","v":-90},{"$f":"T104-HLOOKUP(X104,Feuil1!$C$1:$BL$10,10,FALSE)","v":-9805},null,null,null,null,null,null,"IRG +"]
["H","SEST","PRO",null,256692,"CHEPIS","Antoine",1995,76.5,"H.C. MARSEILLE","F",100,103,-105,103,-137,-137,-137,0,0,-153,"DEB ",-130,{"$f":"IF(I105=\"\",\"\",IF(A105=\"H\",IF(OR(H105=\"SEN\",H105<1995),VLOOKUP(I105,Feuil1!$A$11:$F$29,6),IF(AND(H105>1994,H105<1998),VLOOKUP(I105,Feuil1!$A$11:$F$29,5),IF(AND(H105>1997,H105<2000),VLOOKUP(I105,Feuil1!$A$11:$F$29,4),IF(AND(H105>1999,H105<2002),VLOOKUP(I105,Feuil1!$A$11:$F$29,3),VLOOKUP(I105,Feuil1!$A$11:$F$29,2))))),IF(OR(H105=\"SEN\",H105<1995),VLOOKUP(I105,Feuil1!$G$11:$L$25,6),IF(AND(H105>1994,H105<1998),VLOOKUP(I105,Feuil1!$G$11:$L$25,5),IF(AND(H105>1997,H105<2000),VLOOKUP(I105,Feuil1!$G$11:$L$25,4),IF(AND(H105>1999,H105<2002),VLOOKUP(I105,Feuil1!$G$11:$L$25,3),VLOOKUP(I105,Feuil1!$G$11:$L$25,2)))))))","v":"J77"},0,null," ",{"$f":"T105-HLOOKUP(X105,Feuil1!$C$1:$BL$10,2,FALSE)","v":-130},{"$f":"T105-HLOOKUP(X105,Feuil1!$C$1:$BL$10,3,FALSE)","v":-150},{"$f":"T105-HLOOKUP(X105,Feuil1!$C$1:$BL$10,4,FALSE)","v":-170},{"$f":"T105-HLOOKUP(X105,Feuil1!$C$1:$BL$10,5,FALSE)","v":-190},{"$f":"T105-HLOOKUP(X105,Feuil1!$C$1:$BL$10,6,FALSE)","v":-210},{"$f":"T105-HLOOKUP(X105,Feuil1!$C$1:$BL$10,7,FALSE)","v":-240},{"$f":"T105-HLOOKUP(X105,Feuil1!$C$1:$BL$10,8,FALSE)","v":-260},{"$f":"T105-HLOOKUP(X105,Feuil1!$C$1:$BL$10,9,FALSE)","v":-285},{"$f":"T105-HLOOKUP(X105,Feuil1!$C$1:$BL$10,10,FALSE)","v":-10000},null,null,null,null,null,null,"DEB "]
[null,null,null,null,null,null,null,null,null,null,null,null,null,null,null,null,null,null,null,null," ",null,null,null,null,null,null,{"$f":"T106-HLOOKUP(X106,Feuil1!$C$1:$BL$10,2,FALSE)","v":{"$error":"#N/A"}},{"$f":"T106-HLOOKUP(X106,Feuil1!$C$1:$BL$10,3,FALSE)","v":{"$error":"#N/A"}},{"$f":"T106-HLOOKUP(X106,Feuil1!$C$1:$BL$10,4,FALSE)","v":{"$error":"#N/A"}},{"$f":"T106-HLOOKUP(X106,Feuil1!$C$1:$BL$10,5,FALSE)","v":{"$error":"#N/A"}},{"$f":"T106-HLOOKUP(X106,Feuil1!$C$1:$BL$10,6,FALSE)","v":{"$error":"#N/A"}},{"$f":"T106-HLOOKUP(X106,Feuil1!$C$1:$BL$10,7,FALSE)","v":{"$error":"#N/A"}},{"$f":"T106-HLOOKUP(X106,Feuil1!$C$1:$BL$10,8,FALSE)","v":{"$error":"#N/A"}},{"$f":"T106-HLOOKUP(X106,Feuil1!$C$1:$BL$10,9,FALSE)","v":{"$error":"#N/A"}},{"$f":"T106-HLOOKUP(X106,Feuil1!$C$1:$BL$10,10,FALSE)","v":{"$error":"#N/A"}}]
["H","NE","CHA",1,246713,"COLOMBO ","Ludwig",1995,77.5,"Reims HM","F",108,112,115,{"$f":"IF(H107=\"\",\"\",IF(MAXA(L107:N107)<=0,0,MAXA(L107:N107)))","v":115},135,140,146,{"$f":"IF(H107=\"\",\"\",IF(MAXA(P107:R107)<=0,0,MAXA(P107:R107)))","v":146},{"$f":"IF(H107=\"\",\"\",IF(OR(O107=0,S107=0),0,O107+S107))","v":261},106,{"$f":"IF(H107=\"\",\"\",AQ107)","v":"NAT +"},{"$f":"IF(AJ107>=0,AJ107,IF(AI107>=0,AI107,IF(AH107>=0,AH107,IF(AG107>=0,AG107,IF(AF107>=0,AF107,IF(AE107>=0,AE107,IF(AD107>=0,AD107,IF(AC107>=0,AC107,AB107))))))))","v":11},{"$f":"IF(I107=\"\",\"\",IF(A107=\"H\",IF(OR(H107=\"SEN\",H107<1995),VLOOKUP(I107,Feuil1!$A$11:$F$29,6),IF(AND(H107>1994,H107<1998),VLOOKUP(I107,Feuil1!$A$11:$F$29,5),IF(AND(H107>1997,H107<2000),VLOOKUP(I107,Feuil1!$A$11:$F$29,4),IF(AND(H107>1999,H107<2002),VLOOKUP(I107,Feuil1!$A$11:$F$29,3),VLOOKUP(I107,Feuil1!$A$11:$F$29,2))))),IF(OR(H107=\"SEN\",H107<1995),VLOOKUP(I107,Feuil1!$G$11:$L$25,6),IF(AND(H107>1994,H107<1998),VLOOKUP(I107,Feuil1!$G$11:$L$25,5),IF(AND(H107>1997,H107<2000),VLOOKUP(I107,Feuil1!$G$11:$L$25,4),IF(AND(H107>1999,H107<2002),VLOOKUP(I107,Feuil1!$G$11:$L$25,3),VLOOKUP(I107,Feuil1!$G$11:$L$25,2)))))))","v":"J85"},{"$f":"IF(I107=\"\",\"\",IF(A107=\"H\",10^(0.794358141*LOG(I107/174.393)^2)*T107,IF(A107=\"F\",10^(0.89726074*LOG(I107/148.026)^2)*T107,\"\")))","v":327.48532075137365},null," ",{"$f":"T107-HLOOKUP(X107,Feuil1!$C$1:$BL$10,2,FALSE)","v":116},{"$f":"T107-HLOOKUP(X107,Feuil1!$C$1:$BL$10,3,FALSE)","v":96},{"$f":"T107-HLOOKUP(X107,Feuil1!$C$1:$BL$10,4,FALSE)","v":76},{"$f":"T107-HLOOKUP(X107,Feuil1!$C$1:$BL$10,5,FALSE)","v":56},{"$f":"T107-HLOOKUP(X107,Feuil1!$C$1:$BL$10,6,FALSE)","v":36},{"$f":"T107-HLOOKUP(X107,Feuil1!$C$1:$BL$10,7,FALSE)","v":11},{"$f":"T107-HLOOKUP(X107,Feuil1!$C$1:$BL$10,8,FALSE)","v":-19},{"$f":"T107-HLOOKUP(X107,Feuil1!$C$1:$BL$10,9,FALSE)","v":-39},{"$f":"T107-HLOOKUP(X107,Feuil1!$C$1:$BL$10,10,FALSE)","v":-739},null,null,null,null,null,null,{"$f":"IF(AJ107>=0,$AJ$4,IF(AI107>=0,$AI$4,IF(AH107>=0,$AH$4,IF(AG107>=0,$AG$4,IF(AF107>=0,$AF$4,IF(AE107>=0,$AE$4,IF(AD107>=0,$AD$4,IF(AC107>=0,$AC$4,$AB$4))))))))","v":"NAT +"}]
["H","SO","AQU",2,219860,"JOFFRET","Teddy",1997,78.900000000000006,"E.A. ST MEDARD","F",107,111,114,{"$f":"IF(H108=\"\",\"\",IF(MAXA(L108:N108)<=0,0,MAXA(L108:N108)))","v":114},136,140,-145,{"$f":"IF(H108=\"\",\"\",IF(MAXA(P108:R108)<=0,0,MAXA(P108:R108)))","v":140},{"$f":"IF(H108=\"\",\"\",IF(OR(O108=0,S108=0),0,O108+S108))","v":254},96.199999999999989,{"$f":"IF(H108=\"\",\"\",AQ108)","v":"NAT +"},{"$f":"IF(AJ108>=0,AJ108,IF(AI108>=0,AI108,IF(AH108>=0,AH108,IF(AG108>=0,AG108,IF(AF108>=0,AF108,IF(AE108>=0,AE108,IF(AD108>=0,AD108,IF(AC108>=0,AC108,AB108))))))))","v":4},{"$f":"IF(I108=\"\",\"\",IF(A108=\"H\",IF(OR(H108=\"SEN\",H108<1995),VLOOKUP(I108,Feuil1!$A$11:$F$29,6),IF(AND(H108>1994,H108<1998),VLOOKUP(I108,Feuil1!$A$11:$F$29,5),IF(AND(H108>1997,H108<2000),VLOOKUP(I108,Feuil1!$A$11:$F$29,4),IF(AND(H108>1999,H108<2002),VLOOKUP(I108,Feuil1!$A$11:$F$29,3),VLOOKUP(I108,Feuil1!$A$11:$F$29,2))))),IF(OR(H108=\"SEN\",H108<1995),VLOOKUP(I108,Feuil1!$G$11:$L$25,6),IF(AND(H108>1994,H108<1998),VLOOKUP(I108,Feuil1!$G$11:$L$25,5),IF(AND(H108>1997,H108<2000),VLOOKUP(I108,Feuil1!$G$11:$L$25,4),IF(AND(H108>1999,H108<2002),VLOOKUP(I108,Feuil1!$G$11:$L$25,3),VLOOKUP(I108,Feuil1!$G$11:$L$25,2)))))))","v":"J85"},{"$f":"IF(I108=\"\",\"\",IF(A108=\"H\",10^(0.794358141*LOG(I108/174.393)^2)*T108,IF(A108=\"F\",10^(0.89726074*LOG(I108/148.026)^2)*T108,\"\")))","v":315.5601073252534},null," ",{"$f":"T108-HLOOKUP(X108,Feuil1!$C$1:$BL$10,2,FALSE)","v":109},{"$f":"T108-HLOOKUP(X108,Feuil1!$C$1:$BL$10,3,FALSE)","v":89},{"$f":"T108-HLOOKUP(X108,Feuil1!$C$1:$BL$10,4,FALSE)","v":69},{"$f":"T108-HLOOKUP(X108,Feuil1!$C$1:$BL$10,5,FALSE)","v":49},{"$f":"T108-HLOOKUP(X108,Feuil1!$C$1:$BL$10,6,FALSE)","v":29},{"$f":"T108-HLOOKUP(X108,Feuil1!$C$1:$BL$10,7,FALSE)","v":4},{"$f":"T108-HLOOKUP(X108,Feuil1!$C$1:$BL$10,8,FALSE)","v":-26},{"$f":"T108-HLOOKUP(X108,Feuil1!$C$1:$BL$10,9,FALSE)","v":-46},{"$f":"T108-HLOOKUP(X108,Feuil1!$C$1:$BL$10,10,FALSE)","v":-746},null,null,null,null,null,null,{"$f":"IF(AJ108>=0,$AJ$4,IF(AI108>=0,$AI$4,IF(AH108>=0,$AH$4,IF(AG108>=0,$AG$4,IF(AF108>=0,$AF$4,IF(AE108>=0,$AE$4,IF(AD108>=0,$AD$4,IF(AC108>=0,$AC$4,$AB$4))))))))","v":"NAT +"}]
["H","SEST","RAL",3,141368,"MENONI","Enzo",1997,84.2,"A.C. SAINT MARCELLIN","F",-114,114,-117,{"$f":"IF(H109=\"\",\"\",IF(MAXA(L109:N109)<=0,0,MAXA(L109:N109)))","v":114},132,136,-140,{"$f":"IF(H109=\"\",\"\",IF(MAXA(P109:R109)<=0,0,MAXA(P109:R109)))","v":136},{"$f":"IF(H109=\"\",\"\",IF(OR(O109=0,S109=0),0,O109+S109))","v":250},81.599999999999994,{"$f":"IF(H109=\"\",\"\",AQ109)","v":"NAT +"},{"$f":"IF(AJ109>=0,AJ109,IF(AI109>=0,AI109,IF(AH109>=0,AH109,IF(AG109>=0,AG109,IF(AF109>=0,AF109,IF(AE109>=0,AE109,IF(AD109>=0,AD109,IF(AC109>=0,AC109,AB109))))))))","v":0},{"$f":"IF(I109=\"\",\"\",IF(A109=\"H\",IF(OR(H109=\"SEN\",H109<1995),VLOOKUP(I109,Feuil1!$A$11:$F$29,6),IF(AND(H109>1994,H109<1998),VLOOKUP(I109,Feuil1!$A$11:$F$29,5),IF(AND(H109>1997,H109<2000),VLOOKUP(I109,Feuil1!$A$11:$F$29,4),IF(AND(H109>1999,H109<2002),VLOOKUP(I109,Feuil1!$A$11:$F$29,3),VLOOKUP(I109,Feuil1!$A$11:$F$29,2))))),IF(OR(H109=\"SEN\",H109<1995),VLOOKUP(I109,Feuil1!$G$11:$L$25,6),IF(AND(H109>1994,H109<1998),VLOOKUP(I109,Feuil1!$G$11:$L$25,5),IF(AND(H109>1997,H109<2000),VLOOKUP(I109,Feuil1!$G$11:$L$25,4),IF(AND(H109>1999,H109<2002),VLOOKUP(I109,Feuil1!$G$11:$L$25,3),VLOOKUP(I109,Feuil1!$G$11:$L$25,2)))))))","v":"J85"},{"$f":"IF(I109=\"\",\"\",IF(A109=\"H\",10^(0.794358141*LOG(I109/174.393)^2)*T109,IF(A109=\"F\",10^(0.89726074*LOG(I109/148.026)^2)*T109,\"\")))","v":300.17214769400067},null," ",{"$f":"T109-HLOOKUP(X109,Feuil1!$C$1:$BL$10,2,FALSE)","v":105},{"$f":"T109-HLOOKUP(X109,Feuil1!$C$1:$BL$10,3,FALSE)","v":85},{"$f":"T109-HLOOKUP(X109,Feuil1!$C$1:$BL$10,4,FALSE)","v":65},{"$f":"T109-HLOOKUP(X109,Feuil1!$C$1:$BL$10,5,FALSE)","v":45},{"$f":"T109-HLOOKUP(X109,Feuil1!$C$1:$BL$10,6,FALSE)","v":25},{"$f":"T109-HLOOKUP(X109,Feuil1!$C$1:$BL$10,7,FALSE)","v":0},{"$f":"T109-HLOOKUP(X109,Feuil1!$C$1:$BL$10,8,FALSE)","v":-30},{"$f":"T109-HLOOKUP(X109,Feuil1!$C$1:$BL$10,9,FALSE)","v":-50},{"$f":"T109-HLOOKUP(X109,Feuil1!$C$1:$BL$10,10,FALSE)","v":-750},null,null,null,null,null,null,{"$f":"IF(AJ109>=0,$AJ$4,IF(AI109>=0,$AI$4,IF(AH109>=0,$AH$4,IF(AG109>=0,$AG$4,IF(AF109>=0,$AF$4,IF(AE109>=0,$AE$4,IF(AD109>=0,$AD$4,IF(AC109>=0,$AC$4,$AB$4))))))))","v":"NAT +"}]
["H","Nord","IDF",4,183839,"ANGOT","Alexis",1995,79.75,"CHC Pontoise","F",105,-112,-115,{"$f":"IF(H110=\"\",\"\",IF(MAXA(L110:N110)<=0,0,MAXA(L110:N110)))","v":105},122,"-","-",{"$f":"IF(H110=\"\",\"\",IF(MAXA(P110:R110)<=0,0,MAXA(P110:R110)))","v":122},{"$f":"IF(H110=\"\",\"\",IF(OR(O110=0,S110=0),0,O110+S110))","v":227},67.5,{"$f":"IF(H110=\"\",\"\",AQ110)","v":"FED +"},{"$f":"IF(AJ110>=0,AJ110,IF(AI110>=0,AI110,IF(AH110>=0,AH110,IF(AG110>=0,AG110,IF(AF110>=0,AF110,IF(AE110>=0,AE110,IF(AD110>=0,AD110,IF(AC110>=0,AC110,AB110))))))))","v":2},{"$f":"IF(I110=\"\",\"\",IF(A110=\"H\",IF(OR(H110=\"SEN\",H110<1995),VLOOKUP(I110,Feuil1!$A$11:$F$29,6),IF(AND(H110>1994,H110<1998),VLOOKUP(I110,Feuil1!$A$11:$F$29,5),IF(AND(H110>1997,H110<2000),VLOOKUP(I110,Feuil1!$A$11:$F$29,4),IF(AND(H110>1999,H110<2002),VLOOKUP(I110,Feuil1!$A$11:$F$29,3),VLOOKUP(I110,Feuil1!$A$11:$F$29,2))))),IF(OR(H110=\"SEN\",H110<1995),VLOOKUP(I110,Feuil1!$G$11:$L$25,6),IF(AND(H110>1994,H110<1998),VLOOKUP(I110,Feuil1!$G$11:$L$25,5),IF(AND(H110>1997,H110<2000),VLOOKUP(I110,Feuil1!$G$11:$L$25,4),IF(AND(H110>1999,H110<2002),VLOOKUP(I110,Feuil1!$G$11:$L$25,3),VLOOKUP(I110,Feuil1!$G$11:$L$25,2)))))))","v":"J85"},{"$f":"IF(I110=\"\",\"\",IF(A110=\"H\",10^(0.794358141*LOG(I110/174.393)^2)*T110,IF(A110=\"F\",10^(0.89726074*LOG(I110/148.026)^2)*T110,\"\")))","v":280.3785402873354},null," ",{"$f":"T110-HLOOKUP(X110,Feuil1!$C$1:$BL$10,2,FALSE)","v":82},{"$f":"T110-HLOOKUP(X110,Feuil1!$C$1:$BL$10,3,FALSE)","v":62},{"$f":"T110-HLOOKUP(X110,Feuil1!$C$1:$BL$10,4,FALSE)","v":42},{"$f":"T110-HLOOKUP(X110,Feuil1!$C$1:$BL$10,5,FALSE)","v":22},{"$f":"T110-HLOOKUP(X110,Feuil1!$C$1:$BL$10,6,FALSE)","v":2},{"$f":"T110-HLOOKUP(X110,Feuil1!$C$1:$BL$10,7,FALSE)","v":-23},{"$f":"T110-HLOOKUP(X110,Feuil1!$C$1:$BL$10,8,FALSE)","v":-53},{"$f":"T110-HLOOKUP(X110,Feuil1!$C$1:$BL$10,9,FALSE)","v":-73},{"$f":"T110-HLOOKUP(X110,Feuil1!$C$1:$BL$10,10,FALSE)","v":-773},null,null,null,null,null,null,{"$f":"IF(AJ110>=0,$AJ$4,IF(AI110>=0,$AI$4,IF(AH110>=0,$AH$4,IF(AG110>=0,$AG$4,IF(AF110>=0,$AF$4,IF(AE110>=0,$AE$4,IF(AD110>=0,$AD$4,IF(AC110>=0,$AC$4,$AB$4))))))))","v":"FED +"}]
[null,null,null,null,null,null,null,null,null,null,null,null,null,null,null,null,null,null,null,null," ",null,null,null,null,null,null,{"$f":"T111-HLOOKUP(X111,Feuil1!$C$1:$BL$10,2,FALSE)","v":{"$error":"#N/A"}},{"$f":"T111-HLOOKUP(X111,Feuil1!$C$1:$BL$10,3,FALSE)","v":{"$error":"#N/A"}},{"$f":"T111-HLOOKUP(X111,Feuil1!$C$1:$BL$10,4,FALSE)","v":{"$error":"#N/A"}},{"$f":"T111-HLOOKUP(X111,Feuil1!$C$1:$BL$10,5,FALSE)","v":{"$error":"#N/A"}},{"$f":"T111-HLOOKUP(X111,Feuil1!$C$1:$BL$10,6,FALSE)","v":{"$error":"#N/A"}},{"$f":"T111-HLOOKUP(X111,Feuil1!$C$1:$BL$10,7,FALSE)","v":{"$error":"#N/A"}},{"$f":"T111-HLOOKUP(X111,Feuil1!$C$1:$BL$10,8,FALSE)","v":{"$error":"#N/A"}},{"$f":"T111-HLOOKUP(X111,Feuil1!$C$1:$BL$10,9,FALSE)","v":{"$error":"#N/A"}},{"$f":"T111-HLOOKUP(X111,Feuil1!$C$1:$BL$10,10,FALSE)","v":{"$error":"#N/A"}}]
["H","NE","BOU",1,211151,"GVOZDENOVIC","Michel",1997,85.5,"Stade Dijonnais HM","F",90,-100,-100,{"$f":"IF(H112=\"\",\"\",IF(MAXA(L112:N112)<=0,0,MAXA(L112:N112)))","v":90},125,134,-140,{"$f":"IF(H112=\"\",\"\",IF(MAXA(P112:R112)<=0,0,MAXA(P112:R112)))","v":134},{"$f":"IF(H112=\"\",\"\",IF(OR(O112=0,S112=0),0,O112+S112))","v":224},53,{"$f":"IF(H112=\"\",\"\",AQ112)","v":"IRG +"},{"$f":"IF(AJ112>=0,AJ112,IF(AI112>=0,AI112,IF(AH112>=0,AH112,IF(AG112>=0,AG112,IF(AF112>=0,AF112,IF(AE112>=0,AE112,IF(AD112>=0,AD112,IF(AC112>=0,AC112,AB112))))))))","v":9},{"$f":"IF(I112=\"\",\"\",IF(A112=\"H\",IF(OR(H112=\"SEN\",H112<1995),VLOOKUP(I112,Feuil1!$A$11:$F$29,6),IF(AND(H112>1994,H112<1998),VLOOKUP(I112,Feuil1!$A$11:$F$29,5),IF(AND(H112>1997,H112<2000),VLOOKUP(I112,Feuil1!$A$11:$F$29,4),IF(AND(H112>1999,H112<2002),VLOOKUP(I112,Feuil1!$A$11:$F$29,3),VLOOKUP(I112,Feuil1!$A$11:$F$29,2))))),IF(OR(H112=\"SEN\",H112<1995),VLOOKUP(I112,Feuil1!$G$11:$L$25,6),IF(AND(H112>1994,H112<1998),VLOOKUP(I112,Feuil1!$G$11:$L$25,5),IF(AND(H112>1997,H112<2000),VLOOKUP(I112,Feuil1!$G$11:$L$25,4),IF(AND(H112>1999,H112<2002),VLOOKUP(I112,Feuil1!$G$11:$L$25,3),VLOOKUP(I112,Feuil1!$G$11:$L$25,2)))))))","v":"J94"},{"$f":"IF(I112=\"\",\"\",IF(A112=\"H\",10^(0.794358141*LOG(I112/174.393)^2)*T112,IF(A112=\"F\",10^(0.89726074*LOG(I112/148.026)^2)*T112,\"\")))","v":266.91361759965935},null," ",{"$f":"T112-HLOOKUP(X112,Feuil1!$C$1:$BL$10,2,FALSE)","v":74},{"$f":"T112-HLOOKUP(X112,Feuil1!$C$1:$BL$10,3,FALSE)","v":54},{"$f":"T112-HLOOKUP(X112,Feuil1!$C$1:$BL$10,4,FALSE)","v":34},{"$f":"T112-HLOOKUP(X112,Feuil1!$C$1:$BL$10,5,FALSE)","v":9},{"$f":"T112-HLOOKUP(X112,Feuil1!$C$1:$BL$10,6,FALSE)","v":-11},{"$f":"T112-HLOOKUP(X112,Feuil1!$C$1:$BL$10,7,FALSE)","v":-36},{"$f":"T112-HLOOKUP(X112,Feuil1!$C$1:$BL$10,8,FALSE)","v":-66},{"$f":"T112-HLOOKUP(X112,Feuil1!$C$1:$BL$10,9,FALSE)","v":-86},{"$f":"T112-HLOOKUP(X112,Feuil1!$C$1:$BL$10,10,FALSE)","v":-776},null,null,null,null,null,null,{"$f":"IF(AJ112>=0,$AJ$4,IF(AI112>=0,$AI$4,IF(AH112>=0,$AH$4,IF(AG112>=0,$AG$4,IF(AF112>=0,$AF$4,IF(AE112>=0,$AE$4,IF(AD112>=0,$AD$4,IF(AC112>=0,$AC$4,$AB$4))))))))","v":"IRG +"}]
["H","DOM","MAR",2,244200,"ZOBAL","Florent",1996,92.2,"ABBC/Foyal Didier","F",93,98,-100,{"$f":"IF(H113=\"\",\"\",IF(MAXA(L113:N113)<=0,0,MAXA(L113:N113)))","v":98},120,126,-130,{"$f":"IF(H113=\"\",\"\",IF(MAXA(P113:R113)<=0,0,MAXA(P113:R113)))","v":126},{"$f":"IF(H113=\"\",\"\",IF(OR(O113=0,S113=0),0,O113+S113))","v":224},39.599999999999994,{"$f":"IF(H113=\"\",\"\",AQ113)","v":"IRG +"},{"$f":"IF(AJ113>=0,AJ113,IF(AI113>=0,AI113,IF(AH113>=0,AH113,IF(AG113>=0,AG113,IF(AF113>=0,AF113,IF(AE113>=0,AE113,IF(AD113>=0,AD113,IF(AC113>=0,AC113,AB113))))))))","v":9},{"$f":"IF(I113=\"\",\"\",IF(A113=\"H\",IF(OR(H113=\"SEN\",H113<1995),VLOOKUP(I113,Feuil1!$A$11:$F$29,6),IF(AND(H113>1994,H113<1998),VLOOKUP(I113,Feuil1!$A$11:$F$29,5),IF(AND(H113>1997,H113<2000),VLOOKUP(I113,Feuil1!$A$11:$F$29,4),IF(AND(H113>1999,H113<2002),VLOOKUP(I113,Feuil1!$A$11:$F$29,3),VLOOKUP(I113,Feuil1!$A$11:$F$29,2))))),IF(OR(H113=\"SEN\",H113<1995),VLOOKUP(I113,Feuil1!$G$11:$L$25,6),IF(AND(H113>1994,H113<1998),VLOOKUP(I113,Feuil1!$G$11:$L$25,5),IF(AND(H113>1997,H113<2000),VLOOKUP(I113,Feuil1!$G$11:$L$25,4),IF(AND(H113>1999,H113<2002),VLOOKUP(I113,Feuil1!$G$11:$L$25,3),VLOOKUP(I113,Feuil1!$G$11:$L$25,2)))))))","v":"J94"},{"$f":"IF(I113=\"\",\"\",IF(A113=\"H\",10^(0.794358141*LOG(I113/174.393)^2)*T113,IF(A113=\"F\",10^(0.89726074*LOG(I113/148.026)^2)*T113,\"\")))","v":257.69709193914474},null," ",{"$f":"T113-HLOOKUP(X113,Feuil1!$C$1:$BL$10,2,FALSE)","v":74},{"$f":"T113-HLOOKUP(X113,Feuil1!$C$1:$BL$10,3,FALSE)","v":54},{"$f":"T113-HLOOKUP(X113,Feuil1!$C$1:$BL$10,4,FALSE)","v":34},{"$f":"T113-HLOOKUP(X113,Feuil1!$C$1:$BL$10,5,FALSE)","v":9},{"$f":"T113-HLOOKUP(X113,Feuil1!$C$1:$BL$10,6,FALSE)","v":-11},{"$f":"T113-HLOOKUP(X113,Feuil1!$C$1:$BL$10,7,FALSE)","v":-36},{"$f":"T113-HLOOKUP(X113,Feuil1!$C$1:$BL$10,8,FALSE)","v":-66},{"$f":"T113-HLOOKUP(X113,Feuil1!$C$1:$BL$10,9,FALSE)","v":-86},{"$f":"T113-HLOOKUP(X113,Feuil1!$C$1:$BL$10,10,FALSE)","v":-776},null,null,null,null,null,null,{"$f":"IF(AJ113>=0,$AJ$4,IF(AI113>=0,$AI$4,IF(AH113>=0,$AH$4,IF(AG113>=0,$AG$4,IF(AF113>=0,$AF$4,IF(AE113>=0,$AE$4,IF(AD113>=0,$AD$4,IF(AC113>=0,$AC$4,$AB$4))))))))","v":"IRG +"}]
[null,null,null,null,null,null,null,null,null,null,null,null,"R.F.",null,null,null,null,null,null,"R.F."," ",null,null,null,null,null,null,{"$f":"T114-HLOOKUP(X114,Feuil1!$C$1:$BL$10,2,FALSE)","v":{"$error":"#VALUE!"}},{"$f":"T114-HLOOKUP(X114,Feuil1!$C$1:$BL$10,3,FALSE)","v":{"$error":"#VALUE!"}},{"$f":"T114-HLOOKUP(X114,Feuil1!$C$1:$BL$10,4,FALSE)","v":{"$error":"#VALUE!"}},{"$f":"T114-HLOOKUP(X114,Feuil1!$C$1:$BL$10,5,FALSE)","v":{"$error":"#VALUE!"}},{"$f":"T114-HLOOKUP(X114,Feuil1!$C$1:$BL$10,6,FALSE)","v":{"$error":"#VALUE!"}},{"$f":"T114-HLOOKUP(X114,Feuil1!$C$1:$BL$10,7,FALSE)","v":{"$error":"#VALUE!"}},{"$f":"T114-HLOOKUP(X114,Feuil1!$C$1:$BL$10,8,FALSE)","v":{"$error":"#VALUE!"}},{"$f":"T114-HLOOKUP(X114,Feuil1!$C$1:$BL$10,9,FALSE)","v":{"$error":"#VALUE!"}},{"$f":"T114-HLOOKUP(X114,Feuil1!$C$1:$BL$10,10,FALSE)","v":{"$error":"#VALUE!"}}]
["H","SEST","PRO",1,239336,"COULLET","Anthony",1997,135.9,"EEAR. MONTEUX","F",137,143,-145,{"$f":"IF(H115=\"\",\"\",IF(MAXA(L115:N115)<=0,0,MAXA(L115:N115)))","v":143},175,187,"-",{"$f":"IF(H115=\"\",\"\",IF(MAXA(P115:R115)<=0,0,MAXA(P115:R115)))","v":187},{"$f":"IF(H115=\"\",\"\",IF(OR(O115=0,S115=0),0,O115+S115))","v":330},58.199999999999989,{"$f":"IF(H115=\"\",\"\",AQ115)","v":"INTA +"},{"$f":"IF(AJ115>=0,AJ115,IF(AI115>=0,AI115,IF(AH115>=0,AH115,IF(AG115>=0,AG115,IF(AF115>=0,AF115,IF(AE115>=0,AE115,IF(AD115>=0,AD115,IF(AC115>=0,AC115,AB115))))))))","v":0},{"$f":"IF(I115=\"\",\"\",IF(A115=\"H\",IF(OR(H115=\"SEN\",H115<1995),VLOOKUP(I115,Feuil1!$A$11:$F$29,6),IF(AND(H115>1994,H115<1998),VLOOKUP(I115,Feuil1!$A$11:$F$29,5),IF(AND(H115>1997,H115<2000),VLOOKUP(I115,Feuil1!$A$11:$F$29,4),IF(AND(H115>1999,H115<2002),VLOOKUP(I115,Feuil1!$A$11:$F$29,3),VLOOKUP(I115,Feuil1!$A$11:$F$29,2))))),IF(OR(H115=\"SEN\",H115<1995),VLOOKUP(I115,Feuil1!$G$11:$L$25,6),IF(AND(H115>1994,H115<1998),VLOOKUP(I115,Feuil1!$G$11:$L$25,5),IF(AND(H115>1997,H115<2000),VLOOKUP(I115,Feuil1!$G$11:$L$25,4),IF(AND(H115>1999,H115<2002),VLOOKUP(I115,Feuil1!$G$11:$L$25,3),VLOOKUP(I115,Feuil1!$G$11:$L$25,2)))))))","v":"J+105"},{"$f":"IF(I115=\"\",\"\",IF(A115=\"H\",10^(0.794358141*LOG(I115/174.393)^2)*T115,IF(A115=\"F\",10^(0.89726074*LOG(I115/148.026)^2)*T115,\"\")))","v":337.15727072518172},null," ",{"$f":"T115-HLOOKUP(X115,Feuil1!$C$1:$BL$10,2,FALSE)","v":165},{"$f":"T115-HLOOKUP(X115,Feuil1!$C$1:$BL$10,3,FALSE)","v":145},{"$f":"T115-HLOOKUP(X115,Feuil1!$C$1:$BL$10,4,FALSE)","v":125},{"$f":"T115-HLOOKUP(X115,Feuil1!$C$1:$BL$10,5,FALSE)","v":105},{"$f":"T115-HLOOKUP(X115,Feuil1!$C$1:$BL$10,6,FALSE)","v":80},{"$f":"T115-HLOOKUP(X115,Feuil1!$C$1:$BL$10,7,FALSE)","v":50},{"$f":"T115-HLOOKUP(X115,Feuil1!$C$1:$BL$10,8,FALSE)","v":20},{"$f":"T115-HLOOKUP(X115,Feuil1!$C$1:$BL$10,9,FALSE)","v":0},{"$f":"T115-HLOOKUP(X115,Feuil1!$C$1:$BL$10,10,FALSE)","v":-9670},null,null,null,null,null,null,{"$f":"IF(AJ115>=0,$AJ$4,IF(AI115>=0,$AI$4,IF(AH115>=0,$AH$4,IF(AG115>=0,$AG$4,IF(AF115>=0,$AF$4,IF(AE115>=0,$AE$4,IF(AD115>=0,$AD$4,IF(AC115>=0,$AC$4,$AB$4))))))))","v":"INTA +"}]
["H","DOM","MAR",2,338059,"MERLIN","Tristan",1995,124.6,"ABBC/Foyal Didier","F",102,107,110,{"$f":"IF(H116=\"\",\"\",IF(MAXA(L116:N116)<=0,0,MAXA(L116:N116)))","v":110},118,123,-125,{"$f":"IF(H116=\"\",\"\",IF(MAXA(P116:R116)<=0,0,MAXA(P116:R116)))","v":123},{"$f":"IF(H116=\"\",\"\",IF(OR(O116=0,S116=0),0,O116+S116))","v":233},-16.199999999999989,{"$f":"IF(H116=\"\",\"\",AQ116)","v":"IRG +"},{"$f":"IF(AJ116>=0,AJ116,IF(AI116>=0,AI116,IF(AH116>=0,AH116,IF(AG116>=0,AG116,IF(AF116>=0,AF116,IF(AE116>=0,AE116,IF(AD116>=0,AD116,IF(AC116>=0,AC116,AB116))))))))","v":8},{"$f":"IF(I116=\"\",\"\",IF(A116=\"H\",IF(OR(H116=\"SEN\",H116<1995),VLOOKUP(I116,Feuil1!$A$11:$F$29,6),IF(AND(H116>1994,H116<1998),VLOOKUP(I116,Feuil1!$A$11:$F$29,5),IF(AND(H116>1997,H116<2000),VLOOKUP(I116,Feuil1!$A$11:$F$29,4),IF(AND(H116>1999,H116<2002),VLOOKUP(I116,Feuil1!$A$11:$F$29,3),VLOOKUP(I116,Feuil1!$A$11:$F$29,2))))),IF(OR(H116=\"SEN\",H116<1995),VLOOKUP(I116,Feuil1!$G$11:$L$25,6),IF(AND(H116>1994,H116<1998),VLOOKUP(I116,Feuil1!$G$11:$L$25,5),IF(AND(H116>1997,H116<2000),VLOOKUP(I116,Feuil1!$G$11:$L$25,4),IF(AND(H116>1999,H116<2002),VLOOKUP(I116,Feuil1!$G$11:$L$25,3),VLOOKUP(I116,Feuil1!$G$11:$L$25,2)))))))","v":"J+105"},{"$f":"IF(I116=\"\",\"\",IF(A116=\"H\",10^(0.794358141*LOG(I116/174.393)^2)*T116,IF(A116=\"F\",10^(0.89726074*LOG(I116/148.026)^2)*T116,\"\")))","v":242.26518744644727},null," ",{"$f":"T116-HLOOKUP(X116,Feuil1!$C$1:$BL$10,2,FALSE)","v":68},{"$f":"T116-HLOOKUP(X116,Feuil1!$C$1:$BL$10,3,FALSE)","v":48},{"$f":"T116-HLOOKUP(X116,Feuil1!$C$1:$BL$10,4,FALSE)","v":28},{"$f":"T116-HLOOKUP(X116,Feuil1!$C$1:$BL$10,5,FALSE)","v":8},{"$f":"T116-HLOOKUP(X116,Feuil1!$C$1:$BL$10,6,FALSE)","v":-17},{"$f":"T116-HLOOKUP(X116,Feuil1!$C$1:$BL$10,7,FALSE)","v":-47},{"$f":"T116-HLOOKUP(X116,Feuil1!$C$1:$BL$10,8,FALSE)","v":-77},{"$f":"T116-HLOOKUP(X116,Feuil1!$C$1:$BL$10,9,FALSE)","v":-97},{"$f":"T116-HLOOKUP(X116,Feuil1!$C$1:$BL$10,10,FALSE)","v":-9767},null,null,null,null,null,null,{"$f":"IF(AJ116>=0,$AJ$4,IF(AI116>=0,$AI$4,IF(AH116>=0,$AH$4,IF(AG116>=0,$AG$4,IF(AF116>=0,$AF$4,IF(AE116>=0,$AE$4,IF(AD116>=0,$AD$4,IF(AC116>=0,$AC$4,$AB$4))))))))","v":"IRG +"}]
[null,null,null,null,null,null,null,null,null,null,null,null,null,null,null,null,null,null,null,null,null,null,null,null,null,null,null,{"$f":"T117-HLOOKUP(X117,Feuil1!$C$1:$BL$10,2,FALSE)","v":{"$error":"#N/A"}},{"$f":"T117-HLOOKUP(X117,Feuil1!$C$1:$BL$10,3,FALSE)","v":{"$error":"#N/A"}},{"$f":"T117-HLOOKUP(X117,Feuil1!$C$1:$BL$10,4,FALSE)","v":{"$error":"#N/A"}},{"$f":"T117-HLOOKUP(X117,Feuil1!$C$1:$BL$10,5,FALSE)","v":{"$error":"#N/A"}},{"$f":"T117-HLOOKUP(X117,Feuil1!$C$1:$BL$10,6,FALSE)","v":{"$error":"#N/A"}},{"$f":"T117-HLOOKUP(X117,Feuil1!$C$1:$BL$10,7,FALSE)","v":{"$error":"#N/A"}},{"$f":"T117-HLOOKUP(X117,Feuil1!$C$1:$BL$10,8,FALSE)","v":{"$error":"#N/A"}},{"$f":"T117-HLOOKUP(X117,Feuil1!$C$1:$BL$10,9,FALSE)","v":{"$error":"#N/A"}},{"$f":"T117-HLOOKUP(X117,Feuil1!$C$1:$BL$10,10,FALSE)","v":{"$error":"#N/A"}}]
[null,null,null,null,null,null,null,null,null,null,null,null," "," ",null,null,null,null,null,null,null,null,null,null,null,null," ",{"$f":"T118-HLOOKUP(X118,Feuil1!$C$1:$BL$10,2,FALSE)","v":{"$error":"#N/A"}},{"$f":"T118-HLOOKUP(X118,Feuil1!$C$1:$BL$10,3,FALSE)","v":{"$error":"#N/A"}},{"$f":"T118-HLOOKUP(X118,Feuil1!$C$1:$BL$10,4,FALSE)","v":{"$error":"#N/A"}},{"$f":"T118-HLOOKUP(X118,Feuil1!$C$1:$BL$10,5,FALSE)","v":{"$error":"#N/A"}},{"$f":"T118-HLOOKUP(X118,Feuil1!$C$1:$BL$10,6,FALSE)","v":{"$error":"#N/A"}},{"$f":"T118-HLOOKUP(X118,Feuil1!$C$1:$BL$10,7,FALSE)","v":{"$error":"#N/A"}},{"$f":"T118-HLOOKUP(X118,Feuil1!$C$1:$BL$10,8,FALSE)","v":{"$error":"#N/A"}},{"$f":"T118-HLOOKUP(X118,Feuil1!$C$1:$BL$10,9,FALSE)","v":{"$error":"#N/A"}},{"$f":"T118-HLOOKUP(X118,Feuil1!$C$1:$BL$10,10,FALSE)","v":{"$error":"#N/A"}},null,null,null,null,null,null,{"$f":"IF(AJ118>=0,$AJ$4,IF(AI118>=0,$AI$4,IF(AH118>=0,$AH$4,IF(AG118>=0,$AG$4,IF(AF118>=0,$AF$4,IF(AE118>=0,$AE$4,IF(AD118>=0,$AD$4,IF(AC118>=0,$AC$4,$AB$4))))))))","v":{"$error":"#N/A"}}]
[]
[]
[]
[]
[]
[]
[]
[]
[]
[]
[]
[]
[]
[]
[]
[]
[]
[]
[]
[]
[]
[]
[]
[]
[]
[]
[]
[]
[]
[]
[]
[]
[]
[]
[]
[]
[]
[]
[]
[]
[]
[]
[]
[]
[]
[]
[]
[]
[]
[]
[]
[]
[]
[]
[]
[]
[]
[]
[]
[]
[]
[]
[]
[]
[]
[]
[]
[]
[]
[]
[]
[]
[]
[]
[]
[]
[]
[]
[]
[]
[]
[]
[]
[]
[]
[]
[]
[]
[]
[]
[]
[]
[]
[]
[]
[]
[]
[]
[]
[]
[]
[]
[]
[]
[]
[]
[]
[]
[]
[]
[]
[]
[]
[]
[]
[]
[]
[]
[]
[]
[]
[]
[]
[]
[]
[]
[]
[]
[]
[]
[]
[]
[]
[]
[]
[]
[]
[]
[]
[]
[]
[]
[]
[]
[]
[]
[]
[]
[]
[]
[]
[]
[]
[]
[]
[]
[]
[]
[]
[]
[]
[]
[]
[]
[]
[]
[]
[]
[]
[]
[]
[]
[]
[]
[]
[]
[]
[]
[]
[]
[]
[]
[]
[]
[]
[]
[]
[]
[]
[]
[]
[]
[]
[]
[]
[]
[]
[]
[]
[]
[]
[]
[]
[]
[]
[]
[]
[]
[]
[]
[]
[]
[]
[]
[]
[]
[]
[]
[]
[]
[]
[]
[]
[]
[]
[]
[]
[]
[]
[]
[]
[]
[]
[]
[]
[]
[]
[]
[]
[]
[]
[]
[]
[]
[]
[]
[]
[]
[]
[]
[]
[]
[]
[]
[]
[]
[]
[]
[]
[]
[]
[]
[]
[]
[]
[]
[]
[]
[]
[]
[]
[]
[]
[]
[]
[]
[]
[]
[]
[]
[]
[]
[]
[]
[]
[]
[]
[]
[]
[]
[]
[]
[]
[]
[]
[]
[]
[]
[]
[]
[]
[]
[]
[]
[]
[]
[]
[]
[]
[]
[]
[]
[]
[]
[]
[]
[]
[]
[]
[]
[]
[]
[]
[]
[]
[]
[]
[]
[]
[]
[]
[]
[]
[]
[]
[]
[]
[]
[]
[]
[]
[]
[]
[]
[]
[]
[]
[]
[]
[]
[]
[]
[]
[]
[]
[]
[]
[]
[]
[]
[]
[]
[]
[]
[]
[]
[]
[]
[]
[]
[]
[]
[]
[]
[]
[]
[]
[]
[]
[]
[]
[]
[]
[]
[]
[]
[]
[]
[]
[]
[]
[]
[]
[]
[]
[]
[]
[]
[]
[]
[]
[]
[]
[]
[]
[]
[]
[]
[]
[]
[]
[]
[]
[]
[]
[]
[]
[]
[]
[]
[]
[]
[]
[]
[]
[]
[]
[]
[]
[]
[]
[]
[]
[]
[]
[]
[]
[]
[]
[]
[]
[]
[]
[]
[]
[]
[]
[]
[]
[]
[]
[]
[]
[]
[]
[]
[]
[]
[]
[]
[]
[]
[]
[]
[]
[]
[]
[]
[]
[]
[]
[]
[]
[]
[]
[]
[]
[]
[]
[]
[]
[]
[]
[]
[]
[]
[]
[]
[]
[]
[]
[]
[]
[]
[]
[]
[]
[]
[]
[null,null,null,null,null,null,null,null,null,null,null,null,null,null,null,null,null,null,null,null,null,null,null,null,null,null,null,"J77","J85","J94","J105","J+105",null,"J56","J62","J69","J77","J85","J94","J105","J+105",null,"S56","S62","S69","S77","S85","S94","S105","S+105"]
[null,null,null,null,null,null,null,null,null,null,null,null,null,null,null,null,null,null,null,null,null,null,null,null,null,null,null,145,160,170,180,190,null,100,115,130,145,160,170,180,190,null,115,135,150,165,180,190,200,210]
[null,null,null,null,null,null,null,null,null,null,null,null,null,null,null,null,null,null,null,null,null,null,null,null,null,null,null,165,180,190,200,210,null,115,135,150,165,180,190,200,210,null,130,150,165,185,200,210,220,230]
[null,null,null,null,null,null,null,null,null,null,null,null,null,null,null,null,null,null,null,null,null,null,null,null,null,null,null,185,200,210,220,230,null,130,150,165,185,200,210,220,230,null,145,165,180,200,220,230,240,250]
[null,null,null,null,null,null,null,null,null,null,null,null,null,null,null,null,null,null,null,null,null,null,null,null,null,null,null,200,220,230,240,250,null,145,165,180,200,220,230,240,250,null,175,195,215,235,250,260,275,280]
[null,null,null,null,null,null,null,null,null,null,null,null,null,null,null,null,null,null,null,null,null,null,null,null,null,null,null,235,250,260,275,280,null,175,195,215,235,250,260,275,280,null,210,230,250,270,290,300,310,325]
[null,null,null,null,null,null,null,null,null,null,null,null,null,null,null,null,null,null,null,null,null,null,null,null,null,null,null,270,290,300,310,325,null,210,230,250,270,290,300,310,325,null,230,255,275,300,315,335,345,355]
[null,null,null,null,null,null,null,null,null,null,null,null,null,null,null,null,null,null,null,null,null,null,null,null,null,null,null,320,335,355,370,380,null,245,270,295,320,335,355,370,380,null,245,270,295,320,335,355,370,380]

{"sheet":"SENIORS","index":3,"n_rows":599,"n_cols":50,"rows_kept":599,"cut":false,"hidden":false,"merged":[[3,21,3,22],[0,18,0,21],[1,6,1,10],[1,18,1,19],[1,21,1,22],[1,11,1,12],[1,13,1,14]]}
[null,null,null,null,null,"EPREUVE :","CHAMPIONNAT INTERREGIONAL D'AUTOMNE",null,null,null,null,null,null,null,null,null,"DATE :",null,"2014-11-15"]
[null,null,null,null,null," ","CLASSEMENT NATIONAL des ZONES",null,null,null,null," ",null," ",null,null,null,null," ",null,null," "]
[]
["SEXE","ZONE","REG.","CL.","LICENCE","NOMS","Prénoms","AN","POIDS","CLUB","NAT",1,2,3,"ARR",1,2,3,"EP-J","Total","Points","SERIE",null,"Catég","IWF",null," ","DEB ","DEP +","REG +","IRG +","FED +","NAT +","INTB +","INTA +","OLY +"]
["H","Nord","NPC","1",76341,"MANCINI","Julien",1990,61.2,"CA Rosendael","F",87,92,-97,{"$f":"IF(H5=\"\",\"\",IF(MAXA(L5:N5)<=0,0,MAXA(L5:N5)))","v":92},105,110,-113,{"$f":"IF(H5=\"\",\"\",IF(MAXA(P5:R5)<=0,0,MAXA(P5:R5)))","v":110},{"$f":"IF(H5=\"\",\"\",IF(OR(O5=0,S5=0),0,O5+S5))","v":202},{"$f":"T5-I5*2","v":79.599999999999994},{"$f":"IF(H5=\"\",\"\",AQ5)","v":"FED +"},{"$f":"IF(AJ5>=0,AJ5,IF(AI5>=0,AI5,IF(AH5>=0,AH5,IF(AG5>=0,AG5,IF(AF5>=0,AF5,IF(AE5>=0,AE5,IF(AD5>=0,AD5,IF(AC5>=0,AC5,AB5))))))))","v":12},{"$f":"IF(I5=\"\",\"\",IF(A5=\"H\",IF(OR(H5=\"SEN\",H5<1995),VLOOKUP(I5,Feuil1!$A$11:$F$29,6),IF(AND(H5>1994,H5<1998),VLOOKUP(I5,Feuil1!$A$11:$F$29,5),IF(AND(H5>1997,H5<2000),VLOOKUP(I5,Feuil1!$A$11:$F$29,4),IF(AND(H5>1999,H5<2002),VLOOKUP(I5,Feuil1!$A$11:$F$29,3),VLOOKUP(I5,Feuil1!$A$11:$F$29,2))))),IF(OR(H5=\"SEN\",H5<1995),VLOOKUP(I5,Feuil1!$G$11:$L$25,6),IF(AND(H5>1994,H5<1998),VLOOKUP(I5,Feuil1!$G$11:$L$25,5),IF(AND(H5>1997,H5<2000),VLOOKUP(I5,Feuil1!$G$11:$L$25,4),IF(AND(H5>1999,H5<2002),VLOOKUP(I5,Feuil1!$G$11:$L$25,3),VLOOKUP(I5,Feuil1!$G$11:$L$25,2)))))))","v":"S62"},{"$f":"IF(I5=\"\",\"\",IF(A5=\"H\",10^(0.794358141*LOG(I5/174.393)^2)*T5,IF(A5=\"F\",10^(0.89726074*LOG(I5/148.026)^2)*T5,\"\")))","v":294.87819309533199},null," ",{"$f":"T5-HLOOKUP(X5,Feuil1!$C$1:$BL$10,2,FALSE)","v":82},{"$f":"T5-HLOOKUP(X5,Feuil1!$C$1:$BL$10,3,FALSE)","v":67},{"$f":"T5-HLOOKUP(X5,Feuil1!$C$1:$BL$10,4,FALSE)","v":52},{"$f":"T5-HLOOKUP(X5,Feuil1!$C$1:$BL$10,5,FALSE)","v":32},{"$f":"T5-HLOOKUP(X5,Feuil1!$C$1:$BL$10,6,FALSE)","v":12},{"$f":"T5-HLOOKUP(X5,Feuil1!$C$1:$BL$10,7,FALSE)","v":-8},{"$f":"T5-HLOOKUP(X5,Feuil1!$C$1:$BL$10,8,FALSE)","v":-28},{"$f":"T5-HLOOKUP(X5,Feuil1!$C$1:$BL$10,9,FALSE)","v":-53},{"$f":"T5-HLOOKUP(X5,Feuil1!$C$1:$BL$10,10,FALSE)","v":-68},null,null,null,null,null,null,{"$f":"IF(AJ5>=0,$AJ$4,IF(AI5>=0,$AI$4,IF(AH5>=0,$AH$4,IF(AG5>=0,$AG$4,IF(AF5>=0,$AF$4,IF(AE5>=0,$AE$4,IF(AD5>=0,$AD$4,IF(AC5>=0,$AC$4,$AB$4))))))))","v":"FED +"}]
["H","DOM","REU",2,118312,"RICHARD","Olivier",1980,58.4,"SCHM Saint Paul","F",72,77,80,{"$f":"IF(H6=\"\",\"\",IF(MAXA(L6:N6)<=0,0,MAXA(L6:N6)))","v":80},92,97,100,100,180,63.2,"IRG +",10,{"$f":"IF(I6=\"\",\"\",IF(A6=\"H\",IF(OR(H6=\"SEN\",H6<1995),VLOOKUP(I6,Feuil1!$A$11:$F$29,6),IF(AND(H6>1994,H6<1998),VLOOKUP(I6,Feuil1!$A$11:$F$29,5),IF(AND(H6>1997,H6<2000),VLOOKUP(I6,Feuil1!$A$11:$F$29,4),IF(AND(H6>1999,H6<2002),VLOOKUP(I6,Feuil1!$A$11:$F$29,3),VLOOKUP(I6,Feuil1!$A$11:$F$29,2))))),IF(OR(H6=\"SEN\",H6<1995),VLOOKUP(I6,Feuil1!$G$11:$L$25,6),IF(AND(H6>1994,H6<1998),VLOOKUP(I6,Feuil1!$G$11:$L$25,5),IF(AND(H6>1997,H6<2000),VLOOKUP(I6,Feuil1!$G$11:$L$25,4),IF(AND(H6>1999,H6<2002),VLOOKUP(I6,Feuil1!$G$11:$L$25,3),VLOOKUP(I6,Feuil1!$G$11:$L$25,2)))))))","v":"S62"},272.01149776155222,null," ",{"$f":"T6-HLOOKUP(X6,Feuil1!$C$1:$BL$10,2,FALSE)","v":60},{"$f":"T6-HLOOKUP(X6,Feuil1!$C$1:$BL$10,3,FALSE)","v":45},{"$f":"T6-HLOOKUP(X6,Feuil1!$C$1:$BL$10,4,FALSE)","v":30},{"$f":"T6-HLOOKUP(X6,Feuil1!$C$1:$BL$10,5,FALSE)","v":10},{"$f":"T6-HLOOKUP(X6,Feuil1!$C$1:$BL$10,6,FALSE)","v":-10},{"$f":"T6-HLOOKUP(X6,Feuil1!$C$1:$BL$10,7,FALSE)","v":-30},{"$f":"T6-HLOOKUP(X6,Feuil1!$C$1:$BL$10,8,FALSE)","v":-50},{"$f":"T6-HLOOKUP(X6,Feuil1!$C$1:$BL$10,9,FALSE)","v":-75},{"$f":"T6-HLOOKUP(X6,Feuil1!$C$1:$BL$10,10,FALSE)","v":-90},null,null,null,null,null,null,"IRG +"]
["H","Nord","IDF",3,304880,"RASCLE","David",1979,59.1,"VGA St Maur","F",75,-80,80,{"$f":"IF(H7=\"\",\"\",IF(MAXA(L7:N7)<=0,0,MAXA(L7:N7)))","v":80},-100,-100,100,100,180,61.8,"IRG +",10,{"$f":"IF(I7=\"\",\"\",IF(A7=\"H\",IF(OR(H7=\"SEN\",H7<1995),VLOOKUP(I7,Feuil1!$A$11:$F$29,6),IF(AND(H7>1994,H7<1998),VLOOKUP(I7,Feuil1!$A$11:$F$29,5),IF(AND(H7>1997,H7<2000),VLOOKUP(I7,Feuil1!$A$11:$F$29,4),IF(AND(H7>1999,H7<2002),VLOOKUP(I7,Feuil1!$A$11:$F$29,3),VLOOKUP(I7,Feuil1!$A$11:$F$29,2))))),IF(OR(H7=\"SEN\",H7<1995),VLOOKUP(I7,Feuil1!$G$11:$L$25,6),IF(AND(H7>1994,H7<1998),VLOOKUP(I7,Feuil1!$G$11:$L$25,5),IF(AND(H7>1997,H7<2000),VLOOKUP(I7,Feuil1!$G$11:$L$25,4),IF(AND(H7>1999,H7<2002),VLOOKUP(I7,Feuil1!$G$11:$L$25,3),VLOOKUP(I7,Feuil1!$G$11:$L$25,2)))))))","v":"S62"},269.5892621301349,null," ",{"$f":"T7-HLOOKUP(X7,Feuil1!$C$1:$BL$10,2,FALSE)","v":60},{"$f":"T7-HLOOKUP(X7,Feuil1!$C$1:$BL$10,3,FALSE)","v":45},{"$f":"T7-HLOOKUP(X7,Feuil1!$C$1:$BL$10,4,FALSE)","v":30},{"$f":"T7-HLOOKUP(X7,Feuil1!$C$1:$BL$10,5,FALSE)","v":10},{"$f":"T7-HLOOKUP(X7,Feuil1!$C$1:$BL$10,6,FALSE)","v":-10},{"$f":"T7-HLOOKUP(X7,Feuil1!$C$1:$BL$10,7,FALSE)","v":-30},{"$f":"T7-HLOOKUP(X7,Feuil1!$C$1:$BL$10,8,FALSE)","v":-50},{"$f":"T7-HLOOKUP(X7,Feuil1!$C$1:$BL$10,9,FALSE)","v":-75},{"$f":"T7-HLOOKUP(X7,Feuil1!$C$1:$BL$10,10,FALSE)","v":-90},null,null,null,null,null,null,"IRG +"]
["H","NE","FCO",4,139465,"CREVOISIER ","Lucien",1991,59.7,"CH LUXEUIL","F",85,-89,-89,{"$f":"IF(H8=\"\",\"\",IF(MAXA(L8:N8)<=0,0,MAXA(L8:N8)))","v":85},-95,95,-105,95,180,60.599999999999994,"IRG +",10,{"$f":"IF(I8=\"\",\"\",IF(A8=\"H\",IF(OR(H8=\"SEN\",H8<1995),VLOOKUP(I8,Feuil1!$A$11:$F$29,6),IF(AND(H8>1994,H8<1998),VLOOKUP(I8,Feuil1!$A$11:$F$29,5),IF(AND(H8>1997,H8<2000),VLOOKUP(I8,Feuil1!$A$11:$F$29,4),IF(AND(H8>1999,H8<2002),VLOOKUP(I8,Feuil1!$A$11:$F$29,3),VLOOKUP(I8,Feuil1!$A$11:$F$29,2))))),IF(OR(H8=\"SEN\",H8<1995),VLOOKUP(I8,Feuil1!$G$11:$L$25,6),IF(AND(H8>1994,H8<1998),VLOOKUP(I8,Feuil1!$G$11:$L$25,5),IF(AND(H8>1997,H8<2000),VLOOKUP(I8,Feuil1!$G$11:$L$25,4),IF(AND(H8>1999,H8<2002),VLOOKUP(I8,Feuil1!$G$11:$L$25,3),VLOOKUP(I8,Feuil1!$G$11:$L$25,2)))))))","v":"S62"},267.57321560742889,null," ",{"$f":"T8-HLOOKUP(X8,Feuil1!$C$1:$BL$10,2,FALSE)","v":60},{"$f":"T8-HLOOKUP(X8,Feuil1!$C$1:$BL$10,3,FALSE)","v":45},{"$f":"T8-HLOOKUP(X8,Feuil1!$C$1:$BL$10,4,FALSE)","v":30},{"$f":"T8-HLOOKUP(X8,Feuil1!$C$1:$BL$10,5,FALSE)","v":10},{"$f":"T8-HLOOKUP(X8,Feuil1!$C$1:$BL$10,6,FALSE)","v":-10},{"$f":"T8-HLOOKUP(X8,Feuil1!$C$1:$BL$10,7,FALSE)","v":-30},{"$f":"T8-HLOOKUP(X8,Feuil1!$C$1:$BL$10,8,FALSE)","v":-50},{"$f":"T8-HLOOKUP(X8,Feuil1!$C$1:$BL$10,9,FALSE)","v":-75},{"$f":"T8-HLOOKUP(X8,Feuil1!$C$1:$BL$10,10,FALSE)","v":-90},null,null,null,null,null,null,"IRG +"]
["H","ZCO","BRE"," ",171426,"MORICE","Vincent",1993,61.97,"AL Quimper","F",-88,-88,-90,{"$f":"IF(H9=\"\",\"\",IF(MAXA(L9:N9)<=0,0,MAXA(L9:N9)))","v":0},"-","-","-",0,0,-123.94,"DEB ",-120,{"$f":"IF(I9=\"\",\"\",IF(A9=\"H\",IF(OR(H9=\"SEN\",H9<1995),VLOOKUP(I9,Feuil1!$A$11:$F$29,6),IF(AND(H9>1994,H9<1998),VLOOKUP(I9,Feuil1!$A$11:$F$29,5),IF(AND(H9>1997,H9<2000),VLOOKUP(I9,Feuil1!$A$11:$F$29,4),IF(AND(H9>1999,H9<2002),VLOOKUP(I9,Feuil1!$A$11:$F$29,3),VLOOKUP(I9,Feuil1!$A$11:$F$29,2))))),IF(OR(H9=\"SEN\",H9<1995),VLOOKUP(I9,Feuil1!$G$11:$L$25,6),IF(AND(H9>1994,H9<1998),VLOOKUP(I9,Feuil1!$G$11:$L$25,5),IF(AND(H9>1997,H9<2000),VLOOKUP(I9,Feuil1!$G$11:$L$25,4),IF(AND(H9>1999,H9<2002),VLOOKUP(I9,Feuil1!$G$11:$L$25,3),VLOOKUP(I9,Feuil1!$G$11:$L$25,2)))))))","v":"S62"},0,null," ",{"$f":"T9-HLOOKUP(X9,Feuil1!$C$1:$BL$10,2,FALSE)","v":-120},{"$f":"T9-HLOOKUP(X9,Feuil1!$C$1:$BL$10,3,FALSE)","v":-135},{"$f":"T9-HLOOKUP(X9,Feuil1!$C$1:$BL$10,4,FALSE)","v":-150},{"$f":"T9-HLOOKUP(X9,Feuil1!$C$1:$BL$10,5,FALSE)","v":-170},{"$f":"T9-HLOOKUP(X9,Feuil1!$C$1:$BL$10,6,FALSE)","v":-190},{"$f":"T9-HLOOKUP(X9,Feuil1!$C$1:$BL$10,7,FALSE)","v":-210},{"$f":"T9-HLOOKUP(X9,Feuil1!$C$1:$BL$10,8,FALSE)","v":-230},{"$f":"T9-HLOOKUP(X9,Feuil1!$C$1:$BL$10,9,FALSE)","v":-255},{"$f":"T9-HLOOKUP(X9,Feuil1!$C$1:$BL$10,10,FALSE)","v":-270},null,null,null,null,null,null,"DEB "]
[null,null,null,null,null,null,null,null,null,null,null,null,null,null,null,null,null,null,null,null,null,null,null,{"$f":"IF(I10=\"\",\"\",IF(A10=\"H\",IF(OR(H10=\"SEN\",H10<1995),VLOOKUP(I10,Feuil1!$A$11:$F$29,6),IF(AND(H10>1994,H10<1998),VLOOKUP(I10,Feuil1!$A$11:$F$29,5),IF(AND(H10>1997,H10<2000),VLOOKUP(I10,Feuil1!$A$11:$F$29,4),IF(AND(H10>1999,H10<2002),VLOOKUP(I10,Feuil1!$A$11:$F$29,3),VLOOKUP(I10,Feuil1!$A$11:$F$29,2))))),IF(OR(H10=\"SEN\",H10<1995),VLOOKUP(I10,Feuil1!$G$11:$L$25,6),IF(AND(H10>1994,H10<1998),VLOOKUP(I10,Feuil1!$G$11:$L$25,5),IF(AND(H10>1997,H10<2000),VLOOKUP(I10,Feuil1!$G$11:$L$25,4),IF(AND(H10>1999,H10<2002),VLOOKUP(I10,Feuil1!$G$11:$L$25,3),VLOOKUP(I10,Feuil1!$G$11:$L$25,2)))))))","v":""},null,null,null,{"$f":"T10-HLOOKUP(X10,Feuil1!$C$1:$BL$10,2,FALSE)","v":{"$error":"#N/A"}},{"$f":"T10-HLOOKUP(X10,Feuil1!$C$1:$BL$10,3,FALSE)","v":{"$error":"#N/A"}},{"$f":"T10-HLOOKUP(X10,Feuil1!$C$1:$BL$10,4,FALSE)","v":{"$error":"#N/A"}},{"$f":"T10-HLOOKUP(X10,Feuil1!$C$1:$BL$10,5,FALSE)","v":{"$error":"#N/A"}},{"$f":"T10-HLOOKUP(X10,Feuil1!$C$1:$BL$10,6,FALSE)","v":{"$error":"#N/A"}},{"$f":"T10-HLOOKUP(X10,Feuil1!$C$1:$BL$10,7,FALSE)","v":{"$error":"#N/A"}},{"$f":"T10-HLOOKUP(X10,Feuil1!$C$1:$BL$10,8,FALSE)","v":{"$error":"#N/A"}},{"$f":"T10-HLOOKUP(X10,Feuil1!$C$1:$BL$10,9,FALSE)","v":{"$error":"#N/A"}},{"$f":"T10-HLOOKUP(X10,Feuil1!$C$1:$BL$10,10,FALSE)","v":{"$error":"#N/A"}}]
["H","Nord","NPC","1",211179,"BUYSSCHAERT","Nathan",1994,68.599999999999994,"CHCD Comines","F",115,121,-124,{"$f":"IF(H11=\"\",\"\",IF(MAXA(L11:N11)<=0,0,MAXA(L11:N11)))","v":121},135,139,-145,{"$f":"IF(H11=\"\",\"\",IF(MAXA(P11:R11)<=0,0,MAXA(P11:R11)))","v":139},{"$f":"IF(H11=\"\",\"\",IF(OR(O11=0,S11=0),0,O11+S11))","v":260},122.80000000000001,{"$f":"IF(H11=\"\",\"\",AQ11)","v":"INTB +"},{"$f":"IF(AJ11>=0,AJ11,IF(AI11>=0,AI11,IF(AH11>=0,AH11,IF(AG11>=0,AG11,IF(AF11>=0,AF11,IF(AE11>=0,AE11,IF(AD11>=0,AD11,IF(AC11>=0,AC11,AB11))))))))","v":0},{"$f":"IF(I11=\"\",\"\",IF(A11=\"H\",IF(OR(H11=\"SEN\",H11<1995),VLOOKUP(I11,Feuil1!$A$11:$F$29,6),IF(AND(H11>1994,H11<1998),VLOOKUP(I11,Feuil1!$A$11:$F$29,5),IF(AND(H11>1997,H11<2000),VLOOKUP(I11,Feuil1!$A$11:$F$29,4),IF(AND(H11>1999,H11<2002),VLOOKUP(I11,Feuil1!$A$11:$F$29,3),VLOOKUP(I11,Feuil1!$A$11:$F$29,2))))),IF(OR(H11=\"SEN\",H11<1995),VLOOKUP(I11,Feuil1!$G$11:$L$25,6),IF(AND(H11>1994,H11<1998),VLOOKUP(I11,Feuil1!$G$11:$L$25,5),IF(AND(H11>1997,H11<2000),VLOOKUP(I11,Feuil1!$G$11:$L$25,4),IF(AND(H11>1999,H11<2002),VLOOKUP(I11,Feuil1!$G$11:$L$25,3),VLOOKUP(I11,Feuil1!$G$11:$L$25,2)))))))","v":"S69"},{"$f":"IF(I11=\"\",\"\",IF(A11=\"H\",10^(0.794358141*LOG(I11/174.393)^2)*T11,IF(A11=\"F\",10^(0.89726074*LOG(I11/148.026)^2)*T11,\"\")))","v":351.07494417878263},null," ",{"$f":"T11-HLOOKUP(X11,Feuil1!$C$1:$BL$10,2,FALSE)","v":130},{"$f":"T11-HLOOKUP(X11,Feuil1!$C$1:$BL$10,3,FALSE)","v":110},{"$f":"T11-HLOOKUP(X11,Feuil1!$C$1:$BL$10,4,FALSE)","v":90},{"$f":"T11-HLOOKUP(X11,Feuil1!$C$1:$BL$10,5,FALSE)","v":70},{"$f":"T11-HLOOKUP(X11,Feuil1!$C$1:$BL$10,6,FALSE)","v":40},{"$f":"T11-HLOOKUP(X11,Feuil1!$C$1:$BL$10,7,FALSE)","v":20},{"$f":"T11-HLOOKUP(X11,Feuil1!$C$1:$BL$10,8,FALSE)","v":0},{"$f":"T11-HLOOKUP(X11,Feuil1!$C$1:$BL$10,9,FALSE)","v":-15},{"$f":"T11-HLOOKUP(X11,Feuil1!$C$1:$BL$10,10,FALSE)","v":-30},null,null,null,null,null,null,{"$f":"IF(AJ11>=0,$AJ$4,IF(AI11>=0,$AI$4,IF(AH11>=0,$AH$4,IF(AG11>=0,$AG$4,IF(AF11>=0,$AF$4,IF(AE11>=0,$AE$4,IF(AD11>=0,$AD$4,IF(AC11>=0,$AC$4,$AB$4))))))))","v":"INTB +"}]
["H","Nord","PIC","2",223277,"DUMEIGE","Antoine",1994,68.7,"Villers-Bretonneux KC","F",100,-105,105,105,130,-135,-135,130,235,97.6,"FED +",15,{"$f":"IF(I12=\"\",\"\",IF(A12=\"H\",IF(OR(H12=\"SEN\",H12<1995),VLOOKUP(I12,Feuil1!$A$11:$F$29,6),IF(AND(H12>1994,H12<1998),VLOOKUP(I12,Feuil1!$A$11:$F$29,5),IF(AND(H12>1997,H12<2000),VLOOKUP(I12,Feuil1!$A$11:$F$29,4),IF(AND(H12>1999,H12<2002),VLOOKUP(I12,Feuil1!$A$11:$F$29,3),VLOOKUP(I12,Feuil1!$A$11:$F$29,2))))),IF(OR(H12=\"SEN\",H12<1995),VLOOKUP(I12,Feuil1!$G$11:$L$25,6),IF(AND(H12>1994,H12<1998),VLOOKUP(I12,Feuil1!$G$11:$L$25,5),IF(AND(H12>1997,H12<2000),VLOOKUP(I12,Feuil1!$G$11:$L$25,4),IF(AND(H12>1999,H12<2002),VLOOKUP(I12,Feuil1!$G$11:$L$25,3),VLOOKUP(I12,Feuil1!$G$11:$L$25,2)))))))","v":"S69"},317.02054926656444,null," ",{"$f":"T12-HLOOKUP(X12,Feuil1!$C$1:$BL$10,2,FALSE)","v":105},{"$f":"T12-HLOOKUP(X12,Feuil1!$C$1:$BL$10,3,FALSE)","v":85},{"$f":"T12-HLOOKUP(X12,Feuil1!$C$1:$BL$10,4,FALSE)","v":65},{"$f":"T12-HLOOKUP(X12,Feuil1!$C$1:$BL$10,5,FALSE)","v":45},{"$f":"T12-HLOOKUP(X12,Feuil1!$C$1:$BL$10,6,FALSE)","v":15},{"$f":"T12-HLOOKUP(X12,Feuil1!$C$1:$BL$10,7,FALSE)","v":-5},{"$f":"T12-HLOOKUP(X12,Feuil1!$C$1:$BL$10,8,FALSE)","v":-25},{"$f":"T12-HLOOKUP(X12,Feuil1!$C$1:$BL$10,9,FALSE)","v":-40},{"$f":"T12-HLOOKUP(X12,Feuil1!$C$1:$BL$10,10,FALSE)","v":-55},null,null,null,null,null,null,"FED +"]
["H","Nord","NPC","3",307413,"UMEGAE","Kenta",1987,67.2,"Lille UC","BEL",95,100,103,103,115,120,123,123,226,91.6,"FED +",6,{"$f":"IF(I13=\"\",\"\",IF(A13=\"H\",IF(OR(H13=\"SEN\",H13<1995),VLOOKUP(I13,Feuil1!$A$11:$F$29,6),IF(AND(H13>1994,H13<1998),VLOOKUP(I13,Feuil1!$A$11:$F$29,5),IF(AND(H13>1997,H13<2000),VLOOKUP(I13,Feuil1!$A$11:$F$29,4),IF(AND(H13>1999,H13<2002),VLOOKUP(I13,Feuil1!$A$11:$F$29,3),VLOOKUP(I13,Feuil1!$A$11:$F$29,2))))),IF(OR(H13=\"SEN\",H13<1995),VLOOKUP(I13,Feuil1!$G$11:$L$25,6),IF(AND(H13>1994,H13<1998),VLOOKUP(I13,Feuil1!$G$11:$L$25,5),IF(AND(H13>1997,H13<2000),VLOOKUP(I13,Feuil1!$G$11:$L$25,4),IF(AND(H13>1999,H13<2002),VLOOKUP(I13,Feuil1!$G$11:$L$25,3),VLOOKUP(I13,Feuil1!$G$11:$L$25,2)))))))","v":"S69"},309.28820377448761,null," ",{"$f":"T13-HLOOKUP(X13,Feuil1!$C$1:$BL$10,2,FALSE)","v":96},{"$f":"T13-HLOOKUP(X13,Feuil1!$C$1:$BL$10,3,FALSE)","v":76},{"$f":"T13-HLOOKUP(X13,Feuil1!$C$1:$BL$10,4,FALSE)","v":56},{"$f":"T13-HLOOKUP(X13,Feuil1!$C$1:$BL$10,5,FALSE)","v":36},{"$f":"T13-HLOOKUP(X13,Feuil1!$C$1:$BL$10,6,FALSE)","v":6},{"$f":"T13-HLOOKUP(X13,Feuil1!$C$1:$BL$10,7,FALSE)","v":-14},{"$f":"T13-HLOOKUP(X13,Feuil1!$C$1:$BL$10,8,FALSE)","v":-34},{"$f":"T13-HLOOKUP(X13,Feuil1!$C$1:$BL$10,9,FALSE)","v":-49},{"$f":"T13-HLOOKUP(X13,Feuil1!$C$1:$BL$10,10,FALSE)","v":-64},null,null,null,null,null,null,"FED +"]
["H","SEST","PRO","4",130685,"CLAUX","Anthony",1991,66.2,"ISTRES SPORTS","F",100,-105,-105,100,115,120,125,125,225,92.6,"FED +",5,{"$f":"IF(I14=\"\",\"\",IF(A14=\"H\",IF(OR(H14=\"SEN\",H14<1995),VLOOKUP(I14,Feuil1!$A$11:$F$29,6),IF(AND(H14>1994,H14<1998),VLOOKUP(I14,Feuil1!$A$11:$F$29,5),IF(AND(H14>1997,H14<2000),VLOOKUP(I14,Feuil1!$A$11:$F$29,4),IF(AND(H14>1999,H14<2002),VLOOKUP(I14,Feuil1!$A$11:$F$29,3),VLOOKUP(I14,Feuil1!$A$11:$F$29,2))))),IF(OR(H14=\"SEN\",H14<1995),VLOOKUP(I14,Feuil1!$G$11:$L$25,6),IF(AND(H14>1994,H14<1998),VLOOKUP(I14,Feuil1!$G$11:$L$25,5),IF(AND(H14>1997,H14<2000),VLOOKUP(I14,Feuil1!$G$11:$L$25,4),IF(AND(H14>1999,H14<2002),VLOOKUP(I14,Feuil1!$G$11:$L$25,3),VLOOKUP(I14,Feuil1!$G$11:$L$25,2)))))))","v":"S69"},310.99644416227227,null," ",{"$f":"T14-HLOOKUP(X14,Feuil1!$C$1:$BL$10,2,FALSE)","v":95},{"$f":"T14-HLOOKUP(X14,Feuil1!$C$1:$BL$10,3,FALSE)","v":75},{"$f":"T14-HLOOKUP(X14,Feuil1!$C$1:$BL$10,4,FALSE)","v":55},{"$f":"T14-HLOOKUP(X14,Feuil1!$C$1:$BL$10,5,FALSE)","v":35},{"$f":"T14-HLOOKUP(X14,Feuil1!$C$1:$BL$10,6,FALSE)","v":5},{"$f":"T14-HLOOKUP(X14,Feuil1!$C$1:$BL$10,7,FALSE)","v":-15},{"$f":"T14-HLOOKUP(X14,Feuil1!$C$1:$BL$10,8,FALSE)","v":-35},{"$f":"T14-HLOOKUP(X14,Feuil1!$C$1:$BL$10,9,FALSE)","v":-50},{"$f":"T14-HLOOKUP(X14,Feuil1!$C$1:$BL$10,10,FALSE)","v":-65},null,null,null,null,null,null,"FED +"]
["H","NE","FCO","5",28538,"JEGAN","Thaya",1982,68.7,"CH LUXEUIL","F",99,-103,-103,99,121,125,-130,125,224,86.6,"FED +",4,{"$f":"IF(I15=\"\",\"\",IF(A15=\"H\",IF(OR(H15=\"SEN\",H15<1995),VLOOKUP(I15,Feuil1!$A$11:$F$29,6),IF(AND(H15>1994,H15<1998),VLOOKUP(I15,Feuil1!$A$11:$F$29,5),IF(AND(H15>1997,H15<2000),VLOOKUP(I15,Feuil1!$A$11:$F$29,4),IF(AND(H15>1999,H15<2002),VLOOKUP(I15,Feuil1!$A$11:$F$29,3),VLOOKUP(I15,Feuil1!$A$11:$F$29,2))))),IF(OR(H15=\"SEN\",H15<1995),VLOOKUP(I15,Feuil1!$G$11:$L$25,6),IF(AND(H15>1994,H15<1998),VLOOKUP(I15,Feuil1!$G$11:$L$25,5),IF(AND(H15>1997,H15<2000),VLOOKUP(I15,Feuil1!$G$11:$L$25,4),IF(AND(H15>1999,H15<2002),VLOOKUP(I15,Feuil1!$G$11:$L$25,3),VLOOKUP(I15,Feuil1!$G$11:$L$25,2)))))))","v":"S69"},302.18128951366145,null," ",{"$f":"T15-HLOOKUP(X15,Feuil1!$C$1:$BL$10,2,FALSE)","v":94},{"$f":"T15-HLOOKUP(X15,Feuil1!$C$1:$BL$10,3,FALSE)","v":74},{"$f":"T15-HLOOKUP(X15,Feuil1!$C$1:$BL$10,4,FALSE)","v":54},{"$f":"T15-HLOOKUP(X15,Feuil1!$C$1:$BL$10,5,FALSE)","v":34},{"$f":"T15-HLOOKUP(X15,Feuil1!$C$1:$BL$10,6,FALSE)","v":4},{"$f":"T15-HLOOKUP(X15,Feuil1!$C$1:$BL$10,7,FALSE)","v":-16},{"$f":"T15-HLOOKUP(X15,Feuil1!$C$1:$BL$10,8,FALSE)","v":-36},{"$f":"T15-HLOOKUP(X15,Feuil1!$C$1:$BL$10,9,FALSE)","v":-51},{"$f":"T15-HLOOKUP(X15,Feuil1!$C$1:$BL$10,10,FALSE)","v":-66},null,null,null,null,null,null,"FED +"]
["H","ZCO","PDL","6",18972,"COGNON","Jonathan",1990,68.400000000000006,"CJF Laval Voutré 53","F",95,99,-101,99,115,120,123,123,222,85.199999999999989,"FED +",2,{"$f":"IF(I16=\"\",\"\",IF(A16=\"H\",IF(OR(H16=\"SEN\",H16<1995),VLOOKUP(I16,Feuil1!$A$11:$F$29,6),IF(AND(H16>1994,H16<1998),VLOOKUP(I16,Feuil1!$A$11:$F$29,5),IF(AND(H16>1997,H16<2000),VLOOKUP(I16,Feuil1!$A$11:$F$29,4),IF(AND(H16>1999,H16<2002),VLOOKUP(I16,Feuil1!$A$11:$F$29,3),VLOOKUP(I16,Feuil1!$A$11:$F$29,2))))),IF(OR(H16=\"SEN\",H16<1995),VLOOKUP(I16,Feuil1!$G$11:$L$25,6),IF(AND(H16>1994,H16<1998),VLOOKUP(I16,Feuil1!$G$11:$L$25,5),IF(AND(H16>1997,H16<2000),VLOOKUP(I16,Feuil1!$G$11:$L$25,4),IF(AND(H16>1999,H16<2002),VLOOKUP(I16,Feuil1!$G$11:$L$25,3),VLOOKUP(I16,Feuil1!$G$11:$L$25,2)))))))","v":"S69"},300.32883425844335,null," ",{"$f":"T16-HLOOKUP(X16,Feuil1!$C$1:$BL$10,2,FALSE)","v":92},{"$f":"T16-HLOOKUP(X16,Feuil1!$C$1:$BL$10,3,FALSE)","v":72},{"$f":"T16-HLOOKUP(X16,Feuil1!$C$1:$BL$10,4,FALSE)","v":52},{"$f":"T16-HLOOKUP(X16,Feuil1!$C$1:$BL$10,5,FALSE)","v":32},{"$f":"T16-HLOOKUP(X16,Feuil1!$C$1:$BL$10,6,FALSE)","v":2},{"$f":"T16-HLOOKUP(X16,Feuil1!$C$1:$BL$10,7,FALSE)","v":-18},{"$f":"T16-HLOOKUP(X16,Feuil1!$C$1:$BL$10,8,FALSE)","v":-38},{"$f":"T16-HLOOKUP(X16,Feuil1!$C$1:$BL$10,9,FALSE)","v":-53},{"$f":"T16-HLOOKUP(X16,Feuil1!$C$1:$BL$10,10,FALSE)","v":-68},null,null,null,null,null,null,"FED +"]
["H","Nord","PIC","7",34508,"JEROME","Alexis",1989,65.5,"Senlis Ligne & Forme","F",95,-100,100,100,120,-125,-125,120,220,89,"FED +",0,{"$f":"IF(I17=\"\",\"\",IF(A17=\"H\",IF(OR(H17=\"SEN\",H17<1995),VLOOKUP(I17,Feuil1!$A$11:$F$29,6),IF(AND(H17>1994,H17<1998),VLOOKUP(I17,Feuil1!$A$11:$F$29,5),IF(AND(H17>1997,H17<2000),VLOOKUP(I17,Feuil1!$A$11:$F$29,4),IF(AND(H17>1999,H17<2002),VLOOKUP(I17,Feuil1!$A$11:$F$29,3),VLOOKUP(I17,Feuil1!$A$11:$F$29,2))))),IF(OR(H17=\"SEN\",H17<1995),VLOOKUP(I17,Feuil1!$G$11:$L$25,6),IF(AND(H17>1994,H17<1998),VLOOKUP(I17,Feuil1!$G$11:$L$25,5),IF(AND(H17>1997,H17<2000),VLOOKUP(I17,Feuil1!$G$11:$L$25,4),IF(AND(H17>1999,H17<2002),VLOOKUP(I17,Feuil1!$G$11:$L$25,3),VLOOKUP(I17,Feuil1!$G$11:$L$25,2)))))))","v":"S69"},306.26542777222448,null," ",{"$f":"T17-HLOOKUP(X17,Feuil1!$C$1:$BL$10,2,FALSE)","v":90},{"$f":"T17-HLOOKUP(X17,Feuil1!$C$1:$BL$10,3,FALSE)","v":70},{"$f":"T17-HLOOKUP(X17,Feuil1!$C$1:$BL$10,4,FALSE)","v":50},{"$f":"T17-HLOOKUP(X17,Feuil1!$C$1:$BL$10,5,FALSE)","v":30},{"$f":"T17-HLOOKUP(X17,Feuil1!$C$1:$BL$10,6,FALSE)","v":0},{"$f":"T17-HLOOKUP(X17,Feuil1!$C$1:$BL$10,7,FALSE)","v":-20},{"$f":"T17-HLOOKUP(X17,Feuil1!$C$1:$BL$10,8,FALSE)","v":-40},{"$f":"T17-HLOOKUP(X17,Feuil1!$C$1:$BL$10,9,FALSE)","v":-55},{"$f":"T17-HLOOKUP(X17,Feuil1!$C$1:$BL$10,10,FALSE)","v":-70},null,null,null,null,null,null,"FED +"]
["H","Nord","IDF","8",357546,"BRIK","Yanis",1991,66.099999999999994,"Rueil AC","F",93,97,100,100,-115,120,-125,120,220,87.800000000000011,"FED +",0,{"$f":"IF(I18=\"\",\"\",IF(A18=\"H\",IF(OR(H18=\"SEN\",H18<1995),VLOOKUP(I18,Feuil1!$A$11:$F$29,6),IF(AND(H18>1994,H18<1998),VLOOKUP(I18,Feuil1!$A$11:$F$29,5),IF(AND(H18>1997,H18<2000),VLOOKUP(I18,Feuil1!$A$11:$F$29,4),IF(AND(H18>1999,H18<2002),VLOOKUP(I18,Feuil1!$A$11:$F$29,3),VLOOKUP(I18,Feuil1!$A$11:$F$29,2))))),IF(OR(H18=\"SEN\",H18<1995),VLOOKUP(I18,Feuil1!$G$11:$L$25,6),IF(AND(H18>1994,H18<1998),VLOOKUP(I18,Feuil1!$G$11:$L$25,5),IF(AND(H18>1997,H18<2000),VLOOKUP(I18,Feuil1!$G$11:$L$25,4),IF(AND(H18>1999,H18<2002),VLOOKUP(I18,Feuil1!$G$11:$L$25,3),VLOOKUP(I18,Feuil1!$G$11:$L$25,2)))))))","v":"S69"},304.39303106094985,null," ",{"$f":"T18-HLOOKUP(X18,Feuil1!$C$1:$BL$10,2,FALSE)","v":90},{"$f":"T18-HLOOKUP(X18,Feuil1!$C$1:$BL$10,3,FALSE)","v":70},{"$f":"T18-HLOOKUP(X18,Feuil1!$C$1:$BL$10,4,FALSE)","v":50},{"$f":"T18-HLOOKUP(X18,Feuil1!$C$1:$BL$10,5,FALSE)","v":30},{"$f":"T18-HLOOKUP(X18,Feuil1!$C$1:$BL$10,6,FALSE)","v":0},{"$f":"T18-HLOOKUP(X18,Feuil1!$C$1:$BL$10,7,FALSE)","v":-20},{"$f":"T18-HLOOKUP(X18,Feuil1!$C$1:$BL$10,8,FALSE)","v":-40},{"$f":"T18-HLOOKUP(X18,Feuil1!$C$1:$BL$10,9,FALSE)","v":-55},{"$f":"T18-HLOOKUP(X18,Feuil1!$C$1:$BL$10,10,FALSE)","v":-70},null,null,null,null,null,null,"FED +"]
["H","Nord","NPC","9",2579,"FONTENELLE","Ludovic",1979,67.900000000000006,"CHCD Comines","F",95,98,-101,98,117,-122,-122,117,215,79.199999999999989,"IRG +",25,{"$f":"IF(I19=\"\",\"\",IF(A19=\"H\",IF(OR(H19=\"SEN\",H19<1995),VLOOKUP(I19,Feuil1!$A$11:$F$29,6),IF(AND(H19>1994,H19<1998),VLOOKUP(I19,Feuil1!$A$11:$F$29,5),IF(AND(H19>1997,H19<2000),VLOOKUP(I19,Feuil1!$A$11:$F$29,4),IF(AND(H19>1999,H19<2002),VLOOKUP(I19,Feuil1!$A$11:$F$29,3),VLOOKUP(I19,Feuil1!$A$11:$F$29,2))))),IF(OR(H19=\"SEN\",H19<1995),VLOOKUP(I19,Feuil1!$G$11:$L$25,6),IF(AND(H19>1994,H19<1998),VLOOKUP(I19,Feuil1!$G$11:$L$25,5),IF(AND(H19>1997,H19<2000),VLOOKUP(I19,Feuil1!$G$11:$L$25,4),IF(AND(H19>1999,H19<2002),VLOOKUP(I19,Feuil1!$G$11:$L$25,3),VLOOKUP(I19,Feuil1!$G$11:$L$25,2)))))))","v":"S69"},292.24575796552807,null," ",{"$f":"T19-HLOOKUP(X19,Feuil1!$C$1:$BL$10,2,FALSE)","v":85},{"$f":"T19-HLOOKUP(X19,Feuil1!$C$1:$BL$10,3,FALSE)","v":65},{"$f":"T19-HLOOKUP(X19,Feuil1!$C$1:$BL$10,4,FALSE)","v":45},{"$f":"T19-HLOOKUP(X19,Feuil1!$C$1:$BL$10,5,FALSE)","v":25},{"$f":"T19-HLOOKUP(X19,Feuil1!$C$1:$BL$10,6,FALSE)","v":-5},{"$f":"T19-HLOOKUP(X19,Feuil1!$C$1:$BL$10,7,FALSE)","v":-25},{"$f":"T19-HLOOKUP(X19,Feuil1!$C$1:$BL$10,8,FALSE)","v":-45},{"$f":"T19-HLOOKUP(X19,Feuil1!$C$1:$BL$10,9,FALSE)","v":-60},{"$f":"T19-HLOOKUP(X19,Feuil1!$C$1:$BL$10,10,FALSE)","v":-75},null,null,null,null,null,null,"IRG +"]
["H","Nord","PIC","10",75095,"JEROME","Kévin",1992,68.900000000000006,"Senlis Ligne & Forme","F",-95,95,-100,95,120,-125,-125,120,215,77.199999999999989,"IRG +",25,{"$f":"IF(I20=\"\",\"\",IF(A20=\"H\",IF(OR(H20=\"SEN\",H20<1995),VLOOKUP(I20,Feuil1!$A$11:$F$29,6),IF(AND(H20>1994,H20<1998),VLOOKUP(I20,Feuil1!$A$11:$F$29,5),IF(AND(H20>1997,H20<2000),VLOOKUP(I20,Feuil1!$A$11:$F$29,4),IF(AND(H20>1999,H20<2002),VLOOKUP(I20,Feuil1!$A$11:$F$29,3),VLOOKUP(I20,Feuil1!$A$11:$F$29,2))))),IF(OR(H20=\"SEN\",H20<1995),VLOOKUP(I20,Feuil1!$G$11:$L$25,6),IF(AND(H20>1994,H20<1998),VLOOKUP(I20,Feuil1!$G$11:$L$25,5),IF(AND(H20>1997,H20<2000),VLOOKUP(I20,Feuil1!$G$11:$L$25,4),IF(AND(H20>1999,H20<2002),VLOOKUP(I20,Feuil1!$G$11:$L$25,3),VLOOKUP(I20,Feuil1!$G$11:$L$25,2)))))))","v":"S69"},289.49949795598928,null," ",{"$f":"T20-HLOOKUP(X20,Feuil1!$C$1:$BL$10,2,FALSE)","v":85},{"$f":"T20-HLOOKUP(X20,Feuil1!$C$1:$BL$10,3,FALSE)","v":65},{"$f":"T20-HLOOKUP(X20,Feuil1!$C$1:$BL$10,4,FALSE)","v":45},{"$f":"T20-HLOOKUP(X20,Feuil1!$C$1:$BL$10,5,FALSE)","v":25},{"$f":"T20-HLOOKUP(X20,Feuil1!$C$1:$BL$10,6,FALSE)","v":-5},{"$f":"T20-HLOOKUP(X20,Feuil1!$C$1:$BL$10,7,FALSE)","v":-25},{"$f":"T20-HLOOKUP(X20,Feuil1!$C$1:$BL$10,8,FALSE)","v":-45},{"$f":"T20-HLOOKUP(X20,Feuil1!$C$1:$BL$10,9,FALSE)","v":-60},{"$f":"T20-HLOOKUP(X20,Feuil1!$C$1:$BL$10,10,FALSE)","v":-75},null,null,null,null,null,null,"IRG +"]
["H","ZCO","PDL","11",19801,"MEZIERE","Benjamin",1990,68.819999999999993,"CA Evron 53","F",90,95,-98,95,112,-116,-116,112,207,69.360000000000014,"IRG +",17,{"$f":"IF(I21=\"\",\"\",IF(A21=\"H\",IF(OR(H21=\"SEN\",H21<1995),VLOOKUP(I21,Feuil1!$A$11:$F$29,6),IF(AND(H21>1994,H21<1998),VLOOKUP(I21,Feuil1!$A$11:$F$29,5),IF(AND(H21>1997,H21<2000),VLOOKUP(I21,Feuil1!$A$11:$F$29,4),IF(AND(H21>1999,H21<2002),VLOOKUP(I21,Feuil1!$A$11:$F$29,3),VLOOKUP(I21,Feuil1!$A$11:$F$29,2))))),IF(OR(H21=\"SEN\",H21<1995),VLOOKUP(I21,Feuil1!$G$11:$L$25,6),IF(AND(H21>1994,H21<1998),VLOOKUP(I21,Feuil1!$G$11:$L$25,5),IF(AND(H21>1997,H21<2000),VLOOKUP(I21,Feuil1!$G$11:$L$25,4),IF(AND(H21>1999,H21<2002),VLOOKUP(I21,Feuil1!$G$11:$L$25,3),VLOOKUP(I21,Feuil1!$G$11:$L$25,2)))))))","v":"S69"},278.93511629698463,null," ",{"$f":"T21-HLOOKUP(X21,Feuil1!$C$1:$BL$10,2,FALSE)","v":77},{"$f":"T21-HLOOKUP(X21,Feuil1!$C$1:$BL$10,3,FALSE)","v":57},{"$f":"T21-HLOOKUP(X21,Feuil1!$C$1:$BL$10,4,FALSE)","v":37},{"$f":"T21-HLOOKUP(X21,Feuil1!$C$1:$BL$10,5,FALSE)","v":17},{"$f":"T21-HLOOKUP(X21,Feuil1!$C$1:$BL$10,6,FALSE)","v":-13},{"$f":"T21-HLOOKUP(X21,Feuil1!$C$1:$BL$10,7,FALSE)","v":-33},{"$f":"T21-HLOOKUP(X21,Feuil1!$C$1:$BL$10,8,FALSE)","v":-53},{"$f":"T21-HLOOKUP(X21,Feuil1!$C$1:$BL$10,9,FALSE)","v":-68},{"$f":"T21-HLOOKUP(X21,Feuil1!$C$1:$BL$10,10,FALSE)","v":-83},null,null,null,null,null,null,"IRG +"]
["H","DOM","GUA",12,271603,"BOURGAREL","Jean Bernard",1993,69,"AHCS/Pointois","F",85,90,-93,90,105,110,-115,{"$f":"IF(H22=\"\",\"\",IF(MAXA(P22:R22)<=0,0,MAXA(P22:R22)))","v":110},{"$f":"IF(H22=\"\",\"\",IF(OR(O22=0,S22=0),0,O22+S22))","v":200},{"$f":"T22-I22*2","v":62},{"$f":"IF(H22=\"\",\"\",AQ22)","v":"IRG +"},{"$f":"IF(AJ22>=0,AJ22,IF(AI22>=0,AI22,IF(AH22>=0,AH22,IF(AG22>=0,AG22,IF(AF22>=0,AF22,IF(AE22>=0,AE22,IF(AD22>=0,AD22,IF(AC22>=0,AC22,AB22))))))))","v":10},{"$f":"IF(I22=\"\",\"\",IF(A22=\"H\",IF(OR(H22=\"SEN\",H22<1995),VLOOKUP(I22,Feuil1!$A$11:$F$29,6),IF(AND(H22>1994,H22<1998),VLOOKUP(I22,Feuil1!$A$11:$F$29,5),IF(AND(H22>1997,H22<2000),VLOOKUP(I22,Feuil1!$A$11:$F$29,4),IF(AND(H22>1999,H22<2002),VLOOKUP(I22,Feuil1!$A$11:$F$29,3),VLOOKUP(I22,Feuil1!$A$11:$F$29,2))))),IF(OR(H22=\"SEN\",H22<1995),VLOOKUP(I22,Feuil1!$G$11:$L$25,6),IF(AND(H22>1994,H22<1998),VLOOKUP(I22,Feuil1!$G$11:$L$25,5),IF(AND(H22>1997,H22<2000),VLOOKUP(I22,Feuil1!$G$11:$L$25,4),IF(AND(H22>1999,H22<2002),VLOOKUP(I22,Feuil1!$G$11:$L$25,3),VLOOKUP(I22,Feuil1!$G$11:$L$25,2)))))))","v":"S69"},{"$f":"IF(I22=\"\",\"\",IF(A22=\"H\",10^(0.794358141*LOG(I22/174.393)^2)*T22,IF(A22=\"F\",10^(0.89726074*LOG(I22/148.026)^2)*T22,\"\")))","v":269.05191070234207},null," ",{"$f":"T22-HLOOKUP(X22,Feuil1!$C$1:$BL$10,2,FALSE)","v":70},{"$f":"T22-HLOOKUP(X22,Feuil1!$C$1:$BL$10,3,FALSE)","v":50},{"$f":"T22-HLOOKUP(X22,Feuil1!$C$1:$BL$10,4,FALSE)","v":30},{"$f":"T22-HLOOKUP(X22,Feuil1!$C$1:$BL$10,5,FALSE)","v":10},{"$f":"T22-HLOOKUP(X22,Feuil1!$C$1:$BL$10,6,FALSE)","v":-20},{"$f":"T22-HLOOKUP(X22,Feuil1!$C$1:$BL$10,7,FALSE)","v":-40},{"$f":"T22-HLOOKUP(X22,Feuil1!$C$1:$BL$10,8,FALSE)","v":-60},{"$f":"T22-HLOOKUP(X22,Feuil1!$C$1:$BL$10,9,FALSE)","v":-75},{"$f":"T22-HLOOKUP(X22,Feuil1!$C$1:$BL$10,10,FALSE)","v":-90},null,null,null,null,null,null,{"$f":"IF(AJ22>=0,$AJ$4,IF(AI22>=0,$AI$4,IF(AH22>=0,$AH$4,IF(AG22>=0,$AG$4,IF(AF22>=0,$AF$4,IF(AE22>=0,$AE$4,IF(AD22>=0,$AD$4,IF(AC22>=0,$AC$4,$AB$4))))))))","v":"IRG +"}]
["H","DOM","REU",13,366168,"RICHARD","Cedric",1985,67,"SCHM Saint Paul","F",90,-95,95,95,-100,100,-105,100,195,61,"IRG +",5,{"$f":"IF(I23=\"\",\"\",IF(A23=\"H\",IF(OR(H23=\"SEN\",H23<1995),VLOOKUP(I23,Feuil1!$A$11:$F$29,6),IF(AND(H23>1994,H23<1998),VLOOKUP(I23,Feuil1!$A$11:$F$29,5),IF(AND(H23>1997,H23<2000),VLOOKUP(I23,Feuil1!$A$11:$F$29,4),IF(AND(H23>1999,H23<2002),VLOOKUP(I23,Feuil1!$A$11:$F$29,3),VLOOKUP(I23,Feuil1!$A$11:$F$29,2))))),IF(OR(H23=\"SEN\",H23<1995),VLOOKUP(I23,Feuil1!$G$11:$L$25,6),IF(AND(H23>1994,H23<1998),VLOOKUP(I23,Feuil1!$G$11:$L$25,5),IF(AND(H23>1997,H23<2000),VLOOKUP(I23,Feuil1!$G$11:$L$25,4),IF(AND(H23>1999,H23<2002),VLOOKUP(I23,Feuil1!$G$11:$L$25,3),VLOOKUP(I23,Feuil1!$G$11:$L$25,2)))))))","v":"S69"},267.38842205006875,null," ",{"$f":"T23-HLOOKUP(X23,Feuil1!$C$1:$BL$10,2,FALSE)","v":65},{"$f":"T23-HLOOKUP(X23,Feuil1!$C$1:$BL$10,3,FALSE)","v":45},{"$f":"T23-HLOOKUP(X23,Feuil1!$C$1:$BL$10,4,FALSE)","v":25},{"$f":"T23-HLOOKUP(X23,Feuil1!$C$1:$BL$10,5,FALSE)","v":5},{"$f":"T23-HLOOKUP(X23,Feuil1!$C$1:$BL$10,6,FALSE)","v":-25},{"$f":"T23-HLOOKUP(X23,Feuil1!$C$1:$BL$10,7,FALSE)","v":-45},{"$f":"T23-HLOOKUP(X23,Feuil1!$C$1:$BL$10,8,FALSE)","v":-65},{"$f":"T23-HLOOKUP(X23,Feuil1!$C$1:$BL$10,9,FALSE)","v":-80},{"$f":"T23-HLOOKUP(X23,Feuil1!$C$1:$BL$10,10,FALSE)","v":-95},null,null,null,null,null,null,"IRG +"]
["H","NE","CHA",14,323378,"CHOL","Nicolas",1986,68,"Reims HM","F",76,80,84,84,101,-106,106,106,190,54,"IRG +",0,{"$f":"IF(I24=\"\",\"\",IF(A24=\"H\",IF(OR(H24=\"SEN\",H24<1995),VLOOKUP(I24,Feuil1!$A$11:$F$29,6),IF(AND(H24>1994,H24<1998),VLOOKUP(I24,Feuil1!$A$11:$F$29,5),IF(AND(H24>1997,H24<2000),VLOOKUP(I24,Feuil1!$A$11:$F$29,4),IF(AND(H24>1999,H24<2002),VLOOKUP(I24,Feuil1!$A$11:$F$29,3),VLOOKUP(I24,Feuil1!$A$11:$F$29,2))))),IF(OR(H24=\"SEN\",H24<1995),VLOOKUP(I24,Feuil1!$G$11:$L$25,6),IF(AND(H24>1994,H24<1998),VLOOKUP(I24,Feuil1!$G$11:$L$25,5),IF(AND(H24>1997,H24<2000),VLOOKUP(I24,Feuil1!$G$11:$L$25,4),IF(AND(H24>1999,H24<2002),VLOOKUP(I24,Feuil1!$G$11:$L$25,3),VLOOKUP(I24,Feuil1!$G$11:$L$25,2)))))))","v":"S69"},258.01663652807559,null," ",{"$f":"T24-HLOOKUP(X24,Feuil1!$C$1:$BL$10,2,FALSE)","v":60},{"$f":"T24-HLOOKUP(X24,Feuil1!$C$1:$BL$10,3,FALSE)","v":40},{"$f":"T24-HLOOKUP(X24,Feuil1!$C$1:$BL$10,4,FALSE)","v":20},{"$f":"T24-HLOOKUP(X24,Feuil1!$C$1:$BL$10,5,FALSE)","v":0},{"$f":"T24-HLOOKUP(X24,Feuil1!$C$1:$BL$10,6,FALSE)","v":-30},{"$f":"T24-HLOOKUP(X24,Feuil1!$C$1:$BL$10,7,FALSE)","v":-50},{"$f":"T24-HLOOKUP(X24,Feuil1!$C$1:$BL$10,8,FALSE)","v":-70},{"$f":"T24-HLOOKUP(X24,Feuil1!$C$1:$BL$10,9,FALSE)","v":-85},{"$f":"T24-HLOOKUP(X24,Feuil1!$C$1:$BL$10,10,FALSE)","v":-100},null,null,null,null,null,null,"IRG +"]
[null,null,null,null,null,null,null,null,null,null,null,null,null,null,null,null,null,null,null,null," ",null,null,{"$f":"IF(I25=\"\",\"\",IF(A25=\"H\",IF(OR(H25=\"SEN\",H25<1995),VLOOKUP(I25,Feuil1!$A$11:$F$29,6),IF(AND(H25>1994,H25<1998),VLOOKUP(I25,Feuil1!$A$11:$F$29,5),IF(AND(H25>1997,H25<2000),VLOOKUP(I25,Feuil1!$A$11:$F$29,4),IF(AND(H25>1999,H25<2002),VLOOKUP(I25,Feuil1!$A$11:$F$29,3),VLOOKUP(I25,Feuil1!$A$11:$F$29,2))))),IF(OR(H25=\"SEN\",H25<1995),VLOOKUP(I25,Feuil1!$G$11:$L$25,6),IF(AND(H25>1994,H25<1998),VLOOKUP(I25,Feuil1!$G$11:$L$25,5),IF(AND(H25>1997,H25<2000),VLOOKUP(I25,Feuil1!$G$11:$L$25,4),IF(AND(H25>1999,H25<2002),VLOOKUP(I25,Feuil1!$G$11:$L$25,3),VLOOKUP(I25,Feuil1!$G$11:$L$25,2)))))))","v":""},null,null,null,{"$f":"T25-HLOOKUP(X25,Feuil1!$C$1:$BL$10,2,FALSE)","v":{"$error":"#N/A"}},{"$f":"T25-HLOOKUP(X25,Feuil1!$C$1:$BL$10,3,FALSE)","v":{"$error":"#N/A"}},{"$f":"T25-HLOOKUP(X25,Feuil1!$C$1:$BL$10,4,FALSE)","v":{"$error":"#N/A"}},{"$f":"T25-HLOOKUP(X25,Feuil1!$C$1:$BL$10,5,FALSE)","v":{"$error":"#N/A"}},{"$f":"T25-HLOOKUP(X25,Feuil1!$C$1:$BL$10,6,FALSE)","v":{"$error":"#N/A"}},{"$f":"T25-HLOOKUP(X25,Feuil1!$C$1:$BL$10,7,FALSE)","v":{"$error":"#N/A"}},{"$f":"T25-HLOOKUP(X25,Feuil1!$C$1:$BL$10,8,FALSE)","v":{"$error":"#N/A"}},{"$f":"T25-HLOOKUP(X25,Feuil1!$C$1:$BL$10,9,FALSE)","v":{"$error":"#N/A"}},{"$f":"T25-HLOOKUP(X25,Feuil1!$C$1:$BL$10,10,FALSE)","v":{"$error":"#N/A"}}]
["H","ZCO","BRE",1,80728,"ISRAEL","Joachim",1987,76.8,"AL Quimper","F",119,124,127,{"$f":"IF(H26=\"\",\"\",IF(MAXA(L26:N26)<=0,0,MAXA(L26:N26)))","v":127},138,145,-148,{"$f":"IF(H26=\"\",\"\",IF(MAXA(P26:R26)<=0,0,MAXA(P26:R26)))","v":145},{"$f":"IF(H26=\"\",\"\",IF(OR(O26=0,S26=0),0,O26+S26))","v":272},118.4,{"$f":"IF(H26=\"\",\"\",AQ26)","v":"NAT +"},{"$f":"IF(AJ26>=0,AJ26,IF(AI26>=0,AI26,IF(AH26>=0,AH26,IF(AG26>=0,AG26,IF(AF26>=0,AF26,IF(AE26>=0,AE26,IF(AD26>=0,AD26,IF(AC26>=0,AC26,AB26))))))))","v":7},{"$f":"IF(I26=\"\",\"\",IF(A26=\"H\",IF(OR(H26=\"SEN\",H26<1995),VLOOKUP(I26,Feuil1!$A$11:$F$29,6),IF(AND(H26>1994,H26<1998),VLOOKUP(I26,Feuil1!$A$11:$F$29,5),IF(AND(H26>1997,H26<2000),VLOOKUP(I26,Feuil1!$A$11:$F$29,4),IF(AND(H26>1999,H26<2002),VLOOKUP(I26,Feuil1!$A$11:$F$29,3),VLOOKUP(I26,Feuil1!$A$11:$F$29,2))))),IF(OR(H26=\"SEN\",H26<1995),VLOOKUP(I26,Feuil1!$G$11:$L$25,6),IF(AND(H26>1994,H26<1998),VLOOKUP(I26,Feuil1!$G$11:$L$25,5),IF(AND(H26>1997,H26<2000),VLOOKUP(I26,Feuil1!$G$11:$L$25,4),IF(AND(H26>1999,H26<2002),VLOOKUP(I26,Feuil1!$G$11:$L$25,3),VLOOKUP(I26,Feuil1!$G$11:$L$25,2)))))))","v":"S77"},{"$f":"IF(I26=\"\",\"\",IF(A26=\"H\",10^(0.794358141*LOG(I26/174.393)^2)*T26,IF(A26=\"F\",10^(0.89726074*LOG(I26/148.026)^2)*T26,\"\")))","v":343.03435804645312},null," ",{"$f":"T26-HLOOKUP(X26,Feuil1!$C$1:$BL$10,2,FALSE)","v":122},{"$f":"T26-HLOOKUP(X26,Feuil1!$C$1:$BL$10,3,FALSE)","v":102},{"$f":"T26-HLOOKUP(X26,Feuil1!$C$1:$BL$10,4,FALSE)","v":82},{"$f":"T26-HLOOKUP(X26,Feuil1!$C$1:$BL$10,5,FALSE)","v":62},{"$f":"T26-HLOOKUP(X26,Feuil1!$C$1:$BL$10,6,FALSE)","v":32},{"$f":"T26-HLOOKUP(X26,Feuil1!$C$1:$BL$10,7,FALSE)","v":7},{"$f":"T26-HLOOKUP(X26,Feuil1!$C$1:$BL$10,8,FALSE)","v":-13},{"$f":"T26-HLOOKUP(X26,Feuil1!$C$1:$BL$10,9,FALSE)","v":-33},{"$f":"T26-HLOOKUP(X26,Feuil1!$C$1:$BL$10,10,FALSE)","v":-48},null,null,null,null,null,null,{"$f":"IF(AJ26>=0,$AJ$4,IF(AI26>=0,$AI$4,IF(AH26>=0,$AH$4,IF(AG26>=0,$AG$4,IF(AF26>=0,$AF$4,IF(AE26>=0,$AE$4,IF(AD26>=0,$AD$4,IF(AC26>=0,$AC$4,$AB$4))))))))","v":"NAT +"}]
["H","NE","FCO",2,94944,"LEPAUL","Emmanuel",1991,76.5,"CH LUXEUIL","F",123,-130,-135,123,145,"-","-",145,268,115,"NAT +",3,{"$f":"IF(I27=\"\",\"\",IF(A27=\"H\",IF(OR(H27=\"SEN\",H27<1995),VLOOKUP(I27,Feuil1!$A$11:$F$29,6),IF(AND(H27>1994,H27<1998),VLOOKUP(I27,Feuil1!$A$11:$F$29,5),IF(AND(H27>1997,H27<2000),VLOOKUP(I27,Feuil1!$A$11:$F$29,4),IF(AND(H27>1999,H27<2002),VLOOKUP(I27,Feuil1!$A$11:$F$29,3),VLOOKUP(I27,Feuil1!$A$11:$F$29,2))))),IF(OR(H27=\"SEN\",H27<1995),VLOOKUP(I27,Feuil1!$G$11:$L$25,6),IF(AND(H27>1994,H27<1998),VLOOKUP(I27,Feuil1!$G$11:$L$25,5),IF(AND(H27>1997,H27<2000),VLOOKUP(I27,Feuil1!$G$11:$L$25,4),IF(AND(H27>1999,H27<2002),VLOOKUP(I27,Feuil1!$G$11:$L$25,3),VLOOKUP(I27,Feuil1!$G$11:$L$25,2)))))))","v":"S77"},338.74089336196329,null," ",{"$f":"T27-HLOOKUP(X27,Feuil1!$C$1:$BL$10,2,FALSE)","v":118},{"$f":"T27-HLOOKUP(X27,Feuil1!$C$1:$BL$10,3,FALSE)","v":98},{"$f":"T27-HLOOKUP(X27,Feuil1!$C$1:$BL$10,4,FALSE)","v":78},{"$f":"T27-HLOOKUP(X27,Feuil1!$C$1:$BL$10,5,FALSE)","v":58},{"$f":"T27-HLOOKUP(X27,Feuil1!$C$1:$BL$10,6,FALSE)","v":28},{"$f":"T27-HLOOKUP(X27,Feuil1!$C$1:$BL$10,7,FALSE)","v":3},{"$f":"T27-HLOOKUP(X27,Feuil1!$C$1:$BL$10,8,FALSE)","v":-17},{"$f":"T27-HLOOKUP(X27,Feuil1!$C$1:$BL$10,9,FALSE)","v":-37},{"$f":"T27-HLOOKUP(X27,Feuil1!$C$1:$BL$10,10,FALSE)","v":-52},null,null,null,null,null,null,"NAT +"]
["H","Nord","NPC",3,166230,"BERAL","Sébastien",1986,76.5,"OSM Lomme","F",110,-117,117,117,128,133,137,137,254,101,"FED +",14,{"$f":"IF(I28=\"\",\"\",IF(A28=\"H\",IF(OR(H28=\"SEN\",H28<1995),VLOOKUP(I28,Feuil1!$A$11:$F$29,6),IF(AND(H28>1994,H28<1998),VLOOKUP(I28,Feuil1!$A$11:$F$29,5),IF(AND(H28>1997,H28<2000),VLOOKUP(I28,Feuil1!$A$11:$F$29,4),IF(AND(H28>1999,H28<2002),VLOOKUP(I28,Feuil1!$A$11:$F$29,3),VLOOKUP(I28,Feuil1!$A$11:$F$29,2))))),IF(OR(H28=\"SEN\",H28<1995),VLOOKUP(I28,Feuil1!$G$11:$L$25,6),IF(AND(H28>1994,H28<1998),VLOOKUP(I28,Feuil1!$G$11:$L$25,5),IF(AND(H28>1997,H28<2000),VLOOKUP(I28,Feuil1!$G$11:$L$25,4),IF(AND(H28>1999,H28<2002),VLOOKUP(I28,Feuil1!$G$11:$L$25,3),VLOOKUP(I28,Feuil1!$G$11:$L$25,2)))))))","v":"S77"},321.04547355947267,null," ",{"$f":"T28-HLOOKUP(X28,Feuil1!$C$1:$BL$10,2,FALSE)","v":104},{"$f":"T28-HLOOKUP(X28,Feuil1!$C$1:$BL$10,3,FALSE)","v":84},{"$f":"T28-HLOOKUP(X28,Feuil1!$C$1:$BL$10,4,FALSE)","v":64},{"$f":"T28-HLOOKUP(X28,Feuil1!$C$1:$BL$10,5,FALSE)","v":44},{"$f":"T28-HLOOKUP(X28,Feuil1!$C$1:$BL$10,6,FALSE)","v":14},{"$f":"T28-HLOOKUP(X28,Feuil1!$C$1:$BL$10,7,FALSE)","v":-11},{"$f":"T28-HLOOKUP(X28,Feuil1!$C$1:$BL$10,8,FALSE)","v":-31},{"$f":"T28-HLOOKUP(X28,Feuil1!$C$1:$BL$10,9,FALSE)","v":-51},{"$f":"T28-HLOOKUP(X28,Feuil1!$C$1:$BL$10,10,FALSE)","v":-66},null,null,null,null,null,null,"FED +"]
["H","SEST","PRO",4,652,"BAZIN","Anthony",1983,76.3,"H.M. STE TULLE","F",107,-111,-111,107,140,145,-148,145,252,99.4,"FED +",12,{"$f":"IF(I29=\"\",\"\",IF(A29=\"H\",IF(OR(H29=\"SEN\",H29<1995),VLOOKUP(I29,Feuil1!$A$11:$F$29,6),IF(AND(H29>1994,H29<1998),VLOOKUP(I29,Feuil1!$A$11:$F$29,5),IF(AND(H29>1997,H29<2000),VLOOKUP(I29,Feuil1!$A$11:$F$29,4),IF(AND(H29>1999,H29<2002),VLOOKUP(I29,Feuil1!$A$11:$F$29,3),VLOOKUP(I29,Feuil1!$A$11:$F$29,2))))),IF(OR(H29=\"SEN\",H29<1995),VLOOKUP(I29,Feuil1!$G$11:$L$25,6),IF(AND(H29>1994,H29<1998),VLOOKUP(I29,Feuil1!$G$11:$L$25,5),IF(AND(H29>1997,H29<2000),VLOOKUP(I29,Feuil1!$G$11:$L$25,4),IF(AND(H29>1999,H29<2002),VLOOKUP(I29,Feuil1!$G$11:$L$25,3),VLOOKUP(I29,Feuil1!$G$11:$L$25,2)))))))","v":"S77"},318.99272976642743,null," ",{"$f":"T29-HLOOKUP(X29,Feuil1!$C$1:$BL$10,2,FALSE)","v":102},{"$f":"T29-HLOOKUP(X29,Feuil1!$C$1:$BL$10,3,FALSE)","v":82},{"$f":"T29-HLOOKUP(X29,Feuil1!$C$1:$BL$10,4,FALSE)","v":62},{"$f":"T29-HLOOKUP(X29,Feuil1!$C$1:$BL$10,5,FALSE)","v":42},{"$f":"T29-HLOOKUP(X29,Feuil1!$C$1:$BL$10,6,FALSE)","v":12},{"$f":"T29-HLOOKUP(X29,Feuil1!$C$1:$BL$10,7,FALSE)","v":-13},{"$f":"T29-HLOOKUP(X29,Feuil1!$C$1:$BL$10,8,FALSE)","v":-33},{"$f":"T29-HLOOKUP(X29,Feuil1!$C$1:$BL$10,9,FALSE)","v":-53},{"$f":"T29-HLOOKUP(X29,Feuil1!$C$1:$BL$10,10,FALSE)","v":-68},null,null,null,null,null,null,"FED +"]
["H","ZCO","BRE",5,122826,"BEQUET","Jérémmy",1988,77,"ES Saint-Avé","F",102,-107,107,107,-140,-140,140,140,247,93,"FED +",7,{"$f":"IF(I30=\"\",\"\",IF(A30=\"H\",IF(OR(H30=\"SEN\",H30<1995),VLOOKUP(I30,Feuil1!$A$11:$F$29,6),IF(AND(H30>1994,H30<1998),VLOOKUP(I30,Feuil1!$A$11:$F$29,5),IF(AND(H30>1997,H30<2000),VLOOKUP(I30,Feuil1!$A$11:$F$29,4),IF(AND(H30>1999,H30<2002),VLOOKUP(I30,Feuil1!$A$11:$F$29,3),VLOOKUP(I30,Feuil1!$A$11:$F$29,2))))),IF(OR(H30=\"SEN\",H30<1995),VLOOKUP(I30,Feuil1!$G$11:$L$25,6),IF(AND(H30>1994,H30<1998),VLOOKUP(I30,Feuil1!$G$11:$L$25,5),IF(AND(H30>1997,H30<2000),VLOOKUP(I30,Feuil1!$G$11:$L$25,4),IF(AND(H30>1999,H30<2002),VLOOKUP(I30,Feuil1!$G$11:$L$25,3),VLOOKUP(I30,Feuil1!$G$11:$L$25,2)))))))","v":"S77"},311.04810039128557,null," ",{"$f":"T30-HLOOKUP(X30,Feuil1!$C$1:$BL$10,2,FALSE)","v":97},{"$f":"T30-HLOOKUP(X30,Feuil1!$C$1:$BL$10,3,FALSE)","v":77},{"$f":"T30-HLOOKUP(X30,Feuil1!$C$1:$BL$10,4,FALSE)","v":57},{"$f":"T30-HLOOKUP(X30,Feuil1!$C$1:$BL$10,5,FALSE)","v":37},{"$f":"T30-HLOOKUP(X30,Feuil1!$C$1:$BL$10,6,FALSE)","v":7},{"$f":"T30-HLOOKUP(X30,Feuil1!$C$1:$BL$10,7,FALSE)","v":-18},{"$f":"T30-HLOOKUP(X30,Feuil1!$C$1:$BL$10,8,FALSE)","v":-38},{"$f":"T30-HLOOKUP(X30,Feuil1!$C$1:$BL$10,9,FALSE)","v":-58},{"$f":"T30-HLOOKUP(X30,Feuil1!$C$1:$BL$10,10,FALSE)","v":-73},null,null,null,null,null,null,"FED +"]
["H","Nord","PIC",6,269669,"PECQUEUX","Maxence",1994,75.400000000000006,"Villers-Bretonneux KC","F",100,105,-110,105,135,141,-146,141,246,95.199999999999989,"FED +",6,{"$f":"IF(I31=\"\",\"\",IF(A31=\"H\",IF(OR(H31=\"SEN\",H31<1995),VLOOKUP(I31,Feuil1!$A$11:$F$29,6),IF(AND(H31>1994,H31<1998),VLOOKUP(I31,Feuil1!$A$11:$F$29,5),IF(AND(H31>1997,H31<2000),VLOOKUP(I31,Feuil1!$A$11:$F$29,4),IF(AND(H31>1999,H31<2002),VLOOKUP(I31,Feuil1!$A$11:$F$29,3),VLOOKUP(I31,Feuil1!$A$11:$F$29,2))))),IF(OR(H31=\"SEN\",H31<1995),VLOOKUP(I31,Feuil1!$G$11:$L$25,6),IF(AND(H31>1994,H31<1998),VLOOKUP(I31,Feuil1!$G$11:$L$25,5),IF(AND(H31>1997,H31<2000),VLOOKUP(I31,Feuil1!$G$11:$L$25,4),IF(AND(H31>1999,H31<2002),VLOOKUP(I31,Feuil1!$G$11:$L$25,3),VLOOKUP(I31,Feuil1!$G$11:$L$25,2)))))))","v":"S77"},313.52747257190538,null," ",{"$f":"T31-HLOOKUP(X31,Feuil1!$C$1:$BL$10,2,FALSE)","v":96},{"$f":"T31-HLOOKUP(X31,Feuil1!$C$1:$BL$10,3,FALSE)","v":76},{"$f":"T31-HLOOKUP(X31,Feuil1!$C$1:$BL$10,4,FALSE)","v":56},{"$f":"T31-HLOOKUP(X31,Feuil1!$C$1:$BL$10,5,FALSE)","v":36},{"$f":"T31-HLOOKUP(X31,Feuil1!$C$1:$BL$10,6,FALSE)","v":6},{"$f":"T31-HLOOKUP(X31,Feuil1!$C$1:$BL$10,7,FALSE)","v":-19},{"$f":"T31-HLOOKUP(X31,Feuil1!$C$1:$BL$10,8,FALSE)","v":-39},{"$f":"T31-HLOOKUP(X31,Feuil1!$C$1:$BL$10,9,FALSE)","v":-59},{"$f":"T31-HLOOKUP(X31,Feuil1!$C$1:$BL$10,10,FALSE)","v":-74},null,null,null,null,null,null,"FED +"]
["H","SEST","RAL",7,209228,"SARDARYAN","Gor",1992,76,"VAULX EN VELIN","F",-110,-110,110,110,135,-142,-142,135,245,93,"FED +",5,{"$f":"IF(I32=\"\",\"\",IF(A32=\"H\",IF(OR(H32=\"SEN\",H32<1995),VLOOKUP(I32,Feuil1!$A$11:$F$29,6),IF(AND(H32>1994,H32<1998),VLOOKUP(I32,Feuil1!$A$11:$F$29,5),IF(AND(H32>1997,H32<2000),VLOOKUP(I32,Feuil1!$A$11:$F$29,4),IF(AND(H32>1999,H32<2002),VLOOKUP(I32,Feuil1!$A$11:$F$29,3),VLOOKUP(I32,Feuil1!$A$11:$F$29,2))))),IF(OR(H32=\"SEN\",H32<1995),VLOOKUP(I32,Feuil1!$G$11:$L$25,6),IF(AND(H32>1994,H32<1998),VLOOKUP(I32,Feuil1!$G$11:$L$25,5),IF(AND(H32>1997,H32<2000),VLOOKUP(I32,Feuil1!$G$11:$L$25,4),IF(AND(H32>1999,H32<2002),VLOOKUP(I32,Feuil1!$G$11:$L$25,3),VLOOKUP(I32,Feuil1!$G$11:$L$25,2)))))))","v":"S77"},310.83112670928148,null," ",{"$f":"T32-HLOOKUP(X32,Feuil1!$C$1:$BL$10,2,FALSE)","v":95},{"$f":"T32-HLOOKUP(X32,Feuil1!$C$1:$BL$10,3,FALSE)","v":75},{"$f":"T32-HLOOKUP(X32,Feuil1!$C$1:$BL$10,4,FALSE)","v":55},{"$f":"T32-HLOOKUP(X32,Feuil1!$C$1:$BL$10,5,FALSE)","v":35},{"$f":"T32-HLOOKUP(X32,Feuil1!$C$1:$BL$10,6,FALSE)","v":5},{"$f":"T32-HLOOKUP(X32,Feuil1!$C$1:$BL$10,7,FALSE)","v":-20},{"$f":"T32-HLOOKUP(X32,Feuil1!$C$1:$BL$10,8,FALSE)","v":-40},{"$f":"T32-HLOOKUP(X32,Feuil1!$C$1:$BL$10,9,FALSE)","v":-60},{"$f":"T32-HLOOKUP(X32,Feuil1!$C$1:$BL$10,10,FALSE)","v":-75},null,null,null,null,null,null,"FED +"]
["H","ZCO","BRE",8,157718,"BEREHOUC","Maxime",1985,73.739999999999995,"AL Quimper","F",100,106,-108,106,128,134,-138,134,240,92.52000000000001,"FED +",0,{"$f":"IF(I33=\"\",\"\",IF(A33=\"H\",IF(OR(H33=\"SEN\",H33<1995),VLOOKUP(I33,Feuil1!$A$11:$F$29,6),IF(AND(H33>1994,H33<1998),VLOOKUP(I33,Feuil1!$A$11:$F$29,5),IF(AND(H33>1997,H33<2000),VLOOKUP(I33,Feuil1!$A$11:$F$29,4),IF(AND(H33>1999,H33<2002),VLOOKUP(I33,Feuil1!$A$11:$F$29,3),VLOOKUP(I33,Feuil1!$A$11:$F$29,2))))),IF(OR(H33=\"SEN\",H33<1995),VLOOKUP(I33,Feuil1!$G$11:$L$25,6),IF(AND(H33>1994,H33<1998),VLOOKUP(I33,Feuil1!$G$11:$L$25,5),IF(AND(H33>1997,H33<2000),VLOOKUP(I33,Feuil1!$G$11:$L$25,4),IF(AND(H33>1999,H33<2002),VLOOKUP(I33,Feuil1!$G$11:$L$25,3),VLOOKUP(I33,Feuil1!$G$11:$L$25,2)))))))","v":"S77"},309.89849531539835,null," ",{"$f":"T33-HLOOKUP(X33,Feuil1!$C$1:$BL$10,2,FALSE)","v":90},{"$f":"T33-HLOOKUP(X33,Feuil1!$C$1:$BL$10,3,FALSE)","v":70},{"$f":"T33-HLOOKUP(X33,Feuil1!$C$1:$BL$10,4,FALSE)","v":50},{"$f":"T33-HLOOKUP(X33,Feuil1!$C$1:$BL$10,5,FALSE)","v":30},{"$f":"T33-HLOOKUP(X33,Feuil1!$C$1:$BL$10,6,FALSE)","v":0},{"$f":"T33-HLOOKUP(X33,Feuil1!$C$1:$BL$10,7,FALSE)","v":-25},{"$f":"T33-HLOOKUP(X33,Feuil1!$C$1:$BL$10,8,FALSE)","v":-45},{"$f":"T33-HLOOKUP(X33,Feuil1!$C$1:$BL$10,9,FALSE)","v":-65},{"$f":"T33-HLOOKUP(X33,Feuil1!$C$1:$BL$10,10,FALSE)","v":-80},null,null,null,null,null,null,"FED +"]
["H","Nord","IDF",9,38385,"MÉLOU","Yohann",1985,76.400000000000006,"Rueil AC","F",-105,105,108,108,132,-137,-137,132,240,87.199999999999989,"FED +",0,{"$f":"IF(I34=\"\",\"\",IF(A34=\"H\",IF(OR(H34=\"SEN\",H34<1995),VLOOKUP(I34,Feuil1!$A$11:$F$29,6),IF(AND(H34>1994,H34<1998),VLOOKUP(I34,Feuil1!$A$11:$F$29,5),IF(AND(H34>1997,H34<2000),VLOOKUP(I34,Feuil1!$A$11:$F$29,4),IF(AND(H34>1999,H34<2002),VLOOKUP(I34,Feuil1!$A$11:$F$29,3),VLOOKUP(I34,Feuil1!$A$11:$F$29,2))))),IF(OR(H34=\"SEN\",H34<1995),VLOOKUP(I34,Feuil1!$G$11:$L$25,6),IF(AND(H34>1994,H34<1998),VLOOKUP(I34,Feuil1!$G$11:$L$25,5),IF(AND(H34>1997,H34<2000),VLOOKUP(I34,Feuil1!$G$11:$L$25,4),IF(AND(H34>1999,H34<2002),VLOOKUP(I34,Feuil1!$G$11:$L$25,3),VLOOKUP(I34,Feuil1!$G$11:$L$25,2)))))))","v":"S77"},303.57591493116445,null," ",{"$f":"T34-HLOOKUP(X34,Feuil1!$C$1:$BL$10,2,FALSE)","v":90},{"$f":"T34-HLOOKUP(X34,Feuil1!$C$1:$BL$10,3,FALSE)","v":70},{"$f":"T34-HLOOKUP(X34,Feuil1!$C$1:$BL$10,4,FALSE)","v":50},{"$f":"T34-HLOOKUP(X34,Feuil1!$C$1:$BL$10,5,FALSE)","v":30},{"$f":"T34-HLOOKUP(X34,Feuil1!$C$1:$BL$10,6,FALSE)","v":0},{"$f":"T34-HLOOKUP(X34,Feuil1!$C$1:$BL$10,7,FALSE)","v":-25},{"$f":"T34-HLOOKUP(X34,Feuil1!$C$1:$BL$10,8,FALSE)","v":-45},{"$f":"T34-HLOOKUP(X34,Feuil1!$C$1:$BL$10,9,FALSE)","v":-65},{"$f":"T34-HLOOKUP(X34,Feuil1!$C$1:$BL$10,10,FALSE)","v":-80},null,null,null,null,null,null,"FED +"]
["H","SEST","PRO",10,8608,"LAUGIER","Jonathan",1989,76.900000000000006,"EEAR. MONTEUX","F",105,110,-115,110,125,130,"-",130,240,86.199999999999989,"FED +",0,{"$f":"IF(I35=\"\",\"\",IF(A35=\"H\",IF(OR(H35=\"SEN\",H35<1995),VLOOKUP(I35,Feuil1!$A$11:$F$29,6),IF(AND(H35>1994,H35<1998),VLOOKUP(I35,Feuil1!$A$11:$F$29,5),IF(AND(H35>1997,H35<2000),VLOOKUP(I35,Feuil1!$A$11:$F$29,4),IF(AND(H35>1999,H35<2002),VLOOKUP(I35,Feuil1!$A$11:$F$29,3),VLOOKUP(I35,Feuil1!$A$11:$F$29,2))))),IF(OR(H35=\"SEN\",H35<1995),VLOOKUP(I35,Feuil1!$G$11:$L$25,6),IF(AND(H35>1994,H35<1998),VLOOKUP(I35,Feuil1!$G$11:$L$25,5),IF(AND(H35>1997,H35<2000),VLOOKUP(I35,Feuil1!$G$11:$L$25,4),IF(AND(H35>1999,H35<2002),VLOOKUP(I35,Feuil1!$G$11:$L$25,3),VLOOKUP(I35,Feuil1!$G$11:$L$25,2)))))))","v":"S77"},302.45477085338121,null," ",{"$f":"T35-HLOOKUP(X35,Feuil1!$C$1:$BL$10,2,FALSE)","v":90},{"$f":"T35-HLOOKUP(X35,Feuil1!$C$1:$BL$10,3,FALSE)","v":70},{"$f":"T35-HLOOKUP(X35,Feuil1!$C$1:$BL$10,4,FALSE)","v":50},{"$f":"T35-HLOOKUP(X35,Feuil1!$C$1:$BL$10,5,FALSE)","v":30},{"$f":"T35-HLOOKUP(X35,Feuil1!$C$1:$BL$10,6,FALSE)","v":0},{"$f":"T35-HLOOKUP(X35,Feuil1!$C$1:$BL$10,7,FALSE)","v":-25},{"$f":"T35-HLOOKUP(X35,Feuil1!$C$1:$BL$10,8,FALSE)","v":-45},{"$f":"T35-HLOOKUP(X35,Feuil1!$C$1:$BL$10,9,FALSE)","v":-65},{"$f":"T35-HLOOKUP(X35,Feuil1!$C$1:$BL$10,10,FALSE)","v":-80},null,null,null,null,null,null,"FED +"]
["H","NE","LOR",11,1195,"ANDRIEUX","Nicolas",1984,76.7,"E.S.Laneuveville","F",100,103,-105,103,125,132,"-",132,235,81.599999999999994,"IRG +",25,{"$f":"IF(I36=\"\",\"\",IF(A36=\"H\",IF(OR(H36=\"SEN\",H36<1995),VLOOKUP(I36,Feuil1!$A$11:$F$29,6),IF(AND(H36>1994,H36<1998),VLOOKUP(I36,Feuil1!$A$11:$F$29,5),IF(AND(H36>1997,H36<2000),VLOOKUP(I36,Feuil1!$A$11:$F$29,4),IF(AND(H36>1999,H36<2002),VLOOKUP(I36,Feuil1!$A$11:$F$29,3),VLOOKUP(I36,Feuil1!$A$11:$F$29,2))))),IF(OR(H36=\"SEN\",H36<1995),VLOOKUP(I36,Feuil1!$G$11:$L$25,6),IF(AND(H36>1994,H36<1998),VLOOKUP(I36,Feuil1!$G$11:$L$25,5),IF(AND(H36>1997,H36<2000),VLOOKUP(I36,Feuil1!$G$11:$L$25,4),IF(AND(H36>1999,H36<2002),VLOOKUP(I36,Feuil1!$G$11:$L$25,3),VLOOKUP(I36,Feuil1!$G$11:$L$25,2)))))))","v":"S77"},296.59035432359866,null," ",{"$f":"T36-HLOOKUP(X36,Feuil1!$C$1:$BL$10,2,FALSE)","v":85},{"$f":"T36-HLOOKUP(X36,Feuil1!$C$1:$BL$10,3,FALSE)","v":65},{"$f":"T36-HLOOKUP(X36,Feuil1!$C$1:$BL$10,4,FALSE)","v":45},{"$f":"T36-HLOOKUP(X36,Feuil1!$C$1:$BL$10,5,FALSE)","v":25},{"$f":"T36-HLOOKUP(X36,Feuil1!$C$1:$BL$10,6,FALSE)","v":-5},{"$f":"T36-HLOOKUP(X36,Feuil1!$C$1:$BL$10,7,FALSE)","v":-30},{"$f":"T36-HLOOKUP(X36,Feuil1!$C$1:$BL$10,8,FALSE)","v":-50},{"$f":"T36-HLOOKUP(X36,Feuil1!$C$1:$BL$10,9,FALSE)","v":-70},{"$f":"T36-HLOOKUP(X36,Feuil1!$C$1:$BL$10,10,FALSE)","v":-85},null,null,null,null,null,null,"IRG +"]
["H","SEST","PRO",12,1852,"DEBARROS","Daniel",1984,75.8,"ISTRES SPORTS","F",100,-105,-105,100,125,133,-138,133,233,81.400000000000006,"IRG +",23,{"$f":"IF(I37=\"\",\"\",IF(A37=\"H\",IF(OR(H37=\"SEN\",H37<1995),VLOOKUP(I37,Feuil1!$A$11:$F$29,6),IF(AND(H37>1994,H37<1998),VLOOKUP(I37,Feuil1!$A$11:$F$29,5),IF(AND(H37>1997,H37<2000),VLOOKUP(I37,Feuil1!$A$11:$F$29,4),IF(AND(H37>1999,H37<2002),VLOOKUP(I37,Feuil1!$A$11:$F$29,3),VLOOKUP(I37,Feuil1!$A$11:$F$29,2))))),IF(OR(H37=\"SEN\",H37<1995),VLOOKUP(I37,Feuil1!$G$11:$L$25,6),IF(AND(H37>1994,H37<1998),VLOOKUP(I37,Feuil1!$G$11:$L$25,5),IF(AND(H37>1997,H37<2000),VLOOKUP(I37,Feuil1!$G$11:$L$25,4),IF(AND(H37>1999,H37<2002),VLOOKUP(I37,Feuil1!$G$11:$L$25,3),VLOOKUP(I37,Feuil1!$G$11:$L$25,2)))))))","v":"S77"},296.0541808073379,null," ",{"$f":"T37-HLOOKUP(X37,Feuil1!$C$1:$BL$10,2,FALSE)","v":83},{"$f":"T37-HLOOKUP(X37,Feuil1!$C$1:$BL$10,3,FALSE)","v":63},{"$f":"T37-HLOOKUP(X37,Feuil1!$C$1:$BL$10,4,FALSE)","v":43},{"$f":"T37-HLOOKUP(X37,Feuil1!$C$1:$BL$10,5,FALSE)","v":23},{"$f":"T37-HLOOKUP(X37,Feuil1!$C$1:$BL$10,6,FALSE)","v":-7},{"$f":"T37-HLOOKUP(X37,Feuil1!$C$1:$BL$10,7,FALSE)","v":-32},{"$f":"T37-HLOOKUP(X37,Feuil1!$C$1:$BL$10,8,FALSE)","v":-52},{"$f":"T37-HLOOKUP(X37,Feuil1!$C$1:$BL$10,9,FALSE)","v":-72},{"$f":"T37-HLOOKUP(X37,Feuil1!$C$1:$BL$10,10,FALSE)","v":-87},null,null,null,null,null,null,"IRG +"]
["H","ZCO","PDL",13,25361,"LECHAT","Kévin",1992,70.099999999999994,"CA Evron 53","F",97,101,104,104,117,122,125,125,229,88.800000000000011,"IRG +",19,{"$f":"IF(I38=\"\",\"\",IF(A38=\"H\",IF(OR(H38=\"SEN\",H38<1995),VLOOKUP(I38,Feuil1!$A$11:$F$29,6),IF(AND(H38>1994,H38<1998),VLOOKUP(I38,Feuil1!$A$11:$F$29,5),IF(AND(H38>1997,H38<2000),VLOOKUP(I38,Feuil1!$A$11:$F$29,4),IF(AND(H38>1999,H38<2002),VLOOKUP(I38,Feuil1!$A$11:$F$29,3),VLOOKUP(I38,Feuil1!$A$11:$F$29,2))))),IF(OR(H38=\"SEN\",H38<1995),VLOOKUP(I38,Feuil1!$G$11:$L$25,6),IF(AND(H38>1994,H38<1998),VLOOKUP(I38,Feuil1!$G$11:$L$25,5),IF(AND(H38>1997,H38<2000),VLOOKUP(I38,Feuil1!$G$11:$L$25,4),IF(AND(H38>1999,H38<2002),VLOOKUP(I38,Feuil1!$G$11:$L$25,3),VLOOKUP(I38,Feuil1!$G$11:$L$25,2)))))))","v":"S77"},304.9893612553069,null," ",{"$f":"T38-HLOOKUP(X38,Feuil1!$C$1:$BL$10,2,FALSE)","v":79},{"$f":"T38-HLOOKUP(X38,Feuil1!$C$1:$BL$10,3,FALSE)","v":59},{"$f":"T38-HLOOKUP(X38,Feuil1!$C$1:$BL$10,4,FALSE)","v":39},{"$f":"T38-HLOOKUP(X38,Feuil1!$C$1:$BL$10,5,FALSE)","v":19},{"$f":"T38-HLOOKUP(X38,Feuil1!$C$1:$BL$10,6,FALSE)","v":-11},{"$f":"T38-HLOOKUP(X38,Feuil1!$C$1:$BL$10,7,FALSE)","v":-36},{"$f":"T38-HLOOKUP(X38,Feuil1!$C$1:$BL$10,8,FALSE)","v":-56},{"$f":"T38-HLOOKUP(X38,Feuil1!$C$1:$BL$10,9,FALSE)","v":-76},{"$f":"T38-HLOOKUP(X38,Feuil1!$C$1:$BL$10,10,FALSE)","v":-91},null,null,null,null,null,null,"IRG +"]
["H","NE","CHA",14,219704,"CORRAZE","Guillaume",1987,74.599999999999994,"Langres HM","F",95,100,103,103,120,-125,-125,120,223,73.800000000000011,"IRG +",13,{"$f":"IF(I39=\"\",\"\",IF(A39=\"H\",IF(OR(H39=\"SEN\",H39<1995),VLOOKUP(I39,Feuil1!$A$11:$F$29,6),IF(AND(H39>1994,H39<1998),VLOOKUP(I39,Feuil1!$A$11:$F$29,5),IF(AND(H39>1997,H39<2000),VLOOKUP(I39,Feuil1!$A$11:$F$29,4),IF(AND(H39>1999,H39<2002),VLOOKUP(I39,Feuil1!$A$11:$F$29,3),VLOOKUP(I39,Feuil1!$A$11:$F$29,2))))),IF(OR(H39=\"SEN\",H39<1995),VLOOKUP(I39,Feuil1!$G$11:$L$25,6),IF(AND(H39>1994,H39<1998),VLOOKUP(I39,Feuil1!$G$11:$L$25,5),IF(AND(H39>1997,H39<2000),VLOOKUP(I39,Feuil1!$G$11:$L$25,4),IF(AND(H39>1999,H39<2002),VLOOKUP(I39,Feuil1!$G$11:$L$25,3),VLOOKUP(I39,Feuil1!$G$11:$L$25,2)))))))","v":"S77"},285.98451406420696,null," ",{"$f":"T39-HLOOKUP(X39,Feuil1!$C$1:$BL$10,2,FALSE)","v":73},{"$f":"T39-HLOOKUP(X39,Feuil1!$C$1:$BL$10,3,FALSE)","v":53},{"$f":"T39-HLOOKUP(X39,Feuil1!$C$1:$BL$10,4,FALSE)","v":33},{"$f":"T39-HLOOKUP(X39,Feuil1!$C$1:$BL$10,5,FALSE)","v":13},{"$f":"T39-HLOOKUP(X39,Feuil1!$C$1:$BL$10,6,FALSE)","v":-17},{"$f":"T39-HLOOKUP(X39,Feuil1!$C$1:$BL$10,7,FALSE)","v":-42},{"$f":"T39-HLOOKUP(X39,Feuil1!$C$1:$BL$10,8,FALSE)","v":-62},{"$f":"T39-HLOOKUP(X39,Feuil1!$C$1:$BL$10,9,FALSE)","v":-82},{"$f":"T39-HLOOKUP(X39,Feuil1!$C$1:$BL$10,10,FALSE)","v":-97},null,null,null,null,null,null,"IRG +"]
["H","SEST","RAL",15,171427,"SEIGNEMARTIN","Loic",1993,74.8,"H.C. OYONNAX","F",-102,-102,102,102,112,116,120,120,222,72.400000000000006,"IRG +",12,{"$f":"IF(I40=\"\",\"\",IF(A40=\"H\",IF(OR(H40=\"SEN\",H40<1995),VLOOKUP(I40,Feuil1!$A$11:$F$29,6),IF(AND(H40>1994,H40<1998),VLOOKUP(I40,Feuil1!$A$11:$F$29,5),IF(AND(H40>1997,H40<2000),VLOOKUP(I40,Feuil1!$A$11:$F$29,4),IF(AND(H40>1999,H40<2002),VLOOKUP(I40,Feuil1!$A$11:$F$29,3),VLOOKUP(I40,Feuil1!$A$11:$F$29,2))))),IF(OR(H40=\"SEN\",H40<1995),VLOOKUP(I40,Feuil1!$G$11:$L$25,6),IF(AND(H40>1994,H40<1998),VLOOKUP(I40,Feuil1!$G$11:$L$25,5),IF(AND(H40>1997,H40<2000),VLOOKUP(I40,Feuil1!$G$11:$L$25,4),IF(AND(H40>1999,H40<2002),VLOOKUP(I40,Feuil1!$G$11:$L$25,3),VLOOKUP(I40,Feuil1!$G$11:$L$25,2)))))))","v":"S77"},284.25651785252154,null," ",{"$f":"T40-HLOOKUP(X40,Feuil1!$C$1:$BL$10,2,FALSE)","v":72},{"$f":"T40-HLOOKUP(X40,Feuil1!$C$1:$BL$10,3,FALSE)","v":52},{"$f":"T40-HLOOKUP(X40,Feuil1!$C$1:$BL$10,4,FALSE)","v":32},{"$f":"T40-HLOOKUP(X40,Feuil1!$C$1:$BL$10,5,FALSE)","v":12},{"$f":"T40-HLOOKUP(X40,Feuil1!$C$1:$BL$10,6,FALSE)","v":-18},{"$f":"T40-HLOOKUP(X40,Feuil1!$C$1:$BL$10,7,FALSE)","v":-43},{"$f":"T40-HLOOKUP(X40,Feuil1!$C$1:$BL$10,8,FALSE)","v":-63},{"$f":"T40-HLOOKUP(X40,Feuil1!$C$1:$BL$10,9,FALSE)","v":-83},{"$f":"T40-HLOOKUP(X40,Feuil1!$C$1:$BL$10,10,FALSE)","v":-98},null,null,null,null,null,null,"IRG +"]
["H","SO","MPY",16,144700,"FRANCOUAL","Loïck",1994,74.5,"FIGEAC HC","F",95,-100,100,100,110,115,120,120,220,71,"IRG +",10,{"$f":"IF(I41=\"\",\"\",IF(A41=\"H\",IF(OR(H41=\"SEN\",H41<1995),VLOOKUP(I41,Feuil1!$A$11:$F$29,6),IF(AND(H41>1994,H41<1998),VLOOKUP(I41,Feuil1!$A$11:$F$29,5),IF(AND(H41>1997,H41<2000),VLOOKUP(I41,Feuil1!$A$11:$F$29,4),IF(AND(H41>1999,H41<2002),VLOOKUP(I41,Feuil1!$A$11:$F$29,3),VLOOKUP(I41,Feuil1!$A$11:$F$29,2))))),IF(OR(H41=\"SEN\",H41<1995),VLOOKUP(I41,Feuil1!$G$11:$L$25,6),IF(AND(H41>1994,H41<1998),VLOOKUP(I41,Feuil1!$G$11:$L$25,5),IF(AND(H41>1997,H41<2000),VLOOKUP(I41,Feuil1!$G$11:$L$25,4),IF(AND(H41>1999,H41<2002),VLOOKUP(I41,Feuil1!$G$11:$L$25,3),VLOOKUP(I41,Feuil1!$G$11:$L$25,2)))))))","v":"S77"},282.35918835681969,null," ",{"$f":"T41-HLOOKUP(X41,Feuil1!$C$1:$BL$10,2,FALSE)","v":70},{"$f":"T41-HLOOKUP(X41,Feuil1!$C$1:$BL$10,3,FALSE)","v":50},{"$f":"T41-HLOOKUP(X41,Feuil1!$C$1:$BL$10,4,FALSE)","v":30},{"$f":"T41-HLOOKUP(X41,Feuil1!$C$1:$BL$10,5,FALSE)","v":10},{"$f":"T41-HLOOKUP(X41,Feuil1!$C$1:$BL$10,6,FALSE)","v":-20},{"$f":"T41-HLOOKUP(X41,Feuil1!$C$1:$BL$10,7,FALSE)","v":-45},{"$f":"T41-HLOOKUP(X41,Feuil1!$C$1:$BL$10,8,FALSE)","v":-65},{"$f":"T41-HLOOKUP(X41,Feuil1!$C$1:$BL$10,9,FALSE)","v":-85},{"$f":"T41-HLOOKUP(X41,Feuil1!$C$1:$BL$10,10,FALSE)","v":-100},null,null,null,null,null,null,"IRG +"]
["H","ZCO","BNO",17,113896,"LECLERC HAIRIE","Romain",1988,76.7,"Caen CHM","F",95,-98,-99,95,120,125,-127,125,220,66.599999999999994,"IRG +",10,{"$f":"IF(I42=\"\",\"\",IF(A42=\"H\",IF(OR(H42=\"SEN\",H42<1995),VLOOKUP(I42,Feuil1!$A$11:$F$29,6),IF(AND(H42>1994,H42<1998),VLOOKUP(I42,Feuil1!$A$11:$F$29,5),IF(AND(H42>1997,H42<2000),VLOOKUP(I42,Feuil1!$A$11:$F$29,4),IF(AND(H42>1999,H42<2002),VLOOKUP(I42,Feuil1!$A$11:$F$29,3),VLOOKUP(I42,Feuil1!$A$11:$F$29,2))))),IF(OR(H42=\"SEN\",H42<1995),VLOOKUP(I42,Feuil1!$G$11:$L$25,6),IF(AND(H42>1994,H42<1998),VLOOKUP(I42,Feuil1!$G$11:$L$25,5),IF(AND(H42>1997,H42<2000),VLOOKUP(I42,Feuil1!$G$11:$L$25,4),IF(AND(H42>1999,H42<2002),VLOOKUP(I42,Feuil1!$G$11:$L$25,3),VLOOKUP(I42,Feuil1!$G$11:$L$25,2)))))))","v":"S77"},277.65905511145405,null," ",{"$f":"T42-HLOOKUP(X42,Feuil1!$C$1:$BL$10,2,FALSE)","v":70},{"$f":"T42-HLOOKUP(X42,Feuil1!$C$1:$BL$10,3,FALSE)","v":50},{"$f":"T42-HLOOKUP(X42,Feuil1!$C$1:$BL$10,4,FALSE)","v":30},{"$f":"T42-HLOOKUP(X42,Feuil1!$C$1:$BL$10,5,FALSE)","v":10},{"$f":"T42-HLOOKUP(X42,Feuil1!$C$1:$BL$10,6,FALSE)","v":-20},{"$f":"T42-HLOOKUP(X42,Feuil1!$C$1:$BL$10,7,FALSE)","v":-45},{"$f":"T42-HLOOKUP(X42,Feuil1!$C$1:$BL$10,8,FALSE)","v":-65},{"$f":"T42-HLOOKUP(X42,Feuil1!$C$1:$BL$10,9,FALSE)","v":-85},{"$f":"T42-HLOOKUP(X42,Feuil1!$C$1:$BL$10,10,FALSE)","v":-100},null,null,null,null,null,null,"IRG +"]
["H","DOM","REU",18,194173,"MARKA","Alexandre",1976,74.099999999999994,"CSPJ St Denis","F",90,95,100,100,110,117,-122,{"$f":"IF(H43=\"\",\"\",IF(MAXA(P43:R43)<=0,0,MAXA(P43:R43)))","v":117},{"$f":"IF(H43=\"\",\"\",IF(OR(O43=0,S43=0),0,O43+S43))","v":217},{"$f":"T43-I43*2","v":68.800000000000011},{"$f":"IF(H43=\"\",\"\",AQ43)","v":"IRG +"},{"$f":"IF(AJ43>=0,AJ43,IF(AI43>=0,AI43,IF(AH43>=0,AH43,IF(AG43>=0,AG43,IF(AF43>=0,AF43,IF(AE43>=0,AE43,IF(AD43>=0,AD43,IF(AC43>=0,AC43,AB43))))))))","v":7},{"$f":"IF(I43=\"\",\"\",IF(A43=\"H\",IF(OR(H43=\"SEN\",H43<1995),VLOOKUP(I43,Feuil1!$A$11:$F$29,6),IF(AND(H43>1994,H43<1998),VLOOKUP(I43,Feuil1!$A$11:$F$29,5),IF(AND(H43>1997,H43<2000),VLOOKUP(I43,Feuil1!$A$11:$F$29,4),IF(AND(H43>1999,H43<2002),VLOOKUP(I43,Feuil1!$A$11:$F$29,3),VLOOKUP(I43,Feuil1!$A$11:$F$29,2))))),IF(OR(H43=\"SEN\",H43<1995),VLOOKUP(I43,Feuil1!$G$11:$L$25,6),IF(AND(H43>1994,H43<1998),VLOOKUP(I43,Feuil1!$G$11:$L$25,5),IF(AND(H43>1997,H43<2000),VLOOKUP(I43,Feuil1!$G$11:$L$25,4),IF(AND(H43>1999,H43<2002),VLOOKUP(I43,Feuil1!$G$11:$L$25,3),VLOOKUP(I43,Feuil1!$G$11:$L$25,2)))))))","v":"S77"},{"$f":"IF(I43=\"\",\"\",IF(A43=\"H\",10^(0.794358141*LOG(I43/174.393)^2)*T43,IF(A43=\"F\",10^(0.89726074*LOG(I43/148.026)^2)*T43,\"\")))","v":279.39289864017331},null," ",{"$f":"T43-HLOOKUP(X43,Feuil1!$C$1:$BL$10,2,FALSE)","v":67},{"$f":"T43-HLOOKUP(X43,Feuil1!$C$1:$BL$10,3,FALSE)","v":47},{"$f":"T43-HLOOKUP(X43,Feuil1!$C$1:$BL$10,4,FALSE)","v":27},{"$f":"T43-HLOOKUP(X43,Feuil1!$C$1:$BL$10,5,FALSE)","v":7},{"$f":"T43-HLOOKUP(X43,Feuil1!$C$1:$BL$10,6,FALSE)","v":-23},{"$f":"T43-HLOOKUP(X43,Feuil1!$C$1:$BL$10,7,FALSE)","v":-48},{"$f":"T43-HLOOKUP(X43,Feuil1!$C$1:$BL$10,8,FALSE)","v":-68},{"$f":"T43-HLOOKUP(X43,Feuil1!$C$1:$BL$10,9,FALSE)","v":-88},{"$f":"T43-HLOOKUP(X43,Feuil1!$C$1:$BL$10,10,FALSE)","v":-103},null,null,null,null,null,null,{"$f":"IF(AJ43>=0,$AJ$4,IF(AI43>=0,$AI$4,IF(AH43>=0,$AH$4,IF(AG43>=0,$AG$4,IF(AF43>=0,$AF$4,IF(AE43>=0,$AE$4,IF(AD43>=0,$AD$4,IF(AC43>=0,$AC$4,$AB$4))))))))","v":"IRG +"}]
["H","ZCO","PDL",19,127418,"DANIEL","Alexandre",1994,76.3,"CJF Laval Voutré 53","F",93,97,99,99,112,117,-120,117,216,63.400000000000006,"IRG +",6,{"$f":"IF(I44=\"\",\"\",IF(A44=\"H\",IF(OR(H44=\"SEN\",H44<1995),VLOOKUP(I44,Feuil1!$A$11:$F$29,6),IF(AND(H44>1994,H44<1998),VLOOKUP(I44,Feuil1!$A$11:$F$29,5),IF(AND(H44>1997,H44<2000),VLOOKUP(I44,Feuil1!$A$11:$F$29,4),IF(AND(H44>1999,H44<2002),VLOOKUP(I44,Feuil1!$A$11:$F$29,3),VLOOKUP(I44,Feuil1!$A$11:$F$29,2))))),IF(OR(H44=\"SEN\",H44<1995),VLOOKUP(I44,Feuil1!$G$11:$L$25,6),IF(AND(H44>1994,H44<1998),VLOOKUP(I44,Feuil1!$G$11:$L$25,5),IF(AND(H44>1997,H44<2000),VLOOKUP(I44,Feuil1!$G$11:$L$25,4),IF(AND(H44>1999,H44<2002),VLOOKUP(I44,Feuil1!$G$11:$L$25,3),VLOOKUP(I44,Feuil1!$G$11:$L$25,2)))))))","v":"S77"},273.42233979979494,null," ",{"$f":"T44-HLOOKUP(X44,Feuil1!$C$1:$BL$10,2,FALSE)","v":66},{"$f":"T44-HLOOKUP(X44,Feuil1!$C$1:$BL$10,3,FALSE)","v":46},{"$f":"T44-HLOOKUP(X44,Feuil1!$C$1:$BL$10,4,FALSE)","v":26},{"$f":"T44-HLOOKUP(X44,Feuil1!$C$1:$BL$10,5,FALSE)","v":6},{"$f":"T44-HLOOKUP(X44,Feuil1!$C$1:$BL$10,6,FALSE)","v":-24},{"$f":"T44-HLOOKUP(X44,Feuil1!$C$1:$BL$10,7,FALSE)","v":-49},{"$f":"T44-HLOOKUP(X44,Feuil1!$C$1:$BL$10,8,FALSE)","v":-69},{"$f":"T44-HLOOKUP(X44,Feuil1!$C$1:$BL$10,9,FALSE)","v":-89},{"$f":"T44-HLOOKUP(X44,Feuil1!$C$1:$BL$10,10,FALSE)","v":-104},null,null,null,null,null,null,"IRG +"]
["H","NE","ALS",20,145070,"GERBER","Sébastien",1993,70.8,"SR Obernai HM","F",85,-89,90,90,110,115,120,120,210,68.400000000000006,"IRG +",0,{"$f":"IF(I45=\"\",\"\",IF(A45=\"H\",IF(OR(H45=\"SEN\",H45<1995),VLOOKUP(I45,Feuil1!$A$11:$F$29,6),IF(AND(H45>1994,H45<1998),VLOOKUP(I45,Feuil1!$A$11:$F$29,5),IF(AND(H45>1997,H45<2000),VLOOKUP(I45,Feuil1!$A$11:$F$29,4),IF(AND(H45>1999,H45<2002),VLOOKUP(I45,Feuil1!$A$11:$F$29,3),VLOOKUP(I45,Feuil1!$A$11:$F$29,2))))),IF(OR(H45=\"SEN\",H45<1995),VLOOKUP(I45,Feuil1!$G$11:$L$25,6),IF(AND(H45>1994,H45<1998),VLOOKUP(I45,Feuil1!$G$11:$L$25,5),IF(AND(H45>1997,H45<2000),VLOOKUP(I45,Feuil1!$G$11:$L$25,4),IF(AND(H45>1999,H45<2002),VLOOKUP(I45,Feuil1!$G$11:$L$25,3),VLOOKUP(I45,Feuil1!$G$11:$L$25,2)))))))","v":"S77"},277.95195715941486,null," ",{"$f":"T45-HLOOKUP(X45,Feuil1!$C$1:$BL$10,2,FALSE)","v":60},{"$f":"T45-HLOOKUP(X45,Feuil1!$C$1:$BL$10,3,FALSE)","v":40},{"$f":"T45-HLOOKUP(X45,Feuil1!$C$1:$BL$10,4,FALSE)","v":20},{"$f":"T45-HLOOKUP(X45,Feuil1!$C$1:$BL$10,5,FALSE)","v":0},{"$f":"T45-HLOOKUP(X45,Feuil1!$C$1:$BL$10,6,FALSE)","v":-30},{"$f":"T45-HLOOKUP(X45,Feuil1!$C$1:$BL$10,7,FALSE)","v":-55},{"$f":"T45-HLOOKUP(X45,Feuil1!$C$1:$BL$10,8,FALSE)","v":-75},{"$f":"T45-HLOOKUP(X45,Feuil1!$C$1:$BL$10,9,FALSE)","v":-95},{"$f":"T45-HLOOKUP(X45,Feuil1!$C$1:$BL$10,10,FALSE)","v":-110},null,null,null,null,null,null,"IRG +"]
["H","NE","FCO",21,236356,"GIBERT","Loïc",1976,76.900000000000006,"LF BESANCON","F",88,95,-100,95,105,-115,115,115,210,56.199999999999989,"IRG +",0,{"$f":"IF(I46=\"\",\"\",IF(A46=\"H\",IF(OR(H46=\"SEN\",H46<1995),VLOOKUP(I46,Feuil1!$A$11:$F$29,6),IF(AND(H46>1994,H46<1998),VLOOKUP(I46,Feuil1!$A$11:$F$29,5),IF(AND(H46>1997,H46<2000),VLOOKUP(I46,Feuil1!$A$11:$F$29,4),IF(AND(H46>1999,H46<2002),VLOOKUP(I46,Feuil1!$A$11:$F$29,3),VLOOKUP(I46,Feuil1!$A$11:$F$29,2))))),IF(OR(H46=\"SEN\",H46<1995),VLOOKUP(I46,Feuil1!$G$11:$L$25,6),IF(AND(H46>1994,H46<1998),VLOOKUP(I46,Feuil1!$G$11:$L$25,5),IF(AND(H46>1997,H46<2000),VLOOKUP(I46,Feuil1!$G$11:$L$25,4),IF(AND(H46>1999,H46<2002),VLOOKUP(I46,Feuil1!$G$11:$L$25,3),VLOOKUP(I46,Feuil1!$G$11:$L$25,2)))))))","v":"S77"},264.64792449670858,null," ",{"$f":"T46-HLOOKUP(X46,Feuil1!$C$1:$BL$10,2,FALSE)","v":60},{"$f":"T46-HLOOKUP(X46,Feuil1!$C$1:$BL$10,3,FALSE)","v":40},{"$f":"T46-HLOOKUP(X46,Feuil1!$C$1:$BL$10,4,FALSE)","v":20},{"$f":"T46-HLOOKUP(X46,Feuil1!$C$1:$BL$10,5,FALSE)","v":0},{"$f":"T46-HLOOKUP(X46,Feuil1!$C$1:$BL$10,6,FALSE)","v":-30},{"$f":"T46-HLOOKUP(X46,Feuil1!$C$1:$BL$10,7,FALSE)","v":-55},{"$f":"T46-HLOOKUP(X46,Feuil1!$C$1:$BL$10,8,FALSE)","v":-75},{"$f":"T46-HLOOKUP(X46,Feuil1!$C$1:$BL$10,9,FALSE)","v":-95},{"$f":"T46-HLOOKUP(X46,Feuil1!$C$1:$BL$10,10,FALSE)","v":-110},null,null,null,null,null,null,"IRG +"]
["H","Nord","IDF"," ",245354,"FICO","Enzo",1990,75.599999999999994,"Rueil AC","F",-100,-100,-105,0,"-","-","-",0,0,-151.19999999999999,"DEB ",-150,{"$f":"IF(I47=\"\",\"\",IF(A47=\"H\",IF(OR(H47=\"SEN\",H47<1995),VLOOKUP(I47,Feuil1!$A$11:$F$29,6),IF(AND(H47>1994,H47<1998),VLOOKUP(I47,Feuil1!$A$11:$F$29,5),IF(AND(H47>1997,H47<2000),VLOOKUP(I47,Feuil1!$A$11:$F$29,4),IF(AND(H47>1999,H47<2002),VLOOKUP(I47,Feuil1!$A$11:$F$29,3),VLOOKUP(I47,Feuil1!$A$11:$F$29,2))))),IF(OR(H47=\"SEN\",H47<1995),VLOOKUP(I47,Feuil1!$G$11:$L$25,6),IF(AND(H47>1994,H47<1998),VLOOKUP(I47,Feuil1!$G$11:$L$25,5),IF(AND(H47>1997,H47<2000),VLOOKUP(I47,Feuil1!$G$11:$L$25,4),IF(AND(H47>1999,H47<2002),VLOOKUP(I47,Feuil1!$G$11:$L$25,3),VLOOKUP(I47,Feuil1!$G$11:$L$25,2)))))))","v":"S77"},0,null," ",{"$f":"T47-HLOOKUP(X47,Feuil1!$C$1:$BL$10,2,FALSE)","v":-150},{"$f":"T47-HLOOKUP(X47,Feuil1!$C$1:$BL$10,3,FALSE)","v":-170},{"$f":"T47-HLOOKUP(X47,Feuil1!$C$1:$BL$10,4,FALSE)","v":-190},{"$f":"T47-HLOOKUP(X47,Feuil1!$C$1:$BL$10,5,FALSE)","v":-210},{"$f":"T47-HLOOKUP(X47,Feuil1!$C$1:$BL$10,6,FALSE)","v":-240},{"$f":"T47-HLOOKUP(X47,Feuil1!$C$1:$BL$10,7,FALSE)","v":-265},{"$f":"T47-HLOOKUP(X47,Feuil1!$C$1:$BL$10,8,FALSE)","v":-285},{"$f":"T47-HLOOKUP(X47,Feuil1!$C$1:$BL$10,9,FALSE)","v":-305},{"$f":"T47-HLOOKUP(X47,Feuil1!$C$1:$BL$10,10,FALSE)","v":-320},null,null,null,null,null,null,"DEB "]
[null,null,null,null,null,null,null,null,null,null,null,null,null,null,null,null,null,null,null,null,null,null,null,null,null,null,null,{"$f":"T48-HLOOKUP(X48,Feuil1!$C$1:$BL$10,2,FALSE)","v":{"$error":"#N/A"}},{"$f":"T48-HLOOKUP(X48,Feuil1!$C$1:$BL$10,3,FALSE)","v":{"$error":"#N/A"}},{"$f":"T48-HLOOKUP(X48,Feuil1!$C$1:$BL$10,4,FALSE)","v":{"$error":"#N/A"}},{"$f":"T48-HLOOKUP(X48,Feuil1!$C$1:$BL$10,5,FALSE)","v":{"$error":"#N/A"}},{"$f":"T48-HLOOKUP(X48,Feuil1!$C$1:$BL$10,6,FALSE)","v":{"$error":"#N/A"}},{"$f":"T48-HLOOKUP(X48,Feuil1!$C$1:$BL$10,7,FALSE)","v":{"$error":"#N/A"}},{"$f":"T48-HLOOKUP(X48,Feuil1!$C$1:$BL$10,8,FALSE)","v":{"$error":"#N/A"}},{"$f":"T48-HLOOKUP(X48,Feuil1!$C$1:$BL$10,9,FALSE)","v":{"$error":"#N/A"}},{"$f":"T48-HLOOKUP(X48,Feuil1!$C$1:$BL$10,10,FALSE)","v":{"$error":"#N/A"}}]
[null,null,null,null,null,null,null,null,null,null,null,null,null,null,null,null,null,null,null,null," ",null,null,null,null,null,null,{"$f":"T49-HLOOKUP(X49,Feuil1!$C$1:$BL$10,2,FALSE)","v":{"$error":"#N/A"}},{"$f":"T49-HLOOKUP(X49,Feuil1!$C$1:$BL$10,3,FALSE)","v":{"$error":"#N/A"}},{"$f":"T49-HLOOKUP(X49,Feuil1!$C$1:$BL$10,4,FALSE)","v":{"$error":"#N/A"}},{"$f":"T49-HLOOKUP(X49,Feuil1!$C$1:$BL$10,5,FALSE)","v":{"$error":"#N/A"}},{"$f":"T49-HLOOKUP(X49,Feuil1!$C$1:$BL$10,6,FALSE)","v":{"$error":"#N/A"}},{"$f":"T49-HLOOKUP(X49,Feuil1!$C$1:$BL$10,7,FALSE)","v":{"$error":"#N/A"}},{"$f":"T49-HLOOKUP(X49,Feuil1!$C$1:$BL$10,8,FALSE)","v":{"$error":"#N/A"}},{"$f":"T49-HLOOKUP(X49,Feuil1!$C$1:$BL$10,9,FALSE)","v":{"$error":"#N/A"}},{"$f":"T49-HLOOKUP(X49,Feuil1!$C$1:$BL$10,10,FALSE)","v":{"$error":"#N/A"}}]
["H","Nord","IDF","1",200866,"LEAL PILLOT","Oscar",1982,84.1,"SC Neuilly","CUB",125,-130,135,{"$f":"IF(H50=\"\",\"\",IF(MAXA(L50:N50)<=0,0,MAXA(L50:N50)))","v":135},155,160,165,{"$f":"IF(H50=\"\",\"\",IF(MAXA(P50:R50)<=0,0,MAXA(P50:R50)))","v":165},{"$f":"IF(H50=\"\",\"\",IF(OR(O50=0,S50=0),0,O50+S50))","v":300},131.80000000000001,{"$f":"IF(H50=\"\",\"\",AQ50)","v":"INTB +"},{"$f":"IF(AJ50>=0,AJ50,IF(AI50>=0,AI50,IF(AH50>=0,AH50,IF(AG50>=0,AG50,IF(AF50>=0,AF50,IF(AE50>=0,AE50,IF(AD50>=0,AD50,IF(AC50>=0,AC50,AB50))))))))","v":0},{"$f":"IF(I50=\"\",\"\",IF(A50=\"H\",IF(OR(H50=\"SEN\",H50<1995),VLOOKUP(I50,Feuil1!$A$11:$F$29,6),IF(AND(H50>1994,H50<1998),VLOOKUP(I50,Feuil1!$A$11:$F$29,5),IF(AND(H50>1997,H50<2000),VLOOKUP(I50,Feuil1!$A$11:$F$29,4),IF(AND(H50>1999,H50<2002),VLOOKUP(I50,Feuil1!$A$11:$F$29,3),VLOOKUP(I50,Feuil1!$A$11:$F$29,2))))),IF(OR(H50=\"SEN\",H50<1995),VLOOKUP(I50,Feuil1!$G$11:$L$25,6),IF(AND(H50>1994,H50<1998),VLOOKUP(I50,Feuil1!$G$11:$L$25,5),IF(AND(H50>1997,H50<2000),VLOOKUP(I50,Feuil1!$G$11:$L$25,4),IF(AND(H50>1999,H50<2002),VLOOKUP(I50,Feuil1!$G$11:$L$25,3),VLOOKUP(I50,Feuil1!$G$11:$L$25,2)))))))","v":"S85"},{"$f":"IF(I50=\"\",\"\",IF(A50=\"H\",10^(0.794358141*LOG(I50/174.393)^2)*T50,IF(A50=\"F\",10^(0.89726074*LOG(I50/148.026)^2)*T50,\"\")))","v":360.42186189077108},null," ",{"$f":"T50-HLOOKUP(X50,Feuil1!$C$1:$BL$10,2,FALSE)","v":135},{"$f":"T50-HLOOKUP(X50,Feuil1!$C$1:$BL$10,3,FALSE)","v":115},{"$f":"T50-HLOOKUP(X50,Feuil1!$C$1:$BL$10,4,FALSE)","v":95},{"$f":"T50-HLOOKUP(X50,Feuil1!$C$1:$BL$10,5,FALSE)","v":75},{"$f":"T50-HLOOKUP(X50,Feuil1!$C$1:$BL$10,6,FALSE)","v":50},{"$f":"T50-HLOOKUP(X50,Feuil1!$C$1:$BL$10,7,FALSE)","v":20},{"$f":"T50-HLOOKUP(X50,Feuil1!$C$1:$BL$10,8,FALSE)","v":0},{"$f":"T50-HLOOKUP(X50,Feuil1!$C$1:$BL$10,9,FALSE)","v":-25},{"$f":"T50-HLOOKUP(X50,Feuil1!$C$1:$BL$10,10,FALSE)","v":-45},null,null,null,null,null,null,{"$f":"IF(AJ50>=0,$AJ$4,IF(AI50>=0,$AI$4,IF(AH50>=0,$AH$4,IF(AG50>=0,$AG$4,IF(AF50>=0,$AF$4,IF(AE50>=0,$AE$4,IF(AD50>=0,$AD$4,IF(AC50>=0,$AC$4,$AB$4))))))))","v":"INTB +"}]
["H","Nord","IDF","2",276112,"HASONA","El Sayed",1989,82.4,"SC Neuilly","EGY",-120,120,"-",120,160,"-","-",160,280,115.19999999999999,"NAT +",0,{"$f":"IF(I51=\"\",\"\",IF(A51=\"H\",IF(OR(H51=\"SEN\",H51<1995),VLOOKUP(I51,Feuil1!$A$11:$F$29,6),IF(AND(H51>1994,H51<1998),VLOOKUP(I51,Feuil1!$A$11:$F$29,5),IF(AND(H51>1997,H51<2000),VLOOKUP(I51,Feuil1!$A$11:$F$29,4),IF(AND(H51>1999,H51<2002),VLOOKUP(I51,Feuil1!$A$11:$F$29,3),VLOOKUP(I51,Feuil1!$A$11:$F$29,2))))),IF(OR(H51=\"SEN\",H51<1995),VLOOKUP(I51,Feuil1!$G$11:$L$25,6),IF(AND(H51>1994,H51<1998),VLOOKUP(I51,Feuil1!$G$11:$L$25,5),IF(AND(H51>1997,H51<2000),VLOOKUP(I51,Feuil1!$G$11:$L$25,4),IF(AND(H51>1999,H51<2002),VLOOKUP(I51,Feuil1!$G$11:$L$25,3),VLOOKUP(I51,Feuil1!$G$11:$L$25,2)))))))","v":"S85"},339.91720407527782,null," ",{"$f":"T51-HLOOKUP(X51,Feuil1!$C$1:$BL$10,2,FALSE)","v":115},{"$f":"T51-HLOOKUP(X51,Feuil1!$C$1:$BL$10,3,FALSE)","v":95},{"$f":"T51-HLOOKUP(X51,Feuil1!$C$1:$BL$10,4,FALSE)","v":75},{"$f":"T51-HLOOKUP(X51,Feuil1!$C$1:$BL$10,5,FALSE)","v":55},{"$f":"T51-HLOOKUP(X51,Feuil1!$C$1:$BL$10,6,FALSE)","v":30},{"$f":"T51-HLOOKUP(X51,Feuil1!$C$1:$BL$10,7,FALSE)","v":0},{"$f":"T51-HLOOKUP(X51,Feuil1!$C$1:$BL$10,8,FALSE)","v":-20},{"$f":"T51-HLOOKUP(X51,Feuil1!$C$1:$BL$10,9,FALSE)","v":-45},{"$f":"T51-HLOOKUP(X51,Feuil1!$C$1:$BL$10,10,FALSE)","v":-65},null,null,null,null,null,null,"NAT +"]
["H","ZCO","BNO","3",143327,"CANIVET","Paul",1994,84.6,"Stade St-Lo","F",118,123,-125,123,152,-157,157,157,280,110.80000000000001,"NAT +",0,{"$f":"IF(I52=\"\",\"\",IF(A52=\"H\",IF(OR(H52=\"SEN\",H52<1995),VLOOKUP(I52,Feuil1!$A$11:$F$29,6),IF(AND(H52>1994,H52<1998),VLOOKUP(I52,Feuil1!$A$11:$F$29,5),IF(AND(H52>1997,H52<2000),VLOOKUP(I52,Feuil1!$A$11:$F$29,4),IF(AND(H52>1999,H52<2002),VLOOKUP(I52,Feuil1!$A$11:$F$29,3),VLOOKUP(I52,Feuil1!$A$11:$F$29,2))))),IF(OR(H52=\"SEN\",H52<1995),VLOOKUP(I52,Feuil1!$G$11:$L$25,6),IF(AND(H52>1994,H52<1998),VLOOKUP(I52,Feuil1!$G$11:$L$25,5),IF(AND(H52>1997,H52<2000),VLOOKUP(I52,Feuil1!$G$11:$L$25,4),IF(AND(H52>1999,H52<2002),VLOOKUP(I52,Feuil1!$G$11:$L$25,3),VLOOKUP(I52,Feuil1!$G$11:$L$25,2)))))))","v":"S85"},335.39589901484516,null," ",{"$f":"T52-HLOOKUP(X52,Feuil1!$C$1:$BL$10,2,FALSE)","v":115},{"$f":"T52-HLOOKUP(X52,Feuil1!$C$1:$BL$10,3,FALSE)","v":95},{"$f":"T52-HLOOKUP(X52,Feuil1!$C$1:$BL$10,4,FALSE)","v":75},{"$f":"T52-HLOOKUP(X52,Feuil1!$C$1:$BL$10,5,FALSE)","v":55},{"$f":"T52-HLOOKUP(X52,Feuil1!$C$1:$BL$10,6,FALSE)","v":30},{"$f":"T52-HLOOKUP(X52,Feuil1!$C$1:$BL$10,7,FALSE)","v":0},{"$f":"T52-HLOOKUP(X52,Feuil1!$C$1:$BL$10,8,FALSE)","v":-20},{"$f":"T52-HLOOKUP(X52,Feuil1!$C$1:$BL$10,9,FALSE)","v":-45},{"$f":"T52-HLOOKUP(X52,Feuil1!$C$1:$BL$10,10,FALSE)","v":-65},null,null,null,null,null,null,"NAT +"]
["H","SEST","PRO","4",93348,"SIMEONOV","Tsvetan",1983,82.9,"EEAR. MONTEUX","F",115,125,-130,125,140,150,-155,150,275,109.19999999999999,"FED +",25,{"$f":"IF(I53=\"\",\"\",IF(A53=\"H\",IF(OR(H53=\"SEN\",H53<1995),VLOOKUP(I53,Feuil1!$A$11:$F$29,6),IF(AND(H53>1994,H53<1998),VLOOKUP(I53,Feuil1!$A$11:$F$29,5),IF(AND(H53>1997,H53<2000),VLOOKUP(I53,Feuil1!$A$11:$F$29,4),IF(AND(H53>1999,H53<2002),VLOOKUP(I53,Feuil1!$A$11:$F$29,3),VLOOKUP(I53,Feuil1!$A$11:$F$29,2))))),IF(OR(H53=\"SEN\",H53<1995),VLOOKUP(I53,Feuil1!$G$11:$L$25,6),IF(AND(H53>1994,H53<1998),VLOOKUP(I53,Feuil1!$G$11:$L$25,5),IF(AND(H53>1997,H53<2000),VLOOKUP(I53,Feuil1!$G$11:$L$25,4),IF(AND(H53>1999,H53<2002),VLOOKUP(I53,Feuil1!$G$11:$L$25,3),VLOOKUP(I53,Feuil1!$G$11:$L$25,2)))))))","v":"S85"},332.80834593723165,null," ",{"$f":"T53-HLOOKUP(X53,Feuil1!$C$1:$BL$10,2,FALSE)","v":110},{"$f":"T53-HLOOKUP(X53,Feuil1!$C$1:$BL$10,3,FALSE)","v":90},{"$f":"T53-HLOOKUP(X53,Feuil1!$C$1:$BL$10,4,FALSE)","v":70},{"$f":"T53-HLOOKUP(X53,Feuil1!$C$1:$BL$10,5,FALSE)","v":50},{"$f":"T53-HLOOKUP(X53,Feuil1!$C$1:$BL$10,6,FALSE)","v":25},{"$f":"T53-HLOOKUP(X53,Feuil1!$C$1:$BL$10,7,FALSE)","v":-5},{"$f":"T53-HLOOKUP(X53,Feuil1!$C$1:$BL$10,8,FALSE)","v":-25},{"$f":"T53-HLOOKUP(X53,Feuil1!$C$1:$BL$10,9,FALSE)","v":-50},{"$f":"T53-HLOOKUP(X53,Feuil1!$C$1:$BL$10,10,FALSE)","v":-70},null,null,null,null,null,null,"FED +"]
["H","NE","CHA","5",106238,"DIJOUX","Romain",1989,79.7,"Reims HM","F",115,120,-125,120,145,150,-155,150,270,110.6,"FED +",20,{"$f":"IF(I54=\"\",\"\",IF(A54=\"H\",IF(OR(H54=\"SEN\",H54<1995),VLOOKUP(I54,Feuil1!$A$11:$F$29,6),IF(AND(H54>1994,H54<1998),VLOOKUP(I54,Feuil1!$A$11:$F$29,5),IF(AND(H54>1997,H54<2000),VLOOKUP(I54,Feuil1!$A$11:$F$29,4),IF(AND(H54>1999,H54<2002),VLOOKUP(I54,Feuil1!$A$11:$F$29,3),VLOOKUP(I54,Feuil1!$A$11:$F$29,2))))),IF(OR(H54=\"SEN\",H54<1995),VLOOKUP(I54,Feuil1!$G$11:$L$25,6),IF(AND(H54>1994,H54<1998),VLOOKUP(I54,Feuil1!$G$11:$L$25,5),IF(AND(H54>1997,H54<2000),VLOOKUP(I54,Feuil1!$G$11:$L$25,4),IF(AND(H54>1999,H54<2002),VLOOKUP(I54,Feuil1!$G$11:$L$25,3),VLOOKUP(I54,Feuil1!$G$11:$L$25,2)))))))","v":"S85"},333.60286639573917,null," ",{"$f":"T54-HLOOKUP(X54,Feuil1!$C$1:$BL$10,2,FALSE)","v":105},{"$f":"T54-HLOOKUP(X54,Feuil1!$C$1:$BL$10,3,FALSE)","v":85},{"$f":"T54-HLOOKUP(X54,Feuil1!$C$1:$BL$10,4,FALSE)","v":65},{"$f":"T54-HLOOKUP(X54,Feuil1!$C$1:$BL$10,5,FALSE)","v":45},{"$f":"T54-HLOOKUP(X54,Feuil1!$C$1:$BL$10,6,FALSE)","v":20},{"$f":"T54-HLOOKUP(X54,Feuil1!$C$1:$BL$10,7,FALSE)","v":-10},{"$f":"T54-HLOOKUP(X54,Feuil1!$C$1:$BL$10,8,FALSE)","v":-30},{"$f":"T54-HLOOKUP(X54,Feuil1!$C$1:$BL$10,9,FALSE)","v":-55},{"$f":"T54-HLOOKUP(X54,Feuil1!$C$1:$BL$10,10,FALSE)","v":-75},null,null,null,null,null,null,"FED +"]
["H","Nord","IDF","6",108218,"COLIN","Thomas",1992,81.8,"Franconville","F",-125,125,130,130,140,-150,-150,140,270,106.4,"FED +",20,{"$f":"IF(I55=\"\",\"\",IF(A55=\"H\",IF(OR(H55=\"SEN\",H55<1995),VLOOKUP(I55,Feuil1!$A$11:$F$29,6),IF(AND(H55>1994,H55<1998),VLOOKUP(I55,Feuil1!$A$11:$F$29,5),IF(AND(H55>1997,H55<2000),VLOOKUP(I55,Feuil1!$A$11:$F$29,4),IF(AND(H55>1999,H55<2002),VLOOKUP(I55,Feuil1!$A$11:$F$29,3),VLOOKUP(I55,Feuil1!$A$11:$F$29,2))))),IF(OR(H55=\"SEN\",H55<1995),VLOOKUP(I55,Feuil1!$G$11:$L$25,6),IF(AND(H55>1994,H55<1998),VLOOKUP(I55,Feuil1!$G$11:$L$25,5),IF(AND(H55>1997,H55<2000),VLOOKUP(I55,Feuil1!$G$11:$L$25,4),IF(AND(H55>1999,H55<2002),VLOOKUP(I55,Feuil1!$G$11:$L$25,3),VLOOKUP(I55,Feuil1!$G$11:$L$25,2)))))))","v":"S85"},329.02485646850295,null," ",{"$f":"T55-HLOOKUP(X55,Feuil1!$C$1:$BL$10,2,FALSE)","v":105},{"$f":"T55-HLOOKUP(X55,Feuil1!$C$1:$BL$10,3,FALSE)","v":85},{"$f":"T55-HLOOKUP(X55,Feuil1!$C$1:$BL$10,4,FALSE)","v":65},{"$f":"T55-HLOOKUP(X55,Feuil1!$C$1:$BL$10,5,FALSE)","v":45},{"$f":"T55-HLOOKUP(X55,Feuil1!$C$1:$BL$10,6,FALSE)","v":20},{"$f":"T55-HLOOKUP(X55,Feuil1!$C$1:$BL$10,7,FALSE)","v":-10},{"$f":"T55-HLOOKUP(X55,Feuil1!$C$1:$BL$10,8,FALSE)","v":-30},{"$f":"T55-HLOOKUP(X55,Feuil1!$C$1:$BL$10,9,FALSE)","v":-55},{"$f":"T55-HLOOKUP(X55,Feuil1!$C$1:$BL$10,10,FALSE)","v":-75},null,null,null,null,null,null,"FED +"]
["H","NE","CHA","7"," 118392","KESLER ","François",1989,84,"Reims HM","F",110,-115,117,117,133,137,"-",137,254,86,"FED +",4,{"$f":"IF(I56=\"\",\"\",IF(A56=\"H\",IF(OR(H56=\"SEN\",H56<1995),VLOOKUP(I56,Feuil1!$A$11:$F$29,6),IF(AND(H56>1994,H56<1998),VLOOKUP(I56,Feuil1!$A$11:$F$29,5),IF(AND(H56>1997,H56<2000),VLOOKUP(I56,Feuil1!$A$11:$F$29,4),IF(AND(H56>1999,H56<2002),VLOOKUP(I56,Feuil1!$A$11:$F$29,3),VLOOKUP(I56,Feuil1!$A$11:$F$29,2))))),IF(OR(H56=\"SEN\",H56<1995),VLOOKUP(I56,Feuil1!$G$11:$L$25,6),IF(AND(H56>1994,H56<1998),VLOOKUP(I56,Feuil1!$G$11:$L$25,5),IF(AND(H56>1997,H56<2000),VLOOKUP(I56,Feuil1!$G$11:$L$25,4),IF(AND(H56>1999,H56<2002),VLOOKUP(I56,Feuil1!$G$11:$L$25,3),VLOOKUP(I56,Feuil1!$G$11:$L$25,2)))))))","v":"S85"},305.34007478754194,null," ",{"$f":"T56-HLOOKUP(X56,Feuil1!$C$1:$BL$10,2,FALSE)","v":89},{"$f":"T56-HLOOKUP(X56,Feuil1!$C$1:$BL$10,3,FALSE)","v":69},{"$f":"T56-HLOOKUP(X56,Feuil1!$C$1:$BL$10,4,FALSE)","v":49},{"$f":"T56-HLOOKUP(X56,Feuil1!$C$1:$BL$10,5,FALSE)","v":29},{"$f":"T56-HLOOKUP(X56,Feuil1!$C$1:$BL$10,6,FALSE)","v":4},{"$f":"T56-HLOOKUP(X56,Feuil1!$C$1:$BL$10,7,FALSE)","v":-26},{"$f":"T56-HLOOKUP(X56,Feuil1!$C$1:$BL$10,8,FALSE)","v":-46},{"$f":"T56-HLOOKUP(X56,Feuil1!$C$1:$BL$10,9,FALSE)","v":-71},{"$f":"T56-HLOOKUP(X56,Feuil1!$C$1:$BL$10,10,FALSE)","v":-91},null,null,null,null,null,null,"FED +"]
["H","NE","BOU","8",118935,"JOFFRET","Anthony",1994,81,"Stade Dijonnais HM","F",112,-117,117,117,135,"-","-",135,252,90,"FED +",2,{"$f":"IF(I57=\"\",\"\",IF(A57=\"H\",IF(OR(H57=\"SEN\",H57<1995),VLOOKUP(I57,Feuil1!$A$11:$F$29,6),IF(AND(H57>1994,H57<1998),VLOOKUP(I57,Feuil1!$A$11:$F$29,5),IF(AND(H57>1997,H57<2000),VLOOKUP(I57,Feuil1!$A$11:$F$29,4),IF(AND(H57>1999,H57<2002),VLOOKUP(I57,Feuil1!$A$11:$F$29,3),VLOOKUP(I57,Feuil1!$A$11:$F$29,2))))),IF(OR(H57=\"SEN\",H57<1995),VLOOKUP(I57,Feuil1!$G$11:$L$25,6),IF(AND(H57>1994,H57<1998),VLOOKUP(I57,Feuil1!$G$11:$L$25,5),IF(AND(H57>1997,H57<2000),VLOOKUP(I57,Feuil1!$G$11:$L$25,4),IF(AND(H57>1999,H57<2002),VLOOKUP(I57,Feuil1!$G$11:$L$25,3),VLOOKUP(I57,Feuil1!$G$11:$L$25,2)))))))","v":"S85"},308.68065695073255,null," ",{"$f":"T57-HLOOKUP(X57,Feuil1!$C$1:$BL$10,2,FALSE)","v":87},{"$f":"T57-HLOOKUP(X57,Feuil1!$C$1:$BL$10,3,FALSE)","v":67},{"$f":"T57-HLOOKUP(X57,Feuil1!$C$1:$BL$10,4,FALSE)","v":47},{"$f":"T57-HLOOKUP(X57,Feuil1!$C$1:$BL$10,5,FALSE)","v":27},{"$f":"T57-HLOOKUP(X57,Feuil1!$C$1:$BL$10,6,FALSE)","v":2},{"$f":"T57-HLOOKUP(X57,Feuil1!$C$1:$BL$10,7,FALSE)","v":-28},{"$f":"T57-HLOOKUP(X57,Feuil1!$C$1:$BL$10,8,FALSE)","v":-48},{"$f":"T57-HLOOKUP(X57,Feuil1!$C$1:$BL$10,9,FALSE)","v":-73},{"$f":"T57-HLOOKUP(X57,Feuil1!$C$1:$BL$10,10,FALSE)","v":-93},null,null,null,null,null,null,"FED +"]
["H","SEST","RAL","9",228220,"ARAKELIAN","Emin",1993,79.599999999999994,"VAULX EN VELIN","Arm",-108,110,114,114,-128,128,136,136,250,90.800000000000011,"FED +",0,{"$f":"IF(I58=\"\",\"\",IF(A58=\"H\",IF(OR(H58=\"SEN\",H58<1995),VLOOKUP(I58,Feuil1!$A$11:$F$29,6),IF(AND(H58>1994,H58<1998),VLOOKUP(I58,Feuil1!$A$11:$F$29,5),IF(AND(H58>1997,H58<2000),VLOOKUP(I58,Feuil1!$A$11:$F$29,4),IF(AND(H58>1999,H58<2002),VLOOKUP(I58,Feuil1!$A$11:$F$29,3),VLOOKUP(I58,Feuil1!$A$11:$F$29,2))))),IF(OR(H58=\"SEN\",H58<1995),VLOOKUP(I58,Feuil1!$G$11:$L$25,6),IF(AND(H58>1994,H58<1998),VLOOKUP(I58,Feuil1!$G$11:$L$25,5),IF(AND(H58>1997,H58<2000),VLOOKUP(I58,Feuil1!$G$11:$L$25,4),IF(AND(H58>1999,H58<2002),VLOOKUP(I58,Feuil1!$G$11:$L$25,3),VLOOKUP(I58,Feuil1!$G$11:$L$25,2)))))))","v":"S85"},309.10130714261095,null," ",{"$f":"T58-HLOOKUP(X58,Feuil1!$C$1:$BL$10,2,FALSE)","v":85},{"$f":"T58-HLOOKUP(X58,Feuil1!$C$1:$BL$10,3,FALSE)","v":65},{"$f":"T58-HLOOKUP(X58,Feuil1!$C$1:$BL$10,4,FALSE)","v":45},{"$f":"T58-HLOOKUP(X58,Feuil1!$C$1:$BL$10,5,FALSE)","v":25},{"$f":"T58-HLOOKUP(X58,Feuil1!$C$1:$BL$10,6,FALSE)","v":0},{"$f":"T58-HLOOKUP(X58,Feuil1!$C$1:$BL$10,7,FALSE)","v":-30},{"$f":"T58-HLOOKUP(X58,Feuil1!$C$1:$BL$10,8,FALSE)","v":-50},{"$f":"T58-HLOOKUP(X58,Feuil1!$C$1:$BL$10,9,FALSE)","v":-75},{"$f":"T58-HLOOKUP(X58,Feuil1!$C$1:$BL$10,10,FALSE)","v":-95},null,null,null,null,null,null,"FED +"]
["H","NE","ALS","10",137264,"BONNAMANT","Bastien",1994,80.5,"ASPTT Strasbourg","F",105,110,-114,110,-134,134,140,140,250,89,"FED +",0,{"$f":"IF(I59=\"\",\"\",IF(A59=\"H\",IF(OR(H59=\"SEN\",H59<1995),VLOOKUP(I59,Feuil1!$A$11:$F$29,6),IF(AND(H59>1994,H59<1998),VLOOKUP(I59,Feuil1!$A$11:$F$29,5),IF(AND(H59>1997,H59<2000),VLOOKUP(I59,Feuil1!$A$11:$F$29,4),IF(AND(H59>1999,H59<2002),VLOOKUP(I59,Feuil1!$A$11:$F$29,3),VLOOKUP(I59,Feuil1!$A$11:$F$29,2))))),IF(OR(H59=\"SEN\",H59<1995),VLOOKUP(I59,Feuil1!$G$11:$L$25,6),IF(AND(H59>1994,H59<1998),VLOOKUP(I59,Feuil1!$G$11:$L$25,5),IF(AND(H59>1997,H59<2000),VLOOKUP(I59,Feuil1!$G$11:$L$25,4),IF(AND(H59>1999,H59<2002),VLOOKUP(I59,Feuil1!$G$11:$L$25,3),VLOOKUP(I59,Feuil1!$G$11:$L$25,2)))))))","v":"S85"},307.23980787201515,null," ",{"$f":"T59-HLOOKUP(X59,Feuil1!$C$1:$BL$10,2,FALSE)","v":85},{"$f":"T59-HLOOKUP(X59,Feuil1!$C$1:$BL$10,3,FALSE)","v":65},{"$f":"T59-HLOOKUP(X59,Feuil1!$C$1:$BL$10,4,FALSE)","v":45},{"$f":"T59-HLOOKUP(X59,Feuil1!$C$1:$BL$10,5,FALSE)","v":25},{"$f":"T59-HLOOKUP(X59,Feuil1!$C$1:$BL$10,6,FALSE)","v":0},{"$f":"T59-HLOOKUP(X59,Feuil1!$C$1:$BL$10,7,FALSE)","v":-30},{"$f":"T59-HLOOKUP(X59,Feuil1!$C$1:$BL$10,8,FALSE)","v":-50},{"$f":"T59-HLOOKUP(X59,Feuil1!$C$1:$BL$10,9,FALSE)","v":-75},{"$f":"T59-HLOOKUP(X59,Feuil1!$C$1:$BL$10,10,FALSE)","v":-95},null,null,null,null,null,null,"FED +"]
["H","ZCO","BRE","11",67662,"CHAVRY","Dylan",1994,81.34,"CHM Plouhinec PR","F",108,112,0,112,133,-138,138,138,250,87.32,"FED +",0,{"$f":"IF(I60=\"\",\"\",IF(A60=\"H\",IF(OR(H60=\"SEN\",H60<1995),VLOOKUP(I60,Feuil1!$A$11:$F$29,6),IF(AND(H60>1994,H60<1998),VLOOKUP(I60,Feuil1!$A$11:$F$29,5),IF(AND(H60>1997,H60<2000),VLOOKUP(I60,Feuil1!$A$11:$F$29,4),IF(AND(H60>1999,H60<2002),VLOOKUP(I60,Feuil1!$A$11:$F$29,3),VLOOKUP(I60,Feuil1!$A$11:$F$29,2))))),IF(OR(H60=\"SEN\",H60<1995),VLOOKUP(I60,Feuil1!$G$11:$L$25,6),IF(AND(H60>1994,H60<1998),VLOOKUP(I60,Feuil1!$G$11:$L$25,5),IF(AND(H60>1997,H60<2000),VLOOKUP(I60,Feuil1!$G$11:$L$25,4),IF(AND(H60>1999,H60<2002),VLOOKUP(I60,Feuil1!$G$11:$L$25,3),VLOOKUP(I60,Feuil1!$G$11:$L$25,2)))))))","v":"S85"},305.55470678211913,null," ",{"$f":"T60-HLOOKUP(X60,Feuil1!$C$1:$BL$10,2,FALSE)","v":85},{"$f":"T60-HLOOKUP(X60,Feuil1!$C$1:$BL$10,3,FALSE)","v":65},{"$f":"T60-HLOOKUP(X60,Feuil1!$C$1:$BL$10,4,FALSE)","v":45},{"$f":"T60-HLOOKUP(X60,Feuil1!$C$1:$BL$10,5,FALSE)","v":25},{"$f":"T60-HLOOKUP(X60,Feuil1!$C$1:$BL$10,6,FALSE)","v":0},{"$f":"T60-HLOOKUP(X60,Feuil1!$C$1:$BL$10,7,FALSE)","v":-30},{"$f":"T60-HLOOKUP(X60,Feuil1!$C$1:$BL$10,8,FALSE)","v":-50},{"$f":"T60-HLOOKUP(X60,Feuil1!$C$1:$BL$10,9,FALSE)","v":-75},{"$f":"T60-HLOOKUP(X60,Feuil1!$C$1:$BL$10,10,FALSE)","v":-95},null,null,null,null,null,null,"FED +"]
["H","NE","FCO","12",1146,"AUBRY","Stéphane",1982,83.6,"CH LUXEUIL","F",111,-115,115,115,-130,130,135,135,250,82.800000000000011,"FED +",0,{"$f":"IF(I61=\"\",\"\",IF(A61=\"H\",IF(OR(H61=\"SEN\",H61<1995),VLOOKUP(I61,Feuil1!$A$11:$F$29,6),IF(AND(H61>1994,H61<1998),VLOOKUP(I61,Feuil1!$A$11:$F$29,5),IF(AND(H61>1997,H61<2000),VLOOKUP(I61,Feuil1!$A$11:$F$29,4),IF(AND(H61>1999,H61<2002),VLOOKUP(I61,Feuil1!$A$11:$F$29,3),VLOOKUP(I61,Feuil1!$A$11:$F$29,2))))),IF(OR(H61=\"SEN\",H61<1995),VLOOKUP(I61,Feuil1!$G$11:$L$25,6),IF(AND(H61>1994,H61<1998),VLOOKUP(I61,Feuil1!$G$11:$L$25,5),IF(AND(H61>1997,H61<2000),VLOOKUP(I61,Feuil1!$G$11:$L$25,4),IF(AND(H61>1999,H61<2002),VLOOKUP(I61,Feuil1!$G$11:$L$25,3),VLOOKUP(I61,Feuil1!$G$11:$L$25,2)))))))","v":"S85"},301.25783510717429,null," ",{"$f":"T61-HLOOKUP(X61,Feuil1!$C$1:$BL$10,2,FALSE)","v":85},{"$f":"T61-HLOOKUP(X61,Feuil1!$C$1:$BL$10,3,FALSE)","v":65},{"$f":"T61-HLOOKUP(X61,Feuil1!$C$1:$BL$10,4,FALSE)","v":45},{"$f":"T61-HLOOKUP(X61,Feuil1!$C$1:$BL$10,5,FALSE)","v":25},{"$f":"T61-HLOOKUP(X61,Feuil1!$C$1:$BL$10,6,FALSE)","v":0},{"$f":"T61-HLOOKUP(X61,Feuil1!$C$1:$BL$10,7,FALSE)","v":-30},{"$f":"T61-HLOOKUP(X61,Feuil1!$C$1:$BL$10,8,FALSE)","v":-50},{"$f":"T61-HLOOKUP(X61,Feuil1!$C$1:$BL$10,9,FALSE)","v":-75},{"$f":"T61-HLOOKUP(X61,Feuil1!$C$1:$BL$10,10,FALSE)","v":-95},null,null,null,null,null,null,"FED +"]
["H","Nord","IDF","13",224123,"VITAL","Jules",1991,84.2,"CHM Chaville","F",110,-115,-115,110,130,-140,"-",130,240,71.599999999999994,"IRG +",15,{"$f":"IF(I62=\"\",\"\",IF(A62=\"H\",IF(OR(H62=\"SEN\",H62<1995),VLOOKUP(I62,Feuil1!$A$11:$F$29,6),IF(AND(H62>1994,H62<1998),VLOOKUP(I62,Feuil1!$A$11:$F$29,5),IF(AND(H62>1997,H62<2000),VLOOKUP(I62,Feuil1!$A$11:$F$29,4),IF(AND(H62>1999,H62<2002),VLOOKUP(I62,Feuil1!$A$11:$F$29,3),VLOOKUP(I62,Feuil1!$A$11:$F$29,2))))),IF(OR(H62=\"SEN\",H62<1995),VLOOKUP(I62,Feuil1!$G$11:$L$25,6),IF(AND(H62>1994,H62<1998),VLOOKUP(I62,Feuil1!$G$11:$L$25,5),IF(AND(H62>1997,H62<2000),VLOOKUP(I62,Feuil1!$G$11:$L$25,4),IF(AND(H62>1999,H62<2002),VLOOKUP(I62,Feuil1!$G$11:$L$25,3),VLOOKUP(I62,Feuil1!$G$11:$L$25,2)))))))","v":"S85"},288.16526178624065,null," ",{"$f":"T62-HLOOKUP(X62,Feuil1!$C$1:$BL$10,2,FALSE)","v":75},{"$f":"T62-HLOOKUP(X62,Feuil1!$C$1:$BL$10,3,FALSE)","v":55},{"$f":"T62-HLOOKUP(X62,Feuil1!$C$1:$BL$10,4,FALSE)","v":35},{"$f":"T62-HLOOKUP(X62,Feuil1!$C$1:$BL$10,5,FALSE)","v":15},{"$f":"T62-HLOOKUP(X62,Feuil1!$C$1:$BL$10,6,FALSE)","v":-10},{"$f":"T62-HLOOKUP(X62,Feuil1!$C$1:$BL$10,7,FALSE)","v":-40},{"$f":"T62-HLOOKUP(X62,Feuil1!$C$1:$BL$10,8,FALSE)","v":-60},{"$f":"T62-HLOOKUP(X62,Feuil1!$C$1:$BL$10,9,FALSE)","v":-85},{"$f":"T62-HLOOKUP(X62,Feuil1!$C$1:$BL$10,10,FALSE)","v":-105},null,null,null,null,null,null,"IRG +"]
["H","Nord","NPC","14",176611,"DENECKER","Rémi",1986,84.3,"CA Rosendael","F",100,-107,107,107,126,-132,132,132,239,70.400000000000006,"IRG +",14,{"$f":"IF(I63=\"\",\"\",IF(A63=\"H\",IF(OR(H63=\"SEN\",H63<1995),VLOOKUP(I63,Feuil1!$A$11:$F$29,6),IF(AND(H63>1994,H63<1998),VLOOKUP(I63,Feuil1!$A$11:$F$29,5),IF(AND(H63>1997,H63<2000),VLOOKUP(I63,Feuil1!$A$11:$F$29,4),IF(AND(H63>1999,H63<2002),VLOOKUP(I63,Feuil1!$A$11:$F$29,3),VLOOKUP(I63,Feuil1!$A$11:$F$29,2))))),IF(OR(H63=\"SEN\",H63<1995),VLOOKUP(I63,Feuil1!$G$11:$L$25,6),IF(AND(H63>1994,H63<1998),VLOOKUP(I63,Feuil1!$G$11:$L$25,5),IF(AND(H63>1997,H63<2000),VLOOKUP(I63,Feuil1!$G$11:$L$25,4),IF(AND(H63>1999,H63<2002),VLOOKUP(I63,Feuil1!$G$11:$L$25,3),VLOOKUP(I63,Feuil1!$G$11:$L$25,2)))))))","v":"S85"},286.79364786518579,null," ",{"$f":"T63-HLOOKUP(X63,Feuil1!$C$1:$BL$10,2,FALSE)","v":74},{"$f":"T63-HLOOKUP(X63,Feuil1!$C$1:$BL$10,3,FALSE)","v":54},{"$f":"T63-HLOOKUP(X63,Feuil1!$C$1:$BL$10,4,FALSE)","v":34},{"$f":"T63-HLOOKUP(X63,Feuil1!$C$1:$BL$10,5,FALSE)","v":14},{"$f":"T63-HLOOKUP(X63,Feuil1!$C$1:$BL$10,6,FALSE)","v":-11},{"$f":"T63-HLOOKUP(X63,Feuil1!$C$1:$BL$10,7,FALSE)","v":-41},{"$f":"T63-HLOOKUP(X63,Feuil1!$C$1:$BL$10,8,FALSE)","v":-61},{"$f":"T63-HLOOKUP(X63,Feuil1!$C$1:$BL$10,9,FALSE)","v":-86},{"$f":"T63-HLOOKUP(X63,Feuil1!$C$1:$BL$10,10,FALSE)","v":-106},null,null,null,null,null,null,"IRG +"]
["H","DOM","REU","15",165911,"HUET","Nicolas",1977,84.6,"CH TAMPON","F",100,105,110,110,-125,125,-130,{"$f":"IF(H64=\"\",\"\",IF(MAXA(P64:R64)<=0,0,MAXA(P64:R64)))","v":125},{"$f":"IF(H64=\"\",\"\",IF(OR(O64=0,S64=0),0,O64+S64))","v":235},{"$f":"T64-I64*2","v":65.800000000000011},{"$f":"IF(H64=\"\",\"\",AQ64)","v":"IRG +"},{"$f":"IF(AJ64>=0,AJ64,IF(AI64>=0,AI64,IF(AH64>=0,AH64,IF(AG64>=0,AG64,IF(AF64>=0,AF64,IF(AE64>=0,AE64,IF(AD64>=0,AD64,IF(AC64>=0,AC64,AB64))))))))","v":10},{"$f":"IF(I64=\"\",\"\",IF(A64=\"H\",IF(OR(H64=\"SEN\",H64<1995),VLOOKUP(I64,Feuil1!$A$11:$F$29,6),IF(AND(H64>1994,H64<1998),VLOOKUP(I64,Feuil1!$A$11:$F$29,5),IF(AND(H64>1997,H64<2000),VLOOKUP(I64,Feuil1!$A$11:$F$29,4),IF(AND(H64>1999,H64<2002),VLOOKUP(I64,Feuil1!$A$11:$F$29,3),VLOOKUP(I64,Feuil1!$A$11:$F$29,2))))),IF(OR(H64=\"SEN\",H64<1995),VLOOKUP(I64,Feuil1!$G$11:$L$25,6),IF(AND(H64>1994,H64<1998),VLOOKUP(I64,Feuil1!$G$11:$L$25,5),IF(AND(H64>1997,H64<2000),VLOOKUP(I64,Feuil1!$G$11:$L$25,4),IF(AND(H64>1999,H64<2002),VLOOKUP(I64,Feuil1!$G$11:$L$25,3),VLOOKUP(I64,Feuil1!$G$11:$L$25,2)))))))","v":"S85"},{"$f":"IF(I64=\"\",\"\",IF(A64=\"H\",10^(0.794358141*LOG(I64/174.393)^2)*T64,IF(A64=\"F\",10^(0.89726074*LOG(I64/148.026)^2)*T64,\"\")))","v":281.49298667317362},null," ",{"$f":"T64-HLOOKUP(X64,Feuil1!$C$1:$BL$10,2,FALSE)","v":70},{"$f":"T64-HLOOKUP(X64,Feuil1!$C$1:$BL$10,3,FALSE)","v":50},{"$f":"T64-HLOOKUP(X64,Feuil1!$C$1:$BL$10,4,FALSE)","v":30},{"$f":"T64-HLOOKUP(X64,Feuil1!$C$1:$BL$10,5,FALSE)","v":10},{"$f":"T64-HLOOKUP(X64,Feuil1!$C$1:$BL$10,6,FALSE)","v":-15},{"$f":"T64-HLOOKUP(X64,Feuil1!$C$1:$BL$10,7,FALSE)","v":-45},{"$f":"T64-HLOOKUP(X64,Feuil1!$C$1:$BL$10,8,FALSE)","v":-65},{"$f":"T64-HLOOKUP(X64,Feuil1!$C$1:$BL$10,9,FALSE)","v":-90},{"$f":"T64-HLOOKUP(X64,Feuil1!$C$1:$BL$10,10,FALSE)","v":-110},null,null,null,null,null,null,{"$f":"IF(AJ64>=0,$AJ$4,IF(AI64>=0,$AI$4,IF(AH64>=0,$AH$4,IF(AG64>=0,$AG$4,IF(AF64>=0,$AF$4,IF(AE64>=0,$AE$4,IF(AD64>=0,$AD$4,IF(AC64>=0,$AC$4,$AB$4))))))))","v":"IRG +"}]
["H","DOM","GUA","16",291083,"HAPPY","Julios",1982,84.8,"Body Club Domien","Cmr",95,100,105,105,125,130,-135,130,235,65.400000000000006,"IRG +",10,{"$f":"IF(I65=\"\",\"\",IF(A65=\"H\",IF(OR(H65=\"SEN\",H65<1995),VLOOKUP(I65,Feuil1!$A$11:$F$29,6),IF(AND(H65>1994,H65<1998),VLOOKUP(I65,Feuil1!$A$11:$F$29,5),IF(AND(H65>1997,H65<2000),VLOOKUP(I65,Feuil1!$A$11:$F$29,4),IF(AND(H65>1999,H65<2002),VLOOKUP(I65,Feuil1!$A$11:$F$29,3),VLOOKUP(I65,Feuil1!$A$11:$F$29,2))))),IF(OR(H65=\"SEN\",H65<1995),VLOOKUP(I65,Feuil1!$G$11:$L$25,6),IF(AND(H65>1994,H65<1998),VLOOKUP(I65,Feuil1!$G$11:$L$25,5),IF(AND(H65>1997,H65<2000),VLOOKUP(I65,Feuil1!$G$11:$L$25,4),IF(AND(H65>1999,H65<2002),VLOOKUP(I65,Feuil1!$G$11:$L$25,3),VLOOKUP(I65,Feuil1!$G$11:$L$25,2)))))))","v":"S85"},281.16197377901477,null," ",{"$f":"T65-HLOOKUP(X65,Feuil1!$C$1:$BL$10,2,FALSE)","v":70},{"$f":"T65-HLOOKUP(X65,Feuil1!$C$1:$BL$10,3,FALSE)","v":50},{"$f":"T65-HLOOKUP(X65,Feuil1!$C$1:$BL$10,4,FALSE)","v":30},{"$f":"T65-HLOOKUP(X65,Feuil1!$C$1:$BL$10,5,FALSE)","v":10},{"$f":"T65-HLOOKUP(X65,Feuil1!$C$1:$BL$10,6,FALSE)","v":-15},{"$f":"T65-HLOOKUP(X65,Feuil1!$C$1:$BL$10,7,FALSE)","v":-45},{"$f":"T65-HLOOKUP(X65,Feuil1!$C$1:$BL$10,8,FALSE)","v":-65},{"$f":"T65-HLOOKUP(X65,Feuil1!$C$1:$BL$10,9,FALSE)","v":-90},{"$f":"T65-HLOOKUP(X65,Feuil1!$C$1:$BL$10,10,FALSE)","v":-110},null,null,null,null,null,null,"IRG +"]
["H","Nord","IDF","17",219545,"LENEUVEU","Nicolas",1992,83,"SC Neuilly","F",-100,-100,100,100,120,125,130,130,230,64,"IRG +",5,{"$f":"IF(I66=\"\",\"\",IF(A66=\"H\",IF(OR(H66=\"SEN\",H66<1995),VLOOKUP(I66,Feuil1!$A$11:$F$29,6),IF(AND(H66>1994,H66<1998),VLOOKUP(I66,Feuil1!$A$11:$F$29,5),IF(AND(H66>1997,H66<2000),VLOOKUP(I66,Feuil1!$A$11:$F$29,4),IF(AND(H66>1999,H66<2002),VLOOKUP(I66,Feuil1!$A$11:$F$29,3),VLOOKUP(I66,Feuil1!$A$11:$F$29,2))))),IF(OR(H66=\"SEN\",H66<1995),VLOOKUP(I66,Feuil1!$G$11:$L$25,6),IF(AND(H66>1994,H66<1998),VLOOKUP(I66,Feuil1!$G$11:$L$25,5),IF(AND(H66>1997,H66<2000),VLOOKUP(I66,Feuil1!$G$11:$L$25,4),IF(AND(H66>1999,H66<2002),VLOOKUP(I66,Feuil1!$G$11:$L$25,3),VLOOKUP(I66,Feuil1!$G$11:$L$25,2)))))))","v":"S85"},278.1768091876375,null," ",{"$f":"T66-HLOOKUP(X66,Feuil1!$C$1:$BL$10,2,FALSE)","v":65},{"$f":"T66-HLOOKUP(X66,Feuil1!$C$1:$BL$10,3,FALSE)","v":45},{"$f":"T66-HLOOKUP(X66,Feuil1!$C$1:$BL$10,4,FALSE)","v":25},{"$f":"T66-HLOOKUP(X66,Feuil1!$C$1:$BL$10,5,FALSE)","v":5},{"$f":"T66-HLOOKUP(X66,Feuil1!$C$1:$BL$10,6,FALSE)","v":-20},{"$f":"T66-HLOOKUP(X66,Feuil1!$C$1:$BL$10,7,FALSE)","v":-50},{"$f":"T66-HLOOKUP(X66,Feuil1!$C$1:$BL$10,8,FALSE)","v":-70},{"$f":"T66-HLOOKUP(X66,Feuil1!$C$1:$BL$10,9,FALSE)","v":-95},{"$f":"T66-HLOOKUP(X66,Feuil1!$C$1:$BL$10,10,FALSE)","v":-115},null,null,null,null,null,null,"IRG +"]
["H","Nord","NPC","18",341480,"BERNAERT","Sébastian",1994,81.2,"St Pol sur Mer","BEL",95,100,103,103,125,-130,-130,125,228,65.599999999999994,"IRG +",3,{"$f":"IF(I67=\"\",\"\",IF(A67=\"H\",IF(OR(H67=\"SEN\",H67<1995),VLOOKUP(I67,Feuil1!$A$11:$F$29,6),IF(AND(H67>1994,H67<1998),VLOOKUP(I67,Feuil1!$A$11:$F$29,5),IF(AND(H67>1997,H67<2000),VLOOKUP(I67,Feuil1!$A$11:$F$29,4),IF(AND(H67>1999,H67<2002),VLOOKUP(I67,Feuil1!$A$11:$F$29,3),VLOOKUP(I67,Feuil1!$A$11:$F$29,2))))),IF(OR(H67=\"SEN\",H67<1995),VLOOKUP(I67,Feuil1!$G$11:$L$25,6),IF(AND(H67>1994,H67<1998),VLOOKUP(I67,Feuil1!$G$11:$L$25,5),IF(AND(H67>1997,H67<2000),VLOOKUP(I67,Feuil1!$G$11:$L$25,4),IF(AND(H67>1999,H67<2002),VLOOKUP(I67,Feuil1!$G$11:$L$25,3),VLOOKUP(I67,Feuil1!$G$11:$L$25,2)))))))","v":"S85"},278.91890292734297,null," ",{"$f":"T67-HLOOKUP(X67,Feuil1!$C$1:$BL$10,2,FALSE)","v":63},{"$f":"T67-HLOOKUP(X67,Feuil1!$C$1:$BL$10,3,FALSE)","v":43},{"$f":"T67-HLOOKUP(X67,Feuil1!$C$1:$BL$10,4,FALSE)","v":23},{"$f":"T67-HLOOKUP(X67,Feuil1!$C$1:$BL$10,5,FALSE)","v":3},{"$f":"T67-HLOOKUP(X67,Feuil1!$C$1:$BL$10,6,FALSE)","v":-22},{"$f":"T67-HLOOKUP(X67,Feuil1!$C$1:$BL$10,7,FALSE)","v":-52},{"$f":"T67-HLOOKUP(X67,Feuil1!$C$1:$BL$10,8,FALSE)","v":-72},{"$f":"T67-HLOOKUP(X67,Feuil1!$C$1:$BL$10,9,FALSE)","v":-97},{"$f":"T67-HLOOKUP(X67,Feuil1!$C$1:$BL$10,10,FALSE)","v":-117},null,null,null,null,null,null,"IRG +"]
["H","ZCO","PDL","19",320596,"CLEMENCEAU","Romain",1989,83.41,"CJF Laval Voutré 53","F",95,98,101,101,120,125,-130,125,226,59.180000000000007,"IRG +",1,{"$f":"IF(I68=\"\",\"\",IF(A68=\"H\",IF(OR(H68=\"SEN\",H68<1995),VLOOKUP(I68,Feuil1!$A$11:$F$29,6),IF(AND(H68>1994,H68<1998),VLOOKUP(I68,Feuil1!$A$11:$F$29,5),IF(AND(H68>1997,H68<2000),VLOOKUP(I68,Feuil1!$A$11:$F$29,4),IF(AND(H68>1999,H68<2002),VLOOKUP(I68,Feuil1!$A$11:$F$29,3),VLOOKUP(I68,Feuil1!$A$11:$F$29,2))))),IF(OR(H68=\"SEN\",H68<1995),VLOOKUP(I68,Feuil1!$G$11:$L$25,6),IF(AND(H68>1994,H68<1998),VLOOKUP(I68,Feuil1!$G$11:$L$25,5),IF(AND(H68>1997,H68<2000),VLOOKUP(I68,Feuil1!$G$11:$L$25,4),IF(AND(H68>1999,H68<2002),VLOOKUP(I68,Feuil1!$G$11:$L$25,3),VLOOKUP(I68,Feuil1!$G$11:$L$25,2)))))))","v":"S85"},272.6521092574182,null," ",{"$f":"T68-HLOOKUP(X68,Feuil1!$C$1:$BL$10,2,FALSE)","v":61},{"$f":"T68-HLOOKUP(X68,Feuil1!$C$1:$BL$10,3,FALSE)","v":41},{"$f":"T68-HLOOKUP(X68,Feuil1!$C$1:$BL$10,4,FALSE)","v":21},{"$f":"T68-HLOOKUP(X68,Feuil1!$C$1:$BL$10,5,FALSE)","v":1},{"$f":"T68-HLOOKUP(X68,Feuil1!$C$1:$BL$10,6,FALSE)","v":-24},{"$f":"T68-HLOOKUP(X68,Feuil1!$C$1:$BL$10,7,FALSE)","v":-54},{"$f":"T68-HLOOKUP(X68,Feuil1!$C$1:$BL$10,8,FALSE)","v":-74},{"$f":"T68-HLOOKUP(X68,Feuil1!$C$1:$BL$10,9,FALSE)","v":-99},{"$f":"T68-HLOOKUP(X68,Feuil1!$C$1:$BL$10,10,FALSE)","v":-119},null,null,null,null,null,null,"IRG +"]
["H","Nord","IDF","20",285663,"MARQUEZ","Octavio",1989,82.3,"SC Neuilly","F",90,95,-100,95,125,130,-135,130,225,60.400000000000006,"IRG +",0,{"$f":"IF(I69=\"\",\"\",IF(A69=\"H\",IF(OR(H69=\"SEN\",H69<1995),VLOOKUP(I69,Feuil1!$A$11:$F$29,6),IF(AND(H69>1994,H69<1998),VLOOKUP(I69,Feuil1!$A$11:$F$29,5),IF(AND(H69>1997,H69<2000),VLOOKUP(I69,Feuil1!$A$11:$F$29,4),IF(AND(H69>1999,H69<2002),VLOOKUP(I69,Feuil1!$A$11:$F$29,3),VLOOKUP(I69,Feuil1!$A$11:$F$29,2))))),IF(OR(H69=\"SEN\",H69<1995),VLOOKUP(I69,Feuil1!$G$11:$L$25,6),IF(AND(H69>1994,H69<1998),VLOOKUP(I69,Feuil1!$G$11:$L$25,5),IF(AND(H69>1997,H69<2000),VLOOKUP(I69,Feuil1!$G$11:$L$25,4),IF(AND(H69>1999,H69<2002),VLOOKUP(I69,Feuil1!$G$11:$L$25,3),VLOOKUP(I69,Feuil1!$G$11:$L$25,2)))))))","v":"S85"},273.31952645906023,null," ",{"$f":"T69-HLOOKUP(X69,Feuil1!$C$1:$BL$10,2,FALSE)","v":60},{"$f":"T69-HLOOKUP(X69,Feuil1!$C$1:$BL$10,3,FALSE)","v":40},{"$f":"T69-HLOOKUP(X69,Feuil1!$C$1:$BL$10,4,FALSE)","v":20},{"$f":"T69-HLOOKUP(X69,Feuil1!$C$1:$BL$10,5,FALSE)","v":0},{"$f":"T69-HLOOKUP(X69,Feuil1!$C$1:$BL$10,6,FALSE)","v":-25},{"$f":"T69-HLOOKUP(X69,Feuil1!$C$1:$BL$10,7,FALSE)","v":-55},{"$f":"T69-HLOOKUP(X69,Feuil1!$C$1:$BL$10,8,FALSE)","v":-75},{"$f":"T69-HLOOKUP(X69,Feuil1!$C$1:$BL$10,9,FALSE)","v":-100},{"$f":"T69-HLOOKUP(X69,Feuil1!$C$1:$BL$10,10,FALSE)","v":-120},null,null,null,null,null,null,"IRG +"]
["H","SEST","RAL","21",82510,"GUILLAUMET","Geoffroy",1959,84.9,"C.H. ANNONAY","F",95,100,-103,100,120,125,-128,125,225,55.199999999999989,"IRG +",0,{"$f":"IF(I70=\"\",\"\",IF(A70=\"H\",IF(OR(H70=\"SEN\",H70<1995),VLOOKUP(I70,Feuil1!$A$11:$F$29,6),IF(AND(H70>1994,H70<1998),VLOOKUP(I70,Feuil1!$A$11:$F$29,5),IF(AND(H70>1997,H70<2000),VLOOKUP(I70,Feuil1!$A$11:$F$29,4),IF(AND(H70>1999,H70<2002),VLOOKUP(I70,Feuil1!$A$11:$F$29,3),VLOOKUP(I70,Feuil1!$A$11:$F$29,2))))),IF(OR(H70=\"SEN\",H70<1995),VLOOKUP(I70,Feuil1!$G$11:$L$25,6),IF(AND(H70>1994,H70<1998),VLOOKUP(I70,Feuil1!$G$11:$L$25,5),IF(AND(H70>1997,H70<2000),VLOOKUP(I70,Feuil1!$G$11:$L$25,4),IF(AND(H70>1999,H70<2002),VLOOKUP(I70,Feuil1!$G$11:$L$25,3),VLOOKUP(I70,Feuil1!$G$11:$L$25,2)))))))","v":"S85"},269.03997770498421,null," ",{"$f":"T70-HLOOKUP(X70,Feuil1!$C$1:$BL$10,2,FALSE)","v":60},{"$f":"T70-HLOOKUP(X70,Feuil1!$C$1:$BL$10,3,FALSE)","v":40},{"$f":"T70-HLOOKUP(X70,Feuil1!$C$1:$BL$10,4,FALSE)","v":20},{"$f":"T70-HLOOKUP(X70,Feuil1!$C$1:$BL$10,5,FALSE)","v":0},{"$f":"T70-HLOOKUP(X70,Feuil1!$C$1:$BL$10,6,FALSE)","v":-25},{"$f":"T70-HLOOKUP(X70,Feuil1!$C$1:$BL$10,7,FALSE)","v":-55},{"$f":"T70-HLOOKUP(X70,Feuil1!$C$1:$BL$10,8,FALSE)","v":-75},{"$f":"T70-HLOOKUP(X70,Feuil1!$C$1:$BL$10,9,FALSE)","v":-100},{"$f":"T70-HLOOKUP(X70,Feuil1!$C$1:$BL$10,10,FALSE)","v":-120},null,null,null,null,null,null,"IRG +"]
["H","SEST","PRO"," ",273516,"USSEGLIO","Julien",1994,84.1,"H.M. STE TULLE","F",-120,-120,-120,0,155,-160,-160,155,0,{"$f":"T71-I71*2","v":-168.2},"DEB ",-165,{"$f":"IF(I71=\"\",\"\",IF(A71=\"H\",IF(OR(H71=\"SEN\",H71<1995),VLOOKUP(I71,Feuil1!$A$11:$F$29,6),IF(AND(H71>1994,H71<1998),VLOOKUP(I71,Feuil1!$A$11:$F$29,5),IF(AND(H71>1997,H71<2000),VLOOKUP(I71,Feuil1!$A$11:$F$29,4),IF(AND(H71>1999,H71<2002),VLOOKUP(I71,Feuil1!$A$11:$F$29,3),VLOOKUP(I71,Feuil1!$A$11:$F$29,2))))),IF(OR(H71=\"SEN\",H71<1995),VLOOKUP(I71,Feuil1!$G$11:$L$25,6),IF(AND(H71>1994,H71<1998),VLOOKUP(I71,Feuil1!$G$11:$L$25,5),IF(AND(H71>1997,H71<2000),VLOOKUP(I71,Feuil1!$G$11:$L$25,4),IF(AND(H71>1999,H71<2002),VLOOKUP(I71,Feuil1!$G$11:$L$25,3),VLOOKUP(I71,Feuil1!$G$11:$L$25,2)))))))","v":"S85"},0,null," ",{"$f":"T71-HLOOKUP(X71,Feuil1!$C$1:$BL$10,2,FALSE)","v":-165},{"$f":"T71-HLOOKUP(X71,Feuil1!$C$1:$BL$10,3,FALSE)","v":-185},{"$f":"T71-HLOOKUP(X71,Feuil1!$C$1:$BL$10,4,FALSE)","v":-205},{"$f":"T71-HLOOKUP(X71,Feuil1!$C$1:$BL$10,5,FALSE)","v":-225},{"$f":"T71-HLOOKUP(X71,Feuil1!$C$1:$BL$10,6,FALSE)","v":-250},{"$f":"T71-HLOOKUP(X71,Feuil1!$C$1:$BL$10,7,FALSE)","v":-280},{"$f":"T71-HLOOKUP(X71,Feuil1!$C$1:$BL$10,8,FALSE)","v":-300},{"$f":"T71-HLOOKUP(X71,Feuil1!$C$1:$BL$10,9,FALSE)","v":-325},{"$f":"T71-HLOOKUP(X71,Feuil1!$C$1:$BL$10,10,FALSE)","v":-345},null,null,null,null,null,null,"DEB "]
["H","Nord","NPC"," ",198301,"DJASSIDJI","Willy",1991,84.6,"Lille UC","F",-115,-115,-115,0,"-","-","-",0,0,-169.2,"DEB ",-165,{"$f":"IF(I72=\"\",\"\",IF(A72=\"H\",IF(OR(H72=\"SEN\",H72<1995),VLOOKUP(I72,Feuil1!$A$11:$F$29,6),IF(AND(H72>1994,H72<1998),VLOOKUP(I72,Feuil1!$A$11:$F$29,5),IF(AND(H72>1997,H72<2000),VLOOKUP(I72,Feuil1!$A$11:$F$29,4),IF(AND(H72>1999,H72<2002),VLOOKUP(I72,Feuil1!$A$11:$F$29,3),VLOOKUP(I72,Feuil1!$A$11:$F$29,2))))),IF(OR(H72=\"SEN\",H72<1995),VLOOKUP(I72,Feuil1!$G$11:$L$25,6),IF(AND(H72>1994,H72<1998),VLOOKUP(I72,Feuil1!$G$11:$L$25,5),IF(AND(H72>1997,H72<2000),VLOOKUP(I72,Feuil1!$G$11:$L$25,4),IF(AND(H72>1999,H72<2002),VLOOKUP(I72,Feuil1!$G$11:$L$25,3),VLOOKUP(I72,Feuil1!$G$11:$L$25,2)))))))","v":"S85"},0,null," ",{"$f":"T72-HLOOKUP(X72,Feuil1!$C$1:$BL$10,2,FALSE)","v":-165},{"$f":"T72-HLOOKUP(X72,Feuil1!$C$1:$BL$10,3,FALSE)","v":-185},{"$f":"T72-HLOOKUP(X72,Feuil1!$C$1:$BL$10,4,FALSE)","v":-205},{"$f":"T72-HLOOKUP(X72,Feuil1!$C$1:$BL$10,5,FALSE)","v":-225},{"$f":"T72-HLOOKUP(X72,Feuil1!$C$1:$BL$10,6,FALSE)","v":-250},{"$f":"T72-HLOOKUP(X72,Feuil1!$C$1:$BL$10,7,FALSE)","v":-280},{"$f":"T72-HLOOKUP(X72,Feuil1!$C$1:$BL$10,8,FALSE)","v":-300},{"$f":"T72-HLOOKUP(X72,Feuil1!$C$1:$BL$10,9,FALSE)","v":-325},{"$f":"T72-HLOOKUP(X72,Feuil1!$C$1:$BL$10,10,FALSE)","v":-345},null,null,null,null,null,null,"DEB "]
[null,null,null,null,null,null,null,null,null,null,null,null,null,null,null,null,null,null,null,null," ",null,null,{"$f":"IF(I73=\"\",\"\",IF(A73=\"H\",IF(OR(H73=\"SEN\",H73<1995),VLOOKUP(I73,Feuil1!$A$11:$F$29,6),IF(AND(H73>1994,H73<1998),VLOOKUP(I73,Feuil1!$A$11:$F$29,5),IF(AND(H73>1997,H73<2000),VLOOKUP(I73,Feuil1!$A$11:$F$29,4),IF(AND(H73>1999,H73<2002),VLOOKUP(I73,Feuil1!$A$11:$F$29,3),VLOOKUP(I73,Feuil1!$A$11:$F$29,2))))),IF(OR(H73=\"SEN\",H73<1995),VLOOKUP(I73,Feuil1!$G$11:$L$25,6),IF(AND(H73>1994,H73<1998),VLOOKUP(I73,Feuil1!$G$11:$L$25,5),IF(AND(H73>1997,H73<2000),VLOOKUP(I73,Feuil1!$G$11:$L$25,4),IF(AND(H73>1999,H73<2002),VLOOKUP(I73,Feuil1!$G$11:$L$25,3),VLOOKUP(I73,Feuil1!$G$11:$L$25,2)))))))","v":""},null,null,null,{"$f":"T73-HLOOKUP(X73,Feuil1!$C$1:$BL$10,2,FALSE)","v":{"$error":"#N/A"}},{"$f":"T73-HLOOKUP(X73,Feuil1!$C$1:$BL$10,3,FALSE)","v":{"$error":"#N/A"}},{"$f":"T73-HLOOKUP(X73,Feuil1!$C$1:$BL$10,4,FALSE)","v":{"$error":"#N/A"}},{"$f":"T73-HLOOKUP(X73,Feuil1!$C$1:$BL$10,5,FALSE)","v":{"$error":"#N/A"}},{"$f":"T73-HLOOKUP(X73,Feuil1!$C$1:$BL$10,6,FALSE)","v":{"$error":"#N/A"}},{"$f":"T73-HLOOKUP(X73,Feuil1!$C$1:$BL$10,7,FALSE)","v":{"$error":"#N/A"}},{"$f":"T73-HLOOKUP(X73,Feuil1!$C$1:$BL$10,8,FALSE)","v":{"$error":"#N/A"}},{"$f":"T73-HLOOKUP(X73,Feuil1!$C$1:$BL$10,9,FALSE)","v":{"$error":"#N/A"}},{"$f":"T73-HLOOKUP(X73,Feuil1!$C$1:$BL$10,10,FALSE)","v":{"$error":"#N/A"}}]
["H","Nord","NPC","1",9108,"FONTENELLE","Vincent",1980,89.4,"CHCD Comines","F",130,135,"-",{"$f":"IF(H74=\"\",\"\",IF(MAXA(L74:N74)<=0,0,MAXA(L74:N74)))","v":135},160,170,-175,{"$f":"IF(H74=\"\",\"\",IF(MAXA(P74:R74)<=0,0,MAXA(P74:R74)))","v":170},{"$f":"IF(H74=\"\",\"\",IF(OR(O74=0,S74=0),0,O74+S74))","v":305},126.19999999999999,{"$f":"IF(H74=\"\",\"\",AQ74)","v":"NAT +"},{"$f":"IF(AJ74>=0,AJ74,IF(AI74>=0,AI74,IF(AH74>=0,AH74,IF(AG74>=0,AG74,IF(AF74>=0,AF74,IF(AE74>=0,AE74,IF(AD74>=0,AD74,IF(AC74>=0,AC74,AB74))))))))","v":15},{"$f":"IF(I74=\"\",\"\",IF(A74=\"H\",IF(OR(H74=\"SEN\",H74<1995),VLOOKUP(I74,Feuil1!$A$11:$F$29,6),IF(AND(H74>1994,H74<1998),VLOOKUP(I74,Feuil1!$A$11:$F$29,5),IF(AND(H74>1997,H74<2000),VLOOKUP(I74,Feuil1!$A$11:$F$29,4),IF(AND(H74>1999,H74<2002),VLOOKUP(I74,Feuil1!$A$11:$F$29,3),VLOOKUP(I74,Feuil1!$A$11:$F$29,2))))),IF(OR(H74=\"SEN\",H74<1995),VLOOKUP(I74,Feuil1!$G$11:$L$25,6),IF(AND(H74>1994,H74<1998),VLOOKUP(I74,Feuil1!$G$11:$L$25,5),IF(AND(H74>1997,H74<2000),VLOOKUP(I74,Feuil1!$G$11:$L$25,4),IF(AND(H74>1999,H74<2002),VLOOKUP(I74,Feuil1!$G$11:$L$25,3),VLOOKUP(I74,Feuil1!$G$11:$L$25,2)))))))","v":"S94"},{"$f":"IF(I74=\"\",\"\",IF(A74=\"H\",10^(0.794358141*LOG(I74/174.393)^2)*T74,IF(A74=\"F\",10^(0.89726074*LOG(I74/148.026)^2)*T74,\"\")))","v":355.78991303511344},null," ",{"$f":"T74-HLOOKUP(X74,Feuil1!$C$1:$BL$10,2,FALSE)","v":135},{"$f":"T74-HLOOKUP(X74,Feuil1!$C$1:$BL$10,3,FALSE)","v":115},{"$f":"T74-HLOOKUP(X74,Feuil1!$C$1:$BL$10,4,FALSE)","v":90},{"$f":"T74-HLOOKUP(X74,Feuil1!$C$1:$BL$10,5,FALSE)","v":70},{"$f":"T74-HLOOKUP(X74,Feuil1!$C$1:$BL$10,6,FALSE)","v":45},{"$f":"T74-HLOOKUP(X74,Feuil1!$C$1:$BL$10,7,FALSE)","v":15},{"$f":"T74-HLOOKUP(X74,Feuil1!$C$1:$BL$10,8,FALSE)","v":-5},{"$f":"T74-HLOOKUP(X74,Feuil1!$C$1:$BL$10,9,FALSE)","v":-25},{"$f":"T74-HLOOKUP(X74,Feuil1!$C$1:$BL$10,10,FALSE)","v":-50},null,null,null,null,null,null,{"$f":"IF(AJ74>=0,$AJ$4,IF(AI74>=0,$AI$4,IF(AH74>=0,$AH$4,IF(AG74>=0,$AG$4,IF(AF74>=0,$AF$4,IF(AE74>=0,$AE$4,IF(AD74>=0,$AD$4,IF(AC74>=0,$AC$4,$AB$4))))))))","v":"NAT +"}]
["H","SEST","RAL",2,64556,"LAROIX","Anthony",1986,94,"A.L. CHARLIEU","F",130,135,-145,135,155,164,-170,164,299,111,"NAT +",9,{"$f":"IF(I75=\"\",\"\",IF(A75=\"H\",IF(OR(H75=\"SEN\",H75<1995),VLOOKUP(I75,Feuil1!$A$11:$F$29,6),IF(AND(H75>1994,H75<1998),VLOOKUP(I75,Feuil1!$A$11:$F$29,5),IF(AND(H75>1997,H75<2000),VLOOKUP(I75,Feuil1!$A$11:$F$29,4),IF(AND(H75>1999,H75<2002),VLOOKUP(I75,Feuil1!$A$11:$F$29,3),VLOOKUP(I75,Feuil1!$A$11:$F$29,2))))),IF(OR(H75=\"SEN\",H75<1995),VLOOKUP(I75,Feuil1!$G$11:$L$25,6),IF(AND(H75>1994,H75<1998),VLOOKUP(I75,Feuil1!$G$11:$L$25,5),IF(AND(H75>1997,H75<2000),VLOOKUP(I75,Feuil1!$G$11:$L$25,4),IF(AND(H75>1999,H75<2002),VLOOKUP(I75,Feuil1!$G$11:$L$25,3),VLOOKUP(I75,Feuil1!$G$11:$L$25,2)))))))","v":"S94"},341.1113062884105,null," ",{"$f":"T75-HLOOKUP(X75,Feuil1!$C$1:$BL$10,2,FALSE)","v":129},{"$f":"T75-HLOOKUP(X75,Feuil1!$C$1:$BL$10,3,FALSE)","v":109},{"$f":"T75-HLOOKUP(X75,Feuil1!$C$1:$BL$10,4,FALSE)","v":84},{"$f":"T75-HLOOKUP(X75,Feuil1!$C$1:$BL$10,5,FALSE)","v":64},{"$f":"T75-HLOOKUP(X75,Feuil1!$C$1:$BL$10,6,FALSE)","v":39},{"$f":"T75-HLOOKUP(X75,Feuil1!$C$1:$BL$10,7,FALSE)","v":9},{"$f":"T75-HLOOKUP(X75,Feuil1!$C$1:$BL$10,8,FALSE)","v":-11},{"$f":"T75-HLOOKUP(X75,Feuil1!$C$1:$BL$10,9,FALSE)","v":-31},{"$f":"T75-HLOOKUP(X75,Feuil1!$C$1:$BL$10,10,FALSE)","v":-56},null,null,null,null,null,null,"NAT +"]
["H","NE","BOU",3,"158481","JOUKOV","DENIS",1991,89.2,"Stade Dijonnais HM","F",125,132,-140,132,158,"-","-",158,290,111.6,"NAT +",0,{"$f":"IF(I76=\"\",\"\",IF(A76=\"H\",IF(OR(H76=\"SEN\",H76<1995),VLOOKUP(I76,Feuil1!$A$11:$F$29,6),IF(AND(H76>1994,H76<1998),VLOOKUP(I76,Feuil1!$A$11:$F$29,5),IF(AND(H76>1997,H76<2000),VLOOKUP(I76,Feuil1!$A$11:$F$29,4),IF(AND(H76>1999,H76<2002),VLOOKUP(I76,Feuil1!$A$11:$F$29,3),VLOOKUP(I76,Feuil1!$A$11:$F$29,2))))),IF(OR(H76=\"SEN\",H76<1995),VLOOKUP(I76,Feuil1!$G$11:$L$25,6),IF(AND(H76>1994,H76<1998),VLOOKUP(I76,Feuil1!$G$11:$L$25,5),IF(AND(H76>1997,H76<2000),VLOOKUP(I76,Feuil1!$G$11:$L$25,4),IF(AND(H76>1999,H76<2002),VLOOKUP(I76,Feuil1!$G$11:$L$25,3),VLOOKUP(I76,Feuil1!$G$11:$L$25,2)))))))","v":"S94"},338.64211727247289,null," ",{"$f":"T76-HLOOKUP(X76,Feuil1!$C$1:$BL$10,2,FALSE)","v":120},{"$f":"T76-HLOOKUP(X76,Feuil1!$C$1:$BL$10,3,FALSE)","v":100},{"$f":"T76-HLOOKUP(X76,Feuil1!$C$1:$BL$10,4,FALSE)","v":75},{"$f":"T76-HLOOKUP(X76,Feuil1!$C$1:$BL$10,5,FALSE)","v":55},{"$f":"T76-HLOOKUP(X76,Feuil1!$C$1:$BL$10,6,FALSE)","v":30},{"$f":"T76-HLOOKUP(X76,Feuil1!$C$1:$BL$10,7,FALSE)","v":0},{"$f":"T76-HLOOKUP(X76,Feuil1!$C$1:$BL$10,8,FALSE)","v":-20},{"$f":"T76-HLOOKUP(X76,Feuil1!$C$1:$BL$10,9,FALSE)","v":-40},{"$f":"T76-HLOOKUP(X76,Feuil1!$C$1:$BL$10,10,FALSE)","v":-65},null,null,null,null,null,null,"NAT +"]
["H","ZCO","CEN",4,326073,"HALILI","Erjon",1993,91.18,"CM Orléans","F",115,120,-125,120,145,155,-160,155,275,92.639999999999986,"FED +",15,{"$f":"IF(I77=\"\",\"\",IF(A77=\"H\",IF(OR(H77=\"SEN\",H77<1995),VLOOKUP(I77,Feuil1!$A$11:$F$29,6),IF(AND(H77>1994,H77<1998),VLOOKUP(I77,Feuil1!$A$11:$F$29,5),IF(AND(H77>1997,H77<2000),VLOOKUP(I77,Feuil1!$A$11:$F$29,4),IF(AND(H77>1999,H77<2002),VLOOKUP(I77,Feuil1!$A$11:$F$29,3),VLOOKUP(I77,Feuil1!$A$11:$F$29,2))))),IF(OR(H77=\"SEN\",H77<1995),VLOOKUP(I77,Feuil1!$G$11:$L$25,6),IF(AND(H77>1994,H77<1998),VLOOKUP(I77,Feuil1!$G$11:$L$25,5),IF(AND(H77>1997,H77<2000),VLOOKUP(I77,Feuil1!$G$11:$L$25,4),IF(AND(H77>1999,H77<2002),VLOOKUP(I77,Feuil1!$G$11:$L$25,3),VLOOKUP(I77,Feuil1!$G$11:$L$25,2)))))))","v":"S94"},317.93426167800021,null," ",{"$f":"T77-HLOOKUP(X77,Feuil1!$C$1:$BL$10,2,FALSE)","v":105},{"$f":"T77-HLOOKUP(X77,Feuil1!$C$1:$BL$10,3,FALSE)","v":85},{"$f":"T77-HLOOKUP(X77,Feuil1!$C$1:$BL$10,4,FALSE)","v":60},{"$f":"T77-HLOOKUP(X77,Feuil1!$C$1:$BL$10,5,FALSE)","v":40},{"$f":"T77-HLOOKUP(X77,Feuil1!$C$1:$BL$10,6,FALSE)","v":15},{"$f":"T77-HLOOKUP(X77,Feuil1!$C$1:$BL$10,7,FALSE)","v":-15},{"$f":"T77-HLOOKUP(X77,Feuil1!$C$1:$BL$10,8,FALSE)","v":-35},{"$f":"T77-HLOOKUP(X77,Feuil1!$C$1:$BL$10,9,FALSE)","v":-55},{"$f":"T77-HLOOKUP(X77,Feuil1!$C$1:$BL$10,10,FALSE)","v":-80},null,null,null,null,null,null,"FED +"]
["H","NE","FCO",5,81998,"BOFFY","Matthieu",1981,93.6,"CH LUXEUIL","F",120,-124,-124,120,-150,-150,150,150,270,82.800000000000011,"FED +",10,{"$f":"IF(I78=\"\",\"\",IF(A78=\"H\",IF(OR(H78=\"SEN\",H78<1995),VLOOKUP(I78,Feuil1!$A$11:$F$29,6),IF(AND(H78>1994,H78<1998),VLOOKUP(I78,Feuil1!$A$11:$F$29,5),IF(AND(H78>1997,H78<2000),VLOOKUP(I78,Feuil1!$A$11:$F$29,4),IF(AND(H78>1999,H78<2002),VLOOKUP(I78,Feuil1!$A$11:$F$29,3),VLOOKUP(I78,Feuil1!$A$11:$F$29,2))))),IF(OR(H78=\"SEN\",H78<1995),VLOOKUP(I78,Feuil1!$G$11:$L$25,6),IF(AND(H78>1994,H78<1998),VLOOKUP(I78,Feuil1!$G$11:$L$25,5),IF(AND(H78>1997,H78<2000),VLOOKUP(I78,Feuil1!$G$11:$L$25,4),IF(AND(H78>1999,H78<2002),VLOOKUP(I78,Feuil1!$G$11:$L$25,3),VLOOKUP(I78,Feuil1!$G$11:$L$25,2)))))))","v":"S94"},308.58949273885776,null," ",{"$f":"T78-HLOOKUP(X78,Feuil1!$C$1:$BL$10,2,FALSE)","v":100},{"$f":"T78-HLOOKUP(X78,Feuil1!$C$1:$BL$10,3,FALSE)","v":80},{"$f":"T78-HLOOKUP(X78,Feuil1!$C$1:$BL$10,4,FALSE)","v":55},{"$f":"T78-HLOOKUP(X78,Feuil1!$C$1:$BL$10,5,FALSE)","v":35},{"$f":"T78-HLOOKUP(X78,Feuil1!$C$1:$BL$10,6,FALSE)","v":10},{"$f":"T78-HLOOKUP(X78,Feuil1!$C$1:$BL$10,7,FALSE)","v":-20},{"$f":"T78-HLOOKUP(X78,Feuil1!$C$1:$BL$10,8,FALSE)","v":-40},{"$f":"T78-HLOOKUP(X78,Feuil1!$C$1:$BL$10,9,FALSE)","v":-60},{"$f":"T78-HLOOKUP(X78,Feuil1!$C$1:$BL$10,10,FALSE)","v":-85},null,null,null,null,null,null,"FED +"]
["H","Nord","IDF",6,145034,"HAZIR","Cem",1993,89.5,"Franconville","F",110,115,120,120,-140,140,-145,140,260,81,"FED +",0,{"$f":"IF(I79=\"\",\"\",IF(A79=\"H\",IF(OR(H79=\"SEN\",H79<1995),VLOOKUP(I79,Feuil1!$A$11:$F$29,6),IF(AND(H79>1994,H79<1998),VLOOKUP(I79,Feuil1!$A$11:$F$29,5),IF(AND(H79>1997,H79<2000),VLOOKUP(I79,Feuil1!$A$11:$F$29,4),IF(AND(H79>1999,H79<2002),VLOOKUP(I79,Feuil1!$A$11:$F$29,3),VLOOKUP(I79,Feuil1!$A$11:$F$29,2))))),IF(OR(H79=\"SEN\",H79<1995),VLOOKUP(I79,Feuil1!$G$11:$L$25,6),IF(AND(H79>1994,H79<1998),VLOOKUP(I79,Feuil1!$G$11:$L$25,5),IF(AND(H79>1997,H79<2000),VLOOKUP(I79,Feuil1!$G$11:$L$25,4),IF(AND(H79>1999,H79<2002),VLOOKUP(I79,Feuil1!$G$11:$L$25,3),VLOOKUP(I79,Feuil1!$G$11:$L$25,2)))))))","v":"S94"},303.14016907476019,null," ",{"$f":"T79-HLOOKUP(X79,Feuil1!$C$1:$BL$10,2,FALSE)","v":90},{"$f":"T79-HLOOKUP(X79,Feuil1!$C$1:$BL$10,3,FALSE)","v":70},{"$f":"T79-HLOOKUP(X79,Feuil1!$C$1:$BL$10,4,FALSE)","v":45},{"$f":"T79-HLOOKUP(X79,Feuil1!$C$1:$BL$10,5,FALSE)","v":25},{"$f":"T79-HLOOKUP(X79,Feuil1!$C$1:$BL$10,6,FALSE)","v":0},{"$f":"T79-HLOOKUP(X79,Feuil1!$C$1:$BL$10,7,FALSE)","v":-30},{"$f":"T79-HLOOKUP(X79,Feuil1!$C$1:$BL$10,8,FALSE)","v":-50},{"$f":"T79-HLOOKUP(X79,Feuil1!$C$1:$BL$10,9,FALSE)","v":-70},{"$f":"T79-HLOOKUP(X79,Feuil1!$C$1:$BL$10,10,FALSE)","v":-95},null,null,null,null,null,null,"FED +"]
["H","SO","LIM",7,341842,"WERRO","Ludovic",1994,89.8,"LIMOGES AVA ","CH",-105,-107,110,110,132,138,142,142,252,72.400000000000006,"IRG +",17,{"$f":"IF(I80=\"\",\"\",IF(A80=\"H\",IF(OR(H80=\"SEN\",H80<1995),VLOOKUP(I80,Feuil1!$A$11:$F$29,6),IF(AND(H80>1994,H80<1998),VLOOKUP(I80,Feuil1!$A$11:$F$29,5),IF(AND(H80>1997,H80<2000),VLOOKUP(I80,Feuil1!$A$11:$F$29,4),IF(AND(H80>1999,H80<2002),VLOOKUP(I80,Feuil1!$A$11:$F$29,3),VLOOKUP(I80,Feuil1!$A$11:$F$29,2))))),IF(OR(H80=\"SEN\",H80<1995),VLOOKUP(I80,Feuil1!$G$11:$L$25,6),IF(AND(H80>1994,H80<1998),VLOOKUP(I80,Feuil1!$G$11:$L$25,5),IF(AND(H80>1997,H80<2000),VLOOKUP(I80,Feuil1!$G$11:$L$25,4),IF(AND(H80>1999,H80<2002),VLOOKUP(I80,Feuil1!$G$11:$L$25,3),VLOOKUP(I80,Feuil1!$G$11:$L$25,2)))))))","v":"S94"},293.3617324054805,null," ",{"$f":"T80-HLOOKUP(X80,Feuil1!$C$1:$BL$10,2,FALSE)","v":82},{"$f":"T80-HLOOKUP(X80,Feuil1!$C$1:$BL$10,3,FALSE)","v":62},{"$f":"T80-HLOOKUP(X80,Feuil1!$C$1:$BL$10,4,FALSE)","v":37},{"$f":"T80-HLOOKUP(X80,Feuil1!$C$1:$BL$10,5,FALSE)","v":17},{"$f":"T80-HLOOKUP(X80,Feuil1!$C$1:$BL$10,6,FALSE)","v":-8},{"$f":"T80-HLOOKUP(X80,Feuil1!$C$1:$BL$10,7,FALSE)","v":-38},{"$f":"T80-HLOOKUP(X80,Feuil1!$C$1:$BL$10,8,FALSE)","v":-58},{"$f":"T80-HLOOKUP(X80,Feuil1!$C$1:$BL$10,9,FALSE)","v":-78},{"$f":"T80-HLOOKUP(X80,Feuil1!$C$1:$BL$10,10,FALSE)","v":-103},null,null,null,null,null,null,"IRG +"]
["H","SO","MPY",8,245505,"GIGORD","Yohann",1989,87.8,"TOULOUSE","F",110,-115,-118,110,130,-140,140,140,250,74.400000000000006,"IRG +",15,{"$f":"IF(I81=\"\",\"\",IF(A81=\"H\",IF(OR(H81=\"SEN\",H81<1995),VLOOKUP(I81,Feuil1!$A$11:$F$29,6),IF(AND(H81>1994,H81<1998),VLOOKUP(I81,Feuil1!$A$11:$F$29,5),IF(AND(H81>1997,H81<2000),VLOOKUP(I81,Feuil1!$A$11:$F$29,4),IF(AND(H81>1999,H81<2002),VLOOKUP(I81,Feuil1!$A$11:$F$29,3),VLOOKUP(I81,Feuil1!$A$11:$F$29,2))))),IF(OR(H81=\"SEN\",H81<1995),VLOOKUP(I81,Feuil1!$G$11:$L$25,6),IF(AND(H81>1994,H81<1998),VLOOKUP(I81,Feuil1!$G$11:$L$25,5),IF(AND(H81>1997,H81<2000),VLOOKUP(I81,Feuil1!$G$11:$L$25,4),IF(AND(H81>1999,H81<2002),VLOOKUP(I81,Feuil1!$G$11:$L$25,3),VLOOKUP(I81,Feuil1!$G$11:$L$25,2)))))))","v":"S94"},294.10238005213279,null," ",{"$f":"T81-HLOOKUP(X81,Feuil1!$C$1:$BL$10,2,FALSE)","v":80},{"$f":"T81-HLOOKUP(X81,Feuil1!$C$1:$BL$10,3,FALSE)","v":60},{"$f":"T81-HLOOKUP(X81,Feuil1!$C$1:$BL$10,4,FALSE)","v":35},{"$f":"T81-HLOOKUP(X81,Feuil1!$C$1:$BL$10,5,FALSE)","v":15},{"$f":"T81-HLOOKUP(X81,Feuil1!$C$1:$BL$10,6,FALSE)","v":-10},{"$f":"T81-HLOOKUP(X81,Feuil1!$C$1:$BL$10,7,FALSE)","v":-40},{"$f":"T81-HLOOKUP(X81,Feuil1!$C$1:$BL$10,8,FALSE)","v":-60},{"$f":"T81-HLOOKUP(X81,Feuil1!$C$1:$BL$10,9,FALSE)","v":-80},{"$f":"T81-HLOOKUP(X81,Feuil1!$C$1:$BL$10,10,FALSE)","v":-105},null,null,null,null,null,null,"IRG +"]
["H","Nord","NPC"," ",218733,"LAPOSTOLLE","David",1992,92.3,"Berck sur Mer","F",-125,-125,-125,0,"-","-","-",0,0,-184.6,"DEB ",-170,{"$f":"IF(I82=\"\",\"\",IF(A82=\"H\",IF(OR(H82=\"SEN\",H82<1995),VLOOKUP(I82,Feuil1!$A$11:$F$29,6),IF(AND(H82>1994,H82<1998),VLOOKUP(I82,Feuil1!$A$11:$F$29,5),IF(AND(H82>1997,H82<2000),VLOOKUP(I82,Feuil1!$A$11:$F$29,4),IF(AND(H82>1999,H82<2002),VLOOKUP(I82,Feuil1!$A$11:$F$29,3),VLOOKUP(I82,Feuil1!$A$11:$F$29,2))))),IF(OR(H82=\"SEN\",H82<1995),VLOOKUP(I82,Feuil1!$G$11:$L$25,6),IF(AND(H82>1994,H82<1998),VLOOKUP(I82,Feuil1!$G$11:$L$25,5),IF(AND(H82>1997,H82<2000),VLOOKUP(I82,Feuil1!$G$11:$L$25,4),IF(AND(H82>1999,H82<2002),VLOOKUP(I82,Feuil1!$G$11:$L$25,3),VLOOKUP(I82,Feuil1!$G$11:$L$25,2)))))))","v":"S94"},0,null," ",{"$f":"T82-HLOOKUP(X82,Feuil1!$C$1:$BL$10,2,FALSE)","v":-170},{"$f":"T82-HLOOKUP(X82,Feuil1!$C$1:$BL$10,3,FALSE)","v":-190},{"$f":"T82-HLOOKUP(X82,Feuil1!$C$1:$BL$10,4,FALSE)","v":-215},{"$f":"T82-HLOOKUP(X82,Feuil1!$C$1:$BL$10,5,FALSE)","v":-235},{"$f":"T82-HLOOKUP(X82,Feuil1!$C$1:$BL$10,6,FALSE)","v":-260},{"$f":"T82-HLOOKUP(X82,Feuil1!$C$1:$BL$10,7,FALSE)","v":-290},{"$f":"T82-HLOOKUP(X82,Feuil1!$C$1:$BL$10,8,FALSE)","v":-310},{"$f":"T82-HLOOKUP(X82,Feuil1!$C$1:$BL$10,9,FALSE)","v":-330},{"$f":"T82-HLOOKUP(X82,Feuil1!$C$1:$BL$10,10,FALSE)","v":-355},null,null,null,null,null,null,"DEB "]
["H",null,null,null,null,null,null,null,null,null,null,null,null,null,null,null,null,null,null,null," ",null,null,{"$f":"IF(I83=\"\",\"\",IF(A83=\"H\",IF(OR(H83=\"SEN\",H83<1995),VLOOKUP(I83,Feuil1!$A$11:$F$29,6),IF(AND(H83>1994,H83<1998),VLOOKUP(I83,Feuil1!$A$11:$F$29,5),IF(AND(H83>1997,H83<2000),VLOOKUP(I83,Feuil1!$A$11:$F$29,4),IF(AND(H83>1999,H83<2002),VLOOKUP(I83,Feuil1!$A$11:$F$29,3),VLOOKUP(I83,Feuil1!$A$11:$F$29,2))))),IF(OR(H83=\"SEN\",H83<1995),VLOOKUP(I83,Feuil1!$G$11:$L$25,6),IF(AND(H83>1994,H83<1998),VLOOKUP(I83,Feuil1!$G$11:$L$25,5),IF(AND(H83>1997,H83<2000),VLOOKUP(I83,Feuil1!$G$11:$L$25,4),IF(AND(H83>1999,H83<2002),VLOOKUP(I83,Feuil1!$G$11:$L$25,3),VLOOKUP(I83,Feuil1!$G$11:$L$25,2)))))))","v":""},null,null," ",{"$f":"T83-HLOOKUP(X83,Feuil1!$C$1:$BL$10,2,FALSE)","v":{"$error":"#N/A"}},{"$f":"T83-HLOOKUP(X83,Feuil1!$C$1:$BL$10,3,FALSE)","v":{"$error":"#N/A"}},{"$f":"T83-HLOOKUP(X83,Feuil1!$C$1:$BL$10,4,FALSE)","v":{"$error":"#N/A"}},{"$f":"T83-HLOOKUP(X83,Feuil1!$C$1:$BL$10,5,FALSE)","v":{"$error":"#N/A"}},{"$f":"T83-HLOOKUP(X83,Feuil1!$C$1:$BL$10,6,FALSE)","v":{"$error":"#N/A"}},{"$f":"T83-HLOOKUP(X83,Feuil1!$C$1:$BL$10,7,FALSE)","v":{"$error":"#N/A"}},{"$f":"T83-HLOOKUP(X83,Feuil1!$C$1:$BL$10,8,FALSE)","v":{"$error":"#N/A"}},{"$f":"T83-HLOOKUP(X83,Feuil1!$C$1:$BL$10,9,FALSE)","v":{"$error":"#N/A"}},{"$f":"T83-HLOOKUP(X83,Feuil1!$C$1:$BL$10,10,FALSE)","v":{"$error":"#N/A"}},null,null,null,null,null,null,{"$f":"IF(AJ83>=0,$AJ$4,IF(AI83>=0,$AI$4,IF(AH83>=0,$AH$4,IF(AG83>=0,$AG$4,IF(AF83>=0,$AF$4,IF(AE83>=0,$AE$4,IF(AD83>=0,$AD$4,IF(AC83>=0,$AC$4,$AB$4))))))))","v":{"$error":"#N/A"}}]
["H","NE","FCO",1,331318,"CHIQUET","Martial",1982,98.2,"LF BESANÇON","F",120,130,140,{"$f":"IF(H84=\"\",\"\",IF(MAXA(L84:N84)<=0,0,MAXA(L84:N84)))","v":140},150,-160,160,{"$f":"IF(H84=\"\",\"\",IF(MAXA(P84:R84)<=0,0,MAXA(P84:R84)))","v":160},{"$f":"IF(H84=\"\",\"\",IF(OR(O84=0,S84=0),0,O84+S84))","v":300},103.6,{"$f":"IF(H84=\"\",\"\",AQ84)","v":"NAT +"},{"$f":"IF(AJ84>=0,AJ84,IF(AI84>=0,AI84,IF(AH84>=0,AH84,IF(AG84>=0,AG84,IF(AF84>=0,AF84,IF(AE84>=0,AE84,IF(AD84>=0,AD84,IF(AC84>=0,AC84,AB84))))))))","v":0},{"$f":"IF(I84=\"\",\"\",IF(A84=\"H\",IF(OR(H84=\"SEN\",H84<1995),VLOOKUP(I84,Feuil1!$A$11:$F$29,6),IF(AND(H84>1994,H84<1998),VLOOKUP(I84,Feuil1!$A$11:$F$29,5),IF(AND(H84>1997,H84<2000),VLOOKUP(I84,Feuil1!$A$11:$F$29,4),IF(AND(H84>1999,H84<2002),VLOOKUP(I84,Feuil1!$A$11:$F$29,3),VLOOKUP(I84,Feuil1!$A$11:$F$29,2))))),IF(OR(H84=\"SEN\",H84<1995),VLOOKUP(I84,Feuil1!$G$11:$L$25,6),IF(AND(H84>1994,H84<1998),VLOOKUP(I84,Feuil1!$G$11:$L$25,5),IF(AND(H84>1997,H84<2000),VLOOKUP(I84,Feuil1!$G$11:$L$25,4),IF(AND(H84>1999,H84<2002),VLOOKUP(I84,Feuil1!$G$11:$L$25,3),VLOOKUP(I84,Feuil1!$G$11:$L$25,2)))))))","v":"S105"},{"$f":"IF(I84=\"\",\"\",IF(A84=\"H\",10^(0.794358141*LOG(I84/174.393)^2)*T84,IF(A84=\"F\",10^(0.89726074*LOG(I84/148.026)^2)*T84,\"\")))","v":336.15345196635417},null," ",{"$f":"T84-HLOOKUP(X84,Feuil1!$C$1:$BL$10,2,FALSE)","v":125},{"$f":"T84-HLOOKUP(X84,Feuil1!$C$1:$BL$10,3,FALSE)","v":105},{"$f":"T84-HLOOKUP(X84,Feuil1!$C$1:$BL$10,4,FALSE)","v":80},{"$f":"T84-HLOOKUP(X84,Feuil1!$C$1:$BL$10,5,FALSE)","v":55},{"$f":"T84-HLOOKUP(X84,Feuil1!$C$1:$BL$10,6,FALSE)","v":30},{"$f":"T84-HLOOKUP(X84,Feuil1!$C$1:$BL$10,7,FALSE)","v":0},{"$f":"T84-HLOOKUP(X84,Feuil1!$C$1:$BL$10,8,FALSE)","v":-25},{"$f":"T84-HLOOKUP(X84,Feuil1!$C$1:$BL$10,9,FALSE)","v":-45},{"$f":"T84-HLOOKUP(X84,Feuil1!$C$1:$BL$10,10,FALSE)","v":-65},null,null,null,null,null,null,"NAT +"]
["H","NE","LOR",2,2195,"LEFRANC ","Pierre",1984,104.9,"E.S.Laneuveville","F",125,130,-135,{"$f":"IF(H85=\"\",\"\",IF(MAXA(L85:N85)<=0,0,MAXA(L85:N85)))","v":130},160,-170,170,{"$f":"IF(H85=\"\",\"\",IF(MAXA(P85:R85)<=0,0,MAXA(P85:R85)))","v":170},{"$f":"IF(H85=\"\",\"\",IF(OR(O85=0,S85=0),0,O85+S85))","v":300},90.199999999999989,{"$f":"IF(H85=\"\",\"\",AQ85)","v":"NAT +"},{"$f":"IF(AJ85>=0,AJ85,IF(AI85>=0,AI85,IF(AH85>=0,AH85,IF(AG85>=0,AG85,IF(AF85>=0,AF85,IF(AE85>=0,AE85,IF(AD85>=0,AD85,IF(AC85>=0,AC85,AB85))))))))","v":0},{"$f":"IF(I85=\"\",\"\",IF(A85=\"H\",IF(OR(H85=\"SEN\",H85<1995),VLOOKUP(I85,Feuil1!$A$11:$F$29,6),IF(AND(H85>1994,H85<1998),VLOOKUP(I85,Feuil1!$A$11:$F$29,5),IF(AND(H85>1997,H85<2000),VLOOKUP(I85,Feuil1!$A$11:$F$29,4),IF(AND(H85>1999,H85<2002),VLOOKUP(I85,Feuil1!$A$11:$F$29,3),VLOOKUP(I85,Feuil1!$A$11:$F$29,2))))),IF(OR(H85=\"SEN\",H85<1995),VLOOKUP(I85,Feuil1!$G$11:$L$25,6),IF(AND(H85>1994,H85<1998),VLOOKUP(I85,Feuil1!$G$11:$L$25,5),IF(AND(H85>1997,H85<2000),VLOOKUP(I85,Feuil1!$G$11:$L$25,4),IF(AND(H85>1999,H85<2002),VLOOKUP(I85,Feuil1!$G$11:$L$25,3),VLOOKUP(I85,Feuil1!$G$11:$L$25,2)))))))","v":"S105"},{"$f":"IF(I85=\"\",\"\",IF(A85=\"H\",10^(0.794358141*LOG(I85/174.393)^2)*T85,IF(A85=\"F\",10^(0.89726074*LOG(I85/148.026)^2)*T85,\"\")))","v":327.96841611530618},null," ",{"$f":"T85-HLOOKUP(X85,Feuil1!$C$1:$BL$10,2,FALSE)","v":125},{"$f":"T85-HLOOKUP(X85,Feuil1!$C$1:$BL$10,3,FALSE)","v":105},{"$f":"T85-HLOOKUP(X85,Feuil1!$C$1:$BL$10,4,FALSE)","v":80},{"$f":"T85-HLOOKUP(X85,Feuil1!$C$1:$BL$10,5,FALSE)","v":55},{"$f":"T85-HLOOKUP(X85,Feuil1!$C$1:$BL$10,6,FALSE)","v":30},{"$f":"T85-HLOOKUP(X85,Feuil1!$C$1:$BL$10,7,FALSE)","v":0},{"$f":"T85-HLOOKUP(X85,Feuil1!$C$1:$BL$10,8,FALSE)","v":-25},{"$f":"T85-HLOOKUP(X85,Feuil1!$C$1:$BL$10,9,FALSE)","v":-45},{"$f":"T85-HLOOKUP(X85,Feuil1!$C$1:$BL$10,10,FALSE)","v":-65},null,null,null,null,null,null,"NAT +"]
[null,null,null,null,null,null,null,null,null,null,null,null,null,null,null,null,null,null,null,null," ",null,null,{"$f":"IF(I86=\"\",\"\",IF(A86=\"H\",IF(OR(H86=\"SEN\",H86<1995),VLOOKUP(I86,Feuil1!$A$11:$F$29,6),IF(AND(H86>1994,H86<1998),VLOOKUP(I86,Feuil1!$A$11:$F$29,5),IF(AND(H86>1997,H86<2000),VLOOKUP(I86,Feuil1!$A$11:$F$29,4),IF(AND(H86>1999,H86<2002),VLOOKUP(I86,Feuil1!$A$11:$F$29,3),VLOOKUP(I86,Feuil1!$A$11:$F$29,2))))),IF(OR(H86=\"SEN\",H86<1995),VLOOKUP(I86,Feuil1!$G$11:$L$25,6),IF(AND(H86>1994,H86<1998),VLOOKUP(I86,Feuil1!$G$11:$L$25,5),IF(AND(H86>1997,H86<2000),VLOOKUP(I86,Feuil1!$G$11:$L$25,4),IF(AND(H86>1999,H86<2002),VLOOKUP(I86,Feuil1!$G$11:$L$25,3),VLOOKUP(I86,Feuil1!$G$11:$L$25,2)))))))","v":""},null,null,null,{"$f":"T86-HLOOKUP(X86,Feuil1!$C$1:$BL$10,2,FALSE)","v":{"$error":"#N/A"}},{"$f":"T86-HLOOKUP(X86,Feuil1!$C$1:$BL$10,3,FALSE)","v":{"$error":"#N/A"}},{"$f":"T86-HLOOKUP(X86,Feuil1!$C$1:$BL$10,4,FALSE)","v":{"$error":"#N/A"}},{"$f":"T86-HLOOKUP(X86,Feuil1!$C$1:$BL$10,5,FALSE)","v":{"$error":"#N/A"}},{"$f":"T86-HLOOKUP(X86,Feuil1!$C$1:$BL$10,6,FALSE)","v":{"$error":"#N/A"}},{"$f":"T86-HLOOKUP(X86,Feuil1!$C$1:$BL$10,7,FALSE)","v":{"$error":"#N/A"}},{"$f":"T86-HLOOKUP(X86,Feuil1!$C$1:$BL$10,8,FALSE)","v":{"$error":"#N/A"}},{"$f":"T86-HLOOKUP(X86,Feuil1!$C$1:$BL$10,9,FALSE)","v":{"$error":"#N/A"}},{"$f":"T86-HLOOKUP(X86,Feuil1!$C$1:$BL$10,10,FALSE)","v":{"$error":"#N/A"}}]
["H","NE","CHA",1,79289,"BOULY","Kévin",1981,105.5,"Reims HM","F",135,145,152,{"$f":"IF(H87=\"\",\"\",IF(MAXA(L87:N87)<=0,0,MAXA(L87:N87)))","v":152},175,185,-193,{"$f":"IF(H87=\"\",\"\",IF(MAXA(P87:R87)<=0,0,MAXA(P87:R87)))","v":185},{"$f":"IF(H87=\"\",\"\",IF(OR(O87=0,S87=0),0,O87+S87))","v":337},126,{"$f":"IF(H87=\"\",\"\",AQ87)","v":"INTB +"},{"$f":"IF(AJ87>=0,AJ87,IF(AI87>=0,AI87,IF(AH87>=0,AH87,IF(AG87>=0,AG87,IF(AF87>=0,AF87,IF(AE87>=0,AE87,IF(AD87>=0,AD87,IF(AC87>=0,AC87,AB87))))))))","v":7},{"$f":"IF(I87=\"\",\"\",IF(A87=\"H\",IF(OR(H87=\"SEN\",H87<1995),VLOOKUP(I87,Feuil1!$A$11:$F$29,6),IF(AND(H87>1994,H87<1998),VLOOKUP(I87,Feuil1!$A$11:$F$29,5),IF(AND(H87>1997,H87<2000),VLOOKUP(I87,Feuil1!$A$11:$F$29,4),IF(AND(H87>1999,H87<2002),VLOOKUP(I87,Feuil1!$A$11:$F$29,3),VLOOKUP(I87,Feuil1!$A$11:$F$29,2))))),IF(OR(H87=\"SEN\",H87<1995),VLOOKUP(I87,Feuil1!$G$11:$L$25,6),IF(AND(H87>1994,H87<1998),VLOOKUP(I87,Feuil1!$G$11:$L$25,5),IF(AND(H87>1997,H87<2000),VLOOKUP(I87,Feuil1!$G$11:$L$25,4),IF(AND(H87>1999,H87<2002),VLOOKUP(I87,Feuil1!$G$11:$L$25,3),VLOOKUP(I87,Feuil1!$G$11:$L$25,2)))))))","v":"S+105"},{"$f":"IF(I87=\"\",\"\",IF(A87=\"H\",10^(0.794358141*LOG(I87/174.393)^2)*T87,IF(A87=\"F\",10^(0.89726074*LOG(I87/148.026)^2)*T87,\"\")))","v":367.68577804105945},null," ",{"$f":"T87-HLOOKUP(X87,Feuil1!$C$1:$BL$10,2,FALSE)","v":152},{"$f":"T87-HLOOKUP(X87,Feuil1!$C$1:$BL$10,3,FALSE)","v":132},{"$f":"T87-HLOOKUP(X87,Feuil1!$C$1:$BL$10,4,FALSE)","v":112},{"$f":"T87-HLOOKUP(X87,Feuil1!$C$1:$BL$10,5,FALSE)","v":87},{"$f":"T87-HLOOKUP(X87,Feuil1!$C$1:$BL$10,6,FALSE)","v":57},{"$f":"T87-HLOOKUP(X87,Feuil1!$C$1:$BL$10,7,FALSE)","v":27},{"$f":"T87-HLOOKUP(X87,Feuil1!$C$1:$BL$10,8,FALSE)","v":7},{"$f":"T87-HLOOKUP(X87,Feuil1!$C$1:$BL$10,9,FALSE)","v":-18},{"$f":"T87-HLOOKUP(X87,Feuil1!$C$1:$BL$10,10,FALSE)","v":-38},null,null,null,null,null,null,{"$f":"IF(AJ87>=0,$AJ$4,IF(AI87>=0,$AI$4,IF(AH87>=0,$AH$4,IF(AG87>=0,$AG$4,IF(AF87>=0,$AF$4,IF(AE87>=0,$AE$4,IF(AD87>=0,$AD$4,IF(AC87>=0,$AC$4,$AB$4))))))))","v":"INTB +"}]
["H","SEST","CAZ",2,187663,"BOUCHER","Alexis",1994,105.1,"E.S. VILLENEUVE LOUBET","F",125,130,136,{"$f":"IF(H88=\"\",\"\",IF(MAXA(L88:N88)<=0,0,MAXA(L88:N88)))","v":136},150,156,161,{"$f":"IF(H88=\"\",\"\",IF(MAXA(P88:R88)<=0,0,MAXA(P88:R88)))","v":161},{"$f":"IF(H88=\"\",\"\",IF(OR(O88=0,S88=0),0,O88+S88))","v":297},86.800000000000011,{"$f":"IF(H88=\"\",\"\",AQ88)","v":"FED +"},{"$f":"IF(AJ88>=0,AJ88,IF(AI88>=0,AI88,IF(AH88>=0,AH88,IF(AG88>=0,AG88,IF(AF88>=0,AF88,IF(AE88>=0,AE88,IF(AD88>=0,AD88,IF(AC88>=0,AC88,AB88))))))))","v":17},{"$f":"IF(I88=\"\",\"\",IF(A88=\"H\",IF(OR(H88=\"SEN\",H88<1995),VLOOKUP(I88,Feuil1!$A$11:$F$29,6),IF(AND(H88>1994,H88<1998),VLOOKUP(I88,Feuil1!$A$11:$F$29,5),IF(AND(H88>1997,H88<2000),VLOOKUP(I88,Feuil1!$A$11:$F$29,4),IF(AND(H88>1999,H88<2002),VLOOKUP(I88,Feuil1!$A$11:$F$29,3),VLOOKUP(I88,Feuil1!$A$11:$F$29,2))))),IF(OR(H88=\"SEN\",H88<1995),VLOOKUP(I88,Feuil1!$G$11:$L$25,6),IF(AND(H88>1994,H88<1998),VLOOKUP(I88,Feuil1!$G$11:$L$25,5),IF(AND(H88>1997,H88<2000),VLOOKUP(I88,Feuil1!$G$11:$L$25,4),IF(AND(H88>1999,H88<2002),VLOOKUP(I88,Feuil1!$G$11:$L$25,3),VLOOKUP(I88,Feuil1!$G$11:$L$25,2)))))))","v":"S+105"},{"$f":"IF(I88=\"\",\"\",IF(A88=\"H\",10^(0.794358141*LOG(I88/174.393)^2)*T88,IF(A88=\"F\",10^(0.89726074*LOG(I88/148.026)^2)*T88,\"\")))","v":324.47230923434518},null," ",{"$f":"T88-HLOOKUP(X88,Feuil1!$C$1:$BL$10,2,FALSE)","v":112},{"$f":"T88-HLOOKUP(X88,Feuil1!$C$1:$BL$10,3,FALSE)","v":92},{"$f":"T88-HLOOKUP(X88,Feuil1!$C$1:$BL$10,4,FALSE)","v":72},{"$f":"T88-HLOOKUP(X88,Feuil1!$C$1:$BL$10,5,FALSE)","v":47},{"$f":"T88-HLOOKUP(X88,Feuil1!$C$1:$BL$10,6,FALSE)","v":17},{"$f":"T88-HLOOKUP(X88,Feuil1!$C$1:$BL$10,7,FALSE)","v":-13},{"$f":"T88-HLOOKUP(X88,Feuil1!$C$1:$BL$10,8,FALSE)","v":-33},{"$f":"T88-HLOOKUP(X88,Feuil1!$C$1:$BL$10,9,FALSE)","v":-58},{"$f":"T88-HLOOKUP(X88,Feuil1!$C$1:$BL$10,10,FALSE)","v":-78},null,null,null,null,null,null,{"$f":"IF(AJ88>=0,$AJ$4,IF(AI88>=0,$AI$4,IF(AH88>=0,$AH$4,IF(AG88>=0,$AG$4,IF(AF88>=0,$AF$4,IF(AE88>=0,$AE$4,IF(AD88>=0,$AD$4,IF(AC88>=0,$AC$4,$AB$4))))))))","v":"FED +"}]
[null,null,null,null,null,null,null,null,null,null,null,null,null,null,null,null,null,null,null,null,null,null,null,null,null,null,null,{"$f":"T89-HLOOKUP(X89,Feuil1!$C$1:$BL$10,2,FALSE)","v":{"$error":"#N/A"}},{"$f":"T89-HLOOKUP(X89,Feuil1!$C$1:$BL$10,3,FALSE)","v":{"$error":"#N/A"}},{"$f":"T89-HLOOKUP(X89,Feuil1!$C$1:$BL$10,4,FALSE)","v":{"$error":"#N/A"}},{"$f":"T89-HLOOKUP(X89,Feuil1!$C$1:$BL$10,5,FALSE)","v":{"$error":"#N/A"}},{"$f":"T89-HLOOKUP(X89,Feuil1!$C$1:$BL$10,6,FALSE)","v":{"$error":"#N/A"}},{"$f":"T89-HLOOKUP(X89,Feuil1!$C$1:$BL$10,7,FALSE)","v":{"$error":"#N/A"}},{"$f":"T89-HLOOKUP(X89,Feuil1!$C$1:$BL$10,8,FALSE)","v":{"$error":"#N/A"}},{"$f":"T89-HLOOKUP(X89,Feuil1!$C$1:$BL$10,9,FALSE)","v":{"$error":"#N/A"}},{"$f":"T89-HLOOKUP(X89,Feuil1!$C$1:$BL$10,10,FALSE)","v":{"$error":"#N/A"}}]
["H"," "," ",null," "," "," "," "," "," ",null," ",null,null," "," "," ",null," "," ",null,null,null,null,null,null," ",{"$f":"T90-HLOOKUP(X90,Feuil1!$C$1:$BL$10,2,FALSE)","v":{"$error":"#VALUE!"}},{"$f":"T90-HLOOKUP(X90,Feuil1!$C$1:$BL$10,3,FALSE)","v":{"$error":"#VALUE!"}},{"$f":"T90-HLOOKUP(X90,Feuil1!$C$1:$BL$10,4,FALSE)","v":{"$error":"#VALUE!"}},{"$f":"T90-HLOOKUP(X90,Feuil1!$C$1:$BL$10,5,FALSE)","v":{"$error":"#VALUE!"}},{"$f":"T90-HLOOKUP(X90,Feuil1!$C$1:$BL$10,6,FALSE)","v":{"$error":"#VALUE!"}},{"$f":"T90-HLOOKUP(X90,Feuil1!$C$1:$BL$10,7,FALSE)","v":{"$error":"#VALUE!"}},{"$f":"T90-HLOOKUP(X90,Feuil1!$C$1:$BL$10,8,FALSE)","v":{"$error":"#VALUE!"}},{"$f":"T90-HLOOKUP(X90,Feuil1!$C$1:$BL$10,9,FALSE)","v":{"$error":"#VALUE!"}},{"$f":"T90-HLOOKUP(X90,Feuil1!$C$1:$BL$10,10,FALSE)","v":{"$error":"#VALUE!"}},null,null,null,null,null,null,{"$f":"IF(AJ90>=0,$AJ$4,IF(AI90>=0,$AI$4,IF(AH90>=0,$AH$4,IF(AG90>=0,$AG$4,IF(AF90>=0,$AF$4,IF(AE90>=0,$AE$4,IF(AD90>=0,$AD$4,IF(AC90>=0,$AC$4,$AB$4))))))))","v":{"$error":"#VALUE!"}}]
[null,null,null,null,null,null,null,null,null,null,null,null," "," ",null,null,null,null,null,null,null,null,null,null,null,null," ",{"$f":"T91-HLOOKUP(X91,Feuil1!$C$1:$BL$10,2,FALSE)","v":{"$error":"#N/A"}},{"$f":"T91-HLOOKUP(X91,Feuil1!$C$1:$BL$10,3,FALSE)","v":{"$error":"#N/A"}},{"$f":"T91-HLOOKUP(X91,Feuil1!$C$1:$BL$10,4,FALSE)","v":{"$error":"#N/A"}},{"$f":"T91-HLOOKUP(X91,Feuil1!$C$1:$BL$10,5,FALSE)","v":{"$error":"#N/A"}},{"$f":"T91-HLOOKUP(X91,Feuil1!$C$1:$BL$10,6,FALSE)","v":{"$error":"#N/A"}},{"$f":"T91-HLOOKUP(X91,Feuil1!$C$1:$BL$10,7,FALSE)","v":{"$error":"#N/A"}},{"$f":"T91-HLOOKUP(X91,Feuil1!$C$1:$BL$10,8,FALSE)","v":{"$error":"#N/A"}},{"$f":"T91-HLOOKUP(X91,Feuil1!$C$1:$BL$10,9,FALSE)","v":{"$error":"#N/A"}},{"$f":"T91-HLOOKUP(X91,Feuil1!$C$1:$BL$10,10,FALSE)","v":{"$error":"#N/A"}},null,null,null,null,null,null,{"$f":"IF(AJ91>=0,$AJ$4,IF(AI91>=0,$AI$4,IF(AH91>=0,$AH$4,IF(AG91>=0,$AG$4,IF(AF91>=0,$AF$4,IF(AE91>=0,$AE$4,IF(AD91>=0,$AD$4,IF(AC91>=0,$AC$4,$AB$4))))))))","v":{"$error":"#N/A"}}]
[]
[]
[]
[]
[]
[]
[]
[]
[]
[]
[]
[]
[]
[]
[]
[]
[]
[]
[]
[]
[]
[]
[]
[]
[]
[]
[]
[]
[]
[]
[]
[]
[]
[]
[]
[]
[]
[]
[]
[]
[]
[]
[]
[]
[]
[]
[]
[]
[]
[]
[]
[]
[]
[]
[]
[]
[]
[]
[]
[]
[]
[]
[]
[]
[]
[]
[]
[]
[]
[]
[]
[]
[]
[]
[]
[]
[]
[]
[]
[]
[]
[]
[]
[]
[]
[]
[]
[]
[]
[]
[]
[]
[]
[]
[]
[]
[]
[]
[]
[]
[]
[]
[]
[]
[]
[]
[]
[]
[]
[]
[]
[]
[]
[]
[]
[]
[]
[]
[]
[]
[]
[]
[]
[]
[]
[]
[]
[]
[]
[]
[]
[]
[]
[]
[]
[]
[]
[]
[]
[]
[]
[]
[]
[]
[]
[]
[]
[]
[]
[]
[]
[]
[]
[]
[]
[]
[]
[]
[]
[]
[]
[]
[]
[]
[]
[]
[]
[]
[]
[]
[]
[]
[]
[]
[]
[]
[]
[]
[]
[]
[]
[]
[]
[]
[]
[]
[]
[]
[]
[]
[]
[]
[]
[]
[]
[]
[]
[]
[]
[]
[]
[]
[]
[]
[]
[]
[]
[]
[]
[]
[]
[]
[]
[]
[]
[]
[]
[]
[]
[]
[]
[]
[]
[]
[]
[]
[]
[]
[]
[]
[]
[]
[]
[]
[]
[]
[]
[]
[]
[]
[]
[]
[]
[]
[]
[]
[]
[]
[]
[]
[]
[]
[]
[]
[]
[]
[]
[]
[]
[]
[]
[]
[]
[]
[]
[]
[]
[]
[]
[]
[]
[]
[]
[]
[]
[]
[]
[]
[]
[]
[]
[]
[]
[]
[]
[]
[]
[]
[]
[]
[]
[]
[]
[]
[]
[]
[]
[]
[]
[]
[]
[]
[]
[]
[]
[]
[]
[]
[]
[]
[]
[]
[]
[]
[]
[]
[]
[]
[]
[]
[]
[]
[]
[]
[]
[]
[]
[]
[]
[]
[]
[]
[]
[]
[]
[]
[]
[]
[]
[]
[]
[]
[]
[]
[]
[]
[]
[]
[]
[]
[]
[]
[]
[]
[]
[]
[]
[]
[]
[]
[]
[]
[]
[]
[]
[]
[]
[]
[]
[]
[]
[]
[]
[]
[]
[]
[]
[]
[]
[]
[]
[]
[]
[]
[]
[]
[]
[]
[]
[]
[]
[]
[]
[]
[]
[]
[]
[]
[]
[]
[]
[]
[]
[]
[]
[]
[]
[]
[]
[]
[]
[]
[]
[]
[]
[]
[]
[]
[]
[]
[]
[]
[]
[]
[]
[]
[]
[]
[]
[]
[]
[]
[]
[]
[]
[]
[]
[]
[]
[]
[]
[]
[]
[]
[]
[]
[]
[]
[]
[]
[]
[]
[]
[]
[]
[]
[]
[]
[]
[]
[]
[]
[]
[]
[]
[]
[]
[]
[]
[]
[]
[]
[]
[]
[]
[]
[]
[]
[]
[]
[]
[]
[]
[]
[]
[]
[]
[]
[]
[]
[]
[]
[]
[]
[]
[]
[]
[]
[]
[]
[null,null,null,null,null,null,null,null,null,null,null,null,null,null,null,null,null,null,null,null,null,null,null,null,null,null,null,"J77","J85","J94","J105","J+105",null,"J56","J62","J69","J77","J85","J94","J105","J+105",null,"S56","S62","S69","S77","S85","S94","S105","S+105"]
[null,null,null,null,null,null,null,null,null,null,null,null,null,null,null,null,null,null,null,null,null,null,null,null,null,null,null,145,160,170,180,190,null,100,115,130,145,160,170,180,190,null,115,135,150,165,180,190,200,210]
[null,null,null,null,null,null,null,null,null,null,null,null,null,null,null,null,null,null,null,null,null,null,null,null,null,null,null,165,180,190,200,210,null,115,135,150,165,180,190,200,210,null,130,150,165,185,200,210,220,230]
[null,null,null,null,null,null,null,null,null,null,null,null,null,null,null,null,null,null,null,null,null,null,null,null,null,null,null,185,200,210,220,230,null,130,150,165,185,200,210,220,230,null,145,165,180,200,220,230,240,250]
[null,null,null,null,null,null,null,null,null,null,null,null,null,null,null,null,null,null,null,null,null,null,null,null,null,null,null,200,220,230,240,250,null,145,165,180,200,220,230,240,250,null,175,195,215,235,250,260,275,280]
[null,null,null,null,null,null,null,null,null,null,null,null,null,null,null,null,null,null,null,null,null,null,null,null,null,null,null,235,250,260,275,280,null,175,195,215,235,250,260,275,280,null,210,230,250,270,290,300,310,325]
[null,null,null,null,null,null,null,null,null,null,null,null,null,null,null,null,null,null,null,null,null,null,null,null,null,null,null,270,290,300,310,325,null,210,230,250,270,290,300,310,325,null,230,255,275,300,315,335,345,355]
[null,null,null,null,null,null,null,null,null,null,null,null,null,null,null,null,null,null,null,null,null,null,null,null,null,null,null,320,335,355,370,380,null,245,270,295,320,335,355,370,380,null,245,270,295,320,335,355,370,380]